{"text_format":"1","workbook":"xlsx","n_sheets":10,"sheets":["Kalkulator","koszyki","raport RTT","Arkusz2","krzywa","Instrukcja","Manual","Kalkulator Depozytów","Transakcje_PCCP","Tabela"],"not_rendered":{"charts":0,"images":3,"macros":1,"external_links":0,"defined_names":4,"comments":0,"pivot_tables":0},"unopened":[],"bounds":{"document_bytes":16777216,"sheet_cells":100000,"rows_first":2000,"rows_last":500,"rows_between":2000,"halvings":0,"cell_chars":16384,"cell_head_chars":4096},"cells_cut":0,"cells_raw":0,"read":"whole","date_system":"1900"}

{"sheet":"Kalkulator","index":0,"n_rows":268,"n_cols":52,"rows_kept":268,"cut":false,"hidden":true,"merged":[[6,17,6,21]]}
["Podaj Datę",null,"Typ kontraktu",null,null,"typ"]
[{"$f":"'Kalkulator Depozytów'!F12","v":"00:00:00"},null,"GAS_BASE"]
[null,null,null,null,null,null,null,null,null,null,null,null,null,null,null,null,null,null,null,null,null,null,null,null,null,null,null,"ile < 0","ile > 0","minimalne >0","maksymalne <0"]
[null,null,null,null,null,null,null,null,null,null,null,null,null,null,null,null,null,null,null,null,null,null,null,null,null,null,null,{"$f":"COUNTIF(Z8:Z39,\"<0\")","v":32},{"$f":"COUNTIF(AA8:AA39,\"<0\")","v":32},{"$f":"SMALL(Z8:Z39,AB4+1)","v":{"$error":"#NUM!"}},{"$f":"SMALL(AA8:AA39,AC4)","v":-428}]
[null,null,null,null,null,null,null,null,null,null,null,null,null,null,null,"Suma Depozytów",null,null,null,null,null,null,null,null,null,null,null,null,null,null,null,null,"różnica","ile dodać?"]
[null,null,null,null,null,null,null,null,null,null,null,null,null,null,null,{"$f":"SUM(P8:P29)","v":0},{"$f":"SUM(Q8:Q29)*'Kalkulator Depozytów'!F14","v":{"$error":"#N/A"}},null,null,null,null,null,null,null,null,"miejsce na date początkową","miejsce na datę końcową",null,null,{"$f":"VLOOKUP(AD4,Z8:AC39,4,0)","v":{"$error":"#NUM!"}},{"$f":"VLOOKUP(AE4,AA8:AC39,3,0)","v":32},null,{"$f":"AD6-AE6+1","v":{"$error":"#NUM!"}}]
["Początek","Koniec","Nominał","Wolumen Kupna","ŚWKK","Wolumen Sprzedaży","ŚWWS","Kurs Rozliczeniowy","Współczynnik Ryzyka","godziny czas letni/zimowy","Dni",null,"Liczba dni roboczych","Liczba dnia świątecznych",null,"Depozyt uzupełniający","Depozyt wstępny","VAT",null,null,null,null,null,null,null,"2029-01-01","2029-12-31",null,null,null,10,null,null,null,null,null,"data koniec",null,null,null,null,"czy święto",null,null,null,null,"sum jeżeli"]
["2025-09-20","2025-09-20",{"$f":"IF($C$2=\"GAS_BASE\",(B8-A8+1)*koszyki!$A$14+J8,IF($C$2=\"OFFPEAK\",M8*koszyki!$A$14+(N8)*24+J8,IF($C$2=\"BASE5\",M8*koszyki!$A$14+J8,IF($C$2=\"PEAK7\",(B8-A8+1)*koszyki!$A$14,M8*koszyki!$A$14))))","v":24},{"$f":"'Kalkulator Depozytów'!M13","v":0},{"$f":"'Kalkulator Depozytów'!N13","v":0},{"$f":"'Kalkulator Depozytów'!O13","v":0},{"$f":"'Kalkulator Depozytów'!P13","v":0},{"$f":"'Kalkulator Depozytów'!Q13","v":0},{"$f":"ROUND(AVERAGE(INDIRECT(\"krzywa!C\"&MATCH(A8-$A$2,krzywa!A:A,0)&\":C\"&MATCH(B8-$A$2,krzywa!A:A,0),TRUE)),4)","v":{"$error":"#N/A"}},null,{"$f":"IF(-($A$2-B8)<364,-($A$2-B8),365)","v":365},"GAS_BASE",{"$f":"NETWORKDAYS(A8,B8,koszyki!$M$20:$M$89)","v":0},{"$f":"B8-A8+1- NETWORKDAYS(A8,B8,koszyki!$M$20:$M$89)","v":1},null,{"$f":"C8*(D8*(H8-E8)-F8*(H8-G8))*T8","v":0},{"$f":"-C8*ABS(D8-F8)*H8*I8*T8","v":{"$error":"#N/A"}},{"$f":"VLOOKUP(A8,krzywa!L:N,3,1)","v":0},{"$f":"VLOOKUP(B8,krzywa!L:N,3,1)","v":0},{"$f":"IF('Kalkulator Depozytów'!$B$35=TRUE,1,(1+R8/100)*V8+(1+S8/100)*(1-V8))","v":1},{"$f":"IF(R8<>S8,VLOOKUP(A8,krzywa!L:N,2,1))","v":false},{"$f":"IF(U8<>FALSE,IF($C$2=\"GAS_BASE\",(U8-A8+1)*koszyki!$A$14+J8,IF($C$2=\"OFFPEAK\",M8*koszyki!$A$14+(N8)*24+J8,IF($C$2=\"BASE5\",M8*koszyki!$A$14+J8,IF($C$2=\"PEAK7\",(B8-A8+1)*koszyki!$A$14,M8*koszyki!$A$14))))/B8,1)","v":1},null,null,null,{"$f":"AD8-$Z$7","v":-5755},{"$f":"AD8-$AA$7","v":-6119},null,1,"2013-03-31",-1,null,null,null,null,null,{"$f":"B8","v":"2025-09-20"},{"$f":"AK8-1","v":"2025-09-19"},{"$f":"AL8-1","v":"2025-09-18"},{"$f":"AM8-1","v":"2025-09-17"},null,{"$f":"NETWORKDAYS(AK8,AK8,koszyki!$M$20:$M$89)","v":0},{"$f":"NETWORKDAYS(AL8,AL8,koszyki!$M$20:$M$89)","v":1},{"$f":"NETWORKDAYS(AM8,AM8,koszyki!$M$20:$M$89)","v":1},{"$f":"NETWORKDAYS(AN8,AN8,koszyki!$M$20:$M$89)","v":1},null,{"$f":"SUM(AP8)","v":0},{"$f":"SUM(AP8:AQ8)","v":1},{"$f":"SUM(AP8:AR8)","v":2},{"$f":"SUM(AP8:AS8)","v":3},null,{"$f":"COUNTIF(AU8:AX8,\"=0\")","v":1}]
["2025-09-21","2025-09-21",{"$f":"IF($C$2=\"GAS_BASE\",(B9-A9+1)*koszyki!$A$14+J9,IF($C$2=\"OFFPEAK\",M9*koszyki!$A$14+(N9)*24+J9,IF($C$2=\"BASE5\",M9*koszyki!$A$14+J9,IF($C$2=\"PEAK7\",(B9-A9+1)*koszyki!$A$14,M9*koszyki!$A$14))))","v":24},{"$f":"'Kalkulator Depozytów'!M14","v":0},{"$f":"'Kalkulator Depozytów'!N14","v":0},{"$f":"'Kalkulator Depozytów'!O14","v":0},{"$f":"'Kalkulator Depozytów'!P14","v":0},{"$f":"'Kalkulator Depozytów'!Q14","v":0},{"$f":"ROUND(AVERAGE(INDIRECT(\"krzywa!C\"&MATCH(A9-$A$2,krzywa!A:A,0)&\":C\"&MATCH(B9-$A$2,krzywa!A:A,0),TRUE)),4)","v":{"$error":"#N/A"}},null,{"$f":"IF(-($A$2-B9)<364,-($A$2-B9),365)","v":365},"GAS_BASE",{"$f":"NETWORKDAYS(A9,B9,koszyki!$M$20:$M$89)","v":0},{"$f":"B9-A9+1- NETWORKDAYS(A9,B9,koszyki!$M$20:$M$89)","v":1},null,{"$f":"C9*(D9*(H9-E9)-F9*(H9-G9))*T9","v":0},{"$f":"-C9*ABS(D9-F9)*H9*I9*T9","v":{"$error":"#N/A"}},{"$f":"VLOOKUP(A9,krzywa!L:N,3,1)","v":0},{"$f":"VLOOKUP(B9,krzywa!L:N,3,1)","v":0},{"$f":"IF('Kalkulator Depozytów'!$B$35=TRUE,1,(1+R9/100)*V9+(1+S9/100)*(1-V9))","v":1},{"$f":"IF(R9<>S9,VLOOKUP(A9,krzywa!L:N,2,1))","v":false},{"$f":"IF(U9<>FALSE,IF($C$2=\"GAS_BASE\",(U9-A9+1)*koszyki!$A$14+J9,IF($C$2=\"OFFPEAK\",M9*koszyki!$A$14+(N9)*24+J9,IF($C$2=\"BASE5\",M9*koszyki!$A$14+J9,IF($C$2=\"PEAK7\",(B9-A9+1)*koszyki!$A$14,M9*koszyki!$A$14))))/B9,1)","v":1},null,null,null,{"$f":"AD9-$Z$7","v":-5545},{"$f":"AD9-$AA$7","v":-5909},null,2,"2013-10-27",1,null,null,null,null,null,{"$f":"B9","v":"2025-09-21"},{"$f":"AK9-1","v":"2025-09-20"},"2025-09-19","2025-09-18",null,{"$f":"NETWORKDAYS(AK9,AK9,koszyki!$M$20:$M$89)","v":0},{"$f":"NETWORKDAYS(AL9,AL9,koszyki!$M$20:$M$89)","v":0},{"$f":"NETWORKDAYS(AM9,AM9,koszyki!$M$20:$M$89)","v":1},{"$f":"NETWORKDAYS(AN9,AN9,koszyki!$M$20:$M$89)","v":1},null,{"$f":"SUM(AP9)","v":0},{"$f":"SUM(AP9:AQ9)","v":0},{"$f":"SUM(AP9:AR9)","v":1},{"$f":"SUM(AP9:AS9)","v":2},null,{"$f":"COUNTIF(AU9:AX9,\"=0\")","v":2}]
["2025-09-22","2025-09-22",{"$f":"IF($C$2=\"GAS_BASE\",(B10-A10+1)*koszyki!$A$14+J10,IF($C$2=\"OFFPEAK\",M10*koszyki!$A$14+(N10)*24+J10,IF($C$2=\"BASE5\",M10*koszyki!$A$14+J10,IF($C$2=\"PEAK7\",(B10-A10+1)*koszyki!$A$14,M10*koszyki!$A$14))))","v":24},{"$f":"'Kalkulator Depozytów'!M15","v":0},{"$f":"'Kalkulator Depozytów'!N15","v":0},{"$f":"'Kalkulator Depozytów'!O15","v":0},{"$f":"'Kalkulator Depozytów'!P15","v":0},{"$f":"'Kalkulator Depozytów'!Q15","v":0},{"$f":"ROUND(AVERAGE(INDIRECT(\"krzywa!C\"&MATCH(A10-$A$2,krzywa!A:A,0)&\":C\"&MATCH(B10-$A$2,krzywa!A:A,0),TRUE)),4)","v":{"$error":"#N/A"}},null,365,"GAS_BASE",{"$f":"NETWORKDAYS(A10,B10,koszyki!$M$20:$M$89)","v":1},{"$f":"B10-A10+1- NETWORKDAYS(A10,B10,koszyki!$M$20:$M$89)","v":0},null,0,{"$error":"#N/A"},{"$f":"VLOOKUP(A10,krzywa!L:N,3,1)","v":0},{"$f":"VLOOKUP(B10,krzywa!L:N,3,1)","v":0},{"$f":"IF('Kalkulator Depozytów'!$B$35=TRUE,1,(1+R10/100)*V10+(1+S10/100)*(1-V10))","v":1},{"$f":"IF(R10<>S10,VLOOKUP(A10,krzywa!L:N,2,1))","v":false},{"$f":"IF(U10<>FALSE,IF($C$2=\"GAS_BASE\",(U10-A10+1)*koszyki!$A$14+J10,IF($C$2=\"OFFPEAK\",M10*koszyki!$A$14+(N10)*24+J10,IF($C$2=\"BASE5\",M10*koszyki!$A$14+J10,IF($C$2=\"PEAK7\",(B10-A10+1)*koszyki!$A$14,M10*koszyki!$A$14))))/B10,1)","v":1},null,null,null,-5391,-5755,null,3,"2014-03-30",-1,null,null,null,null,null,"2025-09-22",{"$f":"AK10-1","v":"2025-09-21"},"2025-09-20","2025-09-19",null,{"$f":"NETWORKDAYS(AK10,AK10,koszyki!$M$20:$M$89)","v":1},{"$f":"NETWORKDAYS(AL10,AL10,koszyki!$M$20:$M$89)","v":0},{"$f":"NETWORKDAYS(AM10,AM10,koszyki!$M$20:$M$89)","v":0},{"$f":"NETWORKDAYS(AN10,AN10,koszyki!$M$20:$M$89)","v":1},null,1,1,1,2,null,0]
["2025-09-23","2025-09-23",{"$f":"IF($C$2=\"GAS_BASE\",(B11-A11+1)*koszyki!$A$14+J11,IF($C$2=\"OFFPEAK\",M11*koszyki!$A$14+(N11)*24+J11,IF($C$2=\"BASE5\",M11*koszyki!$A$14+J11,IF($C$2=\"PEAK7\",(B11-A11+1)*koszyki!$A$14,M11*koszyki!$A$14))))","v":24},{"$f":"'Kalkulator Depozytów'!M16","v":0},{"$f":"'Kalkulator Depozytów'!N16","v":0},{"$f":"'Kalkulator Depozytów'!O16","v":0},{"$f":"'Kalkulator Depozytów'!P16","v":0},{"$f":"'Kalkulator Depozytów'!Q16","v":0},{"$f":"ROUND(AVERAGE(INDIRECT(\"krzywa!C\"&MATCH(A11-$A$2,krzywa!A:A,0)&\":C\"&MATCH(B11-$A$2,krzywa!A:A,0),TRUE)),4)","v":{"$error":"#N/A"}},null,365,"GAS_BASE",{"$f":"NETWORKDAYS(A11,B11,koszyki!$M$20:$M$89)","v":1},{"$f":"B11-A11+1- NETWORKDAYS(A11,B11,koszyki!$M$20:$M$89)","v":0},null,0,{"$error":"#N/A"},{"$f":"VLOOKUP(A11,krzywa!L:N,3,1)","v":0},{"$f":"VLOOKUP(B11,krzywa!L:N,3,1)","v":0},{"$f":"IF('Kalkulator Depozytów'!$B$35=TRUE,1,(1+R11/100)*V11+(1+S11/100)*(1-V11))","v":1},{"$f":"IF(R11<>S11,VLOOKUP(A11,krzywa!L:N,2,1))","v":false},{"$f":"IF(U11<>FALSE,IF($C$2=\"GAS_BASE\",(U11-A11+1)*koszyki!$A$14+J11,IF($C$2=\"OFFPEAK\",M11*koszyki!$A$14+(N11)*24+J11,IF($C$2=\"BASE5\",M11*koszyki!$A$14+J11,IF($C$2=\"PEAK7\",(B11-A11+1)*koszyki!$A$14,M11*koszyki!$A$14))))/B11,1)","v":1},null,null,null,-5181,-5545,null,4,"2014-10-26",1,null,null,null,null,null,"2025-09-23",{"$f":"AK11-1","v":"2025-09-22"},"2025-09-21","2025-09-20",null,{"$f":"NETWORKDAYS(AK11,AK11,koszyki!$M$20:$M$89)","v":1},{"$f":"NETWORKDAYS(AL11,AL11,koszyki!$M$20:$M$89)","v":1},{"$f":"NETWORKDAYS(AM11,AM11,koszyki!$M$20:$M$89)","v":0},{"$f":"NETWORKDAYS(AN11,AN11,koszyki!$M$20:$M$89)","v":0},null,1,2,2,2,null,0]
["2025-09-24","2025-09-24",{"$f":"IF($C$2=\"GAS_BASE\",(B12-A12+1)*koszyki!$A$14+J12,IF($C$2=\"OFFPEAK\",M12*koszyki!$A$14+(N12)*24+J12,IF($C$2=\"BASE5\",M12*koszyki!$A$14+J12,IF($C$2=\"PEAK7\",(B12-A12+1)*koszyki!$A$14,M12*koszyki!$A$14))))","v":24},{"$f":"'Kalkulator Depozytów'!M17","v":0},{"$f":"'Kalkulator Depozytów'!N17","v":0},{"$f":"'Kalkulator Depozytów'!O17","v":0},{"$f":"'Kalkulator Depozytów'!P17","v":0},{"$f":"'Kalkulator Depozytów'!Q17","v":0},{"$f":"ROUND(AVERAGE(INDIRECT(\"krzywa!C\"&MATCH(A12-$A$2,krzywa!A:A,0)&\":C\"&MATCH(B12-$A$2,krzywa!A:A,0),TRUE)),4)","v":{"$error":"#N/A"}},null,365,"GAS_BASE",{"$f":"NETWORKDAYS(A12,B12,koszyki!$M$20:$M$89)","v":1},{"$f":"B12-A12+1- NETWORKDAYS(A12,B12,koszyki!$M$20:$M$89)","v":0},null,0,{"$error":"#N/A"},{"$f":"VLOOKUP(A12,krzywa!L:N,3,1)","v":0},{"$f":"VLOOKUP(B12,krzywa!L:N,3,1)","v":0},{"$f":"IF('Kalkulator Depozytów'!$B$35=TRUE,1,(1+R12/100)*V12+(1+S12/100)*(1-V12))","v":1},{"$f":"IF(R12<>S12,VLOOKUP(A12,krzywa!L:N,2,1))","v":false},{"$f":"IF(U12<>FALSE,IF($C$2=\"GAS_BASE\",(U12-A12+1)*koszyki!$A$14+J12,IF($C$2=\"OFFPEAK\",M12*koszyki!$A$14+(N12)*24+J12,IF($C$2=\"BASE5\",M12*koszyki!$A$14+J12,IF($C$2=\"PEAK7\",(B12-A12+1)*koszyki!$A$14,M12*koszyki!$A$14))))/B12,1)","v":1},null,null,null,-5027,-5391,null,5,"2015-03-29",-1,null,null,null,null,null,"2025-09-24",{"$f":"AK12-1","v":"2025-09-23"},"2025-09-22","2025-09-21",null,{"$f":"NETWORKDAYS(AK12,AK12,koszyki!$M$20:$M$89)","v":1},{"$f":"NETWORKDAYS(AL12,AL12,koszyki!$M$20:$M$89)","v":1},{"$f":"NETWORKDAYS(AM12,AM12,koszyki!$M$20:$M$89)","v":1},{"$f":"NETWORKDAYS(AN12,AN12,koszyki!$M$20:$M$89)","v":0},null,1,2,3,3,null,0]
["2025-09-25","2025-09-25",{"$f":"IF($C$2=\"GAS_BASE\",(B13-A13+1)*koszyki!$A$14+J13,IF($C$2=\"OFFPEAK\",M13*koszyki!$A$14+(N13)*24+J13,IF($C$2=\"BASE5\",M13*koszyki!$A$14+J13,IF($C$2=\"PEAK7\",(B13-A13+1)*koszyki!$A$14,M13*koszyki!$A$14))))","v":24},{"$f":"'Kalkulator Depozytów'!M18","v":0},{"$f":"'Kalkulator Depozytów'!N18","v":0},{"$f":"'Kalkulator Depozytów'!O18","v":0},{"$f":"'Kalkulator Depozytów'!P18","v":0},{"$f":"'Kalkulator Depozytów'!Q18","v":0},{"$f":"ROUND(AVERAGE(INDIRECT(\"krzywa!C\"&MATCH(A13-$A$2,krzywa!A:A,0)&\":C\"&MATCH(B13-$A$2,krzywa!A:A,0),TRUE)),4)","v":{"$error":"#N/A"}},null,365,"GAS_BASE",{"$f":"NETWORKDAYS(A13,B13,koszyki!$M$20:$M$89)","v":1},{"$f":"B13-A13+1- NETWORKDAYS(A13,B13,koszyki!$M$20:$M$89)","v":0},null,0,{"$error":"#N/A"},{"$f":"VLOOKUP(A13,krzywa!L:N,3,1)","v":0},{"$f":"VLOOKUP(B13,krzywa!L:N,3,1)","v":0},{"$f":"IF('Kalkulator Depozytów'!$B$35=TRUE,1,(1+R13/100)*V13+(1+S13/100)*(1-V13))","v":1},{"$f":"IF(R13<>S13,VLOOKUP(A13,krzywa!L:N,2,1))","v":false},{"$f":"IF(U13<>FALSE,IF($C$2=\"GAS_BASE\",(U13-A13+1)*koszyki!$A$14+J13,IF($C$2=\"OFFPEAK\",M13*koszyki!$A$14+(N13)*24+J13,IF($C$2=\"BASE5\",M13*koszyki!$A$14+J13,IF($C$2=\"PEAK7\",(B13-A13+1)*koszyki!$A$14,M13*koszyki!$A$14))))/B13,1)","v":1},null,null,null,-4817,-5181,null,6,"2015-10-25",1,null,null,null,null,null,"2025-09-25",{"$f":"AK13-1","v":"2025-09-24"},"2025-09-23","2025-09-22",null,{"$f":"NETWORKDAYS(AK13,AK13,koszyki!$M$20:$M$89)","v":1},{"$f":"NETWORKDAYS(AL13,AL13,koszyki!$M$20:$M$89)","v":1},{"$f":"NETWORKDAYS(AM13,AM13,koszyki!$M$20:$M$89)","v":1},{"$f":"NETWORKDAYS(AN13,AN13,koszyki!$M$20:$M$89)","v":1},null,1,2,3,4,null,0]
["2025-09-26","2025-09-26",{"$f":"IF($C$2=\"GAS_BASE\",(B14-A14+1)*koszyki!$A$14+J14,IF($C$2=\"OFFPEAK\",M14*koszyki!$A$14+(N14)*24+J14,IF($C$2=\"BASE5\",M14*koszyki!$A$14+J14,IF($C$2=\"PEAK7\",(B14-A14+1)*koszyki!$A$14,M14*koszyki!$A$14))))","v":24},{"$f":"'Kalkulator Depozytów'!M19","v":0},{"$f":"'Kalkulator Depozytów'!N19","v":0},{"$f":"'Kalkulator Depozytów'!O19","v":0},{"$f":"'Kalkulator Depozytów'!P19","v":0},{"$f":"'Kalkulator Depozytów'!Q19","v":0},{"$f":"ROUND(AVERAGE(INDIRECT(\"krzywa!C\"&MATCH(A14-$A$2,krzywa!A:A,0)&\":C\"&MATCH(B14-$A$2,krzywa!A:A,0),TRUE)),4)","v":{"$error":"#N/A"}},null,365,"GAS_BASE",{"$f":"NETWORKDAYS(A14,B14,koszyki!$M$20:$M$89)","v":1},{"$f":"B14-A14+1- NETWORKDAYS(A14,B14,koszyki!$M$20:$M$89)","v":0},null,0,{"$error":"#N/A"},{"$f":"VLOOKUP(A14,krzywa!L:N,3,1)","v":0},{"$f":"VLOOKUP(B14,krzywa!L:N,3,1)","v":0},{"$f":"IF('Kalkulator Depozytów'!$B$35=TRUE,1,(1+R14/100)*V14+(1+S14/100)*(1-V14))","v":1},{"$f":"IF(R14<>S14,VLOOKUP(A14,krzywa!L:N,2,1))","v":false},{"$f":"IF(U14<>FALSE,IF($C$2=\"GAS_BASE\",(U14-A14+1)*koszyki!$A$14+J14,IF($C$2=\"OFFPEAK\",M14*koszyki!$A$14+(N14)*24+J14,IF($C$2=\"BASE5\",M14*koszyki!$A$14+J14,IF($C$2=\"PEAK7\",(B14-A14+1)*koszyki!$A$14,M14*koszyki!$A$14))))/B14,1)","v":1},null,null,null,-4663,-5027,null,7,"2016-03-27",-1,null,null,null,null,null,"2025-09-26",{"$f":"AK14-1","v":"2025-09-25"},"2025-09-24","2025-09-23",null,{"$f":"NETWORKDAYS(AK14,AK14,koszyki!$M$20:$M$89)","v":1},{"$f":"NETWORKDAYS(AL14,AL14,koszyki!$M$20:$M$89)","v":1},{"$f":"NETWORKDAYS(AM14,AM14,koszyki!$M$20:$M$89)","v":1},{"$f":"NETWORKDAYS(AN14,AN14,koszyki!$M$20:$M$89)","v":1},null,1,2,3,4,null,0]
["2025-09-27","2025-09-27",{"$f":"IF($C$2=\"GAS_BASE\",(B15-A15+1)*koszyki!$A$14+J15,IF($C$2=\"OFFPEAK\",M15*koszyki!$A$14+(N15)*24+J15,IF($C$2=\"BASE5\",M15*koszyki!$A$14+J15,IF($C$2=\"PEAK7\",(B15-A15+1)*koszyki!$A$14,M15*koszyki!$A$14))))","v":24},{"$f":"'Kalkulator Depozytów'!M20","v":0},{"$f":"'Kalkulator Depozytów'!N20","v":0},{"$f":"'Kalkulator Depozytów'!O20","v":0},{"$f":"'Kalkulator Depozytów'!P20","v":0},{"$f":"'Kalkulator Depozytów'!Q20","v":0},{"$f":"ROUND(AVERAGE(INDIRECT(\"krzywa!C\"&MATCH(A15-$A$2,krzywa!A:A,0)&\":C\"&MATCH(B15-$A$2,krzywa!A:A,0),TRUE)),4)","v":{"$error":"#N/A"}},null,365,"GAS_BASE",{"$f":"NETWORKDAYS(A15,B15,koszyki!$M$20:$M$89)","v":0},{"$f":"B15-A15+1- NETWORKDAYS(A15,B15,koszyki!$M$20:$M$89)","v":1},null,0,{"$error":"#N/A"},{"$f":"VLOOKUP(A15,krzywa!L:N,3,1)","v":0},{"$f":"VLOOKUP(B15,krzywa!L:N,3,1)","v":0},{"$f":"IF('Kalkulator Depozytów'!$B$35=TRUE,1,(1+R15/100)*V15+(1+S15/100)*(1-V15))","v":1},{"$f":"IF(R15<>S15,VLOOKUP(A15,krzywa!L:N,2,1))","v":false},{"$f":"IF(U15<>FALSE,IF($C$2=\"GAS_BASE\",(U15-A15+1)*koszyki!$A$14+J15,IF($C$2=\"OFFPEAK\",M15*koszyki!$A$14+(N15)*24+J15,IF($C$2=\"BASE5\",M15*koszyki!$A$14+J15,IF($C$2=\"PEAK7\",(B15-A15+1)*koszyki!$A$14,M15*koszyki!$A$14))))/B15,1)","v":1},null,null,null,-4446,-4810,null,8,"2016-10-30",1,null,null,null,null,null,"2025-09-27",{"$f":"AK15-1","v":"2025-09-26"},"2025-09-25","2025-09-24",null,{"$f":"NETWORKDAYS(AK15,AK15,koszyki!$M$20:$M$89)","v":0},{"$f":"NETWORKDAYS(AL15,AL15,koszyki!$M$20:$M$89)","v":1},{"$f":"NETWORKDAYS(AM15,AM15,koszyki!$M$20:$M$89)","v":1},{"$f":"NETWORKDAYS(AN15,AN15,koszyki!$M$20:$M$89)","v":1},null,0,1,2,3,null,1]
["2025-09-28","2025-09-28",{"$f":"IF($C$2=\"GAS_BASE\",(B16-A16+1)*koszyki!$A$14+J16,IF($C$2=\"OFFPEAK\",M16*koszyki!$A$14+(N16)*24+J16,IF($C$2=\"BASE5\",M16*koszyki!$A$14+J16,IF($C$2=\"PEAK7\",(B16-A16+1)*koszyki!$A$14,M16*koszyki!$A$14))))","v":24},{"$f":"'Kalkulator Depozytów'!M21","v":0},{"$f":"'Kalkulator Depozytów'!N21","v":0},{"$f":"'Kalkulator Depozytów'!O21","v":0},{"$f":"'Kalkulator Depozytów'!P21","v":0},{"$f":"'Kalkulator Depozytów'!Q21","v":0},{"$f":"ROUND(AVERAGE(INDIRECT(\"krzywa!C\"&MATCH(A16-$A$2,krzywa!A:A,0)&\":C\"&MATCH(B16-$A$2,krzywa!A:A,0),TRUE)),4)","v":{"$error":"#N/A"}},null,365,"GAS_BASE",{"$f":"NETWORKDAYS(A16,B16,koszyki!$M$20:$M$89)","v":0},{"$f":"B16-A16+1- NETWORKDAYS(A16,B16,koszyki!$M$20:$M$89)","v":1},null,0,{"$error":"#N/A"},{"$f":"VLOOKUP(A16,krzywa!L:N,3,1)","v":0},{"$f":"VLOOKUP(B16,krzywa!L:N,3,1)","v":0},{"$f":"IF('Kalkulator Depozytów'!$B$35=TRUE,1,(1+R16/100)*V16+(1+S16/100)*(1-V16))","v":1},{"$f":"IF(R16<>S16,VLOOKUP(A16,krzywa!L:N,2,1))","v":false},{"$f":"IF(U16<>FALSE,IF($C$2=\"GAS_BASE\",(U16-A16+1)*koszyki!$A$14+J16,IF($C$2=\"OFFPEAK\",M16*koszyki!$A$14+(N16)*24+J16,IF($C$2=\"BASE5\",M16*koszyki!$A$14+J16,IF($C$2=\"PEAK7\",(B16-A16+1)*koszyki!$A$14,M16*koszyki!$A$14))))/B16,1)","v":1},null,null,null,-4299,-4663,null,9,"2017-03-26",-1,null,null,null,null,null,"2025-09-28",{"$f":"AK16-1","v":"2025-09-27"},"2025-09-26","2025-09-25",null,{"$f":"NETWORKDAYS(AK16,AK16,koszyki!$M$20:$M$89)","v":0},{"$f":"NETWORKDAYS(AL16,AL16,koszyki!$M$20:$M$89)","v":0},{"$f":"NETWORKDAYS(AM16,AM16,koszyki!$M$20:$M$89)","v":1},{"$f":"NETWORKDAYS(AN16,AN16,koszyki!$M$20:$M$89)","v":1},null,0,0,1,2,null,2]
["2025-09-29","2025-09-29",{"$f":"IF($C$2=\"GAS_BASE\",(B17-A17+1)*koszyki!$A$14+J17,IF($C$2=\"OFFPEAK\",M17*koszyki!$A$14+(N17)*24+J17,IF($C$2=\"BASE5\",M17*koszyki!$A$14+J17,IF($C$2=\"PEAK7\",(B17-A17+1)*koszyki!$A$14,M17*koszyki!$A$14))))","v":24},{"$f":"'Kalkulator Depozytów'!M22","v":0},{"$f":"'Kalkulator Depozytów'!N22","v":0},{"$f":"'Kalkulator Depozytów'!O22","v":0},{"$f":"'Kalkulator Depozytów'!P22","v":0},{"$f":"'Kalkulator Depozytów'!Q22","v":0},{"$f":"ROUND(AVERAGE(INDIRECT(\"krzywa!C\"&MATCH(A17-$A$2,krzywa!A:A,0)&\":C\"&MATCH(B17-$A$2,krzywa!A:A,0),TRUE)),4)","v":{"$error":"#N/A"}},null,365,"GAS_BASE",{"$f":"NETWORKDAYS(A17,B17,koszyki!$M$20:$M$89)","v":1},{"$f":"B17-A17+1- NETWORKDAYS(A17,B17,koszyki!$M$20:$M$89)","v":0},null,0,{"$error":"#N/A"},{"$f":"VLOOKUP(A17,krzywa!L:N,3,1)","v":0},{"$f":"VLOOKUP(B17,krzywa!L:N,3,1)","v":0},{"$f":"IF('Kalkulator Depozytów'!$B$35=TRUE,1,(1+R17/100)*V17+(1+S17/100)*(1-V17))","v":1},{"$f":"IF(R17<>S17,VLOOKUP(A17,krzywa!L:N,2,1))","v":false},{"$f":"IF(U17<>FALSE,IF($C$2=\"GAS_BASE\",(U17-A17+1)*koszyki!$A$14+J17,IF($C$2=\"OFFPEAK\",M17*koszyki!$A$14+(N17)*24+J17,IF($C$2=\"BASE5\",M17*koszyki!$A$14+J17,IF($C$2=\"PEAK7\",(B17-A17+1)*koszyki!$A$14,M17*koszyki!$A$14))))/B17,1)","v":1},null,null,null,-4082,-4446,null,10,"2017-10-29",1,null,null,null,null,null,"2025-09-29",{"$f":"AK17-1","v":"2025-09-28"},"2025-09-27","2025-09-26",null,{"$f":"NETWORKDAYS(AK17,AK17,koszyki!$M$20:$M$89)","v":1},{"$f":"NETWORKDAYS(AL17,AL17,koszyki!$M$20:$M$89)","v":0},{"$f":"NETWORKDAYS(AM17,AM17,koszyki!$M$20:$M$89)","v":0},{"$f":"NETWORKDAYS(AN17,AN17,koszyki!$M$20:$M$89)","v":1},null,1,1,1,2,null,0]
["2025-09-30","2025-09-30",{"$f":"IF($C$2=\"GAS_BASE\",(B18-A18+1)*koszyki!$A$14+J18,IF($C$2=\"OFFPEAK\",M18*koszyki!$A$14+(N18)*24+J18,IF($C$2=\"BASE5\",M18*koszyki!$A$14+J18,IF($C$2=\"PEAK7\",(B18-A18+1)*koszyki!$A$14,M18*koszyki!$A$14))))","v":24},{"$f":"'Kalkulator Depozytów'!M23","v":0},{"$f":"'Kalkulator Depozytów'!N23","v":0},{"$f":"'Kalkulator Depozytów'!O23","v":0},{"$f":"'Kalkulator Depozytów'!P23","v":0},{"$f":"'Kalkulator Depozytów'!Q23","v":0},{"$f":"ROUND(AVERAGE(INDIRECT(\"krzywa!C\"&MATCH(A18-$A$2,krzywa!A:A,0)&\":C\"&MATCH(B18-$A$2,krzywa!A:A,0),TRUE)),4)","v":{"$error":"#N/A"}},null,365,"GAS_BASE",{"$f":"NETWORKDAYS(A18,B18,koszyki!$M$20:$M$89)","v":1},{"$f":"B18-A18+1- NETWORKDAYS(A18,B18,koszyki!$M$20:$M$89)","v":0},null,0,{"$error":"#N/A"},{"$f":"VLOOKUP(A18,krzywa!L:N,3,1)","v":0},{"$f":"VLOOKUP(B18,krzywa!L:N,3,1)","v":0},{"$f":"IF('Kalkulator Depozytów'!$B$35=TRUE,1,(1+R18/100)*V18+(1+S18/100)*(1-V18))","v":1},{"$f":"IF(R18<>S18,VLOOKUP(A18,krzywa!L:N,2,1))","v":false},{"$f":"IF(U18<>FALSE,IF($C$2=\"GAS_BASE\",(U18-A18+1)*koszyki!$A$14+J18,IF($C$2=\"OFFPEAK\",M18*koszyki!$A$14+(N18)*24+J18,IF($C$2=\"BASE5\",M18*koszyki!$A$14+J18,IF($C$2=\"PEAK7\",(B18-A18+1)*koszyki!$A$14,M18*koszyki!$A$14))))/B18,1)","v":1},null,null,null,-3935,-4299,null,11,"2018-03-25",-1,null,null,null,null,null,"2025-09-30",{"$f":"AK18-1","v":"2025-09-29"},"2025-09-28","2025-09-27",null,{"$f":"NETWORKDAYS(AK18,AK18,koszyki!$M$20:$M$89)","v":1},{"$f":"NETWORKDAYS(AL18,AL18,koszyki!$M$20:$M$89)","v":1},{"$f":"NETWORKDAYS(AM18,AM18,koszyki!$M$20:$M$89)","v":0},{"$f":"NETWORKDAYS(AN18,AN18,koszyki!$M$20:$M$89)","v":0},null,1,2,2,2,null,0]
["2025-10-01","2025-10-01",{"$f":"IF($C$2=\"GAS_BASE\",(B19-A19+1)*koszyki!$A$14+J19,IF($C$2=\"OFFPEAK\",M19*koszyki!$A$14+(N19)*24+J19,IF($C$2=\"BASE5\",M19*koszyki!$A$14+J19,IF($C$2=\"PEAK7\",(B19-A19+1)*koszyki!$A$14,M19*koszyki!$A$14))))","v":24},{"$f":"'Kalkulator Depozytów'!M24","v":0},{"$f":"'Kalkulator Depozytów'!N24","v":0},{"$f":"'Kalkulator Depozytów'!O24","v":0},{"$f":"'Kalkulator Depozytów'!P24","v":0},{"$f":"'Kalkulator Depozytów'!Q24","v":0},{"$f":"ROUND(AVERAGE(INDIRECT(\"krzywa!C\"&MATCH(A19-$A$2,krzywa!A:A,0)&\":C\"&MATCH(B19-$A$2,krzywa!A:A,0),TRUE)),4)","v":{"$error":"#N/A"}},null,365,"GAS_BASE",{"$f":"NETWORKDAYS(A19,B19,koszyki!$M$20:$M$89)","v":1},{"$f":"B19-A19+1- NETWORKDAYS(A19,B19,koszyki!$M$20:$M$89)","v":0},null,0,{"$error":"#N/A"},{"$f":"VLOOKUP(A19,krzywa!L:N,3,1)","v":0},{"$f":"VLOOKUP(B19,krzywa!L:N,3,1)","v":0},{"$f":"IF('Kalkulator Depozytów'!$B$35=TRUE,1,(1+R19/100)*V19+(1+S19/100)*(1-V19))","v":1},{"$f":"IF(R19<>S19,VLOOKUP(A19,krzywa!L:N,2,1))","v":false},{"$f":"IF(U19<>FALSE,IF($C$2=\"GAS_BASE\",(U19-A19+1)*koszyki!$A$14+J19,IF($C$2=\"OFFPEAK\",M19*koszyki!$A$14+(N19)*24+J19,IF($C$2=\"BASE5\",M19*koszyki!$A$14+J19,IF($C$2=\"PEAK7\",(B19-A19+1)*koszyki!$A$14,M19*koszyki!$A$14))))/B19,1)","v":1},null,null,null,-3718,-4082,null,12,"2018-10-28",1,null,null,null,null,null,"2025-10-01",{"$f":"AK19-1","v":"2025-09-30"},"2025-09-29","2025-09-28",null,{"$f":"NETWORKDAYS(AK19,AK19,koszyki!$M$20:$M$89)","v":1},{"$f":"NETWORKDAYS(AL19,AL19,koszyki!$M$20:$M$89)","v":1},{"$f":"NETWORKDAYS(AM19,AM19,koszyki!$M$20:$M$89)","v":1},{"$f":"NETWORKDAYS(AN19,AN19,koszyki!$M$20:$M$89)","v":0},null,1,2,3,3,null,0]
["2025-10-02","2025-10-02",{"$f":"IF($C$2=\"GAS_BASE\",(B20-A20+1)*koszyki!$A$14+J20,IF($C$2=\"OFFPEAK\",M20*koszyki!$A$14+(N20)*24+J20,IF($C$2=\"BASE5\",M20*koszyki!$A$14+J20,IF($C$2=\"PEAK7\",(B20-A20+1)*koszyki!$A$14,M20*koszyki!$A$14))))","v":24},{"$f":"'Kalkulator Depozytów'!M25","v":0},{"$f":"'Kalkulator Depozytów'!N25","v":0},{"$f":"'Kalkulator Depozytów'!O25","v":0},{"$f":"'Kalkulator Depozytów'!P25","v":0},{"$f":"'Kalkulator Depozytów'!Q25","v":0},{"$f":"ROUND(AVERAGE(INDIRECT(\"krzywa!C\"&MATCH(A20-$A$2,krzywa!A:A,0)&\":C\"&MATCH(B20-$A$2,krzywa!A:A,0),TRUE)),4)","v":{"$error":"#N/A"}},null,365,"GAS_BASE",{"$f":"NETWORKDAYS(A20,B20,koszyki!$M$20:$M$89)","v":1},{"$f":"B20-A20+1- NETWORKDAYS(A20,B20,koszyki!$M$20:$M$89)","v":0},null,0,{"$error":"#N/A"},{"$f":"VLOOKUP(A20,krzywa!L:N,3,1)","v":0},{"$f":"VLOOKUP(B20,krzywa!L:N,3,1)","v":0},{"$f":"IF('Kalkulator Depozytów'!$B$35=TRUE,1,(1+R20/100)*V20+(1+S20/100)*(1-V20))","v":1},{"$f":"IF(R20<>S20,VLOOKUP(A20,krzywa!L:N,2,1))","v":false},{"$f":"IF(U20<>FALSE,IF($C$2=\"GAS_BASE\",(U20-A20+1)*koszyki!$A$14+J20,IF($C$2=\"OFFPEAK\",M20*koszyki!$A$14+(N20)*24+J20,IF($C$2=\"BASE5\",M20*koszyki!$A$14+J20,IF($C$2=\"PEAK7\",(B20-A20+1)*koszyki!$A$14,M20*koszyki!$A$14))))/B20,1)","v":1},null,null,null,-3564,-3928,null,13,"2019-03-31",-1,null,null,null,null,null,"2025-10-02",{"$f":"AK20-1","v":"2025-10-01"},"2025-09-30","2025-09-29",null,{"$f":"NETWORKDAYS(AK20,AK20,koszyki!$M$20:$M$89)","v":1},{"$f":"NETWORKDAYS(AL20,AL20,koszyki!$M$20:$M$89)","v":1},{"$f":"NETWORKDAYS(AM20,AM20,koszyki!$M$20:$M$89)","v":1},{"$f":"NETWORKDAYS(AN20,AN20,koszyki!$M$20:$M$89)","v":1},null,1,2,3,4,null,0]
["2025-10-03","2025-10-03",{"$f":"IF($C$2=\"GAS_BASE\",(B21-A21+1)*koszyki!$A$14+J21,IF($C$2=\"OFFPEAK\",M21*koszyki!$A$14+(N21)*24+J21,IF($C$2=\"BASE5\",M21*koszyki!$A$14+J21,IF($C$2=\"PEAK7\",(B21-A21+1)*koszyki!$A$14,M21*koszyki!$A$14))))","v":24},{"$f":"'Kalkulator Depozytów'!M26","v":0},{"$f":"'Kalkulator Depozytów'!N26","v":0},{"$f":"'Kalkulator Depozytów'!O26","v":0},{"$f":"'Kalkulator Depozytów'!P26","v":0},{"$f":"'Kalkulator Depozytów'!Q26","v":0},{"$f":"ROUND(AVERAGE(INDIRECT(\"krzywa!C\"&MATCH(A21-$A$2,krzywa!A:A,0)&\":C\"&MATCH(B21-$A$2,krzywa!A:A,0),TRUE)),4)","v":{"$error":"#N/A"}},null,365,"GAS_BASE",{"$f":"NETWORKDAYS(A21,B21,koszyki!$M$20:$M$89)","v":1},{"$f":"B21-A21+1- NETWORKDAYS(A21,B21,koszyki!$M$20:$M$89)","v":0},null,0,{"$error":"#N/A"},{"$f":"VLOOKUP(A21,krzywa!L:N,3,1)","v":0},{"$f":"VLOOKUP(B21,krzywa!L:N,3,1)","v":0},{"$f":"IF('Kalkulator Depozytów'!$B$35=TRUE,1,(1+R21/100)*V21+(1+S21/100)*(1-V21))","v":1},{"$f":"IF(R21<>S21,VLOOKUP(A21,krzywa!L:N,2,1))","v":false},{"$f":"IF(U21<>FALSE,IF($C$2=\"GAS_BASE\",(U21-A21+1)*koszyki!$A$14+J21,IF($C$2=\"OFFPEAK\",M21*koszyki!$A$14+(N21)*24+J21,IF($C$2=\"BASE5\",M21*koszyki!$A$14+J21,IF($C$2=\"PEAK7\",(B21-A21+1)*koszyki!$A$14,M21*koszyki!$A$14))))/B21,1)","v":1},null,null,null,-3354,-3718,null,14,"2019-10-27",1,null,null,null,null,null,"2025-10-03",{"$f":"AK21-1","v":"2025-10-02"},"2025-10-01","2025-09-30",null,{"$f":"NETWORKDAYS(AK21,AK21,koszyki!$M$20:$M$89)","v":1},{"$f":"NETWORKDAYS(AL21,AL21,koszyki!$M$20:$M$89)","v":1},{"$f":"NETWORKDAYS(AM21,AM21,koszyki!$M$20:$M$89)","v":1},{"$f":"NETWORKDAYS(AN21,AN21,koszyki!$M$20:$M$89)","v":1},null,1,2,3,4,null,0]
["2025-10-04","2025-10-04",{"$f":"IF($C$2=\"GAS_BASE\",(B22-A22+1)*koszyki!$A$14+J22,IF($C$2=\"OFFPEAK\",M22*koszyki!$A$14+(N22)*24+J22,IF($C$2=\"BASE5\",M22*koszyki!$A$14+J22,IF($C$2=\"PEAK7\",(B22-A22+1)*koszyki!$A$14,M22*koszyki!$A$14))))","v":24},{"$f":"'Kalkulator Depozytów'!M27","v":0},{"$f":"'Kalkulator Depozytów'!N27","v":0},{"$f":"'Kalkulator Depozytów'!O27","v":0},{"$f":"'Kalkulator Depozytów'!P27","v":0},{"$f":"'Kalkulator Depozytów'!Q27","v":0},{"$f":"ROUND(AVERAGE(INDIRECT(\"krzywa!C\"&MATCH(A22-$A$2,krzywa!A:A,0)&\":C\"&MATCH(B22-$A$2,krzywa!A:A,0),TRUE)),4)","v":{"$error":"#N/A"}},null,365,"GAS_BASE",{"$f":"NETWORKDAYS(A22,B22,koszyki!$M$20:$M$89)","v":0},{"$f":"B22-A22+1- NETWORKDAYS(A22,B22,koszyki!$M$20:$M$89)","v":1},null,0,{"$error":"#N/A"},{"$f":"VLOOKUP(A22,krzywa!L:N,3,1)","v":0},{"$f":"VLOOKUP(B22,krzywa!L:N,3,1)","v":0},{"$f":"IF('Kalkulator Depozytów'!$B$35=TRUE,1,(1+R22/100)*V22+(1+S22/100)*(1-V22))","v":1},{"$f":"IF(R22<>S22,VLOOKUP(A22,krzywa!L:N,2,1))","v":false},{"$f":"IF(U22<>FALSE,IF($C$2=\"GAS_BASE\",(U22-A22+1)*koszyki!$A$14+J22,IF($C$2=\"OFFPEAK\",M22*koszyki!$A$14+(N22)*24+J22,IF($C$2=\"BASE5\",M22*koszyki!$A$14+J22,IF($C$2=\"PEAK7\",(B22-A22+1)*koszyki!$A$14,M22*koszyki!$A$14))))/B22,1)","v":1},null,null,null,-3200,-3564,null,15,"2020-03-29",-1,null,null,null,null,null,"2025-10-04",{"$f":"AK22-1","v":"2025-10-03"},"2025-10-02","2025-10-01",null,{"$f":"NETWORKDAYS(AK22,AK22,koszyki!$M$20:$M$89)","v":0},{"$f":"NETWORKDAYS(AL22,AL22,koszyki!$M$20:$M$89)","v":1},{"$f":"NETWORKDAYS(AM22,AM22,koszyki!$M$20:$M$89)","v":1},{"$f":"NETWORKDAYS(AN22,AN22,koszyki!$M$20:$M$89)","v":1},null,0,1,2,3,null,1]
["2025-10-05","2025-10-05",{"$f":"IF($C$2=\"GAS_BASE\",(B23-A23+1)*koszyki!$A$14+J23,IF($C$2=\"OFFPEAK\",M23*koszyki!$A$14+(N23)*24+J23,IF($C$2=\"BASE5\",M23*koszyki!$A$14+J23,IF($C$2=\"PEAK7\",(B23-A23+1)*koszyki!$A$14,M23*koszyki!$A$14))))","v":24},{"$f":"'Kalkulator Depozytów'!M28","v":0},{"$f":"'Kalkulator Depozytów'!N28","v":0},{"$f":"'Kalkulator Depozytów'!O28","v":0},{"$f":"'Kalkulator Depozytów'!P28","v":0},{"$f":"'Kalkulator Depozytów'!Q28","v":0},{"$f":"ROUND(AVERAGE(INDIRECT(\"krzywa!C\"&MATCH(A23-$A$2,krzywa!A:A,0)&\":C\"&MATCH(B23-$A$2,krzywa!A:A,0),TRUE)),4)","v":{"$error":"#N/A"}},null,365,"GAS_BASE",{"$f":"NETWORKDAYS(A23,B23,koszyki!$M$20:$M$89)","v":0},{"$f":"B23-A23+1- NETWORKDAYS(A23,B23,koszyki!$M$20:$M$89)","v":1},null,0,{"$error":"#N/A"},{"$f":"VLOOKUP(A23,krzywa!L:N,3,1)","v":0},{"$f":"VLOOKUP(B23,krzywa!L:N,3,1)","v":0},{"$f":"IF('Kalkulator Depozytów'!$B$35=TRUE,1,(1+R23/100)*V23+(1+S23/100)*(1-V23))","v":1},{"$f":"IF(R23<>S23,VLOOKUP(A23,krzywa!L:N,2,1))","v":false},{"$f":"IF(U23<>FALSE,IF($C$2=\"GAS_BASE\",(U23-A23+1)*koszyki!$A$14+J23,IF($C$2=\"OFFPEAK\",M23*koszyki!$A$14+(N23)*24+J23,IF($C$2=\"BASE5\",M23*koszyki!$A$14+J23,IF($C$2=\"PEAK7\",(B23-A23+1)*koszyki!$A$14,M23*koszyki!$A$14))))/B23,1)","v":1},null,null,null,-2990,-3354,null,16,"2020-10-25",1,null,null,null,null,null,"2025-10-05",{"$f":"AK23-1","v":"2025-10-04"},"2025-10-03","2025-10-02",null,{"$f":"NETWORKDAYS(AK23,AK23,koszyki!$M$20:$M$89)","v":0},{"$f":"NETWORKDAYS(AL23,AL23,koszyki!$M$20:$M$89)","v":0},{"$f":"NETWORKDAYS(AM23,AM23,koszyki!$M$20:$M$89)","v":1},{"$f":"NETWORKDAYS(AN23,AN23,koszyki!$M$20:$M$89)","v":1},null,0,0,1,2,null,2]
["2025-10-06","2025-10-12",{"$f":"IF($C$2=\"GAS_BASE\",(B24-A24+1)*koszyki!$A$14+J24,IF($C$2=\"OFFPEAK\",M24*koszyki!$A$14+(N24)*24+J24,IF($C$2=\"BASE5\",M24*koszyki!$A$14+J24,IF($C$2=\"PEAK7\",(B24-A24+1)*koszyki!$A$14,M24*koszyki!$A$14))))","v":168},{"$f":"'Kalkulator Depozytów'!M29","v":0},{"$f":"'Kalkulator Depozytów'!N29","v":0},{"$f":"'Kalkulator Depozytów'!O29","v":0},{"$f":"'Kalkulator Depozytów'!P29","v":0},{"$f":"'Kalkulator Depozytów'!Q29","v":0},{"$f":"ROUND(AVERAGE(INDIRECT(\"krzywa!C\"&MATCH(A24-$A$2,krzywa!A:A,0)&\":C\"&MATCH(B24-$A$2,krzywa!A:A,0),TRUE)),4)","v":{"$error":"#N/A"}},null,365,"GAS_BASE",{"$f":"NETWORKDAYS(A24,B24,koszyki!$M$20:$M$89)","v":5},{"$f":"B24-A24+1- NETWORKDAYS(A24,B24,koszyki!$M$20:$M$89)","v":2},null,0,{"$error":"#N/A"},{"$f":"VLOOKUP(A24,krzywa!L:N,3,1)","v":0},{"$f":"VLOOKUP(B24,krzywa!L:N,3,1)","v":0},{"$f":"IF('Kalkulator Depozytów'!$B$35=TRUE,1,(1+R24/100)*V24+(1+S24/100)*(1-V24))","v":1},{"$f":"IF(R24<>S24,VLOOKUP(A24,krzywa!L:N,2,1))","v":false},{"$f":"IF(U24<>FALSE,IF($C$2=\"GAS_BASE\",(U24-A24+1)*koszyki!$A$14+J24,IF($C$2=\"OFFPEAK\",M24*koszyki!$A$14+(N24)*24+J24,IF($C$2=\"BASE5\",M24*koszyki!$A$14+J24,IF($C$2=\"PEAK7\",(B24-A24+1)*koszyki!$A$14,M24*koszyki!$A$14))))/B24,1)","v":1},null,null,null,{"$f":"AD24-$Z$7","v":-2836},{"$f":"AD24-$AA$7","v":-3200},null,17,"2021-03-28",-1,null,null,null,null,null,"2025-10-12",{"$f":"AK24-1","v":"2025-10-11"},"2025-10-10","2025-10-09",null,{"$f":"NETWORKDAYS(AK24,AK24,koszyki!$M$20:$M$89)","v":0},{"$f":"NETWORKDAYS(AL24,AL24,koszyki!$M$20:$M$89)","v":0},{"$f":"NETWORKDAYS(AM24,AM24,koszyki!$M$20:$M$89)","v":1},{"$f":"NETWORKDAYS(AN24,AN24,koszyki!$M$20:$M$89)","v":1},null,0,0,1,2,null,2]
["2025-10-13","2025-10-19",{"$f":"IF($C$2=\"GAS_BASE\",(B25-A25+1)*koszyki!$A$14+J25,IF($C$2=\"OFFPEAK\",M25*koszyki!$A$14+(N25)*24+J25,IF($C$2=\"BASE5\",M25*koszyki!$A$14+J25,IF($C$2=\"PEAK7\",(B25-A25+1)*koszyki!$A$14,M25*koszyki!$A$14))))","v":168},{"$f":"'Kalkulator Depozytów'!M30","v":0},{"$f":"'Kalkulator Depozytów'!N30","v":0},{"$f":"'Kalkulator Depozytów'!O30","v":0},{"$f":"'Kalkulator Depozytów'!P30","v":0},{"$f":"'Kalkulator Depozytów'!Q30","v":0},{"$f":"ROUND(AVERAGE(INDIRECT(\"krzywa!C\"&MATCH(A25-$A$2,krzywa!A:A,0)&\":C\"&MATCH(B25-$A$2,krzywa!A:A,0),TRUE)),4)","v":{"$error":"#N/A"}},null,365,"GAS_BASE",{"$f":"NETWORKDAYS(A25,B25,koszyki!$M$20:$M$89)","v":5},{"$f":"B25-A25+1- NETWORKDAYS(A25,B25,koszyki!$M$20:$M$89)","v":2},null,0,{"$f":"-C25*ABS(D25-F25)*H25*I25*T25","v":{"$error":"#N/A"}},{"$f":"VLOOKUP(A25,krzywa!L:N,3,1)","v":0},{"$f":"VLOOKUP(B25,krzywa!L:N,3,1)","v":0},{"$f":"IF('Kalkulator Depozytów'!$B$35=TRUE,1,(1+R25/100)*V25+(1+S25/100)*(1-V25))","v":1},{"$f":"IF(R25<>S25,VLOOKUP(A25,krzywa!L:N,2,1))","v":false},{"$f":"IF(U25<>FALSE,IF($C$2=\"GAS_BASE\",(U25-A25+1)*koszyki!$A$14+J25,IF($C$2=\"OFFPEAK\",M25*koszyki!$A$14+(N25)*24+J25,IF($C$2=\"BASE5\",M25*koszyki!$A$14+J25,IF($C$2=\"PEAK7\",(B25-A25+1)*koszyki!$A$14,M25*koszyki!$A$14))))/B25,1)","v":1},null,null,null,-2619,-2983,null,18,"2021-10-31",1,null,null,null,null,null,"2025-10-19",{"$f":"AK25-1","v":"2025-10-18"},"2025-10-17","2025-10-16",null,{"$f":"NETWORKDAYS(AK25,AK25,koszyki!$M$20:$M$89)","v":0},{"$f":"NETWORKDAYS(AL25,AL25,koszyki!$M$20:$M$89)","v":0},{"$f":"NETWORKDAYS(AM25,AM25,koszyki!$M$20:$M$89)","v":1},{"$f":"NETWORKDAYS(AN25,AN25,koszyki!$M$20:$M$89)","v":1},null,0,0,1,2,null,2]
["2025-10-20","2025-10-31",{"$f":"IF($C$2=\"GAS_BASE\",(B26-A26+1)*koszyki!$A$14+J26,IF($C$2=\"OFFPEAK\",M26*koszyki!$A$14+(N26)*24+J26,IF($C$2=\"BASE5\",M26*koszyki!$A$14+J26,IF($C$2=\"PEAK7\",(B26-A26+1)*koszyki!$A$14,M26*koszyki!$A$14))))","v":289},{"$f":"'Kalkulator Depozytów'!M31","v":0},{"$f":"'Kalkulator Depozytów'!N31","v":0},{"$f":"'Kalkulator Depozytów'!O31","v":0},{"$f":"'Kalkulator Depozytów'!P31","v":0},{"$f":"'Kalkulator Depozytów'!Q31","v":0},{"$f":"ROUND(AVERAGE(INDIRECT(\"krzywa!C\"&MATCH(A26-$A$2,krzywa!A:A,0)&\":C\"&MATCH(B26-$A$2,krzywa!A:A,0),TRUE)),4)","v":{"$error":"#N/A"}},1,365,"GAS_BASE",{"$f":"NETWORKDAYS(A26,B26,koszyki!$M$20:$M$89)","v":10},{"$f":"B26-A26+1- NETWORKDAYS(A26,B26,koszyki!$M$20:$M$89)","v":2},null,0,{"$error":"#N/A"},{"$f":"VLOOKUP(A26,krzywa!L:N,3,1)","v":0},{"$f":"VLOOKUP(B26,krzywa!L:N,3,1)","v":0},{"$f":"IF('Kalkulator Depozytów'!$B$35=TRUE,1,(1+R26/100)*V26+(1+S26/100)*(1-V26))","v":1},{"$f":"IF(R26<>S26,VLOOKUP(A26,krzywa!L:N,2,1))","v":false},{"$f":"IF(U26<>FALSE,IF($C$2=\"GAS_BASE\",(U26-A26+1)*koszyki!$A$14+J26,IF($C$2=\"OFFPEAK\",M26*koszyki!$A$14+(N26)*24+J26,IF($C$2=\"BASE5\",M26*koszyki!$A$14+J26,IF($C$2=\"PEAK7\",(B26-A26+1)*koszyki!$A$14,M26*koszyki!$A$14))))/B26,1)","v":1},null,null,null,-2473,-2837,null,19,"2022-03-26",-1,null,null,null,null,null,"2025-10-31",{"$f":"AK26-1","v":"2025-10-30"},"2025-10-29","2025-10-28",null,{"$f":"NETWORKDAYS(AK26,AK26,koszyki!$M$20:$M$89)","v":1},{"$f":"NETWORKDAYS(AL26,AL26,koszyki!$M$20:$M$89)","v":1},{"$f":"NETWORKDAYS(AM26,AM26,koszyki!$M$20:$M$89)","v":1},{"$f":"NETWORKDAYS(AN26,AN26,koszyki!$M$20:$M$89)","v":1},null,1,2,3,4,null,0]
["2025-11-01","2025-11-30",{"$f":"IF($C$2=\"GAS_BASE\",(B27-A27+1)*koszyki!$A$14+J27,IF($C$2=\"OFFPEAK\",M27*koszyki!$A$14+(N27)*24+J27,IF($C$2=\"BASE5\",M27*koszyki!$A$14+J27,IF($C$2=\"PEAK7\",(B27-A27+1)*koszyki!$A$14,M27*koszyki!$A$14))))","v":720},{"$f":"'Kalkulator Depozytów'!M32","v":0},{"$f":"'Kalkulator Depozytów'!N32","v":0},{"$f":"'Kalkulator Depozytów'!O32","v":0},{"$f":"'Kalkulator Depozytów'!P32","v":0},{"$f":"'Kalkulator Depozytów'!Q32","v":0},{"$f":"ROUND(AVERAGE(INDIRECT(\"krzywa!C\"&MATCH(A27-$A$2,krzywa!A:A,0)&\":C\"&MATCH(B27-$A$2,krzywa!A:A,0),TRUE)),4)","v":{"$error":"#N/A"}},null,365,"GAS_BASE",{"$f":"NETWORKDAYS(A27,B27,koszyki!$M$20:$M$89)","v":20},{"$f":"B27-A27+1- NETWORKDAYS(A27,B27,koszyki!$M$20:$M$89)","v":10},null,0,{"$error":"#N/A"},{"$f":"VLOOKUP(A27,krzywa!L:N,3,1)","v":0},{"$f":"VLOOKUP(B27,krzywa!L:N,3,1)","v":0},{"$f":"IF('Kalkulator Depozytów'!$B$35=TRUE,1,(1+R27/100)*V27+(1+S27/100)*(1-V27))","v":1},{"$f":"IF(R27<>S27,VLOOKUP(A27,krzywa!L:N,2,1))","v":false},{"$f":"IF(U27<>FALSE,IF($C$2=\"GAS_BASE\",(U27-A27+1)*koszyki!$A$14+J27,IF($C$2=\"OFFPEAK\",M27*koszyki!$A$14+(N27)*24+J27,IF($C$2=\"BASE5\",M27*koszyki!$A$14+J27,IF($C$2=\"PEAK7\",(B27-A27+1)*koszyki!$A$14,M27*koszyki!$A$14))))/B27,1)","v":1},null,null,null,-2256,-2620,null,20,"2022-10-29",1,null,null,null,null,null,"2025-11-30",{"$f":"AK27-1","v":"2025-11-29"},"2025-11-28","2025-11-27",null,{"$f":"NETWORKDAYS(AK27,AK27,koszyki!$M$20:$M$89)","v":0},{"$f":"NETWORKDAYS(AL27,AL27,koszyki!$M$20:$M$89)","v":0},{"$f":"NETWORKDAYS(AM27,AM27,koszyki!$M$20:$M$89)","v":1},{"$f":"NETWORKDAYS(AN27,AN27,koszyki!$M$20:$M$89)","v":1},null,0,0,1,2,null,2]
["2025-12-01","2025-12-31",{"$f":"IF($C$2=\"GAS_BASE\",(B28-A28+1)*koszyki!$A$14+J28,IF($C$2=\"OFFPEAK\",M28*koszyki!$A$14+(N28)*24+J28,IF($C$2=\"BASE5\",M28*koszyki!$A$14+J28,IF($C$2=\"PEAK7\",(B28-A28+1)*koszyki!$A$14,M28*koszyki!$A$14))))","v":744},{"$f":"'Kalkulator Depozytów'!M33","v":0},{"$f":"'Kalkulator Depozytów'!N33","v":0},{"$f":"'Kalkulator Depozytów'!O33","v":0},{"$f":"'Kalkulator Depozytów'!P33","v":0},{"$f":"'Kalkulator Depozytów'!Q33","v":0},{"$f":"ROUND(AVERAGE(INDIRECT(\"krzywa!C\"&MATCH(A28-$A$2,krzywa!A:A,0)&\":C\"&MATCH(B28-$A$2,krzywa!A:A,0),TRUE)),4)","v":{"$error":"#N/A"}},null,365,"GAS_BASE",{"$f":"NETWORKDAYS(A28,B28,koszyki!$M$20:$M$89)","v":23},{"$f":"B28-A28+1- NETWORKDAYS(A28,B28,koszyki!$M$20:$M$89)","v":8},null,0,{"$error":"#N/A"},{"$f":"VLOOKUP(A28,krzywa!L:N,3,1)","v":0},{"$f":"VLOOKUP(B28,krzywa!L:N,3,1)","v":0},{"$f":"IF('Kalkulator Depozytów'!$B$35=TRUE,1,(1+R28/100)*V28+(1+S28/100)*(1-V28))","v":1},{"$f":"IF(R28<>S28,VLOOKUP(A28,krzywa!L:N,2,1))","v":false},{"$f":"IF(U28<>FALSE,IF($C$2=\"GAS_BASE\",(U28-A28+1)*koszyki!$A$14+J28,IF($C$2=\"OFFPEAK\",M28*koszyki!$A$14+(N28)*24+J28,IF($C$2=\"BASE5\",M28*koszyki!$A$14+J28,IF($C$2=\"PEAK7\",(B28-A28+1)*koszyki!$A$14,M28*koszyki!$A$14))))/B28,1)","v":1},null,null,null,-2109,-2473,null,21,"2023-03-25",-1,null,null,null,null,null,"2025-12-31",{"$f":"AK28-1","v":"2025-12-30"},"2025-12-29","2025-12-28",null,{"$f":"NETWORKDAYS(AK28,AK28,koszyki!$M$20:$M$89)","v":1},{"$f":"NETWORKDAYS(AL28,AL28,koszyki!$M$20:$M$89)","v":1},{"$f":"NETWORKDAYS(AM28,AM28,koszyki!$M$20:$M$89)","v":1},{"$f":"NETWORKDAYS(AN28,AN28,koszyki!$M$20:$M$89)","v":0},null,1,2,3,3,null,0]
["2026-01-01","2026-01-31",{"$f":"IF($C$2=\"GAS_BASE\",(B29-A29+1)*koszyki!$A$14+J29,IF($C$2=\"OFFPEAK\",M29*koszyki!$A$14+(N29)*24+J29,IF($C$2=\"BASE5\",M29*koszyki!$A$14+J29,IF($C$2=\"PEAK7\",(B29-A29+1)*koszyki!$A$14,M29*koszyki!$A$14))))","v":744},{"$f":"'Kalkulator Depozytów'!M34","v":0},{"$f":"'Kalkulator Depozytów'!N34","v":0},{"$f":"'Kalkulator Depozytów'!O34","v":0},{"$f":"'Kalkulator Depozytów'!P34","v":0},{"$f":"'Kalkulator Depozytów'!Q34","v":0},{"$f":"ROUND(AVERAGE(INDIRECT(\"krzywa!C\"&MATCH(A29-$A$2,krzywa!A:A,0)&\":C\"&MATCH(B29-$A$2,krzywa!A:A,0),TRUE)),4)","v":{"$error":"#N/A"}},null,365,"GAS_BASE",{"$f":"NETWORKDAYS(A29,B29,koszyki!$M$20:$M$89)","v":22},{"$f":"B29-A29+1- NETWORKDAYS(A29,B29,koszyki!$M$20:$M$89)","v":9},null,0,{"$error":"#N/A"},{"$f":"VLOOKUP(A29,krzywa!L:N,3,1)","v":0},{"$f":"VLOOKUP(B29,krzywa!L:N,3,1)","v":0},{"$f":"IF('Kalkulator Depozytów'!$B$35=TRUE,1,(1+R29/100)*V29+(1+S29/100)*(1-V29))","v":1},{"$f":"IF(R29<>S29,VLOOKUP(A29,krzywa!L:N,2,1))","v":false},{"$f":"IF(U29<>FALSE,IF($C$2=\"GAS_BASE\",(U29-A29+1)*koszyki!$A$14+J29,IF($C$2=\"OFFPEAK\",M29*koszyki!$A$14+(N29)*24+J29,IF($C$2=\"BASE5\",M29*koszyki!$A$14+J29,IF($C$2=\"PEAK7\",(B29-A29+1)*koszyki!$A$14,M29*koszyki!$A$14))))/B29,1)","v":1},null,null,null,-1892,-2256,null,22,"2023-10-28",1,null,null,null,null,null,"2026-01-31",{"$f":"AK29-1","v":"2026-01-30"},"2026-01-29","2026-01-28",null,{"$f":"NETWORKDAYS(AK29,AK29,koszyki!$M$20:$M$89)","v":0},{"$f":"NETWORKDAYS(AL29,AL29,koszyki!$M$20:$M$89)","v":1},{"$f":"NETWORKDAYS(AM29,AM29,koszyki!$M$20:$M$89)","v":1},{"$f":"NETWORKDAYS(AN29,AN29,koszyki!$M$20:$M$89)","v":1},null,0,1,2,3,null,1]
["2026-02-01","2026-02-28",{"$f":"IF($C$2=\"GAS_BASE\",(B30-A30+1)*koszyki!$A$14+J30,IF($C$2=\"OFFPEAK\",M30*koszyki!$A$14+(N30)*24+J30,IF($C$2=\"BASE5\",M30*koszyki!$A$14+J30,IF($C$2=\"PEAK7\",(B30-A30+1)*koszyki!$A$14,M30*koszyki!$A$14))))","v":672},{"$f":"'Kalkulator Depozytów'!M35","v":0},{"$f":"'Kalkulator Depozytów'!N35","v":0},{"$f":"'Kalkulator Depozytów'!O35","v":0},{"$f":"'Kalkulator Depozytów'!P35","v":0},{"$f":"'Kalkulator Depozytów'!Q35","v":0},{"$f":"ROUND(AVERAGE(INDIRECT(\"krzywa!C\"&MATCH(A30-$A$2,krzywa!A:A,0)&\":C\"&MATCH(B30-$A$2,krzywa!A:A,0),TRUE)),4)","v":{"$error":"#N/A"}},null,365,"GAS_BASE",{"$f":"NETWORKDAYS(A30,B30,koszyki!$M$20:$M$89)","v":20},{"$f":"B30-A30+1- NETWORKDAYS(A30,B30,koszyki!$M$20:$M$89)","v":8},null,0,{"$error":"#N/A"},{"$f":"VLOOKUP(A30,krzywa!L:N,3,1)","v":0},{"$f":"VLOOKUP(B30,krzywa!L:N,3,1)","v":0},{"$f":"IF('Kalkulator Depozytów'!$B$35=TRUE,1,(1+R30/100)*V30+(1+S30/100)*(1-V30))","v":1},{"$f":"IF(R30<>S30,VLOOKUP(A30,krzywa!L:N,2,1))","v":false},{"$f":"IF(U30<>FALSE,IF($C$2=\"GAS_BASE\",(U30-A30+1)*koszyki!$A$14+J30,IF($C$2=\"OFFPEAK\",M30*koszyki!$A$14+(N30)*24+J30,IF($C$2=\"BASE5\",M30*koszyki!$A$14+J30,IF($C$2=\"PEAK7\",(B30-A30+1)*koszyki!$A$14,M30*koszyki!$A$14))))/B30,1)","v":1},null,null,null,-1737,-2101,null,23,"2024-03-31",-1,null,null,null,null,null,"2026-02-28",{"$f":"AK30-1","v":"2026-02-27"},"2026-02-26","2026-02-25",null,{"$f":"NETWORKDAYS(AK30,AK30,koszyki!$M$20:$M$89)","v":0},{"$f":"NETWORKDAYS(AL30,AL30,koszyki!$M$20:$M$89)","v":1},{"$f":"NETWORKDAYS(AM30,AM30,koszyki!$M$20:$M$89)","v":1},{"$f":"NETWORKDAYS(AN30,AN30,koszyki!$M$20:$M$89)","v":1},null,0,1,2,3,null,1]
["2026-03-01","2026-03-31",{"$f":"IF($C$2=\"GAS_BASE\",(B31-A31+1)*koszyki!$A$14+J31,IF($C$2=\"OFFPEAK\",M31*koszyki!$A$14+(N31)*24+J31,IF($C$2=\"BASE5\",M31*koszyki!$A$14+J31,IF($C$2=\"PEAK7\",(B31-A31+1)*koszyki!$A$14,M31*koszyki!$A$14))))","v":743},{"$f":"'Kalkulator Depozytów'!M36","v":0},{"$f":"'Kalkulator Depozytów'!N36","v":0},{"$f":"'Kalkulator Depozytów'!O36","v":0},{"$f":"'Kalkulator Depozytów'!P36","v":0},{"$f":"'Kalkulator Depozytów'!Q36","v":0},{"$f":"ROUND(AVERAGE(INDIRECT(\"krzywa!C\"&MATCH(A31-$A$2,krzywa!A:A,0)&\":C\"&MATCH(B31-$A$2,krzywa!A:A,0),TRUE)),4)","v":{"$error":"#N/A"}},-1,365,"GAS_BASE",{"$f":"NETWORKDAYS(A31,B31,koszyki!$M$20:$M$89)","v":22},{"$f":"B31-A31+1- NETWORKDAYS(A31,B31,koszyki!$M$20:$M$89)","v":9},null,0,{"$error":"#N/A"},{"$f":"VLOOKUP(A31,krzywa!L:N,3,1)","v":0},{"$f":"VLOOKUP(B31,krzywa!L:N,3,1)","v":0},{"$f":"IF('Kalkulator Depozytów'!$B$35=TRUE,1,(1+R31/100)*V31+(1+S31/100)*(1-V31))","v":1},{"$f":"IF(R31<>S31,VLOOKUP(A31,krzywa!L:N,2,1))","v":false},{"$f":"IF(U31<>FALSE,IF($C$2=\"GAS_BASE\",(U31-A31+1)*koszyki!$A$14+J31,IF($C$2=\"OFFPEAK\",M31*koszyki!$A$14+(N31)*24+J31,IF($C$2=\"BASE5\",M31*koszyki!$A$14+J31,IF($C$2=\"PEAK7\",(B31-A31+1)*koszyki!$A$14,M31*koszyki!$A$14))))/B31,1)","v":1},null,null,null,-1527,-1891,null,24,"2024-10-27",1,null,null,null,null,null,"2026-03-31",{"$f":"AK31-1","v":"2026-03-30"},"2026-03-29","2026-03-28",null,{"$f":"NETWORKDAYS(AK31,AK31,koszyki!$M$20:$M$89)","v":1},{"$f":"NETWORKDAYS(AL31,AL31,koszyki!$M$20:$M$89)","v":1},{"$f":"NETWORKDAYS(AM31,AM31,koszyki!$M$20:$M$89)","v":0},{"$f":"NETWORKDAYS(AN31,AN31,koszyki!$M$20:$M$89)","v":0},null,1,2,2,2,null,0]
["2026-04-01","2026-04-30",{"$f":"IF($C$2=\"GAS_BASE\",(B32-A32+1)*koszyki!$A$14+J32,IF($C$2=\"OFFPEAK\",M32*koszyki!$A$14+(N32)*24+J32,IF($C$2=\"BASE5\",M32*koszyki!$A$14+J32,IF($C$2=\"PEAK7\",(B32-A32+1)*koszyki!$A$14,M32*koszyki!$A$14))))","v":720},{"$f":"'Kalkulator Depozytów'!M37","v":0},{"$f":"'Kalkulator Depozytów'!N37","v":0},{"$f":"'Kalkulator Depozytów'!O37","v":0},{"$f":"'Kalkulator Depozytów'!P37","v":0},{"$f":"'Kalkulator Depozytów'!Q37","v":0},{"$f":"ROUND(AVERAGE(INDIRECT(\"krzywa!C\"&MATCH(A32-$A$2,krzywa!A:A,0)&\":C\"&MATCH(B32-$A$2,krzywa!A:A,0),TRUE)),4)","v":{"$error":"#N/A"}},null,365,"GAS_BASE",{"$f":"NETWORKDAYS(A32,B32,koszyki!$M$20:$M$89)","v":22},{"$f":"B32-A32+1- NETWORKDAYS(A32,B32,koszyki!$M$20:$M$89)","v":8},null,0,{"$error":"#N/A"},{"$f":"VLOOKUP(A32,krzywa!L:N,3,1)","v":0},{"$f":"VLOOKUP(B32,krzywa!L:N,3,1)","v":0},{"$f":"IF('Kalkulator Depozytów'!$B$35=TRUE,1,(1+R32/100)*V32+(1+S32/100)*(1-V32))","v":1},{"$f":"IF(R32<>S32,VLOOKUP(A32,krzywa!L:N,2,1))","v":false},{"$f":"IF(U32<>FALSE,IF($C$2=\"GAS_BASE\",(U32-A32+1)*koszyki!$A$14+J32,IF($C$2=\"OFFPEAK\",M32*koszyki!$A$14+(N32)*24+J32,IF($C$2=\"BASE5\",M32*koszyki!$A$14+J32,IF($C$2=\"PEAK7\",(B32-A32+1)*koszyki!$A$14,M32*koszyki!$A$14))))/B32,1)","v":1},null,null,null,{"$f":"AD32-$Z$7","v":-1373},-1737,null,25,"2025-03-30",-1,null,null,null,null,null,"2026-04-30",{"$f":"AK32-1","v":"2026-04-29"},"2026-04-28","2026-04-27",null,{"$f":"NETWORKDAYS(AK32,AK32,koszyki!$M$20:$M$89)","v":1},{"$f":"NETWORKDAYS(AL32,AL32,koszyki!$M$20:$M$89)","v":1},{"$f":"NETWORKDAYS(AM32,AM32,koszyki!$M$20:$M$89)","v":1},{"$f":"NETWORKDAYS(AN32,AN32,koszyki!$M$20:$M$89)","v":1},null,1,2,3,4,null,0]
["2026-05-01","2026-05-31",{"$f":"IF($C$2=\"GAS_BASE\",(B33-A33+1)*koszyki!$A$14+J33,IF($C$2=\"OFFPEAK\",M33*koszyki!$A$14+(N33)*24+J33,IF($C$2=\"BASE5\",M33*koszyki!$A$14+J33,IF($C$2=\"PEAK7\",(B33-A33+1)*koszyki!$A$14,M33*koszyki!$A$14))))","v":744},{"$f":"'Kalkulator Depozytów'!M38","v":0},{"$f":"'Kalkulator Depozytów'!N38","v":0},{"$f":"'Kalkulator Depozytów'!O38","v":0},{"$f":"'Kalkulator Depozytów'!P38","v":0},{"$f":"'Kalkulator Depozytów'!Q38","v":0},{"$f":"ROUND(AVERAGE(INDIRECT(\"krzywa!C\"&MATCH(A33-$A$2,krzywa!A:A,0)&\":C\"&MATCH(B33-$A$2,krzywa!A:A,0),TRUE)),4)","v":{"$error":"#N/A"}},null,365,"GAS_BASE",{"$f":"NETWORKDAYS(A33,B33,koszyki!$M$20:$M$89)","v":21},{"$f":"B33-A33+1- NETWORKDAYS(A33,B33,koszyki!$M$20:$M$89)","v":10},null,0,{"$error":"#N/A"},{"$f":"VLOOKUP(A33,krzywa!L:N,3,1)","v":0},{"$f":"VLOOKUP(B33,krzywa!L:N,3,1)","v":0},{"$f":"IF('Kalkulator Depozytów'!$B$35=TRUE,1,(1+R33/100)*V33+(1+S33/100)*(1-V33))","v":1},{"$f":"IF(R33<>S33,VLOOKUP(A33,krzywa!L:N,2,1))","v":false},{"$f":"IF(U33<>FALSE,IF($C$2=\"GAS_BASE\",(U33-A33+1)*koszyki!$A$14+J33,IF($C$2=\"OFFPEAK\",M33*koszyki!$A$14+(N33)*24+J33,IF($C$2=\"BASE5\",M33*koszyki!$A$14+J33,IF($C$2=\"PEAK7\",(B33-A33+1)*koszyki!$A$14,M33*koszyki!$A$14))))/B33,1)","v":1},null,null,null,-1163,-1527,null,26,"2025-10-26",1,null,null,null,null,null,"2026-05-31",{"$f":"AK33-1","v":"2026-05-30"},"2026-05-29","2026-05-28",null,{"$f":"NETWORKDAYS(AK33,AK33,koszyki!$M$20:$M$89)","v":0},{"$f":"NETWORKDAYS(AL33,AL33,koszyki!$M$20:$M$89)","v":0},{"$f":"NETWORKDAYS(AM33,AM33,koszyki!$M$20:$M$89)","v":1},{"$f":"NETWORKDAYS(AN33,AN33,koszyki!$M$20:$M$89)","v":1},null,0,0,1,2,null,2]
["2026-06-01","2026-06-30",{"$f":"IF($C$2=\"GAS_BASE\",(B34-A34+1)*koszyki!$A$14+J34,IF($C$2=\"OFFPEAK\",M34*koszyki!$A$14+(N34)*24+J34,IF($C$2=\"BASE5\",M34*koszyki!$A$14+J34,IF($C$2=\"PEAK7\",(B34-A34+1)*koszyki!$A$14,M34*koszyki!$A$14))))","v":720},{"$f":"'Kalkulator Depozytów'!M39","v":0},{"$f":"'Kalkulator Depozytów'!N39","v":0},{"$f":"'Kalkulator Depozytów'!O39","v":0},{"$f":"'Kalkulator Depozytów'!P39","v":0},{"$f":"'Kalkulator Depozytów'!Q39","v":0},{"$f":"ROUND(AVERAGE(INDIRECT(\"krzywa!C\"&MATCH(A34-$A$2,krzywa!A:A,0)&\":C\"&MATCH(B34-$A$2,krzywa!A:A,0),TRUE)),4)","v":{"$error":"#N/A"}},null,365,"GAS_BASE",{"$f":"NETWORKDAYS(A34,B34,koszyki!$M$20:$M$89)","v":22},{"$f":"B34-A34+1- NETWORKDAYS(A34,B34,koszyki!$M$20:$M$89)","v":8},null,0,{"$error":"#N/A"},{"$f":"VLOOKUP(A34,krzywa!L:N,3,1)","v":0},{"$f":"VLOOKUP(B34,krzywa!L:N,3,1)","v":0},{"$f":"IF('Kalkulator Depozytów'!$B$35=TRUE,1,(1+R34/100)*V34+(1+S34/100)*(1-V34))","v":1},{"$f":"IF(R34<>S34,VLOOKUP(A34,krzywa!L:N,2,1))","v":false},{"$f":"IF(U34<>FALSE,IF($C$2=\"GAS_BASE\",(U34-A34+1)*koszyki!$A$14+J34,IF($C$2=\"OFFPEAK\",M34*koszyki!$A$14+(N34)*24+J34,IF($C$2=\"BASE5\",M34*koszyki!$A$14+J34,IF($C$2=\"PEAK7\",(B34-A34+1)*koszyki!$A$14,M34*koszyki!$A$14))))/B34,1)","v":1},null,null,null,-1009,-1373,null,27,"2026-03-29",-1,null,null,null,null,null,"2026-06-30",{"$f":"AK34-1","v":"2026-06-29"},"2026-06-28","2026-06-27",null,{"$f":"NETWORKDAYS(AK34,AK34,koszyki!$M$20:$M$89)","v":1},{"$f":"NETWORKDAYS(AL34,AL34,koszyki!$M$20:$M$89)","v":1},{"$f":"NETWORKDAYS(AM34,AM34,koszyki!$M$20:$M$89)","v":0},{"$f":"NETWORKDAYS(AN34,AN34,koszyki!$M$20:$M$89)","v":0},null,1,2,2,2,null,0]
["2026-07-01","2026-07-31",{"$f":"IF($C$2=\"GAS_BASE\",(B35-A35+1)*koszyki!$A$14+J35,IF($C$2=\"OFFPEAK\",M35*koszyki!$A$14+(N35)*24+J35,IF($C$2=\"BASE5\",M35*koszyki!$A$14+J35,IF($C$2=\"PEAK7\",(B35-A35+1)*koszyki!$A$14,M35*koszyki!$A$14))))","v":744},{"$f":"'Kalkulator Depozytów'!M40","v":0},{"$f":"'Kalkulator Depozytów'!N40","v":0},{"$f":"'Kalkulator Depozytów'!O40","v":0},{"$f":"'Kalkulator Depozytów'!P40","v":0},{"$f":"'Kalkulator Depozytów'!Q40","v":0},{"$f":"ROUND(AVERAGE(INDIRECT(\"krzywa!C\"&MATCH(A35-$A$2,krzywa!A:A,0)&\":C\"&MATCH(B35-$A$2,krzywa!A:A,0),TRUE)),4)","v":{"$error":"#N/A"}},null,365,"GAS_BASE",{"$f":"NETWORKDAYS(A35,B35,koszyki!$M$20:$M$89)","v":23},{"$f":"B35-A35+1- NETWORKDAYS(A35,B35,koszyki!$M$20:$M$89)","v":8},null,0,{"$error":"#N/A"},{"$f":"VLOOKUP(A35,krzywa!L:N,3,1)","v":0},{"$f":"VLOOKUP(B35,krzywa!L:N,3,1)","v":0},{"$f":"IF('Kalkulator Depozytów'!$B$35=TRUE,1,(1+R35/100)*V35+(1+S35/100)*(1-V35))","v":1},{"$f":"IF(R35<>S35,VLOOKUP(A35,krzywa!L:N,2,1))","v":false},{"$f":"IF(U35<>FALSE,IF($C$2=\"GAS_BASE\",(U35-A35+1)*koszyki!$A$14+J35,IF($C$2=\"OFFPEAK\",M35*koszyki!$A$14+(N35)*24+J35,IF($C$2=\"BASE5\",M35*koszyki!$A$14+J35,IF($C$2=\"PEAK7\",(B35-A35+1)*koszyki!$A$14,M35*koszyki!$A$14))))/B35,1)","v":1},null,null,null,-799,-1163,null,28,"2026-10-25",1,null,null,null,null,null,"2026-07-31",{"$f":"AK35-1","v":"2026-07-30"},"2026-07-29","2026-07-28",null,{"$f":"NETWORKDAYS(AK35,AK35,koszyki!$M$20:$M$89)","v":1},{"$f":"NETWORKDAYS(AL35,AL35,koszyki!$M$20:$M$89)","v":1},{"$f":"NETWORKDAYS(AM35,AM35,koszyki!$M$20:$M$89)","v":1},{"$f":"NETWORKDAYS(AN35,AN35,koszyki!$M$20:$M$89)","v":1},null,1,2,3,4,null,0]
["2026-08-01","2026-08-31",{"$f":"IF($C$2=\"GAS_BASE\",(B36-A36+1)*koszyki!$A$14+J36,IF($C$2=\"OFFPEAK\",M36*koszyki!$A$14+(N36)*24+J36,IF($C$2=\"BASE5\",M36*koszyki!$A$14+J36,IF($C$2=\"PEAK7\",(B36-A36+1)*koszyki!$A$14,M36*koszyki!$A$14))))","v":744},{"$f":"'Kalkulator Depozytów'!M41","v":0},{"$f":"'Kalkulator Depozytów'!N41","v":0},{"$f":"'Kalkulator Depozytów'!O41","v":0},{"$f":"'Kalkulator Depozytów'!P41","v":0},{"$f":"'Kalkulator Depozytów'!Q41","v":0},{"$f":"ROUND(AVERAGE(INDIRECT(\"krzywa!C\"&MATCH(A36-$A$2,krzywa!A:A,0)&\":C\"&MATCH(B36-$A$2,krzywa!A:A,0),TRUE)),4)","v":{"$error":"#N/A"}},null,365,"GAS_BASE",{"$f":"NETWORKDAYS(A36,B36,koszyki!$M$20:$M$89)","v":21},{"$f":"B36-A36+1- NETWORKDAYS(A36,B36,koszyki!$M$20:$M$89)","v":10},null,0,{"$error":"#N/A"},{"$f":"VLOOKUP(A36,krzywa!L:N,3,1)","v":0},{"$f":"VLOOKUP(B36,krzywa!L:N,3,1)","v":0},{"$f":"IF('Kalkulator Depozytów'!$B$35=TRUE,1,(1+R36/100)*V36+(1+S36/100)*(1-V36))","v":1},{"$f":"IF(R36<>S36,VLOOKUP(A36,krzywa!L:N,2,1))","v":false},{"$f":"IF(U36<>FALSE,IF($C$2=\"GAS_BASE\",(U36-A36+1)*koszyki!$A$14+J36,IF($C$2=\"OFFPEAK\",M36*koszyki!$A$14+(N36)*24+J36,IF($C$2=\"BASE5\",M36*koszyki!$A$14+J36,IF($C$2=\"PEAK7\",(B36-A36+1)*koszyki!$A$14,M36*koszyki!$A$14))))/B36,1)","v":1},null,null,null,-645,-1009,null,29,"2027-03-28",-1,null,null,null,null,null,"2026-08-31",{"$f":"AK36-1","v":"2026-08-30"},{"$f":"AL36-1","v":"2026-08-29"},"2026-08-28",null,{"$f":"NETWORKDAYS(AK36,AK36,koszyki!$M$20:$M$89)","v":1},{"$f":"NETWORKDAYS(AL36,AL36,koszyki!$M$20:$M$89)","v":0},{"$f":"NETWORKDAYS(AM36,AM36,koszyki!$M$20:$M$89)","v":0},{"$f":"NETWORKDAYS(AN36,AN36,koszyki!$M$20:$M$89)","v":1},null,1,1,1,2,null,0]
["2026-09-01","2026-09-30",{"$f":"IF($C$2=\"GAS_BASE\",(B37-A37+1)*koszyki!$A$14+J37,IF($C$2=\"OFFPEAK\",M37*koszyki!$A$14+(N37)*24+J37,IF($C$2=\"BASE5\",M37*koszyki!$A$14+J37,IF($C$2=\"PEAK7\",(B37-A37+1)*koszyki!$A$14,M37*koszyki!$A$14))))","v":720},{"$f":"'Kalkulator Depozytów'!M42","v":0},{"$f":"'Kalkulator Depozytów'!N42","v":0},{"$f":"'Kalkulator Depozytów'!O42","v":0},{"$f":"'Kalkulator Depozytów'!P42","v":0},{"$f":"'Kalkulator Depozytów'!Q42","v":0},{"$f":"ROUND(AVERAGE(INDIRECT(\"krzywa!C\"&MATCH(A37-$A$2,krzywa!A:A,0)&\":C\"&MATCH(B37-$A$2,krzywa!A:A,0),TRUE)),4)","v":{"$error":"#N/A"}},null,365,"GAS_BASE",{"$f":"NETWORKDAYS(A37,B37,koszyki!$M$20:$M$89)","v":22},{"$f":"B37-A37+1- NETWORKDAYS(A37,B37,koszyki!$M$20:$M$89)","v":8},null,0,{"$error":"#N/A"},{"$f":"VLOOKUP(A37,krzywa!L:N,3,1)","v":0},{"$f":"VLOOKUP(B37,krzywa!L:N,3,1)","v":0},{"$f":"IF('Kalkulator Depozytów'!$B$35=TRUE,1,(1+R37/100)*V37+(1+S37/100)*(1-V37))","v":1},{"$f":"IF(R37<>S37,VLOOKUP(A37,krzywa!L:N,2,1))","v":false},{"$f":"IF(U37<>FALSE,IF($C$2=\"GAS_BASE\",(U37-A37+1)*koszyki!$A$14+J37,IF($C$2=\"OFFPEAK\",M37*koszyki!$A$14+(N37)*24+J37,IF($C$2=\"BASE5\",M37*koszyki!$A$14+J37,IF($C$2=\"PEAK7\",(B37-A37+1)*koszyki!$A$14,M37*koszyki!$A$14))))/B37,1)","v":1},null,null,null,-428,-792,null,30,"2027-10-31",1,null,null,null,null,null,"2026-09-30",{"$f":"AK37-1","v":"2026-09-29"},"2026-09-28","2026-09-27",null,{"$f":"NETWORKDAYS(AK37,AK37,koszyki!$M$20:$M$89)","v":1},{"$f":"NETWORKDAYS(AL37,AL37,koszyki!$M$20:$M$89)","v":1},{"$f":"NETWORKDAYS(AM37,AM37,koszyki!$M$20:$M$89)","v":1},{"$f":"NETWORKDAYS(AN37,AN37,koszyki!$M$20:$M$89)","v":0},null,1,2,3,3,null,0]
["2026-10-01","2026-12-31",{"$f":"IF($C$2=\"GAS_BASE\",(B38-A38+1)*koszyki!$A$14+J38,IF($C$2=\"OFFPEAK\",M38*koszyki!$A$14+(N38)*24+J38,IF($C$2=\"BASE5\",M38*koszyki!$A$14+J38,IF($C$2=\"PEAK7\",(B38-A38+1)*koszyki!$A$14,M38*koszyki!$A$14))))","v":2209},{"$f":"'Kalkulator Depozytów'!M43","v":0},{"$f":"'Kalkulator Depozytów'!N43","v":0},{"$f":"'Kalkulator Depozytów'!O43","v":0},{"$f":"'Kalkulator Depozytów'!P43","v":0},{"$f":"'Kalkulator Depozytów'!Q43","v":0},{"$f":"ROUND(AVERAGE(INDIRECT(\"krzywa!C\"&MATCH(A38-$A$2,krzywa!A:A,0)&\":C\"&MATCH(B38-$A$2,krzywa!A:A,0),TRUE)),4)","v":{"$error":"#N/A"}},1,365,"GAS_BASE",{"$f":"NETWORKDAYS(A38,B38,koszyki!$M$20:$M$89)","v":66},{"$f":"B38-A38+1- NETWORKDAYS(A38,B38,koszyki!$M$20:$M$89)","v":26},null,0,{"$error":"#N/A"},{"$f":"VLOOKUP(A38,krzywa!L:N,3,1)","v":0},{"$f":"VLOOKUP(B38,krzywa!L:N,3,1)","v":0},{"$f":"IF('Kalkulator Depozytów'!$B$35=TRUE,1,(1+R38/100)*V38+(1+S38/100)*(1-V38))","v":1},{"$f":"IF(R38<>S38,VLOOKUP(A38,krzywa!L:N,2,1))","v":false},{"$f":"IF(U38<>FALSE,IF($C$2=\"GAS_BASE\",(U38-A38+1)*koszyki!$A$14+J38,IF($C$2=\"OFFPEAK\",M38*koszyki!$A$14+(N38)*24+J38,IF($C$2=\"BASE5\",M38*koszyki!$A$14+J38,IF($C$2=\"PEAK7\",(B38-A38+1)*koszyki!$A$14,M38*koszyki!$A$14))))/B38,1)","v":1},null,null,null,-281,-645,null,31,"2028-03-26",-1,null,null,null,null,null,"2026-12-31",{"$f":"AK38-1","v":"2026-12-30"},"2026-12-29","2026-12-28",null,{"$f":"NETWORKDAYS(AK38,AK38,koszyki!$M$20:$M$89)","v":1},{"$f":"NETWORKDAYS(AL38,AL38,koszyki!$M$20:$M$89)","v":1},{"$f":"NETWORKDAYS(AM38,AM38,koszyki!$M$20:$M$89)","v":1},{"$f":"NETWORKDAYS(AN38,AN38,koszyki!$M$20:$M$89)","v":1},null,1,2,3,4,null,0]
["2027-01-01","2027-03-31",{"$f":"IF($C$2=\"GAS_BASE\",(B39-A39+1)*koszyki!$A$14+J39,IF($C$2=\"OFFPEAK\",M39*koszyki!$A$14+(N39)*24+J39,IF($C$2=\"BASE5\",M39*koszyki!$A$14+J39,IF($C$2=\"PEAK7\",(B39-A39+1)*koszyki!$A$14,M39*koszyki!$A$14))))","v":2159},{"$f":"'Kalkulator Depozytów'!M44","v":0},{"$f":"'Kalkulator Depozytów'!N44","v":0},{"$f":"'Kalkulator Depozytów'!O44","v":0},{"$f":"'Kalkulator Depozytów'!P44","v":0},{"$f":"'Kalkulator Depozytów'!Q44","v":0},{"$f":"ROUND(AVERAGE(INDIRECT(\"krzywa!C\"&MATCH(A39-$A$2,krzywa!A:A,0)&\":C\"&MATCH(B39-$A$2,krzywa!A:A,0),TRUE)),4)","v":{"$error":"#N/A"}},-1,365,"GAS_BASE",{"$f":"NETWORKDAYS(A39,B39,koszyki!$M$20:$M$89)","v":64},{"$f":"B39-A39+1- NETWORKDAYS(A39,B39,koszyki!$M$20:$M$89)","v":26},null,0,{"$error":"#N/A"},{"$f":"VLOOKUP(A39,krzywa!L:N,3,1)","v":23},{"$f":"VLOOKUP(B39,krzywa!L:N,3,1)","v":23},{"$f":"IF('Kalkulator Depozytów'!$B$35=TRUE,1,(1+R39/100)*V39+(1+S39/100)*(1-V39))","v":1.23},{"$f":"IF(R39<>S39,VLOOKUP(A39,krzywa!L:N,2,1))","v":false},{"$f":"IF(U39<>FALSE,IF($C$2=\"GAS_BASE\",(U39-A39+1)*koszyki!$A$14+J39,IF($C$2=\"OFFPEAK\",M39*koszyki!$A$14+(N39)*24+J39,IF($C$2=\"BASE5\",M39*koszyki!$A$14+J39,IF($C$2=\"PEAK7\",(B39-A39+1)*koszyki!$A$14,M39*koszyki!$A$14))))/B39,1)","v":1},null,null,null,-64,-428,null,32,"2028-10-29",1,null,null,null,null,null,"2027-03-31",{"$f":"AK39-1","v":"2027-03-30"},"2027-03-29","2027-03-28",null,{"$f":"NETWORKDAYS(AK39,AK39,koszyki!$M$20:$M$89)","v":1},{"$f":"NETWORKDAYS(AL39,AL39,koszyki!$M$20:$M$89)","v":1},{"$f":"NETWORKDAYS(AM39,AM39,koszyki!$M$20:$M$89)","v":1},{"$f":"NETWORKDAYS(AN39,AN39,koszyki!$M$20:$M$89)","v":0},null,1,2,3,3,null,0]
["2027-04-01","2027-09-30",{"$f":"IF($C$2=\"GAS_BASE\",(B40-A40+1)*koszyki!$A$14+J40,IF($C$2=\"OFFPEAK\",M40*koszyki!$A$14+(N40)*24+J40,IF($C$2=\"BASE5\",M40*koszyki!$A$14+J40,IF($C$2=\"PEAK7\",(B40-A40+1)*koszyki!$A$14,M40*koszyki!$A$14))))","v":4392},{"$f":"'Kalkulator Depozytów'!M45","v":0},{"$f":"'Kalkulator Depozytów'!N45","v":0},{"$f":"'Kalkulator Depozytów'!O45","v":0},{"$f":"'Kalkulator Depozytów'!P45","v":0},{"$f":"'Kalkulator Depozytów'!Q45","v":0},{"$f":"ROUND(AVERAGE(INDIRECT(\"krzywa!C\"&MATCH(A40-$A$2,krzywa!A:A,0)&\":C\"&MATCH(B40-$A$2,krzywa!A:A,0),TRUE)),4)","v":{"$error":"#N/A"}},null,365,"GAS_BASE",{"$f":"NETWORKDAYS(A40,B40,koszyki!$M$20:$M$89)","v":131},{"$f":"B40-A40+1- NETWORKDAYS(A40,B40,koszyki!$M$20:$M$89)","v":52},null,0,{"$error":"#N/A"},{"$f":"VLOOKUP(A40,krzywa!L:N,3,1)","v":23},{"$f":"VLOOKUP(B40,krzywa!L:N,3,1)","v":23},{"$f":"IF('Kalkulator Depozytów'!$B$35=TRUE,1,(1+R40/100)*V40+(1+S40/100)*(1-V40))","v":1.23},{"$f":"IF(R40<>S40,VLOOKUP(A40,krzywa!L:N,2,1))","v":false},{"$f":"IF(U40<>FALSE,IF($C$2=\"GAS_BASE\",(U40-A40+1)*koszyki!$A$14+J40,IF($C$2=\"OFFPEAK\",M40*koszyki!$A$14+(N40)*24+J40,IF($C$2=\"BASE5\",M40*koszyki!$A$14+J40,IF($C$2=\"PEAK7\",(B40-A40+1)*koszyki!$A$14,M40*koszyki!$A$14))))/B40,1)","v":1},null,null,null,null,null,null,null,null,null,null,null,null,null,null,"2027-09-30",{"$f":"AK40-1","v":"2027-09-29"},"2027-09-28","2027-09-27",null,{"$f":"NETWORKDAYS(AK40,AK40,koszyki!$M$20:$M$89)","v":1},{"$f":"NETWORKDAYS(AL40,AL40,koszyki!$M$20:$M$89)","v":1},{"$f":"NETWORKDAYS(AM40,AM40,koszyki!$M$20:$M$89)","v":1},{"$f":"NETWORKDAYS(AN40,AN40,koszyki!$M$20:$M$89)","v":1},null,1,2,3,4,null,0]
["2027-10-01","2027-12-31",{"$f":"IF($C$2=\"GAS_BASE\",(B41-A41+1)*koszyki!$A$14+J41,IF($C$2=\"OFFPEAK\",M41*koszyki!$A$14+(N41)*24+J41,IF($C$2=\"BASE5\",M41*koszyki!$A$14+J41,IF($C$2=\"PEAK7\",(B41-A41+1)*koszyki!$A$14,M41*koszyki!$A$14))))","v":2209},{"$f":"'Kalkulator Depozytów'!M46","v":0},{"$f":"'Kalkulator Depozytów'!N46","v":0},{"$f":"'Kalkulator Depozytów'!O46","v":0},{"$f":"'Kalkulator Depozytów'!P46","v":0},{"$f":"'Kalkulator Depozytów'!Q46","v":0},{"$f":"ROUND(AVERAGE(INDIRECT(\"krzywa!C\"&MATCH(A41-$A$2,krzywa!A:A,0)&\":C\"&MATCH(B41-$A$2,krzywa!A:A,0),TRUE)),4)","v":{"$error":"#N/A"}},1,365,"GAS_BASE",{"$f":"NETWORKDAYS(A41,B41,koszyki!$M$20:$M$89)","v":66},{"$f":"B41-A41+1- NETWORKDAYS(A41,B41,koszyki!$M$20:$M$89)","v":26},null,0,{"$error":"#N/A"},{"$f":"VLOOKUP(A41,krzywa!L:N,3,1)","v":23},{"$f":"VLOOKUP(B41,krzywa!L:N,3,1)","v":23},{"$f":"IF('Kalkulator Depozytów'!$B$35=TRUE,1,(1+R41/100)*V41+(1+S41/100)*(1-V41))","v":1.23},{"$f":"IF(R41<>S41,VLOOKUP(A41,krzywa!L:N,2,1))","v":false},{"$f":"IF(U41<>FALSE,IF($C$2=\"GAS_BASE\",(U41-A41+1)*koszyki!$A$14+J41,IF($C$2=\"OFFPEAK\",M41*koszyki!$A$14+(N41)*24+J41,IF($C$2=\"BASE5\",M41*koszyki!$A$14+J41,IF($C$2=\"PEAK7\",(B41-A41+1)*koszyki!$A$14,M41*koszyki!$A$14))))/B41,1)","v":1},null,null,null,null,null,null,null,null,null,null,null,null,null,null,"2027-12-31",{"$f":"AK41-1","v":"2027-12-30"},"2027-12-29","2027-12-28",null,{"$f":"NETWORKDAYS(AK41,AK41,koszyki!$M$20:$M$89)","v":1},{"$f":"NETWORKDAYS(AL41,AL41,koszyki!$M$20:$M$89)","v":1},{"$f":"NETWORKDAYS(AM41,AM41,koszyki!$M$20:$M$89)","v":1},{"$f":"NETWORKDAYS(AN41,AN41,koszyki!$M$20:$M$89)","v":1},null,1,2,3,4,null,0]
["2028-01-01","2028-12-31",{"$f":"IF($C$2=\"GAS_BASE\",(B42-A42+1)*koszyki!$A$14+J42,IF($C$2=\"OFFPEAK\",M42*koszyki!$A$14+(N42)*24+J42,IF($C$2=\"BASE5\",M42*koszyki!$A$14+J42,IF($C$2=\"PEAK7\",(B42-A42+1)*koszyki!$A$14,M42*koszyki!$A$14))))","v":8784},{"$f":"'Kalkulator Depozytów'!M47","v":0},{"$f":"'Kalkulator Depozytów'!N47","v":0},{"$f":"'Kalkulator Depozytów'!O47","v":0},{"$f":"'Kalkulator Depozytów'!P47","v":0},{"$f":"'Kalkulator Depozytów'!Q47","v":0},{"$f":"ROUND(AVERAGE(INDIRECT(\"krzywa!C\"&MATCH(A42-$A$2,krzywa!A:A,0)&\":C\"&MATCH(B42-$A$2,krzywa!A:A,0),TRUE)),4)","v":{"$error":"#N/A"}},0,365,"GAS_BASE",{"$f":"NETWORKDAYS(A42,B42,koszyki!$M$20:$M$89)","v":260},{"$f":"B42-A42+1- NETWORKDAYS(A42,B42,koszyki!$M$20:$M$89)","v":106},null,0,{"$error":"#N/A"},{"$f":"VLOOKUP(A42,krzywa!L:N,3,1)","v":23},{"$f":"VLOOKUP(B42,krzywa!L:N,3,1)","v":23},{"$f":"IF('Kalkulator Depozytów'!$B$35=TRUE,1,(1+R42/100)*V42+(1+S42/100)*(1-V42))","v":1.23},{"$f":"IF(R42<>S42,VLOOKUP(A42,krzywa!L:N,2,1))","v":false},{"$f":"IF(U42<>FALSE,IF($C$2=\"GAS_BASE\",(U42-A42+1)*koszyki!$A$14+J42,IF($C$2=\"OFFPEAK\",M42*koszyki!$A$14+(N42)*24+J42,IF($C$2=\"BASE5\",M42*koszyki!$A$14+J42,IF($C$2=\"PEAK7\",(B42-A42+1)*koszyki!$A$14,M42*koszyki!$A$14))))/B42,1)","v":1},null,null,null,null,null,null,null,null,null,null,null,null,null,null,"2028-12-31",{"$f":"AK42-1","v":"2028-12-30"},"2028-12-29","2028-12-28",null,{"$f":"NETWORKDAYS(AK42,AK42,koszyki!$M$20:$M$89)","v":0},{"$f":"NETWORKDAYS(AL42,AL42,koszyki!$M$20:$M$89)","v":0},{"$f":"NETWORKDAYS(AM42,AM42,koszyki!$M$20:$M$89)","v":1},{"$f":"NETWORKDAYS(AN42,AN42,koszyki!$M$20:$M$89)","v":1},null,0,0,1,2,null,2]
["2029-01-01","2029-12-31",{"$f":"IF($C$2=\"GAS_BASE\",(B43-A43+1)*koszyki!$A$14+J43,IF($C$2=\"OFFPEAK\",M43*koszyki!$A$14+(N43)*24+J43,IF($C$2=\"BASE5\",M43*koszyki!$A$14+J43,IF($C$2=\"PEAK7\",(B43-A43+1)*koszyki!$A$14,M43*koszyki!$A$14))))","v":8760},{"$f":"'Kalkulator Depozytów'!M48","v":0},{"$f":"'Kalkulator Depozytów'!N48","v":0},{"$f":"'Kalkulator Depozytów'!O48","v":0},{"$f":"'Kalkulator Depozytów'!P48","v":0},{"$f":"'Kalkulator Depozytów'!Q48","v":0},{"$f":"ROUND(AVERAGE(INDIRECT(\"krzywa!C\"&MATCH(A43-$A$2,krzywa!A:A,0)&\":C\"&MATCH(B43-$A$2,krzywa!A:A,0),TRUE)),4)","v":{"$error":"#N/A"}},null,365,"GAS_BASE",{"$f":"NETWORKDAYS(A43,B43,koszyki!$M$20:$M$89)","v":261},{"$f":"B43-A43+1- NETWORKDAYS(A43,B43,koszyki!$M$20:$M$89)","v":104},null,0,{"$error":"#N/A"},{"$f":"VLOOKUP(A43,krzywa!L:N,3,1)","v":23},{"$f":"VLOOKUP(B43,krzywa!L:N,3,1)","v":23},{"$f":"IF('Kalkulator Depozytów'!$B$35=TRUE,1,(1+R43/100)*V43+(1+S43/100)*(1-V43))","v":1.23},{"$f":"IF(R43<>S43,VLOOKUP(A43,krzywa!L:N,2,1))","v":false},{"$f":"IF(U43<>FALSE,IF($C$2=\"GAS_BASE\",(U43-A43+1)*koszyki!$A$14+J43,IF($C$2=\"OFFPEAK\",M43*koszyki!$A$14+(N43)*24+J43,IF($C$2=\"BASE5\",M43*koszyki!$A$14+J43,IF($C$2=\"PEAK7\",(B43-A43+1)*koszyki!$A$14,M43*koszyki!$A$14))))/B43,1)","v":1},null,null,null,null,null,null,null,null,null,null,null,null,null,null,"2029-12-31",{"$f":"AK43-1","v":"2029-12-30"},"2029-12-29","2029-12-28",null,{"$f":"NETWORKDAYS(AK43,AK43,koszyki!$M$20:$M$89)","v":1},{"$f":"NETWORKDAYS(AL43,AL43,koszyki!$M$20:$M$89)","v":0},{"$f":"NETWORKDAYS(AM43,AM43,koszyki!$M$20:$M$89)","v":0},{"$f":"NETWORKDAYS(AN43,AN43,koszyki!$M$20:$M$89)","v":1},null,1,1,1,2,null,0]
[null,null,{"$f":"IF($C$2=\"GAS_BASE\",(B44-A44+1)*koszyki!$A$14+J44,IF($C$2=\"OFFPEAK\",M44*koszyki!$A$14+(N44)*24+J44,IF($C$2=\"BASE5\",M44*koszyki!$A$14+J44,IF($C$2=\"PEAK7\",(B44-A44+1)*koszyki!$A$14,M44*koszyki!$A$14))))","v":24},{"$f":"'Kalkulator Depozytów'!M49","v":0},{"$f":"'Kalkulator Depozytów'!N49","v":0},{"$f":"'Kalkulator Depozytów'!O49","v":0},{"$f":"'Kalkulator Depozytów'!P49","v":0},{"$f":"'Kalkulator Depozytów'!Q49","v":0},{"$f":"ROUND(AVERAGE(INDIRECT(\"krzywa!C\"&MATCH(A44-$A$2,krzywa!A:A,0)&\":C\"&MATCH(B44-$A$2,krzywa!A:A,0),TRUE)),4)","v":{"$error":"#N/A"}},null,0,null,{"$f":"NETWORKDAYS(A44,B44,koszyki!$M$20:$M$89)","v":0},{"$f":"B44-A44+1- NETWORKDAYS(A44,B44,koszyki!$M$20:$M$89)","v":1},null,{"$error":"#N/A"},{"$error":"#N/A"},{"$f":"VLOOKUP(A44,krzywa!L:N,3,1)","v":{"$error":"#N/A"}},{"$f":"VLOOKUP(B44,krzywa!L:N,3,1)","v":{"$error":"#N/A"}},{"$f":"IF('Kalkulator Depozytów'!$B$35=TRUE,1,(1+R44/100)*V44+(1+S44/100)*(1-V44))","v":{"$error":"#N/A"}},{"$f":"IF(R44<>S44,VLOOKUP(A44,krzywa!L:N,2,1))","v":{"$error":"#N/A"}},{"$f":"IF(U44<>FALSE,IF($C$2=\"GAS_BASE\",(U44-A44+1)*koszyki!$A$14+J44,IF($C$2=\"OFFPEAK\",M44*koszyki!$A$14+(N44)*24+J44,IF($C$2=\"BASE5\",M44*koszyki!$A$14+J44,IF($C$2=\"PEAK7\",(B44-A44+1)*koszyki!$A$14,M44*koszyki!$A$14))))/B44,1)","v":{"$error":"#N/A"}},null,null,null,null,null,null,null,null,null,null,null,null,null,null,"00:00:00",{"$f":"AK44-1","v":-1},-2,-3,null,{"$f":"NETWORKDAYS(AK44,AK44,koszyki!$M$20:$M$89)","v":0},{"$f":"NETWORKDAYS(AL44,AL44,koszyki!$M$20:$M$89)","v":{"$error":"#NUM!"}},{"$f":"NETWORKDAYS(AM44,AM44,koszyki!$M$20:$M$89)","v":{"$error":"#NUM!"}},{"$f":"NETWORKDAYS(AN44,AN44,koszyki!$M$20:$M$89)","v":{"$error":"#NUM!"}},null,0,{"$error":"#NUM!"},{"$error":"#NUM!"},{"$error":"#NUM!"},null,1]
[null,null,{"$f":"IF($C$2=\"GAS_BASE\",(B45-A45+1)*koszyki!$A$14+J45,IF($C$2=\"OFFPEAK\",M45*koszyki!$A$14+(N45)*24+J45,IF($C$2=\"BASE5\",M45*koszyki!$A$14+J45,IF($C$2=\"PEAK7\",(B45-A45+1)*koszyki!$A$14,M45*koszyki!$A$14))))","v":24},{"$f":"'Kalkulator Depozytów'!M50","v":0},{"$f":"'Kalkulator Depozytów'!N50","v":0},{"$f":"'Kalkulator Depozytów'!O50","v":0},{"$f":"'Kalkulator Depozytów'!P50","v":0},{"$f":"'Kalkulator Depozytów'!Q50","v":0},{"$f":"ROUND(AVERAGE(INDIRECT(\"krzywa!C\"&MATCH(A45-$A$2,krzywa!A:A,0)&\":C\"&MATCH(B45-$A$2,krzywa!A:A,0),TRUE)),4)","v":{"$error":"#N/A"}},null,0,null,{"$f":"NETWORKDAYS(A45,B45,koszyki!$M$20:$M$89)","v":0},{"$f":"B45-A45+1- NETWORKDAYS(A45,B45,koszyki!$M$20:$M$89)","v":1},null,{"$error":"#N/A"},{"$error":"#N/A"},{"$f":"VLOOKUP(A45,krzywa!L:N,3,1)","v":{"$error":"#N/A"}},{"$f":"VLOOKUP(B45,krzywa!L:N,3,1)","v":{"$error":"#N/A"}},{"$f":"IF('Kalkulator Depozytów'!$B$35=TRUE,1,(1+R45/100)*V45+(1+S45/100)*(1-V45))","v":{"$error":"#N/A"}},{"$f":"IF(R45<>S45,VLOOKUP(A45,krzywa!L:N,2,1))","v":{"$error":"#N/A"}},{"$f":"IF(U45<>FALSE,IF($C$2=\"GAS_BASE\",(U45-A45+1)*koszyki!$A$14+J45,IF($C$2=\"OFFPEAK\",M45*koszyki!$A$14+(N45)*24+J45,IF($C$2=\"BASE5\",M45*koszyki!$A$14+J45,IF($C$2=\"PEAK7\",(B45-A45+1)*koszyki!$A$14,M45*koszyki!$A$14))))/B45,1)","v":{"$error":"#N/A"}},null,null,null,null,null,null,null,null,null,null,null,null,null,null,"00:00:00",{"$f":"AK45-1","v":-1},-2,-3,null,{"$f":"NETWORKDAYS(AK45,AK45,koszyki!$M$20:$M$89)","v":0},{"$f":"NETWORKDAYS(AL45,AL45,koszyki!$M$20:$M$89)","v":{"$error":"#NUM!"}},{"$f":"NETWORKDAYS(AM45,AM45,koszyki!$M$20:$M$89)","v":{"$error":"#NUM!"}},{"$f":"NETWORKDAYS(AN45,AN45,koszyki!$M$20:$M$89)","v":{"$error":"#NUM!"}},null,0,{"$error":"#NUM!"},{"$error":"#NUM!"},{"$error":"#NUM!"},null,1]
[null,null,{"$f":"IF($C$2=\"GAS_BASE\",(B46-A46+1)*koszyki!$A$14+J46,IF($C$2=\"OFFPEAK\",M46*koszyki!$A$14+(N46)*24+J46,IF($C$2=\"BASE5\",M46*koszyki!$A$14+J46,IF($C$2=\"PEAK7\",(B46-A46+1)*koszyki!$A$14,M46*koszyki!$A$14))))","v":24},{"$f":"'Kalkulator Depozytów'!M51","v":0},{"$f":"'Kalkulator Depozytów'!N51","v":0},{"$f":"'Kalkulator Depozytów'!O51","v":0},{"$f":"'Kalkulator Depozytów'!P51","v":0},{"$f":"'Kalkulator Depozytów'!Q51","v":0},{"$f":"ROUND(AVERAGE(INDIRECT(\"krzywa!C\"&MATCH(A46-$A$2,krzywa!A:A,0)&\":C\"&MATCH(B46-$A$2,krzywa!A:A,0),TRUE)),4)","v":{"$error":"#N/A"}},null,0,null,{"$f":"NETWORKDAYS(A46,B46,koszyki!$M$20:$M$89)","v":0},{"$f":"B46-A46+1- NETWORKDAYS(A46,B46,koszyki!$M$20:$M$89)","v":1},null,{"$error":"#N/A"},{"$error":"#N/A"},{"$f":"VLOOKUP(A46,krzywa!L:N,3,1)","v":{"$error":"#N/A"}},{"$f":"VLOOKUP(B46,krzywa!L:N,3,1)","v":{"$error":"#N/A"}},{"$f":"IF('Kalkulator Depozytów'!$B$35=TRUE,1,(1+R46/100)*V46+(1+S46/100)*(1-V46))","v":{"$error":"#N/A"}},{"$f":"IF(R46<>S46,VLOOKUP(A46,krzywa!L:N,2,1))","v":{"$error":"#N/A"}},{"$f":"IF(U46<>FALSE,IF($C$2=\"GAS_BASE\",(U46-A46+1)*koszyki!$A$14+J46,IF($C$2=\"OFFPEAK\",M46*koszyki!$A$14+(N46)*24+J46,IF($C$2=\"BASE5\",M46*koszyki!$A$14+J46,IF($C$2=\"PEAK7\",(B46-A46+1)*koszyki!$A$14,M46*koszyki!$A$14))))/B46,1)","v":{"$error":"#N/A"}},null,null,null,null,null,null,null,null,null,null,null,null,null,null,"00:00:00",{"$f":"AK46-1","v":-1},-2,-3,null,{"$f":"NETWORKDAYS(AK46,AK46,koszyki!$M$20:$M$89)","v":0},{"$f":"NETWORKDAYS(AL46,AL46,koszyki!$M$20:$M$89)","v":{"$error":"#NUM!"}},{"$f":"NETWORKDAYS(AM46,AM46,koszyki!$M$20:$M$89)","v":{"$error":"#NUM!"}},{"$f":"NETWORKDAYS(AN46,AN46,koszyki!$M$20:$M$89)","v":{"$error":"#NUM!"}},null,0,{"$error":"#NUM!"},{"$error":"#NUM!"},{"$error":"#NUM!"},null,1]
[null,null,{"$f":"IF($C$2=\"GAS_BASE\",(B47-A47+1)*koszyki!$A$14+J47,IF($C$2=\"OFFPEAK\",M47*koszyki!$A$14+(N47)*24+J47,IF($C$2=\"BASE5\",M47*koszyki!$A$14+J47,IF($C$2=\"PEAK7\",(B47-A47+1)*koszyki!$A$14,M47*koszyki!$A$14))))","v":24},{"$f":"'Kalkulator Depozytów'!M52","v":0},{"$f":"'Kalkulator Depozytów'!N52","v":0},{"$f":"'Kalkulator Depozytów'!O52","v":0},{"$f":"'Kalkulator Depozytów'!P52","v":0},{"$f":"'Kalkulator Depozytów'!Q52","v":0},{"$f":"ROUND(AVERAGE(INDIRECT(\"krzywa!C\"&MATCH(A47-$A$2,krzywa!A:A,0)&\":C\"&MATCH(B47-$A$2,krzywa!A:A,0),TRUE)),4)","v":{"$error":"#N/A"}},null,0,null,{"$f":"NETWORKDAYS(A47,B47,koszyki!$M$20:$M$89)","v":0},{"$f":"B47-A47+1- NETWORKDAYS(A47,B47,koszyki!$M$20:$M$89)","v":1},null,{"$error":"#N/A"},{"$error":"#N/A"},{"$f":"VLOOKUP(A47,krzywa!L:N,3,1)","v":{"$error":"#N/A"}},{"$f":"VLOOKUP(B47,krzywa!L:N,3,1)","v":{"$error":"#N/A"}},{"$f":"IF('Kalkulator Depozytów'!$B$35=TRUE,1,(1+R47/100)*V47+(1+S47/100)*(1-V47))","v":{"$error":"#N/A"}},{"$f":"IF(R47<>S47,VLOOKUP(A47,krzywa!L:N,2,1))","v":{"$error":"#N/A"}},{"$f":"IF(U47<>FALSE,IF($C$2=\"GAS_BASE\",(U47-A47+1)*koszyki!$A$14+J47,IF($C$2=\"OFFPEAK\",M47*koszyki!$A$14+(N47)*24+J47,IF($C$2=\"BASE5\",M47*koszyki!$A$14+J47,IF($C$2=\"PEAK7\",(B47-A47+1)*koszyki!$A$14,M47*koszyki!$A$14))))/B47,1)","v":{"$error":"#N/A"}},null,null,null,null,null,null,null,null,null,null,null,null,null,null,"00:00:00",{"$f":"AK47-1","v":-1},-2,-3,null,{"$f":"NETWORKDAYS(AK47,AK47,koszyki!$M$20:$M$89)","v":0},{"$f":"NETWORKDAYS(AL47,AL47,koszyki!$M$20:$M$89)","v":{"$error":"#NUM!"}},{"$f":"NETWORKDAYS(AM47,AM47,koszyki!$M$20:$M$89)","v":{"$error":"#NUM!"}},{"$f":"NETWORKDAYS(AN47,AN47,koszyki!$M$20:$M$89)","v":{"$error":"#NUM!"}},null,0,{"$error":"#NUM!"},{"$error":"#NUM!"},{"$error":"#NUM!"},null,1]
[null,null,{"$f":"IF($C$2=\"GAS_BASE\",(B48-A48+1)*koszyki!$A$14+J48,IF($C$2=\"OFFPEAK\",M48*koszyki!$A$14+(N48)*24+J48,IF($C$2=\"BASE5\",M48*koszyki!$A$14+J48,IF($C$2=\"PEAK7\",(B48-A48+1)*koszyki!$A$14,M48*koszyki!$A$14))))","v":24},{"$f":"'Kalkulator Depozytów'!M53","v":0},{"$f":"'Kalkulator Depozytów'!N53","v":0},{"$f":"'Kalkulator Depozytów'!O53","v":0},{"$f":"'Kalkulator Depozytów'!P53","v":0},{"$f":"'Kalkulator Depozytów'!Q53","v":0},{"$f":"ROUND(AVERAGE(INDIRECT(\"krzywa!C\"&MATCH(A48-$A$2,krzywa!A:A,0)&\":C\"&MATCH(B48-$A$2,krzywa!A:A,0),TRUE)),4)","v":{"$error":"#N/A"}},null,0,null,{"$f":"NETWORKDAYS(A48,B48,koszyki!$M$20:$M$89)","v":0},{"$f":"B48-A48+1- NETWORKDAYS(A48,B48,koszyki!$M$20:$M$89)","v":1},null,{"$error":"#N/A"},{"$error":"#N/A"},{"$f":"VLOOKUP(A48,krzywa!L:N,3,1)","v":{"$error":"#N/A"}},{"$f":"VLOOKUP(B48,krzywa!L:N,3,1)","v":{"$error":"#N/A"}},{"$f":"IF('Kalkulator Depozytów'!$B$35=TRUE,1,(1+R48/100)*V48+(1+S48/100)*(1-V48))","v":{"$error":"#N/A"}},{"$f":"IF(R48<>S48,VLOOKUP(A48,krzywa!L:N,2,1))","v":{"$error":"#N/A"}},{"$f":"IF(U48<>FALSE,IF($C$2=\"GAS_BASE\",(U48-A48+1)*koszyki!$A$14+J48,IF($C$2=\"OFFPEAK\",M48*koszyki!$A$14+(N48)*24+J48,IF($C$2=\"BASE5\",M48*koszyki!$A$14+J48,IF($C$2=\"PEAK7\",(B48-A48+1)*koszyki!$A$14,M48*koszyki!$A$14))))/B48,1)","v":{"$error":"#N/A"}},null,null,null,null,null,null,null,null,null,null,null,null,null,null,"00:00:00",{"$f":"AK48-1","v":-1},-2,-3,null,{"$f":"NETWORKDAYS(AK48,AK48,koszyki!$M$20:$M$89)","v":0},{"$f":"NETWORKDAYS(AL48,AL48,koszyki!$M$20:$M$89)","v":{"$error":"#NUM!"}},{"$f":"NETWORKDAYS(AM48,AM48,koszyki!$M$20:$M$89)","v":{"$error":"#NUM!"}},{"$f":"NETWORKDAYS(AN48,AN48,koszyki!$M$20:$M$89)","v":{"$error":"#NUM!"}},null,0,{"$error":"#NUM!"},{"$error":"#NUM!"},{"$error":"#NUM!"},null,1]
[null,null,{"$f":"IF($C$2=\"GAS_BASE\",(B49-A49+1)*koszyki!$A$14+J49,IF($C$2=\"OFFPEAK\",M49*koszyki!$A$14+(N49)*24+J49,IF($C$2=\"BASE5\",M49*koszyki!$A$14+J49,IF($C$2=\"PEAK7\",(B49-A49+1)*koszyki!$A$14,M49*koszyki!$A$14))))","v":24},{"$f":"'Kalkulator Depozytów'!M54","v":0},{"$f":"'Kalkulator Depozytów'!N54","v":0},{"$f":"'Kalkulator Depozytów'!O54","v":0},{"$f":"'Kalkulator Depozytów'!P54","v":0},{"$f":"'Kalkulator Depozytów'!Q54","v":0},{"$f":"ROUND(AVERAGE(INDIRECT(\"krzywa!C\"&MATCH(A49-$A$2,krzywa!A:A,0)&\":C\"&MATCH(B49-$A$2,krzywa!A:A,0),TRUE)),4)","v":{"$error":"#N/A"}},null,0,null,{"$f":"NETWORKDAYS(A49,B49,koszyki!$M$20:$M$89)","v":0},{"$f":"B49-A49+1- NETWORKDAYS(A49,B49,koszyki!$M$20:$M$89)","v":1},null,{"$error":"#N/A"},{"$error":"#N/A"},{"$f":"VLOOKUP(A49,krzywa!L:N,3,1)","v":{"$error":"#N/A"}},{"$f":"VLOOKUP(B49,krzywa!L:N,3,1)","v":{"$error":"#N/A"}},{"$f":"IF('Kalkulator Depozytów'!$B$35=TRUE,1,(1+R49/100)*V49+(1+S49/100)*(1-V49))","v":{"$error":"#N/A"}},{"$f":"IF(R49<>S49,VLOOKUP(A49,krzywa!L:N,2,1))","v":{"$error":"#N/A"}},{"$f":"IF(U49<>FALSE,IF($C$2=\"GAS_BASE\",(U49-A49+1)*koszyki!$A$14+J49,IF($C$2=\"OFFPEAK\",M49*koszyki!$A$14+(N49)*24+J49,IF($C$2=\"BASE5\",M49*koszyki!$A$14+J49,IF($C$2=\"PEAK7\",(B49-A49+1)*koszyki!$A$14,M49*koszyki!$A$14))))/B49,1)","v":{"$error":"#N/A"}},null,null,null,null,null,null,null,null,null,null,null,null,null,null,"00:00:00",{"$f":"AK49-1","v":-1},-2,-3,null,{"$f":"NETWORKDAYS(AK49,AK49,koszyki!$M$20:$M$89)","v":0},{"$f":"NETWORKDAYS(AL49,AL49,koszyki!$M$20:$M$89)","v":{"$error":"#NUM!"}},{"$f":"NETWORKDAYS(AM49,AM49,koszyki!$M$20:$M$89)","v":{"$error":"#NUM!"}},{"$f":"NETWORKDAYS(AN49,AN49,koszyki!$M$20:$M$89)","v":{"$error":"#NUM!"}},null,0,{"$error":"#NUM!"},{"$error":"#NUM!"},{"$error":"#NUM!"},null,1]
[null,null,{"$f":"IF($C$2=\"GAS_BASE\",(B50-A50+1)*koszyki!$A$14+J50,IF($C$2=\"OFFPEAK\",M50*koszyki!$A$14+(N50)*24+J50,IF($C$2=\"BASE5\",M50*koszyki!$A$14+J50,IF($C$2=\"PEAK7\",(B50-A50+1)*koszyki!$A$14,M50*koszyki!$A$14))))","v":24},{"$f":"'Kalkulator Depozytów'!M55","v":0},{"$f":"'Kalkulator Depozytów'!N55","v":0},{"$f":"'Kalkulator Depozytów'!O55","v":0},{"$f":"'Kalkulator Depozytów'!P55","v":0},{"$f":"'Kalkulator Depozytów'!Q55","v":0},{"$f":"ROUND(AVERAGE(INDIRECT(\"krzywa!C\"&MATCH(A50-$A$2,krzywa!A:A,0)&\":C\"&MATCH(B50-$A$2,krzywa!A:A,0),TRUE)),4)","v":{"$error":"#N/A"}},null,0,null,{"$f":"NETWORKDAYS(A50,B50,koszyki!$M$20:$M$89)","v":0},{"$f":"B50-A50+1- NETWORKDAYS(A50,B50,koszyki!$M$20:$M$89)","v":1},null,{"$error":"#N/A"},{"$error":"#N/A"},{"$f":"VLOOKUP(A50,krzywa!L:N,3,1)","v":{"$error":"#N/A"}},{"$f":"VLOOKUP(B50,krzywa!L:N,3,1)","v":{"$error":"#N/A"}},{"$f":"IF('Kalkulator Depozytów'!$B$35=TRUE,1,(1+R50/100)*V50+(1+S50/100)*(1-V50))","v":{"$error":"#N/A"}},{"$f":"IF(R50<>S50,VLOOKUP(A50,krzywa!L:N,2,1))","v":{"$error":"#N/A"}},{"$f":"IF(U50<>FALSE,IF($C$2=\"GAS_BASE\",(U50-A50+1)*koszyki!$A$14+J50,IF($C$2=\"OFFPEAK\",M50*koszyki!$A$14+(N50)*24+J50,IF($C$2=\"BASE5\",M50*koszyki!$A$14+J50,IF($C$2=\"PEAK7\",(B50-A50+1)*koszyki!$A$14,M50*koszyki!$A$14))))/B50,1)","v":{"$error":"#N/A"}},null,null,null,null,null,null,null,null,null,null,null,null,null,null,"00:00:00",{"$f":"AK50-1","v":-1},-2,-3,null,{"$f":"NETWORKDAYS(AK50,AK50,koszyki!$M$20:$M$89)","v":0},{"$f":"NETWORKDAYS(AL50,AL50,koszyki!$M$20:$M$89)","v":{"$error":"#NUM!"}},{"$f":"NETWORKDAYS(AM50,AM50,koszyki!$M$20:$M$89)","v":{"$error":"#NUM!"}},{"$f":"NETWORKDAYS(AN50,AN50,koszyki!$M$20:$M$89)","v":{"$error":"#NUM!"}},null,0,{"$error":"#NUM!"},{"$error":"#NUM!"},{"$error":"#NUM!"},null,1]
[null,null,{"$f":"IF($C$2=\"GAS_BASE\",(B51-A51+1)*koszyki!$A$14+J51,IF($C$2=\"OFFPEAK\",M51*koszyki!$A$14+(N51)*24+J51,IF($C$2=\"BASE5\",M51*koszyki!$A$14+J51,IF($C$2=\"PEAK7\",(B51-A51+1)*koszyki!$A$14,M51*koszyki!$A$14))))","v":24},{"$f":"'Kalkulator Depozytów'!M56","v":0},{"$f":"'Kalkulator Depozytów'!N56","v":0},{"$f":"'Kalkulator Depozytów'!O56","v":0},{"$f":"'Kalkulator Depozytów'!P56","v":0},{"$f":"'Kalkulator Depozytów'!Q56","v":0},{"$f":"ROUND(AVERAGE(INDIRECT(\"krzywa!C\"&MATCH(A51-$A$2,krzywa!A:A,0)&\":C\"&MATCH(B51-$A$2,krzywa!A:A,0),TRUE)),4)","v":{"$error":"#N/A"}},null,0,null,{"$f":"NETWORKDAYS(A51,B51,koszyki!$M$20:$M$89)","v":0},{"$f":"B51-A51+1- NETWORKDAYS(A51,B51,koszyki!$M$20:$M$89)","v":1},null,{"$error":"#N/A"},{"$error":"#N/A"},{"$f":"VLOOKUP(A51,krzywa!L:N,3,1)","v":{"$error":"#N/A"}},{"$f":"VLOOKUP(B51,krzywa!L:N,3,1)","v":{"$error":"#N/A"}},{"$f":"IF('Kalkulator Depozytów'!$B$35=TRUE,1,(1+R51/100)*V51+(1+S51/100)*(1-V51))","v":{"$error":"#N/A"}},{"$f":"IF(R51<>S51,VLOOKUP(A51,krzywa!L:N,2,1))","v":{"$error":"#N/A"}},{"$f":"IF(U51<>FALSE,IF($C$2=\"GAS_BASE\",(U51-A51+1)*koszyki!$A$14+J51,IF($C$2=\"OFFPEAK\",M51*koszyki!$A$14+(N51)*24+J51,IF($C$2=\"BASE5\",M51*koszyki!$A$14+J51,IF($C$2=\"PEAK7\",(B51-A51+1)*koszyki!$A$14,M51*koszyki!$A$14))))/B51,1)","v":{"$error":"#N/A"}},null,null,null,null,null,null,null,null,null,null,null,null,null,null,"00:00:00",{"$f":"AK51-1","v":-1},-2,-3,null,{"$f":"NETWORKDAYS(AK51,AK51,koszyki!$M$20:$M$89)","v":0},{"$f":"NETWORKDAYS(AL51,AL51,koszyki!$M$20:$M$89)","v":{"$error":"#NUM!"}},{"$f":"NETWORKDAYS(AM51,AM51,koszyki!$M$20:$M$89)","v":{"$error":"#NUM!"}},{"$f":"NETWORKDAYS(AN51,AN51,koszyki!$M$20:$M$89)","v":{"$error":"#NUM!"}},null,0,{"$error":"#NUM!"},{"$error":"#NUM!"},{"$error":"#NUM!"},null,1]
[null,null,{"$f":"IF($C$2=\"GAS_BASE\",(B52-A52+1)*koszyki!$A$14+J52,IF($C$2=\"OFFPEAK\",M52*koszyki!$A$14+(N52)*24+J52,IF($C$2=\"BASE5\",M52*koszyki!$A$14+J52,IF($C$2=\"PEAK7\",(B52-A52+1)*koszyki!$A$14,M52*koszyki!$A$14))))","v":24},{"$f":"'Kalkulator Depozytów'!M57","v":0},{"$f":"'Kalkulator Depozytów'!N57","v":0},{"$f":"'Kalkulator Depozytów'!O57","v":0},{"$f":"'Kalkulator Depozytów'!P57","v":0},{"$f":"'Kalkulator Depozytów'!Q57","v":0},{"$f":"ROUND(AVERAGE(INDIRECT(\"krzywa!C\"&MATCH(A52-$A$2,krzywa!A:A,0)&\":C\"&MATCH(B52-$A$2,krzywa!A:A,0),TRUE)),4)","v":{"$error":"#N/A"}},null,0,null,{"$f":"NETWORKDAYS(A52,B52,koszyki!$M$20:$M$89)","v":0},{"$f":"B52-A52+1- NETWORKDAYS(A52,B52,koszyki!$M$20:$M$89)","v":1},null,{"$error":"#N/A"},{"$error":"#N/A"},{"$f":"VLOOKUP(A52,krzywa!L:N,3,1)","v":{"$error":"#N/A"}},{"$f":"VLOOKUP(B52,krzywa!L:N,3,1)","v":{"$error":"#N/A"}},{"$f":"IF('Kalkulator Depozytów'!$B$35=TRUE,1,(1+R52/100)*V52+(1+S52/100)*(1-V52))","v":{"$error":"#N/A"}},{"$f":"IF(R52<>S52,VLOOKUP(A52,krzywa!L:N,2,1))","v":{"$error":"#N/A"}},{"$f":"IF(U52<>FALSE,IF($C$2=\"GAS_BASE\",(U52-A52+1)*koszyki!$A$14+J52,IF($C$2=\"OFFPEAK\",M52*koszyki!$A$14+(N52)*24+J52,IF($C$2=\"BASE5\",M52*koszyki!$A$14+J52,IF($C$2=\"PEAK7\",(B52-A52+1)*koszyki!$A$14,M52*koszyki!$A$14))))/B52,1)","v":{"$error":"#N/A"}},null,null,null,null,null,null,null,null,null,null,null,null,null,null,"00:00:00",{"$f":"AK52-1","v":-1},-2,-3,null,{"$f":"NETWORKDAYS(AK52,AK52,koszyki!$M$20:$M$89)","v":0},{"$f":"NETWORKDAYS(AL52,AL52,koszyki!$M$20:$M$89)","v":{"$error":"#NUM!"}},{"$f":"NETWORKDAYS(AM52,AM52,koszyki!$M$20:$M$89)","v":{"$error":"#NUM!"}},{"$f":"NETWORKDAYS(AN52,AN52,koszyki!$M$20:$M$89)","v":{"$error":"#NUM!"}},null,0,{"$error":"#NUM!"},{"$error":"#NUM!"},{"$error":"#NUM!"},null,1]
[null,null,{"$f":"IF($C$2=\"GAS_BASE\",(B53-A53+1)*koszyki!$A$14+J53,IF($C$2=\"OFFPEAK\",M53*koszyki!$A$14+(N53)*24+J53,IF($C$2=\"BASE5\",M53*koszyki!$A$14+J53,IF($C$2=\"PEAK7\",(B53-A53+1)*koszyki!$A$14,M53*koszyki!$A$14))))","v":24},{"$f":"'Kalkulator Depozytów'!M58","v":0},{"$f":"'Kalkulator Depozytów'!N58","v":0},{"$f":"'Kalkulator Depozytów'!O58","v":0},{"$f":"'Kalkulator Depozytów'!P58","v":0},{"$f":"'Kalkulator Depozytów'!Q58","v":0},{"$f":"ROUND(AVERAGE(INDIRECT(\"krzywa!C\"&MATCH(A53-$A$2,krzywa!A:A,0)&\":C\"&MATCH(B53-$A$2,krzywa!A:A,0),TRUE)),4)","v":{"$error":"#N/A"}},null,0,null,{"$f":"NETWORKDAYS(A53,B53,koszyki!$M$20:$M$89)","v":0},{"$f":"B53-A53+1- NETWORKDAYS(A53,B53,koszyki!$M$20:$M$89)","v":1},null,{"$error":"#N/A"},{"$error":"#N/A"},{"$f":"VLOOKUP(A53,krzywa!L:N,3,1)","v":{"$error":"#N/A"}},{"$f":"VLOOKUP(B53,krzywa!L:N,3,1)","v":{"$error":"#N/A"}},{"$f":"IF('Kalkulator Depozytów'!$B$35=TRUE,1,(1+R53/100)*V53+(1+S53/100)*(1-V53))","v":{"$error":"#N/A"}},{"$f":"IF(R53<>S53,VLOOKUP(A53,krzywa!L:N,2,1))","v":{"$error":"#N/A"}},{"$f":"IF(U53<>FALSE,IF($C$2=\"GAS_BASE\",(U53-A53+1)*koszyki!$A$14+J53,IF($C$2=\"OFFPEAK\",M53*koszyki!$A$14+(N53)*24+J53,IF($C$2=\"BASE5\",M53*koszyki!$A$14+J53,IF($C$2=\"PEAK7\",(B53-A53+1)*koszyki!$A$14,M53*koszyki!$A$14))))/B53,1)","v":{"$error":"#N/A"}},null,null,null,null,null,null,null,null,null,null,null,null,null,null,"00:00:00",{"$f":"AK53-1","v":-1},-2,-3,null,{"$f":"NETWORKDAYS(AK53,AK53,koszyki!$M$20:$M$89)","v":0},{"$f":"NETWORKDAYS(AL53,AL53,koszyki!$M$20:$M$89)","v":{"$error":"#NUM!"}},{"$f":"NETWORKDAYS(AM53,AM53,koszyki!$M$20:$M$89)","v":{"$error":"#NUM!"}},{"$f":"NETWORKDAYS(AN53,AN53,koszyki!$M$20:$M$89)","v":{"$error":"#NUM!"}},null,0,{"$error":"#NUM!"},{"$error":"#NUM!"},{"$error":"#NUM!"},null,1]
[null,null,{"$f":"IF($C$2=\"GAS_BASE\",(B54-A54+1)*koszyki!$A$14+J54,IF($C$2=\"OFFPEAK\",M54*koszyki!$A$14+(N54)*24+J54,IF($C$2=\"BASE5\",M54*koszyki!$A$14+J54,IF($C$2=\"PEAK7\",(B54-A54+1)*koszyki!$A$14,M54*koszyki!$A$14))))","v":24},{"$f":"'Kalkulator Depozytów'!M59","v":0},{"$f":"'Kalkulator Depozytów'!N59","v":0},{"$f":"'Kalkulator Depozytów'!O59","v":0},{"$f":"'Kalkulator Depozytów'!P59","v":0},{"$f":"'Kalkulator Depozytów'!Q59","v":0},{"$f":"ROUND(AVERAGE(INDIRECT(\"krzywa!C\"&MATCH(A54-$A$2,krzywa!A:A,0)&\":C\"&MATCH(B54-$A$2,krzywa!A:A,0),TRUE)),4)","v":{"$error":"#N/A"}},null,0,null,{"$f":"NETWORKDAYS(A54,B54,koszyki!$M$20:$M$89)","v":0},{"$f":"B54-A54+1- NETWORKDAYS(A54,B54,koszyki!$M$20:$M$89)","v":1},null,{"$error":"#N/A"},{"$error":"#N/A"},{"$f":"VLOOKUP(A54,krzywa!L:N,3,1)","v":{"$error":"#N/A"}},{"$f":"VLOOKUP(B54,krzywa!L:N,3,1)","v":{"$error":"#N/A"}},{"$f":"IF('Kalkulator Depozytów'!$B$35=TRUE,1,(1+R54/100)*V54+(1+S54/100)*(1-V54))","v":{"$error":"#N/A"}},{"$f":"IF(R54<>S54,VLOOKUP(A54,krzywa!L:N,2,1))","v":{"$error":"#N/A"}},{"$f":"IF(U54<>FALSE,IF($C$2=\"GAS_BASE\",(U54-A54+1)*koszyki!$A$14+J54,IF($C$2=\"OFFPEAK\",M54*koszyki!$A$14+(N54)*24+J54,IF($C$2=\"BASE5\",M54*koszyki!$A$14+J54,IF($C$2=\"PEAK7\",(B54-A54+1)*koszyki!$A$14,M54*koszyki!$A$14))))/B54,1)","v":{"$error":"#N/A"}},null,null,null,null,null,null,null,null,null,null,null,null,null,null,"00:00:00",{"$f":"AK54-1","v":-1},-2,-3,null,{"$f":"NETWORKDAYS(AK54,AK54,koszyki!$M$20:$M$89)","v":0},{"$f":"NETWORKDAYS(AL54,AL54,koszyki!$M$20:$M$89)","v":{"$error":"#NUM!"}},{"$f":"NETWORKDAYS(AM54,AM54,koszyki!$M$20:$M$89)","v":{"$error":"#NUM!"}},{"$f":"NETWORKDAYS(AN54,AN54,koszyki!$M$20:$M$89)","v":{"$error":"#NUM!"}},null,0,{"$error":"#NUM!"},{"$error":"#NUM!"},{"$error":"#NUM!"},null,1]
[null,null,{"$f":"IF($C$2=\"GAS_BASE\",(B55-A55+1)*koszyki!$A$14+J55,IF($C$2=\"OFFPEAK\",M55*koszyki!$A$14+(N55)*24+J55,IF($C$2=\"BASE5\",M55*koszyki!$A$14+J55,IF($C$2=\"PEAK7\",(B55-A55+1)*koszyki!$A$14,M55*koszyki!$A$14))))","v":24},{"$f":"'Kalkulator Depozytów'!M60","v":0},{"$f":"'Kalkulator Depozytów'!N60","v":0},{"$f":"'Kalkulator Depozytów'!O60","v":0},{"$f":"'Kalkulator Depozytów'!P60","v":0},{"$f":"'Kalkulator Depozytów'!Q60","v":0},{"$f":"ROUND(AVERAGE(INDIRECT(\"krzywa!C\"&MATCH(A55-$A$2,krzywa!A:A,0)&\":C\"&MATCH(B55-$A$2,krzywa!A:A,0),TRUE)),4)","v":{"$error":"#N/A"}},null,0,null,{"$f":"NETWORKDAYS(A55,B55,koszyki!$M$20:$M$89)","v":0},{"$f":"B55-A55+1- NETWORKDAYS(A55,B55,koszyki!$M$20:$M$89)","v":1},null,{"$error":"#N/A"},{"$error":"#N/A"},{"$f":"VLOOKUP(A55,krzywa!L:N,3,1)","v":{"$error":"#N/A"}},{"$f":"VLOOKUP(B55,krzywa!L:N,3,1)","v":{"$error":"#N/A"}},{"$f":"IF('Kalkulator Depozytów'!$B$35=TRUE,1,(1+R55/100)*V55+(1+S55/100)*(1-V55))","v":{"$error":"#N/A"}},{"$f":"IF(R55<>S55,VLOOKUP(A55,krzywa!L:N,2,1))","v":{"$error":"#N/A"}},{"$f":"IF(U55<>FALSE,IF($C$2=\"GAS_BASE\",(U55-A55+1)*koszyki!$A$14+J55,IF($C$2=\"OFFPEAK\",M55*koszyki!$A$14+(N55)*24+J55,IF($C$2=\"BASE5\",M55*koszyki!$A$14+J55,IF($C$2=\"PEAK7\",(B55-A55+1)*koszyki!$A$14,M55*koszyki!$A$14))))/B55,1)","v":{"$error":"#N/A"}},null,null,null,null,null,null,null,null,null,null,null,null,null,null,"00:00:00",{"$f":"AK55-1","v":-1},-2,-3,null,{"$f":"NETWORKDAYS(AK55,AK55,koszyki!$M$20:$M$89)","v":0},{"$f":"NETWORKDAYS(AL55,AL55,koszyki!$M$20:$M$89)","v":{"$error":"#NUM!"}},{"$f":"NETWORKDAYS(AM55,AM55,koszyki!$M$20:$M$89)","v":{"$error":"#NUM!"}},{"$f":"NETWORKDAYS(AN55,AN55,koszyki!$M$20:$M$89)","v":{"$error":"#NUM!"}},null,0,{"$error":"#NUM!"},{"$error":"#NUM!"},{"$error":"#NUM!"},null,1]
[null,null,{"$f":"IF($C$2=\"GAS_BASE\",(B56-A56+1)*koszyki!$A$14+J56,IF($C$2=\"OFFPEAK\",M56*koszyki!$A$14+(N56)*24+J56,IF($C$2=\"BASE5\",M56*koszyki!$A$14+J56,IF($C$2=\"PEAK7\",(B56-A56+1)*koszyki!$A$14,M56*koszyki!$A$14))))","v":24},{"$f":"'Kalkulator Depozytów'!M61","v":0},{"$f":"'Kalkulator Depozytów'!N61","v":0},{"$f":"'Kalkulator Depozytów'!O61","v":0},{"$f":"'Kalkulator Depozytów'!P61","v":0},{"$f":"'Kalkulator Depozytów'!Q61","v":0},{"$f":"ROUND(AVERAGE(INDIRECT(\"krzywa!C\"&MATCH(A56-$A$2,krzywa!A:A,0)&\":C\"&MATCH(B56-$A$2,krzywa!A:A,0),TRUE)),4)","v":{"$error":"#N/A"}},null,0,null,{"$f":"NETWORKDAYS(A56,B56,koszyki!$M$20:$M$89)","v":0},{"$f":"B56-A56+1- NETWORKDAYS(A56,B56,koszyki!$M$20:$M$89)","v":1},null,{"$error":"#N/A"},{"$error":"#N/A"},{"$f":"VLOOKUP(A56,krzywa!L:N,3,1)","v":{"$error":"#N/A"}},{"$f":"VLOOKUP(B56,krzywa!L:N,3,1)","v":{"$error":"#N/A"}},{"$f":"IF('Kalkulator Depozytów'!$B$35=TRUE,1,(1+R56/100)*V56+(1+S56/100)*(1-V56))","v":{"$error":"#N/A"}},{"$f":"IF(R56<>S56,VLOOKUP(A56,krzywa!L:N,2,1))","v":{"$error":"#N/A"}},{"$f":"IF(U56<>FALSE,IF($C$2=\"GAS_BASE\",(U56-A56+1)*koszyki!$A$14+J56,IF($C$2=\"OFFPEAK\",M56*koszyki!$A$14+(N56)*24+J56,IF($C$2=\"BASE5\",M56*koszyki!$A$14+J56,IF($C$2=\"PEAK7\",(B56-A56+1)*koszyki!$A$14,M56*koszyki!$A$14))))/B56,1)","v":{"$error":"#N/A"}},null,null,null,null,null,null,null,null,null,null,null,null,null,null,"00:00:00",{"$f":"AK56-1","v":-1},-2,-3,null,{"$f":"NETWORKDAYS(AK56,AK56,koszyki!$M$20:$M$89)","v":0},{"$f":"NETWORKDAYS(AL56,AL56,koszyki!$M$20:$M$89)","v":{"$error":"#NUM!"}},{"$f":"NETWORKDAYS(AM56,AM56,koszyki!$M$20:$M$89)","v":{"$error":"#NUM!"}},{"$f":"NETWORKDAYS(AN56,AN56,koszyki!$M$20:$M$89)","v":{"$error":"#NUM!"}},null,0,{"$error":"#NUM!"},{"$error":"#NUM!"},{"$error":"#NUM!"},null,1]
[null,null,{"$f":"IF($C$2=\"GAS_BASE\",(B57-A57+1)*koszyki!$A$14+J57,IF($C$2=\"OFFPEAK\",M57*koszyki!$A$14+(N57)*24+J57,IF($C$2=\"BASE5\",M57*koszyki!$A$14+J57,IF($C$2=\"PEAK7\",(B57-A57+1)*koszyki!$A$14,M57*koszyki!$A$14))))","v":24},{"$f":"'Kalkulator Depozytów'!M62","v":0},{"$f":"'Kalkulator Depozytów'!N62","v":0},{"$f":"'Kalkulator Depozytów'!O62","v":0},{"$f":"'Kalkulator Depozytów'!P62","v":0},{"$f":"'Kalkulator Depozytów'!Q62","v":0},{"$f":"ROUND(AVERAGE(INDIRECT(\"krzywa!C\"&MATCH(A57-$A$2,krzywa!A:A,0)&\":C\"&MATCH(B57-$A$2,krzywa!A:A,0),TRUE)),4)","v":{"$error":"#N/A"}},null,0,null,{"$f":"NETWORKDAYS(A57,B57,koszyki!$M$20:$M$89)","v":0},{"$f":"B57-A57+1- NETWORKDAYS(A57,B57,koszyki!$M$20:$M$89)","v":1},null,{"$error":"#N/A"},{"$error":"#N/A"},{"$f":"VLOOKUP(A57,krzywa!L:N,3,1)","v":{"$error":"#N/A"}},{"$f":"VLOOKUP(B57,krzywa!L:N,3,1)","v":{"$error":"#N/A"}},{"$f":"IF('Kalkulator Depozytów'!$B$35=TRUE,1,(1+R57/100)*V57+(1+S57/100)*(1-V57))","v":{"$error":"#N/A"}},{"$f":"IF(R57<>S57,VLOOKUP(A57,krzywa!L:N,2,1))","v":{"$error":"#N/A"}},{"$f":"IF(U57<>FALSE,IF($C$2=\"GAS_BASE\",(U57-A57+1)*koszyki!$A$14+J57,IF($C$2=\"OFFPEAK\",M57*koszyki!$A$14+(N57)*24+J57,IF($C$2=\"BASE5\",M57*koszyki!$A$14+J57,IF($C$2=\"PEAK7\",(B57-A57+1)*koszyki!$A$14,M57*koszyki!$A$14))))/B57,1)","v":{"$error":"#N/A"}},null,null,null,null,null,null,null,null,null,null,null,null,null,null,"00:00:00",{"$f":"AK57-1","v":-1},-2,-3,null,{"$f":"NETWORKDAYS(AK57,AK57,koszyki!$M$20:$M$89)","v":0},{"$f":"NETWORKDAYS(AL57,AL57,koszyki!$M$20:$M$89)","v":{"$error":"#NUM!"}},{"$f":"NETWORKDAYS(AM57,AM57,koszyki!$M$20:$M$89)","v":{"$error":"#NUM!"}},{"$f":"NETWORKDAYS(AN57,AN57,koszyki!$M$20:$M$89)","v":{"$error":"#NUM!"}},null,0,{"$error":"#NUM!"},{"$error":"#NUM!"},{"$error":"#NUM!"},null,1]
[null,null,{"$f":"IF($C$2=\"GAS_BASE\",(B58-A58+1)*koszyki!$A$14+J58,IF($C$2=\"OFFPEAK\",M58*koszyki!$A$14+(N58)*24+J58,IF($C$2=\"BASE5\",M58*koszyki!$A$14+J58,IF($C$2=\"PEAK7\",(B58-A58+1)*koszyki!$A$14,M58*koszyki!$A$14))))","v":24},{"$f":"'Kalkulator Depozytów'!M63","v":0},{"$f":"'Kalkulator Depozytów'!N63","v":0},{"$f":"'Kalkulator Depozytów'!O63","v":0},{"$f":"'Kalkulator Depozytów'!P63","v":0},{"$f":"'Kalkulator Depozytów'!Q63","v":0},{"$f":"ROUND(AVERAGE(INDIRECT(\"krzywa!C\"&MATCH(A58-$A$2,krzywa!A:A,0)&\":C\"&MATCH(B58-$A$2,krzywa!A:A,0),TRUE)),4)","v":{"$error":"#N/A"}},null,0,null,{"$f":"NETWORKDAYS(A58,B58,koszyki!$M$20:$M$89)","v":0},{"$f":"B58-A58+1- NETWORKDAYS(A58,B58,koszyki!$M$20:$M$89)","v":1},null,{"$error":"#N/A"},{"$error":"#N/A"},{"$f":"VLOOKUP(A58,krzywa!L:N,3,1)","v":{"$error":"#N/A"}},{"$f":"VLOOKUP(B58,krzywa!L:N,3,1)","v":{"$error":"#N/A"}},{"$f":"IF('Kalkulator Depozytów'!$B$35=TRUE,1,(1+R58/100)*V58+(1+S58/100)*(1-V58))","v":{"$error":"#N/A"}},{"$f":"IF(R58<>S58,VLOOKUP(A58,krzywa!L:N,2,1))","v":{"$error":"#N/A"}},{"$f":"IF(U58<>FALSE,IF($C$2=\"GAS_BASE\",(U58-A58+1)*koszyki!$A$14+J58,IF($C$2=\"OFFPEAK\",M58*koszyki!$A$14+(N58)*24+J58,IF($C$2=\"BASE5\",M58*koszyki!$A$14+J58,IF($C$2=\"PEAK7\",(B58-A58+1)*koszyki!$A$14,M58*koszyki!$A$14))))/B58,1)","v":{"$error":"#N/A"}},null,null,null,null,null,null,null,null,null,null,null,null,null,null,"00:00:00",{"$f":"AK58-1","v":-1},-2,-3,null,{"$f":"NETWORKDAYS(AK58,AK58,koszyki!$M$20:$M$89)","v":0},{"$f":"NETWORKDAYS(AL58,AL58,koszyki!$M$20:$M$89)","v":{"$error":"#NUM!"}},{"$f":"NETWORKDAYS(AM58,AM58,koszyki!$M$20:$M$89)","v":{"$error":"#NUM!"}},{"$f":"NETWORKDAYS(AN58,AN58,koszyki!$M$20:$M$89)","v":{"$error":"#NUM!"}},null,0,{"$error":"#NUM!"},{"$error":"#NUM!"},{"$error":"#NUM!"},null,1]
[null,null,{"$f":"IF($C$2=\"GAS_BASE\",(B59-A59+1)*koszyki!$A$14+J59,IF($C$2=\"OFFPEAK\",M59*koszyki!$A$14+(N59)*24+J59,IF($C$2=\"BASE5\",M59*koszyki!$A$14+J59,IF($C$2=\"PEAK7\",(B59-A59+1)*koszyki!$A$14,M59*koszyki!$A$14))))","v":24},{"$f":"'Kalkulator Depozytów'!M64","v":0},{"$f":"'Kalkulator Depozytów'!N64","v":0},{"$f":"'Kalkulator Depozytów'!O64","v":0},{"$f":"'Kalkulator Depozytów'!P64","v":0},{"$f":"'Kalkulator Depozytów'!Q64","v":0},{"$f":"ROUND(AVERAGE(INDIRECT(\"krzywa!C\"&MATCH(A59-$A$2,krzywa!A:A,0)&\":C\"&MATCH(B59-$A$2,krzywa!A:A,0),TRUE)),4)","v":{"$error":"#N/A"}},null,0,null,{"$f":"NETWORKDAYS(A59,B59,koszyki!$M$20:$M$89)","v":0},{"$f":"B59-A59+1- NETWORKDAYS(A59,B59,koszyki!$M$20:$M$89)","v":1},null,{"$error":"#N/A"},{"$error":"#N/A"},{"$f":"VLOOKUP(A59,krzywa!L:N,3,1)","v":{"$error":"#N/A"}},{"$f":"VLOOKUP(B59,krzywa!L:N,3,1)","v":{"$error":"#N/A"}},{"$f":"IF('Kalkulator Depozytów'!$B$35=TRUE,1,(1+R59/100)*V59+(1+S59/100)*(1-V59))","v":{"$error":"#N/A"}},{"$f":"IF(R59<>S59,VLOOKUP(A59,krzywa!L:N,2,1))","v":{"$error":"#N/A"}},{"$f":"IF(U59<>FALSE,IF($C$2=\"GAS_BASE\",(U59-A59+1)*koszyki!$A$14+J59,IF($C$2=\"OFFPEAK\",M59*koszyki!$A$14+(N59)*24+J59,IF($C$2=\"BASE5\",M59*koszyki!$A$14+J59,IF($C$2=\"PEAK7\",(B59-A59+1)*koszyki!$A$14,M59*koszyki!$A$14))))/B59,1)","v":{"$error":"#N/A"}},null,null,null,null,null,null,null,null,null,null,null,null,null,null,"00:00:00",{"$f":"AK59-1","v":-1},-2,-3,null,{"$f":"NETWORKDAYS(AK59,AK59,koszyki!$M$20:$M$89)","v":0},{"$f":"NETWORKDAYS(AL59,AL59,koszyki!$M$20:$M$89)","v":{"$error":"#NUM!"}},{"$f":"NETWORKDAYS(AM59,AM59,koszyki!$M$20:$M$89)","v":{"$error":"#NUM!"}},{"$f":"NETWORKDAYS(AN59,AN59,koszyki!$M$20:$M$89)","v":{"$error":"#NUM!"}},null,0,{"$error":"#NUM!"},{"$error":"#NUM!"},{"$error":"#NUM!"},null,1]
[null,null,{"$f":"IF($C$2=\"GAS_BASE\",(B60-A60+1)*koszyki!$A$14+J60,IF($C$2=\"OFFPEAK\",M60*koszyki!$A$14+(N60)*24+J60,IF($C$2=\"BASE5\",M60*koszyki!$A$14+J60,IF($C$2=\"PEAK7\",(B60-A60+1)*koszyki!$A$14,M60*koszyki!$A$14))))","v":24},{"$f":"'Kalkulator Depozytów'!M65","v":0},{"$f":"'Kalkulator Depozytów'!N65","v":0},{"$f":"'Kalkulator Depozytów'!O65","v":0},{"$f":"'Kalkulator Depozytów'!P65","v":0},{"$f":"'Kalkulator Depozytów'!Q65","v":0},{"$f":"ROUND(AVERAGE(INDIRECT(\"krzywa!C\"&MATCH(A60-$A$2,krzywa!A:A,0)&\":C\"&MATCH(B60-$A$2,krzywa!A:A,0),TRUE)),4)","v":{"$error":"#N/A"}},null,0,null,{"$f":"NETWORKDAYS(A60,B60,koszyki!$M$20:$M$89)","v":0},{"$f":"B60-A60+1- NETWORKDAYS(A60,B60,koszyki!$M$20:$M$89)","v":1},null,{"$error":"#N/A"},{"$error":"#N/A"},{"$f":"VLOOKUP(A60,krzywa!L:N,3,1)","v":{"$error":"#N/A"}},{"$f":"VLOOKUP(B60,krzywa!L:N,3,1)","v":{"$error":"#N/A"}},{"$f":"IF('Kalkulator Depozytów'!$B$35=TRUE,1,(1+R60/100)*V60+(1+S60/100)*(1-V60))","v":{"$error":"#N/A"}},{"$f":"IF(R60<>S60,VLOOKUP(A60,krzywa!L:N,2,1))","v":{"$error":"#N/A"}},{"$f":"IF(U60<>FALSE,IF($C$2=\"GAS_BASE\",(U60-A60+1)*koszyki!$A$14+J60,IF($C$2=\"OFFPEAK\",M60*koszyki!$A$14+(N60)*24+J60,IF($C$2=\"BASE5\",M60*koszyki!$A$14+J60,IF($C$2=\"PEAK7\",(B60-A60+1)*koszyki!$A$14,M60*koszyki!$A$14))))/B60,1)","v":{"$error":"#N/A"}},null,null,null,null,null,null,null,null,null,null,null,null,null,null,"00:00:00",{"$f":"AK60-1","v":-1},-2,-3,null,{"$f":"NETWORKDAYS(AK60,AK60,koszyki!$M$20:$M$89)","v":0},{"$f":"NETWORKDAYS(AL60,AL60,koszyki!$M$20:$M$89)","v":{"$error":"#NUM!"}},{"$f":"NETWORKDAYS(AM60,AM60,koszyki!$M$20:$M$89)","v":{"$error":"#NUM!"}},{"$f":"NETWORKDAYS(AN60,AN60,koszyki!$M$20:$M$89)","v":{"$error":"#NUM!"}},null,0,{"$error":"#NUM!"},{"$error":"#NUM!"},{"$error":"#NUM!"},null,1]
[null,null,{"$f":"IF($C$2=\"GAS_BASE\",(B61-A61+1)*koszyki!$A$14+J61,IF($C$2=\"OFFPEAK\",M61*koszyki!$A$14+(N61)*24+J61,IF($C$2=\"BASE5\",M61*koszyki!$A$14+J61,IF($C$2=\"PEAK7\",(B61-A61+1)*koszyki!$A$14,M61*koszyki!$A$14))))","v":24},{"$f":"'Kalkulator Depozytów'!M66","v":0},{"$f":"'Kalkulator Depozytów'!N66","v":0},{"$f":"'Kalkulator Depozytów'!O66","v":0},{"$f":"'Kalkulator Depozytów'!P66","v":0},{"$f":"'Kalkulator Depozytów'!Q66","v":0},{"$f":"ROUND(AVERAGE(INDIRECT(\"krzywa!C\"&MATCH(A61-$A$2,krzywa!A:A,0)&\":C\"&MATCH(B61-$A$2,krzywa!A:A,0),TRUE)),4)","v":{"$error":"#N/A"}},null,0,null,{"$f":"NETWORKDAYS(A61,B61,koszyki!$M$20:$M$89)","v":0},{"$f":"B61-A61+1- NETWORKDAYS(A61,B61,koszyki!$M$20:$M$89)","v":1},null,{"$error":"#N/A"},{"$error":"#N/A"},{"$f":"VLOOKUP(A61,krzywa!L:N,3,1)","v":{"$error":"#N/A"}},{"$f":"VLOOKUP(B61,krzywa!L:N,3,1)","v":{"$error":"#N/A"}},{"$f":"IF('Kalkulator Depozytów'!$B$35=TRUE,1,(1+R61/100)*V61+(1+S61/100)*(1-V61))","v":{"$error":"#N/A"}},{"$f":"IF(R61<>S61,VLOOKUP(A61,krzywa!L:N,2,1))","v":{"$error":"#N/A"}},{"$f":"IF(U61<>FALSE,IF($C$2=\"GAS_BASE\",(U61-A61+1)*koszyki!$A$14+J61,IF($C$2=\"OFFPEAK\",M61*koszyki!$A$14+(N61)*24+J61,IF($C$2=\"BASE5\",M61*koszyki!$A$14+J61,IF($C$2=\"PEAK7\",(B61-A61+1)*koszyki!$A$14,M61*koszyki!$A$14))))/B61,1)","v":{"$error":"#N/A"}},null,null,null,null,null,null,null,null,null,null,null,null,null,null,"00:00:00",{"$f":"AK61-1","v":-1},-2,-3,null,{"$f":"NETWORKDAYS(AK61,AK61,koszyki!$M$20:$M$89)","v":0},{"$f":"NETWORKDAYS(AL61,AL61,koszyki!$M$20:$M$89)","v":{"$error":"#NUM!"}},{"$f":"NETWORKDAYS(AM61,AM61,koszyki!$M$20:$M$89)","v":{"$error":"#NUM!"}},{"$f":"NETWORKDAYS(AN61,AN61,koszyki!$M$20:$M$89)","v":{"$error":"#NUM!"}},null,0,{"$error":"#NUM!"},{"$error":"#NUM!"},{"$error":"#NUM!"},null,1]
[null,null,{"$f":"IF($C$2=\"GAS_BASE\",(B62-A62+1)*koszyki!$A$14+J62,IF($C$2=\"OFFPEAK\",M62*koszyki!$A$14+(N62)*24+J62,IF($C$2=\"BASE5\",M62*koszyki!$A$14+J62,IF($C$2=\"PEAK7\",(B62-A62+1)*koszyki!$A$14,M62*koszyki!$A$14))))","v":24},{"$f":"'Kalkulator Depozytów'!M67","v":0},{"$f":"'Kalkulator Depozytów'!N67","v":0},{"$f":"'Kalkulator Depozytów'!O67","v":0},{"$f":"'Kalkulator Depozytów'!P67","v":0},{"$f":"'Kalkulator Depozytów'!Q67","v":0},{"$f":"ROUND(AVERAGE(INDIRECT(\"krzywa!C\"&MATCH(A62-$A$2,krzywa!A:A,0)&\":C\"&MATCH(B62-$A$2,krzywa!A:A,0),TRUE)),4)","v":{"$error":"#N/A"}},null,0,null,{"$f":"NETWORKDAYS(A62,B62,koszyki!$M$20:$M$89)","v":0},{"$f":"B62-A62+1- NETWORKDAYS(A62,B62,koszyki!$M$20:$M$89)","v":1},null,{"$error":"#N/A"},{"$error":"#N/A"},{"$f":"VLOOKUP(A62,krzywa!L:N,3,1)","v":{"$error":"#N/A"}},{"$f":"VLOOKUP(B62,krzywa!L:N,3,1)","v":{"$error":"#N/A"}},{"$f":"IF('Kalkulator Depozytów'!$B$35=TRUE,1,(1+R62/100)*V62+(1+S62/100)*(1-V62))","v":{"$error":"#N/A"}},{"$f":"IF(R62<>S62,VLOOKUP(A62,krzywa!L:N,2,1))","v":{"$error":"#N/A"}},{"$f":"IF(U62<>FALSE,IF($C$2=\"GAS_BASE\",(U62-A62+1)*koszyki!$A$14+J62,IF($C$2=\"OFFPEAK\",M62*koszyki!$A$14+(N62)*24+J62,IF($C$2=\"BASE5\",M62*koszyki!$A$14+J62,IF($C$2=\"PEAK7\",(B62-A62+1)*koszyki!$A$14,M62*koszyki!$A$14))))/B62,1)","v":{"$error":"#N/A"}},null,null,null,null,null,null,null,null,null,null,null,null,null,null,"00:00:00",{"$f":"AK62-1","v":-1},-2,-3,null,{"$f":"NETWORKDAYS(AK62,AK62,koszyki!$M$20:$M$89)","v":0},{"$f":"NETWORKDAYS(AL62,AL62,koszyki!$M$20:$M$89)","v":{"$error":"#NUM!"}},{"$f":"NETWORKDAYS(AM62,AM62,koszyki!$M$20:$M$89)","v":{"$error":"#NUM!"}},{"$f":"NETWORKDAYS(AN62,AN62,koszyki!$M$20:$M$89)","v":{"$error":"#NUM!"}},null,0,{"$error":"#NUM!"},{"$error":"#NUM!"},{"$error":"#NUM!"},null,1]
[null,null,{"$f":"IF($C$2=\"GAS_BASE\",(B63-A63+1)*koszyki!$A$14+J63,IF($C$2=\"OFFPEAK\",M63*koszyki!$A$14+(N63)*24+J63,IF($C$2=\"BASE5\",M63*koszyki!$A$14+J63,IF($C$2=\"PEAK7\",(B63-A63+1)*koszyki!$A$14,M63*koszyki!$A$14))))","v":24},{"$f":"'Kalkulator Depozytów'!M68","v":0},{"$f":"'Kalkulator Depozytów'!N68","v":0},{"$f":"'Kalkulator Depozytów'!O68","v":0},{"$f":"'Kalkulator Depozytów'!P68","v":0},{"$f":"'Kalkulator Depozytów'!Q68","v":0},{"$f":"ROUND(AVERAGE(INDIRECT(\"krzywa!C\"&MATCH(A63-$A$2,krzywa!A:A,0)&\":C\"&MATCH(B63-$A$2,krzywa!A:A,0),TRUE)),4)","v":{"$error":"#N/A"}},null,0,null,{"$f":"NETWORKDAYS(A63,B63,koszyki!$M$20:$M$89)","v":0},{"$f":"B63-A63+1- NETWORKDAYS(A63,B63,koszyki!$M$20:$M$89)","v":1},null,{"$error":"#N/A"},{"$error":"#N/A"},{"$f":"VLOOKUP(A63,krzywa!L:N,3,1)","v":{"$error":"#N/A"}},{"$f":"VLOOKUP(B63,krzywa!L:N,3,1)","v":{"$error":"#N/A"}},{"$f":"IF('Kalkulator Depozytów'!$B$35=TRUE,1,(1+R63/100)*V63+(1+S63/100)*(1-V63))","v":{"$error":"#N/A"}},{"$f":"IF(R63<>S63,VLOOKUP(A63,krzywa!L:N,2,1))","v":{"$error":"#N/A"}},{"$f":"IF(U63<>FALSE,IF($C$2=\"GAS_BASE\",(U63-A63+1)*koszyki!$A$14+J63,IF($C$2=\"OFFPEAK\",M63*koszyki!$A$14+(N63)*24+J63,IF($C$2=\"BASE5\",M63*koszyki!$A$14+J63,IF($C$2=\"PEAK7\",(B63-A63+1)*koszyki!$A$14,M63*koszyki!$A$14))))/B63,1)","v":{"$error":"#N/A"}},null,null,null,null,null,null,null,null,null,null,null,null,null,null,"00:00:00",{"$f":"AK63-1","v":-1},-2,-3,null,{"$f":"NETWORKDAYS(AK63,AK63,koszyki!$M$20:$M$89)","v":0},{"$f":"NETWORKDAYS(AL63,AL63,koszyki!$M$20:$M$89)","v":{"$error":"#NUM!"}},{"$f":"NETWORKDAYS(AM63,AM63,koszyki!$M$20:$M$89)","v":{"$error":"#NUM!"}},{"$f":"NETWORKDAYS(AN63,AN63,koszyki!$M$20:$M$89)","v":{"$error":"#NUM!"}},null,0,{"$error":"#NUM!"},{"$error":"#NUM!"},{"$error":"#NUM!"},null,1]
[null,null,{"$f":"IF($C$2=\"GAS_BASE\",(B64-A64+1)*koszyki!$A$14+J64,IF($C$2=\"OFFPEAK\",M64*koszyki!$A$14+(N64)*24+J64,IF($C$2=\"BASE5\",M64*koszyki!$A$14+J64,IF($C$2=\"PEAK7\",(B64-A64+1)*koszyki!$A$14,M64*koszyki!$A$14))))","v":24},{"$f":"'Kalkulator Depozytów'!M69","v":0},{"$f":"'Kalkulator Depozytów'!N69","v":0},{"$f":"'Kalkulator Depozytów'!O69","v":0},{"$f":"'Kalkulator Depozytów'!P69","v":0},{"$f":"'Kalkulator Depozytów'!Q69","v":0},{"$f":"ROUND(AVERAGE(INDIRECT(\"krzywa!C\"&MATCH(A64-$A$2,krzywa!A:A,0)&\":C\"&MATCH(B64-$A$2,krzywa!A:A,0),TRUE)),4)","v":{"$error":"#N/A"}},null,0,null,{"$f":"NETWORKDAYS(A64,B64,koszyki!$M$20:$M$89)","v":0},{"$f":"B64-A64+1- NETWORKDAYS(A64,B64,koszyki!$M$20:$M$89)","v":1},null,{"$error":"#N/A"},{"$error":"#N/A"},{"$f":"VLOOKUP(A64,krzywa!L:N,3,1)","v":{"$error":"#N/A"}},{"$f":"VLOOKUP(B64,krzywa!L:N,3,1)","v":{"$error":"#N/A"}},{"$f":"IF('Kalkulator Depozytów'!$B$35=TRUE,1,(1+R64/100)*V64+(1+S64/100)*(1-V64))","v":{"$error":"#N/A"}},{"$f":"IF(R64<>S64,VLOOKUP(A64,krzywa!L:N,2,1))","v":{"$error":"#N/A"}},{"$f":"IF(U64<>FALSE,IF($C$2=\"GAS_BASE\",(U64-A64+1)*koszyki!$A$14+J64,IF($C$2=\"OFFPEAK\",M64*koszyki!$A$14+(N64)*24+J64,IF($C$2=\"BASE5\",M64*koszyki!$A$14+J64,IF($C$2=\"PEAK7\",(B64-A64+1)*koszyki!$A$14,M64*koszyki!$A$14))))/B64,1)","v":{"$error":"#N/A"}},null,null,null,null,null,null,null,null,null,null,null,null,null,null,"00:00:00",{"$f":"AK64-1","v":-1},-2,-3,null,{"$f":"NETWORKDAYS(AK64,AK64,koszyki!$M$20:$M$89)","v":0},{"$f":"NETWORKDAYS(AL64,AL64,koszyki!$M$20:$M$89)","v":{"$error":"#NUM!"}},{"$f":"NETWORKDAYS(AM64,AM64,koszyki!$M$20:$M$89)","v":{"$error":"#NUM!"}},{"$f":"NETWORKDAYS(AN64,AN64,koszyki!$M$20:$M$89)","v":{"$error":"#NUM!"}},null,0,{"$error":"#NUM!"},{"$error":"#NUM!"},{"$error":"#NUM!"},null,1]
[null,null,{"$f":"IF($C$2=\"GAS_BASE\",(B65-A65+1)*koszyki!$A$14+J65,IF($C$2=\"OFFPEAK\",M65*koszyki!$A$14+(N65)*24+J65,IF($C$2=\"BASE5\",M65*koszyki!$A$14+J65,IF($C$2=\"PEAK7\",(B65-A65+1)*koszyki!$A$14,M65*koszyki!$A$14))))","v":24},{"$f":"'Kalkulator Depozytów'!M70","v":0},{"$f":"'Kalkulator Depozytów'!N70","v":0},{"$f":"'Kalkulator Depozytów'!O70","v":0},{"$f":"'Kalkulator Depozytów'!P70","v":0},{"$f":"'Kalkulator Depozytów'!Q70","v":0},{"$f":"ROUND(AVERAGE(INDIRECT(\"krzywa!C\"&MATCH(A65-$A$2,krzywa!A:A,0)&\":C\"&MATCH(B65-$A$2,krzywa!A:A,0),TRUE)),4)","v":{"$error":"#N/A"}},null,0,null,{"$f":"NETWORKDAYS(A65,B65,koszyki!$M$20:$M$89)","v":0},{"$f":"B65-A65+1- NETWORKDAYS(A65,B65,koszyki!$M$20:$M$89)","v":1},null,{"$error":"#N/A"},{"$error":"#N/A"},{"$f":"VLOOKUP(A65,krzywa!L:N,3,1)","v":{"$error":"#N/A"}},{"$f":"VLOOKUP(B65,krzywa!L:N,3,1)","v":{"$error":"#N/A"}},{"$f":"IF('Kalkulator Depozytów'!$B$35=TRUE,1,(1+R65/100)*V65+(1+S65/100)*(1-V65))","v":{"$error":"#N/A"}},{"$f":"IF(R65<>S65,VLOOKUP(A65,krzywa!L:N,2,1))","v":{"$error":"#N/A"}},{"$f":"IF(U65<>FALSE,IF($C$2=\"GAS_BASE\",(U65-A65+1)*koszyki!$A$14+J65,IF($C$2=\"OFFPEAK\",M65*koszyki!$A$14+(N65)*24+J65,IF($C$2=\"BASE5\",M65*koszyki!$A$14+J65,IF($C$2=\"PEAK7\",(B65-A65+1)*koszyki!$A$14,M65*koszyki!$A$14))))/B65,1)","v":{"$error":"#N/A"}},null,null,null,null,null,null,null,null,null,null,null,null,null,null,"00:00:00",{"$f":"AK65-1","v":-1},-2,-3,null,{"$f":"NETWORKDAYS(AK65,AK65,koszyki!$M$20:$M$89)","v":0},{"$f":"NETWORKDAYS(AL65,AL65,koszyki!$M$20:$M$89)","v":{"$error":"#NUM!"}},{"$f":"NETWORKDAYS(AM65,AM65,koszyki!$M$20:$M$89)","v":{"$error":"#NUM!"}},{"$f":"NETWORKDAYS(AN65,AN65,koszyki!$M$20:$M$89)","v":{"$error":"#NUM!"}},null,0,{"$error":"#NUM!"},{"$error":"#NUM!"},{"$error":"#NUM!"},null,1]
[null,null,{"$f":"IF($C$2=\"GAS_BASE\",(B66-A66+1)*koszyki!$A$14+J66,IF($C$2=\"OFFPEAK\",M66*koszyki!$A$14+(N66)*24+J66,IF($C$2=\"BASE5\",M66*koszyki!$A$14+J66,IF($C$2=\"PEAK7\",(B66-A66+1)*koszyki!$A$14,M66*koszyki!$A$14))))","v":24},{"$f":"'Kalkulator Depozytów'!M71","v":0},{"$f":"'Kalkulator Depozytów'!N71","v":0},{"$f":"'Kalkulator Depozytów'!O71","v":0},{"$f":"'Kalkulator Depozytów'!P71","v":0},{"$f":"'Kalkulator Depozytów'!Q71","v":0},{"$f":"ROUND(AVERAGE(INDIRECT(\"krzywa!C\"&MATCH(A66-$A$2,krzywa!A:A,0)&\":C\"&MATCH(B66-$A$2,krzywa!A:A,0),TRUE)),4)","v":{"$error":"#N/A"}},null,0,null,{"$f":"NETWORKDAYS(A66,B66,koszyki!$M$20:$M$89)","v":0},{"$f":"B66-A66+1- NETWORKDAYS(A66,B66,koszyki!$M$20:$M$89)","v":1},null,{"$error":"#N/A"},{"$error":"#N/A"},{"$f":"VLOOKUP(A66,krzywa!L:N,3,1)","v":{"$error":"#N/A"}},{"$f":"VLOOKUP(B66,krzywa!L:N,3,1)","v":{"$error":"#N/A"}},{"$f":"IF('Kalkulator Depozytów'!$B$35=TRUE,1,(1+R66/100)*V66+(1+S66/100)*(1-V66))","v":{"$error":"#N/A"}},{"$f":"IF(R66<>S66,VLOOKUP(A66,krzywa!L:N,2,1))","v":{"$error":"#N/A"}},{"$f":"IF(U66<>FALSE,IF($C$2=\"GAS_BASE\",(U66-A66+1)*koszyki!$A$14+J66,IF($C$2=\"OFFPEAK\",M66*koszyki!$A$14+(N66)*24+J66,IF($C$2=\"BASE5\",M66*koszyki!$A$14+J66,IF($C$2=\"PEAK7\",(B66-A66+1)*koszyki!$A$14,M66*koszyki!$A$14))))/B66,1)","v":{"$error":"#N/A"}},null,null,null,null,null,null,null,null,null,null,null,null,null,null,"00:00:00",{"$f":"AK66-1","v":-1},-2,-3,null,{"$f":"NETWORKDAYS(AK66,AK66,koszyki!$M$20:$M$89)","v":0},{"$f":"NETWORKDAYS(AL66,AL66,koszyki!$M$20:$M$89)","v":{"$error":"#NUM!"}},{"$f":"NETWORKDAYS(AM66,AM66,koszyki!$M$20:$M$89)","v":{"$error":"#NUM!"}},{"$f":"NETWORKDAYS(AN66,AN66,koszyki!$M$20:$M$89)","v":{"$error":"#NUM!"}},null,0,{"$error":"#NUM!"},{"$error":"#NUM!"},{"$error":"#NUM!"},null,1]
[null,null,{"$f":"IF($C$2=\"GAS_BASE\",(B67-A67+1)*koszyki!$A$14+J67,IF($C$2=\"OFFPEAK\",M67*koszyki!$A$14+(N67)*24+J67,IF($C$2=\"BASE5\",M67*koszyki!$A$14+J67,IF($C$2=\"PEAK7\",(B67-A67+1)*koszyki!$A$14,M67*koszyki!$A$14))))","v":24},{"$f":"'Kalkulator Depozytów'!M72","v":0},{"$f":"'Kalkulator Depozytów'!N72","v":0},{"$f":"'Kalkulator Depozytów'!O72","v":0},{"$f":"'Kalkulator Depozytów'!P72","v":0},{"$f":"'Kalkulator Depozytów'!Q72","v":0},{"$f":"ROUND(AVERAGE(INDIRECT(\"krzywa!C\"&MATCH(A67-$A$2,krzywa!A:A,0)&\":C\"&MATCH(B67-$A$2,krzywa!A:A,0),TRUE)),4)","v":{"$error":"#N/A"}},null,0,null,{"$f":"NETWORKDAYS(A67,B67,koszyki!$M$20:$M$89)","v":0},{"$f":"B67-A67+1- NETWORKDAYS(A67,B67,koszyki!$M$20:$M$89)","v":1},null,{"$error":"#N/A"},{"$error":"#N/A"},{"$f":"VLOOKUP(A67,krzywa!L:N,3,1)","v":{"$error":"#N/A"}},{"$f":"VLOOKUP(B67,krzywa!L:N,3,1)","v":{"$error":"#N/A"}},{"$f":"IF('Kalkulator Depozytów'!$B$35=TRUE,1,(1+R67/100)*V67+(1+S67/100)*(1-V67))","v":{"$error":"#N/A"}},{"$f":"IF(R67<>S67,VLOOKUP(A67,krzywa!L:N,2,1))","v":{"$error":"#N/A"}},{"$f":"IF(U67<>FALSE,IF($C$2=\"GAS_BASE\",(U67-A67+1)*koszyki!$A$14+J67,IF($C$2=\"OFFPEAK\",M67*koszyki!$A$14+(N67)*24+J67,IF($C$2=\"BASE5\",M67*koszyki!$A$14+J67,IF($C$2=\"PEAK7\",(B67-A67+1)*koszyki!$A$14,M67*koszyki!$A$14))))/B67,1)","v":{"$error":"#N/A"}},null,null,null,null,null,null,null,null,null,null,null,null,null,null,"00:00:00",{"$f":"AK67-1","v":-1},-2,-3,null,{"$f":"NETWORKDAYS(AK67,AK67,koszyki!$M$20:$M$89)","v":0},{"$f":"NETWORKDAYS(AL67,AL67,koszyki!$M$20:$M$89)","v":{"$error":"#NUM!"}},{"$f":"NETWORKDAYS(AM67,AM67,koszyki!$M$20:$M$89)","v":{"$error":"#NUM!"}},{"$f":"NETWORKDAYS(AN67,AN67,koszyki!$M$20:$M$89)","v":{"$error":"#NUM!"}},null,0,{"$error":"#NUM!"},{"$error":"#NUM!"},{"$error":"#NUM!"},null,1]
[null,null,{"$f":"IF($C$2=\"GAS_BASE\",(B68-A68+1)*koszyki!$A$14+J68,IF($C$2=\"OFFPEAK\",M68*koszyki!$A$14+(N68)*24+J68,IF($C$2=\"BASE5\",M68*koszyki!$A$14+J68,IF($C$2=\"PEAK7\",(B68-A68+1)*koszyki!$A$14,M68*koszyki!$A$14))))","v":24},{"$f":"'Kalkulator Depozytów'!M73","v":0},{"$f":"'Kalkulator Depozytów'!N73","v":0},{"$f":"'Kalkulator Depozytów'!O73","v":0},{"$f":"'Kalkulator Depozytów'!P73","v":0},{"$f":"'Kalkulator Depozytów'!Q73","v":0},{"$f":"ROUND(AVERAGE(INDIRECT(\"krzywa!C\"&MATCH(A68-$A$2,krzywa!A:A,0)&\":C\"&MATCH(B68-$A$2,krzywa!A:A,0),TRUE)),4)","v":{"$error":"#N/A"}},null,0,null,{"$f":"NETWORKDAYS(A68,B68,koszyki!$M$20:$M$89)","v":0},{"$f":"B68-A68+1- NETWORKDAYS(A68,B68,koszyki!$M$20:$M$89)","v":1},null,{"$error":"#N/A"},{"$error":"#N/A"},{"$f":"VLOOKUP(A68,krzywa!L:N,3,1)","v":{"$error":"#N/A"}},{"$f":"VLOOKUP(B68,krzywa!L:N,3,1)","v":{"$error":"#N/A"}},{"$f":"IF('Kalkulator Depozytów'!$B$35=TRUE,1,(1+R68/100)*V68+(1+S68/100)*(1-V68))","v":{"$error":"#N/A"}},{"$f":"IF(R68<>S68,VLOOKUP(A68,krzywa!L:N,2,1))","v":{"$error":"#N/A"}},{"$f":"IF(U68<>FALSE,IF($C$2=\"GAS_BASE\",(U68-A68+1)*koszyki!$A$14+J68,IF($C$2=\"OFFPEAK\",M68*koszyki!$A$14+(N68)*24+J68,IF($C$2=\"BASE5\",M68*koszyki!$A$14+J68,IF($C$2=\"PEAK7\",(B68-A68+1)*koszyki!$A$14,M68*koszyki!$A$14))))/B68,1)","v":{"$error":"#N/A"}},null,null,null,null,null,null,null,null,null,null,null,null,null,null,"00:00:00",{"$f":"AK68-1","v":-1},-2,-3,null,{"$f":"NETWORKDAYS(AK68,AK68,koszyki!$M$20:$M$89)","v":0},{"$f":"NETWORKDAYS(AL68,AL68,koszyki!$M$20:$M$89)","v":{"$error":"#NUM!"}},{"$f":"NETWORKDAYS(AM68,AM68,koszyki!$M$20:$M$89)","v":{"$error":"#NUM!"}},{"$f":"NETWORKDAYS(AN68,AN68,koszyki!$M$20:$M$89)","v":{"$error":"#NUM!"}},null,0,{"$error":"#NUM!"},{"$error":"#NUM!"},{"$error":"#NUM!"},null,1]
[null,null,{"$f":"IF($C$2=\"GAS_BASE\",(B69-A69+1)*koszyki!$A$14+J69,IF($C$2=\"OFFPEAK\",M69*koszyki!$A$14+(N69)*24+J69,IF($C$2=\"BASE5\",M69*koszyki!$A$14+J69,IF($C$2=\"PEAK7\",(B69-A69+1)*koszyki!$A$14,M69*koszyki!$A$14))))","v":24},{"$f":"'Kalkulator Depozytów'!M74","v":0},{"$f":"'Kalkulator Depozytów'!N74","v":0},{"$f":"'Kalkulator Depozytów'!O74","v":0},{"$f":"'Kalkulator Depozytów'!P74","v":0},{"$f":"'Kalkulator Depozytów'!Q74","v":0},{"$f":"ROUND(AVERAGE(INDIRECT(\"krzywa!C\"&MATCH(A69-$A$2,krzywa!A:A,0)&\":C\"&MATCH(B69-$A$2,krzywa!A:A,0),TRUE)),4)","v":{"$error":"#N/A"}},null,0,null,{"$f":"NETWORKDAYS(A69,B69,koszyki!$M$20:$M$89)","v":0},{"$f":"B69-A69+1- NETWORKDAYS(A69,B69,koszyki!$M$20:$M$89)","v":1},null,{"$error":"#N/A"},{"$error":"#N/A"},{"$f":"VLOOKUP(A69,krzywa!L:N,3,1)","v":{"$error":"#N/A"}},{"$f":"VLOOKUP(B69,krzywa!L:N,3,1)","v":{"$error":"#N/A"}},{"$f":"IF('Kalkulator Depozytów'!$B$35=TRUE,1,(1+R69/100)*V69+(1+S69/100)*(1-V69))","v":{"$error":"#N/A"}},{"$f":"IF(R69<>S69,VLOOKUP(A69,krzywa!L:N,2,1))","v":{"$error":"#N/A"}},{"$f":"IF(U69<>FALSE,IF($C$2=\"GAS_BASE\",(U69-A69+1)*koszyki!$A$14+J69,IF($C$2=\"OFFPEAK\",M69*koszyki!$A$14+(N69)*24+J69,IF($C$2=\"BASE5\",M69*koszyki!$A$14+J69,IF($C$2=\"PEAK7\",(B69-A69+1)*koszyki!$A$14,M69*koszyki!$A$14))))/B69,1)","v":{"$error":"#N/A"}},null,null,null,null,null,null,null,null,null,null,null,null,null,null,"00:00:00",{"$f":"AK69-1","v":-1},-2,-3,null,{"$f":"NETWORKDAYS(AK69,AK69,koszyki!$M$20:$M$89)","v":0},{"$f":"NETWORKDAYS(AL69,AL69,koszyki!$M$20:$M$89)","v":{"$error":"#NUM!"}},{"$f":"NETWORKDAYS(AM69,AM69,koszyki!$M$20:$M$89)","v":{"$error":"#NUM!"}},{"$f":"NETWORKDAYS(AN69,AN69,koszyki!$M$20:$M$89)","v":{"$error":"#NUM!"}},null,0,{"$error":"#NUM!"},{"$error":"#NUM!"},{"$error":"#NUM!"},null,1]
[null,null,{"$f":"IF($C$2=\"GAS_BASE\",(B70-A70+1)*koszyki!$A$14+J70,IF($C$2=\"OFFPEAK\",M70*koszyki!$A$14+(N70)*24+J70,IF($C$2=\"BASE5\",M70*koszyki!$A$14+J70,IF($C$2=\"PEAK7\",(B70-A70+1)*koszyki!$A$14,M70*koszyki!$A$14))))","v":24},{"$f":"'Kalkulator Depozytów'!M75","v":0},{"$f":"'Kalkulator Depozytów'!N75","v":0},{"$f":"'Kalkulator Depozytów'!O75","v":0},{"$f":"'Kalkulator Depozytów'!P75","v":0},{"$f":"'Kalkulator Depozytów'!Q75","v":0},{"$f":"ROUND(AVERAGE(INDIRECT(\"krzywa!C\"&MATCH(A70-$A$2,krzywa!A:A,0)&\":C\"&MATCH(B70-$A$2,krzywa!A:A,0),TRUE)),4)","v":{"$error":"#N/A"}},null,0,null,{"$f":"NETWORKDAYS(A70,B70,koszyki!$M$20:$M$89)","v":0},{"$f":"B70-A70+1- NETWORKDAYS(A70,B70,koszyki!$M$20:$M$89)","v":1},null,{"$error":"#N/A"},{"$error":"#N/A"},{"$f":"VLOOKUP(A70,krzywa!L:N,3,1)","v":{"$error":"#N/A"}},{"$f":"VLOOKUP(B70,krzywa!L:N,3,1)","v":{"$error":"#N/A"}},{"$f":"IF('Kalkulator Depozytów'!$B$35=TRUE,1,(1+R70/100)*V70+(1+S70/100)*(1-V70))","v":{"$error":"#N/A"}},{"$f":"IF(R70<>S70,VLOOKUP(A70,krzywa!L:N,2,1))","v":{"$error":"#N/A"}},{"$f":"IF(U70<>FALSE,IF($C$2=\"GAS_BASE\",(U70-A70+1)*koszyki!$A$14+J70,IF($C$2=\"OFFPEAK\",M70*koszyki!$A$14+(N70)*24+J70,IF($C$2=\"BASE5\",M70*koszyki!$A$14+J70,IF($C$2=\"PEAK7\",(B70-A70+1)*koszyki!$A$14,M70*koszyki!$A$14))))/B70,1)","v":{"$error":"#N/A"}},null,null,null,null,null,null,null,null,null,null,null,null,null,null,"00:00:00",{"$f":"AK70-1","v":-1},-2,-3,null,{"$f":"NETWORKDAYS(AK70,AK70,koszyki!$M$20:$M$89)","v":0},{"$f":"NETWORKDAYS(AL70,AL70,koszyki!$M$20:$M$89)","v":{"$error":"#NUM!"}},{"$f":"NETWORKDAYS(AM70,AM70,koszyki!$M$20:$M$89)","v":{"$error":"#NUM!"}},{"$f":"NETWORKDAYS(AN70,AN70,koszyki!$M$20:$M$89)","v":{"$error":"#NUM!"}},null,0,{"$error":"#NUM!"},{"$error":"#NUM!"},{"$error":"#NUM!"},null,1]
[null,null,{"$f":"IF($C$2=\"GAS_BASE\",(B71-A71+1)*koszyki!$A$14+J71,IF($C$2=\"OFFPEAK\",M71*koszyki!$A$14+(N71)*24+J71,IF($C$2=\"BASE5\",M71*koszyki!$A$14+J71,IF($C$2=\"PEAK7\",(B71-A71+1)*koszyki!$A$14,M71*koszyki!$A$14))))","v":24},{"$f":"'Kalkulator Depozytów'!M76","v":0},{"$f":"'Kalkulator Depozytów'!N76","v":0},{"$f":"'Kalkulator Depozytów'!O76","v":0},{"$f":"'Kalkulator Depozytów'!P76","v":0},{"$f":"'Kalkulator Depozytów'!Q76","v":0},{"$f":"ROUND(AVERAGE(INDIRECT(\"krzywa!C\"&MATCH(A71-$A$2,krzywa!A:A,0)&\":C\"&MATCH(B71-$A$2,krzywa!A:A,0),TRUE)),4)","v":{"$error":"#N/A"}},null,0,null,{"$f":"NETWORKDAYS(A71,B71,koszyki!$M$20:$M$89)","v":0},{"$f":"B71-A71+1- NETWORKDAYS(A71,B71,koszyki!$M$20:$M$89)","v":1},null,{"$error":"#N/A"},{"$error":"#N/A"},{"$f":"VLOOKUP(A71,krzywa!L:N,3,1)","v":{"$error":"#N/A"}},{"$f":"VLOOKUP(B71,krzywa!L:N,3,1)","v":{"$error":"#N/A"}},{"$f":"IF('Kalkulator Depozytów'!$B$35=TRUE,1,(1+R71/100)*V71+(1+S71/100)*(1-V71))","v":{"$error":"#N/A"}},{"$f":"IF(R71<>S71,VLOOKUP(A71,krzywa!L:N,2,1))","v":{"$error":"#N/A"}},{"$f":"IF(U71<>FALSE,IF($C$2=\"GAS_BASE\",(U71-A71+1)*koszyki!$A$14+J71,IF($C$2=\"OFFPEAK\",M71*koszyki!$A$14+(N71)*24+J71,IF($C$2=\"BASE5\",M71*koszyki!$A$14+J71,IF($C$2=\"PEAK7\",(B71-A71+1)*koszyki!$A$14,M71*koszyki!$A$14))))/B71,1)","v":{"$error":"#N/A"}},null,null,null,null,null,null,null,null,null,null,null,null,null,null,"00:00:00",{"$f":"AK71-1","v":-1},-2,-3,null,{"$f":"NETWORKDAYS(AK71,AK71,koszyki!$M$20:$M$89)","v":0},{"$f":"NETWORKDAYS(AL71,AL71,koszyki!$M$20:$M$89)","v":{"$error":"#NUM!"}},{"$f":"NETWORKDAYS(AM71,AM71,koszyki!$M$20:$M$89)","v":{"$error":"#NUM!"}},{"$f":"NETWORKDAYS(AN71,AN71,koszyki!$M$20:$M$89)","v":{"$error":"#NUM!"}},null,0,{"$error":"#NUM!"},{"$error":"#NUM!"},{"$error":"#NUM!"},null,1]
[null,null,{"$f":"IF($C$2=\"GAS_BASE\",(B72-A72+1)*koszyki!$A$14+J72,IF($C$2=\"OFFPEAK\",M72*koszyki!$A$14+(N72)*24+J72,IF($C$2=\"BASE5\",M72*koszyki!$A$14+J72,IF($C$2=\"PEAK7\",(B72-A72+1)*koszyki!$A$14,M72*koszyki!$A$14))))","v":24},{"$f":"'Kalkulator Depozytów'!M77","v":0},{"$f":"'Kalkulator Depozytów'!N77","v":0},{"$f":"'Kalkulator Depozytów'!O77","v":0},{"$f":"'Kalkulator Depozytów'!P77","v":0},{"$f":"'Kalkulator Depozytów'!Q77","v":0},{"$f":"ROUND(AVERAGE(INDIRECT(\"krzywa!C\"&MATCH(A72-$A$2,krzywa!A:A,0)&\":C\"&MATCH(B72-$A$2,krzywa!A:A,0),TRUE)),4)","v":{"$error":"#N/A"}},null,0,null,{"$f":"NETWORKDAYS(A72,B72,koszyki!$M$20:$M$89)","v":0},{"$f":"B72-A72+1- NETWORKDAYS(A72,B72,koszyki!$M$20:$M$89)","v":1},null,{"$error":"#N/A"},{"$error":"#N/A"},{"$f":"VLOOKUP(A72,krzywa!L:N,3,1)","v":{"$error":"#N/A"}},{"$f":"VLOOKUP(B72,krzywa!L:N,3,1)","v":{"$error":"#N/A"}},{"$f":"IF('Kalkulator Depozytów'!$B$35=TRUE,1,(1+R72/100)*V72+(1+S72/100)*(1-V72))","v":{"$error":"#N/A"}},{"$f":"IF(R72<>S72,VLOOKUP(A72,krzywa!L:N,2,1))","v":{"$error":"#N/A"}},{"$f":"IF(U72<>FALSE,IF($C$2=\"GAS_BASE\",(U72-A72+1)*koszyki!$A$14+J72,IF($C$2=\"OFFPEAK\",M72*koszyki!$A$14+(N72)*24+J72,IF($C$2=\"BASE5\",M72*koszyki!$A$14+J72,IF($C$2=\"PEAK7\",(B72-A72+1)*koszyki!$A$14,M72*koszyki!$A$14))))/B72,1)","v":{"$error":"#N/A"}},null,null,null,null,null,null,null,null,null,null,null,null,null,null,"00:00:00",{"$f":"AK72-1","v":-1},-2,-3,null,{"$f":"NETWORKDAYS(AK72,AK72,koszyki!$M$20:$M$89)","v":0},{"$f":"NETWORKDAYS(AL72,AL72,koszyki!$M$20:$M$89)","v":{"$error":"#NUM!"}},{"$f":"NETWORKDAYS(AM72,AM72,koszyki!$M$20:$M$89)","v":{"$error":"#NUM!"}},{"$f":"NETWORKDAYS(AN72,AN72,koszyki!$M$20:$M$89)","v":{"$error":"#NUM!"}},null,0,{"$error":"#NUM!"},{"$error":"#NUM!"},{"$error":"#NUM!"},null,1]
[null,null,{"$f":"IF($C$2=\"GAS_BASE\",(B73-A73+1)*koszyki!$A$14+J73,IF($C$2=\"OFFPEAK\",M73*koszyki!$A$14+(N73)*24+J73,IF($C$2=\"BASE5\",M73*koszyki!$A$14+J73,IF($C$2=\"PEAK7\",(B73-A73+1)*koszyki!$A$14,M73*koszyki!$A$14))))","v":24},{"$f":"'Kalkulator Depozytów'!M78","v":0},{"$f":"'Kalkulator Depozytów'!N78","v":0},{"$f":"'Kalkulator Depozytów'!O78","v":0},{"$f":"'Kalkulator Depozytów'!P78","v":0},{"$f":"'Kalkulator Depozytów'!Q78","v":0},{"$f":"ROUND(AVERAGE(INDIRECT(\"krzywa!C\"&MATCH(A73-$A$2,krzywa!A:A,0)&\":C\"&MATCH(B73-$A$2,krzywa!A:A,0),TRUE)),4)","v":{"$error":"#N/A"}},null,{"$f":"IF(-($A$2-B73)<364,-($A$2-B73),365)","v":0},null,{"$f":"NETWORKDAYS(A73,B73,koszyki!$M$20:$M$89)","v":0},{"$f":"B73-A73+1- NETWORKDAYS(A73,B73,koszyki!$M$20:$M$89)","v":1},null,{"$f":"C73*(D73*(H73-E73)-F73*(H73-G73))*T73","v":{"$error":"#N/A"}},{"$f":"-C73*ABS(D73-F73)*H73*I73*T73","v":{"$error":"#N/A"}},{"$f":"VLOOKUP(A73,krzywa!L:N,3,1)","v":{"$error":"#N/A"}},{"$f":"VLOOKUP(B73,krzywa!L:N,3,1)","v":{"$error":"#N/A"}},{"$f":"IF('Kalkulator Depozytów'!$B$35=TRUE,1,(1+R73/100)*V73+(1+S73/100)*(1-V73))","v":{"$error":"#N/A"}},{"$f":"IF(R73<>S73,VLOOKUP(A73,krzywa!L:N,2,1))","v":{"$error":"#N/A"}},{"$f":"IF(U73<>FALSE,IF($C$2=\"GAS_BASE\",(U73-A73+1)*koszyki!$A$14+J73,IF($C$2=\"OFFPEAK\",M73*koszyki!$A$14+(N73)*24+J73,IF($C$2=\"BASE5\",M73*koszyki!$A$14+J73,IF($C$2=\"PEAK7\",(B73-A73+1)*koszyki!$A$14,M73*koszyki!$A$14))))/B73,1)","v":{"$error":"#N/A"}},null,null,null,null,null,null,null,null,null,null,null,null,null,null,{"$f":"B73","v":"00:00:00"},{"$f":"AK73-1","v":-1},-2,-3,null,{"$f":"NETWORKDAYS(AK73,AK73,koszyki!$M$20:$M$89)","v":0},{"$f":"NETWORKDAYS(AL73,AL73,koszyki!$M$20:$M$89)","v":{"$error":"#NUM!"}},{"$f":"NETWORKDAYS(AM73,AM73,koszyki!$M$20:$M$89)","v":{"$error":"#NUM!"}},{"$f":"NETWORKDAYS(AN73,AN73,koszyki!$M$20:$M$89)","v":{"$error":"#NUM!"}},null,{"$f":"SUM(AP73)","v":0},{"$f":"SUM(AP73:AQ73)","v":{"$error":"#NUM!"}},{"$f":"SUM(AP73:AR73)","v":{"$error":"#NUM!"}},{"$f":"SUM(AP73:AS73)","v":{"$error":"#NUM!"}},null,{"$f":"COUNTIF(AU73:AX73,\"=0\")","v":1}]
[null,null,{"$f":"IF($C$2=\"GAS_BASE\",(B74-A74+1)*koszyki!$A$14+J74,IF($C$2=\"OFFPEAK\",M74*koszyki!$A$14+(N74)*24+J74,IF($C$2=\"BASE5\",M74*koszyki!$A$14+J74,IF($C$2=\"PEAK7\",(B74-A74+1)*koszyki!$A$14,M74*koszyki!$A$14))))","v":24},{"$f":"'Kalkulator Depozytów'!M79","v":0},{"$f":"'Kalkulator Depozytów'!N79","v":0},{"$f":"'Kalkulator Depozytów'!O79","v":0},{"$f":"'Kalkulator Depozytów'!P79","v":0},{"$f":"'Kalkulator Depozytów'!Q79","v":0},{"$f":"ROUND(AVERAGE(INDIRECT(\"krzywa!C\"&MATCH(A74-$A$2,krzywa!A:A,0)&\":C\"&MATCH(B74-$A$2,krzywa!A:A,0),TRUE)),4)","v":{"$error":"#N/A"}},null,0,null,{"$f":"NETWORKDAYS(A74,B74,koszyki!$M$20:$M$89)","v":0},{"$f":"B74-A74+1- NETWORKDAYS(A74,B74,koszyki!$M$20:$M$89)","v":1},null,{"$error":"#N/A"},{"$error":"#N/A"},{"$f":"VLOOKUP(A74,krzywa!L:N,3,1)","v":{"$error":"#N/A"}},{"$f":"VLOOKUP(B74,krzywa!L:N,3,1)","v":{"$error":"#N/A"}},{"$f":"IF('Kalkulator Depozytów'!$B$35=TRUE,1,(1+R74/100)*V74+(1+S74/100)*(1-V74))","v":{"$error":"#N/A"}},{"$f":"IF(R74<>S74,VLOOKUP(A74,krzywa!L:N,2,1))","v":{"$error":"#N/A"}},{"$f":"IF(U74<>FALSE,IF($C$2=\"GAS_BASE\",(U74-A74+1)*koszyki!$A$14+J74,IF($C$2=\"OFFPEAK\",M74*koszyki!$A$14+(N74)*24+J74,IF($C$2=\"BASE5\",M74*koszyki!$A$14+J74,IF($C$2=\"PEAK7\",(B74-A74+1)*koszyki!$A$14,M74*koszyki!$A$14))))/B74,1)","v":{"$error":"#N/A"}},null,null,null,null,null,null,null,null,null,null,null,null,null,null,"00:00:00",{"$f":"AK74-1","v":-1},-2,-3,null,{"$f":"NETWORKDAYS(AK74,AK74,koszyki!$M$20:$M$89)","v":0},{"$f":"NETWORKDAYS(AL74,AL74,koszyki!$M$20:$M$89)","v":{"$error":"#NUM!"}},{"$f":"NETWORKDAYS(AM74,AM74,koszyki!$M$20:$M$89)","v":{"$error":"#NUM!"}},{"$f":"NETWORKDAYS(AN74,AN74,koszyki!$M$20:$M$89)","v":{"$error":"#NUM!"}},null,0,{"$error":"#NUM!"},{"$error":"#NUM!"},{"$error":"#NUM!"},null,1]
[null,null,{"$f":"IF($C$2=\"GAS_BASE\",(B75-A75+1)*koszyki!$A$14+J75,IF($C$2=\"OFFPEAK\",M75*koszyki!$A$14+(N75)*24+J75,IF($C$2=\"BASE5\",M75*koszyki!$A$14+J75,IF($C$2=\"PEAK7\",(B75-A75+1)*koszyki!$A$14,M75*koszyki!$A$14))))","v":24},{"$f":"'Kalkulator Depozytów'!M80","v":0},{"$f":"'Kalkulator Depozytów'!N80","v":0},{"$f":"'Kalkulator Depozytów'!O80","v":0},{"$f":"'Kalkulator Depozytów'!P80","v":0},{"$f":"'Kalkulator Depozytów'!Q80","v":0},{"$f":"ROUND(AVERAGE(INDIRECT(\"krzywa!C\"&MATCH(A75-$A$2,krzywa!A:A,0)&\":C\"&MATCH(B75-$A$2,krzywa!A:A,0),TRUE)),4)","v":{"$error":"#N/A"}},null,0,null,{"$f":"NETWORKDAYS(A75,B75,koszyki!$M$20:$M$89)","v":0},{"$f":"B75-A75+1- NETWORKDAYS(A75,B75,koszyki!$M$20:$M$89)","v":1},null,{"$error":"#N/A"},{"$error":"#N/A"},{"$f":"VLOOKUP(A75,krzywa!L:N,3,1)","v":{"$error":"#N/A"}},{"$f":"VLOOKUP(B75,krzywa!L:N,3,1)","v":{"$error":"#N/A"}},{"$f":"IF('Kalkulator Depozytów'!$B$35=TRUE,1,(1+R75/100)*V75+(1+S75/100)*(1-V75))","v":{"$error":"#N/A"}},{"$f":"IF(R75<>S75,VLOOKUP(A75,krzywa!L:N,2,1))","v":{"$error":"#N/A"}},{"$f":"IF(U75<>FALSE,IF($C$2=\"GAS_BASE\",(U75-A75+1)*koszyki!$A$14+J75,IF($C$2=\"OFFPEAK\",M75*koszyki!$A$14+(N75)*24+J75,IF($C$2=\"BASE5\",M75*koszyki!$A$14+J75,IF($C$2=\"PEAK7\",(B75-A75+1)*koszyki!$A$14,M75*koszyki!$A$14))))/B75,1)","v":{"$error":"#N/A"}},null,null,null,null,null,null,null,null,null,null,null,null,null,null,"00:00:00",{"$f":"AK75-1","v":-1},-2,-3,null,{"$f":"NETWORKDAYS(AK75,AK75,koszyki!$M$20:$M$89)","v":0},{"$f":"NETWORKDAYS(AL75,AL75,koszyki!$M$20:$M$89)","v":{"$error":"#NUM!"}},{"$f":"NETWORKDAYS(AM75,AM75,koszyki!$M$20:$M$89)","v":{"$error":"#NUM!"}},{"$f":"NETWORKDAYS(AN75,AN75,koszyki!$M$20:$M$89)","v":{"$error":"#NUM!"}},null,0,{"$error":"#NUM!"},{"$error":"#NUM!"},{"$error":"#NUM!"},null,1]
[null,null,{"$f":"IF($C$2=\"GAS_BASE\",(B76-A76+1)*koszyki!$A$14+J76,IF($C$2=\"OFFPEAK\",M76*koszyki!$A$14+(N76)*24+J76,IF($C$2=\"BASE5\",M76*koszyki!$A$14+J76,IF($C$2=\"PEAK7\",(B76-A76+1)*koszyki!$A$14,M76*koszyki!$A$14))))","v":24},{"$f":"'Kalkulator Depozytów'!M81","v":0},{"$f":"'Kalkulator Depozytów'!N81","v":0},{"$f":"'Kalkulator Depozytów'!O81","v":0},{"$f":"'Kalkulator Depozytów'!P81","v":0},{"$f":"'Kalkulator Depozytów'!Q81","v":0},{"$f":"ROUND(AVERAGE(INDIRECT(\"krzywa!C\"&MATCH(A76-$A$2,krzywa!A:A,0)&\":C\"&MATCH(B76-$A$2,krzywa!A:A,0),TRUE)),4)","v":{"$error":"#N/A"}},null,0,null,{"$f":"NETWORKDAYS(A76,B76,koszyki!$M$20:$M$89)","v":0},{"$f":"B76-A76+1- NETWORKDAYS(A76,B76,koszyki!$M$20:$M$89)","v":1},null,{"$error":"#N/A"},{"$error":"#N/A"},{"$f":"VLOOKUP(A76,krzywa!L:N,3,1)","v":{"$error":"#N/A"}},{"$f":"VLOOKUP(B76,krzywa!L:N,3,1)","v":{"$error":"#N/A"}},{"$f":"IF('Kalkulator Depozytów'!$B$35=TRUE,1,(1+R76/100)*V76+(1+S76/100)*(1-V76))","v":{"$error":"#N/A"}},{"$f":"IF(R76<>S76,VLOOKUP(A76,krzywa!L:N,2,1))","v":{"$error":"#N/A"}},{"$f":"IF(U76<>FALSE,IF($C$2=\"GAS_BASE\",(U76-A76+1)*koszyki!$A$14+J76,IF($C$2=\"OFFPEAK\",M76*koszyki!$A$14+(N76)*24+J76,IF($C$2=\"BASE5\",M76*koszyki!$A$14+J76,IF($C$2=\"PEAK7\",(B76-A76+1)*koszyki!$A$14,M76*koszyki!$A$14))))/B76,1)","v":{"$error":"#N/A"}},null,null,null,null,null,null,null,null,null,null,null,null,null,null,"00:00:00",{"$f":"AK76-1","v":-1},-2,-3,null,{"$f":"NETWORKDAYS(AK76,AK76,koszyki!$M$20:$M$89)","v":0},{"$f":"NETWORKDAYS(AL76,AL76,koszyki!$M$20:$M$89)","v":{"$error":"#NUM!"}},{"$f":"NETWORKDAYS(AM76,AM76,koszyki!$M$20:$M$89)","v":{"$error":"#NUM!"}},{"$f":"NETWORKDAYS(AN76,AN76,koszyki!$M$20:$M$89)","v":{"$error":"#NUM!"}},null,0,{"$error":"#NUM!"},{"$error":"#NUM!"},{"$error":"#NUM!"},null,1]
[null,null,{"$f":"IF($C$2=\"GAS_BASE\",(B77-A77+1)*koszyki!$A$14+J77,IF($C$2=\"OFFPEAK\",M77*koszyki!$A$14+(N77)*24+J77,IF($C$2=\"BASE5\",M77*koszyki!$A$14+J77,IF($C$2=\"PEAK7\",(B77-A77+1)*koszyki!$A$14,M77*koszyki!$A$14))))","v":24},{"$f":"'Kalkulator Depozytów'!M82","v":0},{"$f":"'Kalkulator Depozytów'!N82","v":0},{"$f":"'Kalkulator Depozytów'!O82","v":0},{"$f":"'Kalkulator Depozytów'!P82","v":0},{"$f":"'Kalkulator Depozytów'!Q82","v":0},{"$f":"ROUND(AVERAGE(INDIRECT(\"krzywa!C\"&MATCH(A77-$A$2,krzywa!A:A,0)&\":C\"&MATCH(B77-$A$2,krzywa!A:A,0),TRUE)),4)","v":{"$error":"#N/A"}},null,0,null,{"$f":"NETWORKDAYS(A77,B77,koszyki!$M$20:$M$89)","v":0},{"$f":"B77-A77+1- NETWORKDAYS(A77,B77,koszyki!$M$20:$M$89)","v":1},null,{"$error":"#N/A"},{"$error":"#N/A"},{"$f":"VLOOKUP(A77,krzywa!L:N,3,1)","v":{"$error":"#N/A"}},{"$f":"VLOOKUP(B77,krzywa!L:N,3,1)","v":{"$error":"#N/A"}},{"$f":"IF('Kalkulator Depozytów'!$B$35=TRUE,1,(1+R77/100)*V77+(1+S77/100)*(1-V77))","v":{"$error":"#N/A"}},{"$f":"IF(R77<>S77,VLOOKUP(A77,krzywa!L:N,2,1))","v":{"$error":"#N/A"}},{"$f":"IF(U77<>FALSE,IF($C$2=\"GAS_BASE\",(U77-A77+1)*koszyki!$A$14+J77,IF($C$2=\"OFFPEAK\",M77*koszyki!$A$14+(N77)*24+J77,IF($C$2=\"BASE5\",M77*koszyki!$A$14+J77,IF($C$2=\"PEAK7\",(B77-A77+1)*koszyki!$A$14,M77*koszyki!$A$14))))/B77,1)","v":{"$error":"#N/A"}},null,null,null,null,null,null,null,null,null,null,null,null,null,null,"00:00:00",{"$f":"AK77-1","v":-1},-2,-3,null,{"$f":"NETWORKDAYS(AK77,AK77,koszyki!$M$20:$M$89)","v":0},{"$f":"NETWORKDAYS(AL77,AL77,koszyki!$M$20:$M$89)","v":{"$error":"#NUM!"}},{"$f":"NETWORKDAYS(AM77,AM77,koszyki!$M$20:$M$89)","v":{"$error":"#NUM!"}},{"$f":"NETWORKDAYS(AN77,AN77,koszyki!$M$20:$M$89)","v":{"$error":"#NUM!"}},null,0,{"$error":"#NUM!"},{"$error":"#NUM!"},{"$error":"#NUM!"},null,1]
[null,null,{"$f":"IF($C$2=\"GAS_BASE\",(B78-A78+1)*koszyki!$A$14+J78,IF($C$2=\"OFFPEAK\",M78*koszyki!$A$14+(N78)*24+J78,IF($C$2=\"BASE5\",M78*koszyki!$A$14+J78,IF($C$2=\"PEAK7\",(B78-A78+1)*koszyki!$A$14,M78*koszyki!$A$14))))","v":24},{"$f":"'Kalkulator Depozytów'!M83","v":0},{"$f":"'Kalkulator Depozytów'!N83","v":0},{"$f":"'Kalkulator Depozytów'!O83","v":0},{"$f":"'Kalkulator Depozytów'!P83","v":0},{"$f":"'Kalkulator Depozytów'!Q83","v":0},{"$f":"ROUND(AVERAGE(INDIRECT(\"krzywa!C\"&MATCH(A78-$A$2,krzywa!A:A,0)&\":C\"&MATCH(B78-$A$2,krzywa!A:A,0),TRUE)),4)","v":{"$error":"#N/A"}},null,0,null,{"$f":"NETWORKDAYS(A78,B78,koszyki!$M$20:$M$89)","v":0},{"$f":"B78-A78+1- NETWORKDAYS(A78,B78,koszyki!$M$20:$M$89)","v":1},null,{"$error":"#N/A"},{"$error":"#N/A"},{"$f":"VLOOKUP(A78,krzywa!L:N,3,1)","v":{"$error":"#N/A"}},{"$f":"VLOOKUP(B78,krzywa!L:N,3,1)","v":{"$error":"#N/A"}},{"$f":"IF('Kalkulator Depozytów'!$B$35=TRUE,1,(1+R78/100)*V78+(1+S78/100)*(1-V78))","v":{"$error":"#N/A"}},{"$f":"IF(R78<>S78,VLOOKUP(A78,krzywa!L:N,2,1))","v":{"$error":"#N/A"}},{"$f":"IF(U78<>FALSE,IF($C$2=\"GAS_BASE\",(U78-A78+1)*koszyki!$A$14+J78,IF($C$2=\"OFFPEAK\",M78*koszyki!$A$14+(N78)*24+J78,IF($C$2=\"BASE5\",M78*koszyki!$A$14+J78,IF($C$2=\"PEAK7\",(B78-A78+1)*koszyki!$A$14,M78*koszyki!$A$14))))/B78,1)","v":{"$error":"#N/A"}},null,null,null,null,null,null,null,null,null,null,null,null,null,null,"00:00:00",{"$f":"AK78-1","v":-1},-2,-3,null,{"$f":"NETWORKDAYS(AK78,AK78,koszyki!$M$20:$M$89)","v":0},{"$f":"NETWORKDAYS(AL78,AL78,koszyki!$M$20:$M$89)","v":{"$error":"#NUM!"}},{"$f":"NETWORKDAYS(AM78,AM78,koszyki!$M$20:$M$89)","v":{"$error":"#NUM!"}},{"$f":"NETWORKDAYS(AN78,AN78,koszyki!$M$20:$M$89)","v":{"$error":"#NUM!"}},null,0,{"$error":"#NUM!"},{"$error":"#NUM!"},{"$error":"#NUM!"},null,1]
[null,null,{"$f":"IF($C$2=\"GAS_BASE\",(B79-A79+1)*koszyki!$A$14+J79,IF($C$2=\"OFFPEAK\",M79*koszyki!$A$14+(N79)*24+J79,IF($C$2=\"BASE5\",M79*koszyki!$A$14+J79,IF($C$2=\"PEAK7\",(B79-A79+1)*koszyki!$A$14,M79*koszyki!$A$14))))","v":24},{"$f":"'Kalkulator Depozytów'!M84","v":0},{"$f":"'Kalkulator Depozytów'!N84","v":0},{"$f":"'Kalkulator Depozytów'!O84","v":0},{"$f":"'Kalkulator Depozytów'!P84","v":0},{"$f":"'Kalkulator Depozytów'!Q84","v":0},{"$f":"ROUND(AVERAGE(INDIRECT(\"krzywa!C\"&MATCH(A79-$A$2,krzywa!A:A,0)&\":C\"&MATCH(B79-$A$2,krzywa!A:A,0),TRUE)),4)","v":{"$error":"#N/A"}},null,0,null,{"$f":"NETWORKDAYS(A79,B79,koszyki!$M$20:$M$89)","v":0},{"$f":"B79-A79+1- NETWORKDAYS(A79,B79,koszyki!$M$20:$M$89)","v":1},null,{"$error":"#N/A"},{"$error":"#N/A"},{"$f":"VLOOKUP(A79,krzywa!L:N,3,1)","v":{"$error":"#N/A"}},{"$f":"VLOOKUP(B79,krzywa!L:N,3,1)","v":{"$error":"#N/A"}},{"$f":"IF('Kalkulator Depozytów'!$B$35=TRUE,1,(1+R79/100)*V79+(1+S79/100)*(1-V79))","v":{"$error":"#N/A"}},{"$f":"IF(R79<>S79,VLOOKUP(A79,krzywa!L:N,2,1))","v":{"$error":"#N/A"}},{"$f":"IF(U79<>FALSE,IF($C$2=\"GAS_BASE\",(U79-A79+1)*koszyki!$A$14+J79,IF($C$2=\"OFFPEAK\",M79*koszyki!$A$14+(N79)*24+J79,IF($C$2=\"BASE5\",M79*koszyki!$A$14+J79,IF($C$2=\"PEAK7\",(B79-A79+1)*koszyki!$A$14,M79*koszyki!$A$14))))/B79,1)","v":{"$error":"#N/A"}},null,null,null,null,null,null,null,null,null,null,null,null,null,null,"00:00:00",{"$f":"AK79-1","v":-1},-2,-3,null,{"$f":"NETWORKDAYS(AK79,AK79,koszyki!$M$20:$M$89)","v":0},{"$f":"NETWORKDAYS(AL79,AL79,koszyki!$M$20:$M$89)","v":{"$error":"#NUM!"}},{"$f":"NETWORKDAYS(AM79,AM79,koszyki!$M$20:$M$89)","v":{"$error":"#NUM!"}},{"$f":"NETWORKDAYS(AN79,AN79,koszyki!$M$20:$M$89)","v":{"$error":"#NUM!"}},null,0,{"$error":"#NUM!"},{"$error":"#NUM!"},{"$error":"#NUM!"},null,1]
[null,null,{"$f":"IF($C$2=\"GAS_BASE\",(B80-A80+1)*koszyki!$A$14+J80,IF($C$2=\"OFFPEAK\",M80*koszyki!$A$14+(N80)*24+J80,IF($C$2=\"BASE5\",M80*koszyki!$A$14+J80,IF($C$2=\"PEAK7\",(B80-A80+1)*koszyki!$A$14,M80*koszyki!$A$14))))","v":24},{"$f":"'Kalkulator Depozytów'!M85","v":0},{"$f":"'Kalkulator Depozytów'!N85","v":0},{"$f":"'Kalkulator Depozytów'!O85","v":0},{"$f":"'Kalkulator Depozytów'!P85","v":0},{"$f":"'Kalkulator Depozytów'!Q85","v":0},{"$f":"ROUND(AVERAGE(INDIRECT(\"krzywa!C\"&MATCH(A80-$A$2,krzywa!A:A,0)&\":C\"&MATCH(B80-$A$2,krzywa!A:A,0),TRUE)),4)","v":{"$error":"#N/A"}},null,0,null,{"$f":"NETWORKDAYS(A80,B80,koszyki!$M$20:$M$89)","v":0},{"$f":"B80-A80+1- NETWORKDAYS(A80,B80,koszyki!$M$20:$M$89)","v":1},null,{"$error":"#N/A"},{"$error":"#N/A"},{"$f":"VLOOKUP(A80,krzywa!L:N,3,1)","v":{"$error":"#N/A"}},{"$f":"VLOOKUP(B80,krzywa!L:N,3,1)","v":{"$error":"#N/A"}},{"$f":"IF('Kalkulator Depozytów'!$B$35=TRUE,1,(1+R80/100)*V80+(1+S80/100)*(1-V80))","v":{"$error":"#N/A"}},{"$f":"IF(R80<>S80,VLOOKUP(A80,krzywa!L:N,2,1))","v":{"$error":"#N/A"}},{"$f":"IF(U80<>FALSE,IF($C$2=\"GAS_BASE\",(U80-A80+1)*koszyki!$A$14+J80,IF($C$2=\"OFFPEAK\",M80*koszyki!$A$14+(N80)*24+J80,IF($C$2=\"BASE5\",M80*koszyki!$A$14+J80,IF($C$2=\"PEAK7\",(B80-A80+1)*koszyki!$A$14,M80*koszyki!$A$14))))/B80,1)","v":{"$error":"#N/A"}},null,null,null,null,null,null,null,null,null,null,null,null,null,null,"00:00:00",{"$f":"AK80-1","v":-1},-2,-3,null,{"$f":"NETWORKDAYS(AK80,AK80,koszyki!$M$20:$M$89)","v":0},{"$f":"NETWORKDAYS(AL80,AL80,koszyki!$M$20:$M$89)","v":{"$error":"#NUM!"}},{"$f":"NETWORKDAYS(AM80,AM80,koszyki!$M$20:$M$89)","v":{"$error":"#NUM!"}},{"$f":"NETWORKDAYS(AN80,AN80,koszyki!$M$20:$M$89)","v":{"$error":"#NUM!"}},null,0,{"$error":"#NUM!"},{"$error":"#NUM!"},{"$error":"#NUM!"},null,1]
[null,null,{"$f":"IF($C$2=\"GAS_BASE\",(B81-A81+1)*koszyki!$A$14+J81,IF($C$2=\"OFFPEAK\",M81*koszyki!$A$14+(N81)*24+J81,IF($C$2=\"BASE5\",M81*koszyki!$A$14+J81,IF($C$2=\"PEAK7\",(B81-A81+1)*koszyki!$A$14,M81*koszyki!$A$14))))","v":24},{"$f":"'Kalkulator Depozytów'!M86","v":0},{"$f":"'Kalkulator Depozytów'!N86","v":0},{"$f":"'Kalkulator Depozytów'!O86","v":0},{"$f":"'Kalkulator Depozytów'!P86","v":0},{"$f":"'Kalkulator Depozytów'!Q86","v":0},{"$f":"ROUND(AVERAGE(INDIRECT(\"krzywa!C\"&MATCH(A81-$A$2,krzywa!A:A,0)&\":C\"&MATCH(B81-$A$2,krzywa!A:A,0),TRUE)),4)","v":{"$error":"#N/A"}},null,0,null,{"$f":"NETWORKDAYS(A81,B81,koszyki!$M$20:$M$89)","v":0},{"$f":"B81-A81+1- NETWORKDAYS(A81,B81,koszyki!$M$20:$M$89)","v":1},null,{"$error":"#N/A"},{"$error":"#N/A"},{"$f":"VLOOKUP(A81,krzywa!L:N,3,1)","v":{"$error":"#N/A"}},{"$f":"VLOOKUP(B81,krzywa!L:N,3,1)","v":{"$error":"#N/A"}},{"$f":"IF('Kalkulator Depozytów'!$B$35=TRUE,1,(1+R81/100)*V81+(1+S81/100)*(1-V81))","v":{"$error":"#N/A"}},{"$f":"IF(R81<>S81,VLOOKUP(A81,krzywa!L:N,2,1))","v":{"$error":"#N/A"}},{"$f":"IF(U81<>FALSE,IF($C$2=\"GAS_BASE\",(U81-A81+1)*koszyki!$A$14+J81,IF($C$2=\"OFFPEAK\",M81*koszyki!$A$14+(N81)*24+J81,IF($C$2=\"BASE5\",M81*koszyki!$A$14+J81,IF($C$2=\"PEAK7\",(B81-A81+1)*koszyki!$A$14,M81*koszyki!$A$14))))/B81,1)","v":{"$error":"#N/A"}},null,null,null,null,null,null,null,null,null,null,null,null,null,null,"00:00:00",{"$f":"AK81-1","v":-1},-2,-3,null,{"$f":"NETWORKDAYS(AK81,AK81,koszyki!$M$20:$M$89)","v":0},{"$f":"NETWORKDAYS(AL81,AL81,koszyki!$M$20:$M$89)","v":{"$error":"#NUM!"}},{"$f":"NETWORKDAYS(AM81,AM81,koszyki!$M$20:$M$89)","v":{"$error":"#NUM!"}},{"$f":"NETWORKDAYS(AN81,AN81,koszyki!$M$20:$M$89)","v":{"$error":"#NUM!"}},null,0,{"$error":"#NUM!"},{"$error":"#NUM!"},{"$error":"#NUM!"},null,1]
[null,null,{"$f":"IF($C$2=\"GAS_BASE\",(B82-A82+1)*koszyki!$A$14+J82,IF($C$2=\"OFFPEAK\",M82*koszyki!$A$14+(N82)*24+J82,IF($C$2=\"BASE5\",M82*koszyki!$A$14+J82,IF($C$2=\"PEAK7\",(B82-A82+1)*koszyki!$A$14,M82*koszyki!$A$14))))","v":24},{"$f":"'Kalkulator Depozytów'!M87","v":0},{"$f":"'Kalkulator Depozytów'!N87","v":0},{"$f":"'Kalkulator Depozytów'!O87","v":0},{"$f":"'Kalkulator Depozytów'!P87","v":0},{"$f":"'Kalkulator Depozytów'!Q87","v":0},{"$f":"ROUND(AVERAGE(INDIRECT(\"krzywa!C\"&MATCH(A82-$A$2,krzywa!A:A,0)&\":C\"&MATCH(B82-$A$2,krzywa!A:A,0),TRUE)),4)","v":{"$error":"#N/A"}},null,0,null,{"$f":"NETWORKDAYS(A82,B82,koszyki!$M$20:$M$89)","v":0},{"$f":"B82-A82+1- NETWORKDAYS(A82,B82,koszyki!$M$20:$M$89)","v":1},null,{"$error":"#N/A"},{"$error":"#N/A"},{"$f":"VLOOKUP(A82,krzywa!L:N,3,1)","v":{"$error":"#N/A"}},{"$f":"VLOOKUP(B82,krzywa!L:N,3,1)","v":{"$error":"#N/A"}},{"$f":"IF('Kalkulator Depozytów'!$B$35=TRUE,1,(1+R82/100)*V82+(1+S82/100)*(1-V82))","v":{"$error":"#N/A"}},{"$f":"IF(R82<>S82,VLOOKUP(A82,krzywa!L:N,2,1))","v":{"$error":"#N/A"}},{"$f":"IF(U82<>FALSE,IF($C$2=\"GAS_BASE\",(U82-A82+1)*koszyki!$A$14+J82,IF($C$2=\"OFFPEAK\",M82*koszyki!$A$14+(N82)*24+J82,IF($C$2=\"BASE5\",M82*koszyki!$A$14+J82,IF($C$2=\"PEAK7\",(B82-A82+1)*koszyki!$A$14,M82*koszyki!$A$14))))/B82,1)","v":{"$error":"#N/A"}},null,null,null,null,null,null,null,null,null,null,null,null,null,null,"00:00:00",{"$f":"AK82-1","v":-1},-2,-3,null,{"$f":"NETWORKDAYS(AK82,AK82,koszyki!$M$20:$M$89)","v":0},{"$f":"NETWORKDAYS(AL82,AL82,koszyki!$M$20:$M$89)","v":{"$error":"#NUM!"}},{"$f":"NETWORKDAYS(AM82,AM82,koszyki!$M$20:$M$89)","v":{"$error":"#NUM!"}},{"$f":"NETWORKDAYS(AN82,AN82,koszyki!$M$20:$M$89)","v":{"$error":"#NUM!"}},null,0,{"$error":"#NUM!"},{"$error":"#NUM!"},{"$error":"#NUM!"},null,1]
[null,null,{"$f":"IF($C$2=\"GAS_BASE\",(B83-A83+1)*koszyki!$A$14+J83,IF($C$2=\"OFFPEAK\",M83*koszyki!$A$14+(N83)*24+J83,IF($C$2=\"BASE5\",M83*koszyki!$A$14+J83,IF($C$2=\"PEAK7\",(B83-A83+1)*koszyki!$A$14,M83*koszyki!$A$14))))","v":24},{"$f":"'Kalkulator Depozytów'!M88","v":0},{"$f":"'Kalkulator Depozytów'!N88","v":0},{"$f":"'Kalkulator Depozytów'!O88","v":0},{"$f":"'Kalkulator Depozytów'!P88","v":0},{"$f":"'Kalkulator Depozytów'!Q88","v":0},{"$f":"ROUND(AVERAGE(INDIRECT(\"krzywa!C\"&MATCH(A83-$A$2,krzywa!A:A,0)&\":C\"&MATCH(B83-$A$2,krzywa!A:A,0),TRUE)),4)","v":{"$error":"#N/A"}},null,0,null,{"$f":"NETWORKDAYS(A83,B83,koszyki!$M$20:$M$89)","v":0},{"$f":"B83-A83+1- NETWORKDAYS(A83,B83,koszyki!$M$20:$M$89)","v":1},null,{"$error":"#N/A"},{"$error":"#N/A"},{"$f":"VLOOKUP(A83,krzywa!L:N,3,1)","v":{"$error":"#N/A"}},{"$f":"VLOOKUP(B83,krzywa!L:N,3,1)","v":{"$error":"#N/A"}},{"$f":"IF('Kalkulator Depozytów'!$B$35=TRUE,1,(1+R83/100)*V83+(1+S83/100)*(1-V83))","v":{"$error":"#N/A"}},{"$f":"IF(R83<>S83,VLOOKUP(A83,krzywa!L:N,2,1))","v":{"$error":"#N/A"}},{"$f":"IF(U83<>FALSE,IF($C$2=\"GAS_BASE\",(U83-A83+1)*koszyki!$A$14+J83,IF($C$2=\"OFFPEAK\",M83*koszyki!$A$14+(N83)*24+J83,IF($C$2=\"BASE5\",M83*koszyki!$A$14+J83,IF($C$2=\"PEAK7\",(B83-A83+1)*koszyki!$A$14,M83*koszyki!$A$14))))/B83,1)","v":{"$error":"#N/A"}},null,null,null,null,null,null,null,null,null,null,null,null,null,null,"00:00:00",{"$f":"AK83-1","v":-1},-2,-3,null,{"$f":"NETWORKDAYS(AK83,AK83,koszyki!$M$20:$M$89)","v":0},{"$f":"NETWORKDAYS(AL83,AL83,koszyki!$M$20:$M$89)","v":{"$error":"#NUM!"}},{"$f":"NETWORKDAYS(AM83,AM83,koszyki!$M$20:$M$89)","v":{"$error":"#NUM!"}},{"$f":"NETWORKDAYS(AN83,AN83,koszyki!$M$20:$M$89)","v":{"$error":"#NUM!"}},null,0,{"$error":"#NUM!"},{"$error":"#NUM!"},{"$error":"#NUM!"},null,1]
[null,null,{"$f":"IF($C$2=\"GAS_BASE\",(B84-A84+1)*koszyki!$A$14+J84,IF($C$2=\"OFFPEAK\",M84*koszyki!$A$14+(N84)*24+J84,IF($C$2=\"BASE5\",M84*koszyki!$A$14+J84,IF($C$2=\"PEAK7\",(B84-A84+1)*koszyki!$A$14,M84*koszyki!$A$14))))","v":24},{"$f":"'Kalkulator Depozytów'!M89","v":0},{"$f":"'Kalkulator Depozytów'!N89","v":0},{"$f":"'Kalkulator Depozytów'!O89","v":0},{"$f":"'Kalkulator Depozytów'!P89","v":0},{"$f":"'Kalkulator Depozytów'!Q89","v":0},{"$f":"ROUND(AVERAGE(INDIRECT(\"krzywa!C\"&MATCH(A84-$A$2,krzywa!A:A,0)&\":C\"&MATCH(B84-$A$2,krzywa!A:A,0),TRUE)),4)","v":{"$error":"#N/A"}},null,0,null,{"$f":"NETWORKDAYS(A84,B84,koszyki!$M$20:$M$89)","v":0},{"$f":"B84-A84+1- NETWORKDAYS(A84,B84,koszyki!$M$20:$M$89)","v":1},null,{"$error":"#N/A"},{"$error":"#N/A"},{"$f":"VLOOKUP(A84,krzywa!L:N,3,1)","v":{"$error":"#N/A"}},{"$f":"VLOOKUP(B84,krzywa!L:N,3,1)","v":{"$error":"#N/A"}},{"$f":"IF('Kalkulator Depozytów'!$B$35=TRUE,1,(1+R84/100)*V84+(1+S84/100)*(1-V84))","v":{"$error":"#N/A"}},{"$f":"IF(R84<>S84,VLOOKUP(A84,krzywa!L:N,2,1))","v":{"$error":"#N/A"}},{"$f":"IF(U84<>FALSE,IF($C$2=\"GAS_BASE\",(U84-A84+1)*koszyki!$A$14+J84,IF($C$2=\"OFFPEAK\",M84*koszyki!$A$14+(N84)*24+J84,IF($C$2=\"BASE5\",M84*koszyki!$A$14+J84,IF($C$2=\"PEAK7\",(B84-A84+1)*koszyki!$A$14,M84*koszyki!$A$14))))/B84,1)","v":{"$error":"#N/A"}},null,null,null,null,null,null,null,null,null,null,null,null,null,null,"00:00:00",{"$f":"AK84-1","v":-1},-2,-3,null,{"$f":"NETWORKDAYS(AK84,AK84,koszyki!$M$20:$M$89)","v":0},{"$f":"NETWORKDAYS(AL84,AL84,koszyki!$M$20:$M$89)","v":{"$error":"#NUM!"}},{"$f":"NETWORKDAYS(AM84,AM84,koszyki!$M$20:$M$89)","v":{"$error":"#NUM!"}},{"$f":"NETWORKDAYS(AN84,AN84,koszyki!$M$20:$M$89)","v":{"$error":"#NUM!"}},null,0,{"$error":"#NUM!"},{"$error":"#NUM!"},{"$error":"#NUM!"},null,1]
[null,null,{"$f":"IF($C$2=\"GAS_BASE\",(B85-A85+1)*koszyki!$A$14+J85,IF($C$2=\"OFFPEAK\",M85*koszyki!$A$14+(N85)*24+J85,IF($C$2=\"BASE5\",M85*koszyki!$A$14+J85,IF($C$2=\"PEAK7\",(B85-A85+1)*koszyki!$A$14,M85*koszyki!$A$14))))","v":24},{"$f":"'Kalkulator Depozytów'!M90","v":0},{"$f":"'Kalkulator Depozytów'!N90","v":0},{"$f":"'Kalkulator Depozytów'!O90","v":0},{"$f":"'Kalkulator Depozytów'!P90","v":0},{"$f":"'Kalkulator Depozytów'!Q90","v":0},{"$f":"ROUND(AVERAGE(INDIRECT(\"krzywa!C\"&MATCH(A85-$A$2,krzywa!A:A,0)&\":C\"&MATCH(B85-$A$2,krzywa!A:A,0),TRUE)),4)","v":{"$error":"#N/A"}},null,0,null,{"$f":"NETWORKDAYS(A85,B85,koszyki!$M$20:$M$89)","v":0},{"$f":"B85-A85+1- NETWORKDAYS(A85,B85,koszyki!$M$20:$M$89)","v":1},null,{"$error":"#N/A"},{"$error":"#N/A"},{"$f":"VLOOKUP(A85,krzywa!L:N,3,1)","v":{"$error":"#N/A"}},{"$f":"VLOOKUP(B85,krzywa!L:N,3,1)","v":{"$error":"#N/A"}},{"$f":"IF('Kalkulator Depozytów'!$B$35=TRUE,1,(1+R85/100)*V85+(1+S85/100)*(1-V85))","v":{"$error":"#N/A"}},{"$f":"IF(R85<>S85,VLOOKUP(A85,krzywa!L:N,2,1))","v":{"$error":"#N/A"}},{"$f":"IF(U85<>FALSE,IF($C$2=\"GAS_BASE\",(U85-A85+1)*koszyki!$A$14+J85,IF($C$2=\"OFFPEAK\",M85*koszyki!$A$14+(N85)*24+J85,IF($C$2=\"BASE5\",M85*koszyki!$A$14+J85,IF($C$2=\"PEAK7\",(B85-A85+1)*koszyki!$A$14,M85*koszyki!$A$14))))/B85,1)","v":{"$error":"#N/A"}},null,null,null,null,null,null,null,null,null,null,null,null,null,null,"00:00:00",{"$f":"AK85-1","v":-1},-2,-3,null,{"$f":"NETWORKDAYS(AK85,AK85,koszyki!$M$20:$M$89)","v":0},{"$f":"NETWORKDAYS(AL85,AL85,koszyki!$M$20:$M$89)","v":{"$error":"#NUM!"}},{"$f":"NETWORKDAYS(AM85,AM85,koszyki!$M$20:$M$89)","v":{"$error":"#NUM!"}},{"$f":"NETWORKDAYS(AN85,AN85,koszyki!$M$20:$M$89)","v":{"$error":"#NUM!"}},null,0,{"$error":"#NUM!"},{"$error":"#NUM!"},{"$error":"#NUM!"},null,1]
[null,null,{"$f":"IF($C$2=\"GAS_BASE\",(B86-A86+1)*koszyki!$A$14+J86,IF($C$2=\"OFFPEAK\",M86*koszyki!$A$14+(N86)*24+J86,IF($C$2=\"BASE5\",M86*koszyki!$A$14+J86,IF($C$2=\"PEAK7\",(B86-A86+1)*koszyki!$A$14,M86*koszyki!$A$14))))","v":24},{"$f":"'Kalkulator Depozytów'!M91","v":0},{"$f":"'Kalkulator Depozytów'!N91","v":0},{"$f":"'Kalkulator Depozytów'!O91","v":0},{"$f":"'Kalkulator Depozytów'!P91","v":0},{"$f":"'Kalkulator Depozytów'!Q91","v":0},{"$f":"ROUND(AVERAGE(INDIRECT(\"krzywa!C\"&MATCH(A86-$A$2,krzywa!A:A,0)&\":C\"&MATCH(B86-$A$2,krzywa!A:A,0),TRUE)),4)","v":{"$error":"#N/A"}},null,0,null,{"$f":"NETWORKDAYS(A86,B86,koszyki!$M$20:$M$89)","v":0},{"$f":"B86-A86+1- NETWORKDAYS(A86,B86,koszyki!$M$20:$M$89)","v":1},null,{"$error":"#N/A"},{"$error":"#N/A"},{"$f":"VLOOKUP(A86,krzywa!L:N,3,1)","v":{"$error":"#N/A"}},{"$f":"VLOOKUP(B86,krzywa!L:N,3,1)","v":{"$error":"#N/A"}},{"$f":"IF('Kalkulator Depozytów'!$B$35=TRUE,1,(1+R86/100)*V86+(1+S86/100)*(1-V86))","v":{"$error":"#N/A"}},{"$f":"IF(R86<>S86,VLOOKUP(A86,krzywa!L:N,2,1))","v":{"$error":"#N/A"}},{"$f":"IF(U86<>FALSE,IF($C$2=\"GAS_BASE\",(U86-A86+1)*koszyki!$A$14+J86,IF($C$2=\"OFFPEAK\",M86*koszyki!$A$14+(N86)*24+J86,IF($C$2=\"BASE5\",M86*koszyki!$A$14+J86,IF($C$2=\"PEAK7\",(B86-A86+1)*koszyki!$A$14,M86*koszyki!$A$14))))/B86,1)","v":{"$error":"#N/A"}},null,null,null,null,null,null,null,null,null,null,null,null,null,null,"00:00:00",{"$f":"AK86-1","v":-1},-2,-3,null,{"$f":"NETWORKDAYS(AK86,AK86,koszyki!$M$20:$M$89)","v":0},{"$f":"NETWORKDAYS(AL86,AL86,koszyki!$M$20:$M$89)","v":{"$error":"#NUM!"}},{"$f":"NETWORKDAYS(AM86,AM86,koszyki!$M$20:$M$89)","v":{"$error":"#NUM!"}},{"$f":"NETWORKDAYS(AN86,AN86,koszyki!$M$20:$M$89)","v":{"$error":"#NUM!"}},null,0,{"$error":"#NUM!"},{"$error":"#NUM!"},{"$error":"#NUM!"},null,1]
[null,null,null,null,null,null,null,null,null,null,null,null,null,null,null,null,null,{"$f":"VLOOKUP(A87,krzywa!L:N,3,1)","v":{"$error":"#N/A"}},{"$f":"VLOOKUP(B87,krzywa!L:N,3,1)","v":{"$error":"#N/A"}},{"$f":"IF('Kalkulator Depozytów'!$B$35=TRUE,1,(1+R87/100)*V87+(1+S87/100)*(1-V87))","v":{"$error":"#N/A"}},{"$f":"IF(R87<>S87,VLOOKUP(A87,krzywa!L:N,2,1))","v":{"$error":"#N/A"}},{"$f":"IF(U87<>FALSE,IF($C$2=\"GAS_BASE\",(U87-A87+1)*koszyki!$A$14+J87,IF($C$2=\"OFFPEAK\",M87*koszyki!$A$14+(N87)*24+J87,IF($C$2=\"BASE5\",M87*koszyki!$A$14+J87,IF($C$2=\"PEAK7\",(B87-A87+1)*koszyki!$A$14,M87*koszyki!$A$14))))/B87,1)","v":{"$error":"#N/A"}},null,null,null,null,null,null,null,null,null,null,null,null,null,null,"00:00:00",{"$f":"AK87-1","v":-1},-2,-3,null,{"$f":"NETWORKDAYS(AK87,AK87,koszyki!$M$20:$M$89)","v":0},{"$f":"NETWORKDAYS(AL87,AL87,koszyki!$M$20:$M$89)","v":{"$error":"#NUM!"}},{"$f":"NETWORKDAYS(AM87,AM87,koszyki!$M$20:$M$89)","v":{"$error":"#NUM!"}},{"$f":"NETWORKDAYS(AN87,AN87,koszyki!$M$20:$M$89)","v":{"$error":"#NUM!"}},null,0,{"$error":"#NUM!"},{"$error":"#NUM!"},{"$error":"#NUM!"},null,1]
[null,null,null,null,null,null,null,null,null,null,null,null,null,null,null,null,null,{"$f":"VLOOKUP(A88,krzywa!L:N,3,1)","v":{"$error":"#N/A"}},{"$f":"VLOOKUP(B88,krzywa!L:N,3,1)","v":{"$error":"#N/A"}},{"$f":"IF('Kalkulator Depozytów'!$B$35=TRUE,1,(1+R88/100)*V88+(1+S88/100)*(1-V88))","v":{"$error":"#N/A"}},{"$f":"IF(R88<>S88,VLOOKUP(A88,krzywa!L:N,2,1))","v":{"$error":"#N/A"}},{"$f":"IF(U88<>FALSE,IF($C$2=\"GAS_BASE\",(U88-A88+1)*koszyki!$A$14+J88,IF($C$2=\"OFFPEAK\",M88*koszyki!$A$14+(N88)*24+J88,IF($C$2=\"BASE5\",M88*koszyki!$A$14+J88,IF($C$2=\"PEAK7\",(B88-A88+1)*koszyki!$A$14,M88*koszyki!$A$14))))/B88,1)","v":{"$error":"#N/A"}},null,null,null,null,null,null,null,null,null,null,null,null,null,null,"00:00:00",{"$f":"AK88-1","v":-1},-2,-3,null,{"$f":"NETWORKDAYS(AK88,AK88,koszyki!$M$20:$M$89)","v":0},{"$f":"NETWORKDAYS(AL88,AL88,koszyki!$M$20:$M$89)","v":{"$error":"#NUM!"}},{"$f":"NETWORKDAYS(AM88,AM88,koszyki!$M$20:$M$89)","v":{"$error":"#NUM!"}},{"$f":"NETWORKDAYS(AN88,AN88,koszyki!$M$20:$M$89)","v":{"$error":"#NUM!"}},null,0,{"$error":"#NUM!"},{"$error":"#NUM!"},{"$error":"#NUM!"},null,1]
[null,null,null,null,null,null,null,null,null,null,null,null,null,null,null,null,null,{"$f":"VLOOKUP(A89,krzywa!L:N,3,1)","v":{"$error":"#N/A"}},{"$f":"VLOOKUP(B89,krzywa!L:N,3,1)","v":{"$error":"#N/A"}},{"$f":"IF('Kalkulator Depozytów'!$B$35=TRUE,1,(1+R89/100)*V89+(1+S89/100)*(1-V89))","v":{"$error":"#N/A"}},{"$f":"IF(R89<>S89,VLOOKUP(A89,krzywa!L:N,2,1))","v":{"$error":"#N/A"}},{"$f":"IF(U89<>FALSE,IF($C$2=\"GAS_BASE\",(U89-A89+1)*koszyki!$A$14+J89,IF($C$2=\"OFFPEAK\",M89*koszyki!$A$14+(N89)*24+J89,IF($C$2=\"BASE5\",M89*koszyki!$A$14+J89,IF($C$2=\"PEAK7\",(B89-A89+1)*koszyki!$A$14,M89*koszyki!$A$14))))/B89,1)","v":{"$error":"#N/A"}}]
[null,null,null,null,null,null,null,null,null,null,null,null,null,null,null,null,null,{"$f":"VLOOKUP(A90,krzywa!L:N,3,1)","v":{"$error":"#N/A"}},{"$f":"VLOOKUP(B90,krzywa!L:N,3,1)","v":{"$error":"#N/A"}},{"$f":"IF('Kalkulator Depozytów'!$B$35=TRUE,1,(1+R90/100)*V90+(1+S90/100)*(1-V90))","v":{"$error":"#N/A"}},{"$f":"IF(R90<>S90,VLOOKUP(A90,krzywa!L:N,2,1))","v":{"$error":"#N/A"}},{"$f":"IF(U90<>FALSE,IF($C$2=\"GAS_BASE\",(U90-A90+1)*koszyki!$A$14+J90,IF($C$2=\"OFFPEAK\",M90*koszyki!$A$14+(N90)*24+J90,IF($C$2=\"BASE5\",M90*koszyki!$A$14+J90,IF($C$2=\"PEAK7\",(B90-A90+1)*koszyki!$A$14,M90*koszyki!$A$14))))/B90,1)","v":{"$error":"#N/A"}}]
[null,null,null,null,null,null,null,null,null,null,null,null,null,null,null,null,null,{"$f":"VLOOKUP(A91,krzywa!L:N,3,1)","v":{"$error":"#N/A"}},{"$f":"VLOOKUP(B91,krzywa!L:N,3,1)","v":{"$error":"#N/A"}},{"$f":"IF('Kalkulator Depozytów'!$B$35=TRUE,1,(1+R91/100)*V91+(1+S91/100)*(1-V91))","v":{"$error":"#N/A"}},{"$f":"IF(R91<>S91,VLOOKUP(A91,krzywa!L:N,2,1))","v":{"$error":"#N/A"}},{"$f":"IF(U91<>FALSE,IF($C$2=\"GAS_BASE\",(U91-A91+1)*koszyki!$A$14+J91,IF($C$2=\"OFFPEAK\",M91*koszyki!$A$14+(N91)*24+J91,IF($C$2=\"BASE5\",M91*koszyki!$A$14+J91,IF($C$2=\"PEAK7\",(B91-A91+1)*koszyki!$A$14,M91*koszyki!$A$14))))/B91,1)","v":{"$error":"#N/A"}}]
[null,null,null,null,null,null,null,null,null,null,null,null,null,null,null,null,null,{"$f":"VLOOKUP(A92,krzywa!L:N,3,1)","v":{"$error":"#N/A"}},{"$f":"VLOOKUP(B92,krzywa!L:N,3,1)","v":{"$error":"#N/A"}},{"$f":"IF('Kalkulator Depozytów'!$B$35=TRUE,1,(1+R92/100)*V92+(1+S92/100)*(1-V92))","v":{"$error":"#N/A"}},{"$f":"IF(R92<>S92,VLOOKUP(A92,krzywa!L:N,2,1))","v":{"$error":"#N/A"}},{"$f":"IF(U92<>FALSE,IF($C$2=\"GAS_BASE\",(U92-A92+1)*koszyki!$A$14+J92,IF($C$2=\"OFFPEAK\",M92*koszyki!$A$14+(N92)*24+J92,IF($C$2=\"BASE5\",M92*koszyki!$A$14+J92,IF($C$2=\"PEAK7\",(B92-A92+1)*koszyki!$A$14,M92*koszyki!$A$14))))/B92,1)","v":{"$error":"#N/A"}}]
[null,null,null,null,null,null,null,null,null,null,null,null,null,null,null,null,null,{"$f":"VLOOKUP(A93,krzywa!L:N,3,1)","v":{"$error":"#N/A"}},{"$f":"VLOOKUP(B93,krzywa!L:N,3,1)","v":{"$error":"#N/A"}},{"$f":"IF('Kalkulator Depozytów'!$B$35=TRUE,1,(1+R93/100)*V93+(1+S93/100)*(1-V93))","v":{"$error":"#N/A"}},{"$f":"IF(R93<>S93,VLOOKUP(A93,krzywa!L:N,2,1))","v":{"$error":"#N/A"}},{"$f":"IF(U93<>FALSE,IF($C$2=\"GAS_BASE\",(U93-A93+1)*koszyki!$A$14+J93,IF($C$2=\"OFFPEAK\",M93*koszyki!$A$14+(N93)*24+J93,IF($C$2=\"BASE5\",M93*koszyki!$A$14+J93,IF($C$2=\"PEAK7\",(B93-A93+1)*koszyki!$A$14,M93*koszyki!$A$14))))/B93,1)","v":{"$error":"#N/A"}}]
[null,null,null,null,null,null,null,null,null,null,null,null,null,null,null,null,null,{"$f":"VLOOKUP(A94,krzywa!L:N,3,1)","v":{"$error":"#N/A"}},{"$f":"VLOOKUP(B94,krzywa!L:N,3,1)","v":{"$error":"#N/A"}},{"$f":"IF('Kalkulator Depozytów'!$B$35=TRUE,1,(1+R94/100)*V94+(1+S94/100)*(1-V94))","v":{"$error":"#N/A"}},{"$f":"IF(R94<>S94,VLOOKUP(A94,krzywa!L:N,2,1))","v":{"$error":"#N/A"}},{"$f":"IF(U94<>FALSE,IF($C$2=\"GAS_BASE\",(U94-A94+1)*koszyki!$A$14+J94,IF($C$2=\"OFFPEAK\",M94*koszyki!$A$14+(N94)*24+J94,IF($C$2=\"BASE5\",M94*koszyki!$A$14+J94,IF($C$2=\"PEAK7\",(B94-A94+1)*koszyki!$A$14,M94*koszyki!$A$14))))/B94,1)","v":{"$error":"#N/A"}}]
[null,null,null,null,null,null,null,null,null,null,null,null,null,null,null,null,null,{"$f":"VLOOKUP(A95,krzywa!L:N,3,1)","v":{"$error":"#N/A"}},{"$f":"VLOOKUP(B95,krzywa!L:N,3,1)","v":{"$error":"#N/A"}},{"$f":"IF('Kalkulator Depozytów'!$B$35=TRUE,1,(1+R95/100)*V95+(1+S95/100)*(1-V95))","v":{"$error":"#N/A"}},{"$f":"IF(R95<>S95,VLOOKUP(A95,krzywa!L:N,2,1))","v":{"$error":"#N/A"}},{"$f":"IF(U95<>FALSE,IF($C$2=\"GAS_BASE\",(U95-A95+1)*koszyki!$A$14+J95,IF($C$2=\"OFFPEAK\",M95*koszyki!$A$14+(N95)*24+J95,IF($C$2=\"BASE5\",M95*koszyki!$A$14+J95,IF($C$2=\"PEAK7\",(B95-A95+1)*koszyki!$A$14,M95*koszyki!$A$14))))/B95,1)","v":{"$error":"#N/A"}}]
[null,null,null,null,null,null,null,null,null,null,null,null,null,null,null,null,null,{"$f":"VLOOKUP(A96,krzywa!L:N,3,1)","v":{"$error":"#N/A"}},{"$f":"VLOOKUP(B96,krzywa!L:N,3,1)","v":{"$error":"#N/A"}},{"$f":"IF('Kalkulator Depozytów'!$B$35=TRUE,1,(1+R96/100)*V96+(1+S96/100)*(1-V96))","v":{"$error":"#N/A"}},{"$f":"IF(R96<>S96,VLOOKUP(A96,krzywa!L:N,2,1))","v":{"$error":"#N/A"}},{"$f":"IF(U96<>FALSE,IF($C$2=\"GAS_BASE\",(U96-A96+1)*koszyki!$A$14+J96,IF($C$2=\"OFFPEAK\",M96*koszyki!$A$14+(N96)*24+J96,IF($C$2=\"BASE5\",M96*koszyki!$A$14+J96,IF($C$2=\"PEAK7\",(B96-A96+1)*koszyki!$A$14,M96*koszyki!$A$14))))/B96,1)","v":{"$error":"#N/A"}}]
[null,null,null,null,null,null,null,null,null,null,null,null,null,null,null,null,null,{"$f":"VLOOKUP(A97,krzywa!L:N,3,1)","v":{"$error":"#N/A"}},{"$f":"VLOOKUP(B97,krzywa!L:N,3,1)","v":{"$error":"#N/A"}},{"$f":"IF('Kalkulator Depozytów'!$B$35=TRUE,1,(1+R97/100)*V97+(1+S97/100)*(1-V97))","v":{"$error":"#N/A"}},{"$f":"IF(R97<>S97,VLOOKUP(A97,krzywa!L:N,2,1))","v":{"$error":"#N/A"}},{"$f":"IF(U97<>FALSE,IF($C$2=\"GAS_BASE\",(U97-A97+1)*koszyki!$A$14+J97,IF($C$2=\"OFFPEAK\",M97*koszyki!$A$14+(N97)*24+J97,IF($C$2=\"BASE5\",M97*koszyki!$A$14+J97,IF($C$2=\"PEAK7\",(B97-A97+1)*koszyki!$A$14,M97*koszyki!$A$14))))/B97,1)","v":{"$error":"#N/A"}}]
[null,null,null,null,null,null,null,null,null,null,null,null,null,null,null,null,null,{"$f":"VLOOKUP(A98,krzywa!L:N,3,1)","v":{"$error":"#N/A"}},{"$f":"VLOOKUP(B98,krzywa!L:N,3,1)","v":{"$error":"#N/A"}},{"$f":"IF('Kalkulator Depozytów'!$B$35=TRUE,1,(1+R98/100)*V98+(1+S98/100)*(1-V98))","v":{"$error":"#N/A"}},{"$f":"IF(R98<>S98,VLOOKUP(A98,krzywa!L:N,2,1))","v":{"$error":"#N/A"}},{"$f":"IF(U98<>FALSE,IF($C$2=\"GAS_BASE\",(U98-A98+1)*koszyki!$A$14+J98,IF($C$2=\"OFFPEAK\",M98*koszyki!$A$14+(N98)*24+J98,IF($C$2=\"BASE5\",M98*koszyki!$A$14+J98,IF($C$2=\"PEAK7\",(B98-A98+1)*koszyki!$A$14,M98*koszyki!$A$14))))/B98,1)","v":{"$error":"#N/A"}}]
[null,null,null,null,null,null,null,null,null,null,null,null,null,null,null,null,null,{"$f":"VLOOKUP(A99,krzywa!L:N,3,1)","v":{"$error":"#N/A"}},{"$f":"VLOOKUP(B99,krzywa!L:N,3,1)","v":{"$error":"#N/A"}},{"$f":"IF('Kalkulator Depozytów'!$B$35=TRUE,1,(1+R99/100)*V99+(1+S99/100)*(1-V99))","v":{"$error":"#N/A"}},{"$f":"IF(R99<>S99,VLOOKUP(A99,krzywa!L:N,2,1))","v":{"$error":"#N/A"}},{"$f":"IF(U99<>FALSE,IF($C$2=\"GAS_BASE\",(U99-A99+1)*koszyki!$A$14+J99,IF($C$2=\"OFFPEAK\",M99*koszyki!$A$14+(N99)*24+J99,IF($C$2=\"BASE5\",M99*koszyki!$A$14+J99,IF($C$2=\"PEAK7\",(B99-A99+1)*koszyki!$A$14,M99*koszyki!$A$14))))/B99,1)","v":{"$error":"#N/A"}}]
[null,null,null,null,null,null,null,null,null,null,null,null,null,null,null,null,null,{"$f":"VLOOKUP(A100,krzywa!L:N,3,1)","v":{"$error":"#N/A"}},{"$f":"VLOOKUP(B100,krzywa!L:N,3,1)","v":{"$error":"#N/A"}},{"$f":"IF('Kalkulator Depozytów'!$B$35=TRUE,1,(1+R100/100)*V100+(1+S100/100)*(1-V100))","v":{"$error":"#N/A"}},{"$f":"IF(R100<>S100,VLOOKUP(A100,krzywa!L:N,2,1))","v":{"$error":"#N/A"}},{"$f":"IF(U100<>FALSE,IF($C$2=\"GAS_BASE\",(U100-A100+1)*koszyki!$A$14+J100,IF($C$2=\"OFFPEAK\",M100*koszyki!$A$14+(N100)*24+J100,IF($C$2=\"BASE5\",M100*koszyki!$A$14+J100,IF($C$2=\"PEAK7\",(B100-A100+1)*koszyki!$A$14,M100*koszyki!$A$14))))/B100,1)","v":{"$error":"#N/A"}}]
[null,null,null,null,null,null,null,null,null,null,null,null,null,null,null,null,null,{"$f":"VLOOKUP(A101,krzywa!L:N,3,1)","v":{"$error":"#N/A"}},{"$f":"VLOOKUP(B101,krzywa!L:N,3,1)","v":{"$error":"#N/A"}},{"$f":"IF('Kalkulator Depozytów'!$B$35=TRUE,1,(1+R101/100)*V101+(1+S101/100)*(1-V101))","v":{"$error":"#N/A"}},{"$f":"IF(R101<>S101,VLOOKUP(A101,krzywa!L:N,2,1))","v":{"$error":"#N/A"}},{"$f":"IF(U101<>FALSE,IF($C$2=\"GAS_BASE\",(U101-A101+1)*koszyki!$A$14+J101,IF($C$2=\"OFFPEAK\",M101*koszyki!$A$14+(N101)*24+J101,IF($C$2=\"BASE5\",M101*koszyki!$A$14+J101,IF($C$2=\"PEAK7\",(B101-A101+1)*koszyki!$A$14,M101*koszyki!$A$14))))/B101,1)","v":{"$error":"#N/A"}}]
[null,null,null,null,null,null,null,null,null,null,null,null,null,null,null,null,null,{"$f":"VLOOKUP(A102,krzywa!L:N,3,1)","v":{"$error":"#N/A"}},{"$f":"VLOOKUP(B102,krzywa!L:N,3,1)","v":{"$error":"#N/A"}},{"$f":"IF('Kalkulator Depozytów'!$B$35=TRUE,1,(1+R102/100)*V102+(1+S102/100)*(1-V102))","v":{"$error":"#N/A"}},{"$f":"IF(R102<>S102,VLOOKUP(A102,krzywa!L:N,2,1))","v":{"$error":"#N/A"}},{"$f":"IF(U102<>FALSE,IF($C$2=\"GAS_BASE\",(U102-A102+1)*koszyki!$A$14+J102,IF($C$2=\"OFFPEAK\",M102*koszyki!$A$14+(N102)*24+J102,IF($C$2=\"BASE5\",M102*koszyki!$A$14+J102,IF($C$2=\"PEAK7\",(B102-A102+1)*koszyki!$A$14,M102*koszyki!$A$14))))/B102,1)","v":{"$error":"#N/A"}}]
[null,null,null,null,null,null,null,null,null,null,null,null,null,null,null,null,null,{"$f":"VLOOKUP(A103,krzywa!L:N,3,1)","v":{"$error":"#N/A"}},{"$f":"VLOOKUP(B103,krzywa!L:N,3,1)","v":{"$error":"#N/A"}},{"$f":"IF('Kalkulator Depozytów'!$B$35=TRUE,1,(1+R103/100)*V103+(1+S103/100)*(1-V103))","v":{"$error":"#N/A"}},{"$f":"IF(R103<>S103,VLOOKUP(A103,krzywa!L:N,2,1))","v":{"$error":"#N/A"}},{"$f":"IF(U103<>FALSE,IF($C$2=\"GAS_BASE\",(U103-A103+1)*koszyki!$A$14+J103,IF($C$2=\"OFFPEAK\",M103*koszyki!$A$14+(N103)*24+J103,IF($C$2=\"BASE5\",M103*koszyki!$A$14+J103,IF($C$2=\"PEAK7\",(B103-A103+1)*koszyki!$A$14,M103*koszyki!$A$14))))/B103,1)","v":{"$error":"#N/A"}}]
[null,null,null,null,null,null,null,null,null,null,null,null,null,null,null,null,null,{"$f":"VLOOKUP(A104,krzywa!L:N,3,1)","v":{"$error":"#N/A"}},{"$f":"VLOOKUP(B104,krzywa!L:N,3,1)","v":{"$error":"#N/A"}},{"$f":"IF('Kalkulator Depozytów'!$B$35=TRUE,1,(1+R104/100)*V104+(1+S104/100)*(1-V104))","v":{"$error":"#N/A"}},{"$f":"IF(R104<>S104,VLOOKUP(A104,krzywa!L:N,2,1))","v":{"$error":"#N/A"}},{"$f":"IF(U104<>FALSE,IF($C$2=\"GAS_BASE\",(U104-A104+1)*koszyki!$A$14+J104,IF($C$2=\"OFFPEAK\",M104*koszyki!$A$14+(N104)*24+J104,IF($C$2=\"BASE5\",M104*koszyki!$A$14+J104,IF($C$2=\"PEAK7\",(B104-A104+1)*koszyki!$A$14,M104*koszyki!$A$14))))/B104,1)","v":{"$error":"#N/A"}}]
[null,null,null,null,null,null,null,null,null,null,null,null,null,null,null,null,null,{"$f":"VLOOKUP(A105,krzywa!L:N,3,1)","v":{"$error":"#N/A"}},{"$f":"VLOOKUP(B105,krzywa!L:N,3,1)","v":{"$error":"#N/A"}},{"$f":"IF('Kalkulator Depozytów'!$B$35=TRUE,1,(1+R105/100)*V105+(1+S105/100)*(1-V105))","v":{"$error":"#N/A"}},{"$f":"IF(R105<>S105,VLOOKUP(A105,krzywa!L:N,2,1))","v":{"$error":"#N/A"}},{"$f":"IF(U105<>FALSE,IF($C$2=\"GAS_BASE\",(U105-A105+1)*koszyki!$A$14+J105,IF($C$2=\"OFFPEAK\",M105*koszyki!$A$14+(N105)*24+J105,IF($C$2=\"BASE5\",M105*koszyki!$A$14+J105,IF($C$2=\"PEAK7\",(B105-A105+1)*koszyki!$A$14,M105*koszyki!$A$14))))/B105,1)","v":{"$error":"#N/A"}}]
[null,null,null,null,null,null,null,null,null,null,null,null,null,null,null,null,null,{"$f":"VLOOKUP(A106,krzywa!L:N,3,1)","v":{"$error":"#N/A"}},{"$f":"VLOOKUP(B106,krzywa!L:N,3,1)","v":{"$error":"#N/A"}},{"$f":"IF('Kalkulator Depozytów'!$B$35=TRUE,1,(1+R106/100)*V106+(1+S106/100)*(1-V106))","v":{"$error":"#N/A"}},{"$f":"IF(R106<>S106,VLOOKUP(A106,krzywa!L:N,2,1))","v":{"$error":"#N/A"}},{"$f":"IF(U106<>FALSE,IF($C$2=\"GAS_BASE\",(U106-A106+1)*koszyki!$A$14+J106,IF($C$2=\"OFFPEAK\",M106*koszyki!$A$14+(N106)*24+J106,IF($C$2=\"BASE5\",M106*koszyki!$A$14+J106,IF($C$2=\"PEAK7\",(B106-A106+1)*koszyki!$A$14,M106*koszyki!$A$14))))/B106,1)","v":{"$error":"#N/A"}}]
[null,null,null,null,null,null,null,null,null,null,null,null,null,null,null,null,null,{"$f":"VLOOKUP(A107,krzywa!L:N,3,1)","v":{"$error":"#N/A"}},{"$f":"VLOOKUP(B107,krzywa!L:N,3,1)","v":{"$error":"#N/A"}},{"$f":"IF('Kalkulator Depozytów'!$B$35=TRUE,1,(1+R107/100)*V107+(1+S107/100)*(1-V107))","v":{"$error":"#N/A"}},{"$f":"IF(R107<>S107,VLOOKUP(A107,krzywa!L:N,2,1))","v":{"$error":"#N/A"}},{"$f":"IF(U107<>FALSE,IF($C$2=\"GAS_BASE\",(U107-A107+1)*koszyki!$A$14+J107,IF($C$2=\"OFFPEAK\",M107*koszyki!$A$14+(N107)*24+J107,IF($C$2=\"BASE5\",M107*koszyki!$A$14+J107,IF($C$2=\"PEAK7\",(B107-A107+1)*koszyki!$A$14,M107*koszyki!$A$14))))/B107,1)","v":{"$error":"#N/A"}}]
[null,null,null,null,null,null,null,null,null,null,null,null,null,null,null,null,null,{"$f":"VLOOKUP(A108,krzywa!L:N,3,1)","v":{"$error":"#N/A"}},{"$f":"VLOOKUP(B108,krzywa!L:N,3,1)","v":{"$error":"#N/A"}},{"$f":"IF('Kalkulator Depozytów'!$B$35=TRUE,1,(1+R108/100)*V108+(1+S108/100)*(1-V108))","v":{"$error":"#N/A"}},{"$f":"IF(R108<>S108,VLOOKUP(A108,krzywa!L:N,2,1))","v":{"$error":"#N/A"}},{"$f":"IF(U108<>FALSE,IF($C$2=\"GAS_BASE\",(U108-A108+1)*koszyki!$A$14+J108,IF($C$2=\"OFFPEAK\",M108*koszyki!$A$14+(N108)*24+J108,IF($C$2=\"BASE5\",M108*koszyki!$A$14+J108,IF($C$2=\"PEAK7\",(B108-A108+1)*koszyki!$A$14,M108*koszyki!$A$14))))/B108,1)","v":{"$error":"#N/A"}}]
[null,null,null,null,null,null,null,null,null,null,null,null,null,null,null,null,null,{"$f":"VLOOKUP(A109,krzywa!L:N,3,1)","v":{"$error":"#N/A"}},{"$f":"VLOOKUP(B109,krzywa!L:N,3,1)","v":{"$error":"#N/A"}},{"$f":"IF('Kalkulator Depozytów'!$B$35=TRUE,1,(1+R109/100)*V109+(1+S109/100)*(1-V109))","v":{"$error":"#N/A"}},{"$f":"IF(R109<>S109,VLOOKUP(A109,krzywa!L:N,2,1))","v":{"$error":"#N/A"}},{"$f":"IF(U109<>FALSE,IF($C$2=\"GAS_BASE\",(U109-A109+1)*koszyki!$A$14+J109,IF($C$2=\"OFFPEAK\",M109*koszyki!$A$14+(N109)*24+J109,IF($C$2=\"BASE5\",M109*koszyki!$A$14+J109,IF($C$2=\"PEAK7\",(B109-A109+1)*koszyki!$A$14,M109*koszyki!$A$14))))/B109,1)","v":{"$error":"#N/A"}}]
[null,null,null,null,null,null,null,null,null,null,null,null,null,null,null,null,null,{"$f":"VLOOKUP(A110,krzywa!L:N,3,1)","v":{"$error":"#N/A"}},{"$f":"VLOOKUP(B110,krzywa!L:N,3,1)","v":{"$error":"#N/A"}},{"$f":"IF('Kalkulator Depozytów'!$B$35=TRUE,1,(1+R110/100)*V110+(1+S110/100)*(1-V110))","v":{"$error":"#N/A"}},{"$f":"IF(R110<>S110,VLOOKUP(A110,krzywa!L:N,2,1))","v":{"$error":"#N/A"}},{"$f":"IF(U110<>FALSE,IF($C$2=\"GAS_BASE\",(U110-A110+1)*koszyki!$A$14+J110,IF($C$2=\"OFFPEAK\",M110*koszyki!$A$14+(N110)*24+J110,IF($C$2=\"BASE5\",M110*koszyki!$A$14+J110,IF($C$2=\"PEAK7\",(B110-A110+1)*koszyki!$A$14,M110*koszyki!$A$14))))/B110,1)","v":{"$error":"#N/A"}}]
[null,null,null,null,null,null,null,null,null,null,null,null,null,null,null,null,null,{"$f":"VLOOKUP(A111,krzywa!L:N,3,1)","v":{"$error":"#N/A"}},{"$f":"VLOOKUP(B111,krzywa!L:N,3,1)","v":{"$error":"#N/A"}},{"$f":"IF('Kalkulator Depozytów'!$B$35=TRUE,1,(1+R111/100)*V111+(1+S111/100)*(1-V111))","v":{"$error":"#N/A"}},{"$f":"IF(R111<>S111,VLOOKUP(A111,krzywa!L:N,2,1))","v":{"$error":"#N/A"}},{"$f":"IF(U111<>FALSE,IF($C$2=\"GAS_BASE\",(U111-A111+1)*koszyki!$A$14+J111,IF($C$2=\"OFFPEAK\",M111*koszyki!$A$14+(N111)*24+J111,IF($C$2=\"BASE5\",M111*koszyki!$A$14+J111,IF($C$2=\"PEAK7\",(B111-A111+1)*koszyki!$A$14,M111*koszyki!$A$14))))/B111,1)","v":{"$error":"#N/A"}}]
[null,null,null,null,null,null,null,null,null,null,null,null,null,null,null,null,null,{"$f":"VLOOKUP(A112,krzywa!L:N,3,1)","v":{"$error":"#N/A"}},{"$f":"VLOOKUP(B112,krzywa!L:N,3,1)","v":{"$error":"#N/A"}},{"$f":"IF('Kalkulator Depozytów'!$B$35=TRUE,1,(1+R112/100)*V112+(1+S112/100)*(1-V112))","v":{"$error":"#N/A"}},{"$f":"IF(R112<>S112,VLOOKUP(A112,krzywa!L:N,2,1))","v":{"$error":"#N/A"}},{"$f":"IF(U112<>FALSE,IF($C$2=\"GAS_BASE\",(U112-A112+1)*koszyki!$A$14+J112,IF($C$2=\"OFFPEAK\",M112*koszyki!$A$14+(N112)*24+J112,IF($C$2=\"BASE5\",M112*koszyki!$A$14+J112,IF($C$2=\"PEAK7\",(B112-A112+1)*koszyki!$A$14,M112*koszyki!$A$14))))/B112,1)","v":{"$error":"#N/A"}}]
[null,null,null,null,null,null,null,null,null,null,null,null,null,null,null,null,null,{"$f":"VLOOKUP(A113,krzywa!L:N,3,1)","v":{"$error":"#N/A"}},{"$f":"VLOOKUP(B113,krzywa!L:N,3,1)","v":{"$error":"#N/A"}},{"$f":"IF('Kalkulator Depozytów'!$B$35=TRUE,1,(1+R113/100)*V113+(1+S113/100)*(1-V113))","v":{"$error":"#N/A"}},{"$f":"IF(R113<>S113,VLOOKUP(A113,krzywa!L:N,2,1))","v":{"$error":"#N/A"}},{"$f":"IF(U113<>FALSE,IF($C$2=\"GAS_BASE\",(U113-A113+1)*koszyki!$A$14+J113,IF($C$2=\"OFFPEAK\",M113*koszyki!$A$14+(N113)*24+J113,IF($C$2=\"BASE5\",M113*koszyki!$A$14+J113,IF($C$2=\"PEAK7\",(B113-A113+1)*koszyki!$A$14,M113*koszyki!$A$14))))/B113,1)","v":{"$error":"#N/A"}}]
[null,null,null,null,null,null,null,null,null,null,null,null,null,null,null,null,null,{"$f":"VLOOKUP(A114,krzywa!L:N,3,1)","v":{"$error":"#N/A"}},{"$f":"VLOOKUP(B114,krzywa!L:N,3,1)","v":{"$error":"#N/A"}},{"$f":"IF('Kalkulator Depozytów'!$B$35=TRUE,1,(1+R114/100)*V114+(1+S114/100)*(1-V114))","v":{"$error":"#N/A"}},{"$f":"IF(R114<>S114,VLOOKUP(A114,krzywa!L:N,2,1))","v":{"$error":"#N/A"}},{"$f":"IF(U114<>FALSE,IF($C$2=\"GAS_BASE\",(U114-A114+1)*koszyki!$A$14+J114,IF($C$2=\"OFFPEAK\",M114*koszyki!$A$14+(N114)*24+J114,IF($C$2=\"BASE5\",M114*koszyki!$A$14+J114,IF($C$2=\"PEAK7\",(B114-A114+1)*koszyki!$A$14,M114*koszyki!$A$14))))/B114,1)","v":{"$error":"#N/A"}}]
[null,null,null,null,null,null,null,null,null,null,null,null,null,null,null,null,null,{"$f":"VLOOKUP(A115,krzywa!L:N,3,1)","v":{"$error":"#N/A"}},{"$f":"VLOOKUP(B115,krzywa!L:N,3,1)","v":{"$error":"#N/A"}},{"$f":"IF('Kalkulator Depozytów'!$B$35=TRUE,1,(1+R115/100)*V115+(1+S115/100)*(1-V115))","v":{"$error":"#N/A"}},{"$f":"IF(R115<>S115,VLOOKUP(A115,krzywa!L:N,2,1))","v":{"$error":"#N/A"}},{"$f":"IF(U115<>FALSE,IF($C$2=\"GAS_BASE\",(U115-A115+1)*koszyki!$A$14+J115,IF($C$2=\"OFFPEAK\",M115*koszyki!$A$14+(N115)*24+J115,IF($C$2=\"BASE5\",M115*koszyki!$A$14+J115,IF($C$2=\"PEAK7\",(B115-A115+1)*koszyki!$A$14,M115*koszyki!$A$14))))/B115,1)","v":{"$error":"#N/A"}}]
[null,null,null,null,null,null,null,null,null,null,null,null,null,null,null,null,null,{"$f":"VLOOKUP(A116,krzywa!L:N,3,1)","v":{"$error":"#N/A"}},{"$f":"VLOOKUP(B116,krzywa!L:N,3,1)","v":{"$error":"#N/A"}},{"$f":"IF('Kalkulator Depozytów'!$B$35=TRUE,1,(1+R116/100)*V116+(1+S116/100)*(1-V116))","v":{"$error":"#N/A"}},{"$f":"IF(R116<>S116,VLOOKUP(A116,krzywa!L:N,2,1))","v":{"$error":"#N/A"}},{"$f":"IF(U116<>FALSE,IF($C$2=\"GAS_BASE\",(U116-A116+1)*koszyki!$A$14+J116,IF($C$2=\"OFFPEAK\",M116*koszyki!$A$14+(N116)*24+J116,IF($C$2=\"BASE5\",M116*koszyki!$A$14+J116,IF($C$2=\"PEAK7\",(B116-A116+1)*koszyki!$A$14,M116*koszyki!$A$14))))/B116,1)","v":{"$error":"#N/A"}}]
[null,null,null,null,null,null,null,null,null,null,null,null,null,null,null,null,null,{"$f":"VLOOKUP(A117,krzywa!L:N,3,1)","v":{"$error":"#N/A"}},{"$f":"VLOOKUP(B117,krzywa!L:N,3,1)","v":{"$error":"#N/A"}},{"$f":"IF('Kalkulator Depozytów'!$B$35=TRUE,1,(1+R117/100)*V117+(1+S117/100)*(1-V117))","v":{"$error":"#N/A"}},{"$f":"IF(R117<>S117,VLOOKUP(A117,krzywa!L:N,2,1))","v":{"$error":"#N/A"}},{"$f":"IF(U117<>FALSE,IF($C$2=\"GAS_BASE\",(U117-A117+1)*koszyki!$A$14+J117,IF($C$2=\"OFFPEAK\",M117*koszyki!$A$14+(N117)*24+J117,IF($C$2=\"BASE5\",M117*koszyki!$A$14+J117,IF($C$2=\"PEAK7\",(B117-A117+1)*koszyki!$A$14,M117*koszyki!$A$14))))/B117,1)","v":{"$error":"#N/A"}}]
[null,null,null,null,null,null,null,null,null,null,null,null,null,null,null,null,null,{"$f":"VLOOKUP(A118,krzywa!L:N,3,1)","v":{"$error":"#N/A"}},{"$f":"VLOOKUP(B118,krzywa!L:N,3,1)","v":{"$error":"#N/A"}},{"$f":"IF('Kalkulator Depozytów'!$B$35=TRUE,1,(1+R118/100)*V118+(1+S118/100)*(1-V118))","v":{"$error":"#N/A"}},{"$f":"IF(R118<>S118,VLOOKUP(A118,krzywa!L:N,2,1))","v":{"$error":"#N/A"}},{"$f":"IF(U118<>FALSE,IF($C$2=\"GAS_BASE\",(U118-A118+1)*koszyki!$A$14+J118,IF($C$2=\"OFFPEAK\",M118*koszyki!$A$14+(N118)*24+J118,IF($C$2=\"BASE5\",M118*koszyki!$A$14+J118,IF($C$2=\"PEAK7\",(B118-A118+1)*koszyki!$A$14,M118*koszyki!$A$14))))/B118,1)","v":{"$error":"#N/A"}}]
[null,null,null,null,null,null,null,null,null,null,null,null,null,null,null,null,null,{"$f":"VLOOKUP(A119,krzywa!L:N,3,1)","v":{"$error":"#N/A"}},{"$f":"VLOOKUP(B119,krzywa!L:N,3,1)","v":{"$error":"#N/A"}},{"$f":"IF('Kalkulator Depozytów'!$B$35=TRUE,1,(1+R119/100)*V119+(1+S119/100)*(1-V119))","v":{"$error":"#N/A"}},{"$f":"IF(R119<>S119,VLOOKUP(A119,krzywa!L:N,2,1))","v":{"$error":"#N/A"}},{"$f":"IF(U119<>FALSE,IF($C$2=\"GAS_BASE\",(U119-A119+1)*koszyki!$A$14+J119,IF($C$2=\"OFFPEAK\",M119*koszyki!$A$14+(N119)*24+J119,IF($C$2=\"BASE5\",M119*koszyki!$A$14+J119,IF($C$2=\"PEAK7\",(B119-A119+1)*koszyki!$A$14,M119*koszyki!$A$14))))/B119,1)","v":{"$error":"#N/A"}}]
[null,null,null,null,null,null,null,null,null,null,null,null,null,null,null,null,null,{"$f":"VLOOKUP(A120,krzywa!L:N,3,1)","v":{"$error":"#N/A"}},{"$f":"VLOOKUP(B120,krzywa!L:N,3,1)","v":{"$error":"#N/A"}},{"$f":"IF('Kalkulator Depozytów'!$B$35=TRUE,1,(1+R120/100)*V120+(1+S120/100)*(1-V120))","v":{"$error":"#N/A"}},{"$f":"IF(R120<>S120,VLOOKUP(A120,krzywa!L:N,2,1))","v":{"$error":"#N/A"}},{"$f":"IF(U120<>FALSE,IF($C$2=\"GAS_BASE\",(U120-A120+1)*koszyki!$A$14+J120,IF($C$2=\"OFFPEAK\",M120*koszyki!$A$14+(N120)*24+J120,IF($C$2=\"BASE5\",M120*koszyki!$A$14+J120,IF($C$2=\"PEAK7\",(B120-A120+1)*koszyki!$A$14,M120*koszyki!$A$14))))/B120,1)","v":{"$error":"#N/A"}}]
[null,null,null,null,null,null,null,null,null,null,null,null,null,null,null,null,null,{"$f":"VLOOKUP(A121,krzywa!L:N,3,1)","v":{"$error":"#N/A"}},{"$f":"VLOOKUP(B121,krzywa!L:N,3,1)","v":{"$error":"#N/A"}},{"$f":"IF('Kalkulator Depozytów'!$B$35=TRUE,1,(1+R121/100)*V121+(1+S121/100)*(1-V121))","v":{"$error":"#N/A"}},{"$f":"IF(R121<>S121,VLOOKUP(A121,krzywa!L:N,2,1))","v":{"$error":"#N/A"}},{"$f":"IF(U121<>FALSE,IF($C$2=\"GAS_BASE\",(U121-A121+1)*koszyki!$A$14+J121,IF($C$2=\"OFFPEAK\",M121*koszyki!$A$14+(N121)*24+J121,IF($C$2=\"BASE5\",M121*koszyki!$A$14+J121,IF($C$2=\"PEAK7\",(B121-A121+1)*koszyki!$A$14,M121*koszyki!$A$14))))/B121,1)","v":{"$error":"#N/A"}}]
[null,null,null,null,null,null,null,null,null,null,null,null,null,null,null,null,null,{"$f":"VLOOKUP(A122,krzywa!L:N,3,1)","v":{"$error":"#N/A"}},{"$f":"VLOOKUP(B122,krzywa!L:N,3,1)","v":{"$error":"#N/A"}},{"$f":"IF('Kalkulator Depozytów'!$B$35=TRUE,1,(1+R122/100)*V122+(1+S122/100)*(1-V122))","v":{"$error":"#N/A"}},{"$f":"IF(R122<>S122,VLOOKUP(A122,krzywa!L:N,2,1))","v":{"$error":"#N/A"}},{"$f":"IF(U122<>FALSE,IF($C$2=\"GAS_BASE\",(U122-A122+1)*koszyki!$A$14+J122,IF($C$2=\"OFFPEAK\",M122*koszyki!$A$14+(N122)*24+J122,IF($C$2=\"BASE5\",M122*koszyki!$A$14+J122,IF($C$2=\"PEAK7\",(B122-A122+1)*koszyki!$A$14,M122*koszyki!$A$14))))/B122,1)","v":{"$error":"#N/A"}}]
[null,null,null,null,null,null,null,null,null,null,null,null,null,null,null,null,null,{"$f":"VLOOKUP(A123,krzywa!L:N,3,1)","v":{"$error":"#N/A"}},{"$f":"VLOOKUP(B123,krzywa!L:N,3,1)","v":{"$error":"#N/A"}},{"$f":"IF('Kalkulator Depozytów'!$B$35=TRUE,1,(1+R123/100)*V123+(1+S123/100)*(1-V123))","v":{"$error":"#N/A"}},{"$f":"IF(R123<>S123,VLOOKUP(A123,krzywa!L:N,2,1))","v":{"$error":"#N/A"}},{"$f":"IF(U123<>FALSE,IF($C$2=\"GAS_BASE\",(U123-A123+1)*koszyki!$A$14+J123,IF($C$2=\"OFFPEAK\",M123*koszyki!$A$14+(N123)*24+J123,IF($C$2=\"BASE5\",M123*koszyki!$A$14+J123,IF($C$2=\"PEAK7\",(B123-A123+1)*koszyki!$A$14,M123*koszyki!$A$14))))/B123,1)","v":{"$error":"#N/A"}}]
[null,null,null,null,null,null,null,null,null,null,null,null,null,null,null,null,null,{"$f":"VLOOKUP(A124,krzywa!L:N,3,1)","v":{"$error":"#N/A"}},{"$f":"VLOOKUP(B124,krzywa!L:N,3,1)","v":{"$error":"#N/A"}},{"$f":"IF('Kalkulator Depozytów'!$B$35=TRUE,1,(1+R124/100)*V124+(1+S124/100)*(1-V124))","v":{"$error":"#N/A"}},{"$f":"IF(R124<>S124,VLOOKUP(A124,krzywa!L:N,2,1))","v":{"$error":"#N/A"}},{"$f":"IF(U124<>FALSE,IF($C$2=\"GAS_BASE\",(U124-A124+1)*koszyki!$A$14+J124,IF($C$2=\"OFFPEAK\",M124*koszyki!$A$14+(N124)*24+J124,IF($C$2=\"BASE5\",M124*koszyki!$A$14+J124,IF($C$2=\"PEAK7\",(B124-A124+1)*koszyki!$A$14,M124*koszyki!$A$14))))/B124,1)","v":{"$error":"#N/A"}}]
[null,null,null,null,null,null,null,null,null,null,null,null,null,null,null,null,null,{"$f":"VLOOKUP(A125,krzywa!L:N,3,1)","v":{"$error":"#N/A"}},{"$f":"VLOOKUP(B125,krzywa!L:N,3,1)","v":{"$error":"#N/A"}},{"$f":"IF('Kalkulator Depozytów'!$B$35=TRUE,1,(1+R125/100)*V125+(1+S125/100)*(1-V125))","v":{"$error":"#N/A"}},{"$f":"IF(R125<>S125,VLOOKUP(A125,krzywa!L:N,2,1))","v":{"$error":"#N/A"}},{"$f":"IF(U125<>FALSE,IF($C$2=\"GAS_BASE\",(U125-A125+1)*koszyki!$A$14+J125,IF($C$2=\"OFFPEAK\",M125*koszyki!$A$14+(N125)*24+J125,IF($C$2=\"BASE5\",M125*koszyki!$A$14+J125,IF($C$2=\"PEAK7\",(B125-A125+1)*koszyki!$A$14,M125*koszyki!$A$14))))/B125,1)","v":{"$error":"#N/A"}}]
[null,null,null,null,null,null,null,null,null,null,null,null,null,null,null,null,null,{"$f":"VLOOKUP(A126,krzywa!L:N,3,1)","v":{"$error":"#N/A"}},{"$f":"VLOOKUP(B126,krzywa!L:N,3,1)","v":{"$error":"#N/A"}},{"$f":"IF('Kalkulator Depozytów'!$B$35=TRUE,1,(1+R126/100)*V126+(1+S126/100)*(1-V126))","v":{"$error":"#N/A"}},{"$f":"IF(R126<>S126,VLOOKUP(A126,krzywa!L:N,2,1))","v":{"$error":"#N/A"}},{"$f":"IF(U126<>FALSE,IF($C$2=\"GAS_BASE\",(U126-A126+1)*koszyki!$A$14+J126,IF($C$2=\"OFFPEAK\",M126*koszyki!$A$14+(N126)*24+J126,IF($C$2=\"BASE5\",M126*koszyki!$A$14+J126,IF($C$2=\"PEAK7\",(B126-A126+1)*koszyki!$A$14,M126*koszyki!$A$14))))/B126,1)","v":{"$error":"#N/A"}}]
[null,null,null,null,null,null,null,null,null,null,null,null,null,null,null,null,null,{"$f":"VLOOKUP(A127,krzywa!L:N,3,1)","v":{"$error":"#N/A"}},{"$f":"VLOOKUP(B127,krzywa!L:N,3,1)","v":{"$error":"#N/A"}},{"$f":"IF('Kalkulator Depozytów'!$B$35=TRUE,1,(1+R127/100)*V127+(1+S127/100)*(1-V127))","v":{"$error":"#N/A"}},{"$f":"IF(R127<>S127,VLOOKUP(A127,krzywa!L:N,2,1))","v":{"$error":"#N/A"}},{"$f":"IF(U127<>FALSE,IF($C$2=\"GAS_BASE\",(U127-A127+1)*koszyki!$A$14+J127,IF($C$2=\"OFFPEAK\",M127*koszyki!$A$14+(N127)*24+J127,IF($C$2=\"BASE5\",M127*koszyki!$A$14+J127,IF($C$2=\"PEAK7\",(B127-A127+1)*koszyki!$A$14,M127*koszyki!$A$14))))/B127,1)","v":{"$error":"#N/A"}}]
[null,null,null,null,null,null,null,null,null,null,null,null,null,null,null,null,null,{"$f":"VLOOKUP(A128,krzywa!L:N,3,1)","v":{"$error":"#N/A"}},{"$f":"VLOOKUP(B128,krzywa!L:N,3,1)","v":{"$error":"#N/A"}},{"$f":"IF('Kalkulator Depozytów'!$B$35=TRUE,1,(1+R128/100)*V128+(1+S128/100)*(1-V128))","v":{"$error":"#N/A"}},{"$f":"IF(R128<>S128,VLOOKUP(A128,krzywa!L:N,2,1))","v":{"$error":"#N/A"}},{"$f":"IF(U128<>FALSE,IF($C$2=\"GAS_BASE\",(U128-A128+1)*koszyki!$A$14+J128,IF($C$2=\"OFFPEAK\",M128*koszyki!$A$14+(N128)*24+J128,IF($C$2=\"BASE5\",M128*koszyki!$A$14+J128,IF($C$2=\"PEAK7\",(B128-A128+1)*koszyki!$A$14,M128*koszyki!$A$14))))/B128,1)","v":{"$error":"#N/A"}}]
[null,null,null,null,null,null,null,null,null,null,null,null,null,null,null,null,null,{"$f":"VLOOKUP(A129,krzywa!L:N,3,1)","v":{"$error":"#N/A"}},{"$f":"VLOOKUP(B129,krzywa!L:N,3,1)","v":{"$error":"#N/A"}},{"$f":"IF('Kalkulator Depozytów'!$B$35=TRUE,1,(1+R129/100)*V129+(1+S129/100)*(1-V129))","v":{"$error":"#N/A"}},{"$f":"IF(R129<>S129,VLOOKUP(A129,krzywa!L:N,2,1))","v":{"$error":"#N/A"}},{"$f":"IF(U129<>FALSE,IF($C$2=\"GAS_BASE\",(U129-A129+1)*koszyki!$A$14+J129,IF($C$2=\"OFFPEAK\",M129*koszyki!$A$14+(N129)*24+J129,IF($C$2=\"BASE5\",M129*koszyki!$A$14+J129,IF($C$2=\"PEAK7\",(B129-A129+1)*koszyki!$A$14,M129*koszyki!$A$14))))/B129,1)","v":{"$error":"#N/A"}}]
[null,null,null,null,null,null,null,null,null,null,null,null,null,null,null,null,null,{"$f":"VLOOKUP(A130,krzywa!L:N,3,1)","v":{"$error":"#N/A"}},{"$f":"VLOOKUP(B130,krzywa!L:N,3,1)","v":{"$error":"#N/A"}},{"$f":"IF('Kalkulator Depozytów'!$B$35=TRUE,1,(1+R130/100)*V130+(1+S130/100)*(1-V130))","v":{"$error":"#N/A"}},{"$f":"IF(R130<>S130,VLOOKUP(A130,krzywa!L:N,2,1))","v":{"$error":"#N/A"}},{"$f":"IF(U130<>FALSE,IF($C$2=\"GAS_BASE\",(U130-A130+1)*koszyki!$A$14+J130,IF($C$2=\"OFFPEAK\",M130*koszyki!$A$14+(N130)*24+J130,IF($C$2=\"BASE5\",M130*koszyki!$A$14+J130,IF($C$2=\"PEAK7\",(B130-A130+1)*koszyki!$A$14,M130*koszyki!$A$14))))/B130,1)","v":{"$error":"#N/A"}}]
[null,null,null,null,null,null,null,null,null,null,null,null,null,null,null,null,null,{"$f":"VLOOKUP(A131,krzywa!L:N,3,1)","v":{"$error":"#N/A"}},{"$f":"VLOOKUP(B131,krzywa!L:N,3,1)","v":{"$error":"#N/A"}},{"$f":"IF('Kalkulator Depozytów'!$B$35=TRUE,1,(1+R131/100)*V131+(1+S131/100)*(1-V131))","v":{"$error":"#N/A"}},{"$f":"IF(R131<>S131,VLOOKUP(A131,krzywa!L:N,2,1))","v":{"$error":"#N/A"}},{"$f":"IF(U131<>FALSE,IF($C$2=\"GAS_BASE\",(U131-A131+1)*koszyki!$A$14+J131,IF($C$2=\"OFFPEAK\",M131*koszyki!$A$14+(N131)*24+J131,IF($C$2=\"BASE5\",M131*koszyki!$A$14+J131,IF($C$2=\"PEAK7\",(B131-A131+1)*koszyki!$A$14,M131*koszyki!$A$14))))/B131,1)","v":{"$error":"#N/A"}}]
[null,null,null,null,null,null,null,null,null,null,null,null,null,null,null,null,null,{"$f":"VLOOKUP(A132,krzywa!L:N,3,1)","v":{"$error":"#N/A"}},{"$f":"VLOOKUP(B132,krzywa!L:N,3,1)","v":{"$error":"#N/A"}},{"$f":"IF('Kalkulator Depozytów'!$B$35=TRUE,1,(1+R132/100)*V132+(1+S132/100)*(1-V132))","v":{"$error":"#N/A"}},{"$f":"IF(R132<>S132,VLOOKUP(A132,krzywa!L:N,2,1))","v":{"$error":"#N/A"}},{"$f":"IF(U132<>FALSE,IF($C$2=\"GAS_BASE\",(U132-A132+1)*koszyki!$A$14+J132,IF($C$2=\"OFFPEAK\",M132*koszyki!$A$14+(N132)*24+J132,IF($C$2=\"BASE5\",M132*koszyki!$A$14+J132,IF($C$2=\"PEAK7\",(B132-A132+1)*koszyki!$A$14,M132*koszyki!$A$14))))/B132,1)","v":{"$error":"#N/A"}}]
[null,null,null,null,null,null,null,null,null,null,null,null,null,null,null,null,null,{"$f":"VLOOKUP(A133,krzywa!L:N,3,1)","v":{"$error":"#N/A"}},{"$f":"VLOOKUP(B133,krzywa!L:N,3,1)","v":{"$error":"#N/A"}},{"$f":"IF('Kalkulator Depozytów'!$B$35=TRUE,1,(1+R133/100)*V133+(1+S133/100)*(1-V133))","v":{"$error":"#N/A"}},{"$f":"IF(R133<>S133,VLOOKUP(A133,krzywa!L:N,2,1))","v":{"$error":"#N/A"}},{"$f":"IF(U133<>FALSE,IF($C$2=\"GAS_BASE\",(U133-A133+1)*koszyki!$A$14+J133,IF($C$2=\"OFFPEAK\",M133*koszyki!$A$14+(N133)*24+J133,IF($C$2=\"BASE5\",M133*koszyki!$A$14+J133,IF($C$2=\"PEAK7\",(B133-A133+1)*koszyki!$A$14,M133*koszyki!$A$14))))/B133,1)","v":{"$error":"#N/A"}}]
[null,null,null,null,null,null,null,null,null,null,null,null,null,null,null,null,null,{"$f":"VLOOKUP(A134,krzywa!L:N,3,1)","v":{"$error":"#N/A"}},{"$f":"VLOOKUP(B134,krzywa!L:N,3,1)","v":{"$error":"#N/A"}},{"$f":"IF('Kalkulator Depozytów'!$B$35=TRUE,1,(1+R134/100)*V134+(1+S134/100)*(1-V134))","v":{"$error":"#N/A"}},{"$f":"IF(R134<>S134,VLOOKUP(A134,krzywa!L:N,2,1))","v":{"$error":"#N/A"}},{"$f":"IF(U134<>FALSE,IF($C$2=\"GAS_BASE\",(U134-A134+1)*koszyki!$A$14+J134,IF($C$2=\"OFFPEAK\",M134*koszyki!$A$14+(N134)*24+J134,IF($C$2=\"BASE5\",M134*koszyki!$A$14+J134,IF($C$2=\"PEAK7\",(B134-A134+1)*koszyki!$A$14,M134*koszyki!$A$14))))/B134,1)","v":{"$error":"#N/A"}}]
[null,null,null,null,null,null,null,null,null,null,null,null,null,null,null,null,null,{"$f":"VLOOKUP(A135,krzywa!L:N,3,1)","v":{"$error":"#N/A"}},{"$f":"VLOOKUP(B135,krzywa!L:N,3,1)","v":{"$error":"#N/A"}},{"$f":"IF('Kalkulator Depozytów'!$B$35=TRUE,1,(1+R135/100)*V135+(1+S135/100)*(1-V135))","v":{"$error":"#N/A"}},{"$f":"IF(R135<>S135,VLOOKUP(A135,krzywa!L:N,2,1))","v":{"$error":"#N/A"}},{"$f":"IF(U135<>FALSE,IF($C$2=\"GAS_BASE\",(U135-A135+1)*koszyki!$A$14+J135,IF($C$2=\"OFFPEAK\",M135*koszyki!$A$14+(N135)*24+J135,IF($C$2=\"BASE5\",M135*koszyki!$A$14+J135,IF($C$2=\"PEAK7\",(B135-A135+1)*koszyki!$A$14,M135*koszyki!$A$14))))/B135,1)","v":{"$error":"#N/A"}}]
[null,null,null,null,null,null,null,null,null,null,null,null,null,null,null,null,null,{"$f":"VLOOKUP(A136,krzywa!L:N,3,1)","v":{"$error":"#N/A"}},{"$f":"VLOOKUP(B136,krzywa!L:N,3,1)","v":{"$error":"#N/A"}},{"$f":"IF('Kalkulator Depozytów'!$B$35=TRUE,1,(1+R136/100)*V136+(1+S136/100)*(1-V136))","v":{"$error":"#N/A"}},{"$f":"IF(R136<>S136,VLOOKUP(A136,krzywa!L:N,2,1))","v":{"$error":"#N/A"}},{"$f":"IF(U136<>FALSE,IF($C$2=\"GAS_BASE\",(U136-A136+1)*koszyki!$A$14+J136,IF($C$2=\"OFFPEAK\",M136*koszyki!$A$14+(N136)*24+J136,IF($C$2=\"BASE5\",M136*koszyki!$A$14+J136,IF($C$2=\"PEAK7\",(B136-A136+1)*koszyki!$A$14,M136*koszyki!$A$14))))/B136,1)","v":{"$error":"#N/A"}}]
[null,null,null,null,null,null,null,null,null,null,null,null,null,null,null,null,null,{"$f":"VLOOKUP(A137,krzywa!L:N,3,1)","v":{"$error":"#N/A"}},{"$f":"VLOOKUP(B137,krzywa!L:N,3,1)","v":{"$error":"#N/A"}},{"$f":"IF('Kalkulator Depozytów'!$B$35=TRUE,1,(1+R137/100)*V137+(1+S137/100)*(1-V137))","v":{"$error":"#N/A"}},{"$f":"IF(R137<>S137,VLOOKUP(A137,krzywa!L:N,2,1))","v":{"$error":"#N/A"}},{"$f":"IF(U137<>FALSE,IF($C$2=\"GAS_BASE\",(U137-A137+1)*koszyki!$A$14+J137,IF($C$2=\"OFFPEAK\",M137*koszyki!$A$14+(N137)*24+J137,IF($C$2=\"BASE5\",M137*koszyki!$A$14+J137,IF($C$2=\"PEAK7\",(B137-A137+1)*koszyki!$A$14,M137*koszyki!$A$14))))/B137,1)","v":{"$error":"#N/A"}}]
[null,null,null,null,null,null,null,null,null,null,null,null,null,null,null,null,null,{"$f":"VLOOKUP(A138,krzywa!L:N,3,1)","v":{"$error":"#N/A"}},{"$f":"VLOOKUP(B138,krzywa!L:N,3,1)","v":{"$error":"#N/A"}},{"$f":"IF('Kalkulator Depozytów'!$B$35=TRUE,1,(1+R138/100)*V138+(1+S138/100)*(1-V138))","v":{"$error":"#N/A"}},{"$f":"IF(R138<>S138,VLOOKUP(A138,krzywa!L:N,2,1))","v":{"$error":"#N/A"}},{"$f":"IF(U138<>FALSE,IF($C$2=\"GAS_BASE\",(U138-A138+1)*koszyki!$A$14+J138,IF($C$2=\"OFFPEAK\",M138*koszyki!$A$14+(N138)*24+J138,IF($C$2=\"BASE5\",M138*koszyki!$A$14+J138,IF($C$2=\"PEAK7\",(B138-A138+1)*koszyki!$A$14,M138*koszyki!$A$14))))/B138,1)","v":{"$error":"#N/A"}}]
[null,null,null,null,null,null,null,null,null,null,null,null,null,null,null,null,null,{"$f":"VLOOKUP(A139,krzywa!L:N,3,1)","v":{"$error":"#N/A"}},{"$f":"VLOOKUP(B139,krzywa!L:N,3,1)","v":{"$error":"#N/A"}},{"$f":"IF('Kalkulator Depozytów'!$B$35=TRUE,1,(1+R139/100)*V139+(1+S139/100)*(1-V139))","v":{"$error":"#N/A"}},{"$f":"IF(R139<>S139,VLOOKUP(A139,krzywa!L:N,2,1))","v":{"$error":"#N/A"}},{"$f":"IF(U139<>FALSE,IF($C$2=\"GAS_BASE\",(U139-A139+1)*koszyki!$A$14+J139,IF($C$2=\"OFFPEAK\",M139*koszyki!$A$14+(N139)*24+J139,IF($C$2=\"BASE5\",M139*koszyki!$A$14+J139,IF($C$2=\"PEAK7\",(B139-A139+1)*koszyki!$A$14,M139*koszyki!$A$14))))/B139,1)","v":{"$error":"#N/A"}}]
[null,null,null,null,null,null,null,null,null,null,null,null,null,null,null,null,null,{"$f":"VLOOKUP(A140,krzywa!L:N,3,1)","v":{"$error":"#N/A"}},{"$f":"VLOOKUP(B140,krzywa!L:N,3,1)","v":{"$error":"#N/A"}},{"$f":"IF('Kalkulator Depozytów'!$B$35=TRUE,1,(1+R140/100)*V140+(1+S140/100)*(1-V140))","v":{"$error":"#N/A"}},{"$f":"IF(R140<>S140,VLOOKUP(A140,krzywa!L:N,2,1))","v":{"$error":"#N/A"}},{"$f":"IF(U140<>FALSE,IF($C$2=\"GAS_BASE\",(U140-A140+1)*koszyki!$A$14+J140,IF($C$2=\"OFFPEAK\",M140*koszyki!$A$14+(N140)*24+J140,IF($C$2=\"BASE5\",M140*koszyki!$A$14+J140,IF($C$2=\"PEAK7\",(B140-A140+1)*koszyki!$A$14,M140*koszyki!$A$14))))/B140,1)","v":{"$error":"#N/A"}}]
[null,null,null,null,null,null,null,null,null,null,null,null,null,null,null,null,null,{"$f":"VLOOKUP(A141,krzywa!L:N,3,1)","v":{"$error":"#N/A"}},{"$f":"VLOOKUP(B141,krzywa!L:N,3,1)","v":{"$error":"#N/A"}},{"$f":"IF('Kalkulator Depozytów'!$B$35=TRUE,1,(1+R141/100)*V141+(1+S141/100)*(1-V141))","v":{"$error":"#N/A"}},{"$f":"IF(R141<>S141,VLOOKUP(A141,krzywa!L:N,2,1))","v":{"$error":"#N/A"}},{"$f":"IF(U141<>FALSE,IF($C$2=\"GAS_BASE\",(U141-A141+1)*koszyki!$A$14+J141,IF($C$2=\"OFFPEAK\",M141*koszyki!$A$14+(N141)*24+J141,IF($C$2=\"BASE5\",M141*koszyki!$A$14+J141,IF($C$2=\"PEAK7\",(B141-A141+1)*koszyki!$A$14,M141*koszyki!$A$14))))/B141,1)","v":{"$error":"#N/A"}}]
[null,null,null,null,null,null,null,null,null,null,null,null,null,null,null,null,null,{"$f":"VLOOKUP(A142,krzywa!L:N,3,1)","v":{"$error":"#N/A"}},{"$f":"VLOOKUP(B142,krzywa!L:N,3,1)","v":{"$error":"#N/A"}},{"$f":"IF('Kalkulator Depozytów'!$B$35=TRUE,1,(1+R142/100)*V142+(1+S142/100)*(1-V142))","v":{"$error":"#N/A"}},{"$f":"IF(R142<>S142,VLOOKUP(A142,krzywa!L:N,2,1))","v":{"$error":"#N/A"}},{"$f":"IF(U142<>FALSE,IF($C$2=\"GAS_BASE\",(U142-A142+1)*koszyki!$A$14+J142,IF($C$2=\"OFFPEAK\",M142*koszyki!$A$14+(N142)*24+J142,IF($C$2=\"BASE5\",M142*koszyki!$A$14+J142,IF($C$2=\"PEAK7\",(B142-A142+1)*koszyki!$A$14,M142*koszyki!$A$14))))/B142,1)","v":{"$error":"#N/A"}}]
[null,null,null,null,null,null,null,null,null,null,null,null,null,null,null,null,null,{"$f":"VLOOKUP(A143,krzywa!L:N,3,1)","v":{"$error":"#N/A"}},{"$f":"VLOOKUP(B143,krzywa!L:N,3,1)","v":{"$error":"#N/A"}},{"$f":"IF('Kalkulator Depozytów'!$B$35=TRUE,1,(1+R143/100)*V143+(1+S143/100)*(1-V143))","v":{"$error":"#N/A"}},{"$f":"IF(R143<>S143,VLOOKUP(A143,krzywa!L:N,2,1))","v":{"$error":"#N/A"}},{"$f":"IF(U143<>FALSE,IF($C$2=\"GAS_BASE\",(U143-A143+1)*koszyki!$A$14+J143,IF($C$2=\"OFFPEAK\",M143*koszyki!$A$14+(N143)*24+J143,IF($C$2=\"BASE5\",M143*koszyki!$A$14+J143,IF($C$2=\"PEAK7\",(B143-A143+1)*koszyki!$A$14,M143*koszyki!$A$14))))/B143,1)","v":{"$error":"#N/A"}}]
[null,null,null,null,null,null,null,null,null,null,null,null,null,null,null,null,null,{"$f":"VLOOKUP(A144,krzywa!L:N,3,1)","v":{"$error":"#N/A"}},{"$f":"VLOOKUP(B144,krzywa!L:N,3,1)","v":{"$error":"#N/A"}},{"$f":"IF('Kalkulator Depozytów'!$B$35=TRUE,1,(1+R144/100)*V144+(1+S144/100)*(1-V144))","v":{"$error":"#N/A"}},{"$f":"IF(R144<>S144,VLOOKUP(A144,krzywa!L:N,2,1))","v":{"$error":"#N/A"}},{"$f":"IF(U144<>FALSE,IF($C$2=\"GAS_BASE\",(U144-A144+1)*koszyki!$A$14+J144,IF($C$2=\"OFFPEAK\",M144*koszyki!$A$14+(N144)*24+J144,IF($C$2=\"BASE5\",M144*koszyki!$A$14+J144,IF($C$2=\"PEAK7\",(B144-A144+1)*koszyki!$A$14,M144*koszyki!$A$14))))/B144,1)","v":{"$error":"#N/A"}}]
[null,null,null,null,null,null,null,null,null,null,null,null,null,null,null,null,null,{"$f":"VLOOKUP(A145,krzywa!L:N,3,1)","v":{"$error":"#N/A"}},{"$f":"VLOOKUP(B145,krzywa!L:N,3,1)","v":{"$error":"#N/A"}},{"$f":"IF('Kalkulator Depozytów'!$B$35=TRUE,1,(1+R145/100)*V145+(1+S145/100)*(1-V145))","v":{"$error":"#N/A"}},{"$f":"IF(R145<>S145,VLOOKUP(A145,krzywa!L:N,2,1))","v":{"$error":"#N/A"}},{"$f":"IF(U145<>FALSE,IF($C$2=\"GAS_BASE\",(U145-A145+1)*koszyki!$A$14+J145,IF($C$2=\"OFFPEAK\",M145*koszyki!$A$14+(N145)*24+J145,IF($C$2=\"BASE5\",M145*koszyki!$A$14+J145,IF($C$2=\"PEAK7\",(B145-A145+1)*koszyki!$A$14,M145*koszyki!$A$14))))/B145,1)","v":{"$error":"#N/A"}}]
[null,null,null,null,null,null,null,null,null,null,null,null,null,null,null,null,null,{"$f":"VLOOKUP(A146,krzywa!L:N,3,1)","v":{"$error":"#N/A"}},{"$f":"VLOOKUP(B146,krzywa!L:N,3,1)","v":{"$error":"#N/A"}},{"$f":"IF('Kalkulator Depozytów'!$B$35=TRUE,1,(1+R146/100)*V146+(1+S146/100)*(1-V146))","v":{"$error":"#N/A"}},{"$f":"IF(R146<>S146,VLOOKUP(A146,krzywa!L:N,2,1))","v":{"$error":"#N/A"}},{"$f":"IF(U146<>FALSE,IF($C$2=\"GAS_BASE\",(U146-A146+1)*koszyki!$A$14+J146,IF($C$2=\"OFFPEAK\",M146*koszyki!$A$14+(N146)*24+J146,IF($C$2=\"BASE5\",M146*koszyki!$A$14+J146,IF($C$2=\"PEAK7\",(B146-A146+1)*koszyki!$A$14,M146*koszyki!$A$14))))/B146,1)","v":{"$error":"#N/A"}}]
[null,null,null,null,null,null,null,null,null,null,null,null,null,null,null,null,null,{"$f":"VLOOKUP(A147,krzywa!L:N,3,1)","v":{"$error":"#N/A"}},{"$f":"VLOOKUP(B147,krzywa!L:N,3,1)","v":{"$error":"#N/A"}},{"$f":"IF('Kalkulator Depozytów'!$B$35=TRUE,1,(1+R147/100)*V147+(1+S147/100)*(1-V147))","v":{"$error":"#N/A"}},{"$f":"IF(R147<>S147,VLOOKUP(A147,krzywa!L:N,2,1))","v":{"$error":"#N/A"}},{"$f":"IF(U147<>FALSE,IF($C$2=\"GAS_BASE\",(U147-A147+1)*koszyki!$A$14+J147,IF($C$2=\"OFFPEAK\",M147*koszyki!$A$14+(N147)*24+J147,IF($C$2=\"BASE5\",M147*koszyki!$A$14+J147,IF($C$2=\"PEAK7\",(B147-A147+1)*koszyki!$A$14,M147*koszyki!$A$14))))/B147,1)","v":{"$error":"#N/A"}}]
[null,null,null,null,null,null,null,null,null,null,null,null,null,null,null,null,null,{"$f":"VLOOKUP(A148,krzywa!L:N,3,1)","v":{"$error":"#N/A"}},{"$f":"VLOOKUP(B148,krzywa!L:N,3,1)","v":{"$error":"#N/A"}},{"$f":"IF('Kalkulator Depozytów'!$B$35=TRUE,1,(1+R148/100)*V148+(1+S148/100)*(1-V148))","v":{"$error":"#N/A"}},{"$f":"IF(R148<>S148,VLOOKUP(A148,krzywa!L:N,2,1))","v":{"$error":"#N/A"}},{"$f":"IF(U148<>FALSE,IF($C$2=\"GAS_BASE\",(U148-A148+1)*koszyki!$A$14+J148,IF($C$2=\"OFFPEAK\",M148*koszyki!$A$14+(N148)*24+J148,IF($C$2=\"BASE5\",M148*koszyki!$A$14+J148,IF($C$2=\"PEAK7\",(B148-A148+1)*koszyki!$A$14,M148*koszyki!$A$14))))/B148,1)","v":{"$error":"#N/A"}}]
[null,null,null,null,null,null,null,null,null,null,null,null,null,null,null,null,null,{"$f":"VLOOKUP(A149,krzywa!L:N,3,1)","v":{"$error":"#N/A"}},{"$f":"VLOOKUP(B149,krzywa!L:N,3,1)","v":{"$error":"#N/A"}},{"$f":"IF('Kalkulator Depozytów'!$B$35=TRUE,1,(1+R149/100)*V149+(1+S149/100)*(1-V149))","v":{"$error":"#N/A"}},{"$f":"IF(R149<>S149,VLOOKUP(A149,krzywa!L:N,2,1))","v":{"$error":"#N/A"}},{"$f":"IF(U149<>FALSE,IF($C$2=\"GAS_BASE\",(U149-A149+1)*koszyki!$A$14+J149,IF($C$2=\"OFFPEAK\",M149*koszyki!$A$14+(N149)*24+J149,IF($C$2=\"BASE5\",M149*koszyki!$A$14+J149,IF($C$2=\"PEAK7\",(B149-A149+1)*koszyki!$A$14,M149*koszyki!$A$14))))/B149,1)","v":{"$error":"#N/A"}}]
[null,null,null,null,null,null,null,null,null,null,null,null,null,null,null,null,null,{"$f":"VLOOKUP(A150,krzywa!L:N,3,1)","v":{"$error":"#N/A"}},{"$f":"VLOOKUP(B150,krzywa!L:N,3,1)","v":{"$error":"#N/A"}},{"$f":"IF('Kalkulator Depozytów'!$B$35=TRUE,1,(1+R150/100)*V150+(1+S150/100)*(1-V150))","v":{"$error":"#N/A"}},{"$f":"IF(R150<>S150,VLOOKUP(A150,krzywa!L:N,2,1))","v":{"$error":"#N/A"}},{"$f":"IF(U150<>FALSE,IF($C$2=\"GAS_BASE\",(U150-A150+1)*koszyki!$A$14+J150,IF($C$2=\"OFFPEAK\",M150*koszyki!$A$14+(N150)*24+J150,IF($C$2=\"BASE5\",M150*koszyki!$A$14+J150,IF($C$2=\"PEAK7\",(B150-A150+1)*koszyki!$A$14,M150*koszyki!$A$14))))/B150,1)","v":{"$error":"#N/A"}}]
[null,null,null,null,null,null,null,null,null,null,null,null,null,null,null,null,null,{"$f":"VLOOKUP(A151,krzywa!L:N,3,1)","v":{"$error":"#N/A"}},{"$f":"VLOOKUP(B151,krzywa!L:N,3,1)","v":{"$error":"#N/A"}},{"$f":"IF('Kalkulator Depozytów'!$B$35=TRUE,1,(1+R151/100)*V151+(1+S151/100)*(1-V151))","v":{"$error":"#N/A"}},{"$f":"IF(R151<>S151,VLOOKUP(A151,krzywa!L:N,2,1))","v":{"$error":"#N/A"}},{"$f":"IF(U151<>FALSE,IF($C$2=\"GAS_BASE\",(U151-A151+1)*koszyki!$A$14+J151,IF($C$2=\"OFFPEAK\",M151*koszyki!$A$14+(N151)*24+J151,IF($C$2=\"BASE5\",M151*koszyki!$A$14+J151,IF($C$2=\"PEAK7\",(B151-A151+1)*koszyki!$A$14,M151*koszyki!$A$14))))/B151,1)","v":{"$error":"#N/A"}}]
[null,null,null,null,null,null,null,null,null,null,null,null,null,null,null,null,null,{"$f":"VLOOKUP(A152,krzywa!L:N,3,1)","v":{"$error":"#N/A"}},{"$f":"VLOOKUP(B152,krzywa!L:N,3,1)","v":{"$error":"#N/A"}},{"$f":"IF('Kalkulator Depozytów'!$B$35=TRUE,1,(1+R152/100)*V152+(1+S152/100)*(1-V152))","v":{"$error":"#N/A"}},{"$f":"IF(R152<>S152,VLOOKUP(A152,krzywa!L:N,2,1))","v":{"$error":"#N/A"}},{"$f":"IF(U152<>FALSE,IF($C$2=\"GAS_BASE\",(U152-A152+1)*koszyki!$A$14+J152,IF($C$2=\"OFFPEAK\",M152*koszyki!$A$14+(N152)*24+J152,IF($C$2=\"BASE5\",M152*koszyki!$A$14+J152,IF($C$2=\"PEAK7\",(B152-A152+1)*koszyki!$A$14,M152*koszyki!$A$14))))/B152,1)","v":{"$error":"#N/A"}}]
[null,null,null,null,null,null,null,null,null,null,null,null,null,null,null,null,null,{"$f":"VLOOKUP(A153,krzywa!L:N,3,1)","v":{"$error":"#N/A"}},{"$f":"VLOOKUP(B153,krzywa!L:N,3,1)","v":{"$error":"#N/A"}},{"$f":"IF('Kalkulator Depozytów'!$B$35=TRUE,1,(1+R153/100)*V153+(1+S153/100)*(1-V153))","v":{"$error":"#N/A"}},{"$f":"IF(R153<>S153,VLOOKUP(A153,krzywa!L:N,2,1))","v":{"$error":"#N/A"}},{"$f":"IF(U153<>FALSE,IF($C$2=\"GAS_BASE\",(U153-A153+1)*koszyki!$A$14+J153,IF($C$2=\"OFFPEAK\",M153*koszyki!$A$14+(N153)*24+J153,IF($C$2=\"BASE5\",M153*koszyki!$A$14+J153,IF($C$2=\"PEAK7\",(B153-A153+1)*koszyki!$A$14,M153*koszyki!$A$14))))/B153,1)","v":{"$error":"#N/A"}}]
[null,null,null,null,null,null,null,null,null,null,null,null,null,null,null,null,null,{"$f":"VLOOKUP(A154,krzywa!L:N,3,1)","v":{"$error":"#N/A"}},{"$f":"VLOOKUP(B154,krzywa!L:N,3,1)","v":{"$error":"#N/A"}},{"$f":"IF('Kalkulator Depozytów'!$B$35=TRUE,1,(1+R154/100)*V154+(1+S154/100)*(1-V154))","v":{"$error":"#N/A"}},{"$f":"IF(R154<>S154,VLOOKUP(A154,krzywa!L:N,2,1))","v":{"$error":"#N/A"}},{"$f":"IF(U154<>FALSE,IF($C$2=\"GAS_BASE\",(U154-A154+1)*koszyki!$A$14+J154,IF($C$2=\"OFFPEAK\",M154*koszyki!$A$14+(N154)*24+J154,IF($C$2=\"BASE5\",M154*koszyki!$A$14+J154,IF($C$2=\"PEAK7\",(B154-A154+1)*koszyki!$A$14,M154*koszyki!$A$14))))/B154,1)","v":{"$error":"#N/A"}}]
[null,null,null,null,null,null,null,null,null,null,null,null,null,null,null,null,null,{"$f":"VLOOKUP(A155,krzywa!L:N,3,1)","v":{"$error":"#N/A"}},{"$f":"VLOOKUP(B155,krzywa!L:N,3,1)","v":{"$error":"#N/A"}},{"$f":"IF('Kalkulator Depozytów'!$B$35=TRUE,1,(1+R155/100)*V155+(1+S155/100)*(1-V155))","v":{"$error":"#N/A"}},{"$f":"IF(R155<>S155,VLOOKUP(A155,krzywa!L:N,2,1))","v":{"$error":"#N/A"}},{"$f":"IF(U155<>FALSE,IF($C$2=\"GAS_BASE\",(U155-A155+1)*koszyki!$A$14+J155,IF($C$2=\"OFFPEAK\",M155*koszyki!$A$14+(N155)*24+J155,IF($C$2=\"BASE5\",M155*koszyki!$A$14+J155,IF($C$2=\"PEAK7\",(B155-A155+1)*koszyki!$A$14,M155*koszyki!$A$14))))/B155,1)","v":{"$error":"#N/A"}}]
[null,null,null,null,null,null,null,null,null,null,null,null,null,null,null,null,null,{"$f":"VLOOKUP(A156,krzywa!L:N,3,1)","v":{"$error":"#N/A"}},{"$f":"VLOOKUP(B156,krzywa!L:N,3,1)","v":{"$error":"#N/A"}},{"$f":"IF('Kalkulator Depozytów'!$B$35=TRUE,1,(1+R156/100)*V156+(1+S156/100)*(1-V156))","v":{"$error":"#N/A"}},{"$f":"IF(R156<>S156,VLOOKUP(A156,krzywa!L:N,2,1))","v":{"$error":"#N/A"}},{"$f":"IF(U156<>FALSE,IF($C$2=\"GAS_BASE\",(U156-A156+1)*koszyki!$A$14+J156,IF($C$2=\"OFFPEAK\",M156*koszyki!$A$14+(N156)*24+J156,IF($C$2=\"BASE5\",M156*koszyki!$A$14+J156,IF($C$2=\"PEAK7\",(B156-A156+1)*koszyki!$A$14,M156*koszyki!$A$14))))/B156,1)","v":{"$error":"#N/A"}}]
[null,null,null,null,null,null,null,null,null,null,null,null,null,null,null,null,null,{"$f":"VLOOKUP(A157,krzywa!L:N,3,1)","v":{"$error":"#N/A"}},{"$f":"VLOOKUP(B157,krzywa!L:N,3,1)","v":{"$error":"#N/A"}},{"$f":"IF('Kalkulator Depozytów'!$B$35=TRUE,1,(1+R157/100)*V157+(1+S157/100)*(1-V157))","v":{"$error":"#N/A"}},{"$f":"IF(R157<>S157,VLOOKUP(A157,krzywa!L:N,2,1))","v":{"$error":"#N/A"}},{"$f":"IF(U157<>FALSE,IF($C$2=\"GAS_BASE\",(U157-A157+1)*koszyki!$A$14+J157,IF($C$2=\"OFFPEAK\",M157*koszyki!$A$14+(N157)*24+J157,IF($C$2=\"BASE5\",M157*koszyki!$A$14+J157,IF($C$2=\"PEAK7\",(B157-A157+1)*koszyki!$A$14,M157*koszyki!$A$14))))/B157,1)","v":{"$error":"#N/A"}}]
[null,null,null,null,null,null,null,null,null,null,null,null,null,null,null,null,null,{"$f":"VLOOKUP(A158,krzywa!L:N,3,1)","v":{"$error":"#N/A"}},{"$f":"VLOOKUP(B158,krzywa!L:N,3,1)","v":{"$error":"#N/A"}},{"$f":"IF('Kalkulator Depozytów'!$B$35=TRUE,1,(1+R158/100)*V158+(1+S158/100)*(1-V158))","v":{"$error":"#N/A"}},{"$f":"IF(R158<>S158,VLOOKUP(A158,krzywa!L:N,2,1))","v":{"$error":"#N/A"}},{"$f":"IF(U158<>FALSE,IF($C$2=\"GAS_BASE\",(U158-A158+1)*koszyki!$A$14+J158,IF($C$2=\"OFFPEAK\",M158*koszyki!$A$14+(N158)*24+J158,IF($C$2=\"BASE5\",M158*koszyki!$A$14+J158,IF($C$2=\"PEAK7\",(B158-A158+1)*koszyki!$A$14,M158*koszyki!$A$14))))/B158,1)","v":{"$error":"#N/A"}}]
[null,null,null,null,null,null,null,null,null,null,null,null,null,null,null,null,null,{"$f":"VLOOKUP(A159,krzywa!L:N,3,1)","v":{"$error":"#N/A"}},{"$f":"VLOOKUP(B159,krzywa!L:N,3,1)","v":{"$error":"#N/A"}},{"$f":"IF('Kalkulator Depozytów'!$B$35=TRUE,1,(1+R159/100)*V159+(1+S159/100)*(1-V159))","v":{"$error":"#N/A"}},{"$f":"IF(R159<>S159,VLOOKUP(A159,krzywa!L:N,2,1))","v":{"$error":"#N/A"}},{"$f":"IF(U159<>FALSE,IF($C$2=\"GAS_BASE\",(U159-A159+1)*koszyki!$A$14+J159,IF($C$2=\"OFFPEAK\",M159*koszyki!$A$14+(N159)*24+J159,IF($C$2=\"BASE5\",M159*koszyki!$A$14+J159,IF($C$2=\"PEAK7\",(B159-A159+1)*koszyki!$A$14,M159*koszyki!$A$14))))/B159,1)","v":{"$error":"#N/A"}}]
[null,null,null,null,null,null,null,null,null,null,null,null,null,null,null,null,null,{"$f":"VLOOKUP(A160,krzywa!L:N,3,1)","v":{"$error":"#N/A"}},{"$f":"VLOOKUP(B160,krzywa!L:N,3,1)","v":{"$error":"#N/A"}},{"$f":"IF('Kalkulator Depozytów'!$B$35=TRUE,1,(1+R160/100)*V160+(1+S160/100)*(1-V160))","v":{"$error":"#N/A"}},{"$f":"IF(R160<>S160,VLOOKUP(A160,krzywa!L:N,2,1))","v":{"$error":"#N/A"}},{"$f":"IF(U160<>FALSE,IF($C$2=\"GAS_BASE\",(U160-A160+1)*koszyki!$A$14+J160,IF($C$2=\"OFFPEAK\",M160*koszyki!$A$14+(N160)*24+J160,IF($C$2=\"BASE5\",M160*koszyki!$A$14+J160,IF($C$2=\"PEAK7\",(B160-A160+1)*koszyki!$A$14,M160*koszyki!$A$14))))/B160,1)","v":{"$error":"#N/A"}}]
[null,null,null,null,null,null,null,null,null,null,null,null,null,null,null,null,null,{"$f":"VLOOKUP(A161,krzywa!L:N,3,1)","v":{"$error":"#N/A"}},{"$f":"VLOOKUP(B161,krzywa!L:N,3,1)","v":{"$error":"#N/A"}},{"$f":"IF('Kalkulator Depozytów'!$B$35=TRUE,1,(1+R161/100)*V161+(1+S161/100)*(1-V161))","v":{"$error":"#N/A"}},{"$f":"IF(R161<>S161,VLOOKUP(A161,krzywa!L:N,2,1))","v":{"$error":"#N/A"}},{"$f":"IF(U161<>FALSE,IF($C$2=\"GAS_BASE\",(U161-A161+1)*koszyki!$A$14+J161,IF($C$2=\"OFFPEAK\",M161*koszyki!$A$14+(N161)*24+J161,IF($C$2=\"BASE5\",M161*koszyki!$A$14+J161,IF($C$2=\"PEAK7\",(B161-A161+1)*koszyki!$A$14,M161*koszyki!$A$14))))/B161,1)","v":{"$error":"#N/A"}}]
[null,null,null,null,null,null,null,null,null,null,null,null,null,null,null,null,null,{"$f":"VLOOKUP(A162,krzywa!L:N,3,1)","v":{"$error":"#N/A"}},{"$f":"VLOOKUP(B162,krzywa!L:N,3,1)","v":{"$error":"#N/A"}},{"$f":"IF('Kalkulator Depozytów'!$B$35=TRUE,1,(1+R162/100)*V162+(1+S162/100)*(1-V162))","v":{"$error":"#N/A"}},{"$f":"IF(R162<>S162,VLOOKUP(A162,krzywa!L:N,2,1))","v":{"$error":"#N/A"}},{"$f":"IF(U162<>FALSE,IF($C$2=\"GAS_BASE\",(U162-A162+1)*koszyki!$A$14+J162,IF($C$2=\"OFFPEAK\",M162*koszyki!$A$14+(N162)*24+J162,IF($C$2=\"BASE5\",M162*koszyki!$A$14+J162,IF($C$2=\"PEAK7\",(B162-A162+1)*koszyki!$A$14,M162*koszyki!$A$14))))/B162,1)","v":{"$error":"#N/A"}}]
[null,null,null,null,null,null,null,null,null,null,null,null,null,null,null,null,null,{"$f":"VLOOKUP(A163,krzywa!L:N,3,1)","v":{"$error":"#N/A"}},{"$f":"VLOOKUP(B163,krzywa!L:N,3,1)","v":{"$error":"#N/A"}},{"$f":"IF('Kalkulator Depozytów'!$B$35=TRUE,1,(1+R163/100)*V163+(1+S163/100)*(1-V163))","v":{"$error":"#N/A"}},{"$f":"IF(R163<>S163,VLOOKUP(A163,krzywa!L:N,2,1))","v":{"$error":"#N/A"}},{"$f":"IF(U163<>FALSE,IF($C$2=\"GAS_BASE\",(U163-A163+1)*koszyki!$A$14+J163,IF($C$2=\"OFFPEAK\",M163*koszyki!$A$14+(N163)*24+J163,IF($C$2=\"BASE5\",M163*koszyki!$A$14+J163,IF($C$2=\"PEAK7\",(B163-A163+1)*koszyki!$A$14,M163*koszyki!$A$14))))/B163,1)","v":{"$error":"#N/A"}}]
[null,null,null,null,null,null,null,null,null,null,null,null,null,null,null,null,null,{"$f":"VLOOKUP(A164,krzywa!L:N,3,1)","v":{"$error":"#N/A"}},{"$f":"VLOOKUP(B164,krzywa!L:N,3,1)","v":{"$error":"#N/A"}},{"$f":"IF('Kalkulator Depozytów'!$B$35=TRUE,1,(1+R164/100)*V164+(1+S164/100)*(1-V164))","v":{"$error":"#N/A"}},{"$f":"IF(R164<>S164,VLOOKUP(A164,krzywa!L:N,2,1))","v":{"$error":"#N/A"}},{"$f":"IF(U164<>FALSE,IF($C$2=\"GAS_BASE\",(U164-A164+1)*koszyki!$A$14+J164,IF($C$2=\"OFFPEAK\",M164*koszyki!$A$14+(N164)*24+J164,IF($C$2=\"BASE5\",M164*koszyki!$A$14+J164,IF($C$2=\"PEAK7\",(B164-A164+1)*koszyki!$A$14,M164*koszyki!$A$14))))/B164,1)","v":{"$error":"#N/A"}}]
[null,null,null,null,null,null,null,null,null,null,null,null,null,null,null,null,null,{"$f":"VLOOKUP(A165,krzywa!L:N,3,1)","v":{"$error":"#N/A"}},{"$f":"VLOOKUP(B165,krzywa!L:N,3,1)","v":{"$error":"#N/A"}},{"$f":"IF('Kalkulator Depozytów'!$B$35=TRUE,1,(1+R165/100)*V165+(1+S165/100)*(1-V165))","v":{"$error":"#N/A"}},{"$f":"IF(R165<>S165,VLOOKUP(A165,krzywa!L:N,2,1))","v":{"$error":"#N/A"}},{"$f":"IF(U165<>FALSE,IF($C$2=\"GAS_BASE\",(U165-A165+1)*koszyki!$A$14+J165,IF($C$2=\"OFFPEAK\",M165*koszyki!$A$14+(N165)*24+J165,IF($C$2=\"BASE5\",M165*koszyki!$A$14+J165,IF($C$2=\"PEAK7\",(B165-A165+1)*koszyki!$A$14,M165*koszyki!$A$14))))/B165,1)","v":{"$error":"#N/A"}}]
[null,null,null,null,null,null,null,null,null,null,null,null,null,null,null,null,null,{"$f":"VLOOKUP(A166,krzywa!L:N,3,1)","v":{"$error":"#N/A"}},{"$f":"VLOOKUP(B166,krzywa!L:N,3,1)","v":{"$error":"#N/A"}},{"$f":"IF('Kalkulator Depozytów'!$B$35=TRUE,1,(1+R166/100)*V166+(1+S166/100)*(1-V166))","v":{"$error":"#N/A"}},{"$f":"IF(R166<>S166,VLOOKUP(A166,krzywa!L:N,2,1))","v":{"$error":"#N/A"}},{"$f":"IF(U166<>FALSE,IF($C$2=\"GAS_BASE\",(U166-A166+1)*koszyki!$A$14+J166,IF($C$2=\"OFFPEAK\",M166*koszyki!$A$14+(N166)*24+J166,IF($C$2=\"BASE5\",M166*koszyki!$A$14+J166,IF($C$2=\"PEAK7\",(B166-A166+1)*koszyki!$A$14,M166*koszyki!$A$14))))/B166,1)","v":{"$error":"#N/A"}}]
[null,null,null,null,null,null,null,null,null,null,null,null,null,null,null,null,null,{"$f":"VLOOKUP(A167,krzywa!L:N,3,1)","v":{"$error":"#N/A"}},{"$f":"VLOOKUP(B167,krzywa!L:N,3,1)","v":{"$error":"#N/A"}},{"$f":"IF('Kalkulator Depozytów'!$B$35=TRUE,1,(1+R167/100)*V167+(1+S167/100)*(1-V167))","v":{"$error":"#N/A"}},{"$f":"IF(R167<>S167,VLOOKUP(A167,krzywa!L:N,2,1))","v":{"$error":"#N/A"}},{"$f":"IF(U167<>FALSE,IF($C$2=\"GAS_BASE\",(U167-A167+1)*koszyki!$A$14+J167,IF($C$2=\"OFFPEAK\",M167*koszyki!$A$14+(N167)*24+J167,IF($C$2=\"BASE5\",M167*koszyki!$A$14+J167,IF($C$2=\"PEAK7\",(B167-A167+1)*koszyki!$A$14,M167*koszyki!$A$14))))/B167,1)","v":{"$error":"#N/A"}}]
[null,null,null,null,null,null,null,null,null,null,null,null,null,null,null,null,null,{"$f":"VLOOKUP(A168,krzywa!L:N,3,1)","v":{"$error":"#N/A"}},{"$f":"VLOOKUP(B168,krzywa!L:N,3,1)","v":{"$error":"#N/A"}},{"$f":"IF('Kalkulator Depozytów'!$B$35=TRUE,1,(1+R168/100)*V168+(1+S168/100)*(1-V168))","v":{"$error":"#N/A"}},{"$f":"IF(R168<>S168,VLOOKUP(A168,krzywa!L:N,2,1))","v":{"$error":"#N/A"}},{"$f":"IF(U168<>FALSE,IF($C$2=\"GAS_BASE\",(U168-A168+1)*koszyki!$A$14+J168,IF($C$2=\"OFFPEAK\",M168*koszyki!$A$14+(N168)*24+J168,IF($C$2=\"BASE5\",M168*koszyki!$A$14+J168,IF($C$2=\"PEAK7\",(B168-A168+1)*koszyki!$A$14,M168*koszyki!$A$14))))/B168,1)","v":{"$error":"#N/A"}}]
[null,null,null,null,null,null,null,null,null,null,null,null,null,null,null,null,null,{"$f":"VLOOKUP(A169,krzywa!L:N,3,1)","v":{"$error":"#N/A"}},{"$f":"VLOOKUP(B169,krzywa!L:N,3,1)","v":{"$error":"#N/A"}},{"$f":"IF('Kalkulator Depozytów'!$B$35=TRUE,1,(1+R169/100)*V169+(1+S169/100)*(1-V169))","v":{"$error":"#N/A"}},{"$f":"IF(R169<>S169,VLOOKUP(A169,krzywa!L:N,2,1))","v":{"$error":"#N/A"}},{"$f":"IF(U169<>FALSE,IF($C$2=\"GAS_BASE\",(U169-A169+1)*koszyki!$A$14+J169,IF($C$2=\"OFFPEAK\",M169*koszyki!$A$14+(N169)*24+J169,IF($C$2=\"BASE5\",M169*koszyki!$A$14+J169,IF($C$2=\"PEAK7\",(B169-A169+1)*koszyki!$A$14,M169*koszyki!$A$14))))/B169,1)","v":{"$error":"#N/A"}}]
[null,null,null,null,null,null,null,null,null,null,null,null,null,null,null,null,null,{"$f":"VLOOKUP(A170,krzywa!L:N,3,1)","v":{"$error":"#N/A"}},{"$f":"VLOOKUP(B170,krzywa!L:N,3,1)","v":{"$error":"#N/A"}},{"$f":"IF('Kalkulator Depozytów'!$B$35=TRUE,1,(1+R170/100)*V170+(1+S170/100)*(1-V170))","v":{"$error":"#N/A"}},{"$f":"IF(R170<>S170,VLOOKUP(A170,krzywa!L:N,2,1))","v":{"$error":"#N/A"}},{"$f":"IF(U170<>FALSE,IF($C$2=\"GAS_BASE\",(U170-A170+1)*koszyki!$A$14+J170,IF($C$2=\"OFFPEAK\",M170*koszyki!$A$14+(N170)*24+J170,IF($C$2=\"BASE5\",M170*koszyki!$A$14+J170,IF($C$2=\"PEAK7\",(B170-A170+1)*koszyki!$A$14,M170*koszyki!$A$14))))/B170,1)","v":{"$error":"#N/A"}}]
[null,null,null,null,null,null,null,null,null,null,null,null,null,null,null,null,null,{"$f":"VLOOKUP(A171,krzywa!L:N,3,1)","v":{"$error":"#N/A"}},{"$f":"VLOOKUP(B171,krzywa!L:N,3,1)","v":{"$error":"#N/A"}},{"$f":"IF('Kalkulator Depozytów'!$B$35=TRUE,1,(1+R171/100)*V171+(1+S171/100)*(1-V171))","v":{"$error":"#N/A"}},{"$f":"IF(R171<>S171,VLOOKUP(A171,krzywa!L:N,2,1))","v":{"$error":"#N/A"}},{"$f":"IF(U171<>FALSE,IF($C$2=\"GAS_BASE\",(U171-A171+1)*koszyki!$A$14+J171,IF($C$2=\"OFFPEAK\",M171*koszyki!$A$14+(N171)*24+J171,IF($C$2=\"BASE5\",M171*koszyki!$A$14+J171,IF($C$2=\"PEAK7\",(B171-A171+1)*koszyki!$A$14,M171*koszyki!$A$14))))/B171,1)","v":{"$error":"#N/A"}}]
[null,null,null,null,null,null,null,null,null,null,null,null,null,null,null,null,null,{"$f":"VLOOKUP(A172,krzywa!L:N,3,1)","v":{"$error":"#N/A"}},{"$f":"VLOOKUP(B172,krzywa!L:N,3,1)","v":{"$error":"#N/A"}},{"$f":"IF('Kalkulator Depozytów'!$B$35=TRUE,1,(1+R172/100)*V172+(1+S172/100)*(1-V172))","v":{"$error":"#N/A"}},{"$f":"IF(R172<>S172,VLOOKUP(A172,krzywa!L:N,2,1))","v":{"$error":"#N/A"}},{"$f":"IF(U172<>FALSE,IF($C$2=\"GAS_BASE\",(U172-A172+1)*koszyki!$A$14+J172,IF($C$2=\"OFFPEAK\",M172*koszyki!$A$14+(N172)*24+J172,IF($C$2=\"BASE5\",M172*koszyki!$A$14+J172,IF($C$2=\"PEAK7\",(B172-A172+1)*koszyki!$A$14,M172*koszyki!$A$14))))/B172,1)","v":{"$error":"#N/A"}}]
[null,null,null,null,null,null,null,null,null,null,null,null,null,null,null,null,null,{"$f":"VLOOKUP(A173,krzywa!L:N,3,1)","v":{"$error":"#N/A"}},{"$f":"VLOOKUP(B173,krzywa!L:N,3,1)","v":{"$error":"#N/A"}},{"$f":"IF('Kalkulator Depozytów'!$B$35=TRUE,1,(1+R173/100)*V173+(1+S173/100)*(1-V173))","v":{"$error":"#N/A"}},{"$f":"IF(R173<>S173,VLOOKUP(A173,krzywa!L:N,2,1))","v":{"$error":"#N/A"}},{"$f":"IF(U173<>FALSE,IF($C$2=\"GAS_BASE\",(U173-A173+1)*koszyki!$A$14+J173,IF($C$2=\"OFFPEAK\",M173*koszyki!$A$14+(N173)*24+J173,IF($C$2=\"BASE5\",M173*koszyki!$A$14+J173,IF($C$2=\"PEAK7\",(B173-A173+1)*koszyki!$A$14,M173*koszyki!$A$14))))/B173,1)","v":{"$error":"#N/A"}}]
[null,null,null,null,null,null,null,null,null,null,null,null,null,null,null,null,null,{"$f":"VLOOKUP(A174,krzywa!L:N,3,1)","v":{"$error":"#N/A"}},{"$f":"VLOOKUP(B174,krzywa!L:N,3,1)","v":{"$error":"#N/A"}},{"$f":"IF('Kalkulator Depozytów'!$B$35=TRUE,1,(1+R174/100)*V174+(1+S174/100)*(1-V174))","v":{"$error":"#N/A"}},{"$f":"IF(R174<>S174,VLOOKUP(A174,krzywa!L:N,2,1))","v":{"$error":"#N/A"}},{"$f":"IF(U174<>FALSE,IF($C$2=\"GAS_BASE\",(U174-A174+1)*koszyki!$A$14+J174,IF($C$2=\"OFFPEAK\",M174*koszyki!$A$14+(N174)*24+J174,IF($C$2=\"BASE5\",M174*koszyki!$A$14+J174,IF($C$2=\"PEAK7\",(B174-A174+1)*koszyki!$A$14,M174*koszyki!$A$14))))/B174,1)","v":{"$error":"#N/A"}}]
[null,null,null,null,null,null,null,null,null,null,null,null,null,null,null,null,null,{"$f":"VLOOKUP(A175,krzywa!L:N,3,1)","v":{"$error":"#N/A"}},{"$f":"VLOOKUP(B175,krzywa!L:N,3,1)","v":{"$error":"#N/A"}},{"$f":"IF('Kalkulator Depozytów'!$B$35=TRUE,1,(1+R175/100)*V175+(1+S175/100)*(1-V175))","v":{"$error":"#N/A"}},{"$f":"IF(R175<>S175,VLOOKUP(A175,krzywa!L:N,2,1))","v":{"$error":"#N/A"}},{"$f":"IF(U175<>FALSE,IF($C$2=\"GAS_BASE\",(U175-A175+1)*koszyki!$A$14+J175,IF($C$2=\"OFFPEAK\",M175*koszyki!$A$14+(N175)*24+J175,IF($C$2=\"BASE5\",M175*koszyki!$A$14+J175,IF($C$2=\"PEAK7\",(B175-A175+1)*koszyki!$A$14,M175*koszyki!$A$14))))/B175,1)","v":{"$error":"#N/A"}}]
[null,null,null,null,null,null,null,null,null,null,null,null,null,null,null,null,null,{"$f":"VLOOKUP(A176,krzywa!L:N,3,1)","v":{"$error":"#N/A"}},{"$f":"VLOOKUP(B176,krzywa!L:N,3,1)","v":{"$error":"#N/A"}},{"$f":"IF('Kalkulator Depozytów'!$B$35=TRUE,1,(1+R176/100)*V176+(1+S176/100)*(1-V176))","v":{"$error":"#N/A"}},{"$f":"IF(R176<>S176,VLOOKUP(A176,krzywa!L:N,2,1))","v":{"$error":"#N/A"}},{"$f":"IF(U176<>FALSE,IF($C$2=\"GAS_BASE\",(U176-A176+1)*koszyki!$A$14+J176,IF($C$2=\"OFFPEAK\",M176*koszyki!$A$14+(N176)*24+J176,IF($C$2=\"BASE5\",M176*koszyki!$A$14+J176,IF($C$2=\"PEAK7\",(B176-A176+1)*koszyki!$A$14,M176*koszyki!$A$14))))/B176,1)","v":{"$error":"#N/A"}}]
[null,null,null,null,null,null,null,null,null,null,null,null,null,null,null,null,null,{"$f":"VLOOKUP(A177,krzywa!L:N,3,1)","v":{"$error":"#N/A"}},{"$f":"VLOOKUP(B177,krzywa!L:N,3,1)","v":{"$error":"#N/A"}},{"$f":"IF('Kalkulator Depozytów'!$B$35=TRUE,1,(1+R177/100)*V177+(1+S177/100)*(1-V177))","v":{"$error":"#N/A"}},{"$f":"IF(R177<>S177,VLOOKUP(A177,krzywa!L:N,2,1))","v":{"$error":"#N/A"}},{"$f":"IF(U177<>FALSE,IF($C$2=\"GAS_BASE\",(U177-A177+1)*koszyki!$A$14+J177,IF($C$2=\"OFFPEAK\",M177*koszyki!$A$14+(N177)*24+J177,IF($C$2=\"BASE5\",M177*koszyki!$A$14+J177,IF($C$2=\"PEAK7\",(B177-A177+1)*koszyki!$A$14,M177*koszyki!$A$14))))/B177,1)","v":{"$error":"#N/A"}}]
[null,null,null,null,null,null,null,null,null,null,null,null,null,null,null,null,null,{"$f":"VLOOKUP(A178,krzywa!L:N,3,1)","v":{"$error":"#N/A"}},{"$f":"VLOOKUP(B178,krzywa!L:N,3,1)","v":{"$error":"#N/A"}},{"$f":"IF('Kalkulator Depozytów'!$B$35=TRUE,1,(1+R178/100)*V178+(1+S178/100)*(1-V178))","v":{"$error":"#N/A"}},{"$f":"IF(R178<>S178,VLOOKUP(A178,krzywa!L:N,2,1))","v":{"$error":"#N/A"}},{"$f":"IF(U178<>FALSE,IF($C$2=\"GAS_BASE\",(U178-A178+1)*koszyki!$A$14+J178,IF($C$2=\"OFFPEAK\",M178*koszyki!$A$14+(N178)*24+J178,IF($C$2=\"BASE5\",M178*koszyki!$A$14+J178,IF($C$2=\"PEAK7\",(B178-A178+1)*koszyki!$A$14,M178*koszyki!$A$14))))/B178,1)","v":{"$error":"#N/A"}}]
[null,null,null,null,null,null,null,null,null,null,null,null,null,null,null,null,null,{"$f":"VLOOKUP(A179,krzywa!L:N,3,1)","v":{"$error":"#N/A"}},{"$f":"VLOOKUP(B179,krzywa!L:N,3,1)","v":{"$error":"#N/A"}},{"$f":"IF('Kalkulator Depozytów'!$B$35=TRUE,1,(1+R179/100)*V179+(1+S179/100)*(1-V179))","v":{"$error":"#N/A"}},{"$f":"IF(R179<>S179,VLOOKUP(A179,krzywa!L:N,2,1))","v":{"$error":"#N/A"}},{"$f":"IF(U179<>FALSE,IF($C$2=\"GAS_BASE\",(U179-A179+1)*koszyki!$A$14+J179,IF($C$2=\"OFFPEAK\",M179*koszyki!$A$14+(N179)*24+J179,IF($C$2=\"BASE5\",M179*koszyki!$A$14+J179,IF($C$2=\"PEAK7\",(B179-A179+1)*koszyki!$A$14,M179*koszyki!$A$14))))/B179,1)","v":{"$error":"#N/A"}}]
[null,null,null,null,null,null,null,null,null,null,null,null,null,null,null,null,null,{"$f":"VLOOKUP(A180,krzywa!L:N,3,1)","v":{"$error":"#N/A"}},{"$f":"VLOOKUP(B180,krzywa!L:N,3,1)","v":{"$error":"#N/A"}},{"$f":"IF('Kalkulator Depozytów'!$B$35=TRUE,1,(1+R180/100)*V180+(1+S180/100)*(1-V180))","v":{"$error":"#N/A"}},{"$f":"IF(R180<>S180,VLOOKUP(A180,krzywa!L:N,2,1))","v":{"$error":"#N/A"}},{"$f":"IF(U180<>FALSE,IF($C$2=\"GAS_BASE\",(U180-A180+1)*koszyki!$A$14+J180,IF($C$2=\"OFFPEAK\",M180*koszyki!$A$14+(N180)*24+J180,IF($C$2=\"BASE5\",M180*koszyki!$A$14+J180,IF($C$2=\"PEAK7\",(B180-A180+1)*koszyki!$A$14,M180*koszyki!$A$14))))/B180,1)","v":{"$error":"#N/A"}}]
[null,null,null,null,null,null,null,null,null,null,null,null,null,null,null,null,null,{"$f":"VLOOKUP(A181,krzywa!L:N,3,1)","v":{"$error":"#N/A"}},{"$f":"VLOOKUP(B181,krzywa!L:N,3,1)","v":{"$error":"#N/A"}},{"$f":"IF('Kalkulator Depozytów'!$B$35=TRUE,1,(1+R181/100)*V181+(1+S181/100)*(1-V181))","v":{"$error":"#N/A"}},{"$f":"IF(R181<>S181,VLOOKUP(A181,krzywa!L:N,2,1))","v":{"$error":"#N/A"}},{"$f":"IF(U181<>FALSE,IF($C$2=\"GAS_BASE\",(U181-A181+1)*koszyki!$A$14+J181,IF($C$2=\"OFFPEAK\",M181*koszyki!$A$14+(N181)*24+J181,IF($C$2=\"BASE5\",M181*koszyki!$A$14+J181,IF($C$2=\"PEAK7\",(B181-A181+1)*koszyki!$A$14,M181*koszyki!$A$14))))/B181,1)","v":{"$error":"#N/A"}}]
[null,null,null,null,null,null,null,null,null,null,null,null,null,null,null,null,null,{"$f":"VLOOKUP(A182,krzywa!L:N,3,1)","v":{"$error":"#N/A"}},{"$f":"VLOOKUP(B182,krzywa!L:N,3,1)","v":{"$error":"#N/A"}},{"$f":"IF('Kalkulator Depozytów'!$B$35=TRUE,1,(1+R182/100)*V182+(1+S182/100)*(1-V182))","v":{"$error":"#N/A"}},{"$f":"IF(R182<>S182,VLOOKUP(A182,krzywa!L:N,2,1))","v":{"$error":"#N/A"}},{"$f":"IF(U182<>FALSE,IF($C$2=\"GAS_BASE\",(U182-A182+1)*koszyki!$A$14+J182,IF($C$2=\"OFFPEAK\",M182*koszyki!$A$14+(N182)*24+J182,IF($C$2=\"BASE5\",M182*koszyki!$A$14+J182,IF($C$2=\"PEAK7\",(B182-A182+1)*koszyki!$A$14,M182*koszyki!$A$14))))/B182,1)","v":{"$error":"#N/A"}}]
[null,null,null,null,null,null,null,null,null,null,null,null,null,null,null,null,null,{"$f":"VLOOKUP(A183,krzywa!L:N,3,1)","v":{"$error":"#N/A"}},{"$f":"VLOOKUP(B183,krzywa!L:N,3,1)","v":{"$error":"#N/A"}},{"$f":"IF('Kalkulator Depozytów'!$B$35=TRUE,1,(1+R183/100)*V183+(1+S183/100)*(1-V183))","v":{"$error":"#N/A"}},{"$f":"IF(R183<>S183,VLOOKUP(A183,krzywa!L:N,2,1))","v":{"$error":"#N/A"}},{"$f":"IF(U183<>FALSE,IF($C$2=\"GAS_BASE\",(U183-A183+1)*koszyki!$A$14+J183,IF($C$2=\"OFFPEAK\",M183*koszyki!$A$14+(N183)*24+J183,IF($C$2=\"BASE5\",M183*koszyki!$A$14+J183,IF($C$2=\"PEAK7\",(B183-A183+1)*koszyki!$A$14,M183*koszyki!$A$14))))/B183,1)","v":{"$error":"#N/A"}}]
[null,null,null,null,null,null,null,null,null,null,null,null,null,null,null,null,null,{"$f":"VLOOKUP(A184,krzywa!L:N,3,1)","v":{"$error":"#N/A"}},{"$f":"VLOOKUP(B184,krzywa!L:N,3,1)","v":{"$error":"#N/A"}},{"$f":"IF('Kalkulator Depozytów'!$B$35=TRUE,1,(1+R184/100)*V184+(1+S184/100)*(1-V184))","v":{"$error":"#N/A"}},{"$f":"IF(R184<>S184,VLOOKUP(A184,krzywa!L:N,2,1))","v":{"$error":"#N/A"}},{"$f":"IF(U184<>FALSE,IF($C$2=\"GAS_BASE\",(U184-A184+1)*koszyki!$A$14+J184,IF($C$2=\"OFFPEAK\",M184*koszyki!$A$14+(N184)*24+J184,IF($C$2=\"BASE5\",M184*koszyki!$A$14+J184,IF($C$2=\"PEAK7\",(B184-A184+1)*koszyki!$A$14,M184*koszyki!$A$14))))/B184,1)","v":{"$error":"#N/A"}}]
[null,null,null,null,null,null,null,null,null,null,null,null,null,null,null,null,null,{"$f":"VLOOKUP(A185,krzywa!L:N,3,1)","v":{"$error":"#N/A"}},{"$f":"VLOOKUP(B185,krzywa!L:N,3,1)","v":{"$error":"#N/A"}},{"$f":"IF('Kalkulator Depozytów'!$B$35=TRUE,1,(1+R185/100)*V185+(1+S185/100)*(1-V185))","v":{"$error":"#N/A"}},{"$f":"IF(R185<>S185,VLOOKUP(A185,krzywa!L:N,2,1))","v":{"$error":"#N/A"}},{"$f":"IF(U185<>FALSE,IF($C$2=\"GAS_BASE\",(U185-A185+1)*koszyki!$A$14+J185,IF($C$2=\"OFFPEAK\",M185*koszyki!$A$14+(N185)*24+J185,IF($C$2=\"BASE5\",M185*koszyki!$A$14+J185,IF($C$2=\"PEAK7\",(B185-A185+1)*koszyki!$A$14,M185*koszyki!$A$14))))/B185,1)","v":{"$error":"#N/A"}}]
[null,null,null,null,null,null,null,null,null,null,null,null,null,null,null,null,null,{"$f":"VLOOKUP(A186,krzywa!L:N,3,1)","v":{"$error":"#N/A"}},{"$f":"VLOOKUP(B186,krzywa!L:N,3,1)","v":{"$error":"#N/A"}},{"$f":"IF('Kalkulator Depozytów'!$B$35=TRUE,1,(1+R186/100)*V186+(1+S186/100)*(1-V186))","v":{"$error":"#N/A"}},{"$f":"IF(R186<>S186,VLOOKUP(A186,krzywa!L:N,2,1))","v":{"$error":"#N/A"}},{"$f":"IF(U186<>FALSE,IF($C$2=\"GAS_BASE\",(U186-A186+1)*koszyki!$A$14+J186,IF($C$2=\"OFFPEAK\",M186*koszyki!$A$14+(N186)*24+J186,IF($C$2=\"BASE5\",M186*koszyki!$A$14+J186,IF($C$2=\"PEAK7\",(B186-A186+1)*koszyki!$A$14,M186*koszyki!$A$14))))/B186,1)","v":{"$error":"#N/A"}}]
[null,null,null,null,null,null,null,null,null,null,null,null,null,null,null,null,null,{"$f":"VLOOKUP(A187,krzywa!L:N,3,1)","v":{"$error":"#N/A"}},{"$f":"VLOOKUP(B187,krzywa!L:N,3,1)","v":{"$error":"#N/A"}},{"$f":"IF('Kalkulator Depozytów'!$B$35=TRUE,1,(1+R187/100)*V187+(1+S187/100)*(1-V187))","v":{"$error":"#N/A"}},{"$f":"IF(R187<>S187,VLOOKUP(A187,krzywa!L:N,2,1))","v":{"$error":"#N/A"}},{"$f":"IF(U187<>FALSE,IF($C$2=\"GAS_BASE\",(U187-A187+1)*koszyki!$A$14+J187,IF($C$2=\"OFFPEAK\",M187*koszyki!$A$14+(N187)*24+J187,IF($C$2=\"BASE5\",M187*koszyki!$A$14+J187,IF($C$2=\"PEAK7\",(B187-A187+1)*koszyki!$A$14,M187*koszyki!$A$14))))/B187,1)","v":{"$error":"#N/A"}}]
[null,null,null,null,null,null,null,null,null,null,null,null,null,null,null,null,null,{"$f":"VLOOKUP(A188,krzywa!L:N,3,1)","v":{"$error":"#N/A"}},{"$f":"VLOOKUP(B188,krzywa!L:N,3,1)","v":{"$error":"#N/A"}},{"$f":"IF('Kalkulator Depozytów'!$B$35=TRUE,1,(1+R188/100)*V188+(1+S188/100)*(1-V188))","v":{"$error":"#N/A"}},{"$f":"IF(R188<>S188,VLOOKUP(A188,krzywa!L:N,2,1))","v":{"$error":"#N/A"}},{"$f":"IF(U188<>FALSE,IF($C$2=\"GAS_BASE\",(U188-A188+1)*koszyki!$A$14+J188,IF($C$2=\"OFFPEAK\",M188*koszyki!$A$14+(N188)*24+J188,IF($C$2=\"BASE5\",M188*koszyki!$A$14+J188,IF($C$2=\"PEAK7\",(B188-A188+1)*koszyki!$A$14,M188*koszyki!$A$14))))/B188,1)","v":{"$error":"#N/A"}}]
[null,null,null,null,null,null,null,null,null,null,null,null,null,null,null,null,null,{"$f":"VLOOKUP(A189,krzywa!L:N,3,1)","v":{"$error":"#N/A"}},{"$f":"VLOOKUP(B189,krzywa!L:N,3,1)","v":{"$error":"#N/A"}},{"$f":"IF('Kalkulator Depozytów'!$B$35=TRUE,1,(1+R189/100)*V189+(1+S189/100)*(1-V189))","v":{"$error":"#N/A"}},{"$f":"IF(R189<>S189,VLOOKUP(A189,krzywa!L:N,2,1))","v":{"$error":"#N/A"}},{"$f":"IF(U189<>FALSE,IF($C$2=\"GAS_BASE\",(U189-A189+1)*koszyki!$A$14+J189,IF($C$2=\"OFFPEAK\",M189*koszyki!$A$14+(N189)*24+J189,IF($C$2=\"BASE5\",M189*koszyki!$A$14+J189,IF($C$2=\"PEAK7\",(B189-A189+1)*koszyki!$A$14,M189*koszyki!$A$14))))/B189,1)","v":{"$error":"#N/A"}}]
[null,null,null,null,null,null,null,null,null,null,null,null,null,null,null,null,null,{"$f":"VLOOKUP(A190,krzywa!L:N,3,1)","v":{"$error":"#N/A"}},{"$f":"VLOOKUP(B190,krzywa!L:N,3,1)","v":{"$error":"#N/A"}},{"$f":"IF('Kalkulator Depozytów'!$B$35=TRUE,1,(1+R190/100)*V190+(1+S190/100)*(1-V190))","v":{"$error":"#N/A"}},{"$f":"IF(R190<>S190,VLOOKUP(A190,krzywa!L:N,2,1))","v":{"$error":"#N/A"}},{"$f":"IF(U190<>FALSE,IF($C$2=\"GAS_BASE\",(U190-A190+1)*koszyki!$A$14+J190,IF($C$2=\"OFFPEAK\",M190*koszyki!$A$14+(N190)*24+J190,IF($C$2=\"BASE5\",M190*koszyki!$A$14+J190,IF($C$2=\"PEAK7\",(B190-A190+1)*koszyki!$A$14,M190*koszyki!$A$14))))/B190,1)","v":{"$error":"#N/A"}}]
[null,null,null,null,null,null,null,null,null,null,null,null,null,null,null,null,null,{"$f":"VLOOKUP(A191,krzywa!L:N,3,1)","v":{"$error":"#N/A"}},{"$f":"VLOOKUP(B191,krzywa!L:N,3,1)","v":{"$error":"#N/A"}},{"$f":"IF('Kalkulator Depozytów'!$B$35=TRUE,1,(1+R191/100)*V191+(1+S191/100)*(1-V191))","v":{"$error":"#N/A"}},{"$f":"IF(R191<>S191,VLOOKUP(A191,krzywa!L:N,2,1))","v":{"$error":"#N/A"}},{"$f":"IF(U191<>FALSE,IF($C$2=\"GAS_BASE\",(U191-A191+1)*koszyki!$A$14+J191,IF($C$2=\"OFFPEAK\",M191*koszyki!$A$14+(N191)*24+J191,IF($C$2=\"BASE5\",M191*koszyki!$A$14+J191,IF($C$2=\"PEAK7\",(B191-A191+1)*koszyki!$A$14,M191*koszyki!$A$14))))/B191,1)","v":{"$error":"#N/A"}}]
[null,null,null,null,null,null,null,null,null,null,null,null,null,null,null,null,null,{"$f":"VLOOKUP(A192,krzywa!L:N,3,1)","v":{"$error":"#N/A"}},{"$f":"VLOOKUP(B192,krzywa!L:N,3,1)","v":{"$error":"#N/A"}},{"$f":"IF('Kalkulator Depozytów'!$B$35=TRUE,1,(1+R192/100)*V192+(1+S192/100)*(1-V192))","v":{"$error":"#N/A"}},{"$f":"IF(R192<>S192,VLOOKUP(A192,krzywa!L:N,2,1))","v":{"$error":"#N/A"}},{"$f":"IF(U192<>FALSE,IF($C$2=\"GAS_BASE\",(U192-A192+1)*koszyki!$A$14+J192,IF($C$2=\"OFFPEAK\",M192*koszyki!$A$14+(N192)*24+J192,IF($C$2=\"BASE5\",M192*koszyki!$A$14+J192,IF($C$2=\"PEAK7\",(B192-A192+1)*koszyki!$A$14,M192*koszyki!$A$14))))/B192,1)","v":{"$error":"#N/A"}}]
[null,null,null,null,null,null,null,null,null,null,null,null,null,null,null,null,null,{"$f":"VLOOKUP(A193,krzywa!L:N,3,1)","v":{"$error":"#N/A"}},{"$f":"VLOOKUP(B193,krzywa!L:N,3,1)","v":{"$error":"#N/A"}},{"$f":"IF('Kalkulator Depozytów'!$B$35=TRUE,1,(1+R193/100)*V193+(1+S193/100)*(1-V193))","v":{"$error":"#N/A"}},{"$f":"IF(R193<>S193,VLOOKUP(A193,krzywa!L:N,2,1))","v":{"$error":"#N/A"}},{"$f":"IF(U193<>FALSE,IF($C$2=\"GAS_BASE\",(U193-A193+1)*koszyki!$A$14+J193,IF($C$2=\"OFFPEAK\",M193*koszyki!$A$14+(N193)*24+J193,IF($C$2=\"BASE5\",M193*koszyki!$A$14+J193,IF($C$2=\"PEAK7\",(B193-A193+1)*koszyki!$A$14,M193*koszyki!$A$14))))/B193,1)","v":{"$error":"#N/A"}}]
[null,null,null,null,null,null,null,null,null,null,null,null,null,null,null,null,null,{"$f":"VLOOKUP(A194,krzywa!L:N,3,1)","v":{"$error":"#N/A"}},{"$f":"VLOOKUP(B194,krzywa!L:N,3,1)","v":{"$error":"#N/A"}},{"$f":"IF('Kalkulator Depozytów'!$B$35=TRUE,1,(1+R194/100)*V194+(1+S194/100)*(1-V194))","v":{"$error":"#N/A"}},{"$f":"IF(R194<>S194,VLOOKUP(A194,krzywa!L:N,2,1))","v":{"$error":"#N/A"}},{"$f":"IF(U194<>FALSE,IF($C$2=\"GAS_BASE\",(U194-A194+1)*koszyki!$A$14+J194,IF($C$2=\"OFFPEAK\",M194*koszyki!$A$14+(N194)*24+J194,IF($C$2=\"BASE5\",M194*koszyki!$A$14+J194,IF($C$2=\"PEAK7\",(B194-A194+1)*koszyki!$A$14,M194*koszyki!$A$14))))/B194,1)","v":{"$error":"#N/A"}}]
[null,null,null,null,null,null,null,null,null,null,null,null,null,null,null,null,null,{"$f":"VLOOKUP(A195,krzywa!L:N,3,1)","v":{"$error":"#N/A"}},{"$f":"VLOOKUP(B195,krzywa!L:N,3,1)","v":{"$error":"#N/A"}},{"$f":"IF('Kalkulator Depozytów'!$B$35=TRUE,1,(1+R195/100)*V195+(1+S195/100)*(1-V195))","v":{"$error":"#N/A"}},{"$f":"IF(R195<>S195,VLOOKUP(A195,krzywa!L:N,2,1))","v":{"$error":"#N/A"}},{"$f":"IF(U195<>FALSE,IF($C$2=\"GAS_BASE\",(U195-A195+1)*koszyki!$A$14+J195,IF($C$2=\"OFFPEAK\",M195*koszyki!$A$14+(N195)*24+J195,IF($C$2=\"BASE5\",M195*koszyki!$A$14+J195,IF($C$2=\"PEAK7\",(B195-A195+1)*koszyki!$A$14,M195*koszyki!$A$14))))/B195,1)","v":{"$error":"#N/A"}}]
[null,null,null,null,null,null,null,null,null,null,null,null,null,null,null,null,null,{"$f":"VLOOKUP(A196,krzywa!L:N,3,1)","v":{"$error":"#N/A"}},{"$f":"VLOOKUP(B196,krzywa!L:N,3,1)","v":{"$error":"#N/A"}},{"$f":"IF('Kalkulator Depozytów'!$B$35=TRUE,1,(1+R196/100)*V196+(1+S196/100)*(1-V196))","v":{"$error":"#N/A"}},{"$f":"IF(R196<>S196,VLOOKUP(A196,krzywa!L:N,2,1))","v":{"$error":"#N/A"}},{"$f":"IF(U196<>FALSE,IF($C$2=\"GAS_BASE\",(U196-A196+1)*koszyki!$A$14+J196,IF($C$2=\"OFFPEAK\",M196*koszyki!$A$14+(N196)*24+J196,IF($C$2=\"BASE5\",M196*koszyki!$A$14+J196,IF($C$2=\"PEAK7\",(B196-A196+1)*koszyki!$A$14,M196*koszyki!$A$14))))/B196,1)","v":{"$error":"#N/A"}}]
[null,null,null,null,null,null,null,null,null,null,null,null,null,null,null,null,null,{"$f":"VLOOKUP(A197,krzywa!L:N,3,1)","v":{"$error":"#N/A"}},{"$f":"VLOOKUP(B197,krzywa!L:N,3,1)","v":{"$error":"#N/A"}},{"$f":"IF('Kalkulator Depozytów'!$B$35=TRUE,1,(1+R197/100)*V197+(1+S197/100)*(1-V197))","v":{"$error":"#N/A"}},{"$f":"IF(R197<>S197,VLOOKUP(A197,krzywa!L:N,2,1))","v":{"$error":"#N/A"}},{"$f":"IF(U197<>FALSE,IF($C$2=\"GAS_BASE\",(U197-A197+1)*koszyki!$A$14+J197,IF($C$2=\"OFFPEAK\",M197*koszyki!$A$14+(N197)*24+J197,IF($C$2=\"BASE5\",M197*koszyki!$A$14+J197,IF($C$2=\"PEAK7\",(B197-A197+1)*koszyki!$A$14,M197*koszyki!$A$14))))/B197,1)","v":{"$error":"#N/A"}}]
[null,null,null,null,null,null,null,null,null,null,null,null,null,null,null,null,null,{"$f":"VLOOKUP(A198,krzywa!L:N,3,1)","v":{"$error":"#N/A"}},{"$f":"VLOOKUP(B198,krzywa!L:N,3,1)","v":{"$error":"#N/A"}},{"$f":"IF('Kalkulator Depozytów'!$B$35=TRUE,1,(1+R198/100)*V198+(1+S198/100)*(1-V198))","v":{"$error":"#N/A"}},{"$f":"IF(R198<>S198,VLOOKUP(A198,krzywa!L:N,2,1))","v":{"$error":"#N/A"}},{"$f":"IF(U198<>FALSE,IF($C$2=\"GAS_BASE\",(U198-A198+1)*koszyki!$A$14+J198,IF($C$2=\"OFFPEAK\",M198*koszyki!$A$14+(N198)*24+J198,IF($C$2=\"BASE5\",M198*koszyki!$A$14+J198,IF($C$2=\"PEAK7\",(B198-A198+1)*koszyki!$A$14,M198*koszyki!$A$14))))/B198,1)","v":{"$error":"#N/A"}}]
[null,null,null,null,null,null,null,null,null,null,null,null,null,null,null,null,null,{"$f":"VLOOKUP(A199,krzywa!L:N,3,1)","v":{"$error":"#N/A"}},{"$f":"VLOOKUP(B199,krzywa!L:N,3,1)","v":{"$error":"#N/A"}},{"$f":"IF('Kalkulator Depozytów'!$B$35=TRUE,1,(1+R199/100)*V199+(1+S199/100)*(1-V199))","v":{"$error":"#N/A"}},{"$f":"IF(R199<>S199,VLOOKUP(A199,krzywa!L:N,2,1))","v":{"$error":"#N/A"}},{"$f":"IF(U199<>FALSE,IF($C$2=\"GAS_BASE\",(U199-A199+1)*koszyki!$A$14+J199,IF($C$2=\"OFFPEAK\",M199*koszyki!$A$14+(N199)*24+J199,IF($C$2=\"BASE5\",M199*koszyki!$A$14+J199,IF($C$2=\"PEAK7\",(B199-A199+1)*koszyki!$A$14,M199*koszyki!$A$14))))/B199,1)","v":{"$error":"#N/A"}}]
[null,null,null,null,null,null,null,null,null,null,null,null,null,null,null,null,null,{"$f":"VLOOKUP(A200,krzywa!L:N,3,1)","v":{"$error":"#N/A"}},{"$f":"VLOOKUP(B200,krzywa!L:N,3,1)","v":{"$error":"#N/A"}},{"$f":"IF('Kalkulator Depozytów'!$B$35=TRUE,1,(1+R200/100)*V200+(1+S200/100)*(1-V200))","v":{"$error":"#N/A"}},{"$f":"IF(R200<>S200,VLOOKUP(A200,krzywa!L:N,2,1))","v":{"$error":"#N/A"}},{"$f":"IF(U200<>FALSE,IF($C$2=\"GAS_BASE\",(U200-A200+1)*koszyki!$A$14+J200,IF($C$2=\"OFFPEAK\",M200*koszyki!$A$14+(N200)*24+J200,IF($C$2=\"BASE5\",M200*koszyki!$A$14+J200,IF($C$2=\"PEAK7\",(B200-A200+1)*koszyki!$A$14,M200*koszyki!$A$14))))/B200,1)","v":{"$error":"#N/A"}}]
[null,null,null,null,null,null,null,null,null,null,null,null,null,null,null,null,null,{"$f":"VLOOKUP(A201,krzywa!L:N,3,1)","v":{"$error":"#N/A"}},{"$f":"VLOOKUP(B201,krzywa!L:N,3,1)","v":{"$error":"#N/A"}},{"$f":"IF('Kalkulator Depozytów'!$B$35=TRUE,1,(1+R201/100)*V201+(1+S201/100)*(1-V201))","v":{"$error":"#N/A"}},{"$f":"IF(R201<>S201,VLOOKUP(A201,krzywa!L:N,2,1))","v":{"$error":"#N/A"}},{"$f":"IF(U201<>FALSE,IF($C$2=\"GAS_BASE\",(U201-A201+1)*koszyki!$A$14+J201,IF($C$2=\"OFFPEAK\",M201*koszyki!$A$14+(N201)*24+J201,IF($C$2=\"BASE5\",M201*koszyki!$A$14+J201,IF($C$2=\"PEAK7\",(B201-A201+1)*koszyki!$A$14,M201*koszyki!$A$14))))/B201,1)","v":{"$error":"#N/A"}}]
[null,null,null,null,null,null,null,null,null,null,null,null,null,null,null,null,null,{"$f":"VLOOKUP(A202,krzywa!L:N,3,1)","v":{"$error":"#N/A"}},{"$f":"VLOOKUP(B202,krzywa!L:N,3,1)","v":{"$error":"#N/A"}},{"$f":"IF('Kalkulator Depozytów'!$B$35=TRUE,1,(1+R202/100)*V202+(1+S202/100)*(1-V202))","v":{"$error":"#N/A"}},{"$f":"IF(R202<>S202,VLOOKUP(A202,krzywa!L:N,2,1))","v":{"$error":"#N/A"}},{"$f":"IF(U202<>FALSE,IF($C$2=\"GAS_BASE\",(U202-A202+1)*koszyki!$A$14+J202,IF($C$2=\"OFFPEAK\",M202*koszyki!$A$14+(N202)*24+J202,IF($C$2=\"BASE5\",M202*koszyki!$A$14+J202,IF($C$2=\"PEAK7\",(B202-A202+1)*koszyki!$A$14,M202*koszyki!$A$14))))/B202,1)","v":{"$error":"#N/A"}}]
[null,null,null,null,null,null,null,null,null,null,null,null,null,null,null,null,null,{"$f":"VLOOKUP(A203,krzywa!L:N,3,1)","v":{"$error":"#N/A"}},{"$f":"VLOOKUP(B203,krzywa!L:N,3,1)","v":{"$error":"#N/A"}},{"$f":"IF('Kalkulator Depozytów'!$B$35=TRUE,1,(1+R203/100)*V203+(1+S203/100)*(1-V203))","v":{"$error":"#N/A"}},{"$f":"IF(R203<>S203,VLOOKUP(A203,krzywa!L:N,2,1))","v":{"$error":"#N/A"}},{"$f":"IF(U203<>FALSE,IF($C$2=\"GAS_BASE\",(U203-A203+1)*koszyki!$A$14+J203,IF($C$2=\"OFFPEAK\",M203*koszyki!$A$14+(N203)*24+J203,IF($C$2=\"BASE5\",M203*koszyki!$A$14+J203,IF($C$2=\"PEAK7\",(B203-A203+1)*koszyki!$A$14,M203*koszyki!$A$14))))/B203,1)","v":{"$error":"#N/A"}}]
[null,null,null,null,null,null,null,null,null,null,null,null,null,null,null,null,null,{"$f":"VLOOKUP(A204,krzywa!L:N,3,1)","v":{"$error":"#N/A"}},{"$f":"VLOOKUP(B204,krzywa!L:N,3,1)","v":{"$error":"#N/A"}},{"$f":"IF('Kalkulator Depozytów'!$B$35=TRUE,1,(1+R204/100)*V204+(1+S204/100)*(1-V204))","v":{"$error":"#N/A"}},{"$f":"IF(R204<>S204,VLOOKUP(A204,krzywa!L:N,2,1))","v":{"$error":"#N/A"}},{"$f":"IF(U204<>FALSE,IF($C$2=\"GAS_BASE\",(U204-A204+1)*koszyki!$A$14+J204,IF($C$2=\"OFFPEAK\",M204*koszyki!$A$14+(N204)*24+J204,IF($C$2=\"BASE5\",M204*koszyki!$A$14+J204,IF($C$2=\"PEAK7\",(B204-A204+1)*koszyki!$A$14,M204*koszyki!$A$14))))/B204,1)","v":{"$error":"#N/A"}}]
[null,null,null,null,null,null,null,null,null,null,null,null,null,null,null,null,null,{"$f":"VLOOKUP(A205,krzywa!L:N,3,1)","v":{"$error":"#N/A"}},{"$f":"VLOOKUP(B205,krzywa!L:N,3,1)","v":{"$error":"#N/A"}},{"$f":"IF('Kalkulator Depozytów'!$B$35=TRUE,1,(1+R205/100)*V205+(1+S205/100)*(1-V205))","v":{"$error":"#N/A"}},{"$f":"IF(R205<>S205,VLOOKUP(A205,krzywa!L:N,2,1))","v":{"$error":"#N/A"}},{"$f":"IF(U205<>FALSE,IF($C$2=\"GAS_BASE\",(U205-A205+1)*koszyki!$A$14+J205,IF($C$2=\"OFFPEAK\",M205*koszyki!$A$14+(N205)*24+J205,IF($C$2=\"BASE5\",M205*koszyki!$A$14+J205,IF($C$2=\"PEAK7\",(B205-A205+1)*koszyki!$A$14,M205*koszyki!$A$14))))/B205,1)","v":{"$error":"#N/A"}}]
[null,null,null,null,null,null,null,null,null,null,null,null,null,null,null,null,null,{"$f":"VLOOKUP(A206,krzywa!L:N,3,1)","v":{"$error":"#N/A"}},{"$f":"VLOOKUP(B206,krzywa!L:N,3,1)","v":{"$error":"#N/A"}},{"$f":"IF('Kalkulator Depozytów'!$B$35=TRUE,1,(1+R206/100)*V206+(1+S206/100)*(1-V206))","v":{"$error":"#N/A"}},{"$f":"IF(R206<>S206,VLOOKUP(A206,krzywa!L:N,2,1))","v":{"$error":"#N/A"}},{"$f":"IF(U206<>FALSE,IF($C$2=\"GAS_BASE\",(U206-A206+1)*koszyki!$A$14+J206,IF($C$2=\"OFFPEAK\",M206*koszyki!$A$14+(N206)*24+J206,IF($C$2=\"BASE5\",M206*koszyki!$A$14+J206,IF($C$2=\"PEAK7\",(B206-A206+1)*koszyki!$A$14,M206*koszyki!$A$14))))/B206,1)","v":{"$error":"#N/A"}}]
[null,null,null,null,null,null,null,null,null,null,null,null,null,null,null,null,null,{"$f":"VLOOKUP(A207,krzywa!L:N,3,1)","v":{"$error":"#N/A"}},{"$f":"VLOOKUP(B207,krzywa!L:N,3,1)","v":{"$error":"#N/A"}},{"$f":"IF('Kalkulator Depozytów'!$B$35=TRUE,1,(1+R207/100)*V207+(1+S207/100)*(1-V207))","v":{"$error":"#N/A"}},{"$f":"IF(R207<>S207,VLOOKUP(A207,krzywa!L:N,2,1))","v":{"$error":"#N/A"}},{"$f":"IF(U207<>FALSE,IF($C$2=\"GAS_BASE\",(U207-A207+1)*koszyki!$A$14+J207,IF($C$2=\"OFFPEAK\",M207*koszyki!$A$14+(N207)*24+J207,IF($C$2=\"BASE5\",M207*koszyki!$A$14+J207,IF($C$2=\"PEAK7\",(B207-A207+1)*koszyki!$A$14,M207*koszyki!$A$14))))/B207,1)","v":{"$error":"#N/A"}}]
[null,null,null,null,null,null,null,null,null,null,null,null,null,null,null,null,null,{"$f":"VLOOKUP(A208,krzywa!L:N,3,1)","v":{"$error":"#N/A"}},{"$f":"VLOOKUP(B208,krzywa!L:N,3,1)","v":{"$error":"#N/A"}},{"$f":"IF('Kalkulator Depozytów'!$B$35=TRUE,1,(1+R208/100)*V208+(1+S208/100)*(1-V208))","v":{"$error":"#N/A"}},{"$f":"IF(R208<>S208,VLOOKUP(A208,krzywa!L:N,2,1))","v":{"$error":"#N/A"}},{"$f":"IF(U208<>FALSE,IF($C$2=\"GAS_BASE\",(U208-A208+1)*koszyki!$A$14+J208,IF($C$2=\"OFFPEAK\",M208*koszyki!$A$14+(N208)*24+J208,IF($C$2=\"BASE5\",M208*koszyki!$A$14+J208,IF($C$2=\"PEAK7\",(B208-A208+1)*koszyki!$A$14,M208*koszyki!$A$14))))/B208,1)","v":{"$error":"#N/A"}}]
[null,null,null,null,null,null,null,null,null,null,null,null,null,null,null,null,null,{"$f":"VLOOKUP(A209,krzywa!L:N,3,1)","v":{"$error":"#N/A"}},{"$f":"VLOOKUP(B209,krzywa!L:N,3,1)","v":{"$error":"#N/A"}},{"$f":"IF('Kalkulator Depozytów'!$B$35=TRUE,1,(1+R209/100)*V209+(1+S209/100)*(1-V209))","v":{"$error":"#N/A"}},{"$f":"IF(R209<>S209,VLOOKUP(A209,krzywa!L:N,2,1))","v":{"$error":"#N/A"}},{"$f":"IF(U209<>FALSE,IF($C$2=\"GAS_BASE\",(U209-A209+1)*koszyki!$A$14+J209,IF($C$2=\"OFFPEAK\",M209*koszyki!$A$14+(N209)*24+J209,IF($C$2=\"BASE5\",M209*koszyki!$A$14+J209,IF($C$2=\"PEAK7\",(B209-A209+1)*koszyki!$A$14,M209*koszyki!$A$14))))/B209,1)","v":{"$error":"#N/A"}}]
[null,null,null,null,null,null,null,null,null,null,null,null,null,null,null,null,null,{"$f":"VLOOKUP(A210,krzywa!L:N,3,1)","v":{"$error":"#N/A"}},{"$f":"VLOOKUP(B210,krzywa!L:N,3,1)","v":{"$error":"#N/A"}},{"$f":"IF('Kalkulator Depozytów'!$B$35=TRUE,1,(1+R210/100)*V210+(1+S210/100)*(1-V210))","v":{"$error":"#N/A"}},{"$f":"IF(R210<>S210,VLOOKUP(A210,krzywa!L:N,2,1))","v":{"$error":"#N/A"}},{"$f":"IF(U210<>FALSE,IF($C$2=\"GAS_BASE\",(U210-A210+1)*koszyki!$A$14+J210,IF($C$2=\"OFFPEAK\",M210*koszyki!$A$14+(N210)*24+J210,IF($C$2=\"BASE5\",M210*koszyki!$A$14+J210,IF($C$2=\"PEAK7\",(B210-A210+1)*koszyki!$A$14,M210*koszyki!$A$14))))/B210,1)","v":{"$error":"#N/A"}}]
[null,null,null,null,null,null,null,null,null,null,null,null,null,null,null,null,null,{"$f":"VLOOKUP(A211,krzywa!L:N,3,1)","v":{"$error":"#N/A"}},{"$f":"VLOOKUP(B211,krzywa!L:N,3,1)","v":{"$error":"#N/A"}},{"$f":"IF('Kalkulator Depozytów'!$B$35=TRUE,1,(1+R211/100)*V211+(1+S211/100)*(1-V211))","v":{"$error":"#N/A"}},{"$f":"IF(R211<>S211,VLOOKUP(A211,krzywa!L:N,2,1))","v":{"$error":"#N/A"}},{"$f":"IF(U211<>FALSE,IF($C$2=\"GAS_BASE\",(U211-A211+1)*koszyki!$A$14+J211,IF($C$2=\"OFFPEAK\",M211*koszyki!$A$14+(N211)*24+J211,IF($C$2=\"BASE5\",M211*koszyki!$A$14+J211,IF($C$2=\"PEAK7\",(B211-A211+1)*koszyki!$A$14,M211*koszyki!$A$14))))/B211,1)","v":{"$error":"#N/A"}}]
[null,null,null,null,null,null,null,null,null,null,null,null,null,null,null,null,null,{"$f":"VLOOKUP(A212,krzywa!L:N,3,1)","v":{"$error":"#N/A"}},{"$f":"VLOOKUP(B212,krzywa!L:N,3,1)","v":{"$error":"#N/A"}},{"$f":"IF('Kalkulator Depozytów'!$B$35=TRUE,1,(1+R212/100)*V212+(1+S212/100)*(1-V212))","v":{"$error":"#N/A"}},{"$f":"IF(R212<>S212,VLOOKUP(A212,krzywa!L:N,2,1))","v":{"$error":"#N/A"}},{"$f":"IF(U212<>FALSE,IF($C$2=\"GAS_BASE\",(U212-A212+1)*koszyki!$A$14+J212,IF($C$2=\"OFFPEAK\",M212*koszyki!$A$14+(N212)*24+J212,IF($C$2=\"BASE5\",M212*koszyki!$A$14+J212,IF($C$2=\"PEAK7\",(B212-A212+1)*koszyki!$A$14,M212*koszyki!$A$14))))/B212,1)","v":{"$error":"#N/A"}}]
[null,null,null,null,null,null,null,null,null,null,null,null,null,null,null,null,null,{"$f":"VLOOKUP(A213,krzywa!L:N,3,1)","v":{"$error":"#N/A"}},{"$f":"VLOOKUP(B213,krzywa!L:N,3,1)","v":{"$error":"#N/A"}},{"$f":"IF('Kalkulator Depozytów'!$B$35=TRUE,1,(1+R213/100)*V213+(1+S213/100)*(1-V213))","v":{"$error":"#N/A"}},{"$f":"IF(R213<>S213,VLOOKUP(A213,krzywa!L:N,2,1))","v":{"$error":"#N/A"}},{"$f":"IF(U213<>FALSE,IF($C$2=\"GAS_BASE\",(U213-A213+1)*koszyki!$A$14+J213,IF($C$2=\"OFFPEAK\",M213*koszyki!$A$14+(N213)*24+J213,IF($C$2=\"BASE5\",M213*koszyki!$A$14+J213,IF($C$2=\"PEAK7\",(B213-A213+1)*koszyki!$A$14,M213*koszyki!$A$14))))/B213,1)","v":{"$error":"#N/A"}}]
[null,null,null,null,null,null,null,null,null,null,null,null,null,null,null,null,null,{"$f":"VLOOKUP(A214,krzywa!L:N,3,1)","v":{"$error":"#N/A"}},{"$f":"VLOOKUP(B214,krzywa!L:N,3,1)","v":{"$error":"#N/A"}},{"$f":"IF('Kalkulator Depozytów'!$B$35=TRUE,1,(1+R214/100)*V214+(1+S214/100)*(1-V214))","v":{"$error":"#N/A"}},{"$f":"IF(R214<>S214,VLOOKUP(A214,krzywa!L:N,2,1))","v":{"$error":"#N/A"}},{"$f":"IF(U214<>FALSE,IF($C$2=\"GAS_BASE\",(U214-A214+1)*koszyki!$A$14+J214,IF($C$2=\"OFFPEAK\",M214*koszyki!$A$14+(N214)*24+J214,IF($C$2=\"BASE5\",M214*koszyki!$A$14+J214,IF($C$2=\"PEAK7\",(B214-A214+1)*koszyki!$A$14,M214*koszyki!$A$14))))/B214,1)","v":{"$error":"#N/A"}}]
[null,null,null,null,null,null,null,null,null,null,null,null,null,null,null,null,null,{"$f":"VLOOKUP(A215,krzywa!L:N,3,1)","v":{"$error":"#N/A"}},{"$f":"VLOOKUP(B215,krzywa!L:N,3,1)","v":{"$error":"#N/A"}},{"$f":"IF('Kalkulator Depozytów'!$B$35=TRUE,1,(1+R215/100)*V215+(1+S215/100)*(1-V215))","v":{"$error":"#N/A"}},{"$f":"IF(R215<>S215,VLOOKUP(A215,krzywa!L:N,2,1))","v":{"$error":"#N/A"}},{"$f":"IF(U215<>FALSE,IF($C$2=\"GAS_BASE\",(U215-A215+1)*koszyki!$A$14+J215,IF($C$2=\"OFFPEAK\",M215*koszyki!$A$14+(N215)*24+J215,IF($C$2=\"BASE5\",M215*koszyki!$A$14+J215,IF($C$2=\"PEAK7\",(B215-A215+1)*koszyki!$A$14,M215*koszyki!$A$14))))/B215,1)","v":{"$error":"#N/A"}}]
[null,null,null,null,null,null,null,null,null,null,null,null,null,null,null,null,null,{"$f":"VLOOKUP(A216,krzywa!L:N,3,1)","v":{"$error":"#N/A"}},{"$f":"VLOOKUP(B216,krzywa!L:N,3,1)","v":{"$error":"#N/A"}},{"$f":"IF('Kalkulator Depozytów'!$B$35=TRUE,1,(1+R216/100)*V216+(1+S216/100)*(1-V216))","v":{"$error":"#N/A"}},{"$f":"IF(R216<>S216,VLOOKUP(A216,krzywa!L:N,2,1))","v":{"$error":"#N/A"}},{"$f":"IF(U216<>FALSE,IF($C$2=\"GAS_BASE\",(U216-A216+1)*koszyki!$A$14+J216,IF($C$2=\"OFFPEAK\",M216*koszyki!$A$14+(N216)*24+J216,IF($C$2=\"BASE5\",M216*koszyki!$A$14+J216,IF($C$2=\"PEAK7\",(B216-A216+1)*koszyki!$A$14,M216*koszyki!$A$14))))/B216,1)","v":{"$error":"#N/A"}}]
[null,null,null,null,null,null,null,null,null,null,null,null,null,null,null,null,null,{"$f":"VLOOKUP(A217,krzywa!L:N,3,1)","v":{"$error":"#N/A"}},{"$f":"VLOOKUP(B217,krzywa!L:N,3,1)","v":{"$error":"#N/A"}},{"$f":"IF('Kalkulator Depozytów'!$B$35=TRUE,1,(1+R217/100)*V217+(1+S217/100)*(1-V217))","v":{"$error":"#N/A"}},{"$f":"IF(R217<>S217,VLOOKUP(A217,krzywa!L:N,2,1))","v":{"$error":"#N/A"}},{"$f":"IF(U217<>FALSE,IF($C$2=\"GAS_BASE\",(U217-A217+1)*koszyki!$A$14+J217,IF($C$2=\"OFFPEAK\",M217*koszyki!$A$14+(N217)*24+J217,IF($C$2=\"BASE5\",M217*koszyki!$A$14+J217,IF($C$2=\"PEAK7\",(B217-A217+1)*koszyki!$A$14,M217*koszyki!$A$14))))/B217,1)","v":{"$error":"#N/A"}}]
[null,null,null,null,null,null,null,null,null,null,null,null,null,null,null,null,null,{"$f":"VLOOKUP(A218,krzywa!L:N,3,1)","v":{"$error":"#N/A"}},{"$f":"VLOOKUP(B218,krzywa!L:N,3,1)","v":{"$error":"#N/A"}},{"$f":"IF('Kalkulator Depozytów'!$B$35=TRUE,1,(1+R218/100)*V218+(1+S218/100)*(1-V218))","v":{"$error":"#N/A"}},{"$f":"IF(R218<>S218,VLOOKUP(A218,krzywa!L:N,2,1))","v":{"$error":"#N/A"}},{"$f":"IF(U218<>FALSE,IF($C$2=\"GAS_BASE\",(U218-A218+1)*koszyki!$A$14+J218,IF($C$2=\"OFFPEAK\",M218*koszyki!$A$14+(N218)*24+J218,IF($C$2=\"BASE5\",M218*koszyki!$A$14+J218,IF($C$2=\"PEAK7\",(B218-A218+1)*koszyki!$A$14,M218*koszyki!$A$14))))/B218,1)","v":{"$error":"#N/A"}}]
[null,null,null,null,null,null,null,null,null,null,null,null,null,null,null,null,null,{"$f":"VLOOKUP(A219,krzywa!L:N,3,1)","v":{"$error":"#N/A"}},{"$f":"VLOOKUP(B219,krzywa!L:N,3,1)","v":{"$error":"#N/A"}},{"$f":"IF('Kalkulator Depozytów'!$B$35=TRUE,1,(1+R219/100)*V219+(1+S219/100)*(1-V219))","v":{"$error":"#N/A"}},{"$f":"IF(R219<>S219,VLOOKUP(A219,krzywa!L:N,2,1))","v":{"$error":"#N/A"}},{"$f":"IF(U219<>FALSE,IF($C$2=\"GAS_BASE\",(U219-A219+1)*koszyki!$A$14+J219,IF($C$2=\"OFFPEAK\",M219*koszyki!$A$14+(N219)*24+J219,IF($C$2=\"BASE5\",M219*koszyki!$A$14+J219,IF($C$2=\"PEAK7\",(B219-A219+1)*koszyki!$A$14,M219*koszyki!$A$14))))/B219,1)","v":{"$error":"#N/A"}}]
[null,null,null,null,null,null,null,null,null,null,null,null,null,null,null,null,null,{"$f":"VLOOKUP(A220,krzywa!L:N,3,1)","v":{"$error":"#N/A"}},{"$f":"VLOOKUP(B220,krzywa!L:N,3,1)","v":{"$error":"#N/A"}},{"$f":"IF('Kalkulator Depozytów'!$B$35=TRUE,1,(1+R220/100)*V220+(1+S220/100)*(1-V220))","v":{"$error":"#N/A"}},{"$f":"IF(R220<>S220,VLOOKUP(A220,krzywa!L:N,2,1))","v":{"$error":"#N/A"}},{"$f":"IF(U220<>FALSE,IF($C$2=\"GAS_BASE\",(U220-A220+1)*koszyki!$A$14+J220,IF($C$2=\"OFFPEAK\",M220*koszyki!$A$14+(N220)*24+J220,IF($C$2=\"BASE5\",M220*koszyki!$A$14+J220,IF($C$2=\"PEAK7\",(B220-A220+1)*koszyki!$A$14,M220*koszyki!$A$14))))/B220,1)","v":{"$error":"#N/A"}}]
[null,null,null,null,null,null,null,null,null,null,null,null,null,null,null,null,null,{"$f":"VLOOKUP(A221,krzywa!L:N,3,1)","v":{"$error":"#N/A"}},{"$f":"VLOOKUP(B221,krzywa!L:N,3,1)","v":{"$error":"#N/A"}},{"$f":"IF('Kalkulator Depozytów'!$B$35=TRUE,1,(1+R221/100)*V221+(1+S221/100)*(1-V221))","v":{"$error":"#N/A"}},{"$f":"IF(R221<>S221,VLOOKUP(A221,krzywa!L:N,2,1))","v":{"$error":"#N/A"}},{"$f":"IF(U221<>FALSE,IF($C$2=\"GAS_BASE\",(U221-A221+1)*koszyki!$A$14+J221,IF($C$2=\"OFFPEAK\",M221*koszyki!$A$14+(N221)*24+J221,IF($C$2=\"BASE5\",M221*koszyki!$A$14+J221,IF($C$2=\"PEAK7\",(B221-A221+1)*koszyki!$A$14,M221*koszyki!$A$14))))/B221,1)","v":{"$error":"#N/A"}}]
[null,null,null,null,null,null,null,null,null,null,null,null,null,null,null,null,null,{"$f":"VLOOKUP(A222,krzywa!L:N,3,1)","v":{"$error":"#N/A"}},{"$f":"VLOOKUP(B222,krzywa!L:N,3,1)","v":{"$error":"#N/A"}},{"$f":"IF('Kalkulator Depozytów'!$B$35=TRUE,1,(1+R222/100)*V222+(1+S222/100)*(1-V222))","v":{"$error":"#N/A"}},{"$f":"IF(R222<>S222,VLOOKUP(A222,krzywa!L:N,2,1))","v":{"$error":"#N/A"}},{"$f":"IF(U222<>FALSE,IF($C$2=\"GAS_BASE\",(U222-A222+1)*koszyki!$A$14+J222,IF($C$2=\"OFFPEAK\",M222*koszyki!$A$14+(N222)*24+J222,IF($C$2=\"BASE5\",M222*koszyki!$A$14+J222,IF($C$2=\"PEAK7\",(B222-A222+1)*koszyki!$A$14,M222*koszyki!$A$14))))/B222,1)","v":{"$error":"#N/A"}}]
[null,null,null,null,null,null,null,null,null,null,null,null,null,null,null,null,null,{"$f":"VLOOKUP(A223,krzywa!L:N,3,1)","v":{"$error":"#N/A"}},{"$f":"VLOOKUP(B223,krzywa!L:N,3,1)","v":{"$error":"#N/A"}},{"$f":"IF('Kalkulator Depozytów'!$B$35=TRUE,1,(1+R223/100)*V223+(1+S223/100)*(1-V223))","v":{"$error":"#N/A"}},{"$f":"IF(R223<>S223,VLOOKUP(A223,krzywa!L:N,2,1))","v":{"$error":"#N/A"}},{"$f":"IF(U223<>FALSE,IF($C$2=\"GAS_BASE\",(U223-A223+1)*koszyki!$A$14+J223,IF($C$2=\"OFFPEAK\",M223*koszyki!$A$14+(N223)*24+J223,IF($C$2=\"BASE5\",M223*koszyki!$A$14+J223,IF($C$2=\"PEAK7\",(B223-A223+1)*koszyki!$A$14,M223*koszyki!$A$14))))/B223,1)","v":{"$error":"#N/A"}}]
[null,null,null,null,null,null,null,null,null,null,null,null,null,null,null,null,null,{"$f":"VLOOKUP(A224,krzywa!L:N,3,1)","v":{"$error":"#N/A"}},{"$f":"VLOOKUP(B224,krzywa!L:N,3,1)","v":{"$error":"#N/A"}},{"$f":"IF('Kalkulator Depozytów'!$B$35=TRUE,1,(1+R224/100)*V224+(1+S224/100)*(1-V224))","v":{"$error":"#N/A"}},{"$f":"IF(R224<>S224,VLOOKUP(A224,krzywa!L:N,2,1))","v":{"$error":"#N/A"}},{"$f":"IF(U224<>FALSE,IF($C$2=\"GAS_BASE\",(U224-A224+1)*koszyki!$A$14+J224,IF($C$2=\"OFFPEAK\",M224*koszyki!$A$14+(N224)*24+J224,IF($C$2=\"BASE5\",M224*koszyki!$A$14+J224,IF($C$2=\"PEAK7\",(B224-A224+1)*koszyki!$A$14,M224*koszyki!$A$14))))/B224,1)","v":{"$error":"#N/A"}}]
[null,null,null,null,null,null,null,null,null,null,null,null,null,null,null,null,null,{"$f":"VLOOKUP(A225,krzywa!L:N,3,1)","v":{"$error":"#N/A"}},{"$f":"VLOOKUP(B225,krzywa!L:N,3,1)","v":{"$error":"#N/A"}},{"$f":"IF('Kalkulator Depozytów'!$B$35=TRUE,1,(1+R225/100)*V225+(1+S225/100)*(1-V225))","v":{"$error":"#N/A"}},{"$f":"IF(R225<>S225,VLOOKUP(A225,krzywa!L:N,2,1))","v":{"$error":"#N/A"}},{"$f":"IF(U225<>FALSE,IF($C$2=\"GAS_BASE\",(U225-A225+1)*koszyki!$A$14+J225,IF($C$2=\"OFFPEAK\",M225*koszyki!$A$14+(N225)*24+J225,IF($C$2=\"BASE5\",M225*koszyki!$A$14+J225,IF($C$2=\"PEAK7\",(B225-A225+1)*koszyki!$A$14,M225*koszyki!$A$14))))/B225,1)","v":{"$error":"#N/A"}}]
[null,null,null,null,null,null,null,null,null,null,null,null,null,null,null,null,null,{"$f":"VLOOKUP(A226,krzywa!L:N,3,1)","v":{"$error":"#N/A"}},{"$f":"VLOOKUP(B226,krzywa!L:N,3,1)","v":{"$error":"#N/A"}},{"$f":"IF('Kalkulator Depozytów'!$B$35=TRUE,1,(1+R226/100)*V226+(1+S226/100)*(1-V226))","v":{"$error":"#N/A"}},{"$f":"IF(R226<>S226,VLOOKUP(A226,krzywa!L:N,2,1))","v":{"$error":"#N/A"}},{"$f":"IF(U226<>FALSE,IF($C$2=\"GAS_BASE\",(U226-A226+1)*koszyki!$A$14+J226,IF($C$2=\"OFFPEAK\",M226*koszyki!$A$14+(N226)*24+J226,IF($C$2=\"BASE5\",M226*koszyki!$A$14+J226,IF($C$2=\"PEAK7\",(B226-A226+1)*koszyki!$A$14,M226*koszyki!$A$14))))/B226,1)","v":{"$error":"#N/A"}}]
[null,null,null,null,null,null,null,null,null,null,null,null,null,null,null,null,null,{"$f":"VLOOKUP(A227,krzywa!L:N,3,1)","v":{"$error":"#N/A"}},{"$f":"VLOOKUP(B227,krzywa!L:N,3,1)","v":{"$error":"#N/A"}},{"$f":"IF('Kalkulator Depozytów'!$B$35=TRUE,1,(1+R227/100)*V227+(1+S227/100)*(1-V227))","v":{"$error":"#N/A"}},{"$f":"IF(R227<>S227,VLOOKUP(A227,krzywa!L:N,2,1))","v":{"$error":"#N/A"}},{"$f":"IF(U227<>FALSE,IF($C$2=\"GAS_BASE\",(U227-A227+1)*koszyki!$A$14+J227,IF($C$2=\"OFFPEAK\",M227*koszyki!$A$14+(N227)*24+J227,IF($C$2=\"BASE5\",M227*koszyki!$A$14+J227,IF($C$2=\"PEAK7\",(B227-A227+1)*koszyki!$A$14,M227*koszyki!$A$14))))/B227,1)","v":{"$error":"#N/A"}}]
[null,null,null,null,null,null,null,null,null,null,null,null,null,null,null,null,null,{"$f":"VLOOKUP(A228,krzywa!L:N,3,1)","v":{"$error":"#N/A"}},{"$f":"VLOOKUP(B228,krzywa!L:N,3,1)","v":{"$error":"#N/A"}},{"$f":"IF('Kalkulator Depozytów'!$B$35=TRUE,1,(1+R228/100)*V228+(1+S228/100)*(1-V228))","v":{"$error":"#N/A"}},{"$f":"IF(R228<>S228,VLOOKUP(A228,krzywa!L:N,2,1))","v":{"$error":"#N/A"}},{"$f":"IF(U228<>FALSE,IF($C$2=\"GAS_BASE\",(U228-A228+1)*koszyki!$A$14+J228,IF($C$2=\"OFFPEAK\",M228*koszyki!$A$14+(N228)*24+J228,IF($C$2=\"BASE5\",M228*koszyki!$A$14+J228,IF($C$2=\"PEAK7\",(B228-A228+1)*koszyki!$A$14,M228*koszyki!$A$14))))/B228,1)","v":{"$error":"#N/A"}}]
[null,null,null,null,null,null,null,null,null,null,null,null,null,null,null,null,null,{"$f":"VLOOKUP(A229,krzywa!L:N,3,1)","v":{"$error":"#N/A"}},{"$f":"VLOOKUP(B229,krzywa!L:N,3,1)","v":{"$error":"#N/A"}},{"$f":"IF('Kalkulator Depozytów'!$B$35=TRUE,1,(1+R229/100)*V229+(1+S229/100)*(1-V229))","v":{"$error":"#N/A"}},{"$f":"IF(R229<>S229,VLOOKUP(A229,krzywa!L:N,2,1))","v":{"$error":"#N/A"}},{"$f":"IF(U229<>FALSE,IF($C$2=\"GAS_BASE\",(U229-A229+1)*koszyki!$A$14+J229,IF($C$2=\"OFFPEAK\",M229*koszyki!$A$14+(N229)*24+J229,IF($C$2=\"BASE5\",M229*koszyki!$A$14+J229,IF($C$2=\"PEAK7\",(B229-A229+1)*koszyki!$A$14,M229*koszyki!$A$14))))/B229,1)","v":{"$error":"#N/A"}}]
[null,null,null,null,null,null,null,null,null,null,null,null,null,null,null,null,null,{"$f":"VLOOKUP(A230,krzywa!L:N,3,1)","v":{"$error":"#N/A"}},{"$f":"VLOOKUP(B230,krzywa!L:N,3,1)","v":{"$error":"#N/A"}},{"$f":"IF('Kalkulator Depozytów'!$B$35=TRUE,1,(1+R230/100)*V230+(1+S230/100)*(1-V230))","v":{"$error":"#N/A"}},{"$f":"IF(R230<>S230,VLOOKUP(A230,krzywa!L:N,2,1))","v":{"$error":"#N/A"}},{"$f":"IF(U230<>FALSE,IF($C$2=\"GAS_BASE\",(U230-A230+1)*koszyki!$A$14+J230,IF($C$2=\"OFFPEAK\",M230*koszyki!$A$14+(N230)*24+J230,IF($C$2=\"BASE5\",M230*koszyki!$A$14+J230,IF($C$2=\"PEAK7\",(B230-A230+1)*koszyki!$A$14,M230*koszyki!$A$14))))/B230,1)","v":{"$error":"#N/A"}}]
[null,null,null,null,null,null,null,null,null,null,null,null,null,null,null,null,null,{"$f":"VLOOKUP(A231,krzywa!L:N,3,1)","v":{"$error":"#N/A"}},{"$f":"VLOOKUP(B231,krzywa!L:N,3,1)","v":{"$error":"#N/A"}},{"$f":"IF('Kalkulator Depozytów'!$B$35=TRUE,1,(1+R231/100)*V231+(1+S231/100)*(1-V231))","v":{"$error":"#N/A"}},{"$f":"IF(R231<>S231,VLOOKUP(A231,krzywa!L:N,2,1))","v":{"$error":"#N/A"}},{"$f":"IF(U231<>FALSE,IF($C$2=\"GAS_BASE\",(U231-A231+1)*koszyki!$A$14+J231,IF($C$2=\"OFFPEAK\",M231*koszyki!$A$14+(N231)*24+J231,IF($C$2=\"BASE5\",M231*koszyki!$A$14+J231,IF($C$2=\"PEAK7\",(B231-A231+1)*koszyki!$A$14,M231*koszyki!$A$14))))/B231,1)","v":{"$error":"#N/A"}}]
[null,null,null,null,null,null,null,null,null,null,null,null,null,null,null,null,null,{"$f":"VLOOKUP(A232,krzywa!L:N,3,1)","v":{"$error":"#N/A"}},{"$f":"VLOOKUP(B232,krzywa!L:N,3,1)","v":{"$error":"#N/A"}},{"$f":"IF('Kalkulator Depozytów'!$B$35=TRUE,1,(1+R232/100)*V232+(1+S232/100)*(1-V232))","v":{"$error":"#N/A"}},{"$f":"IF(R232<>S232,VLOOKUP(A232,krzywa!L:N,2,1))","v":{"$error":"#N/A"}},{"$f":"IF(U232<>FALSE,IF($C$2=\"GAS_BASE\",(U232-A232+1)*koszyki!$A$14+J232,IF($C$2=\"OFFPEAK\",M232*koszyki!$A$14+(N232)*24+J232,IF($C$2=\"BASE5\",M232*koszyki!$A$14+J232,IF($C$2=\"PEAK7\",(B232-A232+1)*koszyki!$A$14,M232*koszyki!$A$14))))/B232,1)","v":{"$error":"#N/A"}}]
[null,null,null,null,null,null,null,null,null,null,null,null,null,null,null,null,null,{"$f":"VLOOKUP(A233,krzywa!L:N,3,1)","v":{"$error":"#N/A"}},{"$f":"VLOOKUP(B233,krzywa!L:N,3,1)","v":{"$error":"#N/A"}},{"$f":"IF('Kalkulator Depozytów'!$B$35=TRUE,1,(1+R233/100)*V233+(1+S233/100)*(1-V233))","v":{"$error":"#N/A"}},{"$f":"IF(R233<>S233,VLOOKUP(A233,krzywa!L:N,2,1))","v":{"$error":"#N/A"}},{"$f":"IF(U233<>FALSE,IF($C$2=\"GAS_BASE\",(U233-A233+1)*koszyki!$A$14+J233,IF($C$2=\"OFFPEAK\",M233*koszyki!$A$14+(N233)*24+J233,IF($C$2=\"BASE5\",M233*koszyki!$A$14+J233,IF($C$2=\"PEAK7\",(B233-A233+1)*koszyki!$A$14,M233*koszyki!$A$14))))/B233,1)","v":{"$error":"#N/A"}}]
[null,null,null,null,null,null,null,null,null,null,null,null,null,null,null,null,null,{"$f":"VLOOKUP(A234,krzywa!L:N,3,1)","v":{"$error":"#N/A"}},{"$f":"VLOOKUP(B234,krzywa!L:N,3,1)","v":{"$error":"#N/A"}},{"$f":"IF('Kalkulator Depozytów'!$B$35=TRUE,1,(1+R234/100)*V234+(1+S234/100)*(1-V234))","v":{"$error":"#N/A"}},{"$f":"IF(R234<>S234,VLOOKUP(A234,krzywa!L:N,2,1))","v":{"$error":"#N/A"}},{"$f":"IF(U234<>FALSE,IF($C$2=\"GAS_BASE\",(U234-A234+1)*koszyki!$A$14+J234,IF($C$2=\"OFFPEAK\",M234*koszyki!$A$14+(N234)*24+J234,IF($C$2=\"BASE5\",M234*koszyki!$A$14+J234,IF($C$2=\"PEAK7\",(B234-A234+1)*koszyki!$A$14,M234*koszyki!$A$14))))/B234,1)","v":{"$error":"#N/A"}}]
[null,null,null,null,null,null,null,null,null,null,null,null,null,null,null,null,null,{"$f":"VLOOKUP(A235,krzywa!L:N,3,1)","v":{"$error":"#N/A"}},{"$f":"VLOOKUP(B235,krzywa!L:N,3,1)","v":{"$error":"#N/A"}},{"$f":"IF('Kalkulator Depozytów'!$B$35=TRUE,1,(1+R235/100)*V235+(1+S235/100)*(1-V235))","v":{"$error":"#N/A"}},{"$f":"IF(R235<>S235,VLOOKUP(A235,krzywa!L:N,2,1))","v":{"$error":"#N/A"}},{"$f":"IF(U235<>FALSE,IF($C$2=\"GAS_BASE\",(U235-A235+1)*koszyki!$A$14+J235,IF($C$2=\"OFFPEAK\",M235*koszyki!$A$14+(N235)*24+J235,IF($C$2=\"BASE5\",M235*koszyki!$A$14+J235,IF($C$2=\"PEAK7\",(B235-A235+1)*koszyki!$A$14,M235*koszyki!$A$14))))/B235,1)","v":{"$error":"#N/A"}}]
[null,null,null,null,null,null,null,null,null,null,null,null,null,null,null,null,null,{"$f":"VLOOKUP(A236,krzywa!L:N,3,1)","v":{"$error":"#N/A"}},{"$f":"VLOOKUP(B236,krzywa!L:N,3,1)","v":{"$error":"#N/A"}},{"$f":"IF('Kalkulator Depozytów'!$B$35=TRUE,1,(1+R236/100)*V236+(1+S236/100)*(1-V236))","v":{"$error":"#N/A"}},{"$f":"IF(R236<>S236,VLOOKUP(A236,krzywa!L:N,2,1))","v":{"$error":"#N/A"}},{"$f":"IF(U236<>FALSE,IF($C$2=\"GAS_BASE\",(U236-A236+1)*koszyki!$A$14+J236,IF($C$2=\"OFFPEAK\",M236*koszyki!$A$14+(N236)*24+J236,IF($C$2=\"BASE5\",M236*koszyki!$A$14+J236,IF($C$2=\"PEAK7\",(B236-A236+1)*koszyki!$A$14,M236*koszyki!$A$14))))/B236,1)","v":{"$error":"#N/A"}}]
[null,null,null,null,null,null,null,null,null,null,null,null,null,null,null,null,null,{"$f":"VLOOKUP(A237,krzywa!L:N,3,1)","v":{"$error":"#N/A"}},{"$f":"VLOOKUP(B237,krzywa!L:N,3,1)","v":{"$error":"#N/A"}},{"$f":"IF('Kalkulator Depozytów'!$B$35=TRUE,1,(1+R237/100)*V237+(1+S237/100)*(1-V237))","v":{"$error":"#N/A"}},{"$f":"IF(R237<>S237,VLOOKUP(A237,krzywa!L:N,2,1))","v":{"$error":"#N/A"}},{"$f":"IF(U237<>FALSE,IF($C$2=\"GAS_BASE\",(U237-A237+1)*koszyki!$A$14+J237,IF($C$2=\"OFFPEAK\",M237*koszyki!$A$14+(N237)*24+J237,IF($C$2=\"BASE5\",M237*koszyki!$A$14+J237,IF($C$2=\"PEAK7\",(B237-A237+1)*koszyki!$A$14,M237*koszyki!$A$14))))/B237,1)","v":{"$error":"#N/A"}}]
[null,null,null,null,null,null,null,null,null,null,null,null,null,null,null,null,null,{"$f":"VLOOKUP(A238,krzywa!L:N,3,1)","v":{"$error":"#N/A"}},{"$f":"VLOOKUP(B238,krzywa!L:N,3,1)","v":{"$error":"#N/A"}},{"$f":"IF('Kalkulator Depozytów'!$B$35=TRUE,1,(1+R238/100)*V238+(1+S238/100)*(1-V238))","v":{"$error":"#N/A"}},{"$f":"IF(R238<>S238,VLOOKUP(A238,krzywa!L:N,2,1))","v":{"$error":"#N/A"}},{"$f":"IF(U238<>FALSE,IF($C$2=\"GAS_BASE\",(U238-A238+1)*koszyki!$A$14+J238,IF($C$2=\"OFFPEAK\",M238*koszyki!$A$14+(N238)*24+J238,IF($C$2=\"BASE5\",M238*koszyki!$A$14+J238,IF($C$2=\"PEAK7\",(B238-A238+1)*koszyki!$A$14,M238*koszyki!$A$14))))/B238,1)","v":{"$error":"#N/A"}}]
[null,null,null,null,null,null,null,null,null,null,null,null,null,null,null,null,null,{"$f":"VLOOKUP(A239,krzywa!L:N,3,1)","v":{"$error":"#N/A"}},{"$f":"VLOOKUP(B239,krzywa!L:N,3,1)","v":{"$error":"#N/A"}},{"$f":"IF('Kalkulator Depozytów'!$B$35=TRUE,1,(1+R239/100)*V239+(1+S239/100)*(1-V239))","v":{"$error":"#N/A"}},{"$f":"IF(R239<>S239,VLOOKUP(A239,krzywa!L:N,2,1))","v":{"$error":"#N/A"}},{"$f":"IF(U239<>FALSE,IF($C$2=\"GAS_BASE\",(U239-A239+1)*koszyki!$A$14+J239,IF($C$2=\"OFFPEAK\",M239*koszyki!$A$14+(N239)*24+J239,IF($C$2=\"BASE5\",M239*koszyki!$A$14+J239,IF($C$2=\"PEAK7\",(B239-A239+1)*koszyki!$A$14,M239*koszyki!$A$14))))/B239,1)","v":{"$error":"#N/A"}}]
[null,null,null,null,null,null,null,null,null,null,null,null,null,null,null,null,null,{"$f":"VLOOKUP(A240,krzywa!L:N,3,1)","v":{"$error":"#N/A"}},{"$f":"VLOOKUP(B240,krzywa!L:N,3,1)","v":{"$error":"#N/A"}},{"$f":"IF('Kalkulator Depozytów'!$B$35=TRUE,1,(1+R240/100)*V240+(1+S240/100)*(1-V240))","v":{"$error":"#N/A"}},{"$f":"IF(R240<>S240,VLOOKUP(A240,krzywa!L:N,2,1))","v":{"$error":"#N/A"}},{"$f":"IF(U240<>FALSE,IF($C$2=\"GAS_BASE\",(U240-A240+1)*koszyki!$A$14+J240,IF($C$2=\"OFFPEAK\",M240*koszyki!$A$14+(N240)*24+J240,IF($C$2=\"BASE5\",M240*koszyki!$A$14+J240,IF($C$2=\"PEAK7\",(B240-A240+1)*koszyki!$A$14,M240*koszyki!$A$14))))/B240,1)","v":{"$error":"#N/A"}}]
[null,null,null,null,null,null,null,null,null,null,null,null,null,null,null,null,null,{"$f":"VLOOKUP(A241,krzywa!L:N,3,1)","v":{"$error":"#N/A"}},{"$f":"VLOOKUP(B241,krzywa!L:N,3,1)","v":{"$error":"#N/A"}},{"$f":"IF('Kalkulator Depozytów'!$B$35=TRUE,1,(1+R241/100)*V241+(1+S241/100)*(1-V241))","v":{"$error":"#N/A"}},{"$f":"IF(R241<>S241,VLOOKUP(A241,krzywa!L:N,2,1))","v":{"$error":"#N/A"}},{"$f":"IF(U241<>FALSE,IF($C$2=\"GAS_BASE\",(U241-A241+1)*koszyki!$A$14+J241,IF($C$2=\"OFFPEAK\",M241*koszyki!$A$14+(N241)*24+J241,IF($C$2=\"BASE5\",M241*koszyki!$A$14+J241,IF($C$2=\"PEAK7\",(B241-A241+1)*koszyki!$A$14,M241*koszyki!$A$14))))/B241,1)","v":{"$error":"#N/A"}}]
[null,null,null,null,null,null,null,null,null,null,null,null,null,null,null,null,null,{"$f":"VLOOKUP(A242,krzywa!L:N,3,1)","v":{"$error":"#N/A"}},{"$f":"VLOOKUP(B242,krzywa!L:N,3,1)","v":{"$error":"#N/A"}},{"$f":"IF('Kalkulator Depozytów'!$B$35=TRUE,1,(1+R242/100)*V242+(1+S242/100)*(1-V242))","v":{"$error":"#N/A"}},{"$f":"IF(R242<>S242,VLOOKUP(A242,krzywa!L:N,2,1))","v":{"$error":"#N/A"}},{"$f":"IF(U242<>FALSE,IF($C$2=\"GAS_BASE\",(U242-A242+1)*koszyki!$A$14+J242,IF($C$2=\"OFFPEAK\",M242*koszyki!$A$14+(N242)*24+J242,IF($C$2=\"BASE5\",M242*koszyki!$A$14+J242,IF($C$2=\"PEAK7\",(B242-A242+1)*koszyki!$A$14,M242*koszyki!$A$14))))/B242,1)","v":{"$error":"#N/A"}}]
[null,null,null,null,null,null,null,null,null,null,null,null,null,null,null,null,null,{"$f":"VLOOKUP(A243,krzywa!L:N,3,1)","v":{"$error":"#N/A"}},{"$f":"VLOOKUP(B243,krzywa!L:N,3,1)","v":{"$error":"#N/A"}},{"$f":"IF('Kalkulator Depozytów'!$B$35=TRUE,1,(1+R243/100)*V243+(1+S243/100)*(1-V243))","v":{"$error":"#N/A"}},{"$f":"IF(R243<>S243,VLOOKUP(A243,krzywa!L:N,2,1))","v":{"$error":"#N/A"}},{"$f":"IF(U243<>FALSE,IF($C$2=\"GAS_BASE\",(U243-A243+1)*koszyki!$A$14+J243,IF($C$2=\"OFFPEAK\",M243*koszyki!$A$14+(N243)*24+J243,IF($C$2=\"BASE5\",M243*koszyki!$A$14+J243,IF($C$2=\"PEAK7\",(B243-A243+1)*koszyki!$A$14,M243*koszyki!$A$14))))/B243,1)","v":{"$error":"#N/A"}}]
[null,null,null,null,null,null,null,null,null,null,null,null,null,null,null,null,null,{"$f":"VLOOKUP(A244,krzywa!L:N,3,1)","v":{"$error":"#N/A"}},{"$f":"VLOOKUP(B244,krzywa!L:N,3,1)","v":{"$error":"#N/A"}},{"$f":"IF('Kalkulator Depozytów'!$B$35=TRUE,1,(1+R244/100)*V244+(1+S244/100)*(1-V244))","v":{"$error":"#N/A"}},{"$f":"IF(R244<>S244,VLOOKUP(A244,krzywa!L:N,2,1))","v":{"$error":"#N/A"}},{"$f":"IF(U244<>FALSE,IF($C$2=\"GAS_BASE\",(U244-A244+1)*koszyki!$A$14+J244,IF($C$2=\"OFFPEAK\",M244*koszyki!$A$14+(N244)*24+J244,IF($C$2=\"BASE5\",M244*koszyki!$A$14+J244,IF($C$2=\"PEAK7\",(B244-A244+1)*koszyki!$A$14,M244*koszyki!$A$14))))/B244,1)","v":{"$error":"#N/A"}}]
[null,null,null,null,null,null,null,null,null,null,null,null,null,null,null,null,null,{"$f":"VLOOKUP(A245,krzywa!L:N,3,1)","v":{"$error":"#N/A"}},{"$f":"VLOOKUP(B245,krzywa!L:N,3,1)","v":{"$error":"#N/A"}},{"$f":"IF('Kalkulator Depozytów'!$B$35=TRUE,1,(1+R245/100)*V245+(1+S245/100)*(1-V245))","v":{"$error":"#N/A"}},{"$f":"IF(R245<>S245,VLOOKUP(A245,krzywa!L:N,2,1))","v":{"$error":"#N/A"}},{"$f":"IF(U245<>FALSE,IF($C$2=\"GAS_BASE\",(U245-A245+1)*koszyki!$A$14+J245,IF($C$2=\"OFFPEAK\",M245*koszyki!$A$14+(N245)*24+J245,IF($C$2=\"BASE5\",M245*koszyki!$A$14+J245,IF($C$2=\"PEAK7\",(B245-A245+1)*koszyki!$A$14,M245*koszyki!$A$14))))/B245,1)","v":{"$error":"#N/A"}}]
[null,null,null,null,null,null,null,null,null,null,null,null,null,null,null,null,null,{"$f":"VLOOKUP(A246,krzywa!L:N,3,1)","v":{"$error":"#N/A"}},{"$f":"VLOOKUP(B246,krzywa!L:N,3,1)","v":{"$error":"#N/A"}},{"$f":"IF('Kalkulator Depozytów'!$B$35=TRUE,1,(1+R246/100)*V246+(1+S246/100)*(1-V246))","v":{"$error":"#N/A"}},{"$f":"IF(R246<>S246,VLOOKUP(A246,krzywa!L:N,2,1))","v":{"$error":"#N/A"}},{"$f":"IF(U246<>FALSE,IF($C$2=\"GAS_BASE\",(U246-A246+1)*koszyki!$A$14+J246,IF($C$2=\"OFFPEAK\",M246*koszyki!$A$14+(N246)*24+J246,IF($C$2=\"BASE5\",M246*koszyki!$A$14+J246,IF($C$2=\"PEAK7\",(B246-A246+1)*koszyki!$A$14,M246*koszyki!$A$14))))/B246,1)","v":{"$error":"#N/A"}}]
[null,null,null,null,null,null,null,null,null,null,null,null,null,null,null,null,null,{"$f":"VLOOKUP(A247,krzywa!L:N,3,1)","v":{"$error":"#N/A"}},{"$f":"VLOOKUP(B247,krzywa!L:N,3,1)","v":{"$error":"#N/A"}},{"$f":"IF('Kalkulator Depozytów'!$B$35=TRUE,1,(1+R247/100)*V247+(1+S247/100)*(1-V247))","v":{"$error":"#N/A"}},{"$f":"IF(R247<>S247,VLOOKUP(A247,krzywa!L:N,2,1))","v":{"$error":"#N/A"}},{"$f":"IF(U247<>FALSE,IF($C$2=\"GAS_BASE\",(U247-A247+1)*koszyki!$A$14+J247,IF($C$2=\"OFFPEAK\",M247*koszyki!$A$14+(N247)*24+J247,IF($C$2=\"BASE5\",M247*koszyki!$A$14+J247,IF($C$2=\"PEAK7\",(B247-A247+1)*koszyki!$A$14,M247*koszyki!$A$14))))/B247,1)","v":{"$error":"#N/A"}}]
[null,null,null,null,null,null,null,null,null,null,null,null,null,null,null,null,null,{"$f":"VLOOKUP(A248,krzywa!L:N,3,1)","v":{"$error":"#N/A"}},{"$f":"VLOOKUP(B248,krzywa!L:N,3,1)","v":{"$error":"#N/A"}},{"$f":"IF('Kalkulator Depozytów'!$B$35=TRUE,1,(1+R248/100)*V248+(1+S248/100)*(1-V248))","v":{"$error":"#N/A"}},{"$f":"IF(R248<>S248,VLOOKUP(A248,krzywa!L:N,2,1))","v":{"$error":"#N/A"}},{"$f":"IF(U248<>FALSE,IF($C$2=\"GAS_BASE\",(U248-A248+1)*koszyki!$A$14+J248,IF($C$2=\"OFFPEAK\",M248*koszyki!$A$14+(N248)*24+J248,IF($C$2=\"BASE5\",M248*koszyki!$A$14+J248,IF($C$2=\"PEAK7\",(B248-A248+1)*koszyki!$A$14,M248*koszyki!$A$14))))/B248,1)","v":{"$error":"#N/A"}}]
[null,null,null,null,null,null,null,null,null,null,null,null,null,null,null,null,null,{"$f":"VLOOKUP(A249,krzywa!L:N,3,1)","v":{"$error":"#N/A"}},{"$f":"VLOOKUP(B249,krzywa!L:N,3,1)","v":{"$error":"#N/A"}},{"$f":"IF('Kalkulator Depozytów'!$B$35=TRUE,1,(1+R249/100)*V249+(1+S249/100)*(1-V249))","v":{"$error":"#N/A"}},{"$f":"IF(R249<>S249,VLOOKUP(A249,krzywa!L:N,2,1))","v":{"$error":"#N/A"}},{"$f":"IF(U249<>FALSE,IF($C$2=\"GAS_BASE\",(U249-A249+1)*koszyki!$A$14+J249,IF($C$2=\"OFFPEAK\",M249*koszyki!$A$14+(N249)*24+J249,IF($C$2=\"BASE5\",M249*koszyki!$A$14+J249,IF($C$2=\"PEAK7\",(B249-A249+1)*koszyki!$A$14,M249*koszyki!$A$14))))/B249,1)","v":{"$error":"#N/A"}}]
[null,null,null,null,null,null,null,null,null,null,null,null,null,null,null,null,null,{"$f":"VLOOKUP(A250,krzywa!L:N,3,1)","v":{"$error":"#N/A"}},{"$f":"VLOOKUP(B250,krzywa!L:N,3,1)","v":{"$error":"#N/A"}},{"$f":"IF('Kalkulator Depozytów'!$B$35=TRUE,1,(1+R250/100)*V250+(1+S250/100)*(1-V250))","v":{"$error":"#N/A"}},{"$f":"IF(R250<>S250,VLOOKUP(A250,krzywa!L:N,2,1))","v":{"$error":"#N/A"}},{"$f":"IF(U250<>FALSE,IF($C$2=\"GAS_BASE\",(U250-A250+1)*koszyki!$A$14+J250,IF($C$2=\"OFFPEAK\",M250*koszyki!$A$14+(N250)*24+J250,IF($C$2=\"BASE5\",M250*koszyki!$A$14+J250,IF($C$2=\"PEAK7\",(B250-A250+1)*koszyki!$A$14,M250*koszyki!$A$14))))/B250,1)","v":{"$error":"#N/A"}}]
[null,null,null,null,null,null,null,null,null,null,null,null,null,null,null,null,null,{"$f":"VLOOKUP(A251,krzywa!L:N,3,1)","v":{"$error":"#N/A"}},{"$f":"VLOOKUP(B251,krzywa!L:N,3,1)","v":{"$error":"#N/A"}},{"$f":"IF('Kalkulator Depozytów'!$B$35=TRUE,1,(1+R251/100)*V251+(1+S251/100)*(1-V251))","v":{"$error":"#N/A"}},{"$f":"IF(R251<>S251,VLOOKUP(A251,krzywa!L:N,2,1))","v":{"$error":"#N/A"}},{"$f":"IF(U251<>FALSE,IF($C$2=\"GAS_BASE\",(U251-A251+1)*koszyki!$A$14+J251,IF($C$2=\"OFFPEAK\",M251*koszyki!$A$14+(N251)*24+J251,IF($C$2=\"BASE5\",M251*koszyki!$A$14+J251,IF($C$2=\"PEAK7\",(B251-A251+1)*koszyki!$A$14,M251*koszyki!$A$14))))/B251,1)","v":{"$error":"#N/A"}}]
[null,null,null,null,null,null,null,null,null,null,null,null,null,null,null,null,null,{"$f":"VLOOKUP(A252,krzywa!L:N,3,1)","v":{"$error":"#N/A"}},{"$f":"VLOOKUP(B252,krzywa!L:N,3,1)","v":{"$error":"#N/A"}},{"$f":"IF('Kalkulator Depozytów'!$B$35=TRUE,1,(1+R252/100)*V252+(1+S252/100)*(1-V252))","v":{"$error":"#N/A"}},{"$f":"IF(R252<>S252,VLOOKUP(A252,krzywa!L:N,2,1))","v":{"$error":"#N/A"}},{"$f":"IF(U252<>FALSE,IF($C$2=\"GAS_BASE\",(U252-A252+1)*koszyki!$A$14+J252,IF($C$2=\"OFFPEAK\",M252*koszyki!$A$14+(N252)*24+J252,IF($C$2=\"BASE5\",M252*koszyki!$A$14+J252,IF($C$2=\"PEAK7\",(B252-A252+1)*koszyki!$A$14,M252*koszyki!$A$14))))/B252,1)","v":{"$error":"#N/A"}}]
[null,null,null,null,null,null,null,null,null,null,null,null,null,null,null,null,null,{"$f":"VLOOKUP(A253,krzywa!L:N,3,1)","v":{"$error":"#N/A"}},{"$f":"VLOOKUP(B253,krzywa!L:N,3,1)","v":{"$error":"#N/A"}},{"$f":"IF('Kalkulator Depozytów'!$B$35=TRUE,1,(1+R253/100)*V253+(1+S253/100)*(1-V253))","v":{"$error":"#N/A"}},{"$f":"IF(R253<>S253,VLOOKUP(A253,krzywa!L:N,2,1))","v":{"$error":"#N/A"}},{"$f":"IF(U253<>FALSE,IF($C$2=\"GAS_BASE\",(U253-A253+1)*koszyki!$A$14+J253,IF($C$2=\"OFFPEAK\",M253*koszyki!$A$14+(N253)*24+J253,IF($C$2=\"BASE5\",M253*koszyki!$A$14+J253,IF($C$2=\"PEAK7\",(B253-A253+1)*koszyki!$A$14,M253*koszyki!$A$14))))/B253,1)","v":{"$error":"#N/A"}}]
[null,null,null,null,null,null,null,null,null,null,null,null,null,null,null,null,null,{"$f":"VLOOKUP(A254,krzywa!L:N,3,1)","v":{"$error":"#N/A"}},{"$f":"VLOOKUP(B254,krzywa!L:N,3,1)","v":{"$error":"#N/A"}},{"$f":"IF('Kalkulator Depozytów'!$B$35=TRUE,1,(1+R254/100)*V254+(1+S254/100)*(1-V254))","v":{"$error":"#N/A"}},{"$f":"IF(R254<>S254,VLOOKUP(A254,krzywa!L:N,2,1))","v":{"$error":"#N/A"}},{"$f":"IF(U254<>FALSE,IF($C$2=\"GAS_BASE\",(U254-A254+1)*koszyki!$A$14+J254,IF($C$2=\"OFFPEAK\",M254*koszyki!$A$14+(N254)*24+J254,IF($C$2=\"BASE5\",M254*koszyki!$A$14+J254,IF($C$2=\"PEAK7\",(B254-A254+1)*koszyki!$A$14,M254*koszyki!$A$14))))/B254,1)","v":{"$error":"#N/A"}}]
[null,null,null,null,null,null,null,null,null,null,null,null,null,null,null,null,null,{"$f":"VLOOKUP(A255,krzywa!L:N,3,1)","v":{"$error":"#N/A"}},{"$f":"VLOOKUP(B255,krzywa!L:N,3,1)","v":{"$error":"#N/A"}},{"$f":"IF('Kalkulator Depozytów'!$B$35=TRUE,1,(1+R255/100)*V255+(1+S255/100)*(1-V255))","v":{"$error":"#N/A"}},{"$f":"IF(R255<>S255,VLOOKUP(A255,krzywa!L:N,2,1))","v":{"$error":"#N/A"}},{"$f":"IF(U255<>FALSE,IF($C$2=\"GAS_BASE\",(U255-A255+1)*koszyki!$A$14+J255,IF($C$2=\"OFFPEAK\",M255*koszyki!$A$14+(N255)*24+J255,IF($C$2=\"BASE5\",M255*koszyki!$A$14+J255,IF($C$2=\"PEAK7\",(B255-A255+1)*koszyki!$A$14,M255*koszyki!$A$14))))/B255,1)","v":{"$error":"#N/A"}}]
[null,null,null,null,null,null,null,null,null,null,null,null,null,null,null,null,null,{"$f":"VLOOKUP(A256,krzywa!L:N,3,1)","v":{"$error":"#N/A"}},{"$f":"VLOOKUP(B256,krzywa!L:N,3,1)","v":{"$error":"#N/A"}},{"$f":"IF('Kalkulator Depozytów'!$B$35=TRUE,1,(1+R256/100)*V256+(1+S256/100)*(1-V256))","v":{"$error":"#N/A"}},{"$f":"IF(R256<>S256,VLOOKUP(A256,krzywa!L:N,2,1))","v":{"$error":"#N/A"}},{"$f":"IF(U256<>FALSE,IF($C$2=\"GAS_BASE\",(U256-A256+1)*koszyki!$A$14+J256,IF($C$2=\"OFFPEAK\",M256*koszyki!$A$14+(N256)*24+J256,IF($C$2=\"BASE5\",M256*koszyki!$A$14+J256,IF($C$2=\"PEAK7\",(B256-A256+1)*koszyki!$A$14,M256*koszyki!$A$14))))/B256,1)","v":{"$error":"#N/A"}}]
[null,null,null,null,null,null,null,null,null,null,null,null,null,null,null,null,null,{"$f":"VLOOKUP(A257,krzywa!L:N,3,1)","v":{"$error":"#N/A"}},{"$f":"VLOOKUP(B257,krzywa!L:N,3,1)","v":{"$error":"#N/A"}},{"$f":"IF('Kalkulator Depozytów'!$B$35=TRUE,1,(1+R257/100)*V257+(1+S257/100)*(1-V257))","v":{"$error":"#N/A"}},{"$f":"IF(R257<>S257,VLOOKUP(A257,krzywa!L:N,2,1))","v":{"$error":"#N/A"}},{"$f":"IF(U257<>FALSE,IF($C$2=\"GAS_BASE\",(U257-A257+1)*koszyki!$A$14+J257,IF($C$2=\"OFFPEAK\",M257*koszyki!$A$14+(N257)*24+J257,IF($C$2=\"BASE5\",M257*koszyki!$A$14+J257,IF($C$2=\"PEAK7\",(B257-A257+1)*koszyki!$A$14,M257*koszyki!$A$14))))/B257,1)","v":{"$error":"#N/A"}}]
[null,null,null,null,null,null,null,null,null,null,null,null,null,null,null,null,null,{"$f":"VLOOKUP(A258,krzywa!L:N,3,1)","v":{"$error":"#N/A"}},{"$f":"VLOOKUP(B258,krzywa!L:N,3,1)","v":{"$error":"#N/A"}},{"$f":"IF('Kalkulator Depozytów'!$B$35=TRUE,1,(1+R258/100)*V258+(1+S258/100)*(1-V258))","v":{"$error":"#N/A"}},{"$f":"IF(R258<>S258,VLOOKUP(A258,krzywa!L:N,2,1))","v":{"$error":"#N/A"}},{"$f":"IF(U258<>FALSE,IF($C$2=\"GAS_BASE\",(U258-A258+1)*koszyki!$A$14+J258,IF($C$2=\"OFFPEAK\",M258*koszyki!$A$14+(N258)*24+J258,IF($C$2=\"BASE5\",M258*koszyki!$A$14+J258,IF($C$2=\"PEAK7\",(B258-A258+1)*koszyki!$A$14,M258*koszyki!$A$14))))/B258,1)","v":{"$error":"#N/A"}}]
[null,null,null,null,null,null,null,null,null,null,null,null,null,null,null,null,null,{"$f":"VLOOKUP(A259,krzywa!L:N,3,1)","v":{"$error":"#N/A"}},{"$f":"VLOOKUP(B259,krzywa!L:N,3,1)","v":{"$error":"#N/A"}},{"$f":"IF('Kalkulator Depozytów'!$B$35=TRUE,1,(1+R259/100)*V259+(1+S259/100)*(1-V259))","v":{"$error":"#N/A"}},{"$f":"IF(R259<>S259,VLOOKUP(A259,krzywa!L:N,2,1))","v":{"$error":"#N/A"}},{"$f":"IF(U259<>FALSE,IF($C$2=\"GAS_BASE\",(U259-A259+1)*koszyki!$A$14+J259,IF($C$2=\"OFFPEAK\",M259*koszyki!$A$14+(N259)*24+J259,IF($C$2=\"BASE5\",M259*koszyki!$A$14+J259,IF($C$2=\"PEAK7\",(B259-A259+1)*koszyki!$A$14,M259*koszyki!$A$14))))/B259,1)","v":{"$error":"#N/A"}}]
[null,null,null,null,null,null,null,null,null,null,null,null,null,null,null,null,null,{"$f":"VLOOKUP(A260,krzywa!L:N,3,1)","v":{"$error":"#N/A"}},{"$f":"VLOOKUP(B260,krzywa!L:N,3,1)","v":{"$error":"#N/A"}},{"$f":"IF('Kalkulator Depozytów'!$B$35=TRUE,1,(1+R260/100)*V260+(1+S260/100)*(1-V260))","v":{"$error":"#N/A"}},{"$f":"IF(R260<>S260,VLOOKUP(A260,krzywa!L:N,2,1))","v":{"$error":"#N/A"}},{"$f":"IF(U260<>FALSE,IF($C$2=\"GAS_BASE\",(U260-A260+1)*koszyki!$A$14+J260,IF($C$2=\"OFFPEAK\",M260*koszyki!$A$14+(N260)*24+J260,IF($C$2=\"BASE5\",M260*koszyki!$A$14+J260,IF($C$2=\"PEAK7\",(B260-A260+1)*koszyki!$A$14,M260*koszyki!$A$14))))/B260,1)","v":{"$error":"#N/A"}}]
[null,null,null,null,null,null,null,null,null,null,null,null,null,null,null,null,null,{"$f":"VLOOKUP(A261,krzywa!L:N,3,1)","v":{"$error":"#N/A"}},{"$f":"VLOOKUP(B261,krzywa!L:N,3,1)","v":{"$error":"#N/A"}},{"$f":"IF('Kalkulator Depozytów'!$B$35=TRUE,1,(1+R261/100)*V261+(1+S261/100)*(1-V261))","v":{"$error":"#N/A"}},{"$f":"IF(R261<>S261,VLOOKUP(A261,krzywa!L:N,2,1))","v":{"$error":"#N/A"}},{"$f":"IF(U261<>FALSE,IF($C$2=\"GAS_BASE\",(U261-A261+1)*koszyki!$A$14+J261,IF($C$2=\"OFFPEAK\",M261*koszyki!$A$14+(N261)*24+J261,IF($C$2=\"BASE5\",M261*koszyki!$A$14+J261,IF($C$2=\"PEAK7\",(B261-A261+1)*koszyki!$A$14,M261*koszyki!$A$14))))/B261,1)","v":{"$error":"#N/A"}}]
[null,null,null,null,null,null,null,null,null,null,null,null,null,null,null,null,null,{"$f":"VLOOKUP(A262,krzywa!L:N,3,1)","v":{"$error":"#N/A"}},{"$f":"VLOOKUP(B262,krzywa!L:N,3,1)","v":{"$error":"#N/A"}},{"$f":"IF('Kalkulator Depozytów'!$B$35=TRUE,1,(1+R262/100)*V262+(1+S262/100)*(1-V262))","v":{"$error":"#N/A"}},{"$f":"IF(R262<>S262,VLOOKUP(A262,krzywa!L:N,2,1))","v":{"$error":"#N/A"}},{"$f":"IF(U262<>FALSE,IF($C$2=\"GAS_BASE\",(U262-A262+1)*koszyki!$A$14+J262,IF($C$2=\"OFFPEAK\",M262*koszyki!$A$14+(N262)*24+J262,IF($C$2=\"BASE5\",M262*koszyki!$A$14+J262,IF($C$2=\"PEAK7\",(B262-A262+1)*koszyki!$A$14,M262*koszyki!$A$14))))/B262,1)","v":{"$error":"#N/A"}}]
[null,null,null,null,null,null,null,null,null,null,null,null,null,null,null,null,null,{"$f":"VLOOKUP(A263,krzywa!L:N,3,1)","v":{"$error":"#N/A"}},{"$f":"VLOOKUP(B263,krzywa!L:N,3,1)","v":{"$error":"#N/A"}},{"$f":"IF('Kalkulator Depozytów'!$B$35=TRUE,1,(1+R263/100)*V263+(1+S263/100)*(1-V263))","v":{"$error":"#N/A"}},{"$f":"IF(R263<>S263,VLOOKUP(A263,krzywa!L:N,2,1))","v":{"$error":"#N/A"}},{"$f":"IF(U263<>FALSE,IF($C$2=\"GAS_BASE\",(U263-A263+1)*koszyki!$A$14+J263,IF($C$2=\"OFFPEAK\",M263*koszyki!$A$14+(N263)*24+J263,IF($C$2=\"BASE5\",M263*koszyki!$A$14+J263,IF($C$2=\"PEAK7\",(B263-A263+1)*koszyki!$A$14,M263*koszyki!$A$14))))/B263,1)","v":{"$error":"#N/A"}}]
[null,null,null,null,null,null,null,null,null,null,null,null,null,null,null,null,null,{"$f":"VLOOKUP(A264,krzywa!L:N,3,1)","v":{"$error":"#N/A"}},{"$f":"VLOOKUP(B264,krzywa!L:N,3,1)","v":{"$error":"#N/A"}},{"$f":"IF('Kalkulator Depozytów'!$B$35=TRUE,1,(1+R264/100)*V264+(1+S264/100)*(1-V264))","v":{"$error":"#N/A"}},{"$f":"IF(R264<>S264,VLOOKUP(A264,krzywa!L:N,2,1))","v":{"$error":"#N/A"}},{"$f":"IF(U264<>FALSE,IF($C$2=\"GAS_BASE\",(U264-A264+1)*koszyki!$A$14+J264,IF($C$2=\"OFFPEAK\",M264*koszyki!$A$14+(N264)*24+J264,IF($C$2=\"BASE5\",M264*koszyki!$A$14+J264,IF($C$2=\"PEAK7\",(B264-A264+1)*koszyki!$A$14,M264*koszyki!$A$14))))/B264,1)","v":{"$error":"#N/A"}}]
[null,null,null,null,null,null,null,null,null,null,null,null,null,null,null,null,null,{"$f":"VLOOKUP(A265,krzywa!L:N,3,1)","v":{"$error":"#N/A"}},{"$f":"VLOOKUP(B265,krzywa!L:N,3,1)","v":{"$error":"#N/A"}},{"$f":"IF('Kalkulator Depozytów'!$B$35=TRUE,1,(1+R265/100)*V265+(1+S265/100)*(1-V265))","v":{"$error":"#N/A"}},{"$f":"IF(R265<>S265,VLOOKUP(A265,krzywa!L:N,2,1))","v":{"$error":"#N/A"}},{"$f":"IF(U265<>FALSE,IF($C$2=\"GAS_BASE\",(U265-A265+1)*koszyki!$A$14+J265,IF($C$2=\"OFFPEAK\",M265*koszyki!$A$14+(N265)*24+J265,IF($C$2=\"BASE5\",M265*koszyki!$A$14+J265,IF($C$2=\"PEAK7\",(B265-A265+1)*koszyki!$A$14,M265*koszyki!$A$14))))/B265,1)","v":{"$error":"#N/A"}}]
[null,null,null,null,null,null,null,null,null,null,null,null,null,null,null,null,null,{"$f":"VLOOKUP(A266,krzywa!L:N,3,1)","v":{"$error":"#N/A"}},{"$f":"VLOOKUP(B266,krzywa!L:N,3,1)","v":{"$error":"#N/A"}},{"$f":"IF('Kalkulator Depozytów'!$B$35=TRUE,1,(1+R266/100)*V266+(1+S266/100)*(1-V266))","v":{"$error":"#N/A"}},{"$f":"IF(R266<>S266,VLOOKUP(A266,krzywa!L:N,2,1))","v":{"$error":"#N/A"}},{"$f":"IF(U266<>FALSE,IF($C$2=\"GAS_BASE\",(U266-A266+1)*koszyki!$A$14+J266,IF($C$2=\"OFFPEAK\",M266*koszyki!$A$14+(N266)*24+J266,IF($C$2=\"BASE5\",M266*koszyki!$A$14+J266,IF($C$2=\"PEAK7\",(B266-A266+1)*koszyki!$A$14,M266*koszyki!$A$14))))/B266,1)","v":{"$error":"#N/A"}}]
[null,null,null,null,null,null,null,null,null,null,null,null,null,null,null,null,null,{"$f":"VLOOKUP(A267,krzywa!L:N,3,1)","v":{"$error":"#N/A"}},{"$f":"VLOOKUP(B267,krzywa!L:N,3,1)","v":{"$error":"#N/A"}},{"$f":"IF('Kalkulator Depozytów'!$B$35=TRUE,1,(1+R267/100)*V267+(1+S267/100)*(1-V267))","v":{"$error":"#N/A"}},{"$f":"IF(R267<>S267,VLOOKUP(A267,krzywa!L:N,2,1))","v":{"$error":"#N/A"}},{"$f":"IF(U267<>FALSE,IF($C$2=\"GAS_BASE\",(U267-A267+1)*koszyki!$A$14+J267,IF($C$2=\"OFFPEAK\",M267*koszyki!$A$14+(N267)*24+J267,IF($C$2=\"BASE5\",M267*koszyki!$A$14+J267,IF($C$2=\"PEAK7\",(B267-A267+1)*koszyki!$A$14,M267*koszyki!$A$14))))/B267,1)","v":{"$error":"#N/A"}}]
[null,null,null,null,null,null,null,null,null,null,null,null,null,null,null,null,null,{"$f":"VLOOKUP(A268,krzywa!L:N,3,1)","v":{"$error":"#N/A"}},{"$f":"VLOOKUP(B268,krzywa!L:N,3,1)","v":{"$error":"#N/A"}},{"$f":"IF('Kalkulator Depozytów'!$B$35=TRUE,1,(1+R268/100)*V268+(1+S268/100)*(1-V268))","v":{"$error":"#N/A"}},{"$f":"IF(R268<>S268,VLOOKUP(A268,krzywa!L:N,2,1))","v":{"$error":"#N/A"}},{"$f":"IF(U268<>FALSE,IF($C$2=\"GAS_BASE\",(U268-A268+1)*koszyki!$A$14+J268,IF($C$2=\"OFFPEAK\",M268*koszyki!$A$14+(N268)*24+J268,IF($C$2=\"BASE5\",M268*koszyki!$A$14+J268,IF($C$2=\"PEAK7\",(B268-A268+1)*koszyki!$A$14,M268*koszyki!$A$14))))/B268,1)","v":{"$error":"#N/A"}}]

{"sheet":"koszyki","index":1,"n_rows":504,"n_cols":26,"rows_kept":504,"cut":false,"hidden":true,"merged":[]}
["wprowadź datę",null,null,"koszyki roczne",null,null,null,"koszyki kwartalne",null,null,null,"koszyki miesięczne",null,null,null,"koszyki tygodniowe",null,null,null,"koszyki dzienne",null,null,null,"koszyki sezonowe"]
[{"$f":"'Kalkulator Depozytów'!F12","v":"00:00:00"},null,{"$f":"A2+2","v":"1900-01-02"},{"$f":"IF(F2<='raport RTT'!$F$9,DATE(YEAR(C2)+1,1,1),0)","v":"1901-01-01"},{"$f":"IF(D2=0,0,DATE(YEAR(D2)+1,1,1)-1)","v":"1901-12-31"},1,{"$f":"IF(OR(AND(MONTH(A2)=12,DAY(A2)=30),AND(MONTH(A2)=12,DAY(A2)=31)),MONTH(A2),MONTH(C2))","v":1},{"$f":"IF(J2<='raport RTT'!$F$7+1,IF(OR(G2=12,G2<10),DATE(YEAR(A2),G2+G4+1,1),IF(G2=10,DATE(YEAR(A2),G2+G4+1+1,1),DATE(YEAR(A2),G2+G4,1))),0)","v":"1900-04-01"},{"$f":"IF(H3=0,0,DATE(YEAR(H2),MONTH(H2)+3,1)-1)","v":"1900-06-30"},1,null,{"$f":"IF(N2<='raport RTT'!$F$6+1,DATE(YEAR(C2),MONTH(C2)+1,1),0)","v":"1900-02-01"},{"$f":"IF(L3=0,0,DATE(YEAR(L2),MONTH(L2)+1,1)-1)","v":60},1,{"$f":"DAY(A2)","v":0},{"$f":"IF(R2<='raport RTT'!F5,IF(OR(O3=5,O3=6,O3=7),A2+3*7-O3+1,A2+2*7-O3+1),0)","v":"1900-01-16"},{"$f":"IF(P3=0,0,P2+6)","v":"1900-01-22"},1,{"$f":"DAY(A2)","v":0},{"$f":"A2+1","v":"1900-01-01"},{"$f":"T2","v":"1900-01-01"},null,{"$f":"IF(OR(AND(MONTH(A2)=12,DAY(A2)=30),AND(MONTH(A2)=12,DAY(A2)=31)),MONTH(A2),MONTH(C2))","v":1},{"$f":"IF(Z2<='raport RTT'!$F$8,IF(W2<=3,DATE(YEAR(A2),10,1),IF(W2>=10,DATE(YEAR(A2)+1,10,1),DATE(YEAR(A2)+1,4,1))),0)","v":"1900-10-01"},{"$f":"IF(X3=0,0,DATE(YEAR(X2),MONTH(X2)+6,1)-1)","v":"1901-03-31"},1]
[{"$f":"A2+1","v":"1900-01-01"},null,null,{"$f":"IF(F3<='raport RTT'!$F$9,DATE(YEAR(D2)+1,1,1),0)","v":"1902-01-01"},{"$f":"IF(D3=0,0,DATE(YEAR(D3)+1,1,1)-1)","v":"1902-12-31"},2,{"$f":"MOD(G2,3)","v":1},{"$f":"IF(J3<='raport RTT'!$F$7+1,DATE(YEAR(H2),MONTH(H2)+3,1),0)","v":"1900-07-01"},{"$f":"IF(H4=0,0,DATE(YEAR(H3),MONTH(H3)+3,1)-1)","v":"1900-09-30"},2,null,{"$f":"IF(N3<='raport RTT'!$F$6+1,DATE(YEAR(L2),MONTH(L2)+1,1),0)","v":"1900-03-01"},{"$f":"IF(L4=0,0,DATE(YEAR(L3),MONTH(L3)+1,1)-1)","v":"1900-03-31"},2,{"$f":"WEEKDAY(A2)-1","v":6},{"$f":"IF($P$12=\"TAK\",IF(R3<'raport RTT'!$F$5,P2+7,0),IF(R3<='raport RTT'!$F$5,P2+7,0))","v":"1900-01-23"},{"$f":"IF(P4=0,0,P3+6)","v":"1900-01-29"},2,null,{"$f":"IF(T2+1<$P$2,IF(T2=0,0,T2+1),0)","v":"1900-01-02"},{"$f":"T3","v":"1900-01-02"},null,{"$f":"MOD(W2,6)","v":1},{"$f":"IF(Z3<='raport RTT'!$F$8,DATE(YEAR(X2),MONTH(X2)+6,1),0)","v":"1901-04-01"},{"$f":"IF(X4=0,0,DATE(YEAR(X3),MONTH(X3)+6,1)-1)","v":"1901-09-30"},2]
["Typ kontraktu",null,null,{"$f":"IF(F4<='raport RTT'!$F$9,DATE(YEAR(D3)+1,1,1),0)","v":"1903-01-01"},"1903-12-31",3,{"$f":"IF(AND(G2<9,G3<>0),3-G3,G3)","v":2},{"$f":"IF(J4<='raport RTT'!$F$7+1,DATE(YEAR(H3),MONTH(H3)+3,1),0)","v":"1900-10-01"},"1900-12-31",3,null,{"$f":"IF(N4<='raport RTT'!$F$6+1,DATE(YEAR(L3),MONTH(L3)+1,1),0)","v":"1900-04-01"},"1900-04-30",3,{"$f":"7-O3","v":1},{"$f":"IF($P$12=\"TAK\",IF(R4<'raport RTT'!$F$5,P3+7,0),IF(R4<='raport RTT'!$F$5,P3+7,0))","v":"1900-01-30"},"00:00:00",3,"ile wziąć?",{"$f":"IF(T3+1<$P$2,IF(T3=0,0,T3+1),0)","v":"1900-01-03"},"1900-01-03",null,{"$f":"IF(AND(W2<9,W3<>0),6-W3,W3)","v":5},{"$f":"IF(Z4<='raport RTT'!$F$8,DATE(YEAR(X3),MONTH(X3)+6,1),0)","v":"1901-10-01"},"1902-03-31",3]
["GAS_BASE",24,null,{"$f":"IF(F5<='raport RTT'!$F$9,DATE(YEAR(D4)+1,1,1),0)","v":"1904-01-01"},{"$f":"IF(D5=0,0,DATE(YEAR(D5)+1,1,1)-1)","v":"1904-12-31"},4,{"$f":"DATE(YEAR(H5),MONTH(H5)+3,1)-A2","v":457},{"$f":"IF(J5<='raport RTT'!$F$7+1,DATE(YEAR(H4),MONTH(H4)+3,1),0)","v":"1901-01-01"},"1901-03-31",4,null,{"$f":"IF(N5<='raport RTT'!$F$6+1,DATE(YEAR(L4),MONTH(L4)+1,1),0)","v":"1900-05-01"},"1900-05-31",4,null,{"$f":"IF($P$12=\"TAK\",IF(R5<'raport RTT'!$F$5,P4+7,0),IF(R5<='raport RTT'!$F$5,P4+7,0))","v":"00:00:00"},"00:00:00",4,{"$f":"17-COUNTIF(T2:T17,\"<>0\")","v":2},{"$f":"IF(T4+1<$P$2,IF(T4=0,0,T4+1),0)","v":"1900-01-04"},"1900-01-04",null,null,{"$f":"IF(Z5<='raport RTT'!$F$8,DATE(YEAR(X4),MONTH(X4)+6,1),0)","v":"1902-04-01"},"00:00:00",4]
[null,null,null,{"$f":"IF(F6<='raport RTT'!$F$9,DATE(YEAR(D5)+1,1,1),0)","v":"00:00:00"},"00:00:00",5,null,{"$f":"IF(J6<='raport RTT'!$F$7+1,DATE(YEAR(H5),MONTH(H5)+3,1),0)","v":"1901-04-01"},{"$f":"IF(H7=0,0,DATE(YEAR(H6),MONTH(H6)+3,1)-1)","v":"1901-06-30"},5,null,{"$f":"IF(N6<='raport RTT'!$F$6+1,DATE(YEAR(L5),MONTH(L5)+1,1),0)","v":"1900-06-01"},"1900-06-30",5,"zapas!",{"$f":"IF($P$12=\"TAK\",IF(R6<'raport RTT'!$F$5,P5+7,0),IF(R6<='raport RTT'!$F$5,P5+7,0))","v":"00:00:00"},"00:00:00",5,{"$f":"COUNTIF(T2:T17,\"<>0\")","v":15},"1900-01-05","1900-01-05",null,null,{"$f":"IF(Z6<='raport RTT'!$F$8,DATE(YEAR(X5),MONTH(X5)+6,1),0)","v":"00:00:00"},"00:00:00",5]
[null,null,null,null,null,null,null,{"$f":"IF(J7<='raport RTT'!$F$7+1,DATE(YEAR(H6),MONTH(H6)+3,1),0)","v":"1901-07-01"},{"$f":"IF(H8=0,0,DATE(YEAR(H7),MONTH(H7)+3,1)-1)","v":"1901-09-30"},6,null,{"$f":"IF(N7<='raport RTT'!$F$6+1,DATE(YEAR(L6),MONTH(L6)+1,1),0)","v":"1900-07-01"},"1900-07-31",6,null,{"$f":"IF($P$12=\"TAK\",IF(R7<'raport RTT'!$F$5,P6+7,0),IF(R7<='raport RTT'!$F$5,P6+7,0))","v":"00:00:00"},"00:00:00",6,null,"1900-01-06","1900-01-06"]
[null,null,null,"do dodania końców",null,null,null,{"$f":"IF(J8<='raport RTT'!$F$7+1,DATE(YEAR(H7),MONTH(H7)+3,1),0)","v":"1901-10-01"},{"$f":"IF(H9=0,0,DATE(YEAR(H8),MONTH(H8)+3,1)-1)","v":"00:00:00"},7,null,{"$f":"IF(N8<='raport RTT'!$F$6+1,DATE(YEAR(L7),MONTH(L7)+1,1),0)","v":"1900-08-01"},"1900-08-31",7,null,null,null,null,null,"1900-01-07","1900-01-07"]
[null,null,null,{"$f":"DATE(YEAR(A3),MONTH(A3)+1,1)-1","v":"1900-01-31"},null,null,null,{"$f":"IF(J9<='raport RTT'!$F$7+1,DATE(YEAR(H8),MONTH(H8)+3,1),0)","v":"00:00:00"},{"$f":"IF(H10=0,0,DATE(YEAR(H9),MONTH(H9)+3,1)-1)","v":"00:00:00"},8,null,{"$f":"IF(N9<='raport RTT'!$F$6+1,DATE(YEAR(L8),MONTH(L8)+1,1),0)","v":"1900-09-01"},"1900-09-30",8,null,null,null,null,null,"1900-01-08","1900-01-08"]
[null,null,null,{"$f":"DATE(YEAR(A3),MONTH(A3)+2,1)-1","v":60},null,null,null,null,null,null,null,{"$f":"IF(N10<='raport RTT'!$F$6+1,DATE(YEAR(L9),MONTH(L9)+1,1),0)","v":"1900-10-01"},"1900-10-31",9,null,{"$f":"IF(WEEKDAY(A2+28,2)=5,\"TAK\",\"NIE\")","v":"NIE"},null,null,null,"1900-01-09","1900-01-09"]
[null,null,null,null,null,null,null,null,null,{"$f":"MONTH(A2)+1","v":"1900-01-02"},null,{"$f":"IF(N11<='raport RTT'!$F$6+1,DATE(YEAR(L10),MONTH(L10)+1,1),0)","v":"1900-11-01"},"1900-11-30",10,null,null,null,null,null,"1900-01-10","1900-01-10"]
[null,null,null,"współczynnik",null,null,null,null,null,{"$f":"MONTH(DATE(YEAR(A2),MONTH(A2),DAY(A2)+1))","v":1},null,{"$f":"IF(N12<='raport RTT'!$F$6+1,DATE(YEAR(L11),MONTH(L11)+1,1),0)","v":"1900-12-01"},{"$f":"IF(L13=0,0,DATE(YEAR(L12),MONTH(L12)+1,1)-1)","v":"1900-12-31"},11,null,"TAK",null,null,null,{"$f":"IF(T11+1<$P$2,IF(T11=0,0,T11+1),0)","v":"1900-01-11"},"1900-01-11"]
["Godziny",null,null,1,null,null,null,null,null,{"$f":"MONTH(A2+1)=MONTH(A2)","v":true},null,{"$f":"IF(N13<='raport RTT'!$F$6+1,DATE(YEAR(L12),MONTH(L12)+1,1),0)","v":"1901-01-01"},"1901-01-31",12,null,null,null,null,null,"1900-01-12","1900-01-12"]
[{"$f":"SUMIF(koszyki!$A$5:$A$9,Kalkulator!C2,koszyki!B5:B9)","v":24},null,null,0.5,null,null,null,null,null,null,null,{"$f":"IF(N14<='raport RTT'!$F$6+1,DATE(YEAR(L13),MONTH(L13)+1,1),0)","v":"1901-02-01"},{"$f":"IF(L15=0,0,DATE(YEAR(L14),MONTH(L14)+1,1)-1)","v":"00:00:00"},13,null,null,null,null,null,"1900-01-13","1900-01-13"]
[null,null,null,0.27500000000000002,null,null,null,null,null,null,null,{"$f":"IF(N15<='raport RTT'!$F$6+1,DATE(YEAR(L14),MONTH(L14)+1,1),0)","v":"00:00:00"},{"$f":"IF(L16=0,0,DATE(YEAR(L15),MONTH(L15)+1,1)-1)","v":"00:00:00"},14,null,null,null,null,null,{"$f":"IF(T14+1<$P$2,IF(T14=0,0,T14+1),0)","v":"1900-01-14"},"1900-01-14"]
[null,null,null,null,null,null,null,null,null,null,null,null,null,null,null,null,null,null,null,{"$f":"IF(T15+1<$P$2,IF(T15=0,0,T15+1),0)","v":"1900-01-15"},{"$f":"T16","v":"1900-01-15"}]
[null,null,null,null,null,null,null,null,null,null,null,null,null,null,null,null,null,null,null,"00:00:00","00:00:00"]
[]
["Tabelka",null,null,null,null,"Długość","START","KONIEC","cos","Nazwa",null,null,"święta",null,null,null,null,"Miesiąc","English","short","Kwartał"]
["2025-09-20","2025-09-20",null,null,null,{"$f":"H20-G20","v":0},null,null,null,{"$f":"IF(F20=0,(\"BASE-\"&DAY(G20)&VLOOKUP(MONTH(G20),$R$20:$T$31,3,0))&\"-\"&VLOOKUP(YEAR(G20),$R$33:$S$41,2),IF(OR(F20=29,F20=30,F20=27,F20=28),(\"BASE-\"&VLOOKUP(MONTH(G20),$R$20:$T$31,3,0))&\"-\"&VLOOKUP(YEAR(G20),$R$33:$S$41,2),IF(OR(F20=89,F20=90,F20=91),(\"BASE-\"&VLOOKUP(MONTH(G20),$R$20:$U$31,4,0))&\"-\"&VLOOKUP(YEAR(G20),$R$33:$S$41,2),IF(OR(F20=6),\"BASE-WK\"&WEEKNUM(G20)&\"-\"&VLOOKUP(YEAR(G20),$R$33:$S$41,2),IF(OR(F20=1,F20=2,F20=3,F20=4,F20=5),\"BASE-\"&YEAR(G20)&\"/\"&MONTH(G20)&\"/\"&DAY(G20)&\"-\"&YEAR(H20)&\"/\"&MONTH(H20)&\"/\"&DAY(H20),\"BASE-\"&YEAR(G20))))))","v":{"$error":"#N/A"}},null,null,"2013-01-01",null,null,null,null,1,"January","Jan","Q1"]
["2025-09-21","2025-09-21",null,null,null,{"$f":"H21-G21+1","v":1},null,null,null,{"$f":"IF(F21=0,(\"BASE-\"&DAY(G21)&VLOOKUP(MONTH(G21),$R$20:$T$31,3,0))&\"-\"&VLOOKUP(YEAR(G21),$R$33:$S$41,2),IF(OR(F21=29,F21=30,F21=27,F21=28),(\"BASE-\"&VLOOKUP(MONTH(G21),$R$20:$T$31,3,0))&\"-\"&VLOOKUP(YEAR(G21),$R$33:$S$41,2),IF(OR(F21=89,F21=90,F21=91),(\"BASE-\"&VLOOKUP(MONTH(G21),$R$20:$U$31,4,0))&\"-\"&VLOOKUP(YEAR(G21),$R$33:$S$41,2),IF(OR(F21=6),\"BASE-WK\"&WEEKNUM(G21)&\"-\"&VLOOKUP(YEAR(G21),$R$33:$S$41,2),IF(OR(F21=1,F21=2,F21=3,F21=4,F21=5),\"BASE-\"&YEAR(G21)&\"/\"&MONTH(G21)&\"/\"&DAY(G21)&\"-\"&YEAR(H21)&\"/\"&MONTH(H21)&\"/\"&DAY(H21),\"BASE-\"&YEAR(G21))))))","v":"BASE-1900/1/0-1900/1/0"},null,null,"2013-04-01",null,null,null,null,2,"February ","Feb","Q2"]
["2025-09-22","2025-09-22",null,null,null,1,null,null,null,"BASE-1900/1/0-1900/1/0",null,null,"2013-05-01",null,null,null,null,3,"March","Mar","Q3"]
["2025-09-23","2025-09-23",null,null,null,1,null,null,null,"BASE-1900/1/0-1900/1/0",null,null,"2013-05-03",null,null,null,null,4,"April","Apr","Q2"]
["2025-09-24","2025-09-24",null,null,null,1,null,null,null,"BASE-1900/1/0-1900/1/0",null,null,"2013-05-30",null,null,null,null,5,"May","May","Q3"]
["2025-09-25","2025-09-25",null,null,null,1,null,null,null,"BASE-1900/1/0-1900/1/0",null,null,"2013-08-15",null,null,null,null,6,"June","Jun","Q4"]
["2025-09-26","2025-09-26",null,null,null,1,null,null,null,"BASE-1900/1/0-1900/1/0",null,null,"2013-11-01",null,null,null,null,7,"July","Jul","Q3"]
["2025-09-27","2025-09-27",null,null,null,1,null,null,null,"BASE-1900/1/0-1900/1/0",null,null,"2013-11-11",null,null,null,null,8,"August","Aug","Q4"]
["2025-09-28","2025-09-28",null,null,null,1,null,null,null,"BASE-1900/1/0-1900/1/0",null,null,"2013-12-25",null,null,null,null,9,"September","Sep","Q5"]
["2025-09-29","2025-09-29",null,null,null,1,null,null,null,"BASE-1900/1/0-1900/1/0",null,null,"2013-12-26",null,null,null,null,10,"October","Oct","Q4"]
["2025-09-30","2025-09-30",null,null,null,1,null,null,null,"BASE-1900/1/0-1900/1/0",null,null,"2014-01-01",null,null,null,null,11,"November","Nov","Q5"]
["2025-10-01","2025-10-01",null,null,null,1,null,null,null,"BASE-1900/1/0-1900/1/0",null,null,"2014-01-06",null,null,null,null,12,"December","Dec","Q6"]
["2025-10-02","2025-10-02",null,null,null,1,null,null,null,"BASE-1900/1/0-1900/1/0",null,null,"2014-04-21"]
["2025-10-03","2025-10-03",null,null,null,1,null,null,null,"BASE-1900/1/0-1900/1/0",null,null,"2014-05-01",null,null,null,null,"Rok","Short"]
["2025-10-04","2025-10-04",null,null,null,1,null,null,null,"BASE-1900/1/0-1900/1/0",null,null,"2014-06-19",null,null,null,null,2013,{"$f":"RIGHT(R34,2)","v":"13"}]
["2025-10-05","2025-10-05",null,null,null,1,null,null,null,"BASE-1900/1/0-1900/1/0",null,null,"2014-08-15",null,null,null,null,2014,{"$f":"RIGHT(R35,2)","v":"14"}]
["2025-10-06","2025-10-12",null,null,null,1,null,null,null,"BASE-1900/1/0-1900/1/0",null,null,"2014-11-11",null,null,null,null,2015,"15"]
["2025-10-13","2025-10-19",null,null,null,1,null,null,null,"BASE-1900/1/0-1900/1/0",null,null,"2014-12-25",null,null,null,null,2016,"16"]
["2025-10-20","00:00:00",null,null,null,1,null,null,null,"BASE-1900/1/0-1900/1/0",null,null,"2014-12-26",null,null,null,null,2017,"17"]
["00:00:00","00:00:00",null,null,null,1,null,null,null,"BASE-1900/1/0-1900/1/0",null,null,"2015-01-01",null,null,null,null,2018,"18"]
["00:00:00","00:00:00",null,null,null,1,null,null,null,"BASE-1900/1/0-1900/1/0",null,null,"2015-01-06",null,null,null,null,2019,"19"]
["00:00:00","00:00:00",null,null,null,1,null,null,null,"BASE-1900/1/0-1900/1/0",null,null,"2015-04-06",null,null,null,null,2020,"20"]
["2025-10-01","2025-10-31",null,null,null,1,null,null,null,"BASE-1900/1/0-1900/1/0",null,null,"2015-05-01",null,null,null,null,null,null,"Długość"]
["2025-11-01","2025-11-30",null,null,null,1,null,null,null,"BASE-1900/1/0-1900/1/0",null,null,"2015-06-04",null,null,null,null,"liczba miesięcy",null,30]
["2025-12-01","2025-12-31",null,null,null,1,null,null,null,"BASE-1900/1/0-1900/1/0",null,null,"2015-11-11",null,null,null,null,{"$f":"-(8-COUNTIFS(F20:F57,\">26\",F20:F57,\"<32\"))","v":-8},null,29]
["2026-01-01","2026-01-31",null,null,null,1,null,null,null,"BASE-1900/1/0-1900/1/0",null,null,"2015-12-25",null,null,null,null,null,null,28]
["2026-02-01","2026-02-28",null,null,null,1,null,null,null,"BASE-1900/1/0-1900/1/0",null,null,"2016-01-01",null,null,null,null,{"$f":"DMAX($F$19:$G$57,\"START\",$T$42:$T$46)","v":"00:00:00"},null,27]
["2026-03-01","2026-03-31",null,null,null,1,null,null,null,"BASE-1900/1/0-1900/1/0",null,null,"2016-01-06"]
["2026-04-01","2026-04-30",null,null,null,1,null,null,null,"BASE-1900/1/0-1900/1/0",null,null,"2016-03-28",null,null,null,null,{"$f":"IF(R44=1,MID(VLOOKUP($R$46,$G$19:$J$57,4,0),1,5)&YEAR(R46)&\"/\"&MONTH(R46)&\"/\"&DAY(R46)&\"-\"&YEAR(H43)&\"/\"&MONTH(H43)&\"/\"&DAY(H43))","v":false}]
["2026-05-01","2026-05-31",null,null,null,1,null,null,null,"BASE-1900/1/0-1900/1/0",null,null,"2016-05-03"]
["2026-06-01","2026-06-30",null,null,null,1,null,null,null,"BASE-1900/1/0-1900/1/0",null,null,"2016-05-26"]
["2026-07-01","2026-07-31",null,null,null,1,null,null,null,"BASE-1900/1/0-1900/1/0",null,null,"2016-08-15"]
["2026-08-01","2026-08-31",null,null,null,1,null,null,null,"BASE-1900/1/0-1900/1/0",null,null,"2016-11-01"]
["2026-09-01","2026-09-30",null,null,null,1,null,null,null,"BASE-1900/1/0-1900/1/0",null,null,"2016-11-11"]
["2026-10-01","00:00:00",null,null,null,{"$f":"H54-G54","v":0},null,null,null,{"$error":"#N/A"},null,null,"2016-12-26"]
["00:00:00","00:00:00",null,null,null,0,null,null,null,{"$error":"#N/A"},null,null,"2017-01-06"]
["2025-10-01","2025-12-31",null,null,null,0,null,null,null,{"$error":"#N/A"},null,null,"2017-04-17"]
["2026-01-01","2026-03-31",null,null,null,0,null,null,null,{"$error":"#N/A"},null,null,"2017-05-01"]
["2026-04-01","2026-06-30",null,null,null,0,null,null,null,{"$error":"#N/A"},null,null,"2017-05-03"]
["2026-07-01","2026-09-30",null,null,null,0,null,null,null,{"$error":"#N/A"},null,null,"2017-06-15"]
["2026-10-01","2026-12-31",null,null,null,0,null,null,null,{"$error":"#N/A"},null,null,"2017-08-15"]
["2027-01-01","2027-03-31",null,null,null,0,null,null,null,{"$error":"#N/A"},null,null,"2017-11-01"]
["2027-04-01","00:00:00",null,null,null,0,null,null,null,{"$error":"#N/A"},null,null,"2017-12-25"]
["00:00:00","00:00:00",null,null,null,null,null,null,null,null,null,null,"2017-12-26"]
["2026-04-01","2026-09-30",null,null,null,null,null,null,null,null,null,null,"2018-01-01"]
["2026-10-01","2027-03-31",null,null,null,null,null,null,null,null,null,null,"2018-04-02"]
["2027-04-01","2027-09-30",null,null,null,null,null,null,null,null,null,null,"2018-05-01"]
["2027-10-01","00:00:00",null,null,null,null,null,null,null,null,null,null,"2018-05-03"]
["00:00:00","00:00:00",null,null,null,null,null,null,null,null,null,null,"2018-05-31"]
["2026-01-01","2026-12-31",null,null,null,null,null,null,null,null,null,null,"2018-08-15"]
["2027-01-01","2027-12-31",null,null,null,null,null,null,null,null,null,null,"2018-11-01"]
["2028-01-01","2028-12-31",null,null,null,null,null,null,null,null,null,null,"2018-12-25"]
["2029-01-01","2029-12-31",null,null,null,null,null,null,null,null,null,null,"2018-12-26"]
["00:00:00","00:00:00",null,null,null,null,null,null,null,null,null,null,"2019-01-01"]
[null,"2025-09-30",null,null,null,null,null,null,null,null,null,null,"2019-04-22"]
[null,"2025-10-31",null,null,null,null,null,null,null,null,null,null,"2019-05-01"]
[null,null,null,null,null,null,null,null,null,null,null,null,"2019-05-03"]
[null,null,null,null,null,null,null,null,null,null,null,null,"2019-06-20"]
[null,null,null,null,null,null,null,null,null,null,null,null,"2019-08-15"]
[null,null,null,null,null,null,null,null,null,null,null,null,"2019-11-01"]
[null,null,null,null,null,null,null,null,null,null,null,null,"2019-11-11"]
[null,null,null,null,null,null,null,null,null,null,null,null,"2019-12-25"]
[null,null,null,null,null,null,null,null,null,null,null,null,"2019-12-26"]
[null,null,null,null,null,null,null,null,null,null,null,null,"2020-01-01"]
[null,null,null,null,null,null,null,null,null,null,null,null,"2020-01-06"]
[null,null,null,null,null,null,null,null,null,null,null,null,"2020-04-13"]
[null,null,null,null,null,null,null,null,null,null,null,null,"2020-05-01"]
[null,null,null,null,null,null,null,null,null,null,null,null,"2020-06-11"]
[null,null,null,null,null,null,null,null,null,null,null,null,"2020-11-11"]
[null,null,null,null,null,null,null,null,null,null,null,null,"2020-12-25"]
[null,null,null,null,null,null,null,null,null,null,null,null,"2020-12-26"]
[null,null,null,null,null,null,null,null,null,null,null,null,"2021-01-01"]
[null,null,null,null,null,null,null,null,null,null,null,null,"2021-01-06"]
[null,null,null,null,null,null,null,null,null,null,null,null,"2021-04-04"]
[null,null,null,null,null,null,null,null,null,null,null,null,"2021-04-05"]
[null,null,null,null,null,null,null,null,null,null,null,null,"2021-05-01"]
[null,null,null,null,null,null,null,null,null,null,null,null,"2021-05-03"]
[null,null,null,null,null,null,null,null,null,null,null,null,"2021-05-23"]
[null,null,null,null,null,null,null,null,null,null,null,null,"2021-06-03"]
[null,null,null,null,null,null,null,null,null,null,null,null,"2021-08-15"]
[null,null,null,null,null,null,null,null,null,null,null,null,"2021-11-01"]
[null,null,null,null,null,null,null,null,null,null,null,null,"2021-11-11"]
[null,null,null,null,null,null,null,null,null,null,null,null,"2021-12-25"]
[null,null,null,null,null,null,null,null,null,null,null,null,"2021-12-26"]
[null,null,null,null,null,null,null,null,null,null,null,null,"2022-01-01"]
[null,null,null,null,null,null,null,null,null,null,null,null,"2022-01-06"]
[null,null,null,null,null,null,null,null,null,null,null,null,"2022-04-17"]
[null,null,null,null,null,null,null,null,null,null,null,null,"2022-04-18"]
[null,null,null,null,null,null,null,null,null,null,null,null,"2022-05-01"]
[null,null,null,null,null,null,null,null,null,null,null,null,"2022-05-03"]
[null,null,null,null,null,null,null,null,null,null,null,null,"2022-06-05"]
[null,null,null,null,null,null,null,null,null,null,null,null,"2022-06-16"]
[null,null,null,null,null,null,null,null,null,null,null,null,"2022-08-15"]
[null,null,null,null,null,null,null,null,null,null,null,null,"2022-11-01"]
[null,null,null,null,null,null,null,null,null,null,null,null,"2022-11-11"]
[null,null,null,null,null,null,null,null,null,null,null,null,"2022-12-25"]
[null,null,null,null,null,null,null,null,null,null,null,null,"2022-12-26"]
[null,null,null,null,null,null,null,null,null,null,null,null,"2023-01-01"]
[null,null,null,null,null,null,null,null,null,null,null,null,"2023-01-06"]
[null,null,null,null,null,null,null,null,null,null,null,null,"2023-04-09"]
[null,null,null,null,null,null,null,null,null,null,null,null,"2023-04-10"]
[null,null,null,null,null,null,null,null,null,null,null,null,"2023-05-01"]
[null,null,null,null,null,null,null,null,null,null,null,null,"2023-05-03"]
[null,null,null,null,null,null,null,null,null,null,null,null,"2023-05-28"]
[null,null,null,null,null,null,null,null,null,null,null,null,"2023-06-08"]
[null,null,null,null,null,null,null,null,null,null,null,null,"2023-08-15"]
[null,null,null,null,null,null,null,null,null,null,null,null,"2023-11-01"]
[null,null,null,null,null,null,null,null,null,null,null,null,"2023-11-11"]
[null,null,null,null,null,null,null,null,null,null,null,null,"2023-12-25"]
[null,null,null,null,null,null,null,null,null,null,null,null,"2023-12-26"]
[null,null,null,null,null,null,null,null,null,null,null,null,"2024-01-01"]
[null,null,null,null,null,null,null,null,null,null,null,null,"2024-01-06"]
[null,null,null,null,null,null,null,null,null,null,null,null,"2024-03-31"]
[null,null,null,null,null,null,null,null,null,null,null,null,"2024-04-01"]
[null,null,null,null,null,null,null,null,null,null,null,null,"2024-05-01"]
[null,null,null,null,null,null,null,null,null,null,null,null,"2024-05-03"]
[null,null,null,null,null,null,null,null,null,null,null,null,"2024-05-19"]
[null,null,null,null,null,null,null,null,null,null,null,null,"2024-05-30"]
[null,null,null,null,null,null,null,null,null,null,null,null,"2024-08-15"]
[null,null,null,null,null,null,null,null,null,null,null,null,"2024-11-01"]
[null,null,null,null,null,null,null,null,null,null,null,null,"2024-11-11"]
[null,null,null,null,null,null,null,null,null,null,null,null,"2024-12-25"]
[null,null,null,null,null,null,null,null,null,null,null,null,"2024-12-26"]
[null,null,null,null,null,null,null,null,null,null,null,null,"2025-01-01"]
[null,null,null,null,null,null,null,null,null,null,null,null,"2025-01-06"]
[null,null,null,null,null,null,null,null,null,null,null,null,"2025-04-20"]
[null,null,null,null,null,null,null,null,null,null,null,null,"2025-04-21"]
[null,null,null,null,null,null,null,null,null,null,null,null,"2025-05-01"]
[null,null,null,null,null,null,null,null,null,null,null,null,"2025-05-03"]
[null,null,null,null,null,null,null,null,null,null,null,null,"2025-06-08"]
[null,null,null,null,null,null,null,null,null,null,null,null,"2025-06-19"]
[null,null,null,null,null,null,null,null,null,null,null,null,"2025-08-15"]
[null,null,null,null,null,null,null,null,null,null,null,null,"2025-11-01"]
[null,null,null,null,null,null,null,null,null,null,null,null,"2025-11-11"]
[null,null,null,null,null,null,null,null,null,null,null,null,"2025-12-25"]
[null,null,null,null,null,null,null,null,null,null,null,null,"2025-12-26"]
[null,null,null,null,null,null,null,null,null,null,null,null,"2026-01-01"]
[null,null,null,null,null,null,null,null,null,null,null,null,"2026-01-06"]
[null,null,null,null,null,null,null,null,null,null,null,null,"2026-04-05"]
[null,null,null,null,null,null,null,null,null,null,null,null,"2026-04-06"]
[null,null,null,null,null,null,null,null,null,null,null,null,"2026-05-01"]
[null,null,null,null,null,null,null,null,null,null,null,null,"2026-05-03"]
[null,null,null,null,null,null,null,null,null,null,null,null,"2026-05-24"]
[null,null,null,null,null,null,null,null,null,null,null,null,"2026-06-04"]
[null,null,null,null,null,null,null,null,null,null,null,null,"2026-08-15"]
[null,null,null,null,null,null,null,null,null,null,null,null,"2026-11-01"]
[null,null,null,null,null,null,null,null,null,null,null,null,"2026-11-11"]
[null,null,null,null,null,null,null,null,null,null,null,null,"2026-12-25"]
[null,null,null,null,null,null,null,null,null,null,null,null,"2026-12-26"]
[null,null,null,null,null,null,null,null,null,null,null,null,"2027-01-01"]
[null,null,null,null,null,null,null,null,null,null,null,null,"2027-01-06"]
[null,null,null,null,null,null,null,null,null,null,null,null,"2027-03-28"]
[null,null,null,null,null,null,null,null,null,null,null,null,"2027-03-29"]
[null,null,null,null,null,null,null,null,null,null,null,null,"2027-05-01"]
[null,null,null,null,null,null,null,null,null,null,null,null,"2027-05-03"]
[null,null,null,null,null,null,null,null,null,null,null,null,"2027-05-16"]
[null,null,null,null,null,null,null,null,null,null,null,null,"2027-05-27"]
[null,null,null,null,null,null,null,null,null,null,null,null,"2027-08-15"]
[null,null,null,null,null,null,null,null,null,null,null,null,"2027-11-01"]
[null,null,null,null,null,null,null,null,null,null,null,null,"2027-11-11"]
[null,null,null,null,null,null,null,null,null,null,null,null,"2027-12-24"]
[null,null,null,null,null,null,null,null,null,null,null,null,"2027-12-25"]
[null,null,null,null,null,null,null,null,null,null,null,null,"2027-12-26"]
[null,null,null,null,null,null,null,null,null,null,null,null,"2028-01-01"]
[null,null,null,null,null,null,null,null,null,null,null,null,"2028-01-06"]
[null,null,null,null,null,null,null,null,null,null,null,null,"2028-04-16"]
[null,null,null,null,null,null,null,null,null,null,null,null,"2028-04-17"]
[null,null,null,null,null,null,null,null,null,null,null,null,"2028-05-01"]
[null,null,null,null,null,null,null,null,null,null,null,null,"2028-05-03"]
[null,null,null,null,null,null,null,null,null,null,null,null,"2028-06-04"]
[null,null,null,null,null,null,null,null,null,null,null,null,"2028-06-15"]
[null,null,null,null,null,null,null,null,null,null,null,null,"2028-08-15"]
[null,null,null,null,null,null,null,null,null,null,null,null,"2028-11-01"]
[null,null,null,null,null,null,null,null,null,null,null,null,"2028-11-11"]
[null,null,null,null,null,null,null,null,null,null,null,null,"2028-12-24"]
[null,null,null,null,null,null,null,null,null,null,null,null,"2028-12-25"]
[null,null,null,null,null,null,null,null,null,null,null,null,"2028-12-26"]
[null,null,null,null,null,null,null,null,null,null,null,null,"2029-01-01"]
[null,null,null,null,null,null,null,null,null,null,null,null,"2029-01-06"]
[null,null,null,null,null,null,null,null,null,null,null,null,"2029-04-01"]
[null,null,null,null,null,null,null,null,null,null,null,null,"2029-04-02"]
[null,null,null,null,null,null,null,null,null,null,null,null,"2029-05-01"]
[null,null,null,null,null,null,null,null,null,null,null,null,"2029-05-03"]
[null,null,null,null,null,null,null,null,null,null,null,null,"2029-05-20"]
[null,null,null,null,null,null,null,null,null,null,null,null,"2029-05-31"]
[null,null,null,null,null,null,null,null,null,null,null,null,"2029-08-15"]
[null,null,null,null,null,null,null,null,null,null,null,null,"2029-11-01"]
[null,null,null,null,null,null,null,null,null,null,null,null,"2029-11-11"]
[null,null,null,null,null,null,null,null,null,null,null,null,"2029-12-24"]
[null,null,null,null,null,null,null,null,null,null,null,null,"2029-12-25"]
[null,null,null,null,null,null,null,null,null,null,null,null,"2029-12-26"]
[null,null,null,null,null,null,null,null,null,null,null,null,"2030-01-01"]
[null,null,null,null,null,null,null,null,null,null,null,null,"2030-01-06"]
[null,null,null,null,null,null,null,null,null,null,null,null,"2030-04-21"]
[null,null,null,null,null,null,null,null,null,null,null,null,"2030-04-22"]
[null,null,null,null,null,null,null,null,null,null,null,null,"2030-05-01"]
[null,null,null,null,null,null,null,null,null,null,null,null,"2030-05-03"]
[null,null,null,null,null,null,null,null,null,null,null,null,"2030-06-09"]
[null,null,null,null,null,null,null,null,null,null,null,null,"2030-06-20"]
[null,null,null,null,null,null,null,null,null,null,null,null,"2030-08-15"]
[null,null,null,null,null,null,null,null,null,null,null,null,"2030-11-01"]
[null,null,null,null,null,null,null,null,null,null,null,null,"2030-11-11"]
[null,null,null,null,null,null,null,null,null,null,null,null,"2030-12-24"]
[null,null,null,null,null,null,null,null,null,null,null,null,"2030-12-25"]
[null,null,null,null,null,null,null,null,null,null,null,null,"2030-12-26"]
[null,null,null,null,null,null,null,null,null,null,null,null,"2031-01-01"]
[null,null,null,null,null,null,null,null,null,null,null,null,"2031-01-06"]
[null,null,null,null,null,null,null,null,null,null,null,null,"2031-04-13"]
[null,null,null,null,null,null,null,null,null,null,null,null,"2031-04-14"]
[null,null,null,null,null,null,null,null,null,null,null,null,"2031-05-01"]
[null,null,null,null,null,null,null,null,null,null,null,null,"2031-05-03"]
[null,null,null,null,null,null,null,null,null,null,null,null,"2031-06-01"]
[null,null,null,null,null,null,null,null,null,null,null,null,"2031-06-12"]
[null,null,null,null,null,null,null,null,null,null,null,null,"2031-08-15"]
[null,null,null,null,null,null,null,null,null,null,null,null,"2031-11-01"]
[null,null,null,null,null,null,null,null,null,null,null,null,"2031-11-11"]
[null,null,null,null,null,null,null,null,null,null,null,null,"2031-12-24"]
[null,null,null,null,null,null,null,null,null,null,null,null,"2031-12-25"]
[null,null,null,null,null,null,null,null,null,null,null,null,"2031-12-26"]
[null,null,null,null,null,null,null,null,null,null,null,null,"2032-01-01"]
[null,null,null,null,null,null,null,null,null,null,null,null,"2032-01-06"]
[null,null,null,null,null,null,null,null,null,null,null,null,"2032-03-28"]
[null,null,null,null,null,null,null,null,null,null,null,null,"2032-03-29"]
[null,null,null,null,null,null,null,null,null,null,null,null,"2032-05-01"]
[null,null,null,null,null,null,null,null,null,null,null,null,"2032-05-03"]
[null,null,null,null,null,null,null,null,null,null,null,null,"2032-05-16"]
[null,null,null,null,null,null,null,null,null,null,null,null,"2032-05-27"]
[null,null,null,null,null,null,null,null,null,null,null,null,"2032-08-15"]
[null,null,null,null,null,null,null,null,null,null,null,null,"2032-11-01"]
[null,null,null,null,null,null,null,null,null,null,null,null,"2032-11-11"]
[null,null,null,null,null,null,null,null,null,null,null,null,"2032-12-24"]
[null,null,null,null,null,null,null,null,null,null,null,null,"2032-12-25"]
[null,null,null,null,null,null,null,null,null,null,null,null,"2032-12-26"]
[null,null,null,null,null,null,null,null,null,null,null,null,"2033-01-01"]
[null,null,null,null,null,null,null,null,null,null,null,null,"2033-01-06"]
[null,null,null,null,null,null,null,null,null,null,null,null,"2033-04-17"]
[null,null,null,null,null,null,null,null,null,null,null,null,"2033-04-18"]
[null,null,null,null,null,null,null,null,null,null,null,null,"2033-05-01"]
[null,null,null,null,null,null,null,null,null,null,null,null,"2033-05-03"]
[null,null,null,null,null,null,null,null,null,null,null,null,"2033-06-05"]
[null,null,null,null,null,null,null,null,null,null,null,null,"2033-06-16"]
[null,null,null,null,null,null,null,null,null,null,null,null,"2033-08-15"]
[null,null,null,null,null,null,null,null,null,null,null,null,"2033-11-01"]
[null,null,null,null,null,null,null,null,null,null,null,null,"2033-11-11"]
[null,null,null,null,null,null,null,null,null,null,null,null,"2033-12-24"]
[null,null,null,null,null,null,null,null,null,null,null,null,"2033-12-25"]
[null,null,null,null,null,null,null,null,null,null,null,null,"2033-12-26"]
[null,null,null,null,null,null,null,null,null,null,null,null,"2034-01-01"]
[null,null,null,null,null,null,null,null,null,null,null,null,"2034-01-06"]
[null,null,null,null,null,null,null,null,null,null,null,null,"2034-04-09"]
[null,null,null,null,null,null,null,null,null,null,null,null,"2034-04-10"]
[null,null,null,null,null,null,null,null,null,null,null,null,"2034-05-01"]
[null,null,null,null,null,null,null,null,null,null,null,null,"2034-05-03"]
[null,null,null,null,null,null,null,null,null,null,null,null,"2034-05-28"]
[null,null,null,null,null,null,null,null,null,null,null,null,"2034-06-08"]
[null,null,null,null,null,null,null,null,null,null,null,null,"2034-08-15"]
[null,null,null,null,null,null,null,null,null,null,null,null,"2034-11-01"]
[null,null,null,null,null,null,null,null,null,null,null,null,"2034-11-11"]
[null,null,null,null,null,null,null,null,null,null,null,null,"2034-12-24"]
[null,null,null,null,null,null,null,null,null,null,null,null,"2034-12-25"]
[null,null,null,null,null,null,null,null,null,null,null,null,"2034-12-26"]
[null,null,null,null,null,null,null,null,null,null,null,null,"2035-01-01"]
[null,null,null,null,null,null,null,null,null,null,null,null,"2035-01-06"]
[null,null,null,null,null,null,null,null,null,null,null,null,"2035-03-25"]
[null,null,null,null,null,null,null,null,null,null,null,null,"2035-03-26"]
[null,null,null,null,null,null,null,null,null,null,null,null,"2035-05-01"]
[null,null,null,null,null,null,null,null,null,null,null,null,"2035-05-03"]
[null,null,null,null,null,null,null,null,null,null,null,null,"2035-05-13"]
[null,null,null,null,null,null,null,null,null,null,null,null,"2035-05-24"]
[null,null,null,null,null,null,null,null,null,null,null,null,"2035-08-15"]
[null,null,null,null,null,null,null,null,null,null,null,null,"2035-11-01"]
[null,null,null,null,null,null,null,null,null,null,null,null,"2035-11-11"]
[null,null,null,null,null,null,null,null,null,null,null,null,"2035-12-24"]
[null,null,null,null,null,null,null,null,null,null,null,null,"2035-12-25"]
[null,null,null,null,null,null,null,null,null,null,null,null,"2035-12-26"]
[null,null,null,null,null,null,null,null,null,null,null,null,"2036-01-01"]
[null,null,null,null,null,null,null,null,null,null,null,null,"2036-01-06"]
[null,null,null,null,null,null,null,null,null,null,null,null,"2036-04-13"]
[null,null,null,null,null,null,null,null,null,null,null,null,"2036-04-14"]
[null,null,null,null,null,null,null,null,null,null,null,null,"2036-05-01"]
[null,null,null,null,null,null,null,null,null,null,null,null,"2036-05-03"]
[null,null,null,null,null,null,null,null,null,null,null,null,"2036-06-01"]
[null,null,null,null,null,null,null,null,null,null,null,null,"2036-06-12"]
[null,null,null,null,null,null,null,null,null,null,null,null,"2036-08-15"]
[null,null,null,null,null,null,null,null,null,null,null,null,"2036-11-01"]
[null,null,null,null,null,null,null,null,null,null,null,null,"2036-11-11"]
[null,null,null,null,null,null,null,null,null,null,null,null,"2036-12-24"]
[null,null,null,null,null,null,null,null,null,null,null,null,"2036-12-25"]
[null,null,null,null,null,null,null,null,null,null,null,null,"2036-12-26"]
[null,null,null,null,null,null,null,null,null,null,null,null,"2037-01-01"]
[null,null,null,null,null,null,null,null,null,null,null,null,"2037-01-06"]
[null,null,null,null,null,null,null,null,null,null,null,null,"2037-04-05"]
[null,null,null,null,null,null,null,null,null,null,null,null,"2037-04-06"]
[null,null,null,null,null,null,null,null,null,null,null,null,"2037-05-01"]
[null,null,null,null,null,null,null,null,null,null,null,null,"2037-05-03"]
[null,null,null,null,null,null,null,null,null,null,null,null,"2037-05-24"]
[null,null,null,null,null,null,null,null,null,null,null,null,"2037-06-04"]
[null,null,null,null,null,null,null,null,null,null,null,null,"2037-08-15"]
[null,null,null,null,null,null,null,null,null,null,null,null,"2037-11-01"]
[null,null,null,null,null,null,null,null,null,null,null,null,"2037-11-11"]
[null,null,null,null,null,null,null,null,null,null,null,null,"2037-12-24"]
[null,null,null,null,null,null,null,null,null,null,null,null,"2037-12-25"]
[null,null,null,null,null,null,null,null,null,null,null,null,"2037-12-26"]
[null,null,null,null,null,null,null,null,null,null,null,null,"2038-01-01"]
[null,null,null,null,null,null,null,null,null,null,null,null,"2038-01-06"]
[null,null,null,null,null,null,null,null,null,null,null,null,"2038-04-25"]
[null,null,null,null,null,null,null,null,null,null,null,null,"2038-04-26"]
[null,null,null,null,null,null,null,null,null,null,null,null,"2038-05-01"]
[null,null,null,null,null,null,null,null,null,null,null,null,"2038-05-03"]
[null,null,null,null,null,null,null,null,null,null,null,null,"2038-06-13"]
[null,null,null,null,null,null,null,null,null,null,null,null,"2038-06-24"]
[null,null,null,null,null,null,null,null,null,null,null,null,"2038-08-15"]
[null,null,null,null,null,null,null,null,null,null,null,null,"2038-11-01"]
[null,null,null,null,null,null,null,null,null,null,null,null,"2038-11-11"]
[null,null,null,null,null,null,null,null,null,null,null,null,"2038-12-24"]
[null,null,null,null,null,null,null,null,null,null,null,null,"2038-12-25"]
[null,null,null,null,null,null,null,null,null,null,null,null,"2038-12-26"]
[null,null,null,null,null,null,null,null,null,null,null,null,"2039-01-01"]
[null,null,null,null,null,null,null,null,null,null,null,null,"2039-01-06"]
[null,null,null,null,null,null,null,null,null,null,null,null,"2039-04-10"]
[null,null,null,null,null,null,null,null,null,null,null,null,"2039-04-11"]
[null,null,null,null,null,null,null,null,null,null,null,null,"2039-05-01"]
[null,null,null,null,null,null,null,null,null,null,null,null,"2039-05-03"]
[null,null,null,null,null,null,null,null,null,null,null,null,"2039-05-29"]
[null,null,null,null,null,null,null,null,null,null,null,null,"2039-06-09"]
[null,null,null,null,null,null,null,null,null,null,null,null,"2039-08-15"]
[null,null,null,null,null,null,null,null,null,null,null,null,"2039-11-01"]
[null,null,null,null,null,null,null,null,null,null,null,null,"2039-11-11"]
[null,null,null,null,null,null,null,null,null,null,null,null,"2039-12-24"]
[null,null,null,null,null,null,null,null,null,null,null,null,"2039-12-25"]
[null,null,null,null,null,null,null,null,null,null,null,null,"2039-12-26"]
[null,null,null,null,null,null,null,null,null,null,null,null,"2040-01-01"]
[null,null,null,null,null,null,null,null,null,null,null,null,"2040-01-06"]
[null,null,null,null,null,null,null,null,null,null,null,null,"2040-04-01"]
[null,null,null,null,null,null,null,null,null,null,null,null,"2040-04-02"]
[null,null,null,null,null,null,null,null,null,null,null,null,"2040-05-01"]
[null,null,null,null,null,null,null,null,null,null,null,null,"2040-05-03"]
[null,null,null,null,null,null,null,null,null,null,null,null,"2040-05-20"]
[null,null,null,null,null,null,null,null,null,null,null,null,"2040-05-31"]
[null,null,null,null,null,null,null,null,null,null,null,null,"2040-08-15"]
[null,null,null,null,null,null,null,null,null,null,null,null,"2040-11-01"]
[null,null,null,null,null,null,null,null,null,null,null,null,"2040-11-11"]
[null,null,null,null,null,null,null,null,null,null,null,null,"2040-12-24"]
[null,null,null,null,null,null,null,null,null,null,null,null,"2040-12-25"]
[null,null,null,null,null,null,null,null,null,null,null,null,"2040-12-26"]
[null,null,null,null,null,null,null,null,null,null,null,null,"2041-01-01"]
[null,null,null,null,null,null,null,null,null,null,null,null,"2041-01-06"]
[null,null,null,null,null,null,null,null,null,null,null,null,"2041-04-21"]
[null,null,null,null,null,null,null,null,null,null,null,null,"2041-04-22"]
[null,null,null,null,null,null,null,null,null,null,null,null,"2041-05-01"]
[null,null,null,null,null,null,null,null,null,null,null,null,"2041-05-03"]
[null,null,null,null,null,null,null,null,null,null,null,null,"2041-06-09"]
[null,null,null,null,null,null,null,null,null,null,null,null,"2041-06-20"]
[null,null,null,null,null,null,null,null,null,null,null,null,"2041-08-15"]
[null,null,null,null,null,null,null,null,null,null,null,null,"2041-11-01"]
[null,null,null,null,null,null,null,null,null,null,null,null,"2041-11-11"]
[null,null,null,null,null,null,null,null,null,null,null,null,"2041-12-24"]
[null,null,null,null,null,null,null,null,null,null,null,null,"2041-12-25"]
[null,null,null,null,null,null,null,null,null,null,null,null,"2041-12-26"]
[null,null,null,null,null,null,null,null,null,null,null,null,"2042-01-01"]
[null,null,null,null,null,null,null,null,null,null,null,null,"2042-01-06"]
[null,null,null,null,null,null,null,null,null,null,null,null,"2042-04-06"]
[null,null,null,null,null,null,null,null,null,null,null,null,"2042-04-07"]
[null,null,null,null,null,null,null,null,null,null,null,null,"2042-05-01"]
[null,null,null,null,null,null,null,null,null,null,null,null,"2042-05-03"]
[null,null,null,null,null,null,null,null,null,null,null,null,"2042-05-25"]
[null,null,null,null,null,null,null,null,null,null,null,null,"2042-06-05"]
[null,null,null,null,null,null,null,null,null,null,null,null,"2042-08-15"]
[null,null,null,null,null,null,null,null,null,null,null,null,"2042-11-01"]
[null,null,null,null,null,null,null,null,null,null,null,null,"2042-11-11"]
[null,null,null,null,null,null,null,null,null,null,null,null,"2042-12-24"]
[null,null,null,null,null,null,null,null,null,null,null,null,"2042-12-25"]
[null,null,null,null,null,null,null,null,null,null,null,null,"2042-12-26"]
[null,null,null,null,null,null,null,null,null,null,null,null,"2043-01-01"]
[null,null,null,null,null,null,null,null,null,null,null,null,"2043-01-06"]
[null,null,null,null,null,null,null,null,null,null,null,null,"2043-03-29"]
[null,null,null,null,null,null,null,null,null,null,null,null,"2043-03-30"]
[null,null,null,null,null,null,null,null,null,null,null,null,"2043-05-01"]
[null,null,null,null,null,null,null,null,null,null,null,null,"2043-05-03"]
[null,null,null,null,null,null,null,null,null,null,null,null,"2043-05-17"]
[null,null,null,null,null,null,null,null,null,null,null,null,"2043-05-28"]
[null,null,null,null,null,null,null,null,null,null,null,null,"2043-08-15"]
[null,null,null,null,null,null,null,null,null,null,null,null,"2043-11-01"]
[null,null,null,null,null,null,null,null,null,null,null,null,"2043-11-11"]
[null,null,null,null,null,null,null,null,null,null,null,null,"2043-12-24"]
[null,null,null,null,null,null,null,null,null,null,null,null,"2043-12-25"]
[null,null,null,null,null,null,null,null,null,null,null,null,"2043-12-26"]
[null,null,null,null,null,null,null,null,null,null,null,null,"2044-01-01"]
[null,null,null,null,null,null,null,null,null,null,null,null,"2044-01-06"]
[null,null,null,null,null,null,null,null,null,null,null,null,"2044-04-17"]
[null,null,null,null,null,null,null,null,null,null,null,null,"2044-04-18"]
[null,null,null,null,null,null,null,null,null,null,null,null,"2044-05-01"]
[null,null,null,null,null,null,null,null,null,null,null,null,"2044-05-03"]
[null,null,null,null,null,null,null,null,null,null,null,null,"2044-06-05"]
[null,null,null,null,null,null,null,null,null,null,null,null,"2044-06-16"]
[null,null,null,null,null,null,null,null,null,null,null,null,"2044-08-15"]
[null,null,null,null,null,null,null,null,null,null,null,null,"2044-11-01"]
[null,null,null,null,null,null,null,null,null,null,null,null,"2044-11-11"]
[null,null,null,null,null,null,null,null,null,null,null,null,"2044-12-24"]
[null,null,null,null,null,null,null,null,null,null,null,null,"2044-12-25"]
[null,null,null,null,null,null,null,null,null,null,null,null,"2044-12-26"]
[null,null,null,null,null,null,null,null,null,null,null,null,"2045-01-01"]
[null,null,null,null,null,null,null,null,null,null,null,null,"2045-01-06"]
[null,null,null,null,null,null,null,null,null,null,null,null,"2045-04-09"]
[null,null,null,null,null,null,null,null,null,null,null,null,"2045-04-10"]
[null,null,null,null,null,null,null,null,null,null,null,null,"2045-05-01"]
[null,null,null,null,null,null,null,null,null,null,null,null,"2045-05-03"]
[null,null,null,null,null,null,null,null,null,null,null,null,"2045-05-28"]
[null,null,null,null,null,null,null,null,null,null,null,null,"2045-06-08"]
[null,null,null,null,null,null,null,null,null,null,null,null,"2045-08-15"]
[null,null,null,null,null,null,null,null,null,null,null,null,"2045-11-01"]
[null,null,null,null,null,null,null,null,null,null,null,null,"2045-11-11"]
[null,null,null,null,null,null,null,null,null,null,null,null,"2045-12-24"]
[null,null,null,null,null,null,null,null,null,null,null,null,"2045-12-25"]
[null,null,null,null,null,null,null,null,null,null,null,null,"2045-12-26"]
[null,null,null,null,null,null,null,null,null,null,null,null,"2046-01-01"]
[null,null,null,null,null,null,null,null,null,null,null,null,"2046-01-06"]
[null,null,null,null,null,null,null,null,null,null,null,null,"2046-03-25"]
[null,null,null,null,null,null,null,null,null,null,null,null,"2046-03-26"]
[null,null,null,null,null,null,null,null,null,null,null,null,"2046-05-01"]
[null,null,null,null,null,null,null,null,null,null,null,null,"2046-05-03"]
[null,null,null,null,null,null,null,null,null,null,null,null,"2046-05-13"]
[null,null,null,null,null,null,null,null,null,null,null,null,"2046-05-24"]
[null,null,null,null,null,null,null,null,null,null,null,null,"2046-08-15"]
[null,null,null,null,null,null,null,null,null,null,null,null,"2046-11-01"]
[null,null,null,null,null,null,null,null,null,null,null,null,"2046-11-11"]
[null,null,null,null,null,null,null,null,null,null,null,null,"2046-12-24"]
[null,null,null,null,null,null,null,null,null,null,null,null,"2046-12-25"]
[null,null,null,null,null,null,null,null,null,null,null,null,"2046-12-26"]
[null,null,null,null,null,null,null,null,null,null,null,null,"2047-01-01"]
[null,null,null,null,null,null,null,null,null,null,null,null,"2047-01-06"]
[null,null,null,null,null,null,null,null,null,null,null,null,"2047-04-14"]
[null,null,null,null,null,null,null,null,null,null,null,null,"2047-04-15"]
[null,null,null,null,null,null,null,null,null,null,null,null,"2047-05-01"]
[null,null,null,null,null,null,null,null,null,null,null,null,"2047-05-03"]
[null,null,null,null,null,null,null,null,null,null,null,null,"2047-06-02"]
[null,null,null,null,null,null,null,null,null,null,null,null,"2047-06-13"]
[null,null,null,null,null,null,null,null,null,null,null,null,"2047-08-15"]
[null,null,null,null,null,null,null,null,null,null,null,null,"2047-11-01"]
[null,null,null,null,null,null,null,null,null,null,null,null,"2047-11-11"]
[null,null,null,null,null,null,null,null,null,null,null,null,"2047-12-24"]
[null,null,null,null,null,null,null,null,null,null,null,null,"2047-12-25"]
[null,null,null,null,null,null,null,null,null,null,null,null,"2047-12-26"]
[null,null,null,null,null,null,null,null,null,null,null,null,"2048-01-01"]
[null,null,null,null,null,null,null,null,null,null,null,null,"2048-01-06"]
[null,null,null,null,null,null,null,null,null,null,null,null,"2048-04-05"]
[null,null,null,null,null,null,null,null,null,null,null,null,"2048-04-06"]
[null,null,null,null,null,null,null,null,null,null,null,null,"2048-05-01"]
[null,null,null,null,null,null,null,null,null,null,null,null,"2048-05-03"]
[null,null,null,null,null,null,null,null,null,null,null,null,"2048-05-24"]
[null,null,null,null,null,null,null,null,null,null,null,null,"2048-06-04"]
[null,null,null,null,null,null,null,null,null,null,null,null,"2048-08-15"]
[null,null,null,null,null,null,null,null,null,null,null,null,"2048-11-01"]
[null,null,null,null,null,null,null,null,null,null,null,null,"2048-11-11"]
[null,null,null,null,null,null,null,null,null,null,null,null,"2048-12-24"]
[null,null,null,null,null,null,null,null,null,null,null,null,"2048-12-25"]
[null,null,null,null,null,null,null,null,null,null,null,null,"2048-12-26"]
[null,null,null,null,null,null,null,null,null,null,null,null,"2049-01-01"]
[null,null,null,null,null,null,null,null,null,null,null,null,"2049-01-06"]
[null,null,null,null,null,null,null,null,null,null,null,null,"2049-04-18"]
[null,null,null,null,null,null,null,null,null,null,null,null,"2049-04-19"]
[null,null,null,null,null,null,null,null,null,null,null,null,"2049-05-01"]
[null,null,null,null,null,null,null,null,null,null,null,null,"2049-05-03"]
[null,null,null,null,null,null,null,null,null,null,null,null,"2049-06-06"]
[null,null,null,null,null,null,null,null,null,null,null,null,"2049-06-17"]
[null,null,null,null,null,null,null,null,null,null,null,null,"2049-08-15"]
[null,null,null,null,null,null,null,null,null,null,null,null,"2049-11-01"]
[null,null,null,null,null,null,null,null,null,null,null,null,"2049-11-11"]
[null,null,null,null,null,null,null,null,null,null,null,null,"2049-12-24"]
[null,null,null,null,null,null,null,null,null,null,null,null,"2049-12-25"]
[null,null,null,null,null,null,null,null,null,null,null,null,"2049-12-26"]
[null,null,null,null,null,null,null,null,null,null,null,null,"2050-01-01"]
[null,null,null,null,null,null,null,null,null,null,null,null,"2050-01-06"]
[null,null,null,null,null,null,null,null,null,null,null,null,"2050-04-10"]
[null,null,null,null,null,null,null,null,null,null,null,null,"2050-04-11"]
[null,null,null,null,null,null,null,null,null,null,null,null,"2050-05-01"]
[null,null,null,null,null,null,null,null,null,null,null,null,"2050-05-03"]
[null,null,null,null,null,null,null,null,null,null,null,null,"2050-05-29"]
[null,null,null,null,null,null,null,null,null,null,null,null,"2050-06-09"]
[null,null,null,null,null,null,null,null,null,null,null,null,"2050-08-15"]
[null,null,null,null,null,null,null,null,null,null,null,null,"2050-11-01"]
[null,null,null,null,null,null,null,null,null,null,null,null,"2050-11-11"]
[null,null,null,null,null,null,null,null,null,null,null,null,"2050-12-24"]
[null,null,null,null,null,null,null,null,null,null,null,null,"2050-12-25"]
[null,null,null,null,null,null,null,null,null,null,null,null,"2050-12-26"]

{"sheet":"raport RTT","index":2,"n_rows":34,"n_cols":9,"rows_kept":34,"cut":false,"hidden":true,"merged":[]}
[]
[]
[]
[]
[null,"GAS_BASE_W-25-25",{"$f":"IFERROR(MID(B5,FIND(\"_\",B5)+6,1),\"\")","v":"W"},null,"W",{"$f":"COUNTIF(C:C,E5)","v":4},null,null,"tutaj usuwając/dodając instrumenty wpływamy na ilość generujących się koszyków"]
[null,"GAS_BASE_W-26-25","W",null,"M",{"$f":"COUNTIF(C:C,E6)","v":12}]
[null,"GAS_BASE_W-27-25","W",null,"Q",6]
[null,"GAS_BASE_W-28-25","W",null,"S",4]
[null,"GAS_BASE_M-07-25","M",null,"Y",{"$f":"COUNTIF(C:C,E9)","v":4}]
[null,"GAS_BASE_M-08-25","M"]
[null,"GAS_BASE_M-09-25","M"]
[null,"GAS_BASE_M-10-25","M"]
[null,"GAS_BASE_M-11-25","M"]
[null,"GAS_BASE_M-12-25","M"]
[null,"GAS_BASE_M-01-26","M"]
[null,"GAS_BASE_M-02-26","M"]
[null,"GAS_BASE_M-03-26","M"]
[null,"GAS_BASE_M-04-26","M"]
[null,"GAS_BASE_M-05-26","M"]
[null,"GAS_BASE_M-06-26","M"]
[null,"GAS_BASE_Q-3-25","Q"]
[null,"GAS_BASE_Q-4-25","Q"]
[null,"GAS_BASE_Q-1-26","Q"]
[null,"GAS_BASE_Q-2-26","Q"]
[null,"GAS_BASE_Q-3-26","Q"]
[null,"GAS_BASE_Q-4-26","Q"]
[null,"GAS_BASE_S-W-25","S"]
[null,"GAS_BASE_S-S-26","S"]
[null,"GAS_BASE_S-W-26","S"]
[null,"GAS_BASE_S-S-27","S"]
[null,"GAS_BASE_Y-26","Y"]
[null,"GAS_BASE_Y-27","Y"]
[null,"GAS_BASE_Y-28","Y"]
[null,"GAS_BASE_Y-29","Y"]

{"sheet":"Arkusz2","index":3,"n_rows":36,"n_cols":6,"rows_kept":36,"cut":false,"hidden":true,"merged":[]}
["2025-09-20","2025-09-20",null,null,null,"liczba koszyków"]
["2025-09-21","2025-09-21",null,null,null,{"$f":"COUNTA(A:A)","v":36}]
["2025-09-22","2025-09-22"]
["2025-09-23","2025-09-23"]
["2025-09-24","2025-09-24"]
["2025-09-25","2025-09-25"]
["2025-09-26","2025-09-26"]
["2025-09-27","2025-09-27"]
["2025-09-28","2025-09-28"]
["2025-09-29","2025-09-29"]
["2025-09-30","2025-09-30"]
["2025-10-01","2025-10-01"]
["2025-10-02","2025-10-02"]
["2025-10-03","2025-10-03"]
["2025-10-04","2025-10-04"]
["2025-10-05","2025-10-05"]
["2025-10-06","2025-10-12"]
["2025-10-13","2025-10-19"]
["2025-10-20","2025-10-31"]
["2025-11-01","2025-11-30"]
["2025-12-01","2025-12-31"]
["2026-01-01","2026-01-31"]
["2026-02-01","2026-02-28"]
["2026-03-01","2026-03-31"]
["2026-04-01","2026-04-30"]
["2026-05-01","2026-05-31"]
["2026-06-01","2026-06-30"]
["2026-07-01","2026-07-31"]
["2026-08-01","2026-08-31"]
["2026-09-01","2026-09-30"]
["2026-10-01","2026-12-31"]
["2027-01-01","2027-03-31"]
["2027-04-01","2027-09-30"]
["2027-10-01","2027-12-31"]
["2028-01-01","2028-12-31"]
["2029-01-01","2029-12-31"]

{"sheet":"krzywa","index":4,"n_rows":2208,"n_cols":14,"rows_kept":2208,"cut":false,"hidden":true,"merged":[]}
[null,"PEAK","BASE"]
["days to delivery ","initial margin","initial margin",null,null,null,null,null,null,null,null,"Data rozpoczęcia","Data zakończenia","VAT"]
[1,null,0.22700000000000001,null,null,null,null,null,null,null,null,"2022-01-01","2022-12-31",5]
[2,null,0.2253,null,null,null,null,null,null,null,null,"2023-01-01","2023-03-31",23]
[3,null,0.22359999999999999,null,null,null,null,null,null,null,null,"2023-04-01","2026-12-31",0]
[4,null,0.22189999999999999,null,null,null,null,null,null,null,null,"2027-01-01","2100-12-31",23]
[5,null,0.22020000000000001]
[6,null,0.2185]
[7,null,0.21679999999999999]
[8,null,0.21510000000000001]
[9,null,0.21340000000000001]
[10,null,0.2117]
[11,null,0.21]
[12,null,0.21]
[13,null,0.21]
[14,null,0.21]
[15,null,0.21]
[16,null,0.21]
[17,null,0.21]
[18,null,0.21]
[19,null,0.20979999999999999]
[20,null,0.20960000000000001]
[21,null,0.20930000000000001]
[22,null,0.20910000000000001]
[23,null,0.2089]
[24,null,0.2087]
[25,null,0.2084]
[26,null,0.2082]
[27,null,0.20799999999999999]
[28,null,0.20780000000000001]
[29,null,0.20749999999999999]
[30,null,0.20730000000000001]
[31,null,0.20710000000000001]
[32,null,0.20680000000000001]
[33,null,0.20660000000000001]
[34,null,0.2064]
[35,null,0.20619999999999999]
[36,null,0.20599999999999999]
[37,null,0.20569999999999999]
[38,null,0.20549999999999999]
[39,null,0.20530000000000001]
[40,null,0.20499999999999999]
[41,null,0.20480000000000001]
[42,null,0.2046]
[43,null,0.2044]
[44,null,0.20419999999999999]
[45,null,0.2039]
[46,null,0.20369999999999999]
[47,null,0.20349999999999999]
[48,null,0.20319999999999999]
[49,null,0.20300000000000001]
[50,null,0.20269999999999999]
[51,null,0.20250000000000001]
[52,null,0.20219999999999999]
[53,null,0.20200000000000001]
[54,null,0.20180000000000001]
[55,null,0.20150000000000001]
[56,null,0.20130000000000001]
[57,null,0.20100000000000001]
[58,null,0.20080000000000001]
[59,null,0.20050000000000001]
[60,null,0.20030000000000001]
[61,null,0.2001]
[62,null,0.19980000000000001]
[63,null,0.1996]
[64,null,0.1993]
[65,null,0.1991]
[66,null,0.1988]
[67,null,0.1986]
[68,null,0.1983]
[69,null,0.1981]
[70,null,0.19789999999999999]
[71,null,0.1976]
[72,null,0.19739999999999999]
[73,null,0.1971]
[74,null,0.19689999999999999]
[75,null,0.1966]
[76,null,0.19639999999999999]
[77,null,0.19570000000000001]
[78,null,0.1951]
[79,null,0.19439999999999999]
[80,null,0.1938]
[81,null,0.19309999999999999]
[82,null,0.19239999999999999]
[83,null,0.1918]
[84,null,0.19109999999999999]
[85,null,0.19040000000000001]
[86,null,0.1898]
[87,null,0.18909999999999999]
[88,null,0.1885]
[89,null,0.18779999999999999]
[90,null,0.18709999999999999]
[91,null,0.1865]
[92,null,0.18579999999999999]
[93,null,0.1852]
[94,null,0.1845]
[95,null,0.18379999999999999]
[96,null,0.1832]
[97,null,0.1825]
[98,null,0.18190000000000001]
[99,null,0.1812]
[100,null,0.18049999999999999]
[101,null,0.1799]
[102,null,0.1792]
[103,null,0.17849999999999999]
[104,null,0.1779]
[105,null,0.1772]
[106,null,0.17660000000000001]
[107,null,0.1759]
[108,null,0.17699999999999999]
[109,null,0.1782]
[110,null,0.17929999999999999]
[111,null,0.1804]
[112,null,0.18160000000000001]
[113,null,0.1827]
[114,null,0.18390000000000001]
[115,null,0.185]
[116,null,0.18609999999999999]
[117,null,0.18729999999999999]
[118,null,0.18840000000000001]
[119,null,0.1895]
[120,null,0.19070000000000001]
[121,null,0.1918]
[122,null,0.193]
[123,null,0.19409999999999999]
[124,null,0.19520000000000001]
[125,null,0.19639999999999999]
[126,null,0.19750000000000001]
[127,null,0.1986]
[128,null,0.19980000000000001]
[129,null,0.2009]
[130,null,0.20200000000000001]
[131,null,0.20319999999999999]
[132,null,0.20430000000000001]
[133,null,0.20549999999999999]
[134,null,0.20660000000000001]
[135,null,0.2077]
[136,null,0.2089]
[137,null,0.21]
[138,null,0.2097]
[139,null,0.20949999999999999]
[140,null,0.2092]
[141,null,0.20899999999999999]
[142,null,0.2087]
[143,null,0.20849999999999999]
[144,null,0.2082]
[145,null,0.20799999999999999]
[146,null,0.2077]
[147,null,0.20749999999999999]
[148,null,0.2072]
[149,null,0.20699999999999999]
[150,null,0.20669999999999999]
[151,null,0.20649999999999999]
[152,null,0.20619999999999999]
[153,null,0.20599999999999999]
[154,null,0.20569999999999999]
[155,null,0.20549999999999999]
[156,null,0.20519999999999999]
[157,null,0.20499999999999999]
[158,null,0.20469999999999999]
[159,null,0.20449999999999999]
[160,null,0.20419999999999999]
[161,null,0.2039]
[162,null,0.20369999999999999]
[163,null,0.2034]
[164,null,0.20319999999999999]
[165,null,0.2029]
[166,null,0.20269999999999999]
[167,null,0.2024]
[168,null,0.20219999999999999]
[169,null,0.2019]
[170,null,0.20169999999999999]
[171,null,0.2014]
[172,null,0.20119999999999999]
[173,null,0.2009]
[174,null,0.20069999999999999]
[175,null,0.20039999999999999]
[176,null,0.20019999999999999]
[177,null,0.19989999999999999]
[178,null,0.19969999999999999]
[179,null,0.19939999999999999]
[180,null,0.19919999999999999]
[181,null,0.19889999999999999]
[182,null,0.19869999999999999]
[183,null,0.19839999999999999]
[184,null,0.1981]
[185,null,0.19789999999999999]
[186,null,0.1976]
[187,null,0.19739999999999999]
[188,null,0.1971]
[189,null,0.19689999999999999]
[190,null,0.1966]
[191,null,0.19639999999999999]
[192,null,0.1961]
[193,null,0.19589999999999999]
[194,null,0.1956]
[195,null,0.19539999999999999]
[196,null,0.1951]
[197,null,0.19489999999999999]
[198,null,0.1946]
[199,null,0.19439999999999999]
[200,null,0.19409999999999999]
[201,null,0.19389999999999999]
[202,null,0.19359999999999999]
[203,null,0.19339999999999999]
[204,null,0.19309999999999999]
[205,null,0.19289999999999999]
[206,null,0.19259999999999999]
[207,null,0.1923]
[208,null,0.19209999999999999]
[209,null,0.1918]
[210,null,0.19159999999999999]
[211,null,0.1913]
[212,null,0.19109999999999999]
[213,null,0.1908]
[214,null,0.19059999999999999]
[215,null,0.1903]
[216,null,0.19009999999999999]
[217,null,0.1898]
[218,null,0.18959999999999999]
[219,null,0.1893]
[220,null,0.18909999999999999]
[221,null,0.1888]
[222,null,0.18859999999999999]
[223,null,0.1883]
[224,null,0.18809999999999999]
[225,null,0.18779999999999999]
[226,null,0.18759999999999999]
[227,null,0.18729999999999999]
[228,null,0.18709999999999999]
[229,null,0.18679999999999999]
[230,null,0.18609999999999999]
[231,null,0.1855]
[232,null,0.18479999999999999]
[233,null,0.1842]
[234,null,0.1835]
[235,null,0.18279999999999999]
[236,null,0.1822]
[237,null,0.18149999999999999]
[238,null,0.18090000000000001]
[239,null,0.1802]
[240,null,0.17949999999999999]
[241,null,0.1789]
[242,null,0.1782]
[243,null,0.17760000000000001]
[244,null,0.1769]
[245,null,0.1762]
[246,null,0.17560000000000001]
[247,null,0.1749]
[248,null,0.17430000000000001]
[249,null,0.1736]
[250,null,0.1729]
[251,null,0.17230000000000001]
[252,null,0.1716]
[253,null,0.17100000000000001]
[254,null,0.17030000000000001]
[255,null,0.1696]
[256,null,0.16900000000000001]
[257,null,0.16830000000000001]
[258,null,0.16769999999999999]
[259,null,0.16700000000000001]
[260,null,0.1663]
[261,null,0.16569999999999999]
[262,null,0.16500000000000001]
[263,null,0.16439999999999999]
[264,null,0.16370000000000001]
[265,null,0.16300000000000001]
[266,null,0.16239999999999999]
[267,null,0.16170000000000001]
[268,null,0.16109999999999999]
[269,null,0.16039999999999999]
[270,null,0.15970000000000001]
[271,null,0.15909999999999999]
[272,null,0.15840000000000001]
[273,null,0.1578]
[274,null,0.15709999999999999]
[275,null,0.1573]
[276,null,0.1575]
[277,null,0.15770000000000001]
[278,null,0.15790000000000001]
[279,null,0.15809999999999999]
[280,null,0.1583]
[281,null,0.1585]
[282,null,0.15870000000000001]
[283,null,0.15890000000000001]
[284,null,0.15909999999999999]
[285,null,0.1593]
[286,null,0.1595]
[287,null,0.15970000000000001]
[288,null,0.15989999999999999]
[289,null,0.16009999999999999]
[290,null,0.1603]
[291,null,0.1605]
[292,null,0.16070000000000001]
[293,null,0.16089999999999999]
[294,null,0.16109999999999999]
[295,null,0.1613]
[296,null,0.1615]
[297,null,0.16170000000000001]
[298,null,0.1618]
[299,null,0.16200000000000001]
[300,null,0.16220000000000001]
[301,null,0.16239999999999999]
[302,null,0.16259999999999999]
[303,null,0.1628]
[304,null,0.16300000000000001]
[305,null,0.16320000000000001]
[306,null,0.16339999999999999]
[307,null,0.1636]
[308,null,0.1638]
[309,null,0.16400000000000001]
[310,null,0.16420000000000001]
[311,null,0.16439999999999999]
[312,null,0.1646]
[313,null,0.1648]
[314,null,0.16500000000000001]
[315,null,0.16520000000000001]
[316,null,0.16539999999999999]
[317,null,0.1656]
[318,null,0.1658]
[319,null,0.16600000000000001]
[320,null,0.16619999999999999]
[321,null,0.16639999999999999]
[322,null,0.1666]
[323,null,0.1668]
[324,null,0.16700000000000001]
[325,null,0.16719999999999999]
[326,null,0.1673]
[327,null,0.16750000000000001]
[328,null,0.16769999999999999]
[329,null,0.16789999999999999]
[330,null,0.1681]
[331,null,0.16830000000000001]
[332,null,0.16850000000000001]
[333,null,0.16869999999999999]
[334,null,0.16889999999999999]
[335,null,0.1691]
[336,null,0.16930000000000001]
[337,null,0.16950000000000001]
[338,null,0.1696]
[339,null,0.16980000000000001]
[340,null,0.17]
[341,null,0.17019999999999999]
[342,null,0.1704]
[343,null,0.1706]
[344,null,0.17080000000000001]
[345,null,0.17100000000000001]
[346,null,0.17119999999999999]
[347,null,0.1714]
[348,null,0.1716]
[349,null,0.17169999999999999]
[350,null,0.1719]
[351,null,0.1721]
[352,null,0.17230000000000001]
[353,null,0.17249999999999999]
[354,null,0.17269999999999999]
[355,null,0.1729]
[356,null,0.1731]
[357,null,0.17330000000000001]
[358,null,0.17349999999999999]
[359,null,0.17369999999999999]
[360,null,0.1739]
[361,null,0.17399999999999999]
[362,null,0.17419999999999999]
[363,null,0.1744]
[364,null,0.17460000000000001]
[365,null,0.17480000000000001]
[366,null,0.17499999999999999]
[367,null,0.17519999999999999]
[368,null,0.1754]
[369,null,0.17560000000000001]
[370,null,0.17580000000000001]
[371,null,0.17599999999999999]
[372,null,0.17610000000000001]
[373,null,0.17630000000000001]
[374,null,0.17649999999999999]
[375,null,0.1767]
[376,null,0.1769]
[377,null,0.17710000000000001]
[378,null,0.17730000000000001]
[379,null,0.17749999999999999]
[380,null,0.1777]
[381,null,0.1779]
[382,null,0.17810000000000001]
[383,null,0.17829999999999999]
[384,null,0.1784]
[385,null,0.17860000000000001]
[386,null,0.17879999999999999]
[387,null,0.17899999999999999]
[388,null,0.1792]
[389,null,0.1794]
[390,null,0.17960000000000001]
[391,null,0.17979999999999999]
[392,null,0.18]
[393,null,0.1802]
[394,null,0.1804]
[395,null,0.18049999999999999]
[396,null,0.1807]
[397,null,0.18090000000000001]
[398,null,0.18110000000000001]
[399,null,0.18129999999999999]
[400,null,0.18149999999999999]
[401,null,0.1817]
[402,null,0.18190000000000001]
[403,null,0.18210000000000001]
[404,null,0.18229999999999999]
[405,null,0.1825]
[406,null,0.1827]
[407,null,0.18279999999999999]
[408,null,0.183]
[409,null,0.1832]
[410,null,0.18340000000000001]
[411,null,0.18360000000000001]
[412,null,0.18379999999999999]
[413,null,0.1835]
[414,null,0.18329999999999999]
[415,null,0.183]
[416,null,0.18279999999999999]
[417,null,0.1825]
[418,null,0.1822]
[419,null,0.182]
[420,null,0.1817]
[421,null,0.18140000000000001]
[422,null,0.1812]
[423,null,0.18090000000000001]
[424,null,0.1807]
[425,null,0.1804]
[426,null,0.18010000000000001]
[427,null,0.1799]
[428,null,0.17960000000000001]
[429,null,0.1794]
[430,null,0.17910000000000001]
[431,null,0.17879999999999999]
[432,null,0.17860000000000001]
[433,null,0.17829999999999999]
[434,null,0.17799999999999999]
[435,null,0.17780000000000001]
[436,null,0.17749999999999999]
[437,null,0.17730000000000001]
[438,null,0.17699999999999999]
[439,null,0.1767]
[440,null,0.17649999999999999]
[441,null,0.1762]
[442,null,0.17599999999999999]
[443,null,0.1757]
[444,null,0.1754]
[445,null,0.17519999999999999]
[446,null,0.1749]
[447,null,0.17469999999999999]
[448,null,0.1744]
[449,null,0.1741]
[450,null,0.1739]
[451,null,0.1736]
[452,null,0.17330000000000001]
[453,null,0.1731]
[454,null,0.17280000000000001]
[455,null,0.1726]
[456,null,0.17230000000000001]
[457,null,0.17199999999999999]
[458,null,0.17169999999999999]
[459,null,0.17150000000000001]
[460,null,0.17119999999999999]
[461,null,0.1709]
[462,null,0.1706]
[463,null,0.17030000000000001]
[464,null,0.1701]
[465,null,0.16980000000000001]
[466,null,0.16950000000000001]
[467,null,0.16919999999999999]
[468,null,0.16889999999999999]
[469,null,0.16869999999999999]
[470,null,0.16839999999999999]
[471,null,0.1681]
[472,null,0.1678]
[473,null,0.16750000000000001]
[474,null,0.1673]
[475,null,0.16700000000000001]
[476,null,0.16669999999999999]
[477,null,0.16639999999999999]
[478,null,0.1661]
[479,null,0.16589999999999999]
[480,null,0.1656]
[481,null,0.1653]
[482,null,0.16500000000000001]
[483,null,0.16470000000000001]
[484,null,0.16439999999999999]
[485,null,0.16420000000000001]
[486,null,0.16389999999999999]
[487,null,0.1636]
[488,null,0.1633]
[489,null,0.16300000000000001]
[490,null,0.1628]
[491,null,0.16250000000000001]
[492,null,0.16220000000000001]
[493,null,0.16189999999999999]
[494,null,0.16159999999999999]
[495,null,0.16139999999999999]
[496,null,0.16109999999999999]
[497,null,0.1608]
[498,null,0.1605]
[499,null,0.16020000000000001]
[500,null,0.16]
[501,null,0.15970000000000001]
[502,null,0.15939999999999999]
[503,null,0.15909999999999999]
[504,null,0.1588]
[505,null,0.15859999999999999]
[506,null,0.1583]
[507,null,0.158]
[508,null,0.15770000000000001]
[509,null,0.15740000000000001]
[510,null,0.15720000000000001]
[511,null,0.15690000000000001]
[512,null,0.15659999999999999]
[513,null,0.15629999999999999]
[514,null,0.156]
[515,null,0.15579999999999999]
[516,null,0.1555]
[517,null,0.1552]
[518,null,0.15490000000000001]
[519,null,0.15459999999999999]
[520,null,0.15440000000000001]
[521,null,0.15409999999999999]
[522,null,0.15379999999999999]
[523,null,0.1535]
[524,null,0.1532]
[525,null,0.153]
[526,null,0.1527]
[527,null,0.15240000000000001]
[528,null,0.15210000000000001]
[529,null,0.15179999999999999]
[530,null,0.1515]
[531,null,0.15129999999999999]
[532,null,0.151]
[533,null,0.1507]
[534,null,0.15040000000000001]
[535,null,0.15010000000000001]
[536,null,0.14990000000000001]
[537,null,0.14960000000000001]
[538,null,0.14929999999999999]
[539,null,0.14899999999999999]
[540,null,0.1487]
[541,null,0.14849999999999999]
[542,null,0.1482]
[543,null,0.1479]
[544,null,0.14760000000000001]
[545,null,0.14729999999999999]
[546,null,0.14710000000000001]
[547,null,0.14680000000000001]
[548,null,0.14649999999999999]
[549,null,0.1464]
[550,null,0.1462]
[551,null,0.14610000000000001]
[552,null,0.14599999999999999]
[553,null,0.14580000000000001]
[554,null,0.1457]
[555,null,0.14560000000000001]
[556,null,0.1454]
[557,null,0.14530000000000001]
[558,null,0.14510000000000001]
[559,null,0.14499999999999999]
[560,null,0.1449]
[561,null,0.1447]
[562,null,0.14460000000000001]
[563,null,0.14449999999999999]
[564,null,0.14430000000000001]
[565,null,0.14419999999999999]
[566,null,0.14410000000000001]
[567,null,0.1439]
[568,null,0.14380000000000001]
[569,null,0.14369999999999999]
[570,null,0.14349999999999999]
[571,null,0.1434]
[572,null,0.14330000000000001]
[573,null,0.1431]
[574,null,0.14299999999999999]
[575,null,0.1429]
[576,null,0.14269999999999999]
[577,null,0.1426]
[578,null,0.1424]
[579,null,0.14230000000000001]
[580,null,0.14219999999999999]
[581,null,0.14199999999999999]
[582,null,0.1419]
[583,null,0.14180000000000001]
[584,null,0.1416]
[585,null,0.14149999999999999]
[586,null,0.1414]
[587,null,0.14119999999999999]
[588,null,0.1411]
[589,null,0.14099999999999999]
[590,null,0.14080000000000001]
[591,null,0.14069999999999999]
[592,null,0.1406]
[593,null,0.1404]
[594,null,0.14030000000000001]
[595,null,0.1401]
[596,null,0.14000000000000001]
[597,null,0.1399]
[598,null,0.13969999999999999]
[599,null,0.1396]
[600,null,0.13950000000000001]
[601,null,0.13930000000000001]
[602,null,0.13919999999999999]
[603,null,0.1391]
[604,null,0.1389]
[605,null,0.13880000000000001]
[606,null,0.13869999999999999]
[607,null,0.13850000000000001]
[608,null,0.1384]
[609,null,0.13830000000000001]
[610,null,0.1381]
[611,null,0.13800000000000001]
[612,null,0.13780000000000001]
[613,null,0.13769999999999999]
[614,null,0.1376]
[615,null,0.13739999999999999]
[616,null,0.13730000000000001]
[617,null,0.13719999999999999]
[618,null,0.13700000000000001]
[619,null,0.13689999999999999]
[620,null,0.1368]
[621,null,0.1366]
[622,null,0.13650000000000001]
[623,null,0.13639999999999999]
[624,null,0.13619999999999999]
[625,null,0.1361]
[626,null,0.13600000000000001]
[627,null,0.1358]
[628,null,0.13569999999999999]
[629,null,0.1356]
[630,null,0.13539999999999999]
[631,null,0.1353]
[632,null,0.1351]
[633,null,0.13500000000000001]
[634,null,0.13489999999999999]
[635,null,0.13469999999999999]
[636,null,0.1346]
[637,null,0.13450000000000001]
[638,null,0.1343]
[639,null,0.13420000000000001]
[640,null,0.1341]
[641,null,0.13400000000000001]
[642,null,0.13389999999999999]
[643,null,0.13389999999999999]
[644,null,0.1338]
[645,null,0.13370000000000001]
[646,null,0.1336]
[647,null,0.13350000000000001]
[648,null,0.13339999999999999]
[649,null,0.1333]
[650,null,0.13320000000000001]
[651,null,0.13320000000000001]
[652,null,0.1331]
[653,null,0.13300000000000001]
[654,null,0.13289999999999999]
[655,null,0.1328]
[656,null,0.13270000000000001]
[657,null,0.1326]
[658,null,0.1326]
[659,null,0.13250000000000001]
[660,null,0.13239999999999999]
[661,null,0.1323]
[662,null,0.13220000000000001]
[663,null,0.1321]
[664,null,0.13200000000000001]
[665,null,0.13200000000000001]
[666,null,0.13189999999999999]
[667,null,0.1318]
[668,null,0.13170000000000001]
[669,null,0.13159999999999999]
[670,null,0.13150000000000001]
[671,null,0.13139999999999999]
[672,null,0.1313]
[673,null,0.1313]
[674,null,0.13120000000000001]
[675,null,0.13109999999999999]
[676,null,0.13100000000000001]
[677,null,0.13089999999999999]
[678,null,0.1308]
[679,null,0.13070000000000001]
[680,null,0.13070000000000001]
[681,null,0.13059999999999999]
[682,null,0.1305]
[683,null,0.13039999999999999]
[684,null,0.1303]
[685,null,0.13020000000000001]
[686,null,0.13009999999999999]
[687,null,0.13]
[688,null,0.13]
[689,null,0.12989999999999999]
[690,null,0.1298]
[691,null,0.12970000000000001]
[692,null,0.12959999999999999]
[693,null,0.1295]
[694,null,0.12939999999999999]
[695,null,0.12939999999999999]
[696,null,0.1293]
[697,null,0.12920000000000001]
[698,null,0.12909999999999999]
[699,null,0.129]
[700,null,0.12889999999999999]
[701,null,0.1288]
[702,null,0.1288]
[703,null,0.12870000000000001]
[704,null,0.12859999999999999]
[705,null,0.1285]
[706,null,0.12839999999999999]
[707,null,0.1283]
[708,null,0.12820000000000001]
[709,null,0.12809999999999999]
[710,null,0.12809999999999999]
[711,null,0.128]
[712,null,0.12790000000000001]
[713,null,0.1278]
[714,null,0.12770000000000001]
[715,null,0.12759999999999999]
[716,null,0.1275]
[717,null,0.1275]
[718,null,0.12740000000000001]
[719,null,0.1273]
[720,null,0.12720000000000001]
[721,null,0.12709999999999999]
[722,null,0.127]
[723,null,0.12690000000000001]
[724,null,0.1268]
[725,null,0.1268]
[726,null,0.12670000000000001]
[727,null,0.12659999999999999]
[728,null,0.1265]
[729,null,0.12640000000000001]
[730,null,0.1263]
[731,null,0.12620000000000001]
[732,null,0.12620000000000001]
[733,null,0.12609999999999999]
[734,null,0.126]
[735,null,0.12590000000000001]
[736,null,0.1258]
[737,null,0.12570000000000001]
[738,null,0.12559999999999999]
[739,null,0.12559999999999999]
[740,null,0.1255]
[741,null,0.12540000000000001]
[742,null,0.12529999999999999]
[743,null,0.12520000000000001]
[744,null,0.12509999999999999]
[745,null,0.125]
[746,null,0.1249]
[747,null,0.1249]
[748,null,0.12479999999999999]
[749,null,0.12470000000000001]
[750,null,0.1246]
[751,null,0.1245]
[752,null,0.1244]
[753,null,0.12429999999999999]
[754,null,0.12429999999999999]
[755,null,0.1242]
[756,null,0.1241]
[757,null,0.124]
[758,null,0.1239]
[759,null,0.12379999999999999]
[760,null,0.1237]
[761,null,0.1236]
[762,null,0.1236]
[763,null,0.1235]
[764,null,0.1234]
[765,null,0.12330000000000001]
[766,null,0.1232]
[767,null,0.1231]
[768,null,0.123]
[769,null,0.123]
[770,null,0.1229]
[771,null,0.12280000000000001]
[772,null,0.1227]
[773,null,0.1226]
[774,null,0.1225]
[775,null,0.12239999999999999]
[776,null,0.12239999999999999]
[777,null,0.12230000000000001]
[778,null,0.1222]
[779,null,0.1221]
[780,null,0.122]
[781,null,0.12189999999999999]
[782,null,0.12180000000000001]
[783,null,0.1217]
[784,null,0.1217]
[785,null,0.1216]
[786,null,0.1215]
[787,null,0.12139999999999999]
[788,null,0.12130000000000001]
[789,null,0.1212]
[790,null,0.1211]
[791,null,0.1211]
[792,null,0.121]
[793,null,0.12089999999999999]
[794,null,0.1208]
[795,null,0.1207]
[796,null,0.1206]
[797,null,0.1205]
[798,null,0.12039999999999999]
[799,null,0.12039999999999999]
[800,null,0.1203]
[801,null,0.1202]
[802,null,0.1201]
[803,null,0.12]
[804,null,0.11990000000000001]
[805,null,0.1198]
[806,null,0.1198]
[807,null,0.1197]
[808,null,0.1196]
[809,null,0.1195]
[810,null,0.11940000000000001]
[811,null,0.1193]
[812,null,0.1192]
[813,null,0.1191]
[814,null,0.1191]
[815,null,0.11899999999999999]
[816,null,0.11890000000000001]
[817,null,0.1188]
[818,null,0.1187]
[819,null,0.1186]
[820,null,0.11849999999999999]
[821,null,0.11849999999999999]
[822,null,0.11840000000000001]
[823,null,0.1183]
[824,null,0.1182]
[825,null,0.1181]
[826,null,0.11799999999999999]
[827,null,0.1179]
[828,null,0.1179]
[829,null,0.1178]
[830,null,0.1177]
[831,null,0.1176]
[832,null,0.11749999999999999]
[833,null,0.1174]
[834,null,0.1173]
[835,null,0.1172]
[836,null,0.1172]
[837,null,0.1171]
[838,null,0.11700000000000001]
[839,null,0.1169]
[840,null,0.1168]
[841,null,0.1167]
[842,null,0.1166]
[843,null,0.1166]
[844,null,0.11650000000000001]
[845,null,0.1164]
[846,null,0.1163]
[847,null,0.1162]
[848,null,0.11609999999999999]
[849,null,0.11600000000000001]
[850,null,0.1159]
[851,null,0.1159]
[852,null,0.1158]
[853,null,0.1157]
[854,null,0.11559999999999999]
[855,null,0.11550000000000001]
[856,null,0.1154]
[857,null,0.1153]
[858,null,0.1153]
[859,null,0.1152]
[860,null,0.11509999999999999]
[861,null,0.115]
[862,null,0.1149]
[863,null,0.1148]
[864,null,0.1147]
[865,null,0.1147]
[866,null,0.11459999999999999]
[867,null,0.1145]
[868,null,0.1144]
[869,null,0.1143]
[870,null,0.1142]
[871,null,0.11409999999999999]
[872,null,0.114]
[873,null,0.114]
[874,null,0.1139]
[875,null,0.1138]
[876,null,0.1137]
[877,null,0.11360000000000001]
[878,null,0.1135]
[879,null,0.1134]
[880,null,0.1134]
[881,null,0.1133]
[882,null,0.1132]
[883,null,0.11310000000000001]
[884,null,0.113]
[885,null,0.1129]
[886,null,0.1128]
[887,null,0.11269999999999999]
[888,null,0.11269999999999999]
[889,null,0.11260000000000001]
[890,null,0.1125]
[891,null,0.1124]
[892,null,0.1123]
[893,null,0.11219999999999999]
[894,null,0.11210000000000001]
[895,null,0.11210000000000001]
[896,null,0.112]
[897,null,0.1119]
[898,null,0.1118]
[899,null,0.11169999999999999]
[900,null,0.1116]
[901,null,0.1115]
[902,null,0.1115]
[903,null,0.1114]
[904,null,0.1113]
[905,null,0.11119999999999999]
[906,null,0.1111]
[907,null,0.111]
[908,null,0.1109]
[909,null,0.1108]
[910,null,0.1108]
[911,null,0.11070000000000001]
[912,null,0.1106]
[913,null,0.1105]
[914,null,0.1105]
[915,null,0.1105]
[916,null,0.1105]
[917,null,0.1105]
[918,null,0.1105]
[919,null,0.1105]
[920,null,0.1105]
[921,null,0.1105]
[922,null,0.1105]
[923,null,0.1105]
[924,null,0.1105]
[925,null,0.1105]
[926,null,0.1105]
[927,null,0.1105]
[928,null,0.1105]
[929,null,0.1105]
[930,null,0.1105]
[931,null,0.1105]
[932,null,0.1105]
[933,null,0.1105]
[934,null,0.1105]
[935,null,0.1105]
[936,null,0.1105]
[937,null,0.1105]
[938,null,0.1105]
[939,null,0.1105]
[940,null,0.1105]
[941,null,0.1105]
[942,null,0.1105]
[943,null,0.1105]
[944,null,0.1105]
[945,null,0.1105]
[946,null,0.1105]
[947,null,0.1105]
[948,null,0.1105]
[949,null,0.1105]
[950,null,0.1105]
[951,null,0.1105]
[952,null,0.1105]
[953,null,0.1105]
[954,null,0.1105]
[955,null,0.1105]
[956,null,0.1105]
[957,null,0.1105]
[958,null,0.1105]
[959,null,0.1105]
[960,null,0.1105]
[961,null,0.1105]
[962,null,0.1105]
[963,null,0.1105]
[964,null,0.1105]
[965,null,0.1105]
[966,null,0.1105]
[967,null,0.1105]
[968,null,0.1105]
[969,null,0.1105]
[970,null,0.1105]
[971,null,0.1105]
[972,null,0.1105]
[973,null,0.1105]
[974,null,0.1105]
[975,null,0.1105]
[976,null,0.1105]
[977,null,0.1105]
[978,null,0.1105]
[979,null,0.1105]
[980,null,0.1105]
[981,null,0.1105]
[982,null,0.1105]
[983,null,0.1105]
[984,null,0.1105]
[985,null,0.1105]
[986,null,0.1105]
[987,null,0.1105]
[988,null,0.1105]
[989,null,0.1105]
[990,null,0.1105]
[991,null,0.1105]
[992,null,0.1105]
[993,null,0.1105]
[994,null,0.1105]
[995,null,0.1105]
[996,null,0.1105]
[997,null,0.1105]
[998,null,0.1105]
[999,null,0.1105]
[1000,null,0.1105]
[1001,null,0.1105]
[1002,null,0.1105]
[1003,null,0.1105]
[1004,null,0.1105]
[1005,null,0.1105]
[1006,null,0.1105]
[1007,null,0.1105]
[1008,null,0.1105]
[1009,null,0.1105]
[1010,null,0.1105]
[1011,null,0.1105]
[1012,null,0.1105]
[1013,null,0.1105]
[1014,null,0.1105]
[1015,null,0.1105]
[1016,null,0.1105]
[1017,null,0.1105]
[1018,null,0.1105]
[1019,null,0.1105]
[1020,null,0.1105]
[1021,null,0.1105]
[1022,null,0.1105]
[1023,null,0.1105]
[1024,null,0.1105]
[1025,null,0.1105]
[1026,null,0.1105]
[1027,null,0.1105]
[1028,null,0.1105]
[1029,null,0.1105]
[1030,null,0.1105]
[1031,null,0.1105]
[1032,null,0.1105]
[1033,null,0.1105]
[1034,null,0.1105]
[1035,null,0.1105]
[1036,null,0.1105]
[1037,null,0.1105]
[1038,null,0.1105]
[1039,null,0.1105]
[1040,null,0.1105]
[1041,null,0.1105]
[1042,null,0.1105]
[1043,null,0.1105]
[1044,null,0.1105]
[1045,null,0.1105]
[1046,null,0.1105]
[1047,null,0.1105]
[1048,null,0.1105]
[1049,null,0.1105]
[1050,null,0.1105]
[1051,null,0.1105]
[1052,null,0.1105]
[1053,null,0.1105]
[1054,null,0.1105]
[1055,null,0.1105]
[1056,null,0.1105]
[1057,null,0.1105]
[1058,null,0.1105]
[1059,null,0.1105]
[1060,null,0.1105]
[1061,null,0.1105]
[1062,null,0.1105]
[1063,null,0.1105]
[1064,null,0.1105]
[1065,null,0.1105]
[1066,null,0.1105]
[1067,null,0.1105]
[1068,null,0.1105]
[1069,null,0.1105]
[1070,null,0.1105]
[1071,null,0.1105]
[1072,null,0.1105]
[1073,null,0.1105]
[1074,null,0.1105]
[1075,null,0.1105]
[1076,null,0.1105]
[1077,null,0.1105]
[1078,null,0.1105]
[1079,null,0.1105]
[1080,null,0.1105]
[1081,null,0.1105]
[1082,null,0.1105]
[1083,null,0.1105]
[1084,null,0.1105]
[1085,null,0.1105]
[1086,null,0.1105]
[1087,null,0.1105]
[1088,null,0.1105]
[1089,null,0.1105]
[1090,null,0.1105]
[1091,null,0.1105]
[1092,null,0.1105]
[1093,null,0.1105]
[1094,null,0.1105]
[1095,null,0.1105]
[1096,null,0.1105]
[1097,null,0.1105]
[1098,null,0.1105]
[1099,null,0.1105]
[1100,null,0.1105]
[1101,null,0.1105]
[1102,null,0.1105]
[1103,null,0.1105]
[1104,null,0.1105]
[1105,null,0.1105]
[1106,null,0.1105]
[1107,null,0.1105]
[1108,null,0.1105]
[1109,null,0.1105]
[1110,null,0.1105]
[1111,null,0.1105]
[1112,null,0.1105]
[1113,null,0.1105]
[1114,null,0.1105]
[1115,null,0.1105]
[1116,null,0.1105]
[1117,null,0.1105]
[1118,null,0.1105]
[1119,null,0.1105]
[1120,null,0.1105]
[1121,null,0.1105]
[1122,null,0.1105]
[1123,null,0.1105]
[1124,null,0.1105]
[1125,null,0.1105]
[1126,null,0.1105]
[1127,null,0.1105]
[1128,null,0.1105]
[1129,null,0.1105]
[1130,null,0.1105]
[1131,null,0.1105]
[1132,null,0.1105]
[1133,null,0.1105]
[1134,null,0.1105]
[1135,null,0.1105]
[1136,null,0.1105]
[1137,null,0.1105]
[1138,null,0.1105]
[1139,null,0.1105]
[1140,null,0.1105]
[1141,null,0.1105]
[1142,null,0.1105]
[1143,null,0.1105]
[1144,null,0.1105]
[1145,null,0.1105]
[1146,null,0.1105]
[1147,null,0.1105]
[1148,null,0.1105]
[1149,null,0.1105]
[1150,null,0.1105]
[1151,null,0.1105]
[1152,null,0.1105]
[1153,null,0.1105]
[1154,null,0.1105]
[1155,null,0.1105]
[1156,null,0.1105]
[1157,null,0.1105]
[1158,null,0.1105]
[1159,null,0.1105]
[1160,null,0.1105]
[1161,null,0.1105]
[1162,null,0.1105]
[1163,null,0.1105]
[1164,null,0.1105]
[1165,null,0.1105]
[1166,null,0.1105]
[1167,null,0.1105]
[1168,null,0.1105]
[1169,null,0.1105]
[1170,null,0.1105]
[1171,null,0.1105]
[1172,null,0.1105]
[1173,null,0.1105]
[1174,null,0.1105]
[1175,null,0.1105]
[1176,null,0.1105]
[1177,null,0.1105]
[1178,null,0.1105]
[1179,null,0.1105]
[1180,null,0.1105]
[1181,null,0.1105]
[1182,null,0.1105]
[1183,null,0.1105]
[1184,null,0.1105]
[1185,null,0.1105]
[1186,null,0.1105]
[1187,null,0.1105]
[1188,null,0.1105]
[1189,null,0.1105]
[1190,null,0.1105]
[1191,null,0.1105]
[1192,null,0.1105]
[1193,null,0.1105]
[1194,null,0.1105]
[1195,null,0.1105]
[1196,null,0.1105]
[1197,null,0.1105]
[1198,null,0.1105]
[1199,null,0.1105]
[1200,null,0.1105]
[1201,null,0.1105]
[1202,null,0.1105]
[1203,null,0.1105]
[1204,null,0.1105]
[1205,null,0.1105]
[1206,null,0.1105]
[1207,null,0.1105]
[1208,null,0.1105]
[1209,null,0.1105]
[1210,null,0.1105]
[1211,null,0.1105]
[1212,null,0.1105]
[1213,null,0.1105]
[1214,null,0.1105]
[1215,null,0.1105]
[1216,null,0.1105]
[1217,null,0.1105]
[1218,null,0.1105]
[1219,null,0.1105]
[1220,null,0.1105]
[1221,null,0.1105]
[1222,null,0.1105]
[1223,null,0.1105]
[1224,null,0.1105]
[1225,null,0.1105]
[1226,null,0.1105]
[1227,null,0.1105]
[1228,null,0.1105]
[1229,null,0.1105]
[1230,null,0.1105]
[1231,null,0.1105]
[1232,null,0.1105]
[1233,null,0.1105]
[1234,null,0.1105]
[1235,null,0.1105]
[1236,null,0.1105]
[1237,null,0.1105]
[1238,null,0.1105]
[1239,null,0.1105]
[1240,null,0.1105]
[1241,null,0.1105]
[1242,null,0.1105]
[1243,null,0.1105]
[1244,null,0.1105]
[1245,null,0.1105]
[1246,null,0.1105]
[1247,null,0.1105]
[1248,null,0.1105]
[1249,null,0.1105]
[1250,null,0.1105]
[1251,null,0.1105]
[1252,null,0.1105]
[1253,null,0.1105]
[1254,null,0.1105]
[1255,null,0.1105]
[1256,null,0.1105]
[1257,null,0.1105]
[1258,null,0.1105]
[1259,null,0.1105]
[1260,null,0.1105]
[1261,null,0.1105]
[1262,null,0.1105]
[1263,null,0.1105]
[1264,null,0.1105]
[1265,null,0.1105]
[1266,null,0.1105]
[1267,null,0.1105]
[1268,null,0.1105]
[1269,null,0.1105]
[1270,null,0.1105]
[1271,null,0.1105]
[1272,null,0.1105]
[1273,null,0.1105]
[1274,null,0.1105]
[1275,null,0.1105]
[1276,null,0.1105]
[1277,null,0.1105]
[1278,null,0.1105]
[1279,null,0.1105]
[1280,null,0.1105]
[1281,null,0.1105]
[1282,null,0.1105]
[1283,null,0.1105]
[1284,null,0.1105]
[1285,null,0.1105]
[1286,null,0.1105]
[1287,null,0.1105]
[1288,null,0.1105]
[1289,null,0.1105]
[1290,null,0.1105]
[1291,null,0.1105]
[1292,null,0.1105]
[1293,null,0.1105]
[1294,null,0.1105]
[1295,null,0.1105]
[1296,null,0.1105]
[1297,null,0.1105]
[1298,null,0.1105]
[1299,null,0.1105]
[1300,null,0.1105]
[1301,null,0.1105]
[1302,null,0.1105]
[1303,null,0.1105]
[1304,null,0.1105]
[1305,null,0.1105]
[1306,null,0.1105]
[1307,null,0.1105]
[1308,null,0.1105]
[1309,null,0.1105]
[1310,null,0.1105]
[1311,null,0.1105]
[1312,null,0.1105]
[1313,null,0.1105]
[1314,null,0.1105]
[1315,null,0.1105]
[1316,null,0.1105]
[1317,null,0.1105]
[1318,null,0.1105]
[1319,null,0.1105]
[1320,null,0.1105]
[1321,null,0.1105]
[1322,null,0.1105]
[1323,null,0.1105]
[1324,null,0.1105]
[1325,null,0.1105]
[1326,null,0.1105]
[1327,null,0.1105]
[1328,null,0.1105]
[1329,null,0.1105]
[1330,null,0.1105]
[1331,null,0.1105]
[1332,null,0.1105]
[1333,null,0.1105]
[1334,null,0.1105]
[1335,null,0.1105]
[1336,null,0.1105]
[1337,null,0.1105]
[1338,null,0.1105]
[1339,null,0.1105]
[1340,null,0.1105]
[1341,null,0.1105]
[1342,null,0.1105]
[1343,null,0.1105]
[1344,null,0.1105]
[1345,null,0.1105]
[1346,null,0.1105]
[1347,null,0.1105]
[1348,null,0.1105]
[1349,null,0.1105]
[1350,null,0.1105]
[1351,null,0.1105]
[1352,null,0.1105]
[1353,null,0.1105]
[1354,null,0.1105]
[1355,null,0.1105]
[1356,null,0.1105]
[1357,null,0.1105]
[1358,null,0.1105]
[1359,null,0.1105]
[1360,null,0.1105]
[1361,null,0.1105]
[1362,null,0.1105]
[1363,null,0.1105]
[1364,null,0.1105]
[1365,null,0.1105]
[1366,null,0.1105]
[1367,null,0.1105]
[1368,null,0.1105]
[1369,null,0.1105]
[1370,null,0.1105]
[1371,null,0.1105]
[1372,null,0.1105]
[1373,null,0.1105]
[1374,null,0.1105]
[1375,null,0.1105]
[1376,null,0.1105]
[1377,null,0.1105]
[1378,null,0.1105]
[1379,null,0.1105]
[1380,null,0.1105]
[1381,null,0.1105]
[1382,null,0.1105]
[1383,null,0.1105]
[1384,null,0.1105]
[1385,null,0.1105]
[1386,null,0.1105]
[1387,null,0.1105]
[1388,null,0.1105]
[1389,null,0.1105]
[1390,null,0.1105]
[1391,null,0.1105]
[1392,null,0.1105]
[1393,null,0.1105]
[1394,null,0.1105]
[1395,null,0.1105]
[1396,null,0.1105]
[1397,null,0.1105]
[1398,null,0.1105]
[1399,null,0.1105]
[1400,null,0.1105]
[1401,null,0.1105]
[1402,null,0.1105]
[1403,null,0.1105]
[1404,null,0.1105]
[1405,null,0.1105]
[1406,null,0.1105]
[1407,null,0.1105]
[1408,null,0.1105]
[1409,null,0.1105]
[1410,null,0.1105]
[1411,null,0.1105]
[1412,null,0.1105]
[1413,null,0.1105]
[1414,null,0.1105]
[1415,null,0.1105]
[1416,null,0.1105]
[1417,null,0.1105]
[1418,null,0.1105]
[1419,null,0.1105]
[1420,null,0.1105]
[1421,null,0.1105]
[1422,null,0.1105]
[1423,null,0.1105]
[1424,null,0.1105]
[1425,null,0.1105]
[1426,null,0.1105]
[1427,null,0.1105]
[1428,null,0.1105]
[1429,null,0.1105]
[1430,null,0.1105]
[1431,null,0.1105]
[1432,null,0.1105]
[1433,null,0.1105]
[1434,null,0.1105]
[1435,null,0.1105]
[1436,null,0.1105]
[1437,null,0.1105]
[1438,null,0.1105]
[1439,null,0.1105]
[1440,null,0.1105]
[1441,null,0.1105]
[1442,null,0.1105]
[1443,null,0.1105]
[1444,null,0.1105]
[1445,null,0.1105]
[1446,null,0.1105]
[1447,null,0.1105]
[1448,null,0.1105]
[1449,null,0.1105]
[1450,null,0.1105]
[1451,null,0.1105]
[1452,null,0.1105]
[1453,null,0.1105]
[1454,null,0.1105]
[1455,null,0.1105]
[1456,null,0.1105]
[1457,null,0.1105]
[1458,null,0.1105]
[1459,null,0.1105]
[1460,null,0.1105]
[1461,null,0.1105]
[1462,null,0.1105]
[1463,null,0.1105]
[1464,null,0.1105]
[1465,null,0.1105]
[1466,null,0.1105]
[1467,null,0.1105]
[1468,null,0.1105]
[1469,null,0.1105]
[1470,null,0.1105]
[1471,null,0.1105]
[1472,null,0.1105]
[1473,null,0.1105]
[1474,null,0.1105]
[1475,null,0.1105]
[1476,null,0.1105]
[1477,null,0.1105]
[1478,null,0.1105]
[1479,null,0.1105]
[1480,null,0.1105]
[1481,null,0.1105]
[1482,null,0.1105]
[1483,null,0.1105]
[1484,null,0.1105]
[1485,null,0.1105]
[1486,null,0.1105]
[1487,null,0.1105]
[1488,null,0.1105]
[1489,null,0.1105]
[1490,null,0.1105]
[1491,null,0.1105]
[1492,null,0.1105]
[1493,null,0.1105]
[1494,null,0.1105]
[1495,null,0.1105]
[1496,null,0.1105]
[1497,null,0.1105]
[1498,null,0.1105]
[1499,null,0.1105]
[1500,null,0.1105]
[1501,null,0.1105]
[1502,null,0.1105]
[1503,null,0.1105]
[1504,null,0.1105]
[1505,null,0.1105]
[1506,null,0.1105]
[1507,null,0.1105]
[1508,null,0.1105]
[1509,null,0.1105]
[1510,null,0.1105]
[1511,null,0.1105]
[1512,null,0.1105]
[1513,null,0.1105]
[1514,null,0.1105]
[1515,null,0.1105]
[1516,null,0.1105]
[1517,null,0.1105]
[1518,null,0.1105]
[1519,null,0.1105]
[1520,null,0.1105]
[1521,null,0.1105]
[1522,null,0.1105]
[1523,null,0.1105]
[1524,null,0.1105]
[1525,null,0.1105]
[1526,null,0.1105]
[1527,null,0.1105]
[1528,null,0.1105]
[1529,null,0.1105]
[1530,null,0.1105]
[1531,null,0.1105]
[1532,null,0.1105]
[1533,null,0.1105]
[1534,null,0.1105]
[1535,null,0.1105]
[1536,null,0.1105]
[1537,null,0.1105]
[1538,null,0.1105]
[1539,null,0.1105]
[1540,null,0.1105]
[1541,null,0.1105]
[1542,null,0.1105]
[1543,null,0.1105]
[1544,null,0.1105]
[1545,null,0.1105]
[1546,null,0.1105]
[1547,null,0.1105]
[1548,null,0.1105]
[1549,null,0.1105]
[1550,null,0.1105]
[1551,null,0.1105]
[1552,null,0.1105]
[1553,null,0.1105]
[1554,null,0.1105]
[1555,null,0.1105]
[1556,null,0.1105]
[1557,null,0.1105]
[1558,null,0.1105]
[1559,null,0.1105]
[1560,null,0.1105]
[1561,null,0.1105]
[1562,null,0.1105]
[1563,null,0.1105]
[1564,null,0.1105]
[1565,null,0.1105]
[1566,null,0.1105]
[1567,null,0.1105]
[1568,null,0.1105]
[1569,null,0.1105]
[1570,null,0.1105]
[1571,null,0.1105]
[1572,null,0.1105]
[1573,null,0.1105]
[1574,null,0.1105]
[1575,null,0.1105]
[1576,null,0.1105]
[1577,null,0.1105]
[1578,null,0.1105]
[1579,null,0.1105]
[1580,null,0.1105]
[1581,null,0.1105]
[1582,null,0.1105]
[1583,null,0.1105]
[1584,null,0.1105]
[1585,null,0.1105]
[1586,null,0.1105]
[1587,null,0.1105]
[1588,null,0.1105]
[1589,null,0.1105]
[1590,null,0.1105]
[1591,null,0.1105]
[1592,null,0.1105]
[1593,null,0.1105]
[1594,null,0.1105]
[1595,null,0.1105]
[1596,null,0.1105]
[1597,null,0.1105]
[1598,null,0.1105]
[1599,null,0.1105]
[1600,null,0.1105]
[1601,null,0.1105]
[1602,null,0.1105]
[1603,null,0.1105]
[1604,null,0.1105]
[1605,null,0.1105]
[1606,null,0.1105]
[1607,null,0.1105]
[1608,null,0.1105]
[1609,null,0.1105]
[1610,null,0.1105]
[1611,null,0.1105]
[1612,null,0.1105]
[1613,null,0.1105]
[1614,null,0.1105]
[1615,null,0.1105]
[1616,null,0.1105]
[1617,null,0.1105]
[1618,null,0.1105]
[1619,null,0.1105]
[1620,null,0.1105]
[1621,null,0.1105]
[1622,null,0.1105]
[1623,null,0.1105]
[1624,null,0.1105]
[1625,null,0.1105]
[1626,null,0.1105]
[1627,null,0.1105]
[1628,null,0.1105]
[1629,null,0.1105]
[1630,null,0.1105]
[1631,null,0.1105]
[1632,null,0.1105]
[1633,null,0.1105]
[1634,null,0.1105]
[1635,null,0.1105]
[1636,null,0.1105]
[1637,null,0.1105]
[1638,null,0.1105]
[1639,null,0.1105]
[1640,null,0.1105]
[1641,null,0.1105]
[1642,null,0.1105]
[1643,null,0.1105]
[1644,null,0.1105]
[1645,null,0.1105]
[1646,null,0.1105]
[1647,null,0.1105]
[1648,null,0.1105]
[1649,null,0.1105]
[1650,null,0.1105]
[1651,null,0.1105]
[1652,null,0.1105]
[1653,null,0.1105]
[1654,null,0.1105]
[1655,null,0.1105]
[1656,null,0.1105]
[1657,null,0.1105]
[1658,null,0.1105]
[1659,null,0.1105]
[1660,null,0.1105]
[1661,null,0.1105]
[1662,null,0.1105]
[1663,null,0.1105]
[1664,null,0.1105]
[1665,null,0.1105]
[1666,null,0.1105]
[1667,null,0.1105]
[1668,null,0.1105]
[1669,null,0.1105]
[1670,null,0.1105]
[1671,null,0.1105]
[1672,null,0.1105]
[1673,null,0.1105]
[1674,null,0.1105]
[1675,null,0.1105]
[1676,null,0.1105]
[1677,null,0.1105]
[1678,null,0.1105]
[1679,null,0.1105]
[1680,null,0.1105]
[1681,null,0.1105]
[1682,null,0.1105]
[1683,null,0.1105]
[1684,null,0.1105]
[1685,null,0.1105]
[1686,null,0.1105]
[1687,null,0.1105]
[1688,null,0.1105]
[1689,null,0.1105]
[1690,null,0.1105]
[1691,null,0.1105]
[1692,null,0.1105]
[1693,null,0.1105]
[1694,null,0.1105]
[1695,null,0.1105]
[1696,null,0.1105]
[1697,null,0.1105]
[1698,null,0.1105]
[1699,null,0.1105]
[1700,null,0.1105]
[1701,null,0.1105]
[1702,null,0.1105]
[1703,null,0.1105]
[1704,null,0.1105]
[1705,null,0.1105]
[1706,null,0.1105]
[1707,null,0.1105]
[1708,null,0.1105]
[1709,null,0.1105]
[1710,null,0.1105]
[1711,null,0.1105]
[1712,null,0.1105]
[1713,null,0.1105]
[1714,null,0.1105]
[1715,null,0.1105]
[1716,null,0.1105]
[1717,null,0.1105]
[1718,null,0.1105]
[1719,null,0.1105]
[1720,null,0.1105]
[1721,null,0.1105]
[1722,null,0.1105]
[1723,null,0.1105]
[1724,null,0.1105]
[1725,null,0.1105]
[1726,null,0.1105]
[1727,null,0.1105]
[1728,null,0.1105]
[1729,null,0.1105]
[1730,null,0.1105]
[1731,null,0.1105]
[1732,null,0.1105]
[1733,null,0.1105]
[1734,null,0.1105]
[1735,null,0.1105]
[1736,null,0.1105]
[1737,null,0.1105]
[1738,null,0.1105]
[1739,null,0.1105]
[1740,null,0.1105]
[1741,null,0.1105]
[1742,null,0.1105]
[1743,null,0.1105]
[1744,null,0.1105]
[1745,null,0.1105]
[1746,null,0.1105]
[1747,null,0.1105]
[1748,null,0.1105]
[1749,null,0.1105]
[1750,null,0.1105]
[1751,null,0.1105]
[1752,null,0.1105]
[1753,null,0.1105]
[1754,null,0.1105]
[1755,null,0.1105]
[1756,null,0.1105]
[1757,null,0.1105]
[1758,null,0.1105]
[1759,null,0.1105]
[1760,null,0.1105]
[1761,null,0.1105]
[1762,null,0.1105]
[1763,null,0.1105]
[1764,null,0.1105]
[1765,null,0.1105]
[1766,null,0.1105]
[1767,null,0.1105]
[1768,null,0.1105]
[1769,null,0.1105]
[1770,null,0.1105]
[1771,null,0.1105]
[1772,null,0.1105]
[1773,null,0.1105]
[1774,null,0.1105]
[1775,null,0.1105]
[1776,null,0.1105]
[1777,null,0.1105]
[1778,null,0.1105]
[1779,null,0.1105]
[1780,null,0.1105]
[1781,null,0.1105]
[1782,null,0.1105]
[1783,null,0.1105]
[1784,null,0.1105]
[1785,null,0.1105]
[1786,null,0.1105]
[1787,null,0.1105]
[1788,null,0.1105]
[1789,null,0.1105]
[1790,null,0.1105]
[1791,null,0.1105]
[1792,null,0.1105]
[1793,null,0.1105]
[1794,null,0.1105]
[1795,null,0.1105]
[1796,null,0.1105]
[1797,null,0.1105]
[1798,null,0.1105]
[1799,null,0.1105]
[1800,null,0.1105]
[1801,null,0.1105]
[1802,null,0.1105]
[1803,null,0.1105]
[1804,null,0.1105]
[1805,null,0.1105]
[1806,null,0.1105]
[1807,null,0.1105]
[1808,null,0.1105]
[1809,null,0.1105]
[1810,null,0.1105]
[1811,null,0.1105]
[1812,null,0.1105]
[1813,null,0.1105]
[1814,null,0.1105]
[1815,null,0.1105]
[1816,null,0.1105]
[1817,null,0.1105]
[1818,null,0.1105]
[1819,null,0.1105]
[1820,null,0.1105]
[1821,null,0.1105]
[1822,null,0.1105]
[1823,null,0.1105]
[1824,null,0.1105]
[1825,null,0.1105]
[1826,null,0.1105]
[1827,null,0.1105]
[1828,null,0.1105]
[1829,null,0.1105]
[1830,null,0.1105]
[1831,null,0.1105]
[1832,null,0.1105]
[1833,null,0.1105]
[1834,null,0.1105]
[1835,null,0.1105]
[1836,null,0.1105]
[1837,null,0.1105]
[1838,null,0.1105]
[1839,null,0.1105]
[1840,null,0.1105]
[1841,null,0.1105]
[1842,null,0.1105]
[1843,null,0.1105]
[1844,null,0.1105]
[1845,null,0.1105]
[1846,null,0.1105]
[1847,null,0.1105]
[1848,null,0.1105]
[1849,null,0.1105]
[1850,null,0.1105]
[1851,null,0.1105]
[1852,null,0.1105]
[1853,null,0.1105]
[1854,null,0.1105]
[1855,null,0.1105]
[1856,null,0.1105]
[1857,null,0.1105]
[1858,null,0.1105]
[1859,null,0.1105]
[1860,null,0.1105]
[1861,null,0.1105]
[1862,null,0.1105]
[1863,null,0.1105]
[1864,null,0.1105]
[1865,null,0.1105]
[1866,null,0.1105]
[1867,null,0.1105]
[1868,null,0.1105]
[1869,null,0.1105]
[1870,null,0.1105]
[1871,null,0.1105]
[1872,null,0.1105]
[1873,null,0.1105]
[1874,null,0.1105]
[1875,null,0.1105]
[1876,null,0.1105]
[1877,null,0.1105]
[1878,null,0.1105]
[1879,null,0.1105]
[1880,null,0.1105]
[1881,null,0.1105]
[1882,null,0.1105]
[1883,null,0.1105]
[1884,null,0.1105]
[1885,null,0.1105]
[1886,null,0.1105]
[1887,null,0.1105]
[1888,null,0.1105]
[1889,null,0.1105]
[1890,null,0.1105]
[1891,null,0.1105]
[1892,null,0.1105]
[1893,null,0.1105]
[1894,null,0.1105]
[1895,null,0.1105]
[1896,null,0.1105]
[1897,null,0.1105]
[1898,null,0.1105]
[1899,null,0.1105]
[1900,null,0.1105]
[1901,null,0.1105]
[1902,null,0.1105]
[1903,null,0.1105]
[1904,null,0.1105]
[1905,null,0.1105]
[1906,null,0.1105]
[1907,null,0.1105]
[1908,null,0.1105]
[1909,null,0.1105]
[1910,null,0.1105]
[1911,null,0.1105]
[1912,null,0.1105]
[1913,null,0.1105]
[1914,null,0.1105]
[1915,null,0.1105]
[1916,null,0.1105]
[1917,null,0.1105]
[1918,null,0.1105]
[1919,null,0.1105]
[1920,null,0.1105]
[1921,null,0.1105]
[1922,null,0.1105]
[1923,null,0.1105]
[1924,null,0.1105]
[1925,null,0.1105]
[1926,null,0.1105]
[1927,null,0.1105]
[1928,null,0.1105]
[1929,null,0.1105]
[1930,null,0.1105]
[1931,null,0.1105]
[1932,null,0.1105]
[1933,null,0.1105]
[1934,null,0.1105]
[1935,null,0.1105]
[1936,null,0.1105]
[1937,null,0.1105]
[1938,null,0.1105]
[1939,null,0.1105]
[1940,null,0.1105]
[1941,null,0.1105]
[1942,null,0.1105]
[1943,null,0.1105]
[1944,null,0.1105]
[1945,null,0.1105]
[1946,null,0.1105]
[1947,null,0.1105]
[1948,null,0.1105]
[1949,null,0.1105]
[1950,null,0.1105]
[1951,null,0.1105]
[1952,null,0.1105]
[1953,null,0.1105]
[1954,null,0.1105]
[1955,null,0.1105]
[1956,null,0.1105]
[1957,null,0.1105]
[1958,null,0.1105]
[1959,null,0.1105]
[1960,null,0.1105]
[1961,null,0.1105]
[1962,null,0.1105]
[1963,null,0.1105]
[1964,null,0.1105]
[1965,null,0.1105]
[1966,null,0.1105]
[1967,null,0.1105]
[1968,null,0.1105]
[1969,null,0.1105]
[1970,null,0.1105]
[1971,null,0.1105]
[1972,null,0.1105]
[1973,null,0.1105]
[1974,null,0.1105]
[1975,null,0.1105]
[1976,null,0.1105]
[1977,null,0.1105]
[1978,null,0.1105]
[1979,null,0.1105]
[1980,null,0.1105]
[1981,null,0.1105]
[1982,null,0.1105]
[1983,null,0.1105]
[1984,null,0.1105]
[1985,null,0.1105]
[1986,null,0.1105]
[1987,null,0.1105]
[1988,null,0.1105]
[1989,null,0.1105]
[1990,null,0.1105]
[1991,null,0.1105]
[1992,null,0.1105]
[1993,null,0.1105]
[1994,null,0.1105]
[1995,null,0.1105]
[1996,null,0.1105]
[1997,null,0.1105]
[1998,null,0.1105]
[1999,null,0.1105]
[2000,null,0.1105]
[2001,null,0.1105]
[2002,null,0.1105]
[2003,null,0.1105]
[2004,null,0.1105]
[2005,null,0.1105]
[2006,null,0.1105]
[2007,null,0.1105]
[2008,null,0.1105]
[2009,null,0.1105]
[2010,null,0.1105]
[2011,null,0.1105]
[2012,null,0.1105]
[2013,null,0.1105]
[2014,null,0.1105]
[2015,null,0.1105]
[2016,null,0.1105]
[2017,null,0.1105]
[2018,null,0.1105]
[2019,null,0.1105]
[2020,null,0.1105]
[2021,null,0.1105]
[2022,null,0.1105]
[2023,null,0.1105]
[2024,null,0.1105]
[2025,null,0.1105]
[2026,null,0.1105]
[2027,null,0.1105]
[2028,null,0.1105]
[2029,null,0.1105]
[2030,null,0.1105]
[2031,null,0.1105]
[2032,null,0.1105]
[2033,null,0.1105]
[2034,null,0.1105]
[2035,null,0.1105]
[2036,null,0.1105]
[2037,null,0.1105]
[2038,null,0.1105]
[2039,null,0.1105]
[2040,null,0.1105]
[2041,null,0.1105]
[2042,null,0.1105]
[2043,null,0.1105]
[2044,null,0.1105]
[2045,null,0.1105]
[2046,null,0.1105]
[2047,null,0.1105]
[2048,null,0.1105]
[2049,null,0.1105]
[2050,null,0.1105]
[2051,null,0.1105]
[2052,null,0.1105]
[2053,null,0.1105]
[2054,null,0.1105]
[2055,null,0.1105]
[2056,null,0.1105]
[2057,null,0.1105]
[2058,null,0.1105]
[2059,null,0.1105]
[2060,null,0.1105]
[2061,null,0.1105]
[2062,null,0.1105]
[2063,null,0.1105]
[2064,null,0.1105]
[2065,null,0.1105]
[2066,null,0.1105]
[2067,null,0.1105]
[2068,null,0.1105]
[2069,null,0.1105]
[2070,null,0.1105]
[2071,null,0.1105]
[2072,null,0.1105]
[2073,null,0.1105]
[2074,null,0.1105]
[2075,null,0.1105]
[2076,null,0.1105]
[2077,null,0.1105]
[2078,null,0.1105]
[2079,null,0.1105]
[2080,null,0.1105]
[2081,null,0.1105]
[2082,null,0.1105]
[2083,null,0.1105]
[2084,null,0.1105]
[2085,null,0.1105]
[2086,null,0.1105]
[2087,null,0.1105]
[2088,null,0.1105]
[2089,null,0.1105]
[2090,null,0.1105]
[2091,null,0.1105]
[2092,null,0.1105]
[2093,null,0.1105]
[2094,null,0.1105]
[2095,null,0.1105]
[2096,null,0.1105]
[2097,null,0.1105]
[2098,null,0.1105]
[2099,null,0.1105]
[2100,null,0.1105]
[2101,null,0.1105]
[2102,null,0.1105]
[2103,null,0.1105]
[2104,null,0.1105]
[2105,null,0.1105]
[2106,null,0.1105]
[2107,null,0.1105]
[2108,null,0.1105]
[2109,null,0.1105]
[2110,null,0.1105]
[2111,null,0.1105]
[2112,null,0.1105]
[2113,null,0.1105]
[2114,null,0.1105]
[2115,null,0.1105]
[2116,null,0.1105]
[2117,null,0.1105]
[2118,null,0.1105]
[2119,null,0.1105]
[2120,null,0.1105]
[2121,null,0.1105]
[2122,null,0.1105]
[2123,null,0.1105]
[2124,null,0.1105]
[2125,null,0.1105]
[2126,null,0.1105]
[2127,null,0.1105]
[2128,null,0.1105]
[2129,null,0.1105]
[2130,null,0.1105]
[2131,null,0.1105]
[2132,null,0.1105]
[2133,null,0.1105]
[2134,null,0.1105]
[2135,null,0.1105]
[2136,null,0.1105]
[2137,null,0.1105]
[2138,null,0.1105]
[2139,null,0.1105]
[2140,null,0.1105]
[2141,null,0.1105]
[2142,null,0.1105]
[2143,null,0.1105]
[2144,null,0.1105]
[2145,null,0.1105]
[2146,null,0.1105]
[2147,null,0.1105]
[2148,null,0.1105]
[2149,null,0.1105]
[2150,null,0.1105]
[2151,null,0.1105]
[2152,null,0.1105]
[2153,null,0.1105]
[2154,null,0.1105]
[2155,null,0.1105]
[2156,null,0.1105]
[2157,null,0.1105]
[2158,null,0.1105]
[2159,null,0.1105]
[2160,null,0.1105]
[2161,null,0.1105]
[2162,null,0.1105]
[2163,null,0.1105]
[2164,null,0.1105]
[2165,null,0.1105]
[2166,null,0.1105]
[2167,null,0.1105]
[2168,null,0.1105]
[2169,null,0.1105]
[2170,null,0.1105]
[2171,null,0.1105]
[2172,null,0.1105]
[2173,null,0.1105]
[2174,null,0.1105]
[2175,null,0.1105]
[2176,null,0.1105]
[2177,null,0.1105]
[2178,null,0.1105]
[2179,null,0.1105]
[2180,null,0.1105]
[2181,null,0.1105]
[2182,null,0.1105]
[2183,null,0.1105]
[2184,null,0.1105]
[2185,null,0.1105]
[2186,null,0.1105]
[2187,null,0.1105]
[2188,null,0.1105]
[2189,null,0.1105]
[2190,null,0.1105]
[2191,null,0.1105]
[2192,null,0.1105]
[2193,null,0.1105]
[2194,null,0.1105]
[2195,null,0.1105]
[2196,null,0.1105]
[2197,null,0.1105]
[2198,null,0.1105]
[2199,null,0.1105]
[2200,null,0.1105]
[2201,null,0.1105]
[2202,null,0.1105]
[2203,null,0.1105]
[2204,null,0.1105]
[2205,null,0.1105]
[2206,null,0.1105]

{"sheet":"Instrukcja","index":5,"n_rows":27,"n_cols":2,"rows_kept":27,"cut":false,"hidden":true,"merged":[[10,1,10,13],[1,1,1,13],[3,1,4,13],[5,1,5,13],[7,1,7,13],[8,1,8,13],[11,1,12,13],[14,1,16,13],[17,1,18,13],[19,1,23,13],[26,1,26,13]]}
[]
[null,"Instrukcja obsługi kalkulatora depozytów dla portfeli dla Rynku Terminowego Produktów Gazowych"]
[]
[null,"Kalkulator depozytów służy do wyliczania depozytu wstępnego i uzupełniającego na Rynku Terminowym Produktów Gazowych dla dowolnych portfeli kontraktów."]
[]
[null,"Przed rozpoczęciem pracy z kalkulatorem należy upewnić się, że obsługa makr w MS Excel jest włączona."]
[]
[null,"W celu obliczenia depozytów należy:"]
[null,"1. Podać datę naliczenia depozytów zabezpieczających (w formacie rrrr-mm-dd)."]
[null,"2. Jeżeli depozyty mają być wyliczone dla Członka zagranicznego, zaznaczyć check-box Członek zagraniczny."]
[null,"3. Stworzyć zestawienie koszyków dostaw na rynku RTPG poprzez wciśnięcie przycisku \"Stwórz koszyki dostaw\"."]
[null,"4. Uzupełnić (ręcznie lub przy wykorzystaniu danych z PCCP) informacje dotyczące wolumenu kupna, wolumenu \n     sprzedaży, średnio ważonego kursu kupna i średnio ważonego kursu sprzedaży w arkuszu Transakcje_PCCP:"]
[]
[null,"     4.1. Uzupełnienie informacji przy użyciu aplikacji PCCP:"]
[null,"             a) Do arkusza Transkacje_PCCP należy wkleić pobrany z aplikacji PCCP raport dotyczący zawartych \n                  transakcji, dla których mają zostać oszacowane depozyty wstępne i uzupełniające (Trade History) w postaci rozdzielonej na \n                  kolumny. Następnie należy uruchomić procedurę wczytywania pliku przy użyciu przycisku \"Wczytaj transakcje z PCCP\"."]
[]
[]
[null,"             b) Następnie należy wcisnąć przycisk \"Uzupełnij tabelę transakcjami z PCCP\", co spowoduje uzupełnienie informacji dla aktualnie \n                  utworzonego zestawienia koszyków dostaw."]
[]
[null,"5. Podać kursy rozliczeniowe dla wszystkich utworzonych koszyków dostaw. Krok ten jest niezbędny w celu poprawnego naliczenia depozytu \n    wstępnego. Zasady wyznaczania kursów dla okresów dostawy opisane są w \"Szczegółowych zasadach rozliczeń i rozrachunku Giełdowej \n    Izby Rozrachunkowej\", dostępnych na stronie internetowej Izby.  \n    Wartości wyznaczonych przez Izbę kursów rozliczeniowych można znaleźć w aplikacji PCCP w raporcie Depozyty \n    wstępne (Initial Margin - Position Netting)."]
[]
[]
[]
[]
[null,"6. Wcisnąć przycisk \"Oblicz i zapisz depozyty\"."]
[]
[null,"Zgodnie z regulacjami IRGiT S.A., depozyt uzupełniający o wartości dodatniej jest kompensowany do wartości 0."]

{"sheet":"Manual","index":6,"n_rows":27,"n_cols":2,"rows_kept":27,"cut":false,"hidden":true,"merged":[[26,1,26,13],[1,1,1,13],[3,1,4,13],[5,1,5,13],[7,1,7,13],[8,1,8,13],[10,1,10,13],[11,1,12,13],[14,1,16,13],[17,1,18,13],[19,1,22,13],[23,1,23,13]]}
[]
[null,"Manual for portfolio margin calculator for RTPG"]
[]
[null,"The margin calculator is designed for calculation of the initial margin value and the variation margin value on the Commodity Exchange Markets for any contract portfolio."]
[]
[null,"Before starting work with margin calculator you should make sure that MS Excel macro handling has been enabled."]
[]
[null,"In order to calculate the margins you should:"]
[null,"1. Enter the date of reckoning the collateral margins (in yyyy-mm-dd format)."]
[null,"2. If margins shall be calculated for foreign entity, mark the check-box Foreign entity."]
[null,"3. Create statement of the delivery baskets for the Commodity Exchange Markets through pressing \"Create delivery baskets\" button."]
[null,"4. Complete the information regarding the purchase volume, the sale volume, the weighted average purchase price and the weighted average \n     sale price in the sheet \"X-Stream Transactions\" (manually or using the data from X-Stream Clearing Workstation):"]
[]
[null,"     4.1. Completing the information using PCCP application software:"]
[null,"             a) Paste the Trade History report (downloaded from the PCCP, regarding the transactions for which you \n                  would like to estimate the initial margins and the variation margins) into \"PCCP Transactions\" sheet as separated columns. Then \n                  start the file reading in procedure by pressing \"Load transactions from PCCP\" button."]
[]
[]
[null,"             b) Press \"Fill in the table with transactions from PCCP\", what will result in completing the information for the delivery baskets \n                  statement which has been currently established."]
[]
[null,"5. Enter the clearing prices for all of established delivery baskets. It is a necessary step to calculate initial margin properly. The rules for \n    determination of the prices for delivery periods have been described in \"Detailed Clearing and Settlement Rules of the Exchange \n    Clearing House\", available on the IRGiT's website. The value of IRGiT's clearing prices can be found in Initial Margin - Position Netting report\n    (downloaded from PCCP)."]
[]
[]
[]
[null,"6. Press \"Calculate and save margins\" button."]
[]
[]
[null,"Pursuant to IRGiT's regulations the positive value of variation margin is compensated to \"zero\" (0) value."]

{"sheet":"Kalkulator Depozytów","index":7,"n_rows":62,"n_cols":27,"rows_kept":62,"cut":false,"hidden":false,"merged":[[32,2,32,5],[2,1,6,6],[23,2,23,5],[3,11,4,11],[7,1,7,6]]}
[]
[null,null,null,null,null,null,null,null,null,null,null,null,null,null,null,null,null,null,null,null,null,null,null,null,null,null,1]
[null,"Kalkulator depozytów na RTTG",null,null,null,null,null,null,null,null,"GAS_BASE","Depozyt ogółem",null,null,null,null,null,null,null,null,null,null,null,null,null,"GAS_BASE",0.5]
[null,null,null,null,null,null,null,null,null,"Dep. Wstępny",0,0,null,null,null,null,null,null,null,null,null,null,null,null,null,null,0.27500000000000002]
[null,null,null,null,null,null,null,null,null,"Dep. Uzupełniający",0,null,null,"-"]
[]
[]
[]
[]
[null,null,null,null,null,"GAS_BASE",null,null,null,null,null,null,390,30670.049999999996,360,28285.049999999996]
[]
[null,null,"Podaj datę (rrrr-mm-dd):",null,null,null,null,null,null,"Typ kontraktu","Początek okresu","Koniec okresu","Wolumen kupna","ŚWKK","Wolumen sprzedaży","ŚWKS","Kurs Rozliczeniowy",null,"Dep. Wstępny","Dep. Uzupełniający"]
[null,null,"Członek zagraniczny:",null,null,null,null,null,null,null,null,null,null,null,null,null,null,null,null,null,null,null,null,1]
[null,null,null,null,null,null,null,null,null,null,null,null,null,null,null,null,null,null,null,null,null,null,null,2]
[null,null,null,null,null,null,null,null,null,null,null,null,null,null,null,null,null,null,null,null,null,null,null,3]
[null,null,null,null,null,null,null,null,null,null,null,null,null,null,null,null,null,null,null,null,null,null,null,4]
[null,null,null,null,null,null,null,null,null,null,null,null,null,null,null,null,null,null,null,null,null,null,null,5]
[null,null,null,null,null,null,null,null,null,null,null,null,null,null,null,null,null,null,null,null,null,null,null,6]
[null,null,null,null,null,null,null,null,null,null,null,null,null,null,null,null,null,null,null,null,null,null,null,7]
[null,null,null,null,null,null,null,null,null,null,null,null,null,null,null,null,null,null,null,null,null,null,null,8]
[null,null,null,null,null,null,null,null,null,null,null,null,null,null,null,null,null,null,null,null,null,null,null,9]
[null,null,null,null,null,null,null,null,null,null,null,null,null,null,null,null,null,null,null,null,null,null,null,10]
[null,null,null,"Aktualnie wczytany plik dla:",null,null,null,null,null,null,null,null,null,null,null,null,null,null,null,null,null,null,null,11]
[null,null,null,null,null,null,null,null,null,null,null,null,null,null,null,null,null,null,null,null,null,null,null,12]
[null,null,null,null,null,null,null,null,null,null,null,null,null,null,null,null,null,null,null,null,null,null,null,13]
[null,null,null,null,null,null,null,null,null,null,null,null,null,null,null,null,null,null,null,null,null,null,null,14]
[null,null,null,null,null,null,null,null,null,null,null,null,null,null,null,null,null,null,null,null,null,null,null,15]
[null,null,null,null,null,null,null,null,null,null,null,null,null,null,null,null,null,null,null,null,null,null,null,16]
[null,null,null,null,null,null,null,null,null,null,null,null,null,null,null,null,null,null,null,null,null,null,null,17]
[null,null,null,null,null,null,null,null,null,null,null,null,null,null,null,null,null,null,null,null,null,null,null,18]
[null,null,null,null,null,null,null,null,null,null,null,null,null,null,null,null,null,null,null,null,null,null,null,19]
[null,null,null,null,null,null,null,null,null,null,null,null,null,null,null,null,null,null,null,null,null,null,null,20]
[null,null,null,null,null,null,null,null,null,null,null,null,null,null,null,null,null,null,null,null,null,null,null,21]
[null,null,null,null,null,null,null,null,null,null,null,null,null,null,null,null,null,null,null,null,null,null,null,22]
[null,false,null,null,null,1,null,null,null,null,null,null,null,null,null,null,null,null,null,null,null,null,null,23]
[null,null,null,null,null,null,null,null,null,null,null,null,null,null,null,null,null,null,null,null,null,null,null,24]
[null,null,null,null,null,null,null,null,null,null,null,null,null,null,null,null,null,null,null,null,null,null,null,25]
[null,null,null,null,null,null,null,null,null,null,null,null,null,null,null,null,null,null,null,null,null,null,null,26]
[null,null,null,null,null,null,null,null,null,null,null,null,null,null,null,null,null,null,null,null,null,null,null,27]
[null,null,null,null,null,null,null,null,null,null,null,null,null,null,null,null,null,null,null,null,null,null,null,28]
[null,null,null,null,null,null,null,null,null,null,null,null,null,null,null,null,null,null,null,null,null,null,null,29]
[null,null,null,null,null,null,null,null,null,null,null,null,null,null,null,null,null,null,null,null,null,null,null,30]
[null,null,null,null,null,null,null,null,null,null,null,null,null,null,null,null,null,null,null,null,null,null,null,31]
[null,null,null,null,null,null,null,null,null,null,null,null,null,null,null,null,null,null,null,null,null,null,null,32]
[null,null,null,null,null,null,null,null,null,null,null,null,null,null,null,null,null,null,null,null,null,null,null,33]
[null,null,null,null,null,null,null,null,null,null,null,null,null,null,null,null,null,null,null,null,null,null,null,34]
[null,null,null,null,null,null,null,null,null,null,null,null,null,null,null,null,null,null,null,null,null,null,null,35]
[null,null,null,null,null,null,null,null,null,null,null,null,null,null,null,null,null,null,null,null,null,null,null,36]
[null,null,null,null,null,null,null,null,null,null,null,null,null,null,null,null,null,null,null,null,null,null,null,37]
[null,null,null,null,null,null,null,null,null,null,null,null,null,null,null,null,null,null,null,null,null,null,null,38]
[null,null,null,null,null,null,null,null,null,null,null,null,null,null,null,null,null,null,null,null,null,null,null,39]
[null,null,null,null,null,null,null,null,null,null,null,null,null,null,null,null,null,null,null,null,null,null,null,40]
[null,null,null,null,null,null,null,null,null,null,null,null,null,null,null,null,null,null,null,null,null,null,null,41]
[null,null,null,null,null,null,null,null,null,null,null,null,null,null,null,null,null,null,null,null,null,null,null,42]
[null,null,null,null,null,null,null,null,null,null,null,null,null,null,null,null,null,null,null,null,null,null,null,43]
[null,null,null,null,null,null,null,null,null,null,null,null,null,null,null,null,null,null,null,null,null,null,null,44]
[null,null,null,null,null,null,null,null,null,null,null,null,null,null,null,null,null,null,null,null,null,null,null,45]
[null,null,null,null,null,null,null,null,null,null,null,null,null,null,null,null,null,null,null,null,null,null,null,46]
[null,null,null,null,null,null,null,null,null,null,null,null,null,null,null,null,null,null,null,null,null,null,null,47]
[null,null,null,null,null,null,null,null,null,null,null,null,null,null,null,null,null,null,null,null,null,null,null,48]
[null,null,null,null,null,null,null,null,null,null,null,null,null,null,null,null,null,null,null,null,null,null,null,49]
[null,null,null,null,null,null,null,null,null,null,null,null,null,null,null,null,null,null,null,null,null,null,null,50]

{"sheet":"Transakcje_PCCP","index":8,"n_rows":0,"n_cols":0,"rows_kept":0,"cut":false,"hidden":false,"merged":[]}

{"sheet":"Tabela","index":9,"n_rows":1034,"n_cols":57,"rows_kept":1034,"cut":false,"hidden":true,"merged":[]}
[]
[]
[]
[]
[null,null,null,null,null,null,null,null,null,null,null,null,null,null,null,null,null,null,null,null,null,null,null,null,null,null,null,null,null,null,null,null,null,null,null,null,null,null,null,null,null,"42 kupno","43 sprzedaz","44 start",null,"46 roznica",null,"48 kurs kupna","49 kurs sprzedazy"]
[]
[]
[null,null,null,null,null,null,null,null,null,null,null,null,null,null,null,null,null,null,null,null,null,null,null,null,null,null,null,null,null,null,null,null,null,null,null,null,null,null,"cos1","cos2","cos3","cos4","cos5","cos6","cos7","cos8","cos9","cos10","cos11","cos12"]
[null,null,null,null,null,null,null,null,null,null,null,null,null,null,null,null,null,null,null,null,null,null,null,null,null,null,null,null,null,null,null,null,null,null,null,null,null,null,null,null,null,null,null,null,null,null,null,null,null,1,null,null,20131,1,2013,"2012-12-31","2013-01-06"]
[null,null,null,null,null,null,null,null,null,null,null,null,null,null,null,null,null,null,null,null,null,null,null,null,null,null,null,null,null,null,null,null,null,null,null,null,null,null,null,null,null,null,null,null,null,null,null,null,null,2,null,null,20132,2,2013,"2013-01-07","2013-01-13"]
[null,null,null,null,null,null,null,null,null,null,null,null,null,null,null,null,null,null,null,null,null,null,null,null,null,null,null,null,null,null,null,null,null,null,null,null,null,null,null,null,null,null,null,null,null,null,null,null,null,3,null,null,20133,3,2013,"2013-01-14","2013-01-20"]
[null,null,null,null,null,null,null,null,null,null,null,null,null,null,null,null,null,null,null,null,null,null,null,null,null,null,null,null,null,null,null,null,null,null,null,null,null,null,null,null,null,null,null,null,null,null,null,null,null,4,null,null,20134,4,2013,"2013-01-21","2013-01-27"]
[null,null,null,null,null,null,null,null,null,null,null,null,null,null,null,null,null,null,null,null,null,null,null,null,null,null,null,null,null,null,null,null,null,null,null,null,null,null,null,null,null,null,null,null,null,null,null,null,null,5,null,null,20135,5,2013,"2013-01-28","2013-02-03"]
[null,null,null,null,null,null,null,null,null,null,null,null,null,null,null,null,null,null,null,null,null,null,null,null,null,null,null,null,null,null,null,null,null,null,null,null,null,null,null,null,null,null,null,null,null,null,null,null,null,6,null,null,20136,6,2013,"2013-02-04","2013-02-10"]
[null,null,null,null,null,null,null,null,null,null,null,null,null,null,null,null,null,null,null,null,null,null,null,null,null,null,null,null,null,null,null,null,null,null,null,null,null,null,null,null,null,null,null,null,null,null,null,null,null,7,null,null,20137,7,2013,"2013-02-11","2013-02-17"]
[null,null,null,null,null,null,null,null,null,null,null,null,null,null,null,null,null,null,null,null,null,null,null,null,null,null,null,null,null,null,null,null,null,null,null,null,null,null,null,null,null,null,null,null,null,null,null,null,null,8,null,null,20138,8,2013,"2013-02-18","2013-02-24"]
[null,null,null,null,null,null,null,null,null,null,null,null,null,null,null,null,null,null,null,null,null,null,null,null,null,null,null,null,null,null,null,null,null,null,null,null,null,null,null,null,null,null,null,null,null,null,null,null,null,9,null,null,20139,9,2013,"2013-02-25","2013-03-03"]
[null,null,null,null,null,null,null,null,null,null,null,null,null,null,null,null,null,null,null,null,null,null,null,null,null,null,null,null,null,null,null,null,null,null,null,null,null,null,null,null,null,null,null,null,null,null,null,null,null,10,null,null,201310,10,2013,"2013-03-04","2013-03-10"]
[null,null,null,null,null,null,null,null,null,null,null,null,null,null,null,null,null,null,null,null,null,null,null,null,null,null,null,null,null,null,null,null,null,null,null,null,null,null,null,null,null,null,null,null,null,null,null,null,null,11,null,null,201311,11,2013,"2013-03-11","2013-03-17"]
[null,null,null,null,null,null,null,null,null,null,null,null,null,null,null,null,null,null,null,null,null,null,null,null,null,null,null,null,null,null,null,null,null,null,null,null,null,null,null,null,null,null,null,null,null,null,null,null,null,12,null,null,201312,12,2013,"2013-03-18","2013-03-24"]
[null,null,null,null,null,null,null,null,null,null,null,null,null,null,null,null,null,null,null,null,null,null,null,null,null,null,null,null,null,null,null,null,null,null,null,null,null,null,null,null,null,null,null,null,null,null,null,null,null,13,null,null,201313,13,2013,"2013-03-25","2013-03-31"]
[null,null,null,null,null,null,null,null,null,null,null,null,null,null,null,null,null,null,null,null,null,null,null,null,null,null,null,null,null,null,null,null,null,null,null,null,null,null,null,null,null,null,null,null,null,null,null,null,null,14,null,null,201314,14,2013,"2013-04-01","2013-04-07"]
[null,null,null,null,null,null,null,null,null,null,null,null,null,null,null,null,null,null,null,null,null,null,null,null,null,null,null,null,null,null,null,null,null,null,null,null,null,null,null,null,null,null,null,null,null,null,null,null,null,15,null,null,201315,15,2013,"2013-04-08","2013-04-14"]
[null,null,null,null,null,null,null,null,null,null,null,null,null,null,null,null,null,null,null,null,null,null,null,null,null,null,null,null,null,null,null,null,null,null,null,null,null,null,null,null,null,null,null,null,null,null,null,null,null,16,null,null,201316,16,2013,"2013-04-15","2013-04-21"]
[null,null,null,null,null,null,null,null,null,null,null,null,null,null,null,null,null,null,null,null,null,null,null,null,null,null,null,null,null,null,null,null,null,null,null,null,null,null,null,null,null,null,null,null,null,null,null,null,null,17,null,null,201317,17,2013,"2013-04-22","2013-04-28"]
[null,null,null,null,null,null,null,null,null,null,null,null,null,null,null,null,null,null,null,null,null,null,null,null,null,null,null,null,null,null,null,null,null,null,null,null,null,null,null,null,null,null,null,null,null,null,null,null,null,18,null,null,201318,18,2013,"2013-04-29","2013-05-05"]
[null,null,null,null,null,null,null,null,null,null,null,null,null,null,null,null,null,null,null,null,null,null,null,null,null,null,null,null,null,null,null,null,null,null,null,null,null,null,null,null,null,null,null,null,null,null,null,null,null,19,null,null,201319,19,2013,"2013-05-06","2013-05-12"]
[null,null,null,null,null,null,null,null,null,null,null,null,null,null,null,null,null,null,null,null,null,null,null,null,null,null,null,null,null,null,null,null,null,null,null,null,null,null,null,null,null,null,null,null,null,null,null,null,null,20,null,null,201320,20,2013,"2013-05-13","2013-05-19"]
[null,null,null,null,null,null,null,null,null,null,null,null,null,null,null,null,null,null,null,null,null,null,null,null,null,null,null,null,null,null,null,null,null,null,null,null,null,null,null,null,null,null,null,null,null,null,null,null,null,21,null,null,201321,21,2013,"2013-05-20","2013-05-26"]
[null,null,null,null,null,null,null,null,null,null,null,null,null,null,null,null,null,null,null,null,null,null,null,null,null,null,null,null,null,null,null,null,null,null,null,null,null,null,null,null,null,null,null,null,null,null,null,null,null,22,null,null,201322,22,2013,"2013-05-27","2013-06-02"]
[null,null,null,null,null,null,null,null,null,null,null,null,null,null,null,null,null,null,null,null,null,null,null,null,null,null,null,null,null,null,null,null,null,null,null,null,null,null,null,null,null,null,null,null,null,null,null,null,null,23,null,null,201323,23,2013,"2013-06-03","2013-06-09"]
[null,null,null,null,null,null,null,null,null,null,null,null,null,null,null,null,null,null,null,null,null,null,null,null,null,null,null,null,null,null,null,null,null,null,null,null,null,null,null,null,null,null,null,null,null,null,null,null,null,24,null,null,201324,24,2013,"2013-06-10","2013-06-16"]
[null,null,null,null,null,null,null,null,null,null,null,null,null,null,null,null,null,null,null,null,null,null,null,null,null,null,null,null,null,null,null,null,null,null,null,null,null,null,null,null,null,null,null,null,null,null,null,null,null,25,null,null,201325,25,2013,"2013-06-17","2013-06-23"]
[null,null,null,null,null,null,null,null,null,null,null,null,null,null,null,null,null,null,null,null,null,null,null,null,null,null,null,null,null,null,null,null,null,null,null,null,null,null,null,null,null,null,null,null,null,null,null,null,null,26,null,null,201326,26,2013,"2013-06-24","2013-06-30"]
[null,null,null,null,null,null,null,null,null,null,null,null,null,null,null,null,null,null,null,null,null,null,null,null,null,null,null,null,null,null,null,null,null,null,null,null,null,null,null,null,null,null,null,null,null,null,null,null,null,27,null,null,201327,27,2013,"2013-07-01","2013-07-07"]
[null,null,null,null,null,null,null,null,null,null,null,null,null,null,null,null,null,null,null,null,null,null,null,null,null,null,null,null,null,null,null,null,null,null,null,null,null,null,null,null,null,null,null,null,null,null,null,null,null,28,null,null,201328,28,2013,"2013-07-08","2013-07-14"]
[null,null,null,null,null,null,null,null,null,null,null,null,null,null,null,null,null,null,null,null,null,null,null,null,null,null,null,null,null,null,null,null,null,null,null,null,null,null,null,null,null,null,null,null,null,null,null,null,null,29,null,null,201329,29,2013,"2013-07-15","2013-07-21"]
[null,null,null,null,null,null,null,null,null,null,null,null,null,null,null,null,null,null,null,null,null,null,null,null,null,null,null,null,null,null,null,null,null,null,null,null,null,null,null,null,null,null,null,null,null,null,null,null,null,30,null,null,201330,30,2013,"2013-07-22","2013-07-28"]
[null,null,null,null,null,null,null,null,null,null,null,null,null,null,null,null,null,null,null,null,null,null,null,null,null,null,null,null,null,null,null,null,null,null,null,null,null,null,null,null,null,null,null,null,null,null,null,null,null,31,null,null,201331,31,2013,"2013-07-29","2013-08-04"]
[null,null,null,null,null,null,null,null,null,null,null,null,null,null,null,null,null,null,null,null,null,null,null,null,null,null,null,null,null,null,null,null,null,null,null,null,null,null,null,null,null,null,null,null,null,null,null,null,null,32,null,null,201332,32,2013,"2013-08-05","2013-08-11"]
[null,null,null,null,null,null,null,null,null,null,null,null,null,null,null,null,null,null,null,null,null,null,null,null,null,null,null,null,null,null,null,null,null,null,null,null,null,null,null,null,null,null,null,null,null,null,null,null,null,33,null,null,201333,33,2013,"2013-08-12","2013-08-18"]
[null,null,null,null,null,null,null,null,null,null,null,null,null,null,null,null,null,null,null,null,null,null,null,null,null,null,null,null,null,null,null,null,null,null,null,null,null,null,null,null,null,null,null,null,null,null,null,null,null,34,null,null,201334,34,2013,"2013-08-19","2013-08-25"]
[null,null,null,null,null,null,null,null,null,null,null,null,null,null,null,null,null,null,null,null,null,null,null,null,null,null,null,null,null,null,null,null,null,null,null,null,null,null,null,null,null,null,null,null,null,null,null,null,null,35,null,null,201335,35,2013,"2013-08-26","2013-09-01"]
[null,null,null,null,null,null,null,null,null,null,null,null,null,null,null,null,null,null,null,null,null,null,null,null,null,null,null,null,null,null,null,null,null,null,null,null,null,null,null,null,null,null,null,null,null,null,null,null,null,36,null,null,201336,36,2013,"2013-09-02","2013-09-08"]
[null,null,null,null,null,null,null,null,null,null,null,null,null,null,null,null,null,null,null,null,null,null,null,null,null,null,null,null,null,null,null,null,null,null,null,null,null,null,null,null,null,null,null,null,null,null,null,null,null,37,null,null,201337,37,2013,"2013-09-09","2013-09-15"]
[null,null,null,null,null,null,null,null,null,null,null,null,null,null,null,null,null,null,null,null,null,null,null,null,null,null,null,null,null,null,null,null,null,null,null,null,null,null,null,null,null,null,null,null,null,null,null,null,null,38,null,null,201338,38,2013,"2013-09-16","2013-09-22"]
[null,null,null,null,null,null,null,null,null,null,null,null,null,null,null,null,null,null,null,null,null,null,null,null,null,null,null,null,null,null,null,null,null,null,null,null,null,null,null,null,null,null,null,null,null,null,null,null,null,39,null,null,201339,39,2013,"2013-09-23","2013-09-29"]
[null,null,null,null,null,null,null,null,null,null,null,null,null,null,null,null,null,null,null,null,null,null,null,null,null,null,null,null,null,null,null,null,null,null,null,null,null,null,null,null,null,null,null,null,null,null,null,null,null,40,null,null,201340,40,2013,"2013-09-30","2013-10-06"]
[null,null,null,null,null,null,null,null,null,null,null,null,null,null,null,null,null,null,null,null,null,null,null,null,null,null,null,null,null,null,null,null,null,null,null,null,null,null,null,null,null,null,null,null,null,null,null,null,null,41,null,null,201341,41,2013,"2013-10-07","2013-10-13"]
[null,null,null,null,null,null,null,null,null,null,null,null,null,null,null,null,null,null,null,null,null,null,null,null,null,null,null,null,null,null,null,null,null,null,null,null,null,null,null,null,null,null,null,null,null,null,null,null,null,42,null,null,201342,42,2013,"2013-10-14","2013-10-20"]
[null,null,null,null,null,null,null,null,null,null,null,null,null,null,null,null,null,null,null,null,null,null,null,null,null,null,null,null,null,null,null,null,null,null,null,null,null,null,null,null,null,null,null,null,null,null,null,null,null,43,null,null,201343,43,2013,"2013-10-21","2013-10-27"]
[null,null,null,null,null,null,null,null,null,null,null,null,null,null,null,null,null,null,null,null,null,null,null,null,null,null,null,null,null,null,null,null,null,null,null,null,null,null,null,null,null,null,null,null,null,null,null,null,null,44,null,null,201344,44,2013,"2013-10-28","2013-11-03"]
[null,null,null,null,null,null,null,null,null,null,null,null,null,null,null,null,null,null,null,null,null,null,null,null,null,null,null,null,null,null,null,null,null,null,null,null,null,null,null,null,null,null,null,null,null,null,null,null,null,45,null,null,201345,45,2013,"2013-11-04","2013-11-10"]
[null,null,null,null,null,null,null,null,null,null,null,null,null,null,null,null,null,null,null,null,null,null,null,null,null,null,null,null,null,null,null,null,null,null,null,null,null,null,null,null,null,null,null,null,null,null,null,null,null,46,null,null,201346,46,2013,"2013-11-11","2013-11-17"]
[null,null,null,null,null,null,null,null,null,null,null,null,null,null,null,null,null,null,null,null,null,null,null,null,null,null,null,null,null,null,null,null,null,null,null,null,null,null,null,null,null,null,null,null,null,null,null,null,null,47,null,null,201347,47,2013,"2013-11-18","2013-11-24"]
[null,null,null,null,null,null,null,null,null,null,null,null,null,null,null,null,null,null,null,null,null,null,null,null,null,null,null,null,null,null,null,null,null,null,null,null,null,null,null,null,null,null,null,null,null,null,null,null,null,48,null,null,201348,48,2013,"2013-11-25","2013-12-01"]
[null,null,null,null,null,null,null,null,null,null,null,null,null,null,null,null,null,null,null,null,null,null,null,null,null,null,null,null,null,null,null,null,null,null,null,null,null,null,null,null,null,null,null,null,null,null,null,null,null,49,null,null,201349,49,2013,"2013-12-02","2013-12-08"]
[null,null,null,null,null,null,null,null,null,null,null,null,null,null,null,null,null,null,null,null,null,null,null,null,null,null,null,null,null,null,null,null,null,null,null,null,null,null,null,null,null,null,null,null,null,null,null,null,null,50,null,null,201350,50,2013,"2013-12-09","2013-12-15"]
[null,null,null,null,null,null,null,null,null,null,null,null,null,null,null,null,null,null,null,null,null,null,null,null,null,null,null,null,null,null,null,null,null,null,null,null,null,null,null,null,null,null,null,null,null,null,null,null,null,51,null,null,201351,51,2013,"2013-12-16","2013-12-22"]
[null,null,null,null,null,null,null,null,null,null,null,null,null,null,null,null,null,null,null,null,null,null,null,null,null,null,null,null,null,null,null,null,null,null,null,null,null,null,null,null,null,null,null,null,null,null,null,null,null,52,null,null,201352,52,2013,"2013-12-23","2013-12-29"]
[null,null,null,null,null,null,null,null,null,null,null,null,null,null,null,null,null,null,null,null,null,null,null,null,null,null,null,null,null,null,null,null,null,null,null,null,null,null,null,null,null,null,null,null,null,null,null,null,null,53,null,null,20141,1,2014,"2013-12-30","2014-01-05"]
[null,null,null,null,null,null,null,null,null,null,null,null,null,null,null,null,null,null,null,null,null,null,null,null,null,null,null,null,null,null,null,null,null,null,null,null,null,null,null,null,null,null,null,null,null,null,null,null,null,54,null,null,20142,2,2014,"2014-01-06","2014-01-12"]
[null,null,null,null,null,null,null,null,null,null,null,null,null,null,null,null,null,null,null,null,null,null,null,null,null,null,null,null,null,null,null,null,null,null,null,null,null,null,null,null,null,null,null,null,null,null,null,null,null,55,null,null,20143,3,2014,"2014-01-13","2014-01-19"]
[null,null,null,null,null,null,null,null,null,null,null,null,null,null,null,null,null,null,null,null,null,null,null,null,null,null,null,null,null,null,null,null,null,null,null,null,null,null,null,null,null,null,null,null,null,null,null,null,null,56,null,null,20144,4,2014,"2014-01-20","2014-01-26"]
[null,null,null,null,null,null,null,null,null,null,null,null,null,null,null,null,null,null,null,null,null,null,null,null,null,null,null,null,null,null,null,null,null,null,null,null,null,null,null,null,null,null,null,null,null,null,null,null,null,57,null,null,20145,5,2014,"2014-01-27","2014-02-02"]
[null,null,null,null,null,null,null,null,null,null,null,null,null,null,null,null,null,null,null,null,null,null,null,null,null,null,null,null,null,null,null,null,null,null,null,null,null,null,null,null,null,null,null,null,null,null,null,null,null,58,null,null,20146,6,2014,"2014-02-03","2014-02-09"]
[null,null,null,null,null,null,null,null,null,null,null,null,null,null,null,null,null,null,null,null,null,null,null,null,null,null,null,null,null,null,null,null,null,null,null,null,null,null,null,null,null,null,null,null,null,null,null,null,null,59,null,null,20147,7,2014,"2014-02-10","2014-02-16"]
[null,null,null,null,null,null,null,null,null,null,null,null,null,null,null,null,null,null,null,null,null,null,null,null,null,null,null,null,null,null,null,null,null,null,null,null,null,null,null,null,null,null,null,null,null,null,null,null,null,60,null,null,20148,8,2014,"2014-02-17","2014-02-23"]
[null,null,null,null,null,null,null,null,null,null,null,null,null,null,null,null,null,null,null,null,null,null,null,null,null,null,null,null,null,null,null,null,null,null,null,null,null,null,null,null,null,null,null,null,null,null,null,null,null,61,null,null,20149,9,2014,"2014-02-24","2014-03-02"]
[null,null,null,null,null,null,null,null,null,null,null,null,null,null,null,null,null,null,null,null,null,null,null,null,null,null,null,null,null,null,null,null,null,null,null,null,null,null,null,null,null,null,null,null,null,null,null,null,null,62,null,null,201410,10,2014,"2014-03-03","2014-03-09"]
[null,null,null,null,null,null,null,null,null,null,null,null,null,null,null,null,null,null,null,null,null,null,null,null,null,null,null,null,null,null,null,null,null,null,null,null,null,null,null,null,null,null,null,null,null,null,null,null,null,63,null,null,201411,11,2014,"2014-03-10","2014-03-16"]
[null,null,null,null,null,null,null,null,null,null,null,null,null,null,null,null,null,null,null,null,null,null,null,null,null,null,null,null,null,null,null,null,null,null,null,null,null,null,null,null,null,null,null,null,null,null,null,null,null,64,null,null,201412,12,2014,"2014-03-17","2014-03-23"]
[null,null,null,null,null,null,null,null,null,null,null,null,null,null,null,null,null,null,null,null,null,null,null,null,null,null,null,null,null,null,null,null,null,null,null,null,null,null,null,null,null,null,null,null,null,null,null,null,null,65,null,null,201413,13,2014,"2014-03-24","2014-03-30"]
[null,null,null,null,null,null,null,null,null,null,null,null,null,null,null,null,null,null,null,null,null,null,null,null,null,null,null,null,null,null,null,null,null,null,null,null,null,null,null,null,null,null,null,null,null,null,null,null,null,66,null,null,201414,14,2014,"2014-03-31","2014-04-06"]
[null,null,null,null,null,null,null,null,null,null,null,null,null,null,null,null,null,null,null,null,null,null,null,null,null,null,null,null,null,null,null,null,null,null,null,null,null,null,null,null,null,null,null,null,null,null,null,null,null,67,null,null,201415,15,2014,"2014-04-07","2014-04-13"]
[null,null,null,null,null,null,null,null,null,null,null,null,null,null,null,null,null,null,null,null,null,null,null,null,null,null,null,null,null,null,null,null,null,null,null,null,null,null,null,null,null,null,null,null,null,null,null,null,null,68,null,null,201416,16,2014,"2014-04-14","2014-04-20"]
[null,null,null,null,null,null,null,null,null,null,null,null,null,null,null,null,null,null,null,null,null,null,null,null,null,null,null,null,null,null,null,null,null,null,null,null,null,null,null,null,null,null,null,null,null,null,null,null,null,69,null,null,201417,17,2014,"2014-04-21","2014-04-27"]
[null,null,null,null,null,null,null,null,null,null,null,null,null,null,null,null,null,null,null,null,null,null,null,null,null,null,null,null,null,null,null,null,null,null,null,null,null,null,null,null,null,null,null,null,null,null,null,null,null,70,null,null,201418,18,2014,"2014-04-28","2014-05-04"]
[null,null,null,null,null,null,null,null,null,null,null,null,null,null,null,null,null,null,null,null,null,null,null,null,null,null,null,null,null,null,null,null,null,null,null,null,null,null,null,null,null,null,null,null,null,null,null,null,null,71,null,null,201419,19,2014,"2014-05-05","2014-05-11"]
[null,null,null,null,null,null,null,null,null,null,null,null,null,null,null,null,null,null,null,null,null,null,null,null,null,null,null,null,null,null,null,null,null,null,null,null,null,null,null,null,null,null,null,null,null,null,null,null,null,72,null,null,201420,20,2014,"2014-05-12","2014-05-18"]
[null,null,null,null,null,null,null,null,null,null,null,null,null,null,null,null,null,null,null,null,null,null,null,null,null,null,null,null,null,null,null,null,null,null,null,null,null,null,null,null,null,null,null,null,null,null,null,null,null,73,null,null,201421,21,2014,"2014-05-19","2014-05-25"]
[null,null,null,null,null,null,null,null,null,null,null,null,null,null,null,null,null,null,null,null,null,null,null,null,null,null,null,null,null,null,null,null,null,null,null,null,null,null,null,null,null,null,null,null,null,null,null,null,null,74,null,null,201422,22,2014,"2014-05-26","2014-06-01"]
[null,null,null,null,null,null,null,null,null,null,null,null,null,null,null,null,null,null,null,null,null,null,null,null,null,null,null,null,null,null,null,null,null,null,null,null,null,null,null,null,null,null,null,null,null,null,null,null,null,75,null,null,201423,23,2014,"2014-06-02","2014-06-08"]
[null,null,null,null,null,null,null,null,null,null,null,null,null,null,null,null,null,null,null,null,null,null,null,null,null,null,null,null,null,null,null,null,null,null,null,null,null,null,null,null,null,null,null,null,null,null,null,null,null,76,null,null,201424,24,2014,"2014-06-09","2014-06-15"]
[null,null,null,null,null,null,null,null,null,null,null,null,null,null,null,null,null,null,null,null,null,null,null,null,null,null,null,null,null,null,null,null,null,null,null,null,null,null,null,null,null,null,null,null,null,null,null,null,null,77,null,null,201425,25,2014,"2014-06-16","2014-06-22"]
[null,null,null,null,null,null,null,null,null,null,null,null,null,null,null,null,null,null,null,null,null,null,null,null,null,null,null,null,null,null,null,null,null,null,null,null,null,null,null,null,null,null,null,null,null,null,null,null,null,78,null,null,201426,26,2014,"2014-06-23","2014-06-29"]
[null,null,null,null,null,null,null,null,null,null,null,null,null,null,null,null,null,null,null,null,null,null,null,null,null,null,null,null,null,null,null,null,null,null,null,null,null,null,null,null,null,null,null,null,null,null,null,null,null,79,null,null,201427,27,2014,"2014-06-30","2014-07-06"]
[null,null,null,null,null,null,null,null,null,null,null,null,null,null,null,null,null,null,null,null,null,null,null,null,null,null,null,null,null,null,null,null,null,null,null,null,null,null,null,null,null,null,null,null,null,null,null,null,null,80,null,null,201428,28,2014,"2014-07-07","2014-07-13"]
[null,null,null,null,null,null,null,null,null,null,null,null,null,null,null,null,null,null,null,null,null,null,null,null,null,null,null,null,null,null,null,null,null,null,null,null,null,null,null,null,null,null,null,null,null,null,null,null,null,81,null,null,201429,29,2014,"2014-07-14","2014-07-20"]
[null,null,null,null,null,null,null,null,null,null,null,null,null,null,null,null,null,null,null,null,null,null,null,null,null,null,null,null,null,null,null,null,null,null,null,null,null,null,null,null,null,null,null,null,null,null,null,null,null,82,null,null,201430,30,2014,"2014-07-21","2014-07-27"]
[null,null,null,null,null,null,null,null,null,null,null,null,null,null,null,null,null,null,null,null,null,null,null,null,null,null,null,null,null,null,null,null,null,null,null,null,null,null,null,null,null,null,null,null,null,null,null,null,null,83,null,null,201431,31,2014,"2014-07-28","2014-08-03"]
[null,null,null,null,null,null,null,null,null,null,null,null,null,null,null,null,null,null,null,null,null,null,null,null,null,null,null,null,null,null,null,null,null,null,null,null,null,null,null,null,null,null,null,null,null,null,null,null,null,84,null,null,201432,32,2014,"2014-08-04","2014-08-10"]
[null,null,null,null,null,null,null,null,null,null,null,null,null,null,null,null,null,null,null,null,null,null,null,null,null,null,null,null,null,null,null,null,null,null,null,null,null,null,null,null,null,null,null,null,null,null,null,null,null,85,null,null,201433,33,2014,"2014-08-11","2014-08-17"]
[null,null,null,null,null,null,null,null,null,null,null,null,null,null,null,null,null,null,null,null,null,null,null,null,null,null,null,null,null,null,null,null,null,null,null,null,null,null,null,null,null,null,null,null,null,null,null,null,null,86,null,null,201434,34,2014,"2014-08-18","2014-08-24"]
[null,null,null,null,null,null,null,null,null,null,null,null,null,null,null,null,null,null,null,null,null,null,null,null,null,null,null,null,null,null,null,null,null,null,null,null,null,null,null,null,null,null,null,null,null,null,null,null,null,87,null,null,201435,35,2014,"2014-08-25","2014-08-31"]
[null,null,null,null,null,null,null,null,null,null,null,null,null,null,null,null,null,null,null,null,null,null,null,null,null,null,null,null,null,null,null,null,null,null,null,null,null,null,null,null,null,null,null,null,null,null,null,null,null,88,null,null,201436,36,2014,"2014-09-01","2014-09-07"]
[null,null,null,null,null,null,null,null,null,null,null,null,null,null,null,null,null,null,null,null,null,null,null,null,null,null,null,null,null,null,null,null,null,null,null,null,null,null,null,null,null,null,null,null,null,null,null,null,null,89,null,null,201437,37,2014,"2014-09-08","2014-09-14"]
[null,null,null,null,null,null,null,null,null,null,null,null,null,null,null,null,null,null,null,null,null,null,null,null,null,null,null,null,null,null,null,null,null,null,null,null,null,null,null,null,null,null,null,null,null,null,null,null,null,90,null,null,201438,38,2014,"2014-09-15","2014-09-21"]
[null,null,null,null,null,null,null,null,null,null,null,null,null,null,null,null,null,null,null,null,null,null,null,null,null,null,null,null,null,null,null,null,null,null,null,null,null,null,null,null,null,null,null,null,null,null,null,null,null,91,null,null,201439,39,2014,"2014-09-22","2014-09-28"]
[null,null,null,null,null,null,null,null,null,null,null,null,null,null,null,null,null,null,null,null,null,null,null,null,null,null,null,null,null,null,null,null,null,null,null,null,null,null,null,null,null,null,null,null,null,null,null,null,null,92,null,null,201440,40,2014,"2014-09-29","2014-10-05"]
[null,null,null,null,null,null,null,null,null,null,null,null,null,null,null,null,null,null,null,null,null,null,null,null,null,null,null,null,null,null,null,null,null,null,null,null,null,null,null,null,null,null,null,null,null,null,null,null,null,93,null,null,201441,41,2014,"2014-10-06","2014-10-12"]
[null,null,null,null,null,null,null,null,null,null,null,null,null,null,null,null,null,null,null,null,null,null,null,null,null,null,null,null,null,null,null,null,null,null,null,null,null,null,null,null,null,null,null,null,null,null,null,null,null,94,null,null,201442,42,2014,"2014-10-13","2014-10-19"]
[null,null,null,null,null,null,null,null,null,null,null,null,null,null,null,null,null,null,null,null,null,null,null,null,null,null,null,null,null,null,null,null,null,null,null,null,null,null,null,null,null,null,null,null,null,null,null,null,null,95,null,null,201443,43,2014,"2014-10-20","2014-10-26"]
[null,null,null,null,null,null,null,null,null,null,null,null,null,null,null,null,null,null,null,null,null,null,null,null,null,null,null,null,null,null,null,null,null,null,null,null,null,null,null,null,null,null,null,null,null,null,null,null,null,96,null,null,201444,44,2014,"2014-10-27","2014-11-02"]
[null,null,null,null,null,null,null,null,null,null,null,null,null,null,null,null,null,null,null,null,null,null,null,null,null,null,null,null,null,null,null,null,null,null,null,null,null,null,null,null,null,null,null,null,null,null,null,null,null,97,null,null,201445,45,2014,"2014-11-03","2014-11-09"]
[null,null,null,null,null,null,null,null,null,null,null,null,null,null,null,null,null,null,null,null,null,null,null,null,null,null,null,null,null,null,null,null,null,null,null,null,null,null,null,null,null,null,null,null,null,null,null,null,null,98,null,null,201446,46,2014,"2014-11-10","2014-11-16"]
[null,null,null,null,null,null,null,null,null,null,null,null,null,null,null,null,null,null,null,null,null,null,null,null,null,null,null,null,null,null,null,null,null,null,null,null,null,null,null,null,null,null,null,null,null,null,null,null,null,99,null,null,201447,47,2014,"2014-11-17","2014-11-23"]
[null,null,null,null,null,null,null,null,null,null,null,null,null,null,null,null,null,null,null,null,null,null,null,null,null,null,null,null,null,null,null,null,null,null,null,null,null,null,null,null,null,null,null,null,null,null,null,null,null,100,null,null,201448,48,2014,"2014-11-24","2014-11-30"]
[null,null,null,null,null,null,null,null,null,null,null,null,null,null,null,null,null,null,null,null,null,null,null,null,null,null,null,null,null,null,null,null,null,null,null,null,null,null,null,null,null,null,null,null,null,null,null,null,null,101,null,null,201449,49,2014,"2014-12-01","2014-12-07"]
[null,null,null,null,null,null,null,null,null,null,null,null,null,null,null,null,null,null,null,null,null,null,null,null,null,null,null,null,null,null,null,null,null,null,null,null,null,null,null,null,null,null,null,null,null,null,null,null,null,102,null,null,201450,50,2014,"2014-12-08","2014-12-14"]
[null,null,null,null,null,null,null,null,null,null,null,null,null,null,null,null,null,null,null,null,null,null,null,null,null,null,null,null,null,null,null,null,null,null,null,null,null,null,null,null,null,null,null,null,null,null,null,null,null,103,null,null,201451,51,2014,"2014-12-15","2014-12-21"]
[null,null,null,null,null,null,null,null,null,null,null,null,null,null,null,null,null,null,null,null,null,null,null,null,null,null,null,null,null,null,null,null,null,null,null,null,null,null,null,null,null,null,null,null,null,null,null,null,null,104,null,null,201452,52,2014,"2014-12-22","2014-12-28"]
[null,null,null,null,null,null,null,null,null,null,null,null,null,null,null,null,null,null,null,null,null,null,null,null,null,null,null,null,null,null,null,null,null,null,null,null,null,null,null,null,null,null,null,null,null,null,null,null,null,105,null,null,20151,1,2015,"2014-12-29","2015-01-04"]
[null,null,null,null,null,null,null,null,null,null,null,null,null,null,null,null,null,null,null,null,null,null,null,null,null,null,null,null,null,null,null,null,null,null,null,null,null,null,null,null,null,null,null,null,null,null,null,null,null,106,null,null,20152,2,2015,"2015-01-05","2015-01-11"]
[null,null,null,null,null,null,null,null,null,null,null,null,null,null,null,null,null,null,null,null,null,null,null,null,null,null,null,null,null,null,null,null,null,null,null,null,null,null,null,null,null,null,null,null,null,null,null,null,null,107,null,null,20153,3,2015,"2015-01-12","2015-01-18"]
[null,null,null,null,null,null,null,null,null,null,null,null,null,null,null,null,null,null,null,null,null,null,null,null,null,null,null,null,null,null,null,null,null,null,null,null,null,null,null,null,null,null,null,null,null,null,null,null,null,108,null,null,20154,4,2015,"2015-01-19","2015-01-25"]
[null,null,null,null,null,null,null,null,null,null,null,null,null,null,null,null,null,null,null,null,null,null,null,null,null,null,null,null,null,null,null,null,null,null,null,null,null,null,null,null,null,null,null,null,null,null,null,null,null,109,null,null,20155,5,2015,"2015-01-26","2015-02-01"]
[null,null,null,null,null,null,null,null,null,null,null,null,null,null,null,null,null,null,null,null,null,null,null,null,null,null,null,null,null,null,null,null,null,null,null,null,null,null,null,null,null,null,null,null,null,null,null,null,null,110,null,null,20156,6,2015,"2015-02-02","2015-02-08"]
[null,null,null,null,null,null,null,null,null,null,null,null,null,null,null,null,null,null,null,null,null,null,null,null,null,null,null,null,null,null,null,null,null,null,null,null,null,null,null,null,null,null,null,null,null,null,null,null,null,111,null,null,20157,7,2015,"2015-02-09","2015-02-15"]
[null,null,null,null,null,null,null,null,null,null,null,null,null,null,null,null,null,null,null,null,null,null,null,null,null,null,null,null,null,null,null,null,null,null,null,null,null,null,null,null,null,null,null,null,null,null,null,null,null,112,null,null,20158,8,2015,"2015-02-16","2015-02-22"]
[null,null,null,null,null,null,null,null,null,null,null,null,null,null,null,null,null,null,null,null,null,null,null,null,null,null,null,null,null,null,null,null,null,null,null,null,null,null,null,null,null,null,null,null,null,null,null,null,null,113,null,null,20159,9,2015,"2015-02-23","2015-03-01"]
[null,null,null,null,null,null,null,null,null,null,null,null,null,null,null,null,null,null,null,null,null,null,null,null,null,null,null,null,null,null,null,null,null,null,null,null,null,null,null,null,null,null,null,null,null,null,null,null,null,114,null,null,201510,10,2015,"2015-03-02","2015-03-08"]
[null,null,null,null,null,null,null,null,null,null,null,null,null,null,null,null,null,null,null,null,null,null,null,null,null,null,null,null,null,null,null,null,null,null,null,null,null,null,null,null,null,null,null,null,null,null,null,null,null,115,null,null,201511,11,2015,"2015-03-09","2015-03-15"]
[null,null,null,null,null,null,null,null,null,null,null,null,null,null,null,null,null,null,null,null,null,null,null,null,null,null,null,null,null,null,null,null,null,null,null,null,null,null,null,null,null,null,null,null,null,null,null,null,null,116,null,null,201512,12,2015,"2015-03-16","2015-03-22"]
[null,null,null,null,null,null,null,null,null,null,null,null,null,null,null,null,null,null,null,null,null,null,null,null,null,null,null,null,null,null,null,null,null,null,null,null,null,null,null,null,null,null,null,null,null,null,null,null,null,117,null,null,201513,13,2015,"2015-03-23","2015-03-29"]
[null,null,null,null,null,null,null,null,null,null,null,null,null,null,null,null,null,null,null,null,null,null,null,null,null,null,null,null,null,null,null,null,null,null,null,null,null,null,null,null,null,null,null,null,null,null,null,null,null,118,null,null,201514,14,2015,"2015-03-30","2015-04-05"]
[null,null,null,null,null,null,null,null,null,null,null,null,null,null,null,null,null,null,null,null,null,null,null,null,null,null,null,null,null,null,null,null,null,null,null,null,null,null,null,null,null,null,null,null,null,null,null,null,null,119,null,null,201515,15,2015,"2015-04-06","2015-04-12"]
[null,null,null,null,null,null,null,null,null,null,null,null,null,null,null,null,null,null,null,null,null,null,null,null,null,null,null,null,null,null,null,null,null,null,null,null,null,null,null,null,null,null,null,null,null,null,null,null,null,120,null,null,201516,16,2015,"2015-04-13","2015-04-19"]
[null,null,null,null,null,null,null,null,null,null,null,null,null,null,null,null,null,null,null,null,null,null,null,null,null,null,null,null,null,null,null,null,null,null,null,null,null,null,null,null,null,null,null,null,null,null,null,null,null,121,null,null,201517,17,2015,"2015-04-20","2015-04-26"]
[null,null,null,null,null,null,null,null,null,null,null,null,null,null,null,null,null,null,null,null,null,null,null,null,null,null,null,null,null,null,null,null,null,null,null,null,null,null,null,null,null,null,null,null,null,null,null,null,null,122,null,null,201518,18,2015,"2015-04-27","2015-05-03"]
[null,null,null,null,null,null,null,null,null,null,null,null,null,null,null,null,null,null,null,null,null,null,null,null,null,null,null,null,null,null,null,null,null,null,null,null,null,null,null,null,null,null,null,null,null,null,null,null,null,123,null,null,201519,19,2015,"2015-05-04","2015-05-10"]
[null,null,null,null,null,null,null,null,null,null,null,null,null,null,null,null,null,null,null,null,null,null,null,null,null,null,null,null,null,null,null,null,null,null,null,null,null,null,null,null,null,null,null,null,null,null,null,null,null,124,null,null,201520,20,2015,"2015-05-11","2015-05-17"]
[null,null,null,null,null,null,null,null,null,null,null,null,null,null,null,null,null,null,null,null,null,null,null,null,null,null,null,null,null,null,null,null,null,null,null,null,null,null,null,null,null,null,null,null,null,null,null,null,null,125,null,null,201521,21,2015,"2015-05-18","2015-05-24"]
[null,null,null,null,null,null,null,null,null,null,null,null,null,null,null,null,null,null,null,null,null,null,null,null,null,null,null,null,null,null,null,null,null,null,null,null,null,null,null,null,null,null,null,null,null,null,null,null,null,126,null,null,201522,22,2015,"2015-05-25","2015-05-31"]
[null,null,null,null,null,null,null,null,null,null,null,null,null,null,null,null,null,null,null,null,null,null,null,null,null,null,null,null,null,null,null,null,null,null,null,null,null,null,null,null,null,null,null,null,null,null,null,null,null,127,null,null,201523,23,2015,"2015-06-01","2015-06-07"]
[null,null,null,null,null,null,null,null,null,null,null,null,null,null,null,null,null,null,null,null,null,null,null,null,null,null,null,null,null,null,null,null,null,null,null,null,null,null,null,null,null,null,null,null,null,null,null,null,null,128,null,null,201524,24,2015,"2015-06-08","2015-06-14"]
[null,null,null,null,null,null,null,null,null,null,null,null,null,null,null,null,null,null,null,null,null,null,null,null,null,null,null,null,null,null,null,null,null,null,null,null,null,null,null,null,null,null,null,null,null,null,null,null,null,129,null,null,201525,25,2015,"2015-06-15","2015-06-21"]
[null,null,null,null,null,null,null,null,null,null,null,null,null,null,null,null,null,null,null,null,null,null,null,null,null,null,null,null,null,null,null,null,null,null,null,null,null,null,null,null,null,null,null,null,null,null,null,null,null,130,null,null,201526,26,2015,"2015-06-22","2015-06-28"]
[null,null,null,null,null,null,null,null,null,null,null,null,null,null,null,null,null,null,null,null,null,null,null,null,null,null,null,null,null,null,null,null,null,null,null,null,null,null,null,null,null,null,null,null,null,null,null,null,null,131,null,null,201527,27,2015,"2015-06-29","2015-07-05"]
[null,null,null,null,null,null,null,null,null,null,null,null,null,null,null,null,null,null,null,null,null,null,null,null,null,null,null,null,null,null,null,null,null,null,null,null,null,null,null,null,null,null,null,null,null,null,null,null,null,132,null,null,201528,28,2015,"2015-07-06","2015-07-12"]
[null,null,null,null,null,null,null,null,null,null,null,null,null,null,null,null,null,null,null,null,null,null,null,null,null,null,null,null,null,null,null,null,null,null,null,null,null,null,null,null,null,null,null,null,null,null,null,null,null,133,null,null,201529,29,2015,"2015-07-13","2015-07-19"]
[null,null,null,null,null,null,null,null,null,null,null,null,null,null,null,null,null,null,null,null,null,null,null,null,null,null,null,null,null,null,null,null,null,null,null,null,null,null,null,null,null,null,null,null,null,null,null,null,null,134,null,null,201530,30,2015,"2015-07-20","2015-07-26"]
[null,null,null,null,null,null,null,null,null,null,null,null,null,null,null,null,null,null,null,null,null,null,null,null,null,null,null,null,null,null,null,null,null,null,null,null,null,null,null,null,null,null,null,null,null,null,null,null,null,135,null,null,201531,31,2015,"2015-07-27","2015-08-02"]
[null,null,null,null,null,null,null,null,null,null,null,null,null,null,null,null,null,null,null,null,null,null,null,null,null,null,null,null,null,null,null,null,null,null,null,null,null,null,null,null,null,null,null,null,null,null,null,null,null,136,null,null,201532,32,2015,"2015-08-03","2015-08-09"]
[null,null,null,null,null,null,null,null,null,null,null,null,null,null,null,null,null,null,null,null,null,null,null,null,null,null,null,null,null,null,null,null,null,null,null,null,null,null,null,null,null,null,null,null,null,null,null,null,null,137,null,null,201533,33,2015,"2015-08-10","2015-08-16"]
[null,null,null,null,null,null,null,null,null,null,null,null,null,null,null,null,null,null,null,null,null,null,null,null,null,null,null,null,null,null,null,null,null,null,null,null,null,null,null,null,null,null,null,null,null,null,null,null,null,138,null,null,201534,34,2015,"2015-08-17","2015-08-23"]
[null,null,null,null,null,null,null,null,null,null,null,null,null,null,null,null,null,null,null,null,null,null,null,null,null,null,null,null,null,null,null,null,null,null,null,null,null,null,null,null,null,null,null,null,null,null,null,null,null,139,null,null,201535,35,2015,"2015-08-24","2015-08-30"]
[null,null,null,null,null,null,null,null,null,null,null,null,null,null,null,null,null,null,null,null,null,null,null,null,null,null,null,null,null,null,null,null,null,null,null,null,null,null,null,null,null,null,null,null,null,null,null,null,null,140,null,null,201536,36,2015,"2015-08-31","2015-09-06"]
[null,null,null,null,null,null,null,null,null,null,null,null,null,null,null,null,null,null,null,null,null,null,null,null,null,null,null,null,null,null,null,null,null,null,null,null,null,null,null,null,null,null,null,null,null,null,null,null,null,141,null,null,201537,37,2015,"2015-09-07","2015-09-13"]
[null,null,null,null,null,null,null,null,null,null,null,null,null,null,null,null,null,null,null,null,null,null,null,null,null,null,null,null,null,null,null,null,null,null,null,null,null,null,null,null,null,null,null,null,null,null,null,null,null,142,null,null,201538,38,2015,"2015-09-14","2015-09-20"]
[null,null,null,null,null,null,null,null,null,null,null,null,null,null,null,null,null,null,null,null,null,null,null,null,null,null,null,null,null,null,null,null,null,null,null,null,null,null,null,null,null,null,null,null,null,null,null,null,null,143,null,null,201539,39,2015,"2015-09-21","2015-09-27"]
[null,null,null,null,null,null,null,null,null,null,null,null,null,null,null,null,null,null,null,null,null,null,null,null,null,null,null,null,null,null,null,null,null,null,null,null,null,null,null,null,null,null,null,null,null,null,null,null,null,144,null,null,201540,40,2015,"2015-09-28","2015-10-04"]
[null,null,null,null,null,null,null,null,null,null,null,null,null,null,null,null,null,null,null,null,null,null,null,null,null,null,null,null,null,null,null,null,null,null,null,null,null,null,null,null,null,null,null,null,null,null,null,null,null,145,null,null,201541,41,2015,"2015-10-05","2015-10-11"]
[null,null,null,null,null,null,null,null,null,null,null,null,null,null,null,null,null,null,null,null,null,null,null,null,null,null,null,null,null,null,null,null,null,null,null,null,null,null,null,null,null,null,null,null,null,null,null,null,null,146,null,null,201542,42,2015,"2015-10-12","2015-10-18"]
[null,null,null,null,null,null,null,null,null,null,null,null,null,null,null,null,null,null,null,null,null,null,null,null,null,null,null,null,null,null,null,null,null,null,null,null,null,null,null,null,null,null,null,null,null,null,null,null,null,147,null,null,201543,43,2015,"2015-10-19","2015-10-25"]
[null,null,null,null,null,null,null,null,null,null,null,null,null,null,null,null,null,null,null,null,null,null,null,null,null,null,null,null,null,null,null,null,null,null,null,null,null,null,null,null,null,null,null,null,null,null,null,null,null,148,null,null,201544,44,2015,"2015-10-26","2015-11-01"]
[null,null,null,null,null,null,null,null,null,null,null,null,null,null,null,null,null,null,null,null,null,null,null,null,null,null,null,null,null,null,null,null,null,null,null,null,null,null,null,null,null,null,null,null,null,null,null,null,null,149,null,null,201545,45,2015,"2015-11-02","2015-11-08"]
[null,null,null,null,null,null,null,null,null,null,null,null,null,null,null,null,null,null,null,null,null,null,null,null,null,null,null,null,null,null,null,null,null,null,null,null,null,null,null,null,null,null,null,null,null,null,null,null,null,150,null,null,201546,46,2015,"2015-11-09","2015-11-15"]
[null,null,null,null,null,null,null,null,null,null,null,null,null,null,null,null,null,null,null,null,null,null,null,null,null,null,null,null,null,null,null,null,null,null,null,null,null,null,null,null,null,null,null,null,null,null,null,null,null,151,null,null,201547,47,2015,"2015-11-16","2015-11-22"]
[null,null,null,null,null,null,null,null,null,null,null,null,null,null,null,null,null,null,null,null,null,null,null,null,null,null,null,null,null,null,null,null,null,null,null,null,null,null,null,null,null,null,null,null,null,null,null,null,null,152,null,null,201548,48,2015,"2015-11-23","2015-11-29"]
[null,null,null,null,null,null,null,null,null,null,null,null,null,null,null,null,null,null,null,null,null,null,null,null,null,null,null,null,null,null,null,null,null,null,null,null,null,null,null,null,null,null,null,null,null,null,null,null,null,153,null,null,201549,49,2015,"2015-11-30","2015-12-06"]
[null,null,null,null,null,null,null,null,null,null,null,null,null,null,null,null,null,null,null,null,null,null,null,null,null,null,null,null,null,null,null,null,null,null,null,null,null,null,null,null,null,null,null,null,null,null,null,null,null,154,null,null,201550,50,2015,"2015-12-07","2015-12-13"]
[null,null,null,null,null,null,null,null,null,null,null,null,null,null,null,null,null,null,null,null,null,null,null,null,null,null,null,null,null,null,null,null,null,null,null,null,null,null,null,null,null,null,null,null,null,null,null,null,null,155,null,null,201551,51,2015,"2015-12-14","2015-12-20"]
[null,null,null,null,null,null,null,null,null,null,null,null,null,null,null,null,null,null,null,null,null,null,null,null,null,null,null,null,null,null,null,null,null,null,null,null,null,null,null,null,null,null,null,null,null,null,null,null,null,156,null,null,201552,52,2015,"2015-12-21","2015-12-27"]
[null,null,null,null,null,null,null,null,null,null,null,null,null,null,null,null,null,null,null,null,null,null,null,null,null,null,null,null,null,null,null,null,null,null,null,null,null,null,null,null,null,null,null,null,null,null,null,null,null,157,null,null,20161,1,2016,"2015-12-28","2016-01-03"]
[null,null,null,null,null,null,null,null,null,null,null,null,null,null,null,null,null,null,null,null,null,null,null,null,null,null,null,null,null,null,null,null,null,null,null,null,null,null,null,null,null,null,null,null,null,null,null,null,null,158,null,null,20162,2,2016,"2016-01-04","2016-01-10"]
[null,null,null,null,null,null,null,null,null,null,null,null,null,null,null,null,null,null,null,null,null,null,null,null,null,null,null,null,null,null,null,null,null,null,null,null,null,null,null,null,null,null,null,null,null,null,null,null,null,159,null,null,20163,3,2016,"2016-01-11","2016-01-17"]
[null,null,null,null,null,null,null,null,null,null,null,null,null,null,null,null,null,null,null,null,null,null,null,null,null,null,null,null,null,null,null,null,null,null,null,null,null,null,null,null,null,null,null,null,null,null,null,null,null,160,null,null,20164,4,2016,"2016-01-18","2016-01-24"]
[null,null,null,null,null,null,null,null,null,null,null,null,null,null,null,null,null,null,null,null,null,null,null,null,null,null,null,null,null,null,null,null,null,null,null,null,null,null,null,null,null,null,null,null,null,null,null,null,null,161,null,null,20165,5,2016,"2016-01-25","2016-01-31"]
[null,null,null,null,null,null,null,null,null,null,null,null,null,null,null,null,null,null,null,null,null,null,null,null,null,null,null,null,null,null,null,null,null,null,null,null,null,null,null,null,null,null,null,null,null,null,null,null,null,162,null,null,20166,6,2016,"2016-02-01","2016-02-07"]
[null,null,null,null,null,null,null,null,null,null,null,null,null,null,null,null,null,null,null,null,null,null,null,null,null,null,null,null,null,null,null,null,null,null,null,null,null,null,null,null,null,null,null,null,null,null,null,null,null,163,null,null,20167,7,2016,"2016-02-08","2016-02-14"]
[null,null,null,null,null,null,null,null,null,null,null,null,null,null,null,null,null,null,null,null,null,null,null,null,null,null,null,null,null,null,null,null,null,null,null,null,null,null,null,null,null,null,null,null,null,null,null,null,null,164,null,null,20168,8,2016,"2016-02-15","2016-02-21"]
[null,null,null,null,null,null,null,null,null,null,null,null,null,null,null,null,null,null,null,null,null,null,null,null,null,null,null,null,null,null,null,null,null,null,null,null,null,null,null,null,null,null,null,null,null,null,null,null,null,165,null,null,20169,9,2016,"2016-02-22","2016-02-28"]
[null,null,null,null,null,null,null,null,null,null,null,null,null,null,null,null,null,null,null,null,null,null,null,null,null,null,null,null,null,null,null,null,null,null,null,null,null,null,null,null,null,null,null,null,null,null,null,null,null,166,null,null,201610,10,2016,"2016-02-29","2016-03-06"]
[null,null,null,null,null,null,null,null,null,null,null,null,null,null,null,null,null,null,null,null,null,null,null,null,null,null,null,null,null,null,null,null,null,null,null,null,null,null,null,null,null,null,null,null,null,null,null,null,null,167,null,null,201611,11,2016,"2016-03-07","2016-03-13"]
[null,null,null,null,null,null,null,null,null,null,null,null,null,null,null,null,null,null,null,null,null,null,null,null,null,null,null,null,null,null,null,null,null,null,null,null,null,null,null,null,null,null,null,null,null,null,null,null,null,168,null,null,201612,12,2016,"2016-03-14","2016-03-20"]
[null,null,null,null,null,null,null,null,null,null,null,null,null,null,null,null,null,null,null,null,null,null,null,null,null,null,null,null,null,null,null,null,null,null,null,null,null,null,null,null,null,null,null,null,null,null,null,null,null,169,null,null,201613,13,2016,"2016-03-21","2016-03-27"]
[null,null,null,null,null,null,null,null,null,null,null,null,null,null,null,null,null,null,null,null,null,null,null,null,null,null,null,null,null,null,null,null,null,null,null,null,null,null,null,null,null,null,null,null,null,null,null,null,null,170,null,null,201614,14,2016,"2016-03-28","2016-04-03"]
[null,null,null,null,null,null,null,null,null,null,null,null,null,null,null,null,null,null,null,null,null,null,null,null,null,null,null,null,null,null,null,null,null,null,null,null,null,null,null,null,null,null,null,null,null,null,null,null,null,171,null,null,201615,15,2016,"2016-04-04","2016-04-10"]
[null,null,null,null,null,null,null,null,null,null,null,null,null,null,null,null,null,null,null,null,null,null,null,null,null,null,null,null,null,null,null,null,null,null,null,null,null,null,null,null,null,null,null,null,null,null,null,null,null,172,null,null,201616,16,2016,"2016-04-11","2016-04-17"]
[null,null,null,null,null,null,null,null,null,null,null,null,null,null,null,null,null,null,null,null,null,null,null,null,null,null,null,null,null,null,null,null,null,null,null,null,null,null,null,null,null,null,null,null,null,null,null,null,null,173,null,null,201617,17,2016,"2016-04-18","2016-04-24"]
[null,null,null,null,null,null,null,null,null,null,null,null,null,null,null,null,null,null,null,null,null,null,null,null,null,null,null,null,null,null,null,null,null,null,null,null,null,null,null,null,null,null,null,null,null,null,null,null,null,174,null,null,201618,18,2016,"2016-04-25","2016-05-01"]
[null,null,null,null,null,null,null,null,null,null,null,null,null,null,null,null,null,null,null,null,null,null,null,null,null,null,null,null,null,null,null,null,null,null,null,null,null,null,null,null,null,null,null,null,null,null,null,null,null,175,null,null,201619,19,2016,"2016-05-02","2016-05-08"]
[null,null,null,null,null,null,null,null,null,null,null,null,null,null,null,null,null,null,null,null,null,null,null,null,null,null,null,null,null,null,null,null,null,null,null,null,null,null,null,null,null,null,null,null,null,null,null,null,null,176,null,null,201620,20,2016,"2016-05-09","2016-05-15"]
[null,null,null,null,null,null,null,null,null,null,null,null,null,null,null,null,null,null,null,null,null,null,null,null,null,null,null,null,null,null,null,null,null,null,null,null,null,null,null,null,null,null,null,null,null,null,null,null,null,177,null,null,201621,21,2016,"2016-05-16","2016-05-22"]
[null,null,null,null,null,null,null,null,null,null,null,null,null,null,null,null,null,null,null,null,null,null,null,null,null,null,null,null,null,null,null,null,null,null,null,null,null,null,null,null,null,null,null,null,null,null,null,null,null,178,null,null,201622,22,2016,"2016-05-23","2016-05-29"]
[null,null,null,null,null,null,null,null,null,null,null,null,null,null,null,null,null,null,null,null,null,null,null,null,null,null,null,null,null,null,null,null,null,null,null,null,null,null,null,null,null,null,null,null,null,null,null,null,null,179,null,null,201623,23,2016,"2016-05-30","2016-06-05"]
[null,null,null,null,null,null,null,null,null,null,null,null,null,null,null,null,null,null,null,null,null,null,null,null,null,null,null,null,null,null,null,null,null,null,null,null,null,null,null,null,null,null,null,null,null,null,null,null,null,180,null,null,201624,24,2016,"2016-06-06","2016-06-12"]
[null,null,null,null,null,null,null,null,null,null,null,null,null,null,null,null,null,null,null,null,null,null,null,null,null,null,null,null,null,null,null,null,null,null,null,null,null,null,null,null,null,null,null,null,null,null,null,null,null,181,null,null,201625,25,2016,"2016-06-13","2016-06-19"]
[null,null,null,null,null,null,null,null,null,null,null,null,null,null,null,null,null,null,null,null,null,null,null,null,null,null,null,null,null,null,null,null,null,null,null,null,null,null,null,null,null,null,null,null,null,null,null,null,null,182,null,null,201626,26,2016,"2016-06-20","2016-06-26"]
[null,null,null,null,null,null,null,null,null,null,null,null,null,null,null,null,null,null,null,null,null,null,null,null,null,null,null,null,null,null,null,null,null,null,null,null,null,null,null,null,null,null,null,null,null,null,null,null,null,183,null,null,201627,27,2016,"2016-06-27","2016-07-03"]
[null,null,null,null,null,null,null,null,null,null,null,null,null,null,null,null,null,null,null,null,null,null,null,null,null,null,null,null,null,null,null,null,null,null,null,null,null,null,null,null,null,null,null,null,null,null,null,null,null,184,null,null,201628,28,2016,"2016-07-04","2016-07-10"]
[null,null,null,null,null,null,null,null,null,null,null,null,null,null,null,null,null,null,null,null,null,null,null,null,null,null,null,null,null,null,null,null,null,null,null,null,null,null,null,null,null,null,null,null,null,null,null,null,null,185,null,null,201629,29,2016,"2016-07-11","2016-07-17"]
[null,null,null,null,null,null,null,null,null,null,null,null,null,null,null,null,null,null,null,null,null,null,null,null,null,null,null,null,null,null,null,null,null,null,null,null,null,null,null,null,null,null,null,null,null,null,null,null,null,186,null,null,201630,30,2016,"2016-07-18","2016-07-24"]
[null,null,null,null,null,null,null,null,null,null,null,null,null,null,null,null,null,null,null,null,null,null,null,null,null,null,null,null,null,null,null,null,null,null,null,null,null,null,null,null,null,null,null,null,null,null,null,null,null,187,null,null,201631,31,2016,"2016-07-25","2016-07-31"]
[null,null,null,null,null,null,null,null,null,null,null,null,null,null,null,null,null,null,null,null,null,null,null,null,null,null,null,null,null,null,null,null,null,null,null,null,null,null,null,null,null,null,null,null,null,null,null,null,null,188,null,null,201632,32,2016,"2016-08-01","2016-08-07"]
[null,null,null,null,null,null,null,null,null,null,null,null,null,null,null,null,null,null,null,null,null,null,null,null,null,null,null,null,null,null,null,null,null,null,null,null,null,null,null,null,null,null,null,null,null,null,null,null,null,189,null,null,201633,33,2016,"2016-08-08","2016-08-14"]
[null,null,null,null,null,null,null,null,null,null,null,null,null,null,null,null,null,null,null,null,null,null,null,null,null,null,null,null,null,null,null,null,null,null,null,null,null,null,null,null,null,null,null,null,null,null,null,null,null,190,null,null,201634,34,2016,"2016-08-15","2016-08-21"]
[null,null,null,null,null,null,null,null,null,null,null,null,null,null,null,null,null,null,null,null,null,null,null,null,null,null,null,null,null,null,null,null,null,null,null,null,null,null,null,null,null,null,null,null,null,null,null,null,null,191,null,null,201635,35,2016,"2016-08-22","2016-08-28"]
[null,null,null,null,null,null,null,null,null,null,null,null,null,null,null,null,null,null,null,null,null,null,null,null,null,null,null,null,null,null,null,null,null,null,null,null,null,null,null,null,null,null,null,null,null,null,null,null,null,192,null,null,201636,36,2016,"2016-08-29","2016-09-04"]
[null,null,null,null,null,null,null,null,null,null,null,null,null,null,null,null,null,null,null,null,null,null,null,null,null,null,null,null,null,null,null,null,null,null,null,null,null,null,null,null,null,null,null,null,null,null,null,null,null,193,null,null,201637,37,2016,"2016-09-05","2016-09-11"]
[null,null,null,null,null,null,null,null,null,null,null,null,null,null,null,null,null,null,null,null,null,null,null,null,null,null,null,null,null,null,null,null,null,null,null,null,null,null,null,null,null,null,null,null,null,null,null,null,null,194,null,null,201638,38,2016,"2016-09-12","2016-09-18"]
[null,null,null,null,null,null,null,null,null,null,null,null,null,null,null,null,null,null,null,null,null,null,null,null,null,null,null,null,null,null,null,null,null,null,null,null,null,null,null,null,null,null,null,null,null,null,null,null,null,195,null,null,201639,39,2016,"2016-09-19","2016-09-25"]
[null,null,null,null,null,null,null,null,null,null,null,null,null,null,null,null,null,null,null,null,null,null,null,null,null,null,null,null,null,null,null,null,null,null,null,null,null,null,null,null,null,null,null,null,null,null,null,null,null,196,null,null,201640,40,2016,"2016-09-26","2016-10-02"]
[null,null,null,null,null,null,null,null,null,null,null,null,null,null,null,null,null,null,null,null,null,null,null,null,null,null,null,null,null,null,null,null,null,null,null,null,null,null,null,null,null,null,null,null,null,null,null,null,null,197,null,null,201641,41,2016,"2016-10-03","2016-10-09"]
[null,null,null,null,null,null,null,null,null,null,null,null,null,null,null,null,null,null,null,null,null,null,null,null,null,null,null,null,null,null,null,null,null,null,null,null,null,null,null,null,null,null,null,null,null,null,null,null,null,198,null,null,201642,42,2016,"2016-10-10","2016-10-16"]
[null,null,null,null,null,null,null,null,null,null,null,null,null,null,null,null,null,null,null,null,null,null,null,null,null,null,null,null,null,null,null,null,null,null,null,null,null,null,null,null,null,null,null,null,null,null,null,null,null,199,null,null,201643,43,2016,"2016-10-17","2016-10-23"]
[null,null,null,null,null,null,null,null,null,null,null,null,null,null,null,null,null,null,null,null,null,null,null,null,null,null,null,null,null,null,null,null,null,null,null,null,null,null,null,null,null,null,null,null,null,null,null,null,null,200,null,null,201644,44,2016,"2016-10-24","2016-10-30"]
[null,null,null,null,null,null,null,null,null,null,null,null,null,null,null,null,null,null,null,null,null,null,null,null,null,null,null,null,null,null,null,null,null,null,null,null,null,null,null,null,null,null,null,null,null,null,null,null,null,201,null,null,201645,45,2016,"2016-10-31","2016-11-06"]
[null,null,null,null,null,null,null,null,null,null,null,null,null,null,null,null,null,null,null,null,null,null,null,null,null,null,null,null,null,null,null,null,null,null,null,null,null,null,null,null,null,null,null,null,null,null,null,null,null,202,null,null,201646,46,2016,"2016-11-07","2016-11-13"]
[null,null,null,null,null,null,null,null,null,null,null,null,null,null,null,null,null,null,null,null,null,null,null,null,null,null,null,null,null,null,null,null,null,null,null,null,null,null,null,null,null,null,null,null,null,null,null,null,null,203,null,null,201647,47,2016,"2016-11-14","2016-11-20"]
[null,null,null,null,null,null,null,null,null,null,null,null,null,null,null,null,null,null,null,null,null,null,null,null,null,null,null,null,null,null,null,null,null,null,null,null,null,null,null,null,null,null,null,null,null,null,null,null,null,204,null,null,201648,48,2016,"2016-11-21","2016-11-27"]
[null,null,null,null,null,null,null,null,null,null,null,null,null,null,null,null,null,null,null,null,null,null,null,null,null,null,null,null,null,null,null,null,null,null,null,null,null,null,null,null,null,null,null,null,null,null,null,null,null,205,null,null,201649,49,2016,"2016-11-28","2016-12-04"]
[null,null,null,null,null,null,null,null,null,null,null,null,null,null,null,null,null,null,null,null,null,null,null,null,null,null,null,null,null,null,null,null,null,null,null,null,null,null,null,null,null,null,null,null,null,null,null,null,null,206,null,null,201650,50,2016,"2016-12-05","2016-12-11"]
[null,null,null,null,null,null,null,null,null,null,null,null,null,null,null,null,null,null,null,null,null,null,null,null,null,null,null,null,null,null,null,null,null,null,null,null,null,null,null,null,null,null,null,null,null,null,null,null,null,207,null,null,201651,51,2016,"2016-12-12","2016-12-18"]
[null,null,null,null,null,null,null,null,null,null,null,null,null,null,null,null,null,null,null,null,null,null,null,null,null,null,null,null,null,null,null,null,null,null,null,null,null,null,null,null,null,null,null,null,null,null,null,null,null,208,null,null,201652,52,2016,"2016-12-19","2016-12-25"]
[null,null,null,null,null,null,null,null,null,null,null,null,null,null,null,null,null,null,null,null,null,null,null,null,null,null,null,null,null,null,null,null,null,null,null,null,null,null,null,null,null,null,null,null,null,null,null,null,null,209,null,null,201653,53,2016,"2016-12-26","2017-01-01"]
[null,null,null,null,null,null,null,null,null,null,null,null,null,null,null,null,null,null,null,null,null,null,null,null,null,null,null,null,null,null,null,null,null,null,null,null,null,null,null,null,null,null,null,null,null,null,null,null,null,210,null,null,20171,1,2017,"2017-01-02","2017-01-08"]
[null,null,null,null,null,null,null,null,null,null,null,null,null,null,null,null,null,null,null,null,null,null,null,null,null,null,null,null,null,null,null,null,null,null,null,null,null,null,null,null,null,null,null,null,null,null,null,null,null,211,null,null,20172,2,2017,"2017-01-09","2017-01-15"]
[null,null,null,null,null,null,null,null,null,null,null,null,null,null,null,null,null,null,null,null,null,null,null,null,null,null,null,null,null,null,null,null,null,null,null,null,null,null,null,null,null,null,null,null,null,null,null,null,null,212,null,null,20173,3,2017,"2017-01-16","2017-01-22"]
[null,null,null,null,null,null,null,null,null,null,null,null,null,null,null,null,null,null,null,null,null,null,null,null,null,null,null,null,null,null,null,null,null,null,null,null,null,null,null,null,null,null,null,null,null,null,null,null,null,213,null,null,20174,4,2017,"2017-01-23","2017-01-29"]
[null,null,null,null,null,null,null,null,null,null,null,null,null,null,null,null,null,null,null,null,null,null,null,null,null,null,null,null,null,null,null,null,null,null,null,null,null,null,null,null,null,null,null,null,null,null,null,null,null,214,null,null,20175,5,2017,"2017-01-30","2017-02-05"]
[null,null,null,null,null,null,null,null,null,null,null,null,null,null,null,null,null,null,null,null,null,null,null,null,null,null,null,null,null,null,null,null,null,null,null,null,null,null,null,null,null,null,null,null,null,null,null,null,null,215,null,null,20176,6,2017,"2017-02-06","2017-02-12"]
[null,null,null,null,null,null,null,null,null,null,null,null,null,null,null,null,null,null,null,null,null,null,null,null,null,null,null,null,null,null,null,null,null,null,null,null,null,null,null,null,null,null,null,null,null,null,null,null,null,216,null,null,20177,7,2017,"2017-02-13","2017-02-19"]
[null,null,null,null,null,null,null,null,null,null,null,null,null,null,null,null,null,null,null,null,null,null,null,null,null,null,null,null,null,null,null,null,null,null,null,null,null,null,null,null,null,null,null,null,null,null,null,null,null,217,null,null,20178,8,2017,"2017-02-20","2017-02-26"]
[null,null,null,null,null,null,null,null,null,null,null,null,null,null,null,null,null,null,null,null,null,null,null,null,null,null,null,null,null,null,null,null,null,null,null,null,null,null,null,null,null,null,null,null,null,null,null,null,null,218,null,null,20179,9,2017,"2017-02-27","2017-03-05"]
[null,null,null,null,null,null,null,null,null,null,null,null,null,null,null,null,null,null,null,null,null,null,null,null,null,null,null,null,null,null,null,null,null,null,null,null,null,null,null,null,null,null,null,null,null,null,null,null,null,219,null,null,201710,10,2017,"2017-03-06","2017-03-12"]
[null,null,null,null,null,null,null,null,null,null,null,null,null,null,null,null,null,null,null,null,null,null,null,null,null,null,null,null,null,null,null,null,null,null,null,null,null,null,null,null,null,null,null,null,null,null,null,null,null,220,null,null,201711,11,2017,"2017-03-13","2017-03-19"]
[null,null,null,null,null,null,null,null,null,null,null,null,null,null,null,null,null,null,null,null,null,null,null,null,null,null,null,null,null,null,null,null,null,null,null,null,null,null,null,null,null,null,null,null,null,null,null,null,null,221,null,null,201712,12,2017,"2017-03-20","2017-03-26"]
[null,null,null,null,null,null,null,null,null,null,null,null,null,null,null,null,null,null,null,null,null,null,null,null,null,null,null,null,null,null,null,null,null,null,null,null,null,null,null,null,null,null,null,null,null,null,null,null,null,222,null,null,201713,13,2017,"2017-03-27","2017-04-02"]
[null,null,null,null,null,null,null,null,null,null,null,null,null,null,null,null,null,null,null,null,null,null,null,null,null,null,null,null,null,null,null,null,null,null,null,null,null,null,null,null,null,null,null,null,null,null,null,null,null,223,null,null,201714,14,2017,"2017-04-03","2017-04-09"]
[null,null,null,null,null,null,null,null,null,null,null,null,null,null,null,null,null,null,null,null,null,null,null,null,null,null,null,null,null,null,null,null,null,null,null,null,null,null,null,null,null,null,null,null,null,null,null,null,null,224,null,null,201715,15,2017,"2017-04-10","2017-04-16"]
[null,null,null,null,null,null,null,null,null,null,null,null,null,null,null,null,null,null,null,null,null,null,null,null,null,null,null,null,null,null,null,null,null,null,null,null,null,null,null,null,null,null,null,null,null,null,null,null,null,225,null,null,201716,16,2017,"2017-04-17","2017-04-23"]
[null,null,null,null,null,null,null,null,null,null,null,null,null,null,null,null,null,null,null,null,null,null,null,null,null,null,null,null,null,null,null,null,null,null,null,null,null,null,null,null,null,null,null,null,null,null,null,null,null,226,null,null,201717,17,2017,"2017-04-24","2017-04-30"]
[null,null,null,null,null,null,null,null,null,null,null,null,null,null,null,null,null,null,null,null,null,null,null,null,null,null,null,null,null,null,null,null,null,null,null,null,null,null,null,null,null,null,null,null,null,null,null,null,null,227,null,null,201718,18,2017,"2017-05-01","2017-05-07"]
[null,null,null,null,null,null,null,null,null,null,null,null,null,null,null,null,null,null,null,null,null,null,null,null,null,null,null,null,null,null,null,null,null,null,null,null,null,null,null,null,null,null,null,null,null,null,null,null,null,228,null,null,201719,19,2017,"2017-05-08","2017-05-14"]
[null,null,null,null,null,null,null,null,null,null,null,null,null,null,null,null,null,null,null,null,null,null,null,null,null,null,null,null,null,null,null,null,null,null,null,null,null,null,null,null,null,null,null,null,null,null,null,null,null,229,null,null,201720,20,2017,"2017-05-15","2017-05-21"]
[null,null,null,null,null,null,null,null,null,null,null,null,null,null,null,null,null,null,null,null,null,null,null,null,null,null,null,null,null,null,null,null,null,null,null,null,null,null,null,null,null,null,null,null,null,null,null,null,null,230,null,null,201721,21,2017,"2017-05-22","2017-05-28"]
[null,null,null,null,null,null,null,null,null,null,null,null,null,null,null,null,null,null,null,null,null,null,null,null,null,null,null,null,null,null,null,null,null,null,null,null,null,null,null,null,null,null,null,null,null,null,null,null,null,231,null,null,201722,22,2017,"2017-05-29","2017-06-04"]
[null,null,null,null,null,null,null,null,null,null,null,null,null,null,null,null,null,null,null,null,null,null,null,null,null,null,null,null,null,null,null,null,null,null,null,null,null,null,null,null,null,null,null,null,null,null,null,null,null,232,null,null,201723,23,2017,"2017-06-05","2017-06-11"]
[null,null,null,null,null,null,null,null,null,null,null,null,null,null,null,null,null,null,null,null,null,null,null,null,null,null,null,null,null,null,null,null,null,null,null,null,null,null,null,null,null,null,null,null,null,null,null,null,null,233,null,null,201724,24,2017,"2017-06-12","2017-06-18"]
[null,null,null,null,null,null,null,null,null,null,null,null,null,null,null,null,null,null,null,null,null,null,null,null,null,null,null,null,null,null,null,null,null,null,null,null,null,null,null,null,null,null,null,null,null,null,null,null,null,234,null,null,201725,25,2017,"2017-06-19","2017-06-25"]
[null,null,null,null,null,null,null,null,null,null,null,null,null,null,null,null,null,null,null,null,null,null,null,null,null,null,null,null,null,null,null,null,null,null,null,null,null,null,null,null,null,null,null,null,null,null,null,null,null,235,null,null,201726,26,2017,"2017-06-26","2017-07-02"]
[null,null,null,null,null,null,null,null,null,null,null,null,null,null,null,null,null,null,null,null,null,null,null,null,null,null,null,null,null,null,null,null,null,null,null,null,null,null,null,null,null,null,null,null,null,null,null,null,null,236,null,null,201727,27,2017,"2017-07-03","2017-07-09"]
[null,null,null,null,null,null,null,null,null,null,null,null,null,null,null,null,null,null,null,null,null,null,null,null,null,null,null,null,null,null,null,null,null,null,null,null,null,null,null,null,null,null,null,null,null,null,null,null,null,237,null,null,201728,28,2017,"2017-07-10","2017-07-16"]
[null,null,null,null,null,null,null,null,null,null,null,null,null,null,null,null,null,null,null,null,null,null,null,null,null,null,null,null,null,null,null,null,null,null,null,null,null,null,null,null,null,null,null,null,null,null,null,null,null,238,null,null,201729,29,2017,"2017-07-17","2017-07-23"]
[null,null,null,null,null,null,null,null,null,null,null,null,null,null,null,null,null,null,null,null,null,null,null,null,null,null,null,null,null,null,null,null,null,null,null,null,null,null,null,null,null,null,null,null,null,null,null,null,null,239,null,null,201730,30,2017,"2017-07-24","2017-07-30"]
[null,null,null,null,null,null,null,null,null,null,null,null,null,null,null,null,null,null,null,null,null,null,null,null,null,null,null,null,null,null,null,null,null,null,null,null,null,null,null,null,null,null,null,null,null,null,null,null,null,240,null,null,201731,31,2017,"2017-07-31","2017-08-06"]
[null,null,null,null,null,null,null,null,null,null,null,null,null,null,null,null,null,null,null,null,null,null,null,null,null,null,null,null,null,null,null,null,null,null,null,null,null,null,null,null,null,null,null,null,null,null,null,null,null,241,null,null,201732,32,2017,"2017-08-07","2017-08-13"]
[null,null,null,null,null,null,null,null,null,null,null,null,null,null,null,null,null,null,null,null,null,null,null,null,null,null,null,null,null,null,null,null,null,null,null,null,null,null,null,null,null,null,null,null,null,null,null,null,null,242,null,null,201733,33,2017,"2017-08-14","2017-08-20"]
[null,null,null,null,null,null,null,null,null,null,null,null,null,null,null,null,null,null,null,null,null,null,null,null,null,null,null,null,null,null,null,null,null,null,null,null,null,null,null,null,null,null,null,null,null,null,null,null,null,243,null,null,201734,34,2017,"2017-08-21","2017-08-27"]
[null,null,null,null,null,null,null,null,null,null,null,null,null,null,null,null,null,null,null,null,null,null,null,null,null,null,null,null,null,null,null,null,null,null,null,null,null,null,null,null,null,null,null,null,null,null,null,null,null,244,null,null,201735,35,2017,"2017-08-28","2017-09-03"]
[null,null,null,null,null,null,null,null,null,null,null,null,null,null,null,null,null,null,null,null,null,null,null,null,null,null,null,null,null,null,null,null,null,null,null,null,null,null,null,null,null,null,null,null,null,null,null,null,null,245,null,null,201736,36,2017,"2017-09-04","2017-09-10"]
[null,null,null,null,null,null,null,null,null,null,null,null,null,null,null,null,null,null,null,null,null,null,null,null,null,null,null,null,null,null,null,null,null,null,null,null,null,null,null,null,null,null,null,null,null,null,null,null,null,246,null,null,201737,37,2017,"2017-09-11","2017-09-17"]
[null,null,null,null,null,null,null,null,null,null,null,null,null,null,null,null,null,null,null,null,null,null,null,null,null,null,null,null,null,null,null,null,null,null,null,null,null,null,null,null,null,null,null,null,null,null,null,null,null,247,null,null,201738,38,2017,"2017-09-18","2017-09-24"]
[null,null,null,null,null,null,null,null,null,null,null,null,null,null,null,null,null,null,null,null,null,null,null,null,null,null,null,null,null,null,null,null,null,null,null,null,null,null,null,null,null,null,null,null,null,null,null,null,null,248,null,null,201739,39,2017,"2017-09-25","2017-10-01"]
[null,null,null,null,null,null,null,null,null,null,null,null,null,null,null,null,null,null,null,null,null,null,null,null,null,null,null,null,null,null,null,null,null,null,null,null,null,null,null,null,null,null,null,null,null,null,null,null,null,249,null,null,201740,40,2017,"2017-10-02","2017-10-08"]
[null,null,null,null,null,null,null,null,null,null,null,null,null,null,null,null,null,null,null,null,null,null,null,null,null,null,null,null,null,null,null,null,null,null,null,null,null,null,null,null,null,null,null,null,null,null,null,null,null,250,null,null,201741,41,2017,"2017-10-09","2017-10-15"]
[null,null,null,null,null,null,null,null,null,null,null,null,null,null,null,null,null,null,null,null,null,null,null,null,null,null,null,null,null,null,null,null,null,null,null,null,null,null,null,null,null,null,null,null,null,null,null,null,null,251,null,null,201742,42,2017,"2017-10-16","2017-10-22"]
[null,null,null,null,null,null,null,null,null,null,null,null,null,null,null,null,null,null,null,null,null,null,null,null,null,null,null,null,null,null,null,null,null,null,null,null,null,null,null,null,null,null,null,null,null,null,null,null,null,252,null,null,201743,43,2017,"2017-10-23","2017-10-29"]
[null,null,null,null,null,null,null,null,null,null,null,null,null,null,null,null,null,null,null,null,null,null,null,null,null,null,null,null,null,null,null,null,null,null,null,null,null,null,null,null,null,null,null,null,null,null,null,null,null,253,null,null,201744,44,2017,"2017-10-30","2017-11-05"]
[null,null,null,null,null,null,null,null,null,null,null,null,null,null,null,null,null,null,null,null,null,null,null,null,null,null,null,null,null,null,null,null,null,null,null,null,null,null,null,null,null,null,null,null,null,null,null,null,null,254,null,null,201745,45,2017,"2017-11-06","2017-11-12"]
[null,null,null,null,null,null,null,null,null,null,null,null,null,null,null,null,null,null,null,null,null,null,null,null,null,null,null,null,null,null,null,null,null,null,null,null,null,null,null,null,null,null,null,null,null,null,null,null,null,255,null,null,201746,46,2017,"2017-11-13","2017-11-19"]
[null,null,null,null,null,null,null,null,null,null,null,null,null,null,null,null,null,null,null,null,null,null,null,null,null,null,null,null,null,null,null,null,null,null,null,null,null,null,null,null,null,null,null,null,null,null,null,null,null,256,null,null,201747,47,2017,"2017-11-20","2017-11-26"]
[null,null,null,null,null,null,null,null,null,null,null,null,null,null,null,null,null,null,null,null,null,null,null,null,null,null,null,null,null,null,null,null,null,null,null,null,null,null,null,null,null,null,null,null,null,null,null,null,null,257,null,null,201748,48,2017,"2017-11-27","2017-12-03"]
[null,null,null,null,null,null,null,null,null,null,null,null,null,null,null,null,null,null,null,null,null,null,null,null,null,null,null,null,null,null,null,null,null,null,null,null,null,null,null,null,null,null,null,null,null,null,null,null,null,258,null,null,201749,49,2017,"2017-12-04","2017-12-10"]
[null,null,null,null,null,null,null,null,null,null,null,null,null,null,null,null,null,null,null,null,null,null,null,null,null,null,null,null,null,null,null,null,null,null,null,null,null,null,null,null,null,null,null,null,null,null,null,null,null,259,null,null,201750,50,2017,"2017-12-11","2017-12-17"]
[null,null,null,null,null,null,null,null,null,null,null,null,null,null,null,null,null,null,null,null,null,null,null,null,null,null,null,null,null,null,null,null,null,null,null,null,null,null,null,null,null,null,null,null,null,null,null,null,null,260,null,null,201751,51,2017,"2017-12-18","2017-12-24"]
[null,null,null,null,null,null,null,null,null,null,null,null,null,null,null,null,null,null,null,null,null,null,null,null,null,null,null,null,null,null,null,null,null,null,null,null,null,null,null,null,null,null,null,null,null,null,null,null,null,261,null,null,201752,52,2017,"2017-12-25","2017-12-31"]
[null,null,null,null,null,null,null,null,null,null,null,null,null,null,null,null,null,null,null,null,null,null,null,null,null,null,null,null,null,null,null,null,null,null,null,null,null,null,null,null,null,null,null,null,null,null,null,null,null,262,null,null,20181,1,2018,"2018-01-01","2018-01-07"]
[null,null,null,null,null,null,null,null,null,null,null,null,null,null,null,null,null,null,null,null,null,null,null,null,null,null,null,null,null,null,null,null,null,null,null,null,null,null,null,null,null,null,null,null,null,null,null,null,null,263,null,null,20182,2,2018,"2018-01-08","2018-01-14"]
[null,null,null,null,null,null,null,null,null,null,null,null,null,null,null,null,null,null,null,null,null,null,null,null,null,null,null,null,null,null,null,null,null,null,null,null,null,null,null,null,null,null,null,null,null,null,null,null,null,264,null,null,20183,3,2018,"2018-01-15","2018-01-21"]
[null,null,null,null,null,null,null,null,null,null,null,null,null,null,null,null,null,null,null,null,null,null,null,null,null,null,null,null,null,null,null,null,null,null,null,null,null,null,null,null,null,null,null,null,null,null,null,null,null,265,null,null,20184,4,2018,"2018-01-22","2018-01-28"]
[null,null,null,null,null,null,null,null,null,null,null,null,null,null,null,null,null,null,null,null,null,null,null,null,null,null,null,null,null,null,null,null,null,null,null,null,null,null,null,null,null,null,null,null,null,null,null,null,null,266,null,null,20185,5,2018,"2018-01-29","2018-02-04"]
[null,null,null,null,null,null,null,null,null,null,null,null,null,null,null,null,null,null,null,null,null,null,null,null,null,null,null,null,null,null,null,null,null,null,null,null,null,null,null,null,null,null,null,null,null,null,null,null,null,267,null,null,20186,6,2018,"2018-02-05","2018-02-11"]
[null,null,null,null,null,null,null,null,null,null,null,null,null,null,null,null,null,null,null,null,null,null,null,null,null,null,null,null,null,null,null,null,null,null,null,null,null,null,null,null,null,null,null,null,null,null,null,null,null,268,null,null,20187,7,2018,"2018-02-12","2018-02-18"]
[null,null,null,null,null,null,null,null,null,null,null,null,null,null,null,null,null,null,null,null,null,null,null,null,null,null,null,null,null,null,null,null,null,null,null,null,null,null,null,null,null,null,null,null,null,null,null,null,null,269,null,null,20188,8,2018,"2018-02-19","2018-02-25"]
[null,null,null,null,null,null,null,null,null,null,null,null,null,null,null,null,null,null,null,null,null,null,null,null,null,null,null,null,null,null,null,null,null,null,null,null,null,null,null,null,null,null,null,null,null,null,null,null,null,270,null,null,20189,9,2018,"2018-02-26","2018-03-04"]
[null,null,null,null,null,null,null,null,null,null,null,null,null,null,null,null,null,null,null,null,null,null,null,null,null,null,null,null,null,null,null,null,null,null,null,null,null,null,null,null,null,null,null,null,null,null,null,null,null,271,null,null,201810,10,2018,"2018-03-05","2018-03-11"]
[null,null,null,null,null,null,null,null,null,null,null,null,null,null,null,null,null,null,null,null,null,null,null,null,null,null,null,null,null,null,null,null,null,null,null,null,null,null,null,null,null,null,null,null,null,null,null,null,null,272,null,null,201811,11,2018,"2018-03-12","2018-03-18"]
[null,null,null,null,null,null,null,null,null,null,null,null,null,null,null,null,null,null,null,null,null,null,null,null,null,null,null,null,null,null,null,null,null,null,null,null,null,null,null,null,null,null,null,null,null,null,null,null,null,273,null,null,201812,12,2018,"2018-03-19","2018-03-25"]
[null,null,null,null,null,null,null,null,null,null,null,null,null,null,null,null,null,null,null,null,null,null,null,null,null,null,null,null,null,null,null,null,null,null,null,null,null,null,null,null,null,null,null,null,null,null,null,null,null,274,null,null,201813,13,2018,"2018-03-26","2018-04-01"]
[null,null,null,null,null,null,null,null,null,null,null,null,null,null,null,null,null,null,null,null,null,null,null,null,null,null,null,null,null,null,null,null,null,null,null,null,null,null,null,null,null,null,null,null,null,null,null,null,null,275,null,null,201814,14,2018,"2018-04-02","2018-04-08"]
[null,null,null,null,null,null,null,null,null,null,null,null,null,null,null,null,null,null,null,null,null,null,null,null,null,null,null,null,null,null,null,null,null,null,null,null,null,null,null,null,null,null,null,null,null,null,null,null,null,276,null,null,201815,15,2018,"2018-04-09","2018-04-15"]
[null,null,null,null,null,null,null,null,null,null,null,null,null,null,null,null,null,null,null,null,null,null,null,null,null,null,null,null,null,null,null,null,null,null,null,null,null,null,null,null,null,null,null,null,null,null,null,null,null,277,null,null,201816,16,2018,"2018-04-16","2018-04-22"]
[null,null,null,null,null,null,null,null,null,null,null,null,null,null,null,null,null,null,null,null,null,null,null,null,null,null,null,null,null,null,null,null,null,null,null,null,null,null,null,null,null,null,null,null,null,null,null,null,null,278,null,null,201817,17,2018,"2018-04-23","2018-04-29"]
[null,null,null,null,null,null,null,null,null,null,null,null,null,null,null,null,null,null,null,null,null,null,null,null,null,null,null,null,null,null,null,null,null,null,null,null,null,null,null,null,null,null,null,null,null,null,null,null,null,279,null,null,201818,18,2018,"2018-04-30","2018-05-06"]
[null,null,null,null,null,null,null,null,null,null,null,null,null,null,null,null,null,null,null,null,null,null,null,null,null,null,null,null,null,null,null,null,null,null,null,null,null,null,null,null,null,null,null,null,null,null,null,null,null,280,null,null,201819,19,2018,"2018-05-07","2018-05-13"]
[null,null,null,null,null,null,null,null,null,null,null,null,null,null,null,null,null,null,null,null,null,null,null,null,null,null,null,null,null,null,null,null,null,null,null,null,null,null,null,null,null,null,null,null,null,null,null,null,null,281,null,null,201820,20,2018,"2018-05-14","2018-05-20"]
[null,null,null,null,null,null,null,null,null,null,null,null,null,null,null,null,null,null,null,null,null,null,null,null,null,null,null,null,null,null,null,null,null,null,null,null,null,null,null,null,null,null,null,null,null,null,null,null,null,282,null,null,201821,21,2018,"2018-05-21","2018-05-27"]
[null,null,null,null,null,null,null,null,null,null,null,null,null,null,null,null,null,null,null,null,null,null,null,null,null,null,null,null,null,null,null,null,null,null,null,null,null,null,null,null,null,null,null,null,null,null,null,null,null,283,null,null,201822,22,2018,"2018-05-28","2018-06-03"]
[null,null,null,null,null,null,null,null,null,null,null,null,null,null,null,null,null,null,null,null,null,null,null,null,null,null,null,null,null,null,null,null,null,null,null,null,null,null,null,null,null,null,null,null,null,null,null,null,null,284,null,null,201823,23,2018,"2018-06-04","2018-06-10"]
[null,null,null,null,null,null,null,null,null,null,null,null,null,null,null,null,null,null,null,null,null,null,null,null,null,null,null,null,null,null,null,null,null,null,null,null,null,null,null,null,null,null,null,null,null,null,null,null,null,285,null,null,201824,24,2018,"2018-06-11","2018-06-17"]
[null,null,null,null,null,null,null,null,null,null,null,null,null,null,null,null,null,null,null,null,null,null,null,null,null,null,null,null,null,null,null,null,null,null,null,null,null,null,null,null,null,null,null,null,null,null,null,null,null,286,null,null,201825,25,2018,"2018-06-18","2018-06-24"]
[null,null,null,null,null,null,null,null,null,null,null,null,null,null,null,null,null,null,null,null,null,null,null,null,null,null,null,null,null,null,null,null,null,null,null,null,null,null,null,null,null,null,null,null,null,null,null,null,null,287,null,null,201826,26,2018,"2018-06-25","2018-07-01"]
[null,null,null,null,null,null,null,null,null,null,null,null,null,null,null,null,null,null,null,null,null,null,null,null,null,null,null,null,null,null,null,null,null,null,null,null,null,null,null,null,null,null,null,null,null,null,null,null,null,288,null,null,201827,27,2018,"2018-07-02","2018-07-08"]
[null,null,null,null,null,null,null,null,null,null,null,null,null,null,null,null,null,null,null,null,null,null,null,null,null,null,null,null,null,null,null,null,null,null,null,null,null,null,null,null,null,null,null,null,null,null,null,null,null,289,null,null,201828,28,2018,"2018-07-09","2018-07-15"]
[null,null,null,null,null,null,null,null,null,null,null,null,null,null,null,null,null,null,null,null,null,null,null,null,null,null,null,null,null,null,null,null,null,null,null,null,null,null,null,null,null,null,null,null,null,null,null,null,null,290,null,null,201829,29,2018,"2018-07-16","2018-07-22"]
[null,null,null,null,null,null,null,null,null,null,null,null,null,null,null,null,null,null,null,null,null,null,null,null,null,null,null,null,null,null,null,null,null,null,null,null,null,null,null,null,null,null,null,null,null,null,null,null,null,291,null,null,201830,30,2018,"2018-07-23","2018-07-29"]
[null,null,null,null,null,null,null,null,null,null,null,null,null,null,null,null,null,null,null,null,null,null,null,null,null,null,null,null,null,null,null,null,null,null,null,null,null,null,null,null,null,null,null,null,null,null,null,null,null,292,null,null,201831,31,2018,"2018-07-30","2018-08-05"]
[null,null,null,null,null,null,null,null,null,null,null,null,null,null,null,null,null,null,null,null,null,null,null,null,null,null,null,null,null,null,null,null,null,null,null,null,null,null,null,null,null,null,null,null,null,null,null,null,null,293,null,null,201832,32,2018,"2018-08-06","2018-08-12"]
[null,null,null,null,null,null,null,null,null,null,null,null,null,null,null,null,null,null,null,null,null,null,null,null,null,null,null,null,null,null,null,null,null,null,null,null,null,null,null,null,null,null,null,null,null,null,null,null,null,294,null,null,201833,33,2018,"2018-08-13","2018-08-19"]
[null,null,null,null,null,null,null,null,null,null,null,null,null,null,null,null,null,null,null,null,null,null,null,null,null,null,null,null,null,null,null,null,null,null,null,null,null,null,null,null,null,null,null,null,null,null,null,null,null,295,null,null,201834,34,2018,"2018-08-20","2018-08-26"]
[null,null,null,null,null,null,null,null,null,null,null,null,null,null,null,null,null,null,null,null,null,null,null,null,null,null,null,null,null,null,null,null,null,null,null,null,null,null,null,null,null,null,null,null,null,null,null,null,null,296,null,null,201835,35,2018,"2018-08-27","2018-09-02"]
[null,null,null,null,null,null,null,null,null,null,null,null,null,null,null,null,null,null,null,null,null,null,null,null,null,null,null,null,null,null,null,null,null,null,null,null,null,null,null,null,null,null,null,null,null,null,null,null,null,297,null,null,201836,36,2018,"2018-09-03","2018-09-09"]
[null,null,null,null,null,null,null,null,null,null,null,null,null,null,null,null,null,null,null,null,null,null,null,null,null,null,null,null,null,null,null,null,null,null,null,null,null,null,null,null,null,null,null,null,null,null,null,null,null,298,null,null,201837,37,2018,"2018-09-10","2018-09-16"]
[null,null,null,null,null,null,null,null,null,null,null,null,null,null,null,null,null,null,null,null,null,null,null,null,null,null,null,null,null,null,null,null,null,null,null,null,null,null,null,null,null,null,null,null,null,null,null,null,null,299,null,null,201838,38,2018,"2018-09-17","2018-09-23"]
[null,null,null,null,null,null,null,null,null,null,null,null,null,null,null,null,null,null,null,null,null,null,null,null,null,null,null,null,null,null,null,null,null,null,null,null,null,null,null,null,null,null,null,null,null,null,null,null,null,300,null,null,201839,39,2018,"2018-09-24","2018-09-30"]
[null,null,null,null,null,null,null,null,null,null,null,null,null,null,null,null,null,null,null,null,null,null,null,null,null,null,null,null,null,null,null,null,null,null,null,null,null,null,null,null,null,null,null,null,null,null,null,null,null,301,null,null,201840,40,2018,"2018-10-01","2018-10-07"]
[null,null,null,null,null,null,null,null,null,null,null,null,null,null,null,null,null,null,null,null,null,null,null,null,null,null,null,null,null,null,null,null,null,null,null,null,null,null,null,null,null,null,null,null,null,null,null,null,null,302,null,null,201841,41,2018,"2018-10-08","2018-10-14"]
[null,null,null,null,null,null,null,null,null,null,null,null,null,null,null,null,null,null,null,null,null,null,null,null,null,null,null,null,null,null,null,null,null,null,null,null,null,null,null,null,null,null,null,null,null,null,null,null,null,303,null,null,201842,42,2018,"2018-10-15","2018-10-21"]
[null,null,null,null,null,null,null,null,null,null,null,null,null,null,null,null,null,null,null,null,null,null,null,null,null,null,null,null,null,null,null,null,null,null,null,null,null,null,null,null,null,null,null,null,null,null,null,null,null,304,null,null,201843,43,2018,"2018-10-22","2018-10-28"]
[null,null,null,null,null,null,null,null,null,null,null,null,null,null,null,null,null,null,null,null,null,null,null,null,null,null,null,null,null,null,null,null,null,null,null,null,null,null,null,null,null,null,null,null,null,null,null,null,null,305,null,null,201844,44,2018,"2018-10-29","2018-11-04"]
[null,null,null,null,null,null,null,null,null,null,null,null,null,null,null,null,null,null,null,null,null,null,null,null,null,null,null,null,null,null,null,null,null,null,null,null,null,null,null,null,null,null,null,null,null,null,null,null,null,306,null,null,201845,45,2018,"2018-11-05","2018-11-11"]
[null,null,null,null,null,null,null,null,null,null,null,null,null,null,null,null,null,null,null,null,null,null,null,null,null,null,null,null,null,null,null,null,null,null,null,null,null,null,null,null,null,null,null,null,null,null,null,null,null,307,null,null,201846,46,2018,"2018-11-12","2018-11-18"]
[null,null,null,null,null,null,null,null,null,null,null,null,null,null,null,null,null,null,null,null,null,null,null,null,null,null,null,null,null,null,null,null,null,null,null,null,null,null,null,null,null,null,null,null,null,null,null,null,null,308,null,null,201847,47,2018,"2018-11-19","2018-11-25"]
[null,null,null,null,null,null,null,null,null,null,null,null,null,null,null,null,null,null,null,null,null,null,null,null,null,null,null,null,null,null,null,null,null,null,null,null,null,null,null,null,null,null,null,null,null,null,null,null,null,309,null,null,201848,48,2018,"2018-11-26","2018-12-02"]
[null,null,null,null,null,null,null,null,null,null,null,null,null,null,null,null,null,null,null,null,null,null,null,null,null,null,null,null,null,null,null,null,null,null,null,null,null,null,null,null,null,null,null,null,null,null,null,null,null,310,null,null,201849,49,2018,"2018-12-03","2018-12-09"]
[null,null,null,null,null,null,null,null,null,null,null,null,null,null,null,null,null,null,null,null,null,null,null,null,null,null,null,null,null,null,null,null,null,null,null,null,null,null,null,null,null,null,null,null,null,null,null,null,null,311,null,null,201850,50,2018,"2018-12-10","2018-12-16"]
[null,null,null,null,null,null,null,null,null,null,null,null,null,null,null,null,null,null,null,null,null,null,null,null,null,null,null,null,null,null,null,null,null,null,null,null,null,null,null,null,null,null,null,null,null,null,null,null,null,312,null,null,201851,51,2018,"2018-12-17","2018-12-23"]
[null,null,null,null,null,null,null,null,null,null,null,null,null,null,null,null,null,null,null,null,null,null,null,null,null,null,null,null,null,null,null,null,null,null,null,null,null,null,null,null,null,null,null,null,null,null,null,null,null,313,null,null,201852,52,2018,"2018-12-24","2018-12-30"]
[null,null,null,null,null,null,null,null,null,null,null,null,null,null,null,null,null,null,null,null,null,null,null,null,null,null,null,null,null,null,null,null,null,null,null,null,null,null,null,null,null,null,null,null,null,null,null,null,null,314,null,null,20191,1,2018,"2018-12-31","2019-01-06"]
[null,null,null,null,null,null,null,null,null,null,null,null,null,null,null,null,null,null,null,null,null,null,null,null,null,null,null,null,null,null,null,null,null,null,null,null,null,null,null,null,null,null,null,null,null,null,null,null,null,315,null,null,20192,2,2019,"2019-01-07","2019-01-13"]
[null,null,null,null,null,null,null,null,null,null,null,null,null,null,null,null,null,null,null,null,null,null,null,null,null,null,null,null,null,null,null,null,null,null,null,null,null,null,null,null,null,null,null,null,null,null,null,null,null,316,null,null,20193,3,2019,"2019-01-14","2019-01-20"]
[null,null,null,null,null,null,null,null,null,null,null,null,null,null,null,null,null,null,null,null,null,null,null,null,null,null,null,null,null,null,null,null,null,null,null,null,null,null,null,null,null,null,null,null,null,null,null,null,null,317,null,null,20194,4,2019,"2019-01-21","2019-01-27"]
[null,null,null,null,null,null,null,null,null,null,null,null,null,null,null,null,null,null,null,null,null,null,null,null,null,null,null,null,null,null,null,null,null,null,null,null,null,null,null,null,null,null,null,null,null,null,null,null,null,318,null,null,20195,5,2019,"2019-01-28","2019-02-03"]
[null,null,null,null,null,null,null,null,null,null,null,null,null,null,null,null,null,null,null,null,null,null,null,null,null,null,null,null,null,null,null,null,null,null,null,null,null,null,null,null,null,null,null,null,null,null,null,null,null,319,null,null,20196,6,2019,"2019-02-04","2019-02-10"]
[null,null,null,null,null,null,null,null,null,null,null,null,null,null,null,null,null,null,null,null,null,null,null,null,null,null,null,null,null,null,null,null,null,null,null,null,null,null,null,null,null,null,null,null,null,null,null,null,null,320,null,null,20197,7,2019,"2019-02-11","2019-02-17"]
[null,null,null,null,null,null,null,null,null,null,null,null,null,null,null,null,null,null,null,null,null,null,null,null,null,null,null,null,null,null,null,null,null,null,null,null,null,null,null,null,null,null,null,null,null,null,null,null,null,321,null,null,20198,8,2019,"2019-02-18","2019-02-24"]
[null,null,null,null,null,null,null,null,null,null,null,null,null,null,null,null,null,null,null,null,null,null,null,null,null,null,null,null,null,null,null,null,null,null,null,null,null,null,null,null,null,null,null,null,null,null,null,null,null,322,null,null,20199,9,2019,"2019-02-25","2019-03-03"]
[null,null,null,null,null,null,null,null,null,null,null,null,null,null,null,null,null,null,null,null,null,null,null,null,null,null,null,null,null,null,null,null,null,null,null,null,null,null,null,null,null,null,null,null,null,null,null,null,null,323,null,null,201910,10,2019,"2019-03-04","2019-03-10"]
[null,null,null,null,null,null,null,null,null,null,null,null,null,null,null,null,null,null,null,null,null,null,null,null,null,null,null,null,null,null,null,null,null,null,null,null,null,null,null,null,null,null,null,null,null,null,null,null,null,324,null,null,201911,11,2019,"2019-03-11","2019-03-17"]
[null,null,null,null,null,null,null,null,null,null,null,null,null,null,null,null,null,null,null,null,null,null,null,null,null,null,null,null,null,null,null,null,null,null,null,null,null,null,null,null,null,null,null,null,null,null,null,null,null,325,null,null,201912,12,2019,"2019-03-18","2019-03-24"]
[null,null,null,null,null,null,null,null,null,null,null,null,null,null,null,null,null,null,null,null,null,null,null,null,null,null,null,null,null,null,null,null,null,null,null,null,null,null,null,null,null,null,null,null,null,null,null,null,null,326,null,null,201913,13,2019,"2019-03-25","2019-03-31"]
[null,null,null,null,null,null,null,null,null,null,null,null,null,null,null,null,null,null,null,null,null,null,null,null,null,null,null,null,null,null,null,null,null,null,null,null,null,null,null,null,null,null,null,null,null,null,null,null,null,327,null,null,201914,14,2019,"2019-04-01","2019-04-07"]
[null,null,null,null,null,null,null,null,null,null,null,null,null,null,null,null,null,null,null,null,null,null,null,null,null,null,null,null,null,null,null,null,null,null,null,null,null,null,null,null,null,null,null,null,null,null,null,null,null,328,null,null,201915,15,2019,"2019-04-08","2019-04-14"]
[null,null,null,null,null,null,null,null,null,null,null,null,null,null,null,null,null,null,null,null,null,null,null,null,null,null,null,null,null,null,null,null,null,null,null,null,null,null,null,null,null,null,null,null,null,null,null,null,null,329,null,null,201916,16,2019,"2019-04-15","2019-04-21"]
[null,null,null,null,null,null,null,null,null,null,null,null,null,null,null,null,null,null,null,null,null,null,null,null,null,null,null,null,null,null,null,null,null,null,null,null,null,null,null,null,null,null,null,null,null,null,null,null,null,330,null,null,201917,17,2019,"2019-04-22","2019-04-28"]
[null,null,null,null,null,null,null,null,null,null,null,null,null,null,null,null,null,null,null,null,null,null,null,null,null,null,null,null,null,null,null,null,null,null,null,null,null,null,null,null,null,null,null,null,null,null,null,null,null,331,null,null,201918,18,2019,"2019-04-29","2019-05-05"]
[null,null,null,null,null,null,null,null,null,null,null,null,null,null,null,null,null,null,null,null,null,null,null,null,null,null,null,null,null,null,null,null,null,null,null,null,null,null,null,null,null,null,null,null,null,null,null,null,null,332,null,null,201919,19,2019,"2019-05-06","2019-05-12"]
[null,null,null,null,null,null,null,null,null,null,null,null,null,null,null,null,null,null,null,null,null,null,null,null,null,null,null,null,null,null,null,null,null,null,null,null,null,null,null,null,null,null,null,null,null,null,null,null,null,333,null,null,201920,20,2019,"2019-05-13","2019-05-19"]
[null,null,null,null,null,null,null,null,null,null,null,null,null,null,null,null,null,null,null,null,null,null,null,null,null,null,null,null,null,null,null,null,null,null,null,null,null,null,null,null,null,null,null,null,null,null,null,null,null,334,null,null,201921,21,2019,"2019-05-20","2019-05-26"]
[null,null,null,null,null,null,null,null,null,null,null,null,null,null,null,null,null,null,null,null,null,null,null,null,null,null,null,null,null,null,null,null,null,null,null,null,null,null,null,null,null,null,null,null,null,null,null,null,null,335,null,null,201922,22,2019,"2019-05-27","2019-06-02"]
[null,null,null,null,null,null,null,null,null,null,null,null,null,null,null,null,null,null,null,null,null,null,null,null,null,null,null,null,null,null,null,null,null,null,null,null,null,null,null,null,null,null,null,null,null,null,null,null,null,336,null,null,201923,23,2019,"2019-06-03","2019-06-09"]
[null,null,null,null,null,null,null,null,null,null,null,null,null,null,null,null,null,null,null,null,null,null,null,null,null,null,null,null,null,null,null,null,null,null,null,null,null,null,null,null,null,null,null,null,null,null,null,null,null,337,null,null,201924,24,2019,"2019-06-10","2019-06-16"]
[null,null,null,null,null,null,null,null,null,null,null,null,null,null,null,null,null,null,null,null,null,null,null,null,null,null,null,null,null,null,null,null,null,null,null,null,null,null,null,null,null,null,null,null,null,null,null,null,null,338,null,null,201925,25,2019,"2019-06-17","2019-06-23"]
[null,null,null,null,null,null,null,null,null,null,null,null,null,null,null,null,null,null,null,null,null,null,null,null,null,null,null,null,null,null,null,null,null,null,null,null,null,null,null,null,null,null,null,null,null,null,null,null,null,339,null,null,201926,26,2019,"2019-06-24","2019-06-30"]
[null,null,null,null,null,null,null,null,null,null,null,null,null,null,null,null,null,null,null,null,null,null,null,null,null,null,null,null,null,null,null,null,null,null,null,null,null,null,null,null,null,null,null,null,null,null,null,null,null,340,null,null,201927,27,2019,"2019-07-01","2019-07-07"]
[null,null,null,null,null,null,null,null,null,null,null,null,null,null,null,null,null,null,null,null,null,null,null,null,null,null,null,null,null,null,null,null,null,null,null,null,null,null,null,null,null,null,null,null,null,null,null,null,null,341,null,null,201928,28,2019,"2019-07-08","2019-07-14"]
[null,null,null,null,null,null,null,null,null,null,null,null,null,null,null,null,null,null,null,null,null,null,null,null,null,null,null,null,null,null,null,null,null,null,null,null,null,null,null,null,null,null,null,null,null,null,null,null,null,342,null,null,201929,29,2019,"2019-07-15","2019-07-21"]
[null,null,null,null,null,null,null,null,null,null,null,null,null,null,null,null,null,null,null,null,null,null,null,null,null,null,null,null,null,null,null,null,null,null,null,null,null,null,null,null,null,null,null,null,null,null,null,null,null,343,null,null,201930,30,2019,"2019-07-22","2019-07-28"]
[null,null,null,null,null,null,null,null,null,null,null,null,null,null,null,null,null,null,null,null,null,null,null,null,null,null,null,null,null,null,null,null,null,null,null,null,null,null,null,null,null,null,null,null,null,null,null,null,null,344,null,null,201931,31,2019,"2019-07-29","2019-08-04"]
[null,null,null,null,null,null,null,null,null,null,null,null,null,null,null,null,null,null,null,null,null,null,null,null,null,null,null,null,null,null,null,null,null,null,null,null,null,null,null,null,null,null,null,null,null,null,null,null,null,345,null,null,201932,32,2019,"2019-08-05","2019-08-11"]
[null,null,null,null,null,null,null,null,null,null,null,null,null,null,null,null,null,null,null,null,null,null,null,null,null,null,null,null,null,null,null,null,null,null,null,null,null,null,null,null,null,null,null,null,null,null,null,null,null,346,null,null,201933,33,2019,"2019-08-12","2019-08-18"]
[null,null,null,null,null,null,null,null,null,null,null,null,null,null,null,null,null,null,null,null,null,null,null,null,null,null,null,null,null,null,null,null,null,null,null,null,null,null,null,null,null,null,null,null,null,null,null,null,null,347,null,null,201934,34,2019,"2019-08-19","2019-08-25"]
[null,null,null,null,null,null,null,null,null,null,null,null,null,null,null,null,null,null,null,null,null,null,null,null,null,null,null,null,null,null,null,null,null,null,null,null,null,null,null,null,null,null,null,null,null,null,null,null,null,348,null,null,201935,35,2019,"2019-08-26","2019-09-01"]
[null,null,null,null,null,null,null,null,null,null,null,null,null,null,null,null,null,null,null,null,null,null,null,null,null,null,null,null,null,null,null,null,null,null,null,null,null,null,null,null,null,null,null,null,null,null,null,null,null,349,null,null,201936,36,2019,"2019-09-02","2019-09-08"]
[null,null,null,null,null,null,null,null,null,null,null,null,null,null,null,null,null,null,null,null,null,null,null,null,null,null,null,null,null,null,null,null,null,null,null,null,null,null,null,null,null,null,null,null,null,null,null,null,null,350,null,null,201937,37,2019,"2019-09-09","2019-09-15"]
[null,null,null,null,null,null,null,null,null,null,null,null,null,null,null,null,null,null,null,null,null,null,null,null,null,null,null,null,null,null,null,null,null,null,null,null,null,null,null,null,null,null,null,null,null,null,null,null,null,351,null,null,201938,38,2019,"2019-09-16","2019-09-22"]
[null,null,null,null,null,null,null,null,null,null,null,null,null,null,null,null,null,null,null,null,null,null,null,null,null,null,null,null,null,null,null,null,null,null,null,null,null,null,null,null,null,null,null,null,null,null,null,null,null,352,null,null,201939,39,2019,"2019-09-23","2019-09-29"]
[null,null,null,null,null,null,null,null,null,null,null,null,null,null,null,null,null,null,null,null,null,null,null,null,null,null,null,null,null,null,null,null,null,null,null,null,null,null,null,null,null,null,null,null,null,null,null,null,null,353,null,null,201940,40,2019,"2019-09-30","2019-10-06"]
[null,null,null,null,null,null,null,null,null,null,null,null,null,null,null,null,null,null,null,null,null,null,null,null,null,null,null,null,null,null,null,null,null,null,null,null,null,null,null,null,null,null,null,null,null,null,null,null,null,354,null,null,201941,41,2019,"2019-10-07","2019-10-13"]
[null,null,null,null,null,null,null,null,null,null,null,null,null,null,null,null,null,null,null,null,null,null,null,null,null,null,null,null,null,null,null,null,null,null,null,null,null,null,null,null,null,null,null,null,null,null,null,null,null,355,null,null,201942,42,2019,"2019-10-14","2019-10-20"]
[null,null,null,null,null,null,null,null,null,null,null,null,null,null,null,null,null,null,null,null,null,null,null,null,null,null,null,null,null,null,null,null,null,null,null,null,null,null,null,null,null,null,null,null,null,null,null,null,null,356,null,null,201943,43,2019,"2019-10-21","2019-10-27"]
[null,null,null,null,null,null,null,null,null,null,null,null,null,null,null,null,null,null,null,null,null,null,null,null,null,null,null,null,null,null,null,null,null,null,null,null,null,null,null,null,null,null,null,null,null,null,null,null,null,357,null,null,201944,44,2019,"2019-10-28","2019-11-03"]
[null,null,null,null,null,null,null,null,null,null,null,null,null,null,null,null,null,null,null,null,null,null,null,null,null,null,null,null,null,null,null,null,null,null,null,null,null,null,null,null,null,null,null,null,null,null,null,null,null,358,null,null,201945,45,2019,"2019-11-04","2019-11-10"]
[null,null,null,null,null,null,null,null,null,null,null,null,null,null,null,null,null,null,null,null,null,null,null,null,null,null,null,null,null,null,null,null,null,null,null,null,null,null,null,null,null,null,null,null,null,null,null,null,null,359,null,null,201946,46,2019,"2019-11-11","2019-11-17"]
[null,null,null,null,null,null,null,null,null,null,null,null,null,null,null,null,null,null,null,null,null,null,null,null,null,null,null,null,null,null,null,null,null,null,null,null,null,null,null,null,null,null,null,null,null,null,null,null,null,360,null,null,201947,47,2019,"2019-11-18","2019-11-24"]
[null,null,null,null,null,null,null,null,null,null,null,null,null,null,null,null,null,null,null,null,null,null,null,null,null,null,null,null,null,null,null,null,null,null,null,null,null,null,null,null,null,null,null,null,null,null,null,null,null,361,null,null,201948,48,2019,"2019-11-25","2019-12-01"]
[null,null,null,null,null,null,null,null,null,null,null,null,null,null,null,null,null,null,null,null,null,null,null,null,null,null,null,null,null,null,null,null,null,null,null,null,null,null,null,null,null,null,null,null,null,null,null,null,null,362,null,null,201949,49,2019,"2019-12-02","2019-12-08"]
[null,null,null,null,null,null,null,null,null,null,null,null,null,null,null,null,null,null,null,null,null,null,null,null,null,null,null,null,null,null,null,null,null,null,null,null,null,null,null,null,null,null,null,null,null,null,null,null,null,363,null,null,201950,50,2019,"2019-12-09","2019-12-15"]
[null,null,null,null,null,null,null,null,null,null,null,null,null,null,null,null,null,null,null,null,null,null,null,null,null,null,null,null,null,null,null,null,null,null,null,null,null,null,null,null,null,null,null,null,null,null,null,null,null,364,null,null,201951,51,2019,"2019-12-16","2019-12-22"]
[null,null,null,null,null,null,null,null,null,null,null,null,null,null,null,null,null,null,null,null,null,null,null,null,null,null,null,null,null,null,null,null,null,null,null,null,null,null,null,null,null,null,null,null,null,null,null,null,null,365,null,null,201952,52,2019,"2019-12-23","2019-12-29"]
[null,null,null,null,null,null,null,null,null,null,null,null,null,null,null,null,null,null,null,null,null,null,null,null,null,null,null,null,null,null,null,null,null,null,null,null,null,null,null,null,null,null,null,null,null,null,null,null,null,366,null,null,20201,1,2019,"2019-12-30","2020-01-05"]
[null,null,null,null,null,null,null,null,null,null,null,null,null,null,null,null,null,null,null,null,null,null,null,null,null,null,null,null,null,null,null,null,null,null,null,null,null,null,null,null,null,null,null,null,null,null,null,null,null,367,null,null,20202,2,2020,"2020-01-06","2020-01-12"]
[null,null,null,null,null,null,null,null,null,null,null,null,null,null,null,null,null,null,null,null,null,null,null,null,null,null,null,null,null,null,null,null,null,null,null,null,null,null,null,null,null,null,null,null,null,null,null,null,null,368,null,null,20203,3,2020,"2020-01-13","2020-01-19"]
[null,null,null,null,null,null,null,null,null,null,null,null,null,null,null,null,null,null,null,null,null,null,null,null,null,null,null,null,null,null,null,null,null,null,null,null,null,null,null,null,null,null,null,null,null,null,null,null,null,369,null,null,20204,4,2020,"2020-01-20","2020-01-26"]
[null,null,null,null,null,null,null,null,null,null,null,null,null,null,null,null,null,null,null,null,null,null,null,null,null,null,null,null,null,null,null,null,null,null,null,null,null,null,null,null,null,null,null,null,null,null,null,null,null,370,null,null,20205,5,2020,"2020-01-27","2020-02-02"]
[null,null,null,null,null,null,null,null,null,null,null,null,null,null,null,null,null,null,null,null,null,null,null,null,null,null,null,null,null,null,null,null,null,null,null,null,null,null,null,null,null,null,null,null,null,null,null,null,null,371,null,null,20206,6,2020,"2020-02-03","2020-02-09"]
[null,null,null,null,null,null,null,null,null,null,null,null,null,null,null,null,null,null,null,null,null,null,null,null,null,null,null,null,null,null,null,null,null,null,null,null,null,null,null,null,null,null,null,null,null,null,null,null,null,372,null,null,20207,7,2020,"2020-02-10","2020-02-16"]
[null,null,null,null,null,null,null,null,null,null,null,null,null,null,null,null,null,null,null,null,null,null,null,null,null,null,null,null,null,null,null,null,null,null,null,null,null,null,null,null,null,null,null,null,null,null,null,null,null,373,null,null,20208,8,2020,"2020-02-17","2020-02-23"]
[null,null,null,null,null,null,null,null,null,null,null,null,null,null,null,null,null,null,null,null,null,null,null,null,null,null,null,null,null,null,null,null,null,null,null,null,null,null,null,null,null,null,null,null,null,null,null,null,null,374,null,null,20209,9,2020,"2020-02-24","2020-03-01"]
[null,null,null,null,null,null,null,null,null,null,null,null,null,null,null,null,null,null,null,null,null,null,null,null,null,null,null,null,null,null,null,null,null,null,null,null,null,null,null,null,null,null,null,null,null,null,null,null,null,375,null,null,202010,10,2020,"2020-03-02","2020-03-08"]
[null,null,null,null,null,null,null,null,null,null,null,null,null,null,null,null,null,null,null,null,null,null,null,null,null,null,null,null,null,null,null,null,null,null,null,null,null,null,null,null,null,null,null,null,null,null,null,null,null,376,null,null,202011,11,2020,"2020-03-09","2020-03-15"]
[null,null,null,null,null,null,null,null,null,null,null,null,null,null,null,null,null,null,null,null,null,null,null,null,null,null,null,null,null,null,null,null,null,null,null,null,null,null,null,null,null,null,null,null,null,null,null,null,null,377,null,null,202012,12,2020,"2020-03-16","2020-03-22"]
[null,null,null,null,null,null,null,null,null,null,null,null,null,null,null,null,null,null,null,null,null,null,null,null,null,null,null,null,null,null,null,null,null,null,null,null,null,null,null,null,null,null,null,null,null,null,null,null,null,378,null,null,202013,13,2020,"2020-03-23","2020-03-29"]
[null,null,null,null,null,null,null,null,null,null,null,null,null,null,null,null,null,null,null,null,null,null,null,null,null,null,null,null,null,null,null,null,null,null,null,null,null,null,null,null,null,null,null,null,null,null,null,null,null,379,null,null,202014,14,2020,"2020-03-30","2020-04-05"]
[null,null,null,null,null,null,null,null,null,null,null,null,null,null,null,null,null,null,null,null,null,null,null,null,null,null,null,null,null,null,null,null,null,null,null,null,null,null,null,null,null,null,null,null,null,null,null,null,null,380,null,null,202015,15,2020,"2020-04-06","2020-04-12"]
[null,null,null,null,null,null,null,null,null,null,null,null,null,null,null,null,null,null,null,null,null,null,null,null,null,null,null,null,null,null,null,null,null,null,null,null,null,null,null,null,null,null,null,null,null,null,null,null,null,381,null,null,202016,16,2020,"2020-04-13","2020-04-19"]
[null,null,null,null,null,null,null,null,null,null,null,null,null,null,null,null,null,null,null,null,null,null,null,null,null,null,null,null,null,null,null,null,null,null,null,null,null,null,null,null,null,null,null,null,null,null,null,null,null,382,null,null,202017,17,2020,"2020-04-20","2020-04-26"]
[null,null,null,null,null,null,null,null,null,null,null,null,null,null,null,null,null,null,null,null,null,null,null,null,null,null,null,null,null,null,null,null,null,null,null,null,null,null,null,null,null,null,null,null,null,null,null,null,null,383,null,null,202018,18,2020,"2020-04-27","2020-05-03"]
[null,null,null,null,null,null,null,null,null,null,null,null,null,null,null,null,null,null,null,null,null,null,null,null,null,null,null,null,null,null,null,null,null,null,null,null,null,null,null,null,null,null,null,null,null,null,null,null,null,384,null,null,202019,19,2020,"2020-05-04","2020-05-10"]
[null,null,null,null,null,null,null,null,null,null,null,null,null,null,null,null,null,null,null,null,null,null,null,null,null,null,null,null,null,null,null,null,null,null,null,null,null,null,null,null,null,null,null,null,null,null,null,null,null,385,null,null,202020,20,2020,"2020-05-11","2020-05-17"]
[null,null,null,null,null,null,null,null,null,null,null,null,null,null,null,null,null,null,null,null,null,null,null,null,null,null,null,null,null,null,null,null,null,null,null,null,null,null,null,null,null,null,null,null,null,null,null,null,null,386,null,null,202021,21,2020,"2020-05-18","2020-05-24"]
[null,null,null,null,null,null,null,null,null,null,null,null,null,null,null,null,null,null,null,null,null,null,null,null,null,null,null,null,null,null,null,null,null,null,null,null,null,null,null,null,null,null,null,null,null,null,null,null,null,387,null,null,202022,22,2020,"2020-05-25","2020-05-31"]
[null,null,null,null,null,null,null,null,null,null,null,null,null,null,null,null,null,null,null,null,null,null,null,null,null,null,null,null,null,null,null,null,null,null,null,null,null,null,null,null,null,null,null,null,null,null,null,null,null,388,null,null,202023,23,2020,"2020-06-01","2020-06-07"]
[null,null,null,null,null,null,null,null,null,null,null,null,null,null,null,null,null,null,null,null,null,null,null,null,null,null,null,null,null,null,null,null,null,null,null,null,null,null,null,null,null,null,null,null,null,null,null,null,null,389,null,null,202024,24,2020,"2020-06-08","2020-06-14"]
[null,null,null,null,null,null,null,null,null,null,null,null,null,null,null,null,null,null,null,null,null,null,null,null,null,null,null,null,null,null,null,null,null,null,null,null,null,null,null,null,null,null,null,null,null,null,null,null,null,390,null,null,202025,25,2020,"2020-06-15","2020-06-21"]
[null,null,null,null,null,null,null,null,null,null,null,null,null,null,null,null,null,null,null,null,null,null,null,null,null,null,null,null,null,null,null,null,null,null,null,null,null,null,null,null,null,null,null,null,null,null,null,null,null,391,null,null,202026,26,2020,"2020-06-22","2020-06-28"]
[null,null,null,null,null,null,null,null,null,null,null,null,null,null,null,null,null,null,null,null,null,null,null,null,null,null,null,null,null,null,null,null,null,null,null,null,null,null,null,null,null,null,null,null,null,null,null,null,null,392,null,null,202027,27,2020,"2020-06-29","2020-07-05"]
[null,null,null,null,null,null,null,null,null,null,null,null,null,null,null,null,null,null,null,null,null,null,null,null,null,null,null,null,null,null,null,null,null,null,null,null,null,null,null,null,null,null,null,null,null,null,null,null,null,393,null,null,202028,28,2020,"2020-07-06","2020-07-12"]
[null,null,null,null,null,null,null,null,null,null,null,null,null,null,null,null,null,null,null,null,null,null,null,null,null,null,null,null,null,null,null,null,null,null,null,null,null,null,null,null,null,null,null,null,null,null,null,null,null,394,null,null,202029,29,2020,"2020-07-13","2020-07-19"]
[null,null,null,null,null,null,null,null,null,null,null,null,null,null,null,null,null,null,null,null,null,null,null,null,null,null,null,null,null,null,null,null,null,null,null,null,null,null,null,null,null,null,null,null,null,null,null,null,null,395,null,null,202030,30,2020,"2020-07-20","2020-07-26"]
[null,null,null,null,null,null,null,null,null,null,null,null,null,null,null,null,null,null,null,null,null,null,null,null,null,null,null,null,null,null,null,null,null,null,null,null,null,null,null,null,null,null,null,null,null,null,null,null,null,396,null,null,202031,31,2020,"2020-07-27","2020-08-02"]
[null,null,null,null,null,null,null,null,null,null,null,null,null,null,null,null,null,null,null,null,null,null,null,null,null,null,null,null,null,null,null,null,null,null,null,null,null,null,null,null,null,null,null,null,null,null,null,null,null,397,null,null,202032,32,2020,"2020-08-03","2020-08-09"]
[null,null,null,null,null,null,null,null,null,null,null,null,null,null,null,null,null,null,null,null,null,null,null,null,null,null,null,null,null,null,null,null,null,null,null,null,null,null,null,null,null,null,null,null,null,null,null,null,null,398,null,null,202033,33,2020,"2020-08-10","2020-08-16"]
[null,null,null,null,null,null,null,null,null,null,null,null,null,null,null,null,null,null,null,null,null,null,null,null,null,null,null,null,null,null,null,null,null,null,null,null,null,null,null,null,null,null,null,null,null,null,null,null,null,399,null,null,202034,34,2020,"2020-08-17","2020-08-23"]
[null,null,null,null,null,null,null,null,null,null,null,null,null,null,null,null,null,null,null,null,null,null,null,null,null,null,null,null,null,null,null,null,null,null,null,null,null,null,null,null,null,null,null,null,null,null,null,null,null,400,null,null,202035,35,2020,"2020-08-24","2020-08-30"]
[null,null,null,null,null,null,null,null,null,null,null,null,null,null,null,null,null,null,null,null,null,null,null,null,null,null,null,null,null,null,null,null,null,null,null,null,null,null,null,null,null,null,null,null,null,null,null,null,null,401,null,null,202036,36,2020,"2020-08-31","2020-09-06"]
[null,null,null,null,null,null,null,null,null,null,null,null,null,null,null,null,null,null,null,null,null,null,null,null,null,null,null,null,null,null,null,null,null,null,null,null,null,null,null,null,null,null,null,null,null,null,null,null,null,402,null,null,202037,37,2020,"2020-09-07","2020-09-13"]
[null,null,null,null,null,null,null,null,null,null,null,null,null,null,null,null,null,null,null,null,null,null,null,null,null,null,null,null,null,null,null,null,null,null,null,null,null,null,null,null,null,null,null,null,null,null,null,null,null,403,null,null,202038,38,2020,"2020-09-14","2020-09-20"]
[null,null,null,null,null,null,null,null,null,null,null,null,null,null,null,null,null,null,null,null,null,null,null,null,null,null,null,null,null,null,null,null,null,null,null,null,null,null,null,null,null,null,null,null,null,null,null,null,null,404,null,null,202039,39,2020,"2020-09-21","2020-09-27"]
[null,null,null,null,null,null,null,null,null,null,null,null,null,null,null,null,null,null,null,null,null,null,null,null,null,null,null,null,null,null,null,null,null,null,null,null,null,null,null,null,null,null,null,null,null,null,null,null,null,405,null,null,202040,40,2020,"2020-09-28","2020-10-04"]
[null,null,null,null,null,null,null,null,null,null,null,null,null,null,null,null,null,null,null,null,null,null,null,null,null,null,null,null,null,null,null,null,null,null,null,null,null,null,null,null,null,null,null,null,null,null,null,null,null,406,null,null,202041,41,2020,"2020-10-05","2020-10-11"]
[null,null,null,null,null,null,null,null,null,null,null,null,null,null,null,null,null,null,null,null,null,null,null,null,null,null,null,null,null,null,null,null,null,null,null,null,null,null,null,null,null,null,null,null,null,null,null,null,null,407,null,null,202042,42,2020,"2020-10-12","2020-10-18"]
[null,null,null,null,null,null,null,null,null,null,null,null,null,null,null,null,null,null,null,null,null,null,null,null,null,null,null,null,null,null,null,null,null,null,null,null,null,null,null,null,null,null,null,null,null,null,null,null,null,408,null,null,202043,43,2020,"2020-10-19","2020-10-25"]
[null,null,null,null,null,null,null,null,null,null,null,null,null,null,null,null,null,null,null,null,null,null,null,null,null,null,null,null,null,null,null,null,null,null,null,null,null,null,null,null,null,null,null,null,null,null,null,null,null,409,null,null,202044,44,2020,"2020-10-26","2020-11-01"]
[null,null,null,null,null,null,null,null,null,null,null,null,null,null,null,null,null,null,null,null,null,null,null,null,null,null,null,null,null,null,null,null,null,null,null,null,null,null,null,null,null,null,null,null,null,null,null,null,null,410,null,null,202045,45,2020,"2020-11-02","2020-11-08"]
[null,null,null,null,null,null,null,null,null,null,null,null,null,null,null,null,null,null,null,null,null,null,null,null,null,null,null,null,null,null,null,null,null,null,null,null,null,null,null,null,null,null,null,null,null,null,null,null,null,411,null,null,202046,46,2020,"2020-11-09","2020-11-15"]
[null,null,null,null,null,null,null,null,null,null,null,null,null,null,null,null,null,null,null,null,null,null,null,null,null,null,null,null,null,null,null,null,null,null,null,null,null,null,null,null,null,null,null,null,null,null,null,null,null,412,null,null,202047,47,2020,"2020-11-16","2020-11-22"]
[null,null,null,null,null,null,null,null,null,null,null,null,null,null,null,null,null,null,null,null,null,null,null,null,null,null,null,null,null,null,null,null,null,null,null,null,null,null,null,null,null,null,null,null,null,null,null,null,null,413,null,null,202048,48,2020,"2020-11-23","2020-11-29"]
[null,null,null,null,null,null,null,null,null,null,null,null,null,null,null,null,null,null,null,null,null,null,null,null,null,null,null,null,null,null,null,null,null,null,null,null,null,null,null,null,null,null,null,null,null,null,null,null,null,414,null,null,202049,49,2020,"2020-11-30","2020-12-06"]
[null,null,null,null,null,null,null,null,null,null,null,null,null,null,null,null,null,null,null,null,null,null,null,null,null,null,null,null,null,null,null,null,null,null,null,null,null,null,null,null,null,null,null,null,null,null,null,null,null,415,null,null,202050,50,2020,"2020-12-07","2020-12-13"]
[null,null,null,null,null,null,null,null,null,null,null,null,null,null,null,null,null,null,null,null,null,null,null,null,null,null,null,null,null,null,null,null,null,null,null,null,null,null,null,null,null,null,null,null,null,null,null,null,null,416,null,null,202051,51,2020,"2020-12-14","2020-12-20"]
[null,null,null,null,null,null,null,null,null,null,null,null,null,null,null,null,null,null,null,null,null,null,null,null,null,null,null,null,null,null,null,null,null,null,null,null,null,null,null,null,null,null,null,null,null,null,null,null,null,417,null,null,202052,52,2020,"2020-12-21","2020-12-27"]
[null,null,null,null,null,null,null,null,null,null,null,null,null,null,null,null,null,null,null,null,null,null,null,null,null,null,null,null,null,null,null,null,null,null,null,null,null,null,null,null,null,null,null,null,null,null,null,null,null,418,null,null,202053,53,2020,"2020-12-28","2021-01-03"]
[null,null,null,null,null,null,null,null,null,null,null,null,null,null,null,null,null,null,null,null,null,null,null,null,null,null,null,null,null,null,null,null,null,null,null,null,null,null,null,null,null,null,null,null,null,null,null,null,null,419,null,null,20211,1,2021,"2021-01-04","2021-01-10"]
[null,null,null,null,null,null,null,null,null,null,null,null,null,null,null,null,null,null,null,null,null,null,null,null,null,null,null,null,null,null,null,null,null,null,null,null,null,null,null,null,null,null,null,null,null,null,null,null,null,420,null,null,20212,2,2021,"2021-01-11","2021-01-17"]
[null,null,null,null,null,null,null,null,null,null,null,null,null,null,null,null,null,null,null,null,null,null,null,null,null,null,null,null,null,null,null,null,null,null,null,null,null,null,null,null,null,null,null,null,null,null,null,null,null,421,null,null,20213,3,2021,"2021-01-18","2021-01-24"]
[null,null,null,null,null,null,null,null,null,null,null,null,null,null,null,null,null,null,null,null,null,null,null,null,null,null,null,null,null,null,null,null,null,null,null,null,null,null,null,null,null,null,null,null,null,null,null,null,null,422,null,null,20214,4,2021,"2021-01-25","2021-01-31"]
[null,null,null,null,null,null,null,null,null,null,null,null,null,null,null,null,null,null,null,null,null,null,null,null,null,null,null,null,null,null,null,null,null,null,null,null,null,null,null,null,null,null,null,null,null,null,null,null,null,423,null,null,20215,5,2021,"2021-02-01","2021-02-07"]
[null,null,null,null,null,null,null,null,null,null,null,null,null,null,null,null,null,null,null,null,null,null,null,null,null,null,null,null,null,null,null,null,null,null,null,null,null,null,null,null,null,null,null,null,null,null,null,null,null,424,null,null,20216,6,2021,"2021-02-08","2021-02-14"]
[null,null,null,null,null,null,null,null,null,null,null,null,null,null,null,null,null,null,null,null,null,null,null,null,null,null,null,null,null,null,null,null,null,null,null,null,null,null,null,null,null,null,null,null,null,null,null,null,null,425,null,null,20217,7,2021,"2021-02-15","2021-02-21"]
[null,null,null,null,null,null,null,null,null,null,null,null,null,null,null,null,null,null,null,null,null,null,null,null,null,null,null,null,null,null,null,null,null,null,null,null,null,null,null,null,null,null,null,null,null,null,null,null,null,426,null,null,20218,8,2021,"2021-02-22","2021-02-28"]
[null,null,null,null,null,null,null,null,null,null,null,null,null,null,null,null,null,null,null,null,null,null,null,null,null,null,null,null,null,null,null,null,null,null,null,null,null,null,null,null,null,null,null,null,null,null,null,null,null,427,null,null,20219,9,2021,"2021-03-01","2021-03-07"]
[null,null,null,null,null,null,null,null,null,null,null,null,null,null,null,null,null,null,null,null,null,null,null,null,null,null,null,null,null,null,null,null,null,null,null,null,null,null,null,null,null,null,null,null,null,null,null,null,null,428,null,null,202110,10,2021,"2021-03-08","2021-03-14"]
[null,null,null,null,null,null,null,null,null,null,null,null,null,null,null,null,null,null,null,null,null,null,null,null,null,null,null,null,null,null,null,null,null,null,null,null,null,null,null,null,null,null,null,null,null,null,null,null,null,429,null,null,202111,11,2021,"2021-03-15","2021-03-21"]
[null,null,null,null,null,null,null,null,null,null,null,null,null,null,null,null,null,null,null,null,null,null,null,null,null,null,null,null,null,null,null,null,null,null,null,null,null,null,null,null,null,null,null,null,null,null,null,null,null,430,null,null,202112,12,2021,"2021-03-22","2021-03-28"]
[null,null,null,null,null,null,null,null,null,null,null,null,null,null,null,null,null,null,null,null,null,null,null,null,null,null,null,null,null,null,null,null,null,null,null,null,null,null,null,null,null,null,null,null,null,null,null,null,null,431,null,null,202113,13,2021,"2021-03-29","2021-04-04"]
[null,null,null,null,null,null,null,null,null,null,null,null,null,null,null,null,null,null,null,null,null,null,null,null,null,null,null,null,null,null,null,null,null,null,null,null,null,null,null,null,null,null,null,null,null,null,null,null,null,432,null,null,202114,14,2021,"2021-04-05","2021-04-11"]
[null,null,null,null,null,null,null,null,null,null,null,null,null,null,null,null,null,null,null,null,null,null,null,null,null,null,null,null,null,null,null,null,null,null,null,null,null,null,null,null,null,null,null,null,null,null,null,null,null,433,null,null,202115,15,2021,"2021-04-12","2021-04-18"]
[null,null,null,null,null,null,null,null,null,null,null,null,null,null,null,null,null,null,null,null,null,null,null,null,null,null,null,null,null,null,null,null,null,null,null,null,null,null,null,null,null,null,null,null,null,null,null,null,null,434,null,null,202116,16,2021,"2021-04-19","2021-04-25"]
[null,null,null,null,null,null,null,null,null,null,null,null,null,null,null,null,null,null,null,null,null,null,null,null,null,null,null,null,null,null,null,null,null,null,null,null,null,null,null,null,null,null,null,null,null,null,null,null,null,435,null,null,202117,17,2021,"2021-04-26","2021-05-02"]
[null,null,null,null,null,null,null,null,null,null,null,null,null,null,null,null,null,null,null,null,null,null,null,null,null,null,null,null,null,null,null,null,null,null,null,null,null,null,null,null,null,null,null,null,null,null,null,null,null,436,null,null,202118,18,2021,"2021-05-03","2021-05-09"]
[null,null,null,null,null,null,null,null,null,null,null,null,null,null,null,null,null,null,null,null,null,null,null,null,null,null,null,null,null,null,null,null,null,null,null,null,null,null,null,null,null,null,null,null,null,null,null,null,null,437,null,null,202119,19,2021,"2021-05-10","2021-05-16"]
[null,null,null,null,null,null,null,null,null,null,null,null,null,null,null,null,null,null,null,null,null,null,null,null,null,null,null,null,null,null,null,null,null,null,null,null,null,null,null,null,null,null,null,null,null,null,null,null,null,438,null,null,202120,20,2021,"2021-05-17","2021-05-23"]
[null,null,null,null,null,null,null,null,null,null,null,null,null,null,null,null,null,null,null,null,null,null,null,null,null,null,null,null,null,null,null,null,null,null,null,null,null,null,null,null,null,null,null,null,null,null,null,null,null,439,null,null,202121,21,2021,"2021-05-24","2021-05-30"]
[null,null,null,null,null,null,null,null,null,null,null,null,null,null,null,null,null,null,null,null,null,null,null,null,null,null,null,null,null,null,null,null,null,null,null,null,null,null,null,null,null,null,null,null,null,null,null,null,null,440,null,null,202122,22,2021,"2021-05-31","2021-06-06"]
[null,null,null,null,null,null,null,null,null,null,null,null,null,null,null,null,null,null,null,null,null,null,null,null,null,null,null,null,null,null,null,null,null,null,null,null,null,null,null,null,null,null,null,null,null,null,null,null,null,441,null,null,202123,23,2021,"2021-06-07","2021-06-13"]
[null,null,null,null,null,null,null,null,null,null,null,null,null,null,null,null,null,null,null,null,null,null,null,null,null,null,null,null,null,null,null,null,null,null,null,null,null,null,null,null,null,null,null,null,null,null,null,null,null,442,null,null,202124,24,2021,"2021-06-14","2021-06-20"]
[null,null,null,null,null,null,null,null,null,null,null,null,null,null,null,null,null,null,null,null,null,null,null,null,null,null,null,null,null,null,null,null,null,null,null,null,null,null,null,null,null,null,null,null,null,null,null,null,null,443,null,null,202125,25,2021,"2021-06-21","2021-06-27"]
[null,null,null,null,null,null,null,null,null,null,null,null,null,null,null,null,null,null,null,null,null,null,null,null,null,null,null,null,null,null,null,null,null,null,null,null,null,null,null,null,null,null,null,null,null,null,null,null,null,444,null,null,202126,26,2021,"2021-06-28","2021-07-04"]
[null,null,null,null,null,null,null,null,null,null,null,null,null,null,null,null,null,null,null,null,null,null,null,null,null,null,null,null,null,null,null,null,null,null,null,null,null,null,null,null,null,null,null,null,null,null,null,null,null,445,null,null,202127,27,2021,"2021-07-05","2021-07-11"]
[null,null,null,null,null,null,null,null,null,null,null,null,null,null,null,null,null,null,null,null,null,null,null,null,null,null,null,null,null,null,null,null,null,null,null,null,null,null,null,null,null,null,null,null,null,null,null,null,null,446,null,null,202128,28,2021,"2021-07-12","2021-07-18"]
[null,null,null,null,null,null,null,null,null,null,null,null,null,null,null,null,null,null,null,null,null,null,null,null,null,null,null,null,null,null,null,null,null,null,null,null,null,null,null,null,null,null,null,null,null,null,null,null,null,447,null,null,202129,29,2021,"2021-07-19","2021-07-25"]
[null,null,null,null,null,null,null,null,null,null,null,null,null,null,null,null,null,null,null,null,null,null,null,null,null,null,null,null,null,null,null,null,null,null,null,null,null,null,null,null,null,null,null,null,null,null,null,null,null,448,null,null,202130,30,2021,"2021-07-26","2021-08-01"]
[null,null,null,null,null,null,null,null,null,null,null,null,null,null,null,null,null,null,null,null,null,null,null,null,null,null,null,null,null,null,null,null,null,null,null,null,null,null,null,null,null,null,null,null,null,null,null,null,null,449,null,null,202131,31,2021,"2021-08-02","2021-08-08"]
[null,null,null,null,null,null,null,null,null,null,null,null,null,null,null,null,null,null,null,null,null,null,null,null,null,null,null,null,null,null,null,null,null,null,null,null,null,null,null,null,null,null,null,null,null,null,null,null,null,450,null,null,202132,32,2021,"2021-08-09","2021-08-15"]
[null,null,null,null,null,null,null,null,null,null,null,null,null,null,null,null,null,null,null,null,null,null,null,null,null,null,null,null,null,null,null,null,null,null,null,null,null,null,null,null,null,null,null,null,null,null,null,null,null,451,null,null,202133,33,2021,"2021-08-16","2021-08-22"]
[null,null,null,null,null,null,null,null,null,null,null,null,null,null,null,null,null,null,null,null,null,null,null,null,null,null,null,null,null,null,null,null,null,null,null,null,null,null,null,null,null,null,null,null,null,null,null,null,null,452,null,null,202134,34,2021,"2021-08-23","2021-08-29"]
[null,null,null,null,null,null,null,null,null,null,null,null,null,null,null,null,null,null,null,null,null,null,null,null,null,null,null,null,null,null,null,null,null,null,null,null,null,null,null,null,null,null,null,null,null,null,null,null,null,453,null,null,202135,35,2021,"2021-08-30","2021-09-05"]
[null,null,null,null,null,null,null,null,null,null,null,null,null,null,null,null,null,null,null,null,null,null,null,null,null,null,null,null,null,null,null,null,null,null,null,null,null,null,null,null,null,null,null,null,null,null,null,null,null,454,null,null,202136,36,2021,"2021-09-06","2021-09-12"]
[null,null,null,null,null,null,null,null,null,null,null,null,null,null,null,null,null,null,null,null,null,null,null,null,null,null,null,null,null,null,null,null,null,null,null,null,null,null,null,null,null,null,null,null,null,null,null,null,null,455,null,null,202137,37,2021,"2021-09-13","2021-09-19"]
[null,null,null,null,null,null,null,null,null,null,null,null,null,null,null,null,null,null,null,null,null,null,null,null,null,null,null,null,null,null,null,null,null,null,null,null,null,null,null,null,null,null,null,null,null,null,null,null,null,456,null,null,202138,38,2021,"2021-09-20","2021-09-26"]
[null,null,null,null,null,null,null,null,null,null,null,null,null,null,null,null,null,null,null,null,null,null,null,null,null,null,null,null,null,null,null,null,null,null,null,null,null,null,null,null,null,null,null,null,null,null,null,null,null,457,null,null,202139,39,2021,"2021-09-27","2021-10-03"]
[null,null,null,null,null,null,null,null,null,null,null,null,null,null,null,null,null,null,null,null,null,null,null,null,null,null,null,null,null,null,null,null,null,null,null,null,null,null,null,null,null,null,null,null,null,null,null,null,null,458,null,null,202140,40,2021,"2021-10-04","2021-10-10"]
[null,null,null,null,null,null,null,null,null,null,null,null,null,null,null,null,null,null,null,null,null,null,null,null,null,null,null,null,null,null,null,null,null,null,null,null,null,null,null,null,null,null,null,null,null,null,null,null,null,459,null,null,202141,41,2021,"2021-10-11","2021-10-17"]
[null,null,null,null,null,null,null,null,null,null,null,null,null,null,null,null,null,null,null,null,null,null,null,null,null,null,null,null,null,null,null,null,null,null,null,null,null,null,null,null,null,null,null,null,null,null,null,null,null,460,null,null,202142,42,2021,"2021-10-18","2021-10-24"]
[null,null,null,null,null,null,null,null,null,null,null,null,null,null,null,null,null,null,null,null,null,null,null,null,null,null,null,null,null,null,null,null,null,null,null,null,null,null,null,null,null,null,null,null,null,null,null,null,null,461,null,null,202143,43,2021,"2021-10-25","2021-10-31"]
[null,null,null,null,null,null,null,null,null,null,null,null,null,null,null,null,null,null,null,null,null,null,null,null,null,null,null,null,null,null,null,null,null,null,null,null,null,null,null,null,null,null,null,null,null,null,null,null,null,462,null,null,202144,44,2021,"2021-11-01","2021-11-07"]
[null,null,null,null,null,null,null,null,null,null,null,null,null,null,null,null,null,null,null,null,null,null,null,null,null,null,null,null,null,null,null,null,null,null,null,null,null,null,null,null,null,null,null,null,null,null,null,null,null,463,null,null,202145,45,2021,"2021-11-08","2021-11-14"]
[null,null,null,null,null,null,null,null,null,null,null,null,null,null,null,null,null,null,null,null,null,null,null,null,null,null,null,null,null,null,null,null,null,null,null,null,null,null,null,null,null,null,null,null,null,null,null,null,null,464,null,null,202146,46,2021,"2021-11-15","2021-11-21"]
[null,null,null,null,null,null,null,null,null,null,null,null,null,null,null,null,null,null,null,null,null,null,null,null,null,null,null,null,null,null,null,null,null,null,null,null,null,null,null,null,null,null,null,null,null,null,null,null,null,465,null,null,202147,47,2021,"2021-11-22","2021-11-28"]
[null,null,null,null,null,null,null,null,null,null,null,null,null,null,null,null,null,null,null,null,null,null,null,null,null,null,null,null,null,null,null,null,null,null,null,null,null,null,null,null,null,null,null,null,null,null,null,null,null,466,null,null,202148,48,2021,"2021-11-29","2021-12-05"]
[null,null,null,null,null,null,null,null,null,null,null,null,null,null,null,null,null,null,null,null,null,null,null,null,null,null,null,null,null,null,null,null,null,null,null,null,null,null,null,null,null,null,null,null,null,null,null,null,null,467,null,null,202149,49,2021,"2021-12-06","2021-12-12"]
[null,null,null,null,null,null,null,null,null,null,null,null,null,null,null,null,null,null,null,null,null,null,null,null,null,null,null,null,null,null,null,null,null,null,null,null,null,null,null,null,null,null,null,null,null,null,null,null,null,468,null,null,202150,50,2021,"2021-12-13","2021-12-19"]
[null,null,null,null,null,null,null,null,null,null,null,null,null,null,null,null,null,null,null,null,null,null,null,null,null,null,null,null,null,null,null,null,null,null,null,null,null,null,null,null,null,null,null,null,null,null,null,null,null,469,null,null,202151,51,2021,"2021-12-20","2021-12-26"]
[null,null,null,null,null,null,null,null,null,null,null,null,null,null,null,null,null,null,null,null,null,null,null,null,null,null,null,null,null,null,null,null,null,null,null,null,null,null,null,null,null,null,null,null,null,null,null,null,null,470,null,null,202152,52,2021,"2021-12-27","2022-01-02"]
[null,null,null,null,null,null,null,null,null,null,null,null,null,null,null,null,null,null,null,null,null,null,null,null,null,null,null,null,null,null,null,null,null,null,null,null,null,null,null,null,null,null,null,null,null,null,null,null,null,471,null,null,20221,1,2022,"2022-01-03","2022-01-09"]
[null,null,null,null,null,null,null,null,null,null,null,null,null,null,null,null,null,null,null,null,null,null,null,null,null,null,null,null,null,null,null,null,null,null,null,null,null,null,null,null,null,null,null,null,null,null,null,null,null,472,null,null,20222,2,2022,"2022-01-10","2022-01-16"]
[null,null,null,null,null,null,null,null,null,null,null,null,null,null,null,null,null,null,null,null,null,null,null,null,null,null,null,null,null,null,null,null,null,null,null,null,null,null,null,null,null,null,null,null,null,null,null,null,null,473,null,null,20223,3,2022,"2022-01-17","2022-01-23"]
[null,null,null,null,null,null,null,null,null,null,null,null,null,null,null,null,null,null,null,null,null,null,null,null,null,null,null,null,null,null,null,null,null,null,null,null,null,null,null,null,null,null,null,null,null,null,null,null,null,474,null,null,20224,4,2022,"2022-01-24","2022-01-30"]
[null,null,null,null,null,null,null,null,null,null,null,null,null,null,null,null,null,null,null,null,null,null,null,null,null,null,null,null,null,null,null,null,null,null,null,null,null,null,null,null,null,null,null,null,null,null,null,null,null,475,null,null,20225,5,2022,"2022-01-31","2022-02-06"]
[null,null,null,null,null,null,null,null,null,null,null,null,null,null,null,null,null,null,null,null,null,null,null,null,null,null,null,null,null,null,null,null,null,null,null,null,null,null,null,null,null,null,null,null,null,null,null,null,null,476,null,null,20226,6,2022,"2022-02-07","2022-02-13"]
[null,null,null,null,null,null,null,null,null,null,null,null,null,null,null,null,null,null,null,null,null,null,null,null,null,null,null,null,null,null,null,null,null,null,null,null,null,null,null,null,null,null,null,null,null,null,null,null,null,477,null,null,20227,7,2022,"2022-02-14","2022-02-20"]
[null,null,null,null,null,null,null,null,null,null,null,null,null,null,null,null,null,null,null,null,null,null,null,null,null,null,null,null,null,null,null,null,null,null,null,null,null,null,null,null,null,null,null,null,null,null,null,null,null,478,null,null,20228,8,2022,"2022-02-21","2022-02-27"]
[null,null,null,null,null,null,null,null,null,null,null,null,null,null,null,null,null,null,null,null,null,null,null,null,null,null,null,null,null,null,null,null,null,null,null,null,null,null,null,null,null,null,null,null,null,null,null,null,null,479,null,null,20229,9,2022,"2022-02-28","2022-03-06"]
[null,null,null,null,null,null,null,null,null,null,null,null,null,null,null,null,null,null,null,null,null,null,null,null,null,null,null,null,null,null,null,null,null,null,null,null,null,null,null,null,null,null,null,null,null,null,null,null,null,480,null,null,202210,10,2022,"2022-03-07","2022-03-13"]
[null,null,null,null,null,null,null,null,null,null,null,null,null,null,null,null,null,null,null,null,null,null,null,null,null,null,null,null,null,null,null,null,null,null,null,null,null,null,null,null,null,null,null,null,null,null,null,null,null,481,null,null,202211,11,2022,"2022-03-14","2022-03-20"]
[null,null,null,null,null,null,null,null,null,null,null,null,null,null,null,null,null,null,null,null,null,null,null,null,null,null,null,null,null,null,null,null,null,null,null,null,null,null,null,null,null,null,null,null,null,null,null,null,null,482,null,null,202212,12,2022,"2022-03-21","2022-03-27"]
[null,null,null,null,null,null,null,null,null,null,null,null,null,null,null,null,null,null,null,null,null,null,null,null,null,null,null,null,null,null,null,null,null,null,null,null,null,null,null,null,null,null,null,null,null,null,null,null,null,483,null,null,202213,13,2022,"2022-03-28","2022-04-03"]
[null,null,null,null,null,null,null,null,null,null,null,null,null,null,null,null,null,null,null,null,null,null,null,null,null,null,null,null,null,null,null,null,null,null,null,null,null,null,null,null,null,null,null,null,null,null,null,null,null,484,null,null,202214,14,2022,"2022-04-04","2022-04-10"]
[null,null,null,null,null,null,null,null,null,null,null,null,null,null,null,null,null,null,null,null,null,null,null,null,null,null,null,null,null,null,null,null,null,null,null,null,null,null,null,null,null,null,null,null,null,null,null,null,null,485,null,null,202215,15,2022,"2022-04-11","2022-04-17"]
[null,null,null,null,null,null,null,null,null,null,null,null,null,null,null,null,null,null,null,null,null,null,null,null,null,null,null,null,null,null,null,null,null,null,null,null,null,null,null,null,null,null,null,null,null,null,null,null,null,486,null,null,202216,16,2022,"2022-04-18","2022-04-24"]
[null,null,null,null,null,null,null,null,null,null,null,null,null,null,null,null,null,null,null,null,null,null,null,null,null,null,null,null,null,null,null,null,null,null,null,null,null,null,null,null,null,null,null,null,null,null,null,null,null,487,null,null,202217,17,2022,"2022-04-25","2022-05-01"]
[null,null,null,null,null,null,null,null,null,null,null,null,null,null,null,null,null,null,null,null,null,null,null,null,null,null,null,null,null,null,null,null,null,null,null,null,null,null,null,null,null,null,null,null,null,null,null,null,null,488,null,null,202218,18,2022,"2022-05-02","2022-05-08"]
[null,null,null,null,null,null,null,null,null,null,null,null,null,null,null,null,null,null,null,null,null,null,null,null,null,null,null,null,null,null,null,null,null,null,null,null,null,null,null,null,null,null,null,null,null,null,null,null,null,489,null,null,202219,19,2022,"2022-05-09","2022-05-15"]
[null,null,null,null,null,null,null,null,null,null,null,null,null,null,null,null,null,null,null,null,null,null,null,null,null,null,null,null,null,null,null,null,null,null,null,null,null,null,null,null,null,null,null,null,null,null,null,null,null,490,null,null,202220,20,2022,"2022-05-16","2022-05-22"]
[null,null,null,null,null,null,null,null,null,null,null,null,null,null,null,null,null,null,null,null,null,null,null,null,null,null,null,null,null,null,null,null,null,null,null,null,null,null,null,null,null,null,null,null,null,null,null,null,null,491,null,null,202221,21,2022,"2022-05-23","2022-05-29"]
[null,null,null,null,null,null,null,null,null,null,null,null,null,null,null,null,null,null,null,null,null,null,null,null,null,null,null,null,null,null,null,null,null,null,null,null,null,null,null,null,null,null,null,null,null,null,null,null,null,492,null,null,202222,22,2022,"2022-05-30","2022-06-05"]
[null,null,null,null,null,null,null,null,null,null,null,null,null,null,null,null,null,null,null,null,null,null,null,null,null,null,null,null,null,null,null,null,null,null,null,null,null,null,null,null,null,null,null,null,null,null,null,null,null,493,null,null,202223,23,2022,"2022-06-06","2022-06-12"]
[null,null,null,null,null,null,null,null,null,null,null,null,null,null,null,null,null,null,null,null,null,null,null,null,null,null,null,null,null,null,null,null,null,null,null,null,null,null,null,null,null,null,null,null,null,null,null,null,null,494,null,null,202224,24,2022,"2022-06-13","2022-06-19"]
[null,null,null,null,null,null,null,null,null,null,null,null,null,null,null,null,null,null,null,null,null,null,null,null,null,null,null,null,null,null,null,null,null,null,null,null,null,null,null,null,null,null,null,null,null,null,null,null,null,495,null,null,202225,25,2022,"2022-06-20","2022-06-26"]
[null,null,null,null,null,null,null,null,null,null,null,null,null,null,null,null,null,null,null,null,null,null,null,null,null,null,null,null,null,null,null,null,null,null,null,null,null,null,null,null,null,null,null,null,null,null,null,null,null,496,null,null,202226,26,2022,"2022-06-27","2022-07-03"]
[null,null,null,null,null,null,null,null,null,null,null,null,null,null,null,null,null,null,null,null,null,null,null,null,null,null,null,null,null,null,null,null,null,null,null,null,null,null,null,null,null,null,null,null,null,null,null,null,null,497,null,null,202227,27,2022,"2022-07-04","2022-07-10"]
[null,null,null,null,null,null,null,null,null,null,null,null,null,null,null,null,null,null,null,null,null,null,null,null,null,null,null,null,null,null,null,null,null,null,null,null,null,null,null,null,null,null,null,null,null,null,null,null,null,498,null,null,202228,28,2022,"2022-07-11","2022-07-17"]
[null,null,null,null,null,null,null,null,null,null,null,null,null,null,null,null,null,null,null,null,null,null,null,null,null,null,null,null,null,null,null,null,null,null,null,null,null,null,null,null,null,null,null,null,null,null,null,null,null,499,null,null,202229,29,2022,"2022-07-18","2022-07-24"]
[null,null,null,null,null,null,null,null,null,null,null,null,null,null,null,null,null,null,null,null,null,null,null,null,null,null,null,null,null,null,null,null,null,null,null,null,null,null,null,null,null,null,null,null,null,null,null,null,null,500,null,null,202230,30,2022,"2022-07-25","2022-07-31"]
[null,null,null,null,null,null,null,null,null,null,null,null,null,null,null,null,null,null,null,null,null,null,null,null,null,null,null,null,null,null,null,null,null,null,null,null,null,null,null,null,null,null,null,null,null,null,null,null,null,501,null,null,202231,31,2022,"2022-08-01","2022-08-07"]
[null,null,null,null,null,null,null,null,null,null,null,null,null,null,null,null,null,null,null,null,null,null,null,null,null,null,null,null,null,null,null,null,null,null,null,null,null,null,null,null,null,null,null,null,null,null,null,null,null,502,null,null,202232,32,2022,"2022-08-08","2022-08-14"]
[null,null,null,null,null,null,null,null,null,null,null,null,null,null,null,null,null,null,null,null,null,null,null,null,null,null,null,null,null,null,null,null,null,null,null,null,null,null,null,null,null,null,null,null,null,null,null,null,null,503,null,null,202233,33,2022,"2022-08-15","2022-08-21"]
[null,null,null,null,null,null,null,null,null,null,null,null,null,null,null,null,null,null,null,null,null,null,null,null,null,null,null,null,null,null,null,null,null,null,null,null,null,null,null,null,null,null,null,null,null,null,null,null,null,504,null,null,202234,34,2022,"2022-08-22","2022-08-28"]
[null,null,null,null,null,null,null,null,null,null,null,null,null,null,null,null,null,null,null,null,null,null,null,null,null,null,null,null,null,null,null,null,null,null,null,null,null,null,null,null,null,null,null,null,null,null,null,null,null,505,null,null,202235,35,2022,"2022-08-29","2022-09-04"]
[null,null,null,null,null,null,null,null,null,null,null,null,null,null,null,null,null,null,null,null,null,null,null,null,null,null,null,null,null,null,null,null,null,null,null,null,null,null,null,null,null,null,null,null,null,null,null,null,null,506,null,null,202236,36,2022,"2022-09-05","2022-09-11"]
[null,null,null,null,null,null,null,null,null,null,null,null,null,null,null,null,null,null,null,null,null,null,null,null,null,null,null,null,null,null,null,null,null,null,null,null,null,null,null,null,null,null,null,null,null,null,null,null,null,507,null,null,202237,37,2022,"2022-09-12","2022-09-18"]
[null,null,null,null,null,null,null,null,null,null,null,null,null,null,null,null,null,null,null,null,null,null,null,null,null,null,null,null,null,null,null,null,null,null,null,null,null,null,null,null,null,null,null,null,null,null,null,null,null,508,null,null,202238,38,2022,"2022-09-19","2022-09-25"]
[null,null,null,null,null,null,null,null,null,null,null,null,null,null,null,null,null,null,null,null,null,null,null,null,null,null,null,null,null,null,null,null,null,null,null,null,null,null,null,null,null,null,null,null,null,null,null,null,null,509,null,null,202239,39,2022,"2022-09-26","2022-10-02"]
[null,null,null,null,null,null,null,null,null,null,null,null,null,null,null,null,null,null,null,null,null,null,null,null,null,null,null,null,null,null,null,null,null,null,null,null,null,null,null,null,null,null,null,null,null,null,null,null,null,510,null,null,202240,40,2022,"2022-10-03","2022-10-09"]
[null,null,null,null,null,null,null,null,null,null,null,null,null,null,null,null,null,null,null,null,null,null,null,null,null,null,null,null,null,null,null,null,null,null,null,null,null,null,null,null,null,null,null,null,null,null,null,null,null,511,null,null,202241,41,2022,"2022-10-10","2022-10-16"]
[null,null,null,null,null,null,null,null,null,null,null,null,null,null,null,null,null,null,null,null,null,null,null,null,null,null,null,null,null,null,null,null,null,null,null,null,null,null,null,null,null,null,null,null,null,null,null,null,null,512,null,null,202242,42,2022,"2022-10-17","2022-10-23"]
[null,null,null,null,null,null,null,null,null,null,null,null,null,null,null,null,null,null,null,null,null,null,null,null,null,null,null,null,null,null,null,null,null,null,null,null,null,null,null,null,null,null,null,null,null,null,null,null,null,513,null,null,202243,43,2022,"2022-10-24","2022-10-30"]
[null,null,null,null,null,null,null,null,null,null,null,null,null,null,null,null,null,null,null,null,null,null,null,null,null,null,null,null,null,null,null,null,null,null,null,null,null,null,null,null,null,null,null,null,null,null,null,null,null,514,null,null,202244,44,2022,"2022-10-31","2022-11-06"]
[null,null,null,null,null,null,null,null,null,null,null,null,null,null,null,null,null,null,null,null,null,null,null,null,null,null,null,null,null,null,null,null,null,null,null,null,null,null,null,null,null,null,null,null,null,null,null,null,null,515,null,null,202245,45,2022,"2022-11-07","2022-11-13"]
[null,null,null,null,null,null,null,null,null,null,null,null,null,null,null,null,null,null,null,null,null,null,null,null,null,null,null,null,null,null,null,null,null,null,null,null,null,null,null,null,null,null,null,null,null,null,null,null,null,516,null,null,202246,46,2022,"2022-11-14","2022-11-20"]
[null,null,null,null,null,null,null,null,null,null,null,null,null,null,null,null,null,null,null,null,null,null,null,null,null,null,null,null,null,null,null,null,null,null,null,null,null,null,null,null,null,null,null,null,null,null,null,null,null,517,null,null,202247,47,2022,"2022-11-21","2022-11-27"]
[null,null,null,null,null,null,null,null,null,null,null,null,null,null,null,null,null,null,null,null,null,null,null,null,null,null,null,null,null,null,null,null,null,null,null,null,null,null,null,null,null,null,null,null,null,null,null,null,null,518,null,null,202248,48,2022,"2022-11-28","2022-12-04"]
[null,null,null,null,null,null,null,null,null,null,null,null,null,null,null,null,null,null,null,null,null,null,null,null,null,null,null,null,null,null,null,null,null,null,null,null,null,null,null,null,null,null,null,null,null,null,null,null,null,519,null,null,202249,49,2022,"2022-12-05","2022-12-11"]
[null,null,null,null,null,null,null,null,null,null,null,null,null,null,null,null,null,null,null,null,null,null,null,null,null,null,null,null,null,null,null,null,null,null,null,null,null,null,null,null,null,null,null,null,null,null,null,null,null,520,null,null,202250,50,2022,"2022-12-12","2022-12-18"]
[null,null,null,null,null,null,null,null,null,null,null,null,null,null,null,null,null,null,null,null,null,null,null,null,null,null,null,null,null,null,null,null,null,null,null,null,null,null,null,null,null,null,null,null,null,null,null,null,null,521,null,null,202251,51,2022,"2022-12-19","2022-12-25"]
[null,null,null,null,null,null,null,null,null,null,null,null,null,null,null,null,null,null,null,null,null,null,null,null,null,null,null,null,null,null,null,null,null,null,null,null,null,null,null,null,null,null,null,null,null,null,null,null,null,522,null,null,202252,52,2022,"2022-12-26","2023-01-01"]
[null,null,null,null,null,null,null,null,null,null,null,null,null,null,null,null,null,null,null,null,null,null,null,null,null,null,null,null,null,null,null,null,null,null,null,null,null,null,null,null,null,null,null,null,null,null,null,null,null,523,null,null,20231,1,2023,"2023-01-02","2023-01-08"]
[null,null,null,null,null,null,null,null,null,null,null,null,null,null,null,null,null,null,null,null,null,null,null,null,null,null,null,null,null,null,null,null,null,null,null,null,null,null,null,null,null,null,null,null,null,null,null,null,null,524,null,null,20232,2,2023,"2023-01-09","2023-01-15"]
[null,null,null,null,null,null,null,null,null,null,null,null,null,null,null,null,null,null,null,null,null,null,null,null,null,null,null,null,null,null,null,null,null,null,null,null,null,null,null,null,null,null,null,null,null,null,null,null,null,525,null,null,20233,3,2023,"2023-01-16","2023-01-22"]
[null,null,null,null,null,null,null,null,null,null,null,null,null,null,null,null,null,null,null,null,null,null,null,null,null,null,null,null,null,null,null,null,null,null,null,null,null,null,null,null,null,null,null,null,null,null,null,null,null,526,null,null,20234,4,2023,"2023-01-23","2023-01-29"]
[null,null,null,null,null,null,null,null,null,null,null,null,null,null,null,null,null,null,null,null,null,null,null,null,null,null,null,null,null,null,null,null,null,null,null,null,null,null,null,null,null,null,null,null,null,null,null,null,null,527,null,null,20235,5,2023,"2023-01-30","2023-02-05"]
[null,null,null,null,null,null,null,null,null,null,null,null,null,null,null,null,null,null,null,null,null,null,null,null,null,null,null,null,null,null,null,null,null,null,null,null,null,null,null,null,null,null,null,null,null,null,null,null,null,528,null,null,20236,6,2023,"2023-02-06","2023-02-12"]
[null,null,null,null,null,null,null,null,null,null,null,null,null,null,null,null,null,null,null,null,null,null,null,null,null,null,null,null,null,null,null,null,null,null,null,null,null,null,null,null,null,null,null,null,null,null,null,null,null,529,null,null,20237,7,2023,"2023-02-13","2023-02-19"]
[null,null,null,null,null,null,null,null,null,null,null,null,null,null,null,null,null,null,null,null,null,null,null,null,null,null,null,null,null,null,null,null,null,null,null,null,null,null,null,null,null,null,null,null,null,null,null,null,null,530,null,null,20238,8,2023,"2023-02-20","2023-02-26"]
[null,null,null,null,null,null,null,null,null,null,null,null,null,null,null,null,null,null,null,null,null,null,null,null,null,null,null,null,null,null,null,null,null,null,null,null,null,null,null,null,null,null,null,null,null,null,null,null,null,531,null,null,20239,9,2023,"2023-02-27","2023-03-05"]
[null,null,null,null,null,null,null,null,null,null,null,null,null,null,null,null,null,null,null,null,null,null,null,null,null,null,null,null,null,null,null,null,null,null,null,null,null,null,null,null,null,null,null,null,null,null,null,null,null,532,null,null,202310,10,2023,"2023-03-06","2023-03-12"]
[null,null,null,null,null,null,null,null,null,null,null,null,null,null,null,null,null,null,null,null,null,null,null,null,null,null,null,null,null,null,null,null,null,null,null,null,null,null,null,null,null,null,null,null,null,null,null,null,null,533,null,null,202311,11,2023,"2023-03-13","2023-03-19"]
[null,null,null,null,null,null,null,null,null,null,null,null,null,null,null,null,null,null,null,null,null,null,null,null,null,null,null,null,null,null,null,null,null,null,null,null,null,null,null,null,null,null,null,null,null,null,null,null,null,534,null,null,202312,12,2023,"2023-03-20","2023-03-26"]
[null,null,null,null,null,null,null,null,null,null,null,null,null,null,null,null,null,null,null,null,null,null,null,null,null,null,null,null,null,null,null,null,null,null,null,null,null,null,null,null,null,null,null,null,null,null,null,null,null,535,null,null,202313,13,2023,"2023-03-27","2023-04-02"]
[null,null,null,null,null,null,null,null,null,null,null,null,null,null,null,null,null,null,null,null,null,null,null,null,null,null,null,null,null,null,null,null,null,null,null,null,null,null,null,null,null,null,null,null,null,null,null,null,null,536,null,null,202314,14,2023,"2023-04-03","2023-04-09"]
[null,null,null,null,null,null,null,null,null,null,null,null,null,null,null,null,null,null,null,null,null,null,null,null,null,null,null,null,null,null,null,null,null,null,null,null,null,null,null,null,null,null,null,null,null,null,null,null,null,537,null,null,202315,15,2023,"2023-04-10","2023-04-16"]
[null,null,null,null,null,null,null,null,null,null,null,null,null,null,null,null,null,null,null,null,null,null,null,null,null,null,null,null,null,null,null,null,null,null,null,null,null,null,null,null,null,null,null,null,null,null,null,null,null,538,null,null,202316,16,2023,"2023-04-17","2023-04-23"]
[null,null,null,null,null,null,null,null,null,null,null,null,null,null,null,null,null,null,null,null,null,null,null,null,null,null,null,null,null,null,null,null,null,null,null,null,null,null,null,null,null,null,null,null,null,null,null,null,null,539,null,null,202317,17,2023,"2023-04-24","2023-04-30"]
[null,null,null,null,null,null,null,null,null,null,null,null,null,null,null,null,null,null,null,null,null,null,null,null,null,null,null,null,null,null,null,null,null,null,null,null,null,null,null,null,null,null,null,null,null,null,null,null,null,540,null,null,202318,18,2023,"2023-05-01","2023-05-07"]
[null,null,null,null,null,null,null,null,null,null,null,null,null,null,null,null,null,null,null,null,null,null,null,null,null,null,null,null,null,null,null,null,null,null,null,null,null,null,null,null,null,null,null,null,null,null,null,null,null,541,null,null,202319,19,2023,"2023-05-08","2023-05-14"]
[null,null,null,null,null,null,null,null,null,null,null,null,null,null,null,null,null,null,null,null,null,null,null,null,null,null,null,null,null,null,null,null,null,null,null,null,null,null,null,null,null,null,null,null,null,null,null,null,null,542,null,null,202320,20,2023,"2023-05-15","2023-05-21"]
[null,null,null,null,null,null,null,null,null,null,null,null,null,null,null,null,null,null,null,null,null,null,null,null,null,null,null,null,null,null,null,null,null,null,null,null,null,null,null,null,null,null,null,null,null,null,null,null,null,543,null,null,202321,21,2023,"2023-05-22","2023-05-28"]
[null,null,null,null,null,null,null,null,null,null,null,null,null,null,null,null,null,null,null,null,null,null,null,null,null,null,null,null,null,null,null,null,null,null,null,null,null,null,null,null,null,null,null,null,null,null,null,null,null,544,null,null,202322,22,2023,"2023-05-29","2023-06-04"]
[null,null,null,null,null,null,null,null,null,null,null,null,null,null,null,null,null,null,null,null,null,null,null,null,null,null,null,null,null,null,null,null,null,null,null,null,null,null,null,null,null,null,null,null,null,null,null,null,null,545,null,null,202323,23,2023,"2023-06-05","2023-06-11"]
[null,null,null,null,null,null,null,null,null,null,null,null,null,null,null,null,null,null,null,null,null,null,null,null,null,null,null,null,null,null,null,null,null,null,null,null,null,null,null,null,null,null,null,null,null,null,null,null,null,546,null,null,202324,24,2023,"2023-06-12","2023-06-18"]
[null,null,null,null,null,null,null,null,null,null,null,null,null,null,null,null,null,null,null,null,null,null,null,null,null,null,null,null,null,null,null,null,null,null,null,null,null,null,null,null,null,null,null,null,null,null,null,null,null,547,null,null,202325,25,2023,"2023-06-19","2023-06-25"]
[null,null,null,null,null,null,null,null,null,null,null,null,null,null,null,null,null,null,null,null,null,null,null,null,null,null,null,null,null,null,null,null,null,null,null,null,null,null,null,null,null,null,null,null,null,null,null,null,null,548,null,null,202326,26,2023,"2023-06-26","2023-07-02"]
[null,null,null,null,null,null,null,null,null,null,null,null,null,null,null,null,null,null,null,null,null,null,null,null,null,null,null,null,null,null,null,null,null,null,null,null,null,null,null,null,null,null,null,null,null,null,null,null,null,549,null,null,202327,27,2023,"2023-07-03","2023-07-09"]
[null,null,null,null,null,null,null,null,null,null,null,null,null,null,null,null,null,null,null,null,null,null,null,null,null,null,null,null,null,null,null,null,null,null,null,null,null,null,null,null,null,null,null,null,null,null,null,null,null,550,null,null,202328,28,2023,"2023-07-10","2023-07-16"]
[null,null,null,null,null,null,null,null,null,null,null,null,null,null,null,null,null,null,null,null,null,null,null,null,null,null,null,null,null,null,null,null,null,null,null,null,null,null,null,null,null,null,null,null,null,null,null,null,null,551,null,null,202329,29,2023,"2023-07-17","2023-07-23"]
[null,null,null,null,null,null,null,null,null,null,null,null,null,null,null,null,null,null,null,null,null,null,null,null,null,null,null,null,null,null,null,null,null,null,null,null,null,null,null,null,null,null,null,null,null,null,null,null,null,552,null,null,202330,30,2023,"2023-07-24","2023-07-30"]
[null,null,null,null,null,null,null,null,null,null,null,null,null,null,null,null,null,null,null,null,null,null,null,null,null,null,null,null,null,null,null,null,null,null,null,null,null,null,null,null,null,null,null,null,null,null,null,null,null,553,null,null,202331,31,2023,"2023-07-31","2023-08-06"]
[null,null,null,null,null,null,null,null,null,null,null,null,null,null,null,null,null,null,null,null,null,null,null,null,null,null,null,null,null,null,null,null,null,null,null,null,null,null,null,null,null,null,null,null,null,null,null,null,null,554,null,null,202332,32,2023,"2023-08-07","2023-08-13"]
[null,null,null,null,null,null,null,null,null,null,null,null,null,null,null,null,null,null,null,null,null,null,null,null,null,null,null,null,null,null,null,null,null,null,null,null,null,null,null,null,null,null,null,null,null,null,null,null,null,555,null,null,202333,33,2023,"2023-08-14","2023-08-20"]
[null,null,null,null,null,null,null,null,null,null,null,null,null,null,null,null,null,null,null,null,null,null,null,null,null,null,null,null,null,null,null,null,null,null,null,null,null,null,null,null,null,null,null,null,null,null,null,null,null,556,null,null,202334,34,2023,"2023-08-21","2023-08-27"]
[null,null,null,null,null,null,null,null,null,null,null,null,null,null,null,null,null,null,null,null,null,null,null,null,null,null,null,null,null,null,null,null,null,null,null,null,null,null,null,null,null,null,null,null,null,null,null,null,null,557,null,null,202335,35,2023,"2023-08-28","2023-09-03"]
[null,null,null,null,null,null,null,null,null,null,null,null,null,null,null,null,null,null,null,null,null,null,null,null,null,null,null,null,null,null,null,null,null,null,null,null,null,null,null,null,null,null,null,null,null,null,null,null,null,558,null,null,202336,36,2023,"2023-09-04","2023-09-10"]
[null,null,null,null,null,null,null,null,null,null,null,null,null,null,null,null,null,null,null,null,null,null,null,null,null,null,null,null,null,null,null,null,null,null,null,null,null,null,null,null,null,null,null,null,null,null,null,null,null,559,null,null,202337,37,2023,"2023-09-11","2023-09-17"]
[null,null,null,null,null,null,null,null,null,null,null,null,null,null,null,null,null,null,null,null,null,null,null,null,null,null,null,null,null,null,null,null,null,null,null,null,null,null,null,null,null,null,null,null,null,null,null,null,null,560,null,null,202338,38,2023,"2023-09-18","2023-09-24"]
[null,null,null,null,null,null,null,null,null,null,null,null,null,null,null,null,null,null,null,null,null,null,null,null,null,null,null,null,null,null,null,null,null,null,null,null,null,null,null,null,null,null,null,null,null,null,null,null,null,561,null,null,202339,39,2023,"2023-09-25","2023-10-01"]
[null,null,null,null,null,null,null,null,null,null,null,null,null,null,null,null,null,null,null,null,null,null,null,null,null,null,null,null,null,null,null,null,null,null,null,null,null,null,null,null,null,null,null,null,null,null,null,null,null,562,null,null,202340,40,2023,"2023-10-02","2023-10-08"]
[null,null,null,null,null,null,null,null,null,null,null,null,null,null,null,null,null,null,null,null,null,null,null,null,null,null,null,null,null,null,null,null,null,null,null,null,null,null,null,null,null,null,null,null,null,null,null,null,null,563,null,null,202341,41,2023,"2023-10-09","2023-10-15"]
[null,null,null,null,null,null,null,null,null,null,null,null,null,null,null,null,null,null,null,null,null,null,null,null,null,null,null,null,null,null,null,null,null,null,null,null,null,null,null,null,null,null,null,null,null,null,null,null,null,564,null,null,202342,42,2023,"2023-10-16","2023-10-22"]
[null,null,null,null,null,null,null,null,null,null,null,null,null,null,null,null,null,null,null,null,null,null,null,null,null,null,null,null,null,null,null,null,null,null,null,null,null,null,null,null,null,null,null,null,null,null,null,null,null,565,null,null,202343,43,2023,"2023-10-23","2023-10-29"]
[null,null,null,null,null,null,null,null,null,null,null,null,null,null,null,null,null,null,null,null,null,null,null,null,null,null,null,null,null,null,null,null,null,null,null,null,null,null,null,null,null,null,null,null,null,null,null,null,null,566,null,null,202344,44,2023,"2023-10-30","2023-11-05"]
[null,null,null,null,null,null,null,null,null,null,null,null,null,null,null,null,null,null,null,null,null,null,null,null,null,null,null,null,null,null,null,null,null,null,null,null,null,null,null,null,null,null,null,null,null,null,null,null,null,567,null,null,202345,45,2023,"2023-11-06","2023-11-12"]
[null,null,null,null,null,null,null,null,null,null,null,null,null,null,null,null,null,null,null,null,null,null,null,null,null,null,null,null,null,null,null,null,null,null,null,null,null,null,null,null,null,null,null,null,null,null,null,null,null,568,null,null,202346,46,2023,"2023-11-13","2023-11-19"]
[null,null,null,null,null,null,null,null,null,null,null,null,null,null,null,null,null,null,null,null,null,null,null,null,null,null,null,null,null,null,null,null,null,null,null,null,null,null,null,null,null,null,null,null,null,null,null,null,null,569,null,null,202347,47,2023,"2023-11-20","2023-11-26"]
[null,null,null,null,null,null,null,null,null,null,null,null,null,null,null,null,null,null,null,null,null,null,null,null,null,null,null,null,null,null,null,null,null,null,null,null,null,null,null,null,null,null,null,null,null,null,null,null,null,570,null,null,202348,48,2023,"2023-11-27","2023-12-03"]
[null,null,null,null,null,null,null,null,null,null,null,null,null,null,null,null,null,null,null,null,null,null,null,null,null,null,null,null,null,null,null,null,null,null,null,null,null,null,null,null,null,null,null,null,null,null,null,null,null,571,null,null,202349,49,2023,"2023-12-04","2023-12-10"]
[null,null,null,null,null,null,null,null,null,null,null,null,null,null,null,null,null,null,null,null,null,null,null,null,null,null,null,null,null,null,null,null,null,null,null,null,null,null,null,null,null,null,null,null,null,null,null,null,null,572,null,null,202350,50,2023,"2023-12-11","2023-12-17"]
[null,null,null,null,null,null,null,null,null,null,null,null,null,null,null,null,null,null,null,null,null,null,null,null,null,null,null,null,null,null,null,null,null,null,null,null,null,null,null,null,null,null,null,null,null,null,null,null,null,573,null,null,202351,51,2023,"2023-12-18","2023-12-24"]
[null,null,null,null,null,null,null,null,null,null,null,null,null,null,null,null,null,null,null,null,null,null,null,null,null,null,null,null,null,null,null,null,null,null,null,null,null,null,null,null,null,null,null,null,null,null,null,null,null,574,null,null,202352,52,2023,"2023-12-25","2023-12-31"]
[null,null,null,null,null,null,null,null,null,null,null,null,null,null,null,null,null,null,null,null,null,null,null,null,null,null,null,null,null,null,null,null,null,null,null,null,null,null,null,null,null,null,null,null,null,null,null,null,null,575,null,null,20241,1,2024,"2024-01-01","2024-01-07"]
[null,null,null,null,null,null,null,null,null,null,null,null,null,null,null,null,null,null,null,null,null,null,null,null,null,null,null,null,null,null,null,null,null,null,null,null,null,null,null,null,null,null,null,null,null,null,null,null,null,576,null,null,20242,2,2024,"2024-01-08","2024-01-14"]
[null,null,null,null,null,null,null,null,null,null,null,null,null,null,null,null,null,null,null,null,null,null,null,null,null,null,null,null,null,null,null,null,null,null,null,null,null,null,null,null,null,null,null,null,null,null,null,null,null,577,null,null,20243,3,2024,"2024-01-15","2024-01-21"]
[null,null,null,null,null,null,null,null,null,null,null,null,null,null,null,null,null,null,null,null,null,null,null,null,null,null,null,null,null,null,null,null,null,null,null,null,null,null,null,null,null,null,null,null,null,null,null,null,null,578,null,null,20244,4,2024,"2024-01-22","2024-01-28"]
[null,null,null,null,null,null,null,null,null,null,null,null,null,null,null,null,null,null,null,null,null,null,null,null,null,null,null,null,null,null,null,null,null,null,null,null,null,null,null,null,null,null,null,null,null,null,null,null,null,579,null,null,20245,5,2024,"2024-01-29","2024-02-04"]
[null,null,null,null,null,null,null,null,null,null,null,null,null,null,null,null,null,null,null,null,null,null,null,null,null,null,null,null,null,null,null,null,null,null,null,null,null,null,null,null,null,null,null,null,null,null,null,null,null,580,null,null,20246,6,2024,"2024-02-05","2024-02-11"]
[null,null,null,null,null,null,null,null,null,null,null,null,null,null,null,null,null,null,null,null,null,null,null,null,null,null,null,null,null,null,null,null,null,null,null,null,null,null,null,null,null,null,null,null,null,null,null,null,null,581,null,null,20247,7,2024,"2024-02-12","2024-02-18"]
[null,null,null,null,null,null,null,null,null,null,null,null,null,null,null,null,null,null,null,null,null,null,null,null,null,null,null,null,null,null,null,null,null,null,null,null,null,null,null,null,null,null,null,null,null,null,null,null,null,582,null,null,20248,8,2024,"2024-02-19","2024-02-25"]
[null,null,null,null,null,null,null,null,null,null,null,null,null,null,null,null,null,null,null,null,null,null,null,null,null,null,null,null,null,null,null,null,null,null,null,null,null,null,null,null,null,null,null,null,null,null,null,null,null,583,null,null,20249,9,2024,"2024-02-26","2024-03-03"]
[null,null,null,null,null,null,null,null,null,null,null,null,null,null,null,null,null,null,null,null,null,null,null,null,null,null,null,null,null,null,null,null,null,null,null,null,null,null,null,null,null,null,null,null,null,null,null,null,null,584,null,null,202410,10,2024,"2024-03-04","2024-03-10"]
[null,null,null,null,null,null,null,null,null,null,null,null,null,null,null,null,null,null,null,null,null,null,null,null,null,null,null,null,null,null,null,null,null,null,null,null,null,null,null,null,null,null,null,null,null,null,null,null,null,585,null,null,202411,11,2024,"2024-03-11","2024-03-17"]
[null,null,null,null,null,null,null,null,null,null,null,null,null,null,null,null,null,null,null,null,null,null,null,null,null,null,null,null,null,null,null,null,null,null,null,null,null,null,null,null,null,null,null,null,null,null,null,null,null,586,null,null,202412,12,2024,"2024-03-18","2024-03-24"]
[null,null,null,null,null,null,null,null,null,null,null,null,null,null,null,null,null,null,null,null,null,null,null,null,null,null,null,null,null,null,null,null,null,null,null,null,null,null,null,null,null,null,null,null,null,null,null,null,null,587,null,null,202413,13,2024,"2024-03-25","2024-03-31"]
[null,null,null,null,null,null,null,null,null,null,null,null,null,null,null,null,null,null,null,null,null,null,null,null,null,null,null,null,null,null,null,null,null,null,null,null,null,null,null,null,null,null,null,null,null,null,null,null,null,588,null,null,202414,14,2024,"2024-04-01","2024-04-07"]
[null,null,null,null,null,null,null,null,null,null,null,null,null,null,null,null,null,null,null,null,null,null,null,null,null,null,null,null,null,null,null,null,null,null,null,null,null,null,null,null,null,null,null,null,null,null,null,null,null,589,null,null,202415,15,2024,"2024-04-08","2024-04-14"]
[null,null,null,null,null,null,null,null,null,null,null,null,null,null,null,null,null,null,null,null,null,null,null,null,null,null,null,null,null,null,null,null,null,null,null,null,null,null,null,null,null,null,null,null,null,null,null,null,null,590,null,null,202416,16,2024,"2024-04-15","2024-04-21"]
[null,null,null,null,null,null,null,null,null,null,null,null,null,null,null,null,null,null,null,null,null,null,null,null,null,null,null,null,null,null,null,null,null,null,null,null,null,null,null,null,null,null,null,null,null,null,null,null,null,591,null,null,202417,17,2024,"2024-04-22","2024-04-28"]
[null,null,null,null,null,null,null,null,null,null,null,null,null,null,null,null,null,null,null,null,null,null,null,null,null,null,null,null,null,null,null,null,null,null,null,null,null,null,null,null,null,null,null,null,null,null,null,null,null,592,null,null,202418,18,2024,"2024-04-29","2024-05-05"]
[null,null,null,null,null,null,null,null,null,null,null,null,null,null,null,null,null,null,null,null,null,null,null,null,null,null,null,null,null,null,null,null,null,null,null,null,null,null,null,null,null,null,null,null,null,null,null,null,null,593,null,null,202419,19,2024,"2024-05-06","2024-05-12"]
[null,null,null,null,null,null,null,null,null,null,null,null,null,null,null,null,null,null,null,null,null,null,null,null,null,null,null,null,null,null,null,null,null,null,null,null,null,null,null,null,null,null,null,null,null,null,null,null,null,594,null,null,202420,20,2024,"2024-05-13","2024-05-19"]
[null,null,null,null,null,null,null,null,null,null,null,null,null,null,null,null,null,null,null,null,null,null,null,null,null,null,null,null,null,null,null,null,null,null,null,null,null,null,null,null,null,null,null,null,null,null,null,null,null,595,null,null,202421,21,2024,"2024-05-20","2024-05-26"]
[null,null,null,null,null,null,null,null,null,null,null,null,null,null,null,null,null,null,null,null,null,null,null,null,null,null,null,null,null,null,null,null,null,null,null,null,null,null,null,null,null,null,null,null,null,null,null,null,null,596,null,null,202422,22,2024,"2024-05-27","2024-06-02"]
[null,null,null,null,null,null,null,null,null,null,null,null,null,null,null,null,null,null,null,null,null,null,null,null,null,null,null,null,null,null,null,null,null,null,null,null,null,null,null,null,null,null,null,null,null,null,null,null,null,597,null,null,202423,23,2024,"2024-06-03","2024-06-09"]
[null,null,null,null,null,null,null,null,null,null,null,null,null,null,null,null,null,null,null,null,null,null,null,null,null,null,null,null,null,null,null,null,null,null,null,null,null,null,null,null,null,null,null,null,null,null,null,null,null,598,null,null,202424,24,2024,"2024-06-10","2024-06-16"]
[null,null,null,null,null,null,null,null,null,null,null,null,null,null,null,null,null,null,null,null,null,null,null,null,null,null,null,null,null,null,null,null,null,null,null,null,null,null,null,null,null,null,null,null,null,null,null,null,null,599,null,null,202425,25,2024,"2024-06-17","2024-06-23"]
[null,null,null,null,null,null,null,null,null,null,null,null,null,null,null,null,null,null,null,null,null,null,null,null,null,null,null,null,null,null,null,null,null,null,null,null,null,null,null,null,null,null,null,null,null,null,null,null,null,600,null,null,202426,26,2024,"2024-06-24","2024-06-30"]
[null,null,null,null,null,null,null,null,null,null,null,null,null,null,null,null,null,null,null,null,null,null,null,null,null,null,null,null,null,null,null,null,null,null,null,null,null,null,null,null,null,null,null,null,null,null,null,null,null,601,null,null,202427,27,2024,"2024-07-01","2024-07-07"]
[null,null,null,null,null,null,null,null,null,null,null,null,null,null,null,null,null,null,null,null,null,null,null,null,null,null,null,null,null,null,null,null,null,null,null,null,null,null,null,null,null,null,null,null,null,null,null,null,null,602,null,null,202428,28,2024,"2024-07-08","2024-07-14"]
[null,null,null,null,null,null,null,null,null,null,null,null,null,null,null,null,null,null,null,null,null,null,null,null,null,null,null,null,null,null,null,null,null,null,null,null,null,null,null,null,null,null,null,null,null,null,null,null,null,603,null,null,202429,29,2024,"2024-07-15","2024-07-21"]
[null,null,null,null,null,null,null,null,null,null,null,null,null,null,null,null,null,null,null,null,null,null,null,null,null,null,null,null,null,null,null,null,null,null,null,null,null,null,null,null,null,null,null,null,null,null,null,null,null,604,null,null,202430,30,2024,"2024-07-22","2024-07-28"]
[null,null,null,null,null,null,null,null,null,null,null,null,null,null,null,null,null,null,null,null,null,null,null,null,null,null,null,null,null,null,null,null,null,null,null,null,null,null,null,null,null,null,null,null,null,null,null,null,null,605,null,null,202431,31,2024,"2024-07-29","2024-08-04"]
[null,null,null,null,null,null,null,null,null,null,null,null,null,null,null,null,null,null,null,null,null,null,null,null,null,null,null,null,null,null,null,null,null,null,null,null,null,null,null,null,null,null,null,null,null,null,null,null,null,606,null,null,202432,32,2024,"2024-08-05","2024-08-11"]
[null,null,null,null,null,null,null,null,null,null,null,null,null,null,null,null,null,null,null,null,null,null,null,null,null,null,null,null,null,null,null,null,null,null,null,null,null,null,null,null,null,null,null,null,null,null,null,null,null,607,null,null,202433,33,2024,"2024-08-12","2024-08-18"]
[null,null,null,null,null,null,null,null,null,null,null,null,null,null,null,null,null,null,null,null,null,null,null,null,null,null,null,null,null,null,null,null,null,null,null,null,null,null,null,null,null,null,null,null,null,null,null,null,null,608,null,null,202434,34,2024,"2024-08-19","2024-08-25"]
[null,null,null,null,null,null,null,null,null,null,null,null,null,null,null,null,null,null,null,null,null,null,null,null,null,null,null,null,null,null,null,null,null,null,null,null,null,null,null,null,null,null,null,null,null,null,null,null,null,609,null,null,202435,35,2024,"2024-08-26","2024-09-01"]
[null,null,null,null,null,null,null,null,null,null,null,null,null,null,null,null,null,null,null,null,null,null,null,null,null,null,null,null,null,null,null,null,null,null,null,null,null,null,null,null,null,null,null,null,null,null,null,null,null,610,null,null,202436,36,2024,"2024-09-02","2024-09-08"]
[null,null,null,null,null,null,null,null,null,null,null,null,null,null,null,null,null,null,null,null,null,null,null,null,null,null,null,null,null,null,null,null,null,null,null,null,null,null,null,null,null,null,null,null,null,null,null,null,null,611,null,null,202437,37,2024,"2024-09-09","2024-09-15"]
[null,null,null,null,null,null,null,null,null,null,null,null,null,null,null,null,null,null,null,null,null,null,null,null,null,null,null,null,null,null,null,null,null,null,null,null,null,null,null,null,null,null,null,null,null,null,null,null,null,612,null,null,202438,38,2024,"2024-09-16","2024-09-22"]
[null,null,null,null,null,null,null,null,null,null,null,null,null,null,null,null,null,null,null,null,null,null,null,null,null,null,null,null,null,null,null,null,null,null,null,null,null,null,null,null,null,null,null,null,null,null,null,null,null,613,null,null,202439,39,2024,"2024-09-23","2024-09-29"]
[null,null,null,null,null,null,null,null,null,null,null,null,null,null,null,null,null,null,null,null,null,null,null,null,null,null,null,null,null,null,null,null,null,null,null,null,null,null,null,null,null,null,null,null,null,null,null,null,null,614,null,null,202440,40,2024,"2024-09-30","2024-10-06"]
[null,null,null,null,null,null,null,null,null,null,null,null,null,null,null,null,null,null,null,null,null,null,null,null,null,null,null,null,null,null,null,null,null,null,null,null,null,null,null,null,null,null,null,null,null,null,null,null,null,615,null,null,202441,41,2024,"2024-10-07","2024-10-13"]
[null,null,null,null,null,null,null,null,null,null,null,null,null,null,null,null,null,null,null,null,null,null,null,null,null,null,null,null,null,null,null,null,null,null,null,null,null,null,null,null,null,null,null,null,null,null,null,null,null,616,null,null,202442,42,2024,"2024-10-14","2024-10-20"]
[null,null,null,null,null,null,null,null,null,null,null,null,null,null,null,null,null,null,null,null,null,null,null,null,null,null,null,null,null,null,null,null,null,null,null,null,null,null,null,null,null,null,null,null,null,null,null,null,null,617,null,null,202443,43,2024,"2024-10-21","2024-10-27"]
[null,null,null,null,null,null,null,null,null,null,null,null,null,null,null,null,null,null,null,null,null,null,null,null,null,null,null,null,null,null,null,null,null,null,null,null,null,null,null,null,null,null,null,null,null,null,null,null,null,618,null,null,202444,44,2024,"2024-10-28","2024-11-03"]
[null,null,null,null,null,null,null,null,null,null,null,null,null,null,null,null,null,null,null,null,null,null,null,null,null,null,null,null,null,null,null,null,null,null,null,null,null,null,null,null,null,null,null,null,null,null,null,null,null,619,null,null,202445,45,2024,"2024-11-04","2024-11-10"]
[null,null,null,null,null,null,null,null,null,null,null,null,null,null,null,null,null,null,null,null,null,null,null,null,null,null,null,null,null,null,null,null,null,null,null,null,null,null,null,null,null,null,null,null,null,null,null,null,null,620,null,null,202446,46,2024,"2024-11-11","2024-11-17"]
[null,null,null,null,null,null,null,null,null,null,null,null,null,null,null,null,null,null,null,null,null,null,null,null,null,null,null,null,null,null,null,null,null,null,null,null,null,null,null,null,null,null,null,null,null,null,null,null,null,621,null,null,202447,47,2024,"2024-11-18","2024-11-24"]
[null,null,null,null,null,null,null,null,null,null,null,null,null,null,null,null,null,null,null,null,null,null,null,null,null,null,null,null,null,null,null,null,null,null,null,null,null,null,null,null,null,null,null,null,null,null,null,null,null,622,null,null,202448,48,2024,"2024-11-25","2024-12-01"]
[null,null,null,null,null,null,null,null,null,null,null,null,null,null,null,null,null,null,null,null,null,null,null,null,null,null,null,null,null,null,null,null,null,null,null,null,null,null,null,null,null,null,null,null,null,null,null,null,null,623,null,null,202449,49,2024,"2024-12-02","2024-12-08"]
[null,null,null,null,null,null,null,null,null,null,null,null,null,null,null,null,null,null,null,null,null,null,null,null,null,null,null,null,null,null,null,null,null,null,null,null,null,null,null,null,null,null,null,null,null,null,null,null,null,624,null,null,202450,50,2024,"2024-12-09","2024-12-15"]
[null,null,null,null,null,null,null,null,null,null,null,null,null,null,null,null,null,null,null,null,null,null,null,null,null,null,null,null,null,null,null,null,null,null,null,null,null,null,null,null,null,null,null,null,null,null,null,null,null,625,null,null,202451,51,2024,"2024-12-16","2024-12-22"]
[null,null,null,null,null,null,null,null,null,null,null,null,null,null,null,null,null,null,null,null,null,null,null,null,null,null,null,null,null,null,null,null,null,null,null,null,null,null,null,null,null,null,null,null,null,null,null,null,null,626,null,null,202452,52,2024,"2024-12-23","2024-12-29"]
[null,null,null,null,null,null,null,null,null,null,null,null,null,null,null,null,null,null,null,null,null,null,null,null,null,null,null,null,null,null,null,null,null,null,null,null,null,null,null,null,null,null,null,null,null,null,null,null,null,627,null,null,20251,1,2025,"2024-12-30","2025-01-05"]
[null,null,null,null,null,null,null,null,null,null,null,null,null,null,null,null,null,null,null,null,null,null,null,null,null,null,null,null,null,null,null,null,null,null,null,null,null,null,null,null,null,null,null,null,null,null,null,null,null,628,null,null,20252,2,2025,"2025-01-06","2025-01-12"]
[null,null,null,null,null,null,null,null,null,null,null,null,null,null,null,null,null,null,null,null,null,null,null,null,null,null,null,null,null,null,null,null,null,null,null,null,null,null,null,null,null,null,null,null,null,null,null,null,null,629,null,null,20253,3,2025,"2025-01-13","2025-01-19"]
[null,null,null,null,null,null,null,null,null,null,null,null,null,null,null,null,null,null,null,null,null,null,null,null,null,null,null,null,null,null,null,null,null,null,null,null,null,null,null,null,null,null,null,null,null,null,null,null,null,630,null,null,20254,4,2025,"2025-01-20","2025-01-26"]
[null,null,null,null,null,null,null,null,null,null,null,null,null,null,null,null,null,null,null,null,null,null,null,null,null,null,null,null,null,null,null,null,null,null,null,null,null,null,null,null,null,null,null,null,null,null,null,null,null,631,null,null,20255,5,2025,"2025-01-27","2025-02-02"]
[null,null,null,null,null,null,null,null,null,null,null,null,null,null,null,null,null,null,null,null,null,null,null,null,null,null,null,null,null,null,null,null,null,null,null,null,null,null,null,null,null,null,null,null,null,null,null,null,null,632,null,null,20256,6,2025,"2025-02-03","2025-02-09"]
[null,null,null,null,null,null,null,null,null,null,null,null,null,null,null,null,null,null,null,null,null,null,null,null,null,null,null,null,null,null,null,null,null,null,null,null,null,null,null,null,null,null,null,null,null,null,null,null,null,633,null,null,20257,7,2025,"2025-02-10","2025-02-16"]
[null,null,null,null,null,null,null,null,null,null,null,null,null,null,null,null,null,null,null,null,null,null,null,null,null,null,null,null,null,null,null,null,null,null,null,null,null,null,null,null,null,null,null,null,null,null,null,null,null,634,null,null,20258,8,2025,"2025-02-17","2025-02-23"]
[null,null,null,null,null,null,null,null,null,null,null,null,null,null,null,null,null,null,null,null,null,null,null,null,null,null,null,null,null,null,null,null,null,null,null,null,null,null,null,null,null,null,null,null,null,null,null,null,null,635,null,null,20259,9,2025,"2025-02-24","2025-03-02"]
[null,null,null,null,null,null,null,null,null,null,null,null,null,null,null,null,null,null,null,null,null,null,null,null,null,null,null,null,null,null,null,null,null,null,null,null,null,null,null,null,null,null,null,null,null,null,null,null,null,636,null,null,202510,10,2025,"2025-03-03","2025-03-09"]
[null,null,null,null,null,null,null,null,null,null,null,null,null,null,null,null,null,null,null,null,null,null,null,null,null,null,null,null,null,null,null,null,null,null,null,null,null,null,null,null,null,null,null,null,null,null,null,null,null,637,null,null,202511,11,2025,"2025-03-10","2025-03-16"]
[null,null,null,null,null,null,null,null,null,null,null,null,null,null,null,null,null,null,null,null,null,null,null,null,null,null,null,null,null,null,null,null,null,null,null,null,null,null,null,null,null,null,null,null,null,null,null,null,null,638,null,null,202512,12,2025,"2025-03-17","2025-03-23"]
[null,null,null,null,null,null,null,null,null,null,null,null,null,null,null,null,null,null,null,null,null,null,null,null,null,null,null,null,null,null,null,null,null,null,null,null,null,null,null,null,null,null,null,null,null,null,null,null,null,639,null,null,202513,13,2025,"2025-03-24","2025-03-30"]
[null,null,null,null,null,null,null,null,null,null,null,null,null,null,null,null,null,null,null,null,null,null,null,null,null,null,null,null,null,null,null,null,null,null,null,null,null,null,null,null,null,null,null,null,null,null,null,null,null,640,null,null,202514,14,2025,"2025-03-31","2025-04-06"]
[null,null,null,null,null,null,null,null,null,null,null,null,null,null,null,null,null,null,null,null,null,null,null,null,null,null,null,null,null,null,null,null,null,null,null,null,null,null,null,null,null,null,null,null,null,null,null,null,null,641,null,null,202515,15,2025,"2025-04-07","2025-04-13"]
[null,null,null,null,null,null,null,null,null,null,null,null,null,null,null,null,null,null,null,null,null,null,null,null,null,null,null,null,null,null,null,null,null,null,null,null,null,null,null,null,null,null,null,null,null,null,null,null,null,642,null,null,202516,16,2025,"2025-04-14","2025-04-20"]
[null,null,null,null,null,null,null,null,null,null,null,null,null,null,null,null,null,null,null,null,null,null,null,null,null,null,null,null,null,null,null,null,null,null,null,null,null,null,null,null,null,null,null,null,null,null,null,null,null,643,null,null,202517,17,2025,"2025-04-21","2025-04-27"]
[null,null,null,null,null,null,null,null,null,null,null,null,null,null,null,null,null,null,null,null,null,null,null,null,null,null,null,null,null,null,null,null,null,null,null,null,null,null,null,null,null,null,null,null,null,null,null,null,null,644,null,null,202518,18,2025,"2025-04-28","2025-05-04"]
[null,null,null,null,null,null,null,null,null,null,null,null,null,null,null,null,null,null,null,null,null,null,null,null,null,null,null,null,null,null,null,null,null,null,null,null,null,null,null,null,null,null,null,null,null,null,null,null,null,645,null,null,202519,19,2025,"2025-05-05","2025-05-11"]
[null,null,null,null,null,null,null,null,null,null,null,null,null,null,null,null,null,null,null,null,null,null,null,null,null,null,null,null,null,null,null,null,null,null,null,null,null,null,null,null,null,null,null,null,null,null,null,null,null,646,null,null,202520,20,2025,"2025-05-12","2025-05-18"]
[null,null,null,null,null,null,null,null,null,null,null,null,null,null,null,null,null,null,null,null,null,null,null,null,null,null,null,null,null,null,null,null,null,null,null,null,null,null,null,null,null,null,null,null,null,null,null,null,null,647,null,null,202521,21,2025,"2025-05-19","2025-05-25"]
[null,null,null,null,null,null,null,null,null,null,null,null,null,null,null,null,null,null,null,null,null,null,null,null,null,null,null,null,null,null,null,null,null,null,null,null,null,null,null,null,null,null,null,null,null,null,null,null,null,648,null,null,202522,22,2025,"2025-05-26","2025-06-01"]
[null,null,null,null,null,null,null,null,null,null,null,null,null,null,null,null,null,null,null,null,null,null,null,null,null,null,null,null,null,null,null,null,null,null,null,null,null,null,null,null,null,null,null,null,null,null,null,null,null,649,null,null,202523,23,2025,"2025-06-02","2025-06-08"]
[null,null,null,null,null,null,null,null,null,null,null,null,null,null,null,null,null,null,null,null,null,null,null,null,null,null,null,null,null,null,null,null,null,null,null,null,null,null,null,null,null,null,null,null,null,null,null,null,null,650,null,null,202524,24,2025,"2025-06-09","2025-06-15"]
[null,null,null,null,null,null,null,null,null,null,null,null,null,null,null,null,null,null,null,null,null,null,null,null,null,null,null,null,null,null,null,null,null,null,null,null,null,null,null,null,null,null,null,null,null,null,null,null,null,651,null,null,202525,25,2025,"2025-06-16","2025-06-22"]
[null,null,null,null,null,null,null,null,null,null,null,null,null,null,null,null,null,null,null,null,null,null,null,null,null,null,null,null,null,null,null,null,null,null,null,null,null,null,null,null,null,null,null,null,null,null,null,null,null,652,null,null,202526,26,2025,"2025-06-23","2025-06-29"]
[null,null,null,null,null,null,null,null,null,null,null,null,null,null,null,null,null,null,null,null,null,null,null,null,null,null,null,null,null,null,null,null,null,null,null,null,null,null,null,null,null,null,null,null,null,null,null,null,null,653,null,null,202527,27,2025,"2025-06-30","2025-07-06"]
[null,null,null,null,null,null,null,null,null,null,null,null,null,null,null,null,null,null,null,null,null,null,null,null,null,null,null,null,null,null,null,null,null,null,null,null,null,null,null,null,null,null,null,null,null,null,null,null,null,654,null,null,202528,28,2025,"2025-07-07","2025-07-13"]
[null,null,null,null,null,null,null,null,null,null,null,null,null,null,null,null,null,null,null,null,null,null,null,null,null,null,null,null,null,null,null,null,null,null,null,null,null,null,null,null,null,null,null,null,null,null,null,null,null,655,null,null,202529,29,2025,"2025-07-14","2025-07-20"]
[null,null,null,null,null,null,null,null,null,null,null,null,null,null,null,null,null,null,null,null,null,null,null,null,null,null,null,null,null,null,null,null,null,null,null,null,null,null,null,null,null,null,null,null,null,null,null,null,null,656,null,null,202530,30,2025,"2025-07-21","2025-07-27"]
[null,null,null,null,null,null,null,null,null,null,null,null,null,null,null,null,null,null,null,null,null,null,null,null,null,null,null,null,null,null,null,null,null,null,null,null,null,null,null,null,null,null,null,null,null,null,null,null,null,657,null,null,202531,31,2025,"2025-07-28","2025-08-03"]
[null,null,null,null,null,null,null,null,null,null,null,null,null,null,null,null,null,null,null,null,null,null,null,null,null,null,null,null,null,null,null,null,null,null,null,null,null,null,null,null,null,null,null,null,null,null,null,null,null,658,null,null,202532,32,2025,"2025-08-04","2025-08-10"]
[null,null,null,null,null,null,null,null,null,null,null,null,null,null,null,null,null,null,null,null,null,null,null,null,null,null,null,null,null,null,null,null,null,null,null,null,null,null,null,null,null,null,null,null,null,null,null,null,null,659,null,null,202533,33,2025,"2025-08-11","2025-08-17"]
[null,null,null,null,null,null,null,null,null,null,null,null,null,null,null,null,null,null,null,null,null,null,null,null,null,null,null,null,null,null,null,null,null,null,null,null,null,null,null,null,null,null,null,null,null,null,null,null,null,660,null,null,202534,34,2025,"2025-08-18","2025-08-24"]
[null,null,null,null,null,null,null,null,null,null,null,null,null,null,null,null,null,null,null,null,null,null,null,null,null,null,null,null,null,null,null,null,null,null,null,null,null,null,null,null,null,null,null,null,null,null,null,null,null,661,null,null,202535,35,2025,"2025-08-25","2025-08-31"]
[null,null,null,null,null,null,null,null,null,null,null,null,null,null,null,null,null,null,null,null,null,null,null,null,null,null,null,null,null,null,null,null,null,null,null,null,null,null,null,null,null,null,null,null,null,null,null,null,null,662,null,null,202536,36,2025,"2025-09-01","2025-09-07"]
[null,null,null,null,null,null,null,null,null,null,null,null,null,null,null,null,null,null,null,null,null,null,null,null,null,null,null,null,null,null,null,null,null,null,null,null,null,null,null,null,null,null,null,null,null,null,null,null,null,663,null,null,202537,37,2025,"2025-09-08","2025-09-14"]
[null,null,null,null,null,null,null,null,null,null,null,null,null,null,null,null,null,null,null,null,null,null,null,null,null,null,null,null,null,null,null,null,null,null,null,null,null,null,null,null,null,null,null,null,null,null,null,null,null,664,null,null,202538,38,2025,"2025-09-15","2025-09-21"]
[null,null,null,null,null,null,null,null,null,null,null,null,null,null,null,null,null,null,null,null,null,null,null,null,null,null,null,null,null,null,null,null,null,null,null,null,null,null,null,null,null,null,null,null,null,null,null,null,null,665,null,null,202539,39,2025,"2025-09-22","2025-09-28"]
[null,null,null,null,null,null,null,null,null,null,null,null,null,null,null,null,null,null,null,null,null,null,null,null,null,null,null,null,null,null,null,null,null,null,null,null,null,null,null,null,null,null,null,null,null,null,null,null,null,666,null,null,202540,40,2025,"2025-09-29","2025-10-05"]
[null,null,null,null,null,null,null,null,null,null,null,null,null,null,null,null,null,null,null,null,null,null,null,null,null,null,null,null,null,null,null,null,null,null,null,null,null,null,null,null,null,null,null,null,null,null,null,null,null,667,null,null,202541,41,2025,"2025-10-06","2025-10-12"]
[null,null,null,null,null,null,null,null,null,null,null,null,null,null,null,null,null,null,null,null,null,null,null,null,null,null,null,null,null,null,null,null,null,null,null,null,null,null,null,null,null,null,null,null,null,null,null,null,null,668,null,null,202542,42,2025,"2025-10-13","2025-10-19"]
[null,null,null,null,null,null,null,null,null,null,null,null,null,null,null,null,null,null,null,null,null,null,null,null,null,null,null,null,null,null,null,null,null,null,null,null,null,null,null,null,null,null,null,null,null,null,null,null,null,669,null,null,202543,43,2025,"2025-10-20","2025-10-26"]
[null,null,null,null,null,null,null,null,null,null,null,null,null,null,null,null,null,null,null,null,null,null,null,null,null,null,null,null,null,null,null,null,null,null,null,null,null,null,null,null,null,null,null,null,null,null,null,null,null,670,null,null,202544,44,2025,"2025-10-27","2025-11-02"]
[null,null,null,null,null,null,null,null,null,null,null,null,null,null,null,null,null,null,null,null,null,null,null,null,null,null,null,null,null,null,null,null,null,null,null,null,null,null,null,null,null,null,null,null,null,null,null,null,null,671,null,null,202545,45,2025,"2025-11-03","2025-11-09"]
[null,null,null,null,null,null,null,null,null,null,null,null,null,null,null,null,null,null,null,null,null,null,null,null,null,null,null,null,null,null,null,null,null,null,null,null,null,null,null,null,null,null,null,null,null,null,null,null,null,672,null,null,202546,46,2025,"2025-11-10","2025-11-16"]
[null,null,null,null,null,null,null,null,null,null,null,null,null,null,null,null,null,null,null,null,null,null,null,null,null,null,null,null,null,null,null,null,null,null,null,null,null,null,null,null,null,null,null,null,null,null,null,null,null,673,null,null,202547,47,2025,"2025-11-17","2025-11-23"]
[null,null,null,null,null,null,null,null,null,null,null,null,null,null,null,null,null,null,null,null,null,null,null,null,null,null,null,null,null,null,null,null,null,null,null,null,null,null,null,null,null,null,null,null,null,null,null,null,null,674,null,null,202548,48,2025,"2025-11-24","2025-11-30"]
[null,null,null,null,null,null,null,null,null,null,null,null,null,null,null,null,null,null,null,null,null,null,null,null,null,null,null,null,null,null,null,null,null,null,null,null,null,null,null,null,null,null,null,null,null,null,null,null,null,675,null,null,202549,49,2025,"2025-12-01","2025-12-07"]
[null,null,null,null,null,null,null,null,null,null,null,null,null,null,null,null,null,null,null,null,null,null,null,null,null,null,null,null,null,null,null,null,null,null,null,null,null,null,null,null,null,null,null,null,null,null,null,null,null,676,null,null,202550,50,2025,"2025-12-08","2025-12-14"]
[null,null,null,null,null,null,null,null,null,null,null,null,null,null,null,null,null,null,null,null,null,null,null,null,null,null,null,null,null,null,null,null,null,null,null,null,null,null,null,null,null,null,null,null,null,null,null,null,null,677,null,null,202551,51,2025,"2025-12-15","2025-12-21"]
[null,null,null,null,null,null,null,null,null,null,null,null,null,null,null,null,null,null,null,null,null,null,null,null,null,null,null,null,null,null,null,null,null,null,null,null,null,null,null,null,null,null,null,null,null,null,null,null,null,678,null,null,202552,52,2025,"2025-12-22","2025-12-28"]
[null,null,null,null,null,null,null,null,null,null,null,null,null,null,null,null,null,null,null,null,null,null,null,null,null,null,null,null,null,null,null,null,null,null,null,null,null,null,null,null,null,null,null,null,null,null,null,null,null,679,null,null,20261,1,2026,"2025-12-29","2026-01-04"]
[null,null,null,null,null,null,null,null,null,null,null,null,null,null,null,null,null,null,null,null,null,null,null,null,null,null,null,null,null,null,null,null,null,null,null,null,null,null,null,null,null,null,null,null,null,null,null,null,null,680,null,null,20262,2,2026,"2026-01-05","2026-01-11"]
[null,null,null,null,null,null,null,null,null,null,null,null,null,null,null,null,null,null,null,null,null,null,null,null,null,null,null,null,null,null,null,null,null,null,null,null,null,null,null,null,null,null,null,null,null,null,null,null,null,681,null,null,20263,3,2026,"2026-01-12","2026-01-18"]
[null,null,null,null,null,null,null,null,null,null,null,null,null,null,null,null,null,null,null,null,null,null,null,null,null,null,null,null,null,null,null,null,null,null,null,null,null,null,null,null,null,null,null,null,null,null,null,null,null,682,null,null,20264,4,2026,"2026-01-19","2026-01-25"]
[null,null,null,null,null,null,null,null,null,null,null,null,null,null,null,null,null,null,null,null,null,null,null,null,null,null,null,null,null,null,null,null,null,null,null,null,null,null,null,null,null,null,null,null,null,null,null,null,null,683,null,null,20265,5,2026,"2026-01-26","2026-02-01"]
[null,null,null,null,null,null,null,null,null,null,null,null,null,null,null,null,null,null,null,null,null,null,null,null,null,null,null,null,null,null,null,null,null,null,null,null,null,null,null,null,null,null,null,null,null,null,null,null,null,684,null,null,20266,6,2026,"2026-02-02","2026-02-08"]
[null,null,null,null,null,null,null,null,null,null,null,null,null,null,null,null,null,null,null,null,null,null,null,null,null,null,null,null,null,null,null,null,null,null,null,null,null,null,null,null,null,null,null,null,null,null,null,null,null,685,null,null,20267,7,2026,"2026-02-09","2026-02-15"]
[null,null,null,null,null,null,null,null,null,null,null,null,null,null,null,null,null,null,null,null,null,null,null,null,null,null,null,null,null,null,null,null,null,null,null,null,null,null,null,null,null,null,null,null,null,null,null,null,null,686,null,null,20268,8,2026,"2026-02-16","2026-02-22"]
[null,null,null,null,null,null,null,null,null,null,null,null,null,null,null,null,null,null,null,null,null,null,null,null,null,null,null,null,null,null,null,null,null,null,null,null,null,null,null,null,null,null,null,null,null,null,null,null,null,687,null,null,20269,9,2026,"2026-02-23","2026-03-01"]
[null,null,null,null,null,null,null,null,null,null,null,null,null,null,null,null,null,null,null,null,null,null,null,null,null,null,null,null,null,null,null,null,null,null,null,null,null,null,null,null,null,null,null,null,null,null,null,null,null,688,null,null,202610,10,2026,"2026-03-02","2026-03-08"]
[null,null,null,null,null,null,null,null,null,null,null,null,null,null,null,null,null,null,null,null,null,null,null,null,null,null,null,null,null,null,null,null,null,null,null,null,null,null,null,null,null,null,null,null,null,null,null,null,null,689,null,null,202611,11,2026,"2026-03-09","2026-03-15"]
[null,null,null,null,null,null,null,null,null,null,null,null,null,null,null,null,null,null,null,null,null,null,null,null,null,null,null,null,null,null,null,null,null,null,null,null,null,null,null,null,null,null,null,null,null,null,null,null,null,690,null,null,202612,12,2026,"2026-03-16","2026-03-22"]
[null,null,null,null,null,null,null,null,null,null,null,null,null,null,null,null,null,null,null,null,null,null,null,null,null,null,null,null,null,null,null,null,null,null,null,null,null,null,null,null,null,null,null,null,null,null,null,null,null,691,null,null,202613,13,2026,"2026-03-23","2026-03-29"]
[null,null,null,null,null,null,null,null,null,null,null,null,null,null,null,null,null,null,null,null,null,null,null,null,null,null,null,null,null,null,null,null,null,null,null,null,null,null,null,null,null,null,null,null,null,null,null,null,null,692,null,null,202614,14,2026,"2026-03-30","2026-04-05"]
[null,null,null,null,null,null,null,null,null,null,null,null,null,null,null,null,null,null,null,null,null,null,null,null,null,null,null,null,null,null,null,null,null,null,null,null,null,null,null,null,null,null,null,null,null,null,null,null,null,693,null,null,202615,15,2026,"2026-04-06","2026-04-12"]
[null,null,null,null,null,null,null,null,null,null,null,null,null,null,null,null,null,null,null,null,null,null,null,null,null,null,null,null,null,null,null,null,null,null,null,null,null,null,null,null,null,null,null,null,null,null,null,null,null,694,null,null,202616,16,2026,"2026-04-13","2026-04-19"]
[null,null,null,null,null,null,null,null,null,null,null,null,null,null,null,null,null,null,null,null,null,null,null,null,null,null,null,null,null,null,null,null,null,null,null,null,null,null,null,null,null,null,null,null,null,null,null,null,null,695,null,null,202617,17,2026,"2026-04-20","2026-04-26"]
[null,null,null,null,null,null,null,null,null,null,null,null,null,null,null,null,null,null,null,null,null,null,null,null,null,null,null,null,null,null,null,null,null,null,null,null,null,null,null,null,null,null,null,null,null,null,null,null,null,696,null,null,202618,18,2026,"2026-04-27","2026-05-03"]
[null,null,null,null,null,null,null,null,null,null,null,null,null,null,null,null,null,null,null,null,null,null,null,null,null,null,null,null,null,null,null,null,null,null,null,null,null,null,null,null,null,null,null,null,null,null,null,null,null,697,null,null,202619,19,2026,"2026-05-04","2026-05-10"]
[null,null,null,null,null,null,null,null,null,null,null,null,null,null,null,null,null,null,null,null,null,null,null,null,null,null,null,null,null,null,null,null,null,null,null,null,null,null,null,null,null,null,null,null,null,null,null,null,null,698,null,null,202620,20,2026,"2026-05-11","2026-05-17"]
[null,null,null,null,null,null,null,null,null,null,null,null,null,null,null,null,null,null,null,null,null,null,null,null,null,null,null,null,null,null,null,null,null,null,null,null,null,null,null,null,null,null,null,null,null,null,null,null,null,699,null,null,202621,21,2026,"2026-05-18","2026-05-24"]
[null,null,null,null,null,null,null,null,null,null,null,null,null,null,null,null,null,null,null,null,null,null,null,null,null,null,null,null,null,null,null,null,null,null,null,null,null,null,null,null,null,null,null,null,null,null,null,null,null,700,null,null,202622,22,2026,"2026-05-25","2026-05-31"]
[null,null,null,null,null,null,null,null,null,null,null,null,null,null,null,null,null,null,null,null,null,null,null,null,null,null,null,null,null,null,null,null,null,null,null,null,null,null,null,null,null,null,null,null,null,null,null,null,null,701,null,null,202623,23,2026,"2026-06-01","2026-06-07"]
[null,null,null,null,null,null,null,null,null,null,null,null,null,null,null,null,null,null,null,null,null,null,null,null,null,null,null,null,null,null,null,null,null,null,null,null,null,null,null,null,null,null,null,null,null,null,null,null,null,702,null,null,202624,24,2026,"2026-06-08","2026-06-14"]
[null,null,null,null,null,null,null,null,null,null,null,null,null,null,null,null,null,null,null,null,null,null,null,null,null,null,null,null,null,null,null,null,null,null,null,null,null,null,null,null,null,null,null,null,null,null,null,null,null,703,null,null,202625,25,2026,"2026-06-15","2026-06-21"]
[null,null,null,null,null,null,null,null,null,null,null,null,null,null,null,null,null,null,null,null,null,null,null,null,null,null,null,null,null,null,null,null,null,null,null,null,null,null,null,null,null,null,null,null,null,null,null,null,null,704,null,null,202626,26,2026,"2026-06-22","2026-06-28"]
[null,null,null,null,null,null,null,null,null,null,null,null,null,null,null,null,null,null,null,null,null,null,null,null,null,null,null,null,null,null,null,null,null,null,null,null,null,null,null,null,null,null,null,null,null,null,null,null,null,705,null,null,202627,27,2026,"2026-06-29","2026-07-05"]
[null,null,null,null,null,null,null,null,null,null,null,null,null,null,null,null,null,null,null,null,null,null,null,null,null,null,null,null,null,null,null,null,null,null,null,null,null,null,null,null,null,null,null,null,null,null,null,null,null,706,null,null,202628,28,2026,"2026-07-06","2026-07-12"]
[null,null,null,null,null,null,null,null,null,null,null,null,null,null,null,null,null,null,null,null,null,null,null,null,null,null,null,null,null,null,null,null,null,null,null,null,null,null,null,null,null,null,null,null,null,null,null,null,null,707,null,null,202629,29,2026,"2026-07-13","2026-07-19"]
[null,null,null,null,null,null,null,null,null,null,null,null,null,null,null,null,null,null,null,null,null,null,null,null,null,null,null,null,null,null,null,null,null,null,null,null,null,null,null,null,null,null,null,null,null,null,null,null,null,708,null,null,202630,30,2026,"2026-07-20","2026-07-26"]
[null,null,null,null,null,null,null,null,null,null,null,null,null,null,null,null,null,null,null,null,null,null,null,null,null,null,null,null,null,null,null,null,null,null,null,null,null,null,null,null,null,null,null,null,null,null,null,null,null,709,null,null,202631,31,2026,"2026-07-27","2026-08-02"]
[null,null,null,null,null,null,null,null,null,null,null,null,null,null,null,null,null,null,null,null,null,null,null,null,null,null,null,null,null,null,null,null,null,null,null,null,null,null,null,null,null,null,null,null,null,null,null,null,null,710,null,null,202632,32,2026,"2026-08-03","2026-08-09"]
[null,null,null,null,null,null,null,null,null,null,null,null,null,null,null,null,null,null,null,null,null,null,null,null,null,null,null,null,null,null,null,null,null,null,null,null,null,null,null,null,null,null,null,null,null,null,null,null,null,711,null,null,202633,33,2026,"2026-08-10","2026-08-16"]
[null,null,null,null,null,null,null,null,null,null,null,null,null,null,null,null,null,null,null,null,null,null,null,null,null,null,null,null,null,null,null,null,null,null,null,null,null,null,null,null,null,null,null,null,null,null,null,null,null,712,null,null,202634,34,2026,"2026-08-17","2026-08-23"]
[null,null,null,null,null,null,null,null,null,null,null,null,null,null,null,null,null,null,null,null,null,null,null,null,null,null,null,null,null,null,null,null,null,null,null,null,null,null,null,null,null,null,null,null,null,null,null,null,null,713,null,null,202635,35,2026,"2026-08-24","2026-08-30"]
[null,null,null,null,null,null,null,null,null,null,null,null,null,null,null,null,null,null,null,null,null,null,null,null,null,null,null,null,null,null,null,null,null,null,null,null,null,null,null,null,null,null,null,null,null,null,null,null,null,714,null,null,202636,36,2026,"2026-08-31","2026-09-06"]
[null,null,null,null,null,null,null,null,null,null,null,null,null,null,null,null,null,null,null,null,null,null,null,null,null,null,null,null,null,null,null,null,null,null,null,null,null,null,null,null,null,null,null,null,null,null,null,null,null,715,null,null,202637,37,2026,"2026-09-07","2026-09-13"]
[null,null,null,null,null,null,null,null,null,null,null,null,null,null,null,null,null,null,null,null,null,null,null,null,null,null,null,null,null,null,null,null,null,null,null,null,null,null,null,null,null,null,null,null,null,null,null,null,null,716,null,null,202638,38,2026,"2026-09-14","2026-09-20"]
[null,null,null,null,null,null,null,null,null,null,null,null,null,null,null,null,null,null,null,null,null,null,null,null,null,null,null,null,null,null,null,null,null,null,null,null,null,null,null,null,null,null,null,null,null,null,null,null,null,717,null,null,202639,39,2026,"2026-09-21","2026-09-27"]
[null,null,null,null,null,null,null,null,null,null,null,null,null,null,null,null,null,null,null,null,null,null,null,null,null,null,null,null,null,null,null,null,null,null,null,null,null,null,null,null,null,null,null,null,null,null,null,null,null,718,null,null,202640,40,2026,"2026-09-28","2026-10-04"]
[null,null,null,null,null,null,null,null,null,null,null,null,null,null,null,null,null,null,null,null,null,null,null,null,null,null,null,null,null,null,null,null,null,null,null,null,null,null,null,null,null,null,null,null,null,null,null,null,null,719,null,null,202641,41,2026,"2026-10-05","2026-10-11"]
[null,null,null,null,null,null,null,null,null,null,null,null,null,null,null,null,null,null,null,null,null,null,null,null,null,null,null,null,null,null,null,null,null,null,null,null,null,null,null,null,null,null,null,null,null,null,null,null,null,720,null,null,202642,42,2026,"2026-10-12","2026-10-18"]
[null,null,null,null,null,null,null,null,null,null,null,null,null,null,null,null,null,null,null,null,null,null,null,null,null,null,null,null,null,null,null,null,null,null,null,null,null,null,null,null,null,null,null,null,null,null,null,null,null,721,null,null,202643,43,2026,"2026-10-19","2026-10-25"]
[null,null,null,null,null,null,null,null,null,null,null,null,null,null,null,null,null,null,null,null,null,null,null,null,null,null,null,null,null,null,null,null,null,null,null,null,null,null,null,null,null,null,null,null,null,null,null,null,null,722,null,null,202644,44,2026,"2026-10-26","2026-11-01"]
[null,null,null,null,null,null,null,null,null,null,null,null,null,null,null,null,null,null,null,null,null,null,null,null,null,null,null,null,null,null,null,null,null,null,null,null,null,null,null,null,null,null,null,null,null,null,null,null,null,723,null,null,202645,45,2026,"2026-11-02","2026-11-08"]
[null,null,null,null,null,null,null,null,null,null,null,null,null,null,null,null,null,null,null,null,null,null,null,null,null,null,null,null,null,null,null,null,null,null,null,null,null,null,null,null,null,null,null,null,null,null,null,null,null,724,null,null,202646,46,2026,"2026-11-09","2026-11-15"]
[null,null,null,null,null,null,null,null,null,null,null,null,null,null,null,null,null,null,null,null,null,null,null,null,null,null,null,null,null,null,null,null,null,null,null,null,null,null,null,null,null,null,null,null,null,null,null,null,null,725,null,null,202647,47,2026,"2026-11-16","2026-11-22"]
[null,null,null,null,null,null,null,null,null,null,null,null,null,null,null,null,null,null,null,null,null,null,null,null,null,null,null,null,null,null,null,null,null,null,null,null,null,null,null,null,null,null,null,null,null,null,null,null,null,726,null,null,202648,48,2026,"2026-11-23","2026-11-29"]
[null,null,null,null,null,null,null,null,null,null,null,null,null,null,null,null,null,null,null,null,null,null,null,null,null,null,null,null,null,null,null,null,null,null,null,null,null,null,null,null,null,null,null,null,null,null,null,null,null,727,null,null,202649,49,2026,"2026-11-30","2026-12-06"]
[null,null,null,null,null,null,null,null,null,null,null,null,null,null,null,null,null,null,null,null,null,null,null,null,null,null,null,null,null,null,null,null,null,null,null,null,null,null,null,null,null,null,null,null,null,null,null,null,null,728,null,null,202650,50,2026,"2026-12-07","2026-12-13"]
[null,null,null,null,null,null,null,null,null,null,null,null,null,null,null,null,null,null,null,null,null,null,null,null,null,null,null,null,null,null,null,null,null,null,null,null,null,null,null,null,null,null,null,null,null,null,null,null,null,729,null,null,202651,51,2026,"2026-12-14","2026-12-20"]
[null,null,null,null,null,null,null,null,null,null,null,null,null,null,null,null,null,null,null,null,null,null,null,null,null,null,null,null,null,null,null,null,null,null,null,null,null,null,null,null,null,null,null,null,null,null,null,null,null,730,null,null,202652,52,2026,"2026-12-21","2026-12-27"]
[null,null,null,null,null,null,null,null,null,null,null,null,null,null,null,null,null,null,null,null,null,null,null,null,null,null,null,null,null,null,null,null,null,null,null,null,null,null,null,null,null,null,null,null,null,null,null,null,null,731,null,null,202653,52,2026,"2026-12-28","2027-01-03"]
[null,null,null,null,null,null,null,null,null,null,null,null,null,null,null,null,null,null,null,null,null,null,null,null,null,null,null,null,null,null,null,null,null,null,null,null,null,null,null,null,null,null,null,null,null,null,null,null,null,732,null,null,20271,1,2027,"2027-01-04","2027-01-10"]
[null,null,null,null,null,null,null,null,null,null,null,null,null,null,null,null,null,null,null,null,null,null,null,null,null,null,null,null,null,null,null,null,null,null,null,null,null,null,null,null,null,null,null,null,null,null,null,null,null,733,null,null,20272,2,2027,"2027-01-11","2027-01-17"]
[null,null,null,null,null,null,null,null,null,null,null,null,null,null,null,null,null,null,null,null,null,null,null,null,null,null,null,null,null,null,null,null,null,null,null,null,null,null,null,null,null,null,null,null,null,null,null,null,null,734,null,null,20273,3,2027,"2027-01-18","2027-01-24"]
[null,null,null,null,null,null,null,null,null,null,null,null,null,null,null,null,null,null,null,null,null,null,null,null,null,null,null,null,null,null,null,null,null,null,null,null,null,null,null,null,null,null,null,null,null,null,null,null,null,735,null,null,20274,4,2027,"2027-01-25","2027-01-31"]
[null,null,null,null,null,null,null,null,null,null,null,null,null,null,null,null,null,null,null,null,null,null,null,null,null,null,null,null,null,null,null,null,null,null,null,null,null,null,null,null,null,null,null,null,null,null,null,null,null,736,null,null,20275,5,2027,"2027-02-01","2027-02-07"]
[null,null,null,null,null,null,null,null,null,null,null,null,null,null,null,null,null,null,null,null,null,null,null,null,null,null,null,null,null,null,null,null,null,null,null,null,null,null,null,null,null,null,null,null,null,null,null,null,null,737,null,null,20276,6,2027,"2027-02-08","2027-02-14"]
[null,null,null,null,null,null,null,null,null,null,null,null,null,null,null,null,null,null,null,null,null,null,null,null,null,null,null,null,null,null,null,null,null,null,null,null,null,null,null,null,null,null,null,null,null,null,null,null,null,738,null,null,20277,7,2027,"2027-02-15","2027-02-21"]
[null,null,null,null,null,null,null,null,null,null,null,null,null,null,null,null,null,null,null,null,null,null,null,null,null,null,null,null,null,null,null,null,null,null,null,null,null,null,null,null,null,null,null,null,null,null,null,null,null,739,null,null,20278,8,2027,"2027-02-22","2027-02-28"]
[null,null,null,null,null,null,null,null,null,null,null,null,null,null,null,null,null,null,null,null,null,null,null,null,null,null,null,null,null,null,null,null,null,null,null,null,null,null,null,null,null,null,null,null,null,null,null,null,null,740,null,null,20279,9,2027,"2027-03-01","2027-03-07"]
[null,null,null,null,null,null,null,null,null,null,null,null,null,null,null,null,null,null,null,null,null,null,null,null,null,null,null,null,null,null,null,null,null,null,null,null,null,null,null,null,null,null,null,null,null,null,null,null,null,741,null,null,202710,10,2027,"2027-03-08","2027-03-14"]
[null,null,null,null,null,null,null,null,null,null,null,null,null,null,null,null,null,null,null,null,null,null,null,null,null,null,null,null,null,null,null,null,null,null,null,null,null,null,null,null,null,null,null,null,null,null,null,null,null,742,null,null,202711,11,2027,"2027-03-15","2027-03-21"]
[null,null,null,null,null,null,null,null,null,null,null,null,null,null,null,null,null,null,null,null,null,null,null,null,null,null,null,null,null,null,null,null,null,null,null,null,null,null,null,null,null,null,null,null,null,null,null,null,null,743,null,null,202712,12,2027,"2027-03-22","2027-03-28"]
[null,null,null,null,null,null,null,null,null,null,null,null,null,null,null,null,null,null,null,null,null,null,null,null,null,null,null,null,null,null,null,null,null,null,null,null,null,null,null,null,null,null,null,null,null,null,null,null,null,744,null,null,202713,13,2027,"2027-03-29","2027-04-04"]
[null,null,null,null,null,null,null,null,null,null,null,null,null,null,null,null,null,null,null,null,null,null,null,null,null,null,null,null,null,null,null,null,null,null,null,null,null,null,null,null,null,null,null,null,null,null,null,null,null,745,null,null,202714,14,2027,"2027-04-05","2027-04-11"]
[null,null,null,null,null,null,null,null,null,null,null,null,null,null,null,null,null,null,null,null,null,null,null,null,null,null,null,null,null,null,null,null,null,null,null,null,null,null,null,null,null,null,null,null,null,null,null,null,null,746,null,null,202715,15,2027,"2027-04-12","2027-04-18"]
[null,null,null,null,null,null,null,null,null,null,null,null,null,null,null,null,null,null,null,null,null,null,null,null,null,null,null,null,null,null,null,null,null,null,null,null,null,null,null,null,null,null,null,null,null,null,null,null,null,747,null,null,202716,16,2027,"2027-04-19","2027-04-25"]
[null,null,null,null,null,null,null,null,null,null,null,null,null,null,null,null,null,null,null,null,null,null,null,null,null,null,null,null,null,null,null,null,null,null,null,null,null,null,null,null,null,null,null,null,null,null,null,null,null,748,null,null,202717,17,2027,"2027-04-26","2027-05-02"]
[null,null,null,null,null,null,null,null,null,null,null,null,null,null,null,null,null,null,null,null,null,null,null,null,null,null,null,null,null,null,null,null,null,null,null,null,null,null,null,null,null,null,null,null,null,null,null,null,null,749,null,null,202718,18,2027,"2027-05-03","2027-05-09"]
[null,null,null,null,null,null,null,null,null,null,null,null,null,null,null,null,null,null,null,null,null,null,null,null,null,null,null,null,null,null,null,null,null,null,null,null,null,null,null,null,null,null,null,null,null,null,null,null,null,750,null,null,202719,19,2027,"2027-05-10","2027-05-16"]
[null,null,null,null,null,null,null,null,null,null,null,null,null,null,null,null,null,null,null,null,null,null,null,null,null,null,null,null,null,null,null,null,null,null,null,null,null,null,null,null,null,null,null,null,null,null,null,null,null,751,null,null,202720,20,2027,"2027-05-17","2027-05-23"]
[null,null,null,null,null,null,null,null,null,null,null,null,null,null,null,null,null,null,null,null,null,null,null,null,null,null,null,null,null,null,null,null,null,null,null,null,null,null,null,null,null,null,null,null,null,null,null,null,null,752,null,null,202721,21,2027,"2027-05-24","2027-05-30"]
[null,null,null,null,null,null,null,null,null,null,null,null,null,null,null,null,null,null,null,null,null,null,null,null,null,null,null,null,null,null,null,null,null,null,null,null,null,null,null,null,null,null,null,null,null,null,null,null,null,753,null,null,202722,22,2027,"2027-05-31","2027-06-06"]
[null,null,null,null,null,null,null,null,null,null,null,null,null,null,null,null,null,null,null,null,null,null,null,null,null,null,null,null,null,null,null,null,null,null,null,null,null,null,null,null,null,null,null,null,null,null,null,null,null,754,null,null,202723,23,2027,"2027-06-07","2027-06-13"]
[null,null,null,null,null,null,null,null,null,null,null,null,null,null,null,null,null,null,null,null,null,null,null,null,null,null,null,null,null,null,null,null,null,null,null,null,null,null,null,null,null,null,null,null,null,null,null,null,null,755,null,null,202724,24,2027,"2027-06-14","2027-06-20"]
[null,null,null,null,null,null,null,null,null,null,null,null,null,null,null,null,null,null,null,null,null,null,null,null,null,null,null,null,null,null,null,null,null,null,null,null,null,null,null,null,null,null,null,null,null,null,null,null,null,756,null,null,202725,25,2027,"2027-06-21","2027-06-27"]
[null,null,null,null,null,null,null,null,null,null,null,null,null,null,null,null,null,null,null,null,null,null,null,null,null,null,null,null,null,null,null,null,null,null,null,null,null,null,null,null,null,null,null,null,null,null,null,null,null,757,null,null,202726,26,2027,"2027-06-28","2027-07-04"]
[null,null,null,null,null,null,null,null,null,null,null,null,null,null,null,null,null,null,null,null,null,null,null,null,null,null,null,null,null,null,null,null,null,null,null,null,null,null,null,null,null,null,null,null,null,null,null,null,null,758,null,null,202727,27,2027,"2027-07-05","2027-07-11"]
[null,null,null,null,null,null,null,null,null,null,null,null,null,null,null,null,null,null,null,null,null,null,null,null,null,null,null,null,null,null,null,null,null,null,null,null,null,null,null,null,null,null,null,null,null,null,null,null,null,759,null,null,202728,28,2027,"2027-07-12","2027-07-18"]
[null,null,null,null,null,null,null,null,null,null,null,null,null,null,null,null,null,null,null,null,null,null,null,null,null,null,null,null,null,null,null,null,null,null,null,null,null,null,null,null,null,null,null,null,null,null,null,null,null,760,null,null,202729,29,2027,"2027-07-19","2027-07-25"]
[null,null,null,null,null,null,null,null,null,null,null,null,null,null,null,null,null,null,null,null,null,null,null,null,null,null,null,null,null,null,null,null,null,null,null,null,null,null,null,null,null,null,null,null,null,null,null,null,null,761,null,null,202730,30,2027,"2027-07-26","2027-08-01"]
[null,null,null,null,null,null,null,null,null,null,null,null,null,null,null,null,null,null,null,null,null,null,null,null,null,null,null,null,null,null,null,null,null,null,null,null,null,null,null,null,null,null,null,null,null,null,null,null,null,762,null,null,202731,31,2027,"2027-08-02","2027-08-08"]
[null,null,null,null,null,null,null,null,null,null,null,null,null,null,null,null,null,null,null,null,null,null,null,null,null,null,null,null,null,null,null,null,null,null,null,null,null,null,null,null,null,null,null,null,null,null,null,null,null,763,null,null,202732,32,2027,"2027-08-09","2027-08-15"]
[null,null,null,null,null,null,null,null,null,null,null,null,null,null,null,null,null,null,null,null,null,null,null,null,null,null,null,null,null,null,null,null,null,null,null,null,null,null,null,null,null,null,null,null,null,null,null,null,null,764,null,null,202733,33,2027,"2027-08-16","2027-08-22"]
[null,null,null,null,null,null,null,null,null,null,null,null,null,null,null,null,null,null,null,null,null,null,null,null,null,null,null,null,null,null,null,null,null,null,null,null,null,null,null,null,null,null,null,null,null,null,null,null,null,765,null,null,202734,34,2027,"2027-08-23","2027-08-29"]
[null,null,null,null,null,null,null,null,null,null,null,null,null,null,null,null,null,null,null,null,null,null,null,null,null,null,null,null,null,null,null,null,null,null,null,null,null,null,null,null,null,null,null,null,null,null,null,null,null,766,null,null,202735,35,2027,"2027-08-30","2027-09-05"]
[null,null,null,null,null,null,null,null,null,null,null,null,null,null,null,null,null,null,null,null,null,null,null,null,null,null,null,null,null,null,null,null,null,null,null,null,null,null,null,null,null,null,null,null,null,null,null,null,null,767,null,null,202736,36,2027,"2027-09-06","2027-09-12"]
[null,null,null,null,null,null,null,null,null,null,null,null,null,null,null,null,null,null,null,null,null,null,null,null,null,null,null,null,null,null,null,null,null,null,null,null,null,null,null,null,null,null,null,null,null,null,null,null,null,768,null,null,202737,37,2027,"2027-09-13","2027-09-19"]
[null,null,null,null,null,null,null,null,null,null,null,null,null,null,null,null,null,null,null,null,null,null,null,null,null,null,null,null,null,null,null,null,null,null,null,null,null,null,null,null,null,null,null,null,null,null,null,null,null,769,null,null,202738,38,2027,"2027-09-20","2027-09-26"]
[null,null,null,null,null,null,null,null,null,null,null,null,null,null,null,null,null,null,null,null,null,null,null,null,null,null,null,null,null,null,null,null,null,null,null,null,null,null,null,null,null,null,null,null,null,null,null,null,null,770,null,null,202739,39,2027,"2027-09-27","2027-10-03"]
[null,null,null,null,null,null,null,null,null,null,null,null,null,null,null,null,null,null,null,null,null,null,null,null,null,null,null,null,null,null,null,null,null,null,null,null,null,null,null,null,null,null,null,null,null,null,null,null,null,771,null,null,202740,40,2027,"2027-10-04","2027-10-10"]
[null,null,null,null,null,null,null,null,null,null,null,null,null,null,null,null,null,null,null,null,null,null,null,null,null,null,null,null,null,null,null,null,null,null,null,null,null,null,null,null,null,null,null,null,null,null,null,null,null,772,null,null,202741,41,2027,"2027-10-11","2027-10-17"]
[null,null,null,null,null,null,null,null,null,null,null,null,null,null,null,null,null,null,null,null,null,null,null,null,null,null,null,null,null,null,null,null,null,null,null,null,null,null,null,null,null,null,null,null,null,null,null,null,null,773,null,null,202742,42,2027,"2027-10-18","2027-10-24"]
[null,null,null,null,null,null,null,null,null,null,null,null,null,null,null,null,null,null,null,null,null,null,null,null,null,null,null,null,null,null,null,null,null,null,null,null,null,null,null,null,null,null,null,null,null,null,null,null,null,774,null,null,202743,43,2027,"2027-10-25","2027-10-31"]
[null,null,null,null,null,null,null,null,null,null,null,null,null,null,null,null,null,null,null,null,null,null,null,null,null,null,null,null,null,null,null,null,null,null,null,null,null,null,null,null,null,null,null,null,null,null,null,null,null,775,null,null,202744,44,2027,"2027-11-01","2027-11-07"]
[null,null,null,null,null,null,null,null,null,null,null,null,null,null,null,null,null,null,null,null,null,null,null,null,null,null,null,null,null,null,null,null,null,null,null,null,null,null,null,null,null,null,null,null,null,null,null,null,null,776,null,null,202745,45,2027,"2027-11-08","2027-11-14"]
[null,null,null,null,null,null,null,null,null,null,null,null,null,null,null,null,null,null,null,null,null,null,null,null,null,null,null,null,null,null,null,null,null,null,null,null,null,null,null,null,null,null,null,null,null,null,null,null,null,777,null,null,202746,46,2027,"2027-11-15","2027-11-21"]
[null,null,null,null,null,null,null,null,null,null,null,null,null,null,null,null,null,null,null,null,null,null,null,null,null,null,null,null,null,null,null,null,null,null,null,null,null,null,null,null,null,null,null,null,null,null,null,null,null,778,null,null,202747,47,2027,"2027-11-22","2027-11-28"]
[null,null,null,null,null,null,null,null,null,null,null,null,null,null,null,null,null,null,null,null,null,null,null,null,null,null,null,null,null,null,null,null,null,null,null,null,null,null,null,null,null,null,null,null,null,null,null,null,null,779,null,null,202748,48,2027,"2027-11-29","2027-12-05"]
[null,null,null,null,null,null,null,null,null,null,null,null,null,null,null,null,null,null,null,null,null,null,null,null,null,null,null,null,null,null,null,null,null,null,null,null,null,null,null,null,null,null,null,null,null,null,null,null,null,780,null,null,202749,49,2027,"2027-12-06","2027-12-12"]
[null,null,null,null,null,null,null,null,null,null,null,null,null,null,null,null,null,null,null,null,null,null,null,null,null,null,null,null,null,null,null,null,null,null,null,null,null,null,null,null,null,null,null,null,null,null,null,null,null,781,null,null,202750,50,2027,"2027-12-13","2027-12-19"]
[null,null,null,null,null,null,null,null,null,null,null,null,null,null,null,null,null,null,null,null,null,null,null,null,null,null,null,null,null,null,null,null,null,null,null,null,null,null,null,null,null,null,null,null,null,null,null,null,null,782,null,null,202751,51,2027,"2027-12-20","2027-12-26"]
[null,null,null,null,null,null,null,null,null,null,null,null,null,null,null,null,null,null,null,null,null,null,null,null,null,null,null,null,null,null,null,null,null,null,null,null,null,null,null,null,null,null,null,null,null,null,null,null,null,783,null,null,202752,52,2027,"2027-12-27","2028-01-02"]
[null,null,null,null,null,null,null,null,null,null,null,null,null,null,null,null,null,null,null,null,null,null,null,null,null,null,null,null,null,null,null,null,null,null,null,null,null,null,null,null,null,null,null,null,null,null,null,null,null,784]
[null,null,null,null,null,null,null,null,null,null,null,null,null,null,null,null,null,null,null,null,null,null,null,null,null,null,null,null,null,null,null,null,null,null,null,null,null,null,null,null,null,null,null,null,null,null,null,null,null,785]
[null,null,null,null,null,null,null,null,null,null,null,null,null,null,null,null,null,null,null,null,null,null,null,null,null,null,null,null,null,null,null,null,null,null,null,null,null,null,null,null,null,null,null,null,null,null,null,null,null,786]
[null,null,null,null,null,null,null,null,null,null,null,null,null,null,null,null,null,null,null,null,null,null,null,null,null,null,null,null,null,null,null,null,null,null,null,null,null,null,null,null,null,null,null,null,null,null,null,null,null,787]
[null,null,null,null,null,null,null,null,null,null,null,null,null,null,null,null,null,null,null,null,null,null,null,null,null,null,null,null,null,null,null,null,null,null,null,null,null,null,null,null,null,null,null,null,null,null,null,null,null,788]
[null,null,null,null,null,null,null,null,null,null,null,null,null,null,null,null,null,null,null,null,null,null,null,null,null,null,null,null,null,null,null,null,null,null,null,null,null,null,null,null,null,null,null,null,null,null,null,null,null,789]
[null,null,null,null,null,null,null,null,null,null,null,null,null,null,null,null,null,null,null,null,null,null,null,null,null,null,null,null,null,null,null,null,null,null,null,null,null,null,null,null,null,null,null,null,null,null,null,null,null,790]
[null,null,null,null,null,null,null,null,null,null,null,null,null,null,null,null,null,null,null,null,null,null,null,null,null,null,null,null,null,null,null,null,null,null,null,null,null,null,null,null,null,null,null,null,null,null,null,null,null,791]
[null,null,null,null,null,null,null,null,null,null,null,null,null,null,null,null,null,null,null,null,null,null,null,null,null,null,null,null,null,null,null,null,null,null,null,null,null,null,null,null,null,null,null,null,null,null,null,null,null,792]
[null,null,null,null,null,null,null,null,null,null,null,null,null,null,null,null,null,null,null,null,null,null,null,null,null,null,null,null,null,null,null,null,null,null,null,null,null,null,null,null,null,null,null,null,null,null,null,null,null,793]
[null,null,null,null,null,null,null,null,null,null,null,null,null,null,null,null,null,null,null,null,null,null,null,null,null,null,null,null,null,null,null,null,null,null,null,null,null,null,null,null,null,null,null,null,null,null,null,null,null,794]
[null,null,null,null,null,null,null,null,null,null,null,null,null,null,null,null,null,null,null,null,null,null,null,null,null,null,null,null,null,null,null,null,null,null,null,null,null,null,null,null,null,null,null,null,null,null,null,null,null,795]
[null,null,null,null,null,null,null,null,null,null,null,null,null,null,null,null,null,null,null,null,null,null,null,null,null,null,null,null,null,null,null,null,null,null,null,null,null,null,null,null,null,null,null,null,null,null,null,null,null,796]
[null,null,null,null,null,null,null,null,null,null,null,null,null,null,null,null,null,null,null,null,null,null,null,null,null,null,null,null,null,null,null,null,null,null,null,null,null,null,null,null,null,null,null,null,null,null,null,null,null,797]
[null,null,null,null,null,null,null,null,null,null,null,null,null,null,null,null,null,null,null,null,null,null,null,null,null,null,null,null,null,null,null,null,null,null,null,null,null,null,null,null,null,null,null,null,null,null,null,null,null,798]
[null,null,null,null,null,null,null,null,null,null,null,null,null,null,null,null,null,null,null,null,null,null,null,null,null,null,null,null,null,null,null,null,null,null,null,null,null,null,null,null,null,null,null,null,null,null,null,null,null,799]
[null,null,null,null,null,null,null,null,null,null,null,null,null,null,null,null,null,null,null,null,null,null,null,null,null,null,null,null,null,null,null,null,null,null,null,null,null,null,null,null,null,null,null,null,null,null,null,null,null,800]
[null,null,null,null,null,null,null,null,null,null,null,null,null,null,null,null,null,null,null,null,null,null,null,null,null,null,null,null,null,null,null,null,null,null,null,null,null,null,null,null,null,null,null,null,null,null,null,null,null,801]
[null,null,null,null,null,null,null,null,null,null,null,null,null,null,null,null,null,null,null,null,null,null,null,null,null,null,null,null,null,null,null,null,null,null,null,null,null,null,null,null,null,null,null,null,null,null,null,null,null,802]
[null,null,null,null,null,null,null,null,null,null,null,null,null,null,null,null,null,null,null,null,null,null,null,null,null,null,null,null,null,null,null,null,null,null,null,null,null,null,null,null,null,null,null,null,null,null,null,null,null,803]
[null,null,null,null,null,null,null,null,null,null,null,null,null,null,null,null,null,null,null,null,null,null,null,null,null,null,null,null,null,null,null,null,null,null,null,null,null,null,null,null,null,null,null,null,null,null,null,null,null,804]
[null,null,null,null,null,null,null,null,null,null,null,null,null,null,null,null,null,null,null,null,null,null,null,null,null,null,null,null,null,null,null,null,null,null,null,null,null,null,null,null,null,null,null,null,null,null,null,null,null,805]
[null,null,null,null,null,null,null,null,null,null,null,null,null,null,null,null,null,null,null,null,null,null,null,null,null,null,null,null,null,null,null,null,null,null,null,null,null,null,null,null,null,null,null,null,null,null,null,null,null,806]
[null,null,null,null,null,null,null,null,null,null,null,null,null,null,null,null,null,null,null,null,null,null,null,null,null,null,null,null,null,null,null,null,null,null,null,null,null,null,null,null,null,null,null,null,null,null,null,null,null,807]
[null,null,null,null,null,null,null,null,null,null,null,null,null,null,null,null,null,null,null,null,null,null,null,null,null,null,null,null,null,null,null,null,null,null,null,null,null,null,null,null,null,null,null,null,null,null,null,null,null,808]
[null,null,null,null,null,null,null,null,null,null,null,null,null,null,null,null,null,null,null,null,null,null,null,null,null,null,null,null,null,null,null,null,null,null,null,null,null,null,null,null,null,null,null,null,null,null,null,null,null,809]
[null,null,null,null,null,null,null,null,null,null,null,null,null,null,null,null,null,null,null,null,null,null,null,null,null,null,null,null,null,null,null,null,null,null,null,null,null,null,null,null,null,null,null,null,null,null,null,null,null,810]
[null,null,null,null,null,null,null,null,null,null,null,null,null,null,null,null,null,null,null,null,null,null,null,null,null,null,null,null,null,null,null,null,null,null,null,null,null,null,null,null,null,null,null,null,null,null,null,null,null,811]
[null,null,null,null,null,null,null,null,null,null,null,null,null,null,null,null,null,null,null,null,null,null,null,null,null,null,null,null,null,null,null,null,null,null,null,null,null,null,null,null,null,null,null,null,null,null,null,null,null,812]
[null,null,null,null,null,null,null,null,null,null,null,null,null,null,null,null,null,null,null,null,null,null,null,null,null,null,null,null,null,null,null,null,null,null,null,null,null,null,null,null,null,null,null,null,null,null,null,null,null,813]
[null,null,null,null,null,null,null,null,null,null,null,null,null,null,null,null,null,null,null,null,null,null,null,null,null,null,null,null,null,null,null,null,null,null,null,null,null,null,null,null,null,null,null,null,null,null,null,null,null,814]
[null,null,null,null,null,null,null,null,null,null,null,null,null,null,null,null,null,null,null,null,null,null,null,null,null,null,null,null,null,null,null,null,null,null,null,null,null,null,null,null,null,null,null,null,null,null,null,null,null,815]
[null,null,null,null,null,null,null,null,null,null,null,null,null,null,null,null,null,null,null,null,null,null,null,null,null,null,null,null,null,null,null,null,null,null,null,null,null,null,null,null,null,null,null,null,null,null,null,null,null,816]
[null,null,null,null,null,null,null,null,null,null,null,null,null,null,null,null,null,null,null,null,null,null,null,null,null,null,null,null,null,null,null,null,null,null,null,null,null,null,null,null,null,null,null,null,null,null,null,null,null,817]
[null,null,null,null,null,null,null,null,null,null,null,null,null,null,null,null,null,null,null,null,null,null,null,null,null,null,null,null,null,null,null,null,null,null,null,null,null,null,null,null,null,null,null,null,null,null,null,null,null,818]
[null,null,null,null,null,null,null,null,null,null,null,null,null,null,null,null,null,null,null,null,null,null,null,null,null,null,null,null,null,null,null,null,null,null,null,null,null,null,null,null,null,null,null,null,null,null,null,null,null,819]
[null,null,null,null,null,null,null,null,null,null,null,null,null,null,null,null,null,null,null,null,null,null,null,null,null,null,null,null,null,null,null,null,null,null,null,null,null,null,null,null,null,null,null,null,null,null,null,null,null,820]
[null,null,null,null,null,null,null,null,null,null,null,null,null,null,null,null,null,null,null,null,null,null,null,null,null,null,null,null,null,null,null,null,null,null,null,null,null,null,null,null,null,null,null,null,null,null,null,null,null,821]
[null,null,null,null,null,null,null,null,null,null,null,null,null,null,null,null,null,null,null,null,null,null,null,null,null,null,null,null,null,null,null,null,null,null,null,null,null,null,null,null,null,null,null,null,null,null,null,null,null,822]
[null,null,null,null,null,null,null,null,null,null,null,null,null,null,null,null,null,null,null,null,null,null,null,null,null,null,null,null,null,null,null,null,null,null,null,null,null,null,null,null,null,null,null,null,null,null,null,null,null,823]
[null,null,null,null,null,null,null,null,null,null,null,null,null,null,null,null,null,null,null,null,null,null,null,null,null,null,null,null,null,null,null,null,null,null,null,null,null,null,null,null,null,null,null,null,null,null,null,null,null,824]
[null,null,null,null,null,null,null,null,null,null,null,null,null,null,null,null,null,null,null,null,null,null,null,null,null,null,null,null,null,null,null,null,null,null,null,null,null,null,null,null,null,null,null,null,null,null,null,null,null,825]
[null,null,null,null,null,null,null,null,null,null,null,null,null,null,null,null,null,null,null,null,null,null,null,null,null,null,null,null,null,null,null,null,null,null,null,null,null,null,null,null,null,null,null,null,null,null,null,null,null,826]
[null,null,null,null,null,null,null,null,null,null,null,null,null,null,null,null,null,null,null,null,null,null,null,null,null,null,null,null,null,null,null,null,null,null,null,null,null,null,null,null,null,null,null,null,null,null,null,null,null,827]
[null,null,null,null,null,null,null,null,null,null,null,null,null,null,null,null,null,null,null,null,null,null,null,null,null,null,null,null,null,null,null,null,null,null,null,null,null,null,null,null,null,null,null,null,null,null,null,null,null,828]
[null,null,null,null,null,null,null,null,null,null,null,null,null,null,null,null,null,null,null,null,null,null,null,null,null,null,null,null,null,null,null,null,null,null,null,null,null,null,null,null,null,null,null,null,null,null,null,null,null,829]
[null,null,null,null,null,null,null,null,null,null,null,null,null,null,null,null,null,null,null,null,null,null,null,null,null,null,null,null,null,null,null,null,null,null,null,null,null,null,null,null,null,null,null,null,null,null,null,null,null,830]
[null,null,null,null,null,null,null,null,null,null,null,null,null,null,null,null,null,null,null,null,null,null,null,null,null,null,null,null,null,null,null,null,null,null,null,null,null,null,null,null,null,null,null,null,null,null,null,null,null,831]
[null,null,null,null,null,null,null,null,null,null,null,null,null,null,null,null,null,null,null,null,null,null,null,null,null,null,null,null,null,null,null,null,null,null,null,null,null,null,null,null,null,null,null,null,null,null,null,null,null,832]
[null,null,null,null,null,null,null,null,null,null,null,null,null,null,null,null,null,null,null,null,null,null,null,null,null,null,null,null,null,null,null,null,null,null,null,null,null,null,null,null,null,null,null,null,null,null,null,null,null,833]
[null,null,null,null,null,null,null,null,null,null,null,null,null,null,null,null,null,null,null,null,null,null,null,null,null,null,null,null,null,null,null,null,null,null,null,null,null,null,null,null,null,null,null,null,null,null,null,null,null,834]
[null,null,null,null,null,null,null,null,null,null,null,null,null,null,null,null,null,null,null,null,null,null,null,null,null,null,null,null,null,null,null,null,null,null,null,null,null,null,null,null,null,null,null,null,null,null,null,null,null,835]
[null,null,null,null,null,null,null,null,null,null,null,null,null,null,null,null,null,null,null,null,null,null,null,null,null,null,null,null,null,null,null,null,null,null,null,null,null,null,null,null,null,null,null,null,null,null,null,null,null,836]
[null,null,null,null,null,null,null,null,null,null,null,null,null,null,null,null,null,null,null,null,null,null,null,null,null,null,null,null,null,null,null,null,null,null,null,null,null,null,null,null,null,null,null,null,null,null,null,null,null,837]
[null,null,null,null,null,null,null,null,null,null,null,null,null,null,null,null,null,null,null,null,null,null,null,null,null,null,null,null,null,null,null,null,null,null,null,null,null,null,null,null,null,null,null,null,null,null,null,null,null,838]
[null,null,null,null,null,null,null,null,null,null,null,null,null,null,null,null,null,null,null,null,null,null,null,null,null,null,null,null,null,null,null,null,null,null,null,null,null,null,null,null,null,null,null,null,null,null,null,null,null,839]
[null,null,null,null,null,null,null,null,null,null,null,null,null,null,null,null,null,null,null,null,null,null,null,null,null,null,null,null,null,null,null,null,null,null,null,null,null,null,null,null,null,null,null,null,null,null,null,null,null,840]
[null,null,null,null,null,null,null,null,null,null,null,null,null,null,null,null,null,null,null,null,null,null,null,null,null,null,null,null,null,null,null,null,null,null,null,null,null,null,null,null,null,null,null,null,null,null,null,null,null,841]
[null,null,null,null,null,null,null,null,null,null,null,null,null,null,null,null,null,null,null,null,null,null,null,null,null,null,null,null,null,null,null,null,null,null,null,null,null,null,null,null,null,null,null,null,null,null,null,null,null,842]
[null,null,null,null,null,null,null,null,null,null,null,null,null,null,null,null,null,null,null,null,null,null,null,null,null,null,null,null,null,null,null,null,null,null,null,null,null,null,null,null,null,null,null,null,null,null,null,null,null,843]
[null,null,null,null,null,null,null,null,null,null,null,null,null,null,null,null,null,null,null,null,null,null,null,null,null,null,null,null,null,null,null,null,null,null,null,null,null,null,null,null,null,null,null,null,null,null,null,null,null,844]
[null,null,null,null,null,null,null,null,null,null,null,null,null,null,null,null,null,null,null,null,null,null,null,null,null,null,null,null,null,null,null,null,null,null,null,null,null,null,null,null,null,null,null,null,null,null,null,null,null,845]
[null,null,null,null,null,null,null,null,null,null,null,null,null,null,null,null,null,null,null,null,null,null,null,null,null,null,null,null,null,null,null,null,null,null,null,null,null,null,null,null,null,null,null,null,null,null,null,null,null,846]
[null,null,null,null,null,null,null,null,null,null,null,null,null,null,null,null,null,null,null,null,null,null,null,null,null,null,null,null,null,null,null,null,null,null,null,null,null,null,null,null,null,null,null,null,null,null,null,null,null,847]
[null,null,null,null,null,null,null,null,null,null,null,null,null,null,null,null,null,null,null,null,null,null,null,null,null,null,null,null,null,null,null,null,null,null,null,null,null,null,null,null,null,null,null,null,null,null,null,null,null,848]
[null,null,null,null,null,null,null,null,null,null,null,null,null,null,null,null,null,null,null,null,null,null,null,null,null,null,null,null,null,null,null,null,null,null,null,null,null,null,null,null,null,null,null,null,null,null,null,null,null,849]
[null,null,null,null,null,null,null,null,null,null,null,null,null,null,null,null,null,null,null,null,null,null,null,null,null,null,null,null,null,null,null,null,null,null,null,null,null,null,null,null,null,null,null,null,null,null,null,null,null,850]
[null,null,null,null,null,null,null,null,null,null,null,null,null,null,null,null,null,null,null,null,null,null,null,null,null,null,null,null,null,null,null,null,null,null,null,null,null,null,null,null,null,null,null,null,null,null,null,null,null,851]
[null,null,null,null,null,null,null,null,null,null,null,null,null,null,null,null,null,null,null,null,null,null,null,null,null,null,null,null,null,null,null,null,null,null,null,null,null,null,null,null,null,null,null,null,null,null,null,null,null,852]
[null,null,null,null,null,null,null,null,null,null,null,null,null,null,null,null,null,null,null,null,null,null,null,null,null,null,null,null,null,null,null,null,null,null,null,null,null,null,null,null,null,null,null,null,null,null,null,null,null,853]
[null,null,null,null,null,null,null,null,null,null,null,null,null,null,null,null,null,null,null,null,null,null,null,null,null,null,null,null,null,null,null,null,null,null,null,null,null,null,null,null,null,null,null,null,null,null,null,null,null,854]
[null,null,null,null,null,null,null,null,null,null,null,null,null,null,null,null,null,null,null,null,null,null,null,null,null,null,null,null,null,null,null,null,null,null,null,null,null,null,null,null,null,null,null,null,null,null,null,null,null,855]
[null,null,null,null,null,null,null,null,null,null,null,null,null,null,null,null,null,null,null,null,null,null,null,null,null,null,null,null,null,null,null,null,null,null,null,null,null,null,null,null,null,null,null,null,null,null,null,null,null,856]
[null,null,null,null,null,null,null,null,null,null,null,null,null,null,null,null,null,null,null,null,null,null,null,null,null,null,null,null,null,null,null,null,null,null,null,null,null,null,null,null,null,null,null,null,null,null,null,null,null,857]
[null,null,null,null,null,null,null,null,null,null,null,null,null,null,null,null,null,null,null,null,null,null,null,null,null,null,null,null,null,null,null,null,null,null,null,null,null,null,null,null,null,null,null,null,null,null,null,null,null,858]
[null,null,null,null,null,null,null,null,null,null,null,null,null,null,null,null,null,null,null,null,null,null,null,null,null,null,null,null,null,null,null,null,null,null,null,null,null,null,null,null,null,null,null,null,null,null,null,null,null,859]
[null,null,null,null,null,null,null,null,null,null,null,null,null,null,null,null,null,null,null,null,null,null,null,null,null,null,null,null,null,null,null,null,null,null,null,null,null,null,null,null,null,null,null,null,null,null,null,null,null,860]
[null,null,null,null,null,null,null,null,null,null,null,null,null,null,null,null,null,null,null,null,null,null,null,null,null,null,null,null,null,null,null,null,null,null,null,null,null,null,null,null,null,null,null,null,null,null,null,null,null,861]
[null,null,null,null,null,null,null,null,null,null,null,null,null,null,null,null,null,null,null,null,null,null,null,null,null,null,null,null,null,null,null,null,null,null,null,null,null,null,null,null,null,null,null,null,null,null,null,null,null,862]
[null,null,null,null,null,null,null,null,null,null,null,null,null,null,null,null,null,null,null,null,null,null,null,null,null,null,null,null,null,null,null,null,null,null,null,null,null,null,null,null,null,null,null,null,null,null,null,null,null,863]
[null,null,null,null,null,null,null,null,null,null,null,null,null,null,null,null,null,null,null,null,null,null,null,null,null,null,null,null,null,null,null,null,null,null,null,null,null,null,null,null,null,null,null,null,null,null,null,null,null,864]
[null,null,null,null,null,null,null,null,null,null,null,null,null,null,null,null,null,null,null,null,null,null,null,null,null,null,null,null,null,null,null,null,null,null,null,null,null,null,null,null,null,null,null,null,null,null,null,null,null,865]
[null,null,null,null,null,null,null,null,null,null,null,null,null,null,null,null,null,null,null,null,null,null,null,null,null,null,null,null,null,null,null,null,null,null,null,null,null,null,null,null,null,null,null,null,null,null,null,null,null,866]
[null,null,null,null,null,null,null,null,null,null,null,null,null,null,null,null,null,null,null,null,null,null,null,null,null,null,null,null,null,null,null,null,null,null,null,null,null,null,null,null,null,null,null,null,null,null,null,null,null,867]
[null,null,null,null,null,null,null,null,null,null,null,null,null,null,null,null,null,null,null,null,null,null,null,null,null,null,null,null,null,null,null,null,null,null,null,null,null,null,null,null,null,null,null,null,null,null,null,null,null,868]
[null,null,null,null,null,null,null,null,null,null,null,null,null,null,null,null,null,null,null,null,null,null,null,null,null,null,null,null,null,null,null,null,null,null,null,null,null,null,null,null,null,null,null,null,null,null,null,null,null,869]
[null,null,null,null,null,null,null,null,null,null,null,null,null,null,null,null,null,null,null,null,null,null,null,null,null,null,null,null,null,null,null,null,null,null,null,null,null,null,null,null,null,null,null,null,null,null,null,null,null,870]
[null,null,null,null,null,null,null,null,null,null,null,null,null,null,null,null,null,null,null,null,null,null,null,null,null,null,null,null,null,null,null,null,null,null,null,null,null,null,null,null,null,null,null,null,null,null,null,null,null,871]
[null,null,null,null,null,null,null,null,null,null,null,null,null,null,null,null,null,null,null,null,null,null,null,null,null,null,null,null,null,null,null,null,null,null,null,null,null,null,null,null,null,null,null,null,null,null,null,null,null,872]
[null,null,null,null,null,null,null,null,null,null,null,null,null,null,null,null,null,null,null,null,null,null,null,null,null,null,null,null,null,null,null,null,null,null,null,null,null,null,null,null,null,null,null,null,null,null,null,null,null,873]
[null,null,null,null,null,null,null,null,null,null,null,null,null,null,null,null,null,null,null,null,null,null,null,null,null,null,null,null,null,null,null,null,null,null,null,null,null,null,null,null,null,null,null,null,null,null,null,null,null,874]
[null,null,null,null,null,null,null,null,null,null,null,null,null,null,null,null,null,null,null,null,null,null,null,null,null,null,null,null,null,null,null,null,null,null,null,null,null,null,null,null,null,null,null,null,null,null,null,null,null,875]
[null,null,null,null,null,null,null,null,null,null,null,null,null,null,null,null,null,null,null,null,null,null,null,null,null,null,null,null,null,null,null,null,null,null,null,null,null,null,null,null,null,null,null,null,null,null,null,null,null,876]
[null,null,null,null,null,null,null,null,null,null,null,null,null,null,null,null,null,null,null,null,null,null,null,null,null,null,null,null,null,null,null,null,null,null,null,null,null,null,null,null,null,null,null,null,null,null,null,null,null,877]
[null,null,null,null,null,null,null,null,null,null,null,null,null,null,null,null,null,null,null,null,null,null,null,null,null,null,null,null,null,null,null,null,null,null,null,null,null,null,null,null,null,null,null,null,null,null,null,null,null,878]
[null,null,null,null,null,null,null,null,null,null,null,null,null,null,null,null,null,null,null,null,null,null,null,null,null,null,null,null,null,null,null,null,null,null,null,null,null,null,null,null,null,null,null,null,null,null,null,null,null,879]
[null,null,null,null,null,null,null,null,null,null,null,null,null,null,null,null,null,null,null,null,null,null,null,null,null,null,null,null,null,null,null,null,null,null,null,null,null,null,null,null,null,null,null,null,null,null,null,null,null,880]
[null,null,null,null,null,null,null,null,null,null,null,null,null,null,null,null,null,null,null,null,null,null,null,null,null,null,null,null,null,null,null,null,null,null,null,null,null,null,null,null,null,null,null,null,null,null,null,null,null,881]
[null,null,null,null,null,null,null,null,null,null,null,null,null,null,null,null,null,null,null,null,null,null,null,null,null,null,null,null,null,null,null,null,null,null,null,null,null,null,null,null,null,null,null,null,null,null,null,null,null,882]
[null,null,null,null,null,null,null,null,null,null,null,null,null,null,null,null,null,null,null,null,null,null,null,null,null,null,null,null,null,null,null,null,null,null,null,null,null,null,null,null,null,null,null,null,null,null,null,null,null,883]
[null,null,null,null,null,null,null,null,null,null,null,null,null,null,null,null,null,null,null,null,null,null,null,null,null,null,null,null,null,null,null,null,null,null,null,null,null,null,null,null,null,null,null,null,null,null,null,null,null,884]
[null,null,null,null,null,null,null,null,null,null,null,null,null,null,null,null,null,null,null,null,null,null,null,null,null,null,null,null,null,null,null,null,null,null,null,null,null,null,null,null,null,null,null,null,null,null,null,null,null,885]
[null,null,null,null,null,null,null,null,null,null,null,null,null,null,null,null,null,null,null,null,null,null,null,null,null,null,null,null,null,null,null,null,null,null,null,null,null,null,null,null,null,null,null,null,null,null,null,null,null,886]
[null,null,null,null,null,null,null,null,null,null,null,null,null,null,null,null,null,null,null,null,null,null,null,null,null,null,null,null,null,null,null,null,null,null,null,null,null,null,null,null,null,null,null,null,null,null,null,null,null,887]
[null,null,null,null,null,null,null,null,null,null,null,null,null,null,null,null,null,null,null,null,null,null,null,null,null,null,null,null,null,null,null,null,null,null,null,null,null,null,null,null,null,null,null,null,null,null,null,null,null,888]
[null,null,null,null,null,null,null,null,null,null,null,null,null,null,null,null,null,null,null,null,null,null,null,null,null,null,null,null,null,null,null,null,null,null,null,null,null,null,null,null,null,null,null,null,null,null,null,null,null,889]
[null,null,null,null,null,null,null,null,null,null,null,null,null,null,null,null,null,null,null,null,null,null,null,null,null,null,null,null,null,null,null,null,null,null,null,null,null,null,null,null,null,null,null,null,null,null,null,null,null,890]
[null,null,null,null,null,null,null,null,null,null,null,null,null,null,null,null,null,null,null,null,null,null,null,null,null,null,null,null,null,null,null,null,null,null,null,null,null,null,null,null,null,null,null,null,null,null,null,null,null,891]
[null,null,null,null,null,null,null,null,null,null,null,null,null,null,null,null,null,null,null,null,null,null,null,null,null,null,null,null,null,null,null,null,null,null,null,null,null,null,null,null,null,null,null,null,null,null,null,null,null,892]
[null,null,null,null,null,null,null,null,null,null,null,null,null,null,null,null,null,null,null,null,null,null,null,null,null,null,null,null,null,null,null,null,null,null,null,null,null,null,null,null,null,null,null,null,null,null,null,null,null,893]
[null,null,null,null,null,null,null,null,null,null,null,null,null,null,null,null,null,null,null,null,null,null,null,null,null,null,null,null,null,null,null,null,null,null,null,null,null,null,null,null,null,null,null,null,null,null,null,null,null,894]
[null,null,null,null,null,null,null,null,null,null,null,null,null,null,null,null,null,null,null,null,null,null,null,null,null,null,null,null,null,null,null,null,null,null,null,null,null,null,null,null,null,null,null,null,null,null,null,null,null,895]
[null,null,null,null,null,null,null,null,null,null,null,null,null,null,null,null,null,null,null,null,null,null,null,null,null,null,null,null,null,null,null,null,null,null,null,null,null,null,null,null,null,null,null,null,null,null,null,null,null,896]
[null,null,null,null,null,null,null,null,null,null,null,null,null,null,null,null,null,null,null,null,null,null,null,null,null,null,null,null,null,null,null,null,null,null,null,null,null,null,null,null,null,null,null,null,null,null,null,null,null,897]
[null,null,null,null,null,null,null,null,null,null,null,null,null,null,null,null,null,null,null,null,null,null,null,null,null,null,null,null,null,null,null,null,null,null,null,null,null,null,null,null,null,null,null,null,null,null,null,null,null,898]
[null,null,null,null,null,null,null,null,null,null,null,null,null,null,null,null,null,null,null,null,null,null,null,null,null,null,null,null,null,null,null,null,null,null,null,null,null,null,null,null,null,null,null,null,null,null,null,null,null,899]
[null,null,null,null,null,null,null,null,null,null,null,null,null,null,null,null,null,null,null,null,null,null,null,null,null,null,null,null,null,null,null,null,null,null,null,null,null,null,null,null,null,null,null,null,null,null,null,null,null,900]
[null,null,null,null,null,null,null,null,null,null,null,null,null,null,null,null,null,null,null,null,null,null,null,null,null,null,null,null,null,null,null,null,null,null,null,null,null,null,null,null,null,null,null,null,null,null,null,null,null,901]
[null,null,null,null,null,null,null,null,null,null,null,null,null,null,null,null,null,null,null,null,null,null,null,null,null,null,null,null,null,null,null,null,null,null,null,null,null,null,null,null,null,null,null,null,null,null,null,null,null,902]
[null,null,null,null,null,null,null,null,null,null,null,null,null,null,null,null,null,null,null,null,null,null,null,null,null,null,null,null,null,null,null,null,null,null,null,null,null,null,null,null,null,null,null,null,null,null,null,null,null,903]
[null,null,null,null,null,null,null,null,null,null,null,null,null,null,null,null,null,null,null,null,null,null,null,null,null,null,null,null,null,null,null,null,null,null,null,null,null,null,null,null,null,null,null,null,null,null,null,null,null,904]
[null,null,null,null,null,null,null,null,null,null,null,null,null,null,null,null,null,null,null,null,null,null,null,null,null,null,null,null,null,null,null,null,null,null,null,null,null,null,null,null,null,null,null,null,null,null,null,null,null,905]
[null,null,null,null,null,null,null,null,null,null,null,null,null,null,null,null,null,null,null,null,null,null,null,null,null,null,null,null,null,null,null,null,null,null,null,null,null,null,null,null,null,null,null,null,null,null,null,null,null,906]
[null,null,null,null,null,null,null,null,null,null,null,null,null,null,null,null,null,null,null,null,null,null,null,null,null,null,null,null,null,null,null,null,null,null,null,null,null,null,null,null,null,null,null,null,null,null,null,null,null,907]
[null,null,null,null,null,null,null,null,null,null,null,null,null,null,null,null,null,null,null,null,null,null,null,null,null,null,null,null,null,null,null,null,null,null,null,null,null,null,null,null,null,null,null,null,null,null,null,null,null,908]
[null,null,null,null,null,null,null,null,null,null,null,null,null,null,null,null,null,null,null,null,null,null,null,null,null,null,null,null,null,null,null,null,null,null,null,null,null,null,null,null,null,null,null,null,null,null,null,null,null,909]
[null,null,null,null,null,null,null,null,null,null,null,null,null,null,null,null,null,null,null,null,null,null,null,null,null,null,null,null,null,null,null,null,null,null,null,null,null,null,null,null,null,null,null,null,null,null,null,null,null,910]
[null,null,null,null,null,null,null,null,null,null,null,null,null,null,null,null,null,null,null,null,null,null,null,null,null,null,null,null,null,null,null,null,null,null,null,null,null,null,null,null,null,null,null,null,null,null,null,null,null,911]
[null,null,null,null,null,null,null,null,null,null,null,null,null,null,null,null,null,null,null,null,null,null,null,null,null,null,null,null,null,null,null,null,null,null,null,null,null,null,null,null,null,null,null,null,null,null,null,null,null,912]
[null,null,null,null,null,null,null,null,null,null,null,null,null,null,null,null,null,null,null,null,null,null,null,null,null,null,null,null,null,null,null,null,null,null,null,null,null,null,null,null,null,null,null,null,null,null,null,null,null,913]
[null,null,null,null,null,null,null,null,null,null,null,null,null,null,null,null,null,null,null,null,null,null,null,null,null,null,null,null,null,null,null,null,null,null,null,null,null,null,null,null,null,null,null,null,null,null,null,null,null,914]
[null,null,null,null,null,null,null,null,null,null,null,null,null,null,null,null,null,null,null,null,null,null,null,null,null,null,null,null,null,null,null,null,null,null,null,null,null,null,null,null,null,null,null,null,null,null,null,null,null,915]
[null,null,null,null,null,null,null,null,null,null,null,null,null,null,null,null,null,null,null,null,null,null,null,null,null,null,null,null,null,null,null,null,null,null,null,null,null,null,null,null,null,null,null,null,null,null,null,null,null,916]
[null,null,null,null,null,null,null,null,null,null,null,null,null,null,null,null,null,null,null,null,null,null,null,null,null,null,null,null,null,null,null,null,null,null,null,null,null,null,null,null,null,null,null,null,null,null,null,null,null,917]
[null,null,null,null,null,null,null,null,null,null,null,null,null,null,null,null,null,null,null,null,null,null,null,null,null,null,null,null,null,null,null,null,null,null,null,null,null,null,null,null,null,null,null,null,null,null,null,null,null,918]
[null,null,null,null,null,null,null,null,null,null,null,null,null,null,null,null,null,null,null,null,null,null,null,null,null,null,null,null,null,null,null,null,null,null,null,null,null,null,null,null,null,null,null,null,null,null,null,null,null,919]
[null,null,null,null,null,null,null,null,null,null,null,null,null,null,null,null,null,null,null,null,null,null,null,null,null,null,null,null,null,null,null,null,null,null,null,null,null,null,null,null,null,null,null,null,null,null,null,null,null,920]
[null,null,null,null,null,null,null,null,null,null,null,null,null,null,null,null,null,null,null,null,null,null,null,null,null,null,null,null,null,null,null,null,null,null,null,null,null,null,null,null,null,null,null,null,null,null,null,null,null,921]
[null,null,null,null,null,null,null,null,null,null,null,null,null,null,null,null,null,null,null,null,null,null,null,null,null,null,null,null,null,null,null,null,null,null,null,null,null,null,null,null,null,null,null,null,null,null,null,null,null,922]
[null,null,null,null,null,null,null,null,null,null,null,null,null,null,null,null,null,null,null,null,null,null,null,null,null,null,null,null,null,null,null,null,null,null,null,null,null,null,null,null,null,null,null,null,null,null,null,null,null,923]
[null,null,null,null,null,null,null,null,null,null,null,null,null,null,null,null,null,null,null,null,null,null,null,null,null,null,null,null,null,null,null,null,null,null,null,null,null,null,null,null,null,null,null,null,null,null,null,null,null,924]
[null,null,null,null,null,null,null,null,null,null,null,null,null,null,null,null,null,null,null,null,null,null,null,null,null,null,null,null,null,null,null,null,null,null,null,null,null,null,null,null,null,null,null,null,null,null,null,null,null,925]
[null,null,null,null,null,null,null,null,null,null,null,null,null,null,null,null,null,null,null,null,null,null,null,null,null,null,null,null,null,null,null,null,null,null,null,null,null,null,null,null,null,null,null,null,null,null,null,null,null,926]
[null,null,null,null,null,null,null,null,null,null,null,null,null,null,null,null,null,null,null,null,null,null,null,null,null,null,null,null,null,null,null,null,null,null,null,null,null,null,null,null,null,null,null,null,null,null,null,null,null,927]
[null,null,null,null,null,null,null,null,null,null,null,null,null,null,null,null,null,null,null,null,null,null,null,null,null,null,null,null,null,null,null,null,null,null,null,null,null,null,null,null,null,null,null,null,null,null,null,null,null,928]
[null,null,null,null,null,null,null,null,null,null,null,null,null,null,null,null,null,null,null,null,null,null,null,null,null,null,null,null,null,null,null,null,null,null,null,null,null,null,null,null,null,null,null,null,null,null,null,null,null,929]
[null,null,null,null,null,null,null,null,null,null,null,null,null,null,null,null,null,null,null,null,null,null,null,null,null,null,null,null,null,null,null,null,null,null,null,null,null,null,null,null,null,null,null,null,null,null,null,null,null,930]
[null,null,null,null,null,null,null,null,null,null,null,null,null,null,null,null,null,null,null,null,null,null,null,null,null,null,null,null,null,null,null,null,null,null,null,null,null,null,null,null,null,null,null,null,null,null,null,null,null,931]
[null,null,null,null,null,null,null,null,null,null,null,null,null,null,null,null,null,null,null,null,null,null,null,null,null,null,null,null,null,null,null,null,null,null,null,null,null,null,null,null,null,null,null,null,null,null,null,null,null,932]
[null,null,null,null,null,null,null,null,null,null,null,null,null,null,null,null,null,null,null,null,null,null,null,null,null,null,null,null,null,null,null,null,null,null,null,null,null,null,null,null,null,null,null,null,null,null,null,null,null,933]
[null,null,null,null,null,null,null,null,null,null,null,null,null,null,null,null,null,null,null,null,null,null,null,null,null,null,null,null,null,null,null,null,null,null,null,null,null,null,null,null,null,null,null,null,null,null,null,null,null,934]
[null,null,null,null,null,null,null,null,null,null,null,null,null,null,null,null,null,null,null,null,null,null,null,null,null,null,null,null,null,null,null,null,null,null,null,null,null,null,null,null,null,null,null,null,null,null,null,null,null,935]
[null,null,null,null,null,null,null,null,null,null,null,null,null,null,null,null,null,null,null,null,null,null,null,null,null,null,null,null,null,null,null,null,null,null,null,null,null,null,null,null,null,null,null,null,null,null,null,null,null,936]
[null,null,null,null,null,null,null,null,null,null,null,null,null,null,null,null,null,null,null,null,null,null,null,null,null,null,null,null,null,null,null,null,null,null,null,null,null,null,null,null,null,null,null,null,null,null,null,null,null,937]
[null,null,null,null,null,null,null,null,null,null,null,null,null,null,null,null,null,null,null,null,null,null,null,null,null,null,null,null,null,null,null,null,null,null,null,null,null,null,null,null,null,null,null,null,null,null,null,null,null,938]
[null,null,null,null,null,null,null,null,null,null,null,null,null,null,null,null,null,null,null,null,null,null,null,null,null,null,null,null,null,null,null,null,null,null,null,null,null,null,null,null,null,null,null,null,null,null,null,null,null,939]
[null,null,null,null,null,null,null,null,null,null,null,null,null,null,null,null,null,null,null,null,null,null,null,null,null,null,null,null,null,null,null,null,null,null,null,null,null,null,null,null,null,null,null,null,null,null,null,null,null,940]
[null,null,null,null,null,null,null,null,null,null,null,null,null,null,null,null,null,null,null,null,null,null,null,null,null,null,null,null,null,null,null,null,null,null,null,null,null,null,null,null,null,null,null,null,null,null,null,null,null,941]
[null,null,null,null,null,null,null,null,null,null,null,null,null,null,null,null,null,null,null,null,null,null,null,null,null,null,null,null,null,null,null,null,null,null,null,null,null,null,null,null,null,null,null,null,null,null,null,null,null,942]
[null,null,null,null,null,null,null,null,null,null,null,null,null,null,null,null,null,null,null,null,null,null,null,null,null,null,null,null,null,null,null,null,null,null,null,null,null,null,null,null,null,null,null,null,null,null,null,null,null,943]
[null,null,null,null,null,null,null,null,null,null,null,null,null,null,null,null,null,null,null,null,null,null,null,null,null,null,null,null,null,null,null,null,null,null,null,null,null,null,null,null,null,null,null,null,null,null,null,null,null,944]
[null,null,null,null,null,null,null,null,null,null,null,null,null,null,null,null,null,null,null,null,null,null,null,null,null,null,null,null,null,null,null,null,null,null,null,null,null,null,null,null,null,null,null,null,null,null,null,null,null,945]
[null,null,null,null,null,null,null,null,null,null,null,null,null,null,null,null,null,null,null,null,null,null,null,null,null,null,null,null,null,null,null,null,null,null,null,null,null,null,null,null,null,null,null,null,null,null,null,null,null,946]
[null,null,null,null,null,null,null,null,null,null,null,null,null,null,null,null,null,null,null,null,null,null,null,null,null,null,null,null,null,null,null,null,null,null,null,null,null,null,null,null,null,null,null,null,null,null,null,null,null,947]
[null,null,null,null,null,null,null,null,null,null,null,null,null,null,null,null,null,null,null,null,null,null,null,null,null,null,null,null,null,null,null,null,null,null,null,null,null,null,null,null,null,null,null,null,null,null,null,null,null,948]
[null,null,null,null,null,null,null,null,null,null,null,null,null,null,null,null,null,null,null,null,null,null,null,null,null,null,null,null,null,null,null,null,null,null,null,null,null,null,null,null,null,null,null,null,null,null,null,null,null,949]
[null,null,null,null,null,null,null,null,null,null,null,null,null,null,null,null,null,null,null,null,null,null,null,null,null,null,null,null,null,null,null,null,null,null,null,null,null,null,null,null,null,null,null,null,null,null,null,null,null,950]
[null,null,null,null,null,null,null,null,null,null,null,null,null,null,null,null,null,null,null,null,null,null,null,null,null,null,null,null,null,null,null,null,null,null,null,null,null,null,null,null,null,null,null,null,null,null,null,null,null,951]
[null,null,null,null,null,null,null,null,null,null,null,null,null,null,null,null,null,null,null,null,null,null,null,null,null,null,null,null,null,null,null,null,null,null,null,null,null,null,null,null,null,null,null,null,null,null,null,null,null,952]
[null,null,null,null,null,null,null,null,null,null,null,null,null,null,null,null,null,null,null,null,null,null,null,null,null,null,null,null,null,null,null,null,null,null,null,null,null,null,null,null,null,null,null,null,null,null,null,null,null,953]
[null,null,null,null,null,null,null,null,null,null,null,null,null,null,null,null,null,null,null,null,null,null,null,null,null,null,null,null,null,null,null,null,null,null,null,null,null,null,null,null,null,null,null,null,null,null,null,null,null,954]
[null,null,null,null,null,null,null,null,null,null,null,null,null,null,null,null,null,null,null,null,null,null,null,null,null,null,null,null,null,null,null,null,null,null,null,null,null,null,null,null,null,null,null,null,null,null,null,null,null,955]
[null,null,null,null,null,null,null,null,null,null,null,null,null,null,null,null,null,null,null,null,null,null,null,null,null,null,null,null,null,null,null,null,null,null,null,null,null,null,null,null,null,null,null,null,null,null,null,null,null,956]
[null,null,null,null,null,null,null,null,null,null,null,null,null,null,null,null,null,null,null,null,null,null,null,null,null,null,null,null,null,null,null,null,null,null,null,null,null,null,null,null,null,null,null,null,null,null,null,null,null,957]
[null,null,null,null,null,null,null,null,null,null,null,null,null,null,null,null,null,null,null,null,null,null,null,null,null,null,null,null,null,null,null,null,null,null,null,null,null,null,null,null,null,null,null,null,null,null,null,null,null,958]
[null,null,null,null,null,null,null,null,null,null,null,null,null,null,null,null,null,null,null,null,null,null,null,null,null,null,null,null,null,null,null,null,null,null,null,null,null,null,null,null,null,null,null,null,null,null,null,null,null,959]
[null,null,null,null,null,null,null,null,null,null,null,null,null,null,null,null,null,null,null,null,null,null,null,null,null,null,null,null,null,null,null,null,null,null,null,null,null,null,null,null,null,null,null,null,null,null,null,null,null,960]
[null,null,null,null,null,null,null,null,null,null,null,null,null,null,null,null,null,null,null,null,null,null,null,null,null,null,null,null,null,null,null,null,null,null,null,null,null,null,null,null,null,null,null,null,null,null,null,null,null,961]
[null,null,null,null,null,null,null,null,null,null,null,null,null,null,null,null,null,null,null,null,null,null,null,null,null,null,null,null,null,null,null,null,null,null,null,null,null,null,null,null,null,null,null,null,null,null,null,null,null,962]
[null,null,null,null,null,null,null,null,null,null,null,null,null,null,null,null,null,null,null,null,null,null,null,null,null,null,null,null,null,null,null,null,null,null,null,null,null,null,null,null,null,null,null,null,null,null,null,null,null,963]
[null,null,null,null,null,null,null,null,null,null,null,null,null,null,null,null,null,null,null,null,null,null,null,null,null,null,null,null,null,null,null,null,null,null,null,null,null,null,null,null,null,null,null,null,null,null,null,null,null,964]
[null,null,null,null,null,null,null,null,null,null,null,null,null,null,null,null,null,null,null,null,null,null,null,null,null,null,null,null,null,null,null,null,null,null,null,null,null,null,null,null,null,null,null,null,null,null,null,null,null,965]
[null,null,null,null,null,null,null,null,null,null,null,null,null,null,null,null,null,null,null,null,null,null,null,null,null,null,null,null,null,null,null,null,null,null,null,null,null,null,null,null,null,null,null,null,null,null,null,null,null,966]
[null,null,null,null,null,null,null,null,null,null,null,null,null,null,null,null,null,null,null,null,null,null,null,null,null,null,null,null,null,null,null,null,null,null,null,null,null,null,null,null,null,null,null,null,null,null,null,null,null,967]
[null,null,null,null,null,null,null,null,null,null,null,null,null,null,null,null,null,null,null,null,null,null,null,null,null,null,null,null,null,null,null,null,null,null,null,null,null,null,null,null,null,null,null,null,null,null,null,null,null,968]
[null,null,null,null,null,null,null,null,null,null,null,null,null,null,null,null,null,null,null,null,null,null,null,null,null,null,null,null,null,null,null,null,null,null,null,null,null,null,null,null,null,null,null,null,null,null,null,null,null,969]
[null,null,null,null,null,null,null,null,null,null,null,null,null,null,null,null,null,null,null,null,null,null,null,null,null,null,null,null,null,null,null,null,null,null,null,null,null,null,null,null,null,null,null,null,null,null,null,null,null,970]
[null,null,null,null,null,null,null,null,null,null,null,null,null,null,null,null,null,null,null,null,null,null,null,null,null,null,null,null,null,null,null,null,null,null,null,null,null,null,null,null,null,null,null,null,null,null,null,null,null,971]
[null,null,null,null,null,null,null,null,null,null,null,null,null,null,null,null,null,null,null,null,null,null,null,null,null,null,null,null,null,null,null,null,null,null,null,null,null,null,null,null,null,null,null,null,null,null,null,null,null,972]
[null,null,null,null,null,null,null,null,null,null,null,null,null,null,null,null,null,null,null,null,null,null,null,null,null,null,null,null,null,null,null,null,null,null,null,null,null,null,null,null,null,null,null,null,null,null,null,null,null,973]
[null,null,null,null,null,null,null,null,null,null,null,null,null,null,null,null,null,null,null,null,null,null,null,null,null,null,null,null,null,null,null,null,null,null,null,null,null,null,null,null,null,null,null,null,null,null,null,null,null,974]
[null,null,null,null,null,null,null,null,null,null,null,null,null,null,null,null,null,null,null,null,null,null,null,null,null,null,null,null,null,null,null,null,null,null,null,null,null,null,null,null,null,null,null,null,null,null,null,null,null,975]
[null,null,null,null,null,null,null,null,null,null,null,null,null,null,null,null,null,null,null,null,null,null,null,null,null,null,null,null,null,null,null,null,null,null,null,null,null,null,null,null,null,null,null,null,null,null,null,null,null,976]
[null,null,null,null,null,null,null,null,null,null,null,null,null,null,null,null,null,null,null,null,null,null,null,null,null,null,null,null,null,null,null,null,null,null,null,null,null,null,null,null,null,null,null,null,null,null,null,null,null,977]
[null,null,null,null,null,null,null,null,null,null,null,null,null,null,null,null,null,null,null,null,null,null,null,null,null,null,null,null,null,null,null,null,null,null,null,null,null,null,null,null,null,null,null,null,null,null,null,null,null,978]
[null,null,null,null,null,null,null,null,null,null,null,null,null,null,null,null,null,null,null,null,null,null,null,null,null,null,null,null,null,null,null,null,null,null,null,null,null,null,null,null,null,null,null,null,null,null,null,null,null,979]
[null,null,null,null,null,null,null,null,null,null,null,null,null,null,null,null,null,null,null,null,null,null,null,null,null,null,null,null,null,null,null,null,null,null,null,null,null,null,null,null,null,null,null,null,null,null,null,null,null,980]
[null,null,null,null,null,null,null,null,null,null,null,null,null,null,null,null,null,null,null,null,null,null,null,null,null,null,null,null,null,null,null,null,null,null,null,null,null,null,null,null,null,null,null,null,null,null,null,null,null,981]
[null,null,null,null,null,null,null,null,null,null,null,null,null,null,null,null,null,null,null,null,null,null,null,null,null,null,null,null,null,null,null,null,null,null,null,null,null,null,null,null,null,null,null,null,null,null,null,null,null,982]
[null,null,null,null,null,null,null,null,null,null,null,null,null,null,null,null,null,null,null,null,null,null,null,null,null,null,null,null,null,null,null,null,null,null,null,null,null,null,null,null,null,null,null,null,null,null,null,null,null,983]
[null,null,null,null,null,null,null,null,null,null,null,null,null,null,null,null,null,null,null,null,null,null,null,null,null,null,null,null,null,null,null,null,null,null,null,null,null,null,null,null,null,null,null,null,null,null,null,null,null,984]
[null,null,null,null,null,null,null,null,null,null,null,null,null,null,null,null,null,null,null,null,null,null,null,null,null,null,null,null,null,null,null,null,null,null,null,null,null,null,null,null,null,null,null,null,null,null,null,null,null,985]
[null,null,null,null,null,null,null,null,null,null,null,null,null,null,null,null,null,null,null,null,null,null,null,null,null,null,null,null,null,null,null,null,null,null,null,null,null,null,null,null,null,null,null,null,null,null,null,null,null,986]
[null,null,null,null,null,null,null,null,null,null,null,null,null,null,null,null,null,null,null,null,null,null,null,null,null,null,null,null,null,null,null,null,null,null,null,null,null,null,null,null,null,null,null,null,null,null,null,null,null,987]
[null,null,null,null,null,null,null,null,null,null,null,null,null,null,null,null,null,null,null,null,null,null,null,null,null,null,null,null,null,null,null,null,null,null,null,null,null,null,null,null,null,null,null,null,null,null,null,null,null,988]
[null,null,null,null,null,null,null,null,null,null,null,null,null,null,null,null,null,null,null,null,null,null,null,null,null,null,null,null,null,null,null,null,null,null,null,null,null,null,null,null,null,null,null,null,null,null,null,null,null,989]
[null,null,null,null,null,null,null,null,null,null,null,null,null,null,null,null,null,null,null,null,null,null,null,null,null,null,null,null,null,null,null,null,null,null,null,null,null,null,null,null,null,null,null,null,null,null,null,null,null,990]
[null,null,null,null,null,null,null,null,null,null,null,null,null,null,null,null,null,null,null,null,null,null,null,null,null,null,null,null,null,null,null,null,null,null,null,null,null,null,null,null,null,null,null,null,null,null,null,null,null,991]
[null,null,null,null,null,null,null,null,null,null,null,null,null,null,null,null,null,null,null,null,null,null,null,null,null,null,null,null,null,null,null,null,null,null,null,null,null,null,null,null,null,null,null,null,null,null,null,null,null,992]
[null,null,null,null,null,null,null,null,null,null,null,null,null,null,null,null,null,null,null,null,null,null,null,null,null,null,null,null,null,null,null,null,null,null,null,null,null,null,null,null,null,null,null,null,null,null,null,null,null,993]
[null,null,null,null,null,null,null,null,null,null,null,null,null,null,null,null,null,null,null,null,null,null,null,null,null,null,null,null,null,null,null,null,null,null,null,null,null,null,null,null,null,null,null,null,null,null,null,null,null,994]
[null,null,null,null,null,null,null,null,null,null,null,null,null,null,null,null,null,null,null,null,null,null,null,null,null,null,null,null,null,null,null,null,null,null,null,null,null,null,null,null,null,null,null,null,null,null,null,null,null,995]
[null,null,null,null,null,null,null,null,null,null,null,null,null,null,null,null,null,null,null,null,null,null,null,null,null,null,null,null,null,null,null,null,null,null,null,null,null,null,null,null,null,null,null,null,null,null,null,null,null,996]
[null,null,null,null,null,null,null,null,null,null,null,null,null,null,null,null,null,null,null,null,null,null,null,null,null,null,null,null,null,null,null,null,null,null,null,null,null,null,null,null,null,null,null,null,null,null,null,null,null,997]
[null,null,null,null,null,null,null,null,null,null,null,null,null,null,null,null,null,null,null,null,null,null,null,null,null,null,null,null,null,null,null,null,null,null,null,null,null,null,null,null,null,null,null,null,null,null,null,null,null,998]
[null,null,null,null,null,null,null,null,null,null,null,null,null,null,null,null,null,null,null,null,null,null,null,null,null,null,null,null,null,null,null,null,null,null,null,null,null,null,null,null,null,null,null,null,null,null,null,null,null,999]
[null,null,null,null,null,null,null,null,null,null,null,null,null,null,null,null,null,null,null,null,null,null,null,null,null,null,null,null,null,null,null,null,null,null,null,null,null,null,null,null,null,null,null,null,null,null,null,null,null,1000]
[null,null,null,null,null,null,null,null,null,null,null,null,null,null,null,null,null,null,null,null,null,null,null,null,null,null,null,null,null,null,null,null,null,null,null,null,null,null,null,null,null,null,null,null,null,null,null,null,null,1001]
[null,null,null,null,null,null,null,null,null,null,null,null,null,null,null,null,null,null,null,null,null,null,null,null,null,null,null,null,null,null,null,null,null,null,null,null,null,null,null,null,null,null,null,null,null,null,null,null,null,1002]
[null,null,null,null,null,null,null,null,null,null,null,null,null,null,null,null,null,null,null,null,null,null,null,null,null,null,null,null,null,null,null,null,null,null,null,null,null,null,null,null,null,null,null,null,null,null,null,null,null,1003]
[null,null,null,null,null,null,null,null,null,null,null,null,null,null,null,null,null,null,null,null,null,null,null,null,null,null,null,null,null,null,null,null,null,null,null,null,null,null,null,null,null,null,null,null,null,null,null,null,null,1004]
[null,null,null,null,null,null,null,null,null,null,null,null,null,null,null,null,null,null,null,null,null,null,null,null,null,null,null,null,null,null,null,null,null,null,null,null,null,null,null,null,null,null,null,null,null,null,null,null,null,1005]
[null,null,null,null,null,null,null,null,null,null,null,null,null,null,null,null,null,null,null,null,null,null,null,null,null,null,null,null,null,null,null,null,null,null,null,null,null,null,null,null,null,null,null,null,null,null,null,null,null,1006]
[null,null,null,null,null,null,null,null,null,null,null,null,null,null,null,null,null,null,null,null,null,null,null,null,null,null,null,null,null,null,null,null,null,null,null,null,null,null,null,null,null,null,null,null,null,null,null,null,null,1007]
[null,null,null,null,null,null,null,null,null,null,null,null,null,null,null,null,null,null,null,null,null,null,null,null,null,null,null,null,null,null,null,null,null,null,null,null,null,null,null,null,null,null,null,null,null,null,null,null,null,1008]
[null,null,null,null,null,null,null,null,null,null,null,null,null,null,null,null,null,null,null,null,null,null,null,null,null,null,null,null,null,null,null,null,null,null,null,null,null,null,null,null,null,null,null,null,null,null,null,null,null,1009]
[null,null,null,null,null,null,null,null,null,null,null,null,null,null,null,null,null,null,null,null,null,null,null,null,null,null,null,null,null,null,null,null,null,null,null,null,null,null,null,null,null,null,null,null,null,null,null,null,null,1010]
[null,null,null,null,null,null,null,null,null,null,null,null,null,null,null,null,null,null,null,null,null,null,null,null,null,null,null,null,null,null,null,null,null,null,null,null,null,null,null,null,null,null,null,null,null,null,null,null,null,1011]
[null,null,null,null,null,null,null,null,null,null,null,null,null,null,null,null,null,null,null,null,null,null,null,null,null,null,null,null,null,null,null,null,null,null,null,null,null,null,null,null,null,null,null,null,null,null,null,null,null,1012]
[null,null,null,null,null,null,null,null,null,null,null,null,null,null,null,null,null,null,null,null,null,null,null,null,null,null,null,null,null,null,null,null,null,null,null,null,null,null,null,null,null,null,null,null,null,null,null,null,null,1013]
[null,null,null,null,null,null,null,null,null,null,null,null,null,null,null,null,null,null,null,null,null,null,null,null,null,null,null,null,null,null,null,null,null,null,null,null,null,null,null,null,null,null,null,null,null,null,null,null,null,1014]
[null,null,null,null,null,null,null,null,null,null,null,null,null,null,null,null,null,null,null,null,null,null,null,null,null,null,null,null,null,null,null,null,null,null,null,null,null,null,null,null,null,null,null,null,null,null,null,null,null,1015]
[null,null,null,null,null,null,null,null,null,null,null,null,null,null,null,null,null,null,null,null,null,null,null,null,null,null,null,null,null,null,null,null,null,null,null,null,null,null,null,null,null,null,null,null,null,null,null,null,null,1016]
[null,null,null,null,null,null,null,null,null,null,null,null,null,null,null,null,null,null,null,null,null,null,null,null,null,null,null,null,null,null,null,null,null,null,null,null,null,null,null,null,null,null,null,null,null,null,null,null,null,1017]
[null,null,null,null,null,null,null,null,null,null,null,null,null,null,null,null,null,null,null,null,null,null,null,null,null,null,null,null,null,null,null,null,null,null,null,null,null,null,null,null,null,null,null,null,null,null,null,null,null,1018]
[null,null,null,null,null,null,null,null,null,null,null,null,null,null,null,null,null,null,null,null,null,null,null,null,null,null,null,null,null,null,null,null,null,null,null,null,null,null,null,null,null,null,null,null,null,null,null,null,null,1019]
[null,null,null,null,null,null,null,null,null,null,null,null,null,null,null,null,null,null,null,null,null,null,null,null,null,null,null,null,null,null,null,null,null,null,null,null,null,null,null,null,null,null,null,null,null,null,null,null,null,1020]
[null,null,null,null,null,null,null,null,null,null,null,null,null,null,null,null,null,null,null,null,null,null,null,null,null,null,null,null,null,null,null,null,null,null,null,null,null,null,null,null,null,null,null,null,null,null,null,null,null,1021]
[null,null,null,null,null,null,null,null,null,null,null,null,null,null,null,null,null,null,null,null,null,null,null,null,null,null,null,null,null,null,null,null,null,null,null,null,null,null,null,null,null,null,null,null,null,null,null,null,null,1022]
[null,null,null,null,null,null,null,null,null,null,null,null,null,null,null,null,null,null,null,null,null,null,null,null,null,null,null,null,null,null,null,null,null,null,null,null,null,null,null,null,null,null,null,null,null,null,null,null,null,1023]
[null,null,null,null,null,null,null,null,null,null,null,null,null,null,null,null,null,null,null,null,null,null,null,null,null,null,null,null,null,null,null,null,null,null,null,null,null,null,null,null,null,null,null,null,null,null,null,null,null,1024]
[null,null,null,null,null,null,null,null,null,null,null,null,null,null,null,null,null,null,null,null,null,null,null,null,null,null,null,null,null,null,null,null,null,null,null,null,null,null,null,null,null,null,null,null,null,null,null,null,null,1025]
[null,null,null,null,null,null,null,null,null,null,null,null,null,null,null,null,null,null,null,null,null,null,null,null,null,null,null,null,null,null,null,null,null,null,null,null,null,null,null,null,null,null,null,null,null,null,null,null,null,1026]