{"text_format":"1","workbook":"xlsx","n_sheets":4,"sheets":["Manual","Kalkulator","Arkusz1","Krzywa"],"not_rendered":{"charts":0,"images":1,"macros":1,"external_links":0,"defined_names":3,"comments":0,"pivot_tables":0},"unopened":[],"bounds":{"document_bytes":16777216,"sheet_cells":100000,"rows_first":2000,"rows_last":500,"rows_between":2000,"halvings":0,"cell_chars":16384,"cell_head_chars":4096},"cells_cut":0,"cells_raw":0,"read":"whole","date_system":"1900"}

{"sheet":"Manual","index":0,"n_rows":19,"n_cols":2,"rows_kept":19,"cut":false,"hidden":true,"merged":[[18,1,22,13],[10,1,10,13],[11,1,11,13],[13,1,13,13],[14,1,14,13],[16,1,16,13],[15,1,15,13],[17,1,17,13],[9,1,9,13],[1,1,1,13],[3,1,4,13],[5,1,5,13],[7,1,7,13],[8,1,8,13]]}
[]
[null,"Information regarding the collateral margin calculator for single instrument for the Forward Market being run by Polish Power Exchange"]
[]
[null,"Calculator for a single instrument allows for an estimate of the required margin for a single transaction within quotation."]
[]
[null,"Before commencement of works with use of the calculator you should make sure that MS Excel macro handling has been enabled."]
[]
[null,"In order to calculate the margins you should:"]
[null,"1. Select long or short positions (buy or sell)."]
[null,"2. Select contract type."]
[null,"3. Enter the number to first day of delivery."]
[null,"4. Enter the number to last day of delivery."]
[null,"5. Enter the contract price."]
[null,"6. Enter a clearing price."]
[null,"7. Enter the number of contracts."]
[null,"8. Mark check-box if margin is calculated for foreign entity."]
[null,"9. Press “Calculate margin” button."]
[]
[null,"In case of any question regarding functioning of the calculator we would like you to come in contact with the IRGiT Risk Management \nDepartment (phone No 22 341 98 20 or e-mail dzr@irgit.pl )."]

{"sheet":"Kalkulator","index":1,"n_rows":35,"n_cols":14,"rows_kept":35,"cut":false,"hidden":false,"merged":[[33,5,33,6],[1,3,1,6],[32,3,32,6],[15,3,15,5],[3,3,3,5],[5,3,5,5],[9,3,9,5],[11,3,11,5],[13,3,13,5],[7,3,7,5],[17,3,17,5]]}
[null,null,null,null,null,null,null,null,null,null,null,null,"Sell","BASE_W"]
[null,null,null,"Single instrument calculator for Commodity Forward",null,null,null,null,null,null,null,null,"Buy","BASE_M"]
[null,null,null,null,null,null,null,null,null,null,null,null,null,"BASE_Q"]
[null,null,null,"Buy or sell:",null,null,null,null,null,null,null,null,null,"BASE_Y"]
[null,null,null,null,null,null,null,null,null,null,null,null,null,"PEAK5_W"]
[null,null,null,"Select contract type:",null,null,null,null,null,null,null,null,null,"PEAK5_M"]
[null,null,null,null,null,null,null,null,null,null,null,null,null,"PEAK5_Q"]
[null,null,null,"Enter the number of days to first day of delivery:",null,null,null,null,null,null,null,null,null,"PEAK5_Y"]
[]
[null,null,null,"Enter the number of days to last day of delivery:",null,null,null,null,null,null,null,null,null,"PEAK5_Y"]
[]
[null,null,null,"Enter the contract price:"]
[]
[null,null,null,"Enter a clearing price:"]
[]
[null,null,null,"Enter the number of contracts:"]
[]
[null,null,null,"Foreign entity:"]
[]
[]
[]
[]
[]
[]
[]
[]
[null,null,null,"Initial margin:",null,null,0,"*"]
[null,null,null,null,null,null,null,"*"]
[null,null,null,"Variation margin:",null,null,0,"*"]
[]
[null,null,null,"Total margin:",null,null,0,"*"]
[]
[null,null,null,"* Calculated values of margin may differ from the actual values"]
[]
[null,false]

{"sheet":"Arkusz1","index":2,"n_rows":0,"n_cols":0,"rows_kept":0,"cut":false,"hidden":true,"merged":[]}

{"sheet":"Krzywa","index":3,"n_rows":2208,"n_cols":22,"rows_kept":2208,"cut":false,"hidden":true,"merged":[]}
[null,"BASE","PEAK5","L-PEAK5","H-PEAK5","OFFPEAK","GAS",null,null,null,null,null,null,null,{"$f":"Kalkulator!D4","v":"Buy or sell:"},{"$f":"Kalkulator!G4","v":0},{"$f":"IF(P1=\"Sell\",-1,1)","v":1},null,"VAT"]
["days to delivery ","initial margin","initial margin","initial margin","initial margin",null,null,"VAT",null,null,null,null,null,null,{"$f":"Kalkulator!D6","v":"Select contract type:"},{"$f":"Kalkulator!G6","v":0},{"$f":"MATCH(P2,A1:G1,0)-1","v":{"$error":"#N/A"}},null,1,"Data rozpoczęcia","Data zakończenia","VAT"]
[1,1.0463,0.97509999999999997,0.97509999999999997,0.97509999999999997,1.0463,0.22700000000000001,{"$f":"IF(Kalkulator!$B$35=TRUE,0,VLOOKUP(TODAY()+A3,T:V,3,1)/100)","v":0},null,null,null,null,null,null,{"$f":"Kalkulator!D8","v":"Enter the number of days to first day of delivery:"},{"$f":"Kalkulator!G8","v":0},{"$f":"P3","v":0},null,null,"2022-01-01","2022-12-31",5]
[2,0.95620000000000005,0.89349999999999996,0.89349999999999996,0.89349999999999996,0.96220000000000006,0.2253,{"$f":"IF(Kalkulator!$B$35=TRUE,0,VLOOKUP(TODAY()+A4,T:V,3,1)/100)","v":0},null,null,null,null,null,null,{"$f":"Kalkulator!D10","v":"Enter the number of days to last day of delivery:"},{"$f":"Kalkulator!G10","v":0},{"$f":"P4","v":0},null,null,"2023-01-01","2023-03-31",23]
[3,0.86619999999999997,0.81189999999999996,0.81189999999999996,0.81189999999999996,0.878,0.22359999999999999,{"$f":"IF(Kalkulator!$B$35=TRUE,0,VLOOKUP(TODAY()+A5,T:V,3,1)/100)","v":0},null,null,null,null,null,null,{"$f":"Kalkulator!D12","v":"Enter the contract price:"},{"$f":"Kalkulator!G12","v":0},{"$f":"P5","v":0},null,null,"2023-04-01","2026-12-31",0]
[4,0.7762,0.73019999999999996,0.73019999999999996,0.73019999999999996,0.79390000000000005,0.22189999999999999,{"$f":"IF(Kalkulator!$B$35=TRUE,0,VLOOKUP(TODAY()+A6,T:V,3,1)/100)","v":0},null,null,null,null,null,null,{"$f":"Kalkulator!D14","v":"Enter a clearing price:"},{"$f":"Kalkulator!G14","v":0},{"$f":"P6","v":0},null,null,"2027-01-01","2100-12-31",23]
[5,0.68610000000000004,0.64859999999999995,0.64859999999999995,0.64859999999999995,0.70979999999999999,0.22020000000000001,{"$f":"IF(Kalkulator!$B$35=TRUE,0,VLOOKUP(TODAY()+A7,T:V,3,1)/100)","v":0},null,null,null,null,null,null,{"$f":"Kalkulator!D16","v":"Enter the number of contracts:"},{"$f":"Kalkulator!G16","v":0},{"$f":"P7","v":0}]
[6,0.59609999999999996,0.56699999999999995,0.56699999999999995,0.56699999999999995,0.62560000000000004,0.2185,{"$f":"IF(Kalkulator!$B$35=TRUE,0,VLOOKUP(TODAY()+A8,T:V,3,1)/100)","v":0}]
[7,0.50600000000000001,0.4854,0.4854,0.4854,0.54149999999999998,0.21679999999999999,{"$f":"IF(Kalkulator!$B$35=TRUE,0,VLOOKUP(TODAY()+A9,T:V,3,1)/100)","v":0},null,null,null,null,null,null,"Współczynnik ryzyka",null,{"$f":"AVERAGE(OFFSET(A1,Q3+1,Q2,Q4-Q3+1,1))","v":{"$error":"#N/A"}}]
[8,0.41599999999999998,0.40379999999999999,0.40379999999999999,0.40379999999999999,0.45739999999999997,0.21510000000000001,{"$f":"IF(Kalkulator!$B$35=TRUE,0,VLOOKUP(TODAY()+A10,T:V,3,1)/100)","v":0},null,null,null,null,null,null,"VAT",null,{"$f":"AVERAGE(OFFSET(A1,Q3+1,7,Q4-Q3+1,1))","v":{"$error":"#DIV/0!"}}]
[9,0.32590000000000002,0.3221,0.3221,0.3221,0.37330000000000002,0.21340000000000001,{"$f":"IF(Kalkulator!$B$35=TRUE,0,VLOOKUP(TODAY()+A11,T:V,3,1)/100)","v":0},null,null,null,null,null,null,"Wstepny",null,{"$f":"-1*(1+Q10)*Q9*Q7*Q6*(Q4-Q3+1)*IF(OR(P2=\"BASE\",P2=\"GAS\"),24,IF(P2=\"OFFPEAK\",9,IF(P2=\"PEAK5\",15,IF(P2=\"L-PEAK5\",10,5))))","v":{"$error":"#DIV/0!"}}]
[10,0.2359,0.24049999999999999,0.24049999999999999,0.24049999999999999,0.28910000000000002,0.2117,{"$f":"IF(Kalkulator!$B$35=TRUE,0,VLOOKUP(TODAY()+A12,T:V,3,1)/100)","v":0},null,null,null,null,null,null,"Uzupełniający",null,{"$f":"(Q7*(Q6-Q5)*(Q4-Q3+1)*IF(OR(P2=\"BASE\",P2=\"GAS\"),24,IF(P2=\"OFFPEAK\",9,IF(P2=\"PEAK5\",15,IF(P2=\"L-PEAK5\",10,5))))*Q1)*(1+Q10)","v":{"$error":"#DIV/0!"}}]
[11,0.14580000000000001,0.15890000000000001,0.15890000000000001,0.15890000000000001,0.20499999999999999,0.21,{"$f":"IF(Kalkulator!$B$35=TRUE,0,VLOOKUP(TODAY()+A13,T:V,3,1)/100)","v":0},null,null,null,null,null,null,"Suma",null,{"$f":"MIN(Q11+Q12,0)","v":{"$error":"#DIV/0!"}}]
[12,0.14419999999999999,0.1575,0.1575,0.1575,0.20419999999999999,0.21,{"$f":"IF(Kalkulator!$B$35=TRUE,0,VLOOKUP(TODAY()+A14,T:V,3,1)/100)","v":0}]
[13,0.14249999999999999,0.15620000000000001,0.15620000000000001,0.15620000000000001,0.20349999999999999,0.21,{"$f":"IF(Kalkulator!$B$35=TRUE,0,VLOOKUP(TODAY()+A15,T:V,3,1)/100)","v":0}]
[14,0.1409,0.15479999999999999,0.15479999999999999,0.15479999999999999,0.20269999999999999,0.21,{"$f":"IF(Kalkulator!$B$35=TRUE,0,VLOOKUP(TODAY()+A16,T:V,3,1)/100)","v":0}]
[15,0.13919999999999999,0.15340000000000001,0.15340000000000001,0.15340000000000001,0.20200000000000001,0.2099,{"$f":"IF(Kalkulator!$B$35=TRUE,0,VLOOKUP(TODAY()+A17,T:V,3,1)/100)","v":0}]
[16,0.1376,0.15210000000000001,0.15210000000000001,0.15210000000000001,0.20119999999999999,0.2099,{"$f":"IF(Kalkulator!$B$35=TRUE,0,VLOOKUP(TODAY()+A18,T:V,3,1)/100)","v":0}]
[17,0.13589999999999999,0.1507,0.1507,0.1507,0.20039999999999999,0.2099,{"$f":"IF(Kalkulator!$B$35=TRUE,0,VLOOKUP(TODAY()+A19,T:V,3,1)/100)","v":0}]
[18,0.1343,0.14940000000000001,0.14940000000000001,0.14940000000000001,0.19969999999999999,0.2099,{"$f":"IF(Kalkulator!$B$35=TRUE,0,VLOOKUP(TODAY()+A20,T:V,3,1)/100)","v":0}]
[19,0.13389999999999999,0.14799999999999999,0.14799999999999999,0.14799999999999999,0.19889999999999999,0.2097,{"$f":"IF(Kalkulator!$B$35=TRUE,0,VLOOKUP(TODAY()+A21,T:V,3,1)/100)","v":0}]
[20,0.13350000000000001,0.14660000000000001,0.14660000000000001,0.14660000000000001,0.19819999999999999,0.2094,{"$f":"IF(Kalkulator!$B$35=TRUE,0,VLOOKUP(TODAY()+A22,T:V,3,1)/100)","v":0}]
[21,0.13300000000000001,0.14530000000000001,0.14530000000000001,0.14530000000000001,0.19739999999999999,0.2092,{"$f":"IF(Kalkulator!$B$35=TRUE,0,VLOOKUP(TODAY()+A23,T:V,3,1)/100)","v":0}]
[22,0.1326,0.1439,0.1439,0.1439,0.1966,0.20899999999999999,{"$f":"IF(Kalkulator!$B$35=TRUE,0,VLOOKUP(TODAY()+A24,T:V,3,1)/100)","v":0}]
[23,0.13220000000000001,0.14249999999999999,0.14249999999999999,0.14249999999999999,0.19589999999999999,0.20880000000000001,{"$f":"IF(Kalkulator!$B$35=TRUE,0,VLOOKUP(TODAY()+A25,T:V,3,1)/100)","v":0}]
[24,0.1318,0.14119999999999999,0.14119999999999999,0.14119999999999999,0.1951,0.20860000000000001,{"$f":"IF(Kalkulator!$B$35=TRUE,0,VLOOKUP(TODAY()+A26,T:V,3,1)/100)","v":0}]
[25,0.13139999999999999,0.13980000000000001,0.13980000000000001,0.13980000000000001,0.19439999999999999,0.20830000000000001,{"$f":"IF(Kalkulator!$B$35=TRUE,0,VLOOKUP(TODAY()+A27,T:V,3,1)/100)","v":0}]
[26,0.13100000000000001,0.13850000000000001,0.13850000000000001,0.13850000000000001,0.19359999999999999,0.20810000000000001,{"$f":"IF(Kalkulator!$B$35=TRUE,0,VLOOKUP(TODAY()+A28,T:V,3,1)/100)","v":0}]
[27,0.1305,0.1371,0.1371,0.1371,0.1928,0.2079,{"$f":"IF(Kalkulator!$B$35=TRUE,0,VLOOKUP(TODAY()+A29,T:V,3,1)/100)","v":0}]
[28,0.13009999999999999,0.13569999999999999,0.13569999999999999,0.13569999999999999,0.19209999999999999,0.20760000000000001,{"$f":"IF(Kalkulator!$B$35=TRUE,0,VLOOKUP(TODAY()+A30,T:V,3,1)/100)","v":0}]
[29,0.12970000000000001,0.13439999999999999,0.13439999999999999,0.13439999999999999,0.1913,0.2074,{"$f":"IF(Kalkulator!$B$35=TRUE,0,VLOOKUP(TODAY()+A31,T:V,3,1)/100)","v":0}]
[30,0.1293,0.13300000000000001,0.13300000000000001,0.13300000000000001,0.19059999999999999,0.2072,{"$f":"IF(Kalkulator!$B$35=TRUE,0,VLOOKUP(TODAY()+A32,T:V,3,1)/100)","v":0}]
[31,0.12889999999999999,0.13159999999999999,0.13159999999999999,0.13159999999999999,0.1898,0.20699999999999999,{"$f":"IF(Kalkulator!$B$35=TRUE,0,VLOOKUP(TODAY()+A33,T:V,3,1)/100)","v":0}]
[32,0.12839999999999999,0.1303,0.1303,0.1303,0.189,0.20680000000000001,{"$f":"IF(Kalkulator!$B$35=TRUE,0,VLOOKUP(TODAY()+A34,T:V,3,1)/100)","v":0}]
[33,0.128,0.12889999999999999,0.12889999999999999,0.12889999999999999,0.1883,0.20649999999999999,{"$f":"IF(Kalkulator!$B$35=TRUE,0,VLOOKUP(TODAY()+A35,T:V,3,1)/100)","v":0}]
[34,0.12759999999999999,0.12759999999999999,0.12759999999999999,0.12759999999999999,0.1875,0.20630000000000001,{"$f":"IF(Kalkulator!$B$35=TRUE,0,VLOOKUP(TODAY()+A36,T:V,3,1)/100)","v":0}]
[35,0.12720000000000001,0.12620000000000001,0.12620000000000001,0.12620000000000001,0.18679999999999999,0.20610000000000001,{"$f":"IF(Kalkulator!$B$35=TRUE,0,VLOOKUP(TODAY()+A37,T:V,3,1)/100)","v":0}]
[36,0.1268,0.12479999999999999,0.12479999999999999,0.12479999999999999,0.186,0.20580000000000001,{"$f":"IF(Kalkulator!$B$35=TRUE,0,VLOOKUP(TODAY()+A38,T:V,3,1)/100)","v":0}]
[37,0.12640000000000001,0.1235,0.1235,0.1235,0.1852,0.2056,{"$f":"IF(Kalkulator!$B$35=TRUE,0,VLOOKUP(TODAY()+A39,T:V,3,1)/100)","v":0}]
[38,0.12590000000000001,0.1221,0.1221,0.1221,0.1845,0.2054,{"$f":"IF(Kalkulator!$B$35=TRUE,0,VLOOKUP(TODAY()+A40,T:V,3,1)/100)","v":0}]
[39,0.1255,0.1207,0.1207,0.1207,0.1837,0.20519999999999999,{"$f":"IF(Kalkulator!$B$35=TRUE,0,VLOOKUP(TODAY()+A41,T:V,3,1)/100)","v":0}]
[40,0.12509999999999999,0.11940000000000001,0.11940000000000001,0.11940000000000001,0.183,0.20499999999999999,{"$f":"IF(Kalkulator!$B$35=TRUE,0,VLOOKUP(TODAY()+A42,T:V,3,1)/100)","v":0}]
[41,0.12470000000000001,0.11799999999999999,0.11799999999999999,0.11799999999999999,0.1822,0.20469999999999999,{"$f":"IF(Kalkulator!$B$35=TRUE,0,VLOOKUP(TODAY()+A43,T:V,3,1)/100)","v":0}]
[42,0.12429999999999999,0.1167,0.1167,0.1167,0.18140000000000001,0.20449999999999999,{"$f":"IF(Kalkulator!$B$35=TRUE,0,VLOOKUP(TODAY()+A44,T:V,3,1)/100)","v":0}]
[43,0.1239,0.1153,0.1153,0.1153,0.1807,0.20430000000000001,{"$f":"IF(Kalkulator!$B$35=TRUE,0,VLOOKUP(TODAY()+A45,T:V,3,1)/100)","v":0}]
[44,0.1234,0.1139,0.1139,0.1139,0.1799,0.20399999999999999,{"$f":"IF(Kalkulator!$B$35=TRUE,0,VLOOKUP(TODAY()+A46,T:V,3,1)/100)","v":0}]
[45,0.123,0.11260000000000001,0.11260000000000001,0.11260000000000001,0.1792,0.20380000000000001,{"$f":"IF(Kalkulator!$B$35=TRUE,0,VLOOKUP(TODAY()+A47,T:V,3,1)/100)","v":0}]
[46,0.1226,0.11119999999999999,0.11119999999999999,0.11119999999999999,0.1784,0.2036,{"$f":"IF(Kalkulator!$B$35=TRUE,0,VLOOKUP(TODAY()+A48,T:V,3,1)/100)","v":0}]
[47,0.1221,0.1111,0.1111,0.1111,0.1792,0.2034,{"$f":"IF(Kalkulator!$B$35=TRUE,0,VLOOKUP(TODAY()+A49,T:V,3,1)/100)","v":0}]
[48,0.1217,0.111,0.111,0.111,0.18,0.20319999999999999,{"$f":"IF(Kalkulator!$B$35=TRUE,0,VLOOKUP(TODAY()+A50,T:V,3,1)/100)","v":0}]
[49,0.1212,0.1108,0.1108,0.1108,0.18090000000000001,0.20300000000000001,{"$f":"IF(Kalkulator!$B$35=TRUE,0,VLOOKUP(TODAY()+A51,T:V,3,1)/100)","v":0}]
[50,0.1207,0.11070000000000001,0.11070000000000001,0.11070000000000001,0.1817,0.20280000000000001,{"$f":"IF(Kalkulator!$B$35=TRUE,0,VLOOKUP(TODAY()+A52,T:V,3,1)/100)","v":0}]
[51,0.1202,0.1106,0.1106,0.1106,0.1825,0.2026,{"$f":"IF(Kalkulator!$B$35=TRUE,0,VLOOKUP(TODAY()+A53,T:V,3,1)/100)","v":0}]
[52,0.1198,0.1105,0.1105,0.1105,0.18329999999999999,0.2024,{"$f":"IF(Kalkulator!$B$35=TRUE,0,VLOOKUP(TODAY()+A54,T:V,3,1)/100)","v":0}]
[53,0.1193,0.1103,0.1103,0.1103,0.1842,0.20219999999999999,{"$f":"IF(Kalkulator!$B$35=TRUE,0,VLOOKUP(TODAY()+A55,T:V,3,1)/100)","v":0}]
[54,0.1188,0.11020000000000001,0.11020000000000001,0.11020000000000001,0.185,0.2021,{"$f":"IF(Kalkulator!$B$35=TRUE,0,VLOOKUP(TODAY()+A56,T:V,3,1)/100)","v":0}]
[55,0.11840000000000001,0.1101,0.1101,0.1101,0.18579999999999999,0.2019,{"$f":"IF(Kalkulator!$B$35=TRUE,0,VLOOKUP(TODAY()+A57,T:V,3,1)/100)","v":0}]
[56,0.1179,0.11,0.11,0.11,0.18659999999999999,0.20169999999999999,{"$f":"IF(Kalkulator!$B$35=TRUE,0,VLOOKUP(TODAY()+A58,T:V,3,1)/100)","v":0}]
[57,0.1174,0.1099,0.1099,0.1099,0.1875,0.20150000000000001,{"$f":"IF(Kalkulator!$B$35=TRUE,0,VLOOKUP(TODAY()+A59,T:V,3,1)/100)","v":0}]
[58,0.11700000000000001,0.10970000000000001,0.10970000000000001,0.10970000000000001,0.1883,0.20130000000000001,{"$f":"IF(Kalkulator!$B$35=TRUE,0,VLOOKUP(TODAY()+A60,T:V,3,1)/100)","v":0}]
[59,0.11650000000000001,0.1096,0.1096,0.1096,0.18909999999999999,0.2011,{"$f":"IF(Kalkulator!$B$35=TRUE,0,VLOOKUP(TODAY()+A61,T:V,3,1)/100)","v":0}]
[60,0.11600000000000001,0.1095,0.1095,0.1095,0.18990000000000001,0.2009,{"$f":"IF(Kalkulator!$B$35=TRUE,0,VLOOKUP(TODAY()+A62,T:V,3,1)/100)","v":0}]
[61,0.11559999999999999,0.1094,0.1094,0.1094,0.19070000000000001,0.20069999999999999,{"$f":"IF(Kalkulator!$B$35=TRUE,0,VLOOKUP(TODAY()+A63,T:V,3,1)/100)","v":0}]
[62,0.11509999999999999,0.10920000000000001,0.10920000000000001,0.10920000000000001,0.19159999999999999,0.20050000000000001,{"$f":"IF(Kalkulator!$B$35=TRUE,0,VLOOKUP(TODAY()+A64,T:V,3,1)/100)","v":0}]
[63,0.11459999999999999,0.1091,0.1091,0.1091,0.19239999999999999,0.20030000000000001,{"$f":"IF(Kalkulator!$B$35=TRUE,0,VLOOKUP(TODAY()+A65,T:V,3,1)/100)","v":0}]
[64,0.11409999999999999,0.109,0.109,0.109,0.19320000000000001,0.2001,{"$f":"IF(Kalkulator!$B$35=TRUE,0,VLOOKUP(TODAY()+A66,T:V,3,1)/100)","v":0}]
[65,0.1137,0.1089,0.1089,0.1089,0.19400000000000001,0.19989999999999999,{"$f":"IF(Kalkulator!$B$35=TRUE,0,VLOOKUP(TODAY()+A67,T:V,3,1)/100)","v":0}]
[66,0.1132,0.10879999999999999,0.10879999999999999,0.10879999999999999,0.19489999999999999,0.19969999999999999,{"$f":"IF(Kalkulator!$B$35=TRUE,0,VLOOKUP(TODAY()+A68,T:V,3,1)/100)","v":0}]
[67,0.11269999999999999,0.1086,0.1086,0.1086,0.19570000000000001,0.19950000000000001,{"$f":"IF(Kalkulator!$B$35=TRUE,0,VLOOKUP(TODAY()+A69,T:V,3,1)/100)","v":0}]
[68,0.1123,0.1085,0.1085,0.1085,0.19650000000000001,0.1993,{"$f":"IF(Kalkulator!$B$35=TRUE,0,VLOOKUP(TODAY()+A70,T:V,3,1)/100)","v":0}]
[69,0.1118,0.1084,0.1084,0.1084,0.1973,0.19919999999999999,{"$f":"IF(Kalkulator!$B$35=TRUE,0,VLOOKUP(TODAY()+A71,T:V,3,1)/100)","v":0}]
[70,0.1113,0.10829999999999999,0.10829999999999999,0.10829999999999999,0.19819999999999999,0.19900000000000001,{"$f":"IF(Kalkulator!$B$35=TRUE,0,VLOOKUP(TODAY()+A72,T:V,3,1)/100)","v":0}]
[71,0.1108,0.1082,0.1082,0.1082,0.19900000000000001,0.1988,{"$f":"IF(Kalkulator!$B$35=TRUE,0,VLOOKUP(TODAY()+A73,T:V,3,1)/100)","v":0}]
[72,0.1104,0.108,0.108,0.108,0.19980000000000001,0.1986,{"$f":"IF(Kalkulator!$B$35=TRUE,0,VLOOKUP(TODAY()+A74,T:V,3,1)/100)","v":0}]
[73,0.1099,0.1079,0.1079,0.1079,0.2006,0.19839999999999999,{"$f":"IF(Kalkulator!$B$35=TRUE,0,VLOOKUP(TODAY()+A75,T:V,3,1)/100)","v":0}]
[74,0.1094,0.10780000000000001,0.10780000000000001,0.10780000000000001,0.2014,0.19819999999999999,{"$f":"IF(Kalkulator!$B$35=TRUE,0,VLOOKUP(TODAY()+A76,T:V,3,1)/100)","v":0}]
[75,0.109,0.1077,0.1077,0.1077,0.20230000000000001,0.19800000000000001,{"$f":"IF(Kalkulator!$B$35=TRUE,0,VLOOKUP(TODAY()+A77,T:V,3,1)/100)","v":0}]
[76,0.1085,0.1075,0.1075,0.1075,0.2031,0.1978,{"$f":"IF(Kalkulator!$B$35=TRUE,0,VLOOKUP(TODAY()+A78,T:V,3,1)/100)","v":0}]
[77,0.1084,0.1074,0.1074,0.1074,0.2039,0.1973,{"$f":"IF(Kalkulator!$B$35=TRUE,0,VLOOKUP(TODAY()+A79,T:V,3,1)/100)","v":0}]
[78,0.1082,0.10730000000000001,0.10730000000000001,0.10730000000000001,0.20469999999999999,0.19670000000000001,{"$f":"IF(Kalkulator!$B$35=TRUE,0,VLOOKUP(TODAY()+A80,T:V,3,1)/100)","v":0}]
[79,0.1081,0.1072,0.1072,0.1072,0.2056,0.19620000000000001,{"$f":"IF(Kalkulator!$B$35=TRUE,0,VLOOKUP(TODAY()+A81,T:V,3,1)/100)","v":0}]
[80,0.108,0.1071,0.1071,0.1071,0.2064,0.19570000000000001,{"$f":"IF(Kalkulator!$B$35=TRUE,0,VLOOKUP(TODAY()+A82,T:V,3,1)/100)","v":0}]
[81,0.10780000000000001,0.1069,0.1069,0.1069,0.2072,0.1951,{"$f":"IF(Kalkulator!$B$35=TRUE,0,VLOOKUP(TODAY()+A83,T:V,3,1)/100)","v":0}]
[82,0.1077,0.10680000000000001,0.10680000000000001,0.10680000000000001,0.20799999999999999,0.1946,{"$f":"IF(Kalkulator!$B$35=TRUE,0,VLOOKUP(TODAY()+A84,T:V,3,1)/100)","v":0}]
[83,0.1076,0.1067,0.1067,0.1067,0.2089,0.19409999999999999,{"$f":"IF(Kalkulator!$B$35=TRUE,0,VLOOKUP(TODAY()+A85,T:V,3,1)/100)","v":0}]
[84,0.1074,0.1066,0.1066,0.1066,0.2097,0.19350000000000001,{"$f":"IF(Kalkulator!$B$35=TRUE,0,VLOOKUP(TODAY()+A86,T:V,3,1)/100)","v":0}]
[85,0.10730000000000001,0.10639999999999999,0.10639999999999999,0.10639999999999999,0.21049999999999999,0.193,{"$f":"IF(Kalkulator!$B$35=TRUE,0,VLOOKUP(TODAY()+A87,T:V,3,1)/100)","v":0}]
[86,0.1071,0.10630000000000001,0.10630000000000001,0.10630000000000001,0.21129999999999999,0.19239999999999999,{"$f":"IF(Kalkulator!$B$35=TRUE,0,VLOOKUP(TODAY()+A88,T:V,3,1)/100)","v":0}]
[87,0.107,0.1062,0.1062,0.1062,0.21210000000000001,0.19189999999999999,{"$f":"IF(Kalkulator!$B$35=TRUE,0,VLOOKUP(TODAY()+A89,T:V,3,1)/100)","v":0}]
[88,0.1069,0.1061,0.1061,0.1061,0.21299999999999999,0.19139999999999999,{"$f":"IF(Kalkulator!$B$35=TRUE,0,VLOOKUP(TODAY()+A90,T:V,3,1)/100)","v":0}]
[89,0.1067,0.106,0.106,0.106,0.21379999999999999,0.1908,{"$f":"IF(Kalkulator!$B$35=TRUE,0,VLOOKUP(TODAY()+A91,T:V,3,1)/100)","v":0}]
[90,0.1066,0.10580000000000001,0.10580000000000001,0.10580000000000001,0.21460000000000001,0.1903,{"$f":"IF(Kalkulator!$B$35=TRUE,0,VLOOKUP(TODAY()+A92,T:V,3,1)/100)","v":0}]
[91,0.1065,0.1057,0.1057,0.1057,0.21540000000000001,0.1898,{"$f":"IF(Kalkulator!$B$35=TRUE,0,VLOOKUP(TODAY()+A93,T:V,3,1)/100)","v":0}]
[92,0.10630000000000001,0.1056,0.1056,0.1056,0.21629999999999999,0.18920000000000001,{"$f":"IF(Kalkulator!$B$35=TRUE,0,VLOOKUP(TODAY()+A94,T:V,3,1)/100)","v":0}]
[93,0.1062,0.1055,0.1055,0.1055,0.21709999999999999,0.18870000000000001,{"$f":"IF(Kalkulator!$B$35=TRUE,0,VLOOKUP(TODAY()+A95,T:V,3,1)/100)","v":0}]
[94,0.1061,0.1053,0.1053,0.1053,0.21790000000000001,0.18820000000000001,{"$f":"IF(Kalkulator!$B$35=TRUE,0,VLOOKUP(TODAY()+A96,T:V,3,1)/100)","v":0}]
[95,0.10589999999999999,0.1052,0.1052,0.1052,0.21870000000000001,0.18759999999999999,{"$f":"IF(Kalkulator!$B$35=TRUE,0,VLOOKUP(TODAY()+A97,T:V,3,1)/100)","v":0}]
[96,0.10580000000000001,0.1051,0.1051,0.1051,0.21959999999999999,0.18709999999999999,{"$f":"IF(Kalkulator!$B$35=TRUE,0,VLOOKUP(TODAY()+A98,T:V,3,1)/100)","v":0}]
[97,0.1057,0.105,0.105,0.105,0.22040000000000001,0.18659999999999999,{"$f":"IF(Kalkulator!$B$35=TRUE,0,VLOOKUP(TODAY()+A99,T:V,3,1)/100)","v":0}]
[98,0.1055,0.10489999999999999,0.10489999999999999,0.10489999999999999,0.22120000000000001,0.186,{"$f":"IF(Kalkulator!$B$35=TRUE,0,VLOOKUP(TODAY()+A100,T:V,3,1)/100)","v":0}]
[99,0.10539999999999999,0.1047,0.1047,0.1047,0.222,0.1855,{"$f":"IF(Kalkulator!$B$35=TRUE,0,VLOOKUP(TODAY()+A101,T:V,3,1)/100)","v":0}]
[100,0.1052,0.1046,0.1046,0.1046,0.2228,0.18490000000000001,{"$f":"IF(Kalkulator!$B$35=TRUE,0,VLOOKUP(TODAY()+A102,T:V,3,1)/100)","v":0}]
[101,0.1051,0.1045,0.1045,0.1045,0.22370000000000001,0.18440000000000001,{"$f":"IF(Kalkulator!$B$35=TRUE,0,VLOOKUP(TODAY()+A103,T:V,3,1)/100)","v":0}]
[102,0.105,0.10440000000000001,0.10440000000000001,0.10440000000000001,0.22450000000000001,0.18390000000000001,{"$f":"IF(Kalkulator!$B$35=TRUE,0,VLOOKUP(TODAY()+A104,T:V,3,1)/100)","v":0}]
[103,0.1048,0.1042,0.1042,0.1042,0.2253,0.18329999999999999,{"$f":"IF(Kalkulator!$B$35=TRUE,0,VLOOKUP(TODAY()+A105,T:V,3,1)/100)","v":0}]
[104,0.1047,0.1041,0.1041,0.1041,0.2261,0.18279999999999999,{"$f":"IF(Kalkulator!$B$35=TRUE,0,VLOOKUP(TODAY()+A106,T:V,3,1)/100)","v":0}]
[105,0.1046,0.104,0.104,0.104,0.22700000000000001,0.18229999999999999,{"$f":"IF(Kalkulator!$B$35=TRUE,0,VLOOKUP(TODAY()+A107,T:V,3,1)/100)","v":0}]
[106,0.10440000000000001,0.10390000000000001,0.10390000000000001,0.10390000000000001,0.2278,0.1817,{"$f":"IF(Kalkulator!$B$35=TRUE,0,VLOOKUP(TODAY()+A108,T:V,3,1)/100)","v":0}]
[107,0.1043,0.1038,0.1038,0.1038,0.2286,0.1812,{"$f":"IF(Kalkulator!$B$35=TRUE,0,VLOOKUP(TODAY()+A109,T:V,3,1)/100)","v":0}]
[108,0.1042,0.1036,0.1036,0.1036,0.22939999999999999,0.1822,{"$f":"IF(Kalkulator!$B$35=TRUE,0,VLOOKUP(TODAY()+A110,T:V,3,1)/100)","v":0}]
[109,0.104,0.10349999999999999,0.10349999999999999,0.10349999999999999,0.2303,0.18310000000000001,{"$f":"IF(Kalkulator!$B$35=TRUE,0,VLOOKUP(TODAY()+A111,T:V,3,1)/100)","v":0}]
[110,0.10390000000000001,0.10340000000000001,0.10340000000000001,0.10340000000000001,0.2311,0.18410000000000001,{"$f":"IF(Kalkulator!$B$35=TRUE,0,VLOOKUP(TODAY()+A112,T:V,3,1)/100)","v":0}]
[111,0.1037,0.1033,0.1033,0.1033,0.2319,0.185,{"$f":"IF(Kalkulator!$B$35=TRUE,0,VLOOKUP(TODAY()+A113,T:V,3,1)/100)","v":0}]
[112,0.1036,0.1031,0.1031,0.1031,0.23269999999999999,0.186,{"$f":"IF(Kalkulator!$B$35=TRUE,0,VLOOKUP(TODAY()+A114,T:V,3,1)/100)","v":0}]
[113,0.10340000000000001,0.10299999999999999,0.10299999999999999,0.10299999999999999,0.23350000000000001,0.187,{"$f":"IF(Kalkulator!$B$35=TRUE,0,VLOOKUP(TODAY()+A115,T:V,3,1)/100)","v":0}]
[114,0.1033,0.10290000000000001,0.10290000000000001,0.10290000000000001,0.2344,0.18790000000000001,{"$f":"IF(Kalkulator!$B$35=TRUE,0,VLOOKUP(TODAY()+A116,T:V,3,1)/100)","v":0}]
[115,0.1032,0.1028,0.1028,0.1028,0.23519999999999999,0.18890000000000001,{"$f":"IF(Kalkulator!$B$35=TRUE,0,VLOOKUP(TODAY()+A117,T:V,3,1)/100)","v":0}]
[116,0.10299999999999999,0.1027,0.1027,0.1027,0.23599999999999999,0.1898,{"$f":"IF(Kalkulator!$B$35=TRUE,0,VLOOKUP(TODAY()+A118,T:V,3,1)/100)","v":0}]
[117,0.10290000000000001,0.10249999999999999,0.10249999999999999,0.10249999999999999,0.23680000000000001,0.1908,{"$f":"IF(Kalkulator!$B$35=TRUE,0,VLOOKUP(TODAY()+A119,T:V,3,1)/100)","v":0}]
[118,0.1027,0.1024,0.1024,0.1024,0.23769999999999999,0.1918,{"$f":"IF(Kalkulator!$B$35=TRUE,0,VLOOKUP(TODAY()+A120,T:V,3,1)/100)","v":0}]
[119,0.1026,0.1023,0.1023,0.1023,0.23849999999999999,0.19270000000000001,{"$f":"IF(Kalkulator!$B$35=TRUE,0,VLOOKUP(TODAY()+A121,T:V,3,1)/100)","v":0}]
[120,0.1024,0.1022,0.1022,0.1022,0.23930000000000001,0.19370000000000001,{"$f":"IF(Kalkulator!$B$35=TRUE,0,VLOOKUP(TODAY()+A122,T:V,3,1)/100)","v":0}]
[121,0.1023,0.1021,0.1021,0.1021,0.24010000000000001,0.1946,{"$f":"IF(Kalkulator!$B$35=TRUE,0,VLOOKUP(TODAY()+A123,T:V,3,1)/100)","v":0}]
[122,0.1022,0.1019,0.1019,0.1019,0.24099999999999999,0.1956,{"$f":"IF(Kalkulator!$B$35=TRUE,0,VLOOKUP(TODAY()+A124,T:V,3,1)/100)","v":0}]
[123,0.10199999999999999,0.1018,0.1018,0.1018,0.24179999999999999,0.1966,{"$f":"IF(Kalkulator!$B$35=TRUE,0,VLOOKUP(TODAY()+A125,T:V,3,1)/100)","v":0.23}]
[124,0.1019,0.1017,0.1017,0.1017,0.24260000000000001,0.19750000000000001,{"$f":"IF(Kalkulator!$B$35=TRUE,0,VLOOKUP(TODAY()+A126,T:V,3,1)/100)","v":0.23}]
[125,0.1017,0.1016,0.1016,0.1016,0.24340000000000001,0.19850000000000001,{"$f":"IF(Kalkulator!$B$35=TRUE,0,VLOOKUP(TODAY()+A127,T:V,3,1)/100)","v":0.23}]
[126,0.1016,0.1014,0.1014,0.1014,0.2442,0.19939999999999999,{"$f":"IF(Kalkulator!$B$35=TRUE,0,VLOOKUP(TODAY()+A128,T:V,3,1)/100)","v":0.23}]
[127,0.1014,0.1013,0.1013,0.1013,0.24510000000000001,0.20039999999999999,{"$f":"IF(Kalkulator!$B$35=TRUE,0,VLOOKUP(TODAY()+A129,T:V,3,1)/100)","v":0.23}]
[128,0.1013,0.1012,0.1012,0.1012,0.24590000000000001,0.2014,{"$f":"IF(Kalkulator!$B$35=TRUE,0,VLOOKUP(TODAY()+A130,T:V,3,1)/100)","v":0.23}]
[129,0.1011,0.1011,0.1011,0.1011,0.2467,0.20230000000000001,{"$f":"IF(Kalkulator!$B$35=TRUE,0,VLOOKUP(TODAY()+A131,T:V,3,1)/100)","v":0.23}]
[130,0.10100000000000001,0.10100000000000001,0.10100000000000001,0.10100000000000001,0.2475,0.20330000000000001,{"$f":"IF(Kalkulator!$B$35=TRUE,0,VLOOKUP(TODAY()+A132,T:V,3,1)/100)","v":0.23}]
[131,0.1009,0.1008,0.1008,0.1008,0.24840000000000001,0.20419999999999999,{"$f":"IF(Kalkulator!$B$35=TRUE,0,VLOOKUP(TODAY()+A133,T:V,3,1)/100)","v":0.23}]
[132,0.1007,0.1007,0.1007,0.1007,0.2492,0.20519999999999999,{"$f":"IF(Kalkulator!$B$35=TRUE,0,VLOOKUP(TODAY()+A134,T:V,3,1)/100)","v":0.23}]
[133,0.10059999999999999,0.10059999999999999,0.10059999999999999,0.10059999999999999,0.25,0.20619999999999999,{"$f":"IF(Kalkulator!$B$35=TRUE,0,VLOOKUP(TODAY()+A135,T:V,3,1)/100)","v":0.23}]
[134,0.1004,0.10050000000000001,0.10050000000000001,0.10050000000000001,0.25080000000000002,0.20710000000000001,{"$f":"IF(Kalkulator!$B$35=TRUE,0,VLOOKUP(TODAY()+A136,T:V,3,1)/100)","v":0.23}]
[135,0.1003,0.1003,0.1003,0.1003,0.25169999999999998,0.20810000000000001,{"$f":"IF(Kalkulator!$B$35=TRUE,0,VLOOKUP(TODAY()+A137,T:V,3,1)/100)","v":0.23}]
[136,0.10009999999999999,0.1002,0.1002,0.1002,0.2525,0.20899999999999999,{"$f":"IF(Kalkulator!$B$35=TRUE,0,VLOOKUP(TODAY()+A138,T:V,3,1)/100)","v":0.23}]
[137,0.1,0.10009999999999999,0.10009999999999999,0.10009999999999999,0.25330000000000003,0.21,{"$f":"IF(Kalkulator!$B$35=TRUE,0,VLOOKUP(TODAY()+A139,T:V,3,1)/100)","v":0.23}]
[138,0.1,9.98E-2,9.98E-2,9.98E-2,0.25280000000000002,0.2097,{"$f":"IF(Kalkulator!$B$35=TRUE,0,VLOOKUP(TODAY()+A140,T:V,3,1)/100)","v":0.23}]
[139,0.10009999999999999,9.9500000000000005E-2,9.9500000000000005E-2,9.9500000000000005E-2,0.25240000000000001,0.20949999999999999,{"$f":"IF(Kalkulator!$B$35=TRUE,0,VLOOKUP(TODAY()+A141,T:V,3,1)/100)","v":0.23}]
[140,0.10009999999999999,9.9299999999999999E-2,9.9299999999999999E-2,9.9299999999999999E-2,0.25190000000000001,0.2092,{"$f":"IF(Kalkulator!$B$35=TRUE,0,VLOOKUP(TODAY()+A142,T:V,3,1)/100)","v":0.23}]
[141,0.10009999999999999,9.9000000000000005E-2,9.9000000000000005E-2,9.9000000000000005E-2,0.2515,0.20899999999999999,{"$f":"IF(Kalkulator!$B$35=TRUE,0,VLOOKUP(TODAY()+A143,T:V,3,1)/100)","v":0.23}]
[142,0.10009999999999999,9.8699999999999996E-2,9.8699999999999996E-2,9.8699999999999996E-2,0.251,0.2087,{"$f":"IF(Kalkulator!$B$35=TRUE,0,VLOOKUP(TODAY()+A144,T:V,3,1)/100)","v":0.23}]
[143,0.1002,9.8400000000000001E-2,9.8400000000000001E-2,9.8400000000000001E-2,0.25059999999999999,0.20849999999999999,{"$f":"IF(Kalkulator!$B$35=TRUE,0,VLOOKUP(TODAY()+A145,T:V,3,1)/100)","v":0.23}]
[144,0.1002,9.8100000000000007E-2,9.8100000000000007E-2,9.8100000000000007E-2,0.25009999999999999,0.2082,{"$f":"IF(Kalkulator!$B$35=TRUE,0,VLOOKUP(TODAY()+A146,T:V,3,1)/100)","v":0.23}]
[145,0.1002,9.7900000000000001E-2,9.7900000000000001E-2,9.7900000000000001E-2,0.24970000000000001,0.20799999999999999,{"$f":"IF(Kalkulator!$B$35=TRUE,0,VLOOKUP(TODAY()+A147,T:V,3,1)/100)","v":0.23}]
[146,0.1002,9.7600000000000006E-2,9.7600000000000006E-2,9.7600000000000006E-2,0.2492,0.2077,{"$f":"IF(Kalkulator!$B$35=TRUE,0,VLOOKUP(TODAY()+A148,T:V,3,1)/100)","v":0.23}]
[147,0.1003,9.7299999999999998E-2,9.7299999999999998E-2,9.7299999999999998E-2,0.24879999999999999,0.20749999999999999,{"$f":"IF(Kalkulator!$B$35=TRUE,0,VLOOKUP(TODAY()+A149,T:V,3,1)/100)","v":0.23}]
[148,0.1003,9.7000000000000003E-2,9.7000000000000003E-2,9.7000000000000003E-2,0.24829999999999999,0.2072,{"$f":"IF(Kalkulator!$B$35=TRUE,0,VLOOKUP(TODAY()+A150,T:V,3,1)/100)","v":0.23}]
[149,0.1003,9.6699999999999994E-2,9.6699999999999994E-2,9.6699999999999994E-2,0.24790000000000001,0.20699999999999999,{"$f":"IF(Kalkulator!$B$35=TRUE,0,VLOOKUP(TODAY()+A151,T:V,3,1)/100)","v":0.23}]
[150,0.1004,9.6500000000000002E-2,9.6500000000000002E-2,9.6500000000000002E-2,0.24740000000000001,0.20669999999999999,{"$f":"IF(Kalkulator!$B$35=TRUE,0,VLOOKUP(TODAY()+A152,T:V,3,1)/100)","v":0.23}]
[151,0.1004,9.6199999999999994E-2,9.6199999999999994E-2,9.6199999999999994E-2,0.247,0.20649999999999999,{"$f":"IF(Kalkulator!$B$35=TRUE,0,VLOOKUP(TODAY()+A153,T:V,3,1)/100)","v":0.23}]
[152,0.1004,9.5899999999999999E-2,9.5899999999999999E-2,9.5899999999999999E-2,0.2465,0.20619999999999999,{"$f":"IF(Kalkulator!$B$35=TRUE,0,VLOOKUP(TODAY()+A154,T:V,3,1)/100)","v":0.23}]
[153,0.1004,9.5600000000000004E-2,9.5600000000000004E-2,9.5600000000000004E-2,0.24610000000000001,0.2059,{"$f":"IF(Kalkulator!$B$35=TRUE,0,VLOOKUP(TODAY()+A155,T:V,3,1)/100)","v":0.23}]
[154,0.10050000000000001,9.5299999999999996E-2,9.5299999999999996E-2,9.5299999999999996E-2,0.24560000000000001,0.20569999999999999,{"$f":"IF(Kalkulator!$B$35=TRUE,0,VLOOKUP(TODAY()+A156,T:V,3,1)/100)","v":0.23}]
[155,0.10050000000000001,9.5100000000000004E-2,9.5100000000000004E-2,9.5100000000000004E-2,0.2452,0.2054,{"$f":"IF(Kalkulator!$B$35=TRUE,0,VLOOKUP(TODAY()+A157,T:V,3,1)/100)","v":0.23}]
[156,0.10050000000000001,9.4799999999999995E-2,9.4799999999999995E-2,9.4799999999999995E-2,0.2447,0.20519999999999999,{"$f":"IF(Kalkulator!$B$35=TRUE,0,VLOOKUP(TODAY()+A158,T:V,3,1)/100)","v":0.23}]
[157,0.10050000000000001,9.4500000000000001E-2,9.4500000000000001E-2,9.4500000000000001E-2,0.24429999999999999,0.2049,{"$f":"IF(Kalkulator!$B$35=TRUE,0,VLOOKUP(TODAY()+A159,T:V,3,1)/100)","v":0.23}]
[158,0.10059999999999999,9.4200000000000006E-2,9.4200000000000006E-2,9.4200000000000006E-2,0.24379999999999999,0.20469999999999999,{"$f":"IF(Kalkulator!$B$35=TRUE,0,VLOOKUP(TODAY()+A160,T:V,3,1)/100)","v":0.23}]
[159,0.10059999999999999,9.3899999999999997E-2,9.3899999999999997E-2,9.3899999999999997E-2,0.24340000000000001,0.2044,{"$f":"IF(Kalkulator!$B$35=TRUE,0,VLOOKUP(TODAY()+A161,T:V,3,1)/100)","v":0.23}]
[160,0.10059999999999999,9.3700000000000006E-2,9.3700000000000006E-2,9.3700000000000006E-2,0.2429,0.20419999999999999,{"$f":"IF(Kalkulator!$B$35=TRUE,0,VLOOKUP(TODAY()+A162,T:V,3,1)/100)","v":0.23}]
[161,0.1007,9.3399999999999997E-2,9.3399999999999997E-2,9.3399999999999997E-2,0.24249999999999999,0.2039,{"$f":"IF(Kalkulator!$B$35=TRUE,0,VLOOKUP(TODAY()+A163,T:V,3,1)/100)","v":0.23}]
[162,0.1007,9.3100000000000002E-2,9.3100000000000002E-2,9.3100000000000002E-2,0.24199999999999999,0.20369999999999999,{"$f":"IF(Kalkulator!$B$35=TRUE,0,VLOOKUP(TODAY()+A164,T:V,3,1)/100)","v":0.23}]
[163,0.1007,9.2799999999999994E-2,9.2799999999999994E-2,9.2799999999999994E-2,0.24160000000000001,0.2034,{"$f":"IF(Kalkulator!$B$35=TRUE,0,VLOOKUP(TODAY()+A165,T:V,3,1)/100)","v":0.23}]
[164,0.1007,9.2499999999999999E-2,9.2499999999999999E-2,9.2499999999999999E-2,0.24110000000000001,0.20319999999999999,{"$f":"IF(Kalkulator!$B$35=TRUE,0,VLOOKUP(TODAY()+A166,T:V,3,1)/100)","v":0.23}]
[165,0.1008,9.2299999999999993E-2,9.2299999999999993E-2,9.2299999999999993E-2,0.2407,0.2029,{"$f":"IF(Kalkulator!$B$35=TRUE,0,VLOOKUP(TODAY()+A167,T:V,3,1)/100)","v":0.23}]
[166,0.1008,9.1999999999999998E-2,9.1999999999999998E-2,9.1999999999999998E-2,0.2402,0.20269999999999999,{"$f":"IF(Kalkulator!$B$35=TRUE,0,VLOOKUP(TODAY()+A168,T:V,3,1)/100)","v":0.23}]
[167,0.1008,9.1700000000000004E-2,9.1700000000000004E-2,9.1700000000000004E-2,0.23980000000000001,0.2024,{"$f":"IF(Kalkulator!$B$35=TRUE,0,VLOOKUP(TODAY()+A169,T:V,3,1)/100)","v":0.23}]
[168,0.1009,9.1399999999999995E-2,9.1399999999999995E-2,9.1399999999999995E-2,0.23930000000000001,0.2021,{"$f":"IF(Kalkulator!$B$35=TRUE,0,VLOOKUP(TODAY()+A170,T:V,3,1)/100)","v":0.23}]
[169,0.1009,9.11E-2,9.11E-2,9.11E-2,0.23880000000000001,0.2019,{"$f":"IF(Kalkulator!$B$35=TRUE,0,VLOOKUP(TODAY()+A171,T:V,3,1)/100)","v":0.23}]
[170,0.1009,9.0899999999999995E-2,9.0899999999999995E-2,9.0899999999999995E-2,0.2384,0.2016,{"$f":"IF(Kalkulator!$B$35=TRUE,0,VLOOKUP(TODAY()+A172,T:V,3,1)/100)","v":0.23}]
[171,0.1009,9.06E-2,9.06E-2,9.06E-2,0.2379,0.2014,{"$f":"IF(Kalkulator!$B$35=TRUE,0,VLOOKUP(TODAY()+A173,T:V,3,1)/100)","v":0.23}]
[172,0.10100000000000001,9.0300000000000005E-2,9.0300000000000005E-2,9.0300000000000005E-2,0.23749999999999999,0.2011,{"$f":"IF(Kalkulator!$B$35=TRUE,0,VLOOKUP(TODAY()+A174,T:V,3,1)/100)","v":0.23}]
[173,0.10100000000000001,0.09,0.09,0.09,0.23699999999999999,0.2009,{"$f":"IF(Kalkulator!$B$35=TRUE,0,VLOOKUP(TODAY()+A175,T:V,3,1)/100)","v":0.23}]
[174,0.10100000000000001,8.9700000000000002E-2,8.9700000000000002E-2,8.9700000000000002E-2,0.2366,0.2006,{"$f":"IF(Kalkulator!$B$35=TRUE,0,VLOOKUP(TODAY()+A176,T:V,3,1)/100)","v":0.23}]
[175,0.10100000000000001,8.9499999999999996E-2,8.9499999999999996E-2,8.9499999999999996E-2,0.2361,0.20039999999999999,{"$f":"IF(Kalkulator!$B$35=TRUE,0,VLOOKUP(TODAY()+A177,T:V,3,1)/100)","v":0.23}]
[176,0.1011,8.9200000000000002E-2,8.9200000000000002E-2,8.9200000000000002E-2,0.23569999999999999,0.2001,{"$f":"IF(Kalkulator!$B$35=TRUE,0,VLOOKUP(TODAY()+A178,T:V,3,1)/100)","v":0.23}]
[177,0.1011,8.8900000000000007E-2,8.8900000000000007E-2,8.8900000000000007E-2,0.23519999999999999,0.19989999999999999,{"$f":"IF(Kalkulator!$B$35=TRUE,0,VLOOKUP(TODAY()+A179,T:V,3,1)/100)","v":0.23}]
[178,0.1011,8.8599999999999998E-2,8.8599999999999998E-2,8.8599999999999998E-2,0.23480000000000001,0.1996,{"$f":"IF(Kalkulator!$B$35=TRUE,0,VLOOKUP(TODAY()+A180,T:V,3,1)/100)","v":0.23}]
[179,0.1012,8.8300000000000003E-2,8.8300000000000003E-2,8.8300000000000003E-2,0.23430000000000001,0.19939999999999999,{"$f":"IF(Kalkulator!$B$35=TRUE,0,VLOOKUP(TODAY()+A181,T:V,3,1)/100)","v":0.23}]
[180,0.1012,8.8099999999999998E-2,8.8099999999999998E-2,8.8099999999999998E-2,0.2339,0.1991,{"$f":"IF(Kalkulator!$B$35=TRUE,0,VLOOKUP(TODAY()+A182,T:V,3,1)/100)","v":0.23}]
[181,0.1012,8.7800000000000003E-2,8.7800000000000003E-2,8.7800000000000003E-2,0.2334,0.19889999999999999,{"$f":"IF(Kalkulator!$B$35=TRUE,0,VLOOKUP(TODAY()+A183,T:V,3,1)/100)","v":0.23}]
[182,0.1012,8.7499999999999994E-2,8.7499999999999994E-2,8.7499999999999994E-2,0.23300000000000001,0.1986,{"$f":"IF(Kalkulator!$B$35=TRUE,0,VLOOKUP(TODAY()+A184,T:V,3,1)/100)","v":0.23}]
[183,0.1013,8.72E-2,8.72E-2,8.72E-2,0.23250000000000001,0.19839999999999999,{"$f":"IF(Kalkulator!$B$35=TRUE,0,VLOOKUP(TODAY()+A185,T:V,3,1)/100)","v":0.23}]
[184,0.1013,8.6900000000000005E-2,8.6900000000000005E-2,8.6900000000000005E-2,0.2321,0.1981,{"$f":"IF(Kalkulator!$B$35=TRUE,0,VLOOKUP(TODAY()+A186,T:V,3,1)/100)","v":0.23}]
[185,0.1013,8.6599999999999996E-2,8.6599999999999996E-2,8.6599999999999996E-2,0.2316,0.1978,{"$f":"IF(Kalkulator!$B$35=TRUE,0,VLOOKUP(TODAY()+A187,T:V,3,1)/100)","v":0.23}]
[186,0.1013,8.6400000000000005E-2,8.6400000000000005E-2,8.6400000000000005E-2,0.23119999999999999,0.1976,{"$f":"IF(Kalkulator!$B$35=TRUE,0,VLOOKUP(TODAY()+A188,T:V,3,1)/100)","v":0.23}]
[187,0.1014,8.6099999999999996E-2,8.6099999999999996E-2,8.6099999999999996E-2,0.23069999999999999,0.1973,{"$f":"IF(Kalkulator!$B$35=TRUE,0,VLOOKUP(TODAY()+A189,T:V,3,1)/100)","v":0.23}]
[188,0.1014,8.5800000000000001E-2,8.5800000000000001E-2,8.5800000000000001E-2,0.2303,0.1971,{"$f":"IF(Kalkulator!$B$35=TRUE,0,VLOOKUP(TODAY()+A190,T:V,3,1)/100)","v":0.23}]
[189,0.1014,8.5500000000000007E-2,8.5500000000000007E-2,8.5500000000000007E-2,0.2298,0.1968,{"$f":"IF(Kalkulator!$B$35=TRUE,0,VLOOKUP(TODAY()+A191,T:V,3,1)/100)","v":0.23}]
[190,0.10150000000000001,8.5199999999999998E-2,8.5199999999999998E-2,8.5199999999999998E-2,0.22939999999999999,0.1966,{"$f":"IF(Kalkulator!$B$35=TRUE,0,VLOOKUP(TODAY()+A192,T:V,3,1)/100)","v":0.23}]
[191,0.10150000000000001,8.5000000000000006E-2,8.5000000000000006E-2,8.5000000000000006E-2,0.22889999999999999,0.1963,{"$f":"IF(Kalkulator!$B$35=TRUE,0,VLOOKUP(TODAY()+A193,T:V,3,1)/100)","v":0.23}]
[192,0.10150000000000001,8.4699999999999998E-2,8.4699999999999998E-2,8.4699999999999998E-2,0.22850000000000001,0.1961,{"$f":"IF(Kalkulator!$B$35=TRUE,0,VLOOKUP(TODAY()+A194,T:V,3,1)/100)","v":0.23}]
[193,0.10150000000000001,8.4400000000000003E-2,8.4400000000000003E-2,8.4400000000000003E-2,0.22800000000000001,0.1958,{"$f":"IF(Kalkulator!$B$35=TRUE,0,VLOOKUP(TODAY()+A195,T:V,3,1)/100)","v":0.23}]
[194,0.1016,8.4099999999999994E-2,8.4099999999999994E-2,8.4099999999999994E-2,0.2276,0.1956,{"$f":"IF(Kalkulator!$B$35=TRUE,0,VLOOKUP(TODAY()+A196,T:V,3,1)/100)","v":0.23}]
[195,0.1016,8.3799999999999999E-2,8.3799999999999999E-2,8.3799999999999999E-2,0.2271,0.1953,{"$f":"IF(Kalkulator!$B$35=TRUE,0,VLOOKUP(TODAY()+A197,T:V,3,1)/100)","v":0.23}]
[196,0.1016,8.3599999999999994E-2,8.3599999999999994E-2,8.3599999999999994E-2,0.22670000000000001,0.1951,{"$f":"IF(Kalkulator!$B$35=TRUE,0,VLOOKUP(TODAY()+A198,T:V,3,1)/100)","v":0.23}]
[197,0.1016,8.3299999999999999E-2,8.3299999999999999E-2,8.3299999999999999E-2,0.22620000000000001,0.1948,{"$f":"IF(Kalkulator!$B$35=TRUE,0,VLOOKUP(TODAY()+A199,T:V,3,1)/100)","v":0.23}]
[198,0.1017,8.3000000000000004E-2,8.3000000000000004E-2,8.3000000000000004E-2,0.22570000000000001,0.1946,{"$f":"IF(Kalkulator!$B$35=TRUE,0,VLOOKUP(TODAY()+A200,T:V,3,1)/100)","v":0.23}]
[199,0.1017,8.2699999999999996E-2,8.2699999999999996E-2,8.2699999999999996E-2,0.2253,0.1943,{"$f":"IF(Kalkulator!$B$35=TRUE,0,VLOOKUP(TODAY()+A201,T:V,3,1)/100)","v":0.23}]
[200,0.1017,8.2400000000000001E-2,8.2400000000000001E-2,8.2400000000000001E-2,0.2248,0.19400000000000001,{"$f":"IF(Kalkulator!$B$35=TRUE,0,VLOOKUP(TODAY()+A202,T:V,3,1)/100)","v":0.23}]
[201,0.1018,8.2199999999999995E-2,8.2199999999999995E-2,8.2199999999999995E-2,0.22439999999999999,0.1938,{"$f":"IF(Kalkulator!$B$35=TRUE,0,VLOOKUP(TODAY()+A203,T:V,3,1)/100)","v":0.23}]
[202,0.1018,8.1900000000000001E-2,8.1900000000000001E-2,8.1900000000000001E-2,0.22389999999999999,0.19350000000000001,{"$f":"IF(Kalkulator!$B$35=TRUE,0,VLOOKUP(TODAY()+A204,T:V,3,1)/100)","v":0.23}]
[203,0.1018,8.1600000000000006E-2,8.1600000000000006E-2,8.1600000000000006E-2,0.2235,0.1933,{"$f":"IF(Kalkulator!$B$35=TRUE,0,VLOOKUP(TODAY()+A205,T:V,3,1)/100)","v":0.23}]
[204,0.1018,8.1299999999999997E-2,8.1299999999999997E-2,8.1299999999999997E-2,0.223,0.193,{"$f":"IF(Kalkulator!$B$35=TRUE,0,VLOOKUP(TODAY()+A206,T:V,3,1)/100)","v":0.23}]
[205,0.1019,8.1000000000000003E-2,8.1000000000000003E-2,8.1000000000000003E-2,0.22259999999999999,0.1928,{"$f":"IF(Kalkulator!$B$35=TRUE,0,VLOOKUP(TODAY()+A207,T:V,3,1)/100)","v":0.23}]
[206,0.1019,8.0799999999999997E-2,8.0799999999999997E-2,8.0799999999999997E-2,0.22209999999999999,0.1925,{"$f":"IF(Kalkulator!$B$35=TRUE,0,VLOOKUP(TODAY()+A208,T:V,3,1)/100)","v":0.23}]
[207,0.1019,8.0500000000000002E-2,8.0500000000000002E-2,8.0500000000000002E-2,0.22170000000000001,0.1923,{"$f":"IF(Kalkulator!$B$35=TRUE,0,VLOOKUP(TODAY()+A209,T:V,3,1)/100)","v":0.23}]
[208,0.10199999999999999,8.0199999999999994E-2,8.0199999999999994E-2,8.0199999999999994E-2,0.22120000000000001,0.192,{"$f":"IF(Kalkulator!$B$35=TRUE,0,VLOOKUP(TODAY()+A210,T:V,3,1)/100)","v":0.23}]
[209,0.10199999999999999,7.9899999999999999E-2,7.9899999999999999E-2,7.9899999999999999E-2,0.2208,0.1918,{"$f":"IF(Kalkulator!$B$35=TRUE,0,VLOOKUP(TODAY()+A211,T:V,3,1)/100)","v":0.23}]
[210,0.10199999999999999,7.9600000000000004E-2,7.9600000000000004E-2,7.9600000000000004E-2,0.2203,0.1915,{"$f":"IF(Kalkulator!$B$35=TRUE,0,VLOOKUP(TODAY()+A212,T:V,3,1)/100)","v":0.23}]
[211,0.10199999999999999,7.9399999999999998E-2,7.9399999999999998E-2,7.9399999999999998E-2,0.21990000000000001,0.1913,{"$f":"IF(Kalkulator!$B$35=TRUE,0,VLOOKUP(TODAY()+A213,T:V,3,1)/100)","v":0.23}]
[212,0.1021,7.9100000000000004E-2,7.9100000000000004E-2,7.9100000000000004E-2,0.21940000000000001,0.191,{"$f":"IF(Kalkulator!$B$35=TRUE,0,VLOOKUP(TODAY()+A214,T:V,3,1)/100)","v":0.23}]
[213,0.1021,7.8799999999999995E-2,7.8799999999999995E-2,7.8799999999999995E-2,0.219,0.1908,{"$f":"IF(Kalkulator!$B$35=TRUE,0,VLOOKUP(TODAY()+A215,T:V,3,1)/100)","v":0.23}]
[214,0.1021,7.85E-2,7.85E-2,7.85E-2,0.2185,0.1905,{"$f":"IF(Kalkulator!$B$35=TRUE,0,VLOOKUP(TODAY()+A216,T:V,3,1)/100)","v":0.23}]
[215,0.1021,7.8200000000000006E-2,7.8200000000000006E-2,7.8200000000000006E-2,0.21809999999999999,0.19020000000000001,{"$f":"IF(Kalkulator!$B$35=TRUE,0,VLOOKUP(TODAY()+A217,T:V,3,1)/100)","v":0.23}]
[216,0.1022,7.8E-2,7.8E-2,7.8E-2,0.21759999999999999,0.19,{"$f":"IF(Kalkulator!$B$35=TRUE,0,VLOOKUP(TODAY()+A218,T:V,3,1)/100)","v":0.23}]
[217,0.1022,7.7700000000000005E-2,7.7700000000000005E-2,7.7700000000000005E-2,0.2172,0.18970000000000001,{"$f":"IF(Kalkulator!$B$35=TRUE,0,VLOOKUP(TODAY()+A219,T:V,3,1)/100)","v":0.23}]
[218,0.1022,7.7399999999999997E-2,7.7399999999999997E-2,7.7399999999999997E-2,0.2167,0.1895,{"$f":"IF(Kalkulator!$B$35=TRUE,0,VLOOKUP(TODAY()+A220,T:V,3,1)/100)","v":0.23}]
[219,0.1023,7.7100000000000002E-2,7.7100000000000002E-2,7.7100000000000002E-2,0.21629999999999999,0.18920000000000001,{"$f":"IF(Kalkulator!$B$35=TRUE,0,VLOOKUP(TODAY()+A221,T:V,3,1)/100)","v":0.23}]
[220,0.1023,7.6799999999999993E-2,7.6799999999999993E-2,7.6799999999999993E-2,0.21579999999999999,0.189,{"$f":"IF(Kalkulator!$B$35=TRUE,0,VLOOKUP(TODAY()+A222,T:V,3,1)/100)","v":0.23}]
[221,0.1023,7.6600000000000001E-2,7.6600000000000001E-2,7.6600000000000001E-2,0.21540000000000001,0.18870000000000001,{"$f":"IF(Kalkulator!$B$35=TRUE,0,VLOOKUP(TODAY()+A223,T:V,3,1)/100)","v":0.23}]
[222,0.1023,7.6300000000000007E-2,7.6300000000000007E-2,7.6300000000000007E-2,0.21490000000000001,0.1885,{"$f":"IF(Kalkulator!$B$35=TRUE,0,VLOOKUP(TODAY()+A224,T:V,3,1)/100)","v":0.23}]
[223,0.1024,7.5999999999999998E-2,7.5999999999999998E-2,7.5999999999999998E-2,0.2145,0.18820000000000001,{"$f":"IF(Kalkulator!$B$35=TRUE,0,VLOOKUP(TODAY()+A225,T:V,3,1)/100)","v":0.23}]
[224,0.1024,7.5700000000000003E-2,7.5700000000000003E-2,7.5700000000000003E-2,0.214,0.188,{"$f":"IF(Kalkulator!$B$35=TRUE,0,VLOOKUP(TODAY()+A226,T:V,3,1)/100)","v":0.23}]
[225,0.1024,7.5399999999999995E-2,7.5399999999999995E-2,7.5399999999999995E-2,0.21360000000000001,0.18770000000000001,{"$f":"IF(Kalkulator!$B$35=TRUE,0,VLOOKUP(TODAY()+A227,T:V,3,1)/100)","v":0.23}]
[226,0.1024,7.5200000000000003E-2,7.5200000000000003E-2,7.5200000000000003E-2,0.21310000000000001,0.1875,{"$f":"IF(Kalkulator!$B$35=TRUE,0,VLOOKUP(TODAY()+A228,T:V,3,1)/100)","v":0.23}]
[227,0.10249999999999999,7.4899999999999994E-2,7.4899999999999994E-2,7.4899999999999994E-2,0.2127,0.18720000000000001,{"$f":"IF(Kalkulator!$B$35=TRUE,0,VLOOKUP(TODAY()+A229,T:V,3,1)/100)","v":0.23}]
[228,0.10249999999999999,7.46E-2,7.46E-2,7.46E-2,0.2122,0.187,{"$f":"IF(Kalkulator!$B$35=TRUE,0,VLOOKUP(TODAY()+A230,T:V,3,1)/100)","v":0.23}]
[229,0.1024,7.4700000000000003E-2,7.46E-2,7.46E-2,0.21210000000000001,0.1867,{"$f":"IF(Kalkulator!$B$35=TRUE,0,VLOOKUP(TODAY()+A231,T:V,3,1)/100)","v":0.23}]
[230,0.1023,7.4700000000000003E-2,7.46E-2,7.46E-2,0.21199999999999999,0.1865,{"$f":"IF(Kalkulator!$B$35=TRUE,0,VLOOKUP(TODAY()+A232,T:V,3,1)/100)","v":0.23}]
[231,0.1022,7.4800000000000005E-2,7.46E-2,7.46E-2,0.21190000000000001,0.1862,{"$f":"IF(Kalkulator!$B$35=TRUE,0,VLOOKUP(TODAY()+A233,T:V,3,1)/100)","v":0.23}]
[232,0.1021,7.4899999999999994E-2,7.46E-2,7.46E-2,0.2117,0.186,{"$f":"IF(Kalkulator!$B$35=TRUE,0,VLOOKUP(TODAY()+A234,T:V,3,1)/100)","v":0.23}]
[233,0.10199999999999999,7.4899999999999994E-2,7.46E-2,7.46E-2,0.21160000000000001,0.18579999999999999,{"$f":"IF(Kalkulator!$B$35=TRUE,0,VLOOKUP(TODAY()+A235,T:V,3,1)/100)","v":0.23}]
[234,0.1019,7.4999999999999997E-2,7.46E-2,7.46E-2,0.21149999999999999,0.18559999999999999,{"$f":"IF(Kalkulator!$B$35=TRUE,0,VLOOKUP(TODAY()+A236,T:V,3,1)/100)","v":0.23}]
[235,0.1018,7.4999999999999997E-2,7.46E-2,7.46E-2,0.2114,0.18529999999999999,{"$f":"IF(Kalkulator!$B$35=TRUE,0,VLOOKUP(TODAY()+A237,T:V,3,1)/100)","v":0.23}]
[236,0.1017,7.51E-2,7.46E-2,7.46E-2,0.21129999999999999,0.18509999999999999,{"$f":"IF(Kalkulator!$B$35=TRUE,0,VLOOKUP(TODAY()+A238,T:V,3,1)/100)","v":0.23}]
[237,0.1016,7.5200000000000003E-2,7.46E-2,7.46E-2,0.2112,0.18490000000000001,{"$f":"IF(Kalkulator!$B$35=TRUE,0,VLOOKUP(TODAY()+A239,T:V,3,1)/100)","v":0.23}]
[238,0.1014,7.5200000000000003E-2,7.46E-2,7.46E-2,0.21110000000000001,0.1847,{"$f":"IF(Kalkulator!$B$35=TRUE,0,VLOOKUP(TODAY()+A240,T:V,3,1)/100)","v":0.23}]
[239,0.1013,7.5300000000000006E-2,7.46E-2,7.46E-2,0.21099999999999999,0.18440000000000001,{"$f":"IF(Kalkulator!$B$35=TRUE,0,VLOOKUP(TODAY()+A241,T:V,3,1)/100)","v":0.23}]
[240,0.1012,7.5399999999999995E-2,7.46E-2,7.46E-2,0.21079999999999999,0.1842,{"$f":"IF(Kalkulator!$B$35=TRUE,0,VLOOKUP(TODAY()+A242,T:V,3,1)/100)","v":0.23}]
[241,0.1011,7.5399999999999995E-2,7.46E-2,7.46E-2,0.2107,0.184,{"$f":"IF(Kalkulator!$B$35=TRUE,0,VLOOKUP(TODAY()+A243,T:V,3,1)/100)","v":0.23}]
[242,0.10100000000000001,7.5499999999999998E-2,7.46E-2,7.46E-2,0.21060000000000001,0.18379999999999999,{"$f":"IF(Kalkulator!$B$35=TRUE,0,VLOOKUP(TODAY()+A244,T:V,3,1)/100)","v":0.23}]
[243,0.1009,7.5600000000000001E-2,7.46E-2,7.46E-2,0.21049999999999999,0.1835,{"$f":"IF(Kalkulator!$B$35=TRUE,0,VLOOKUP(TODAY()+A245,T:V,3,1)/100)","v":0.23}]
[244,0.1008,7.5600000000000001E-2,7.46E-2,7.46E-2,0.2104,0.18329999999999999,{"$f":"IF(Kalkulator!$B$35=TRUE,0,VLOOKUP(TODAY()+A246,T:V,3,1)/100)","v":0.23}]
[245,0.1007,7.5700000000000003E-2,7.46E-2,7.46E-2,0.21029999999999999,0.18310000000000001,{"$f":"IF(Kalkulator!$B$35=TRUE,0,VLOOKUP(TODAY()+A247,T:V,3,1)/100)","v":0.23}]
[246,0.10059999999999999,7.5800000000000006E-2,7.46E-2,7.46E-2,0.2102,0.18290000000000001,{"$f":"IF(Kalkulator!$B$35=TRUE,0,VLOOKUP(TODAY()+A248,T:V,3,1)/100)","v":0.23}]
[247,0.10050000000000001,7.5800000000000006E-2,7.46E-2,7.46E-2,0.21,0.18260000000000001,{"$f":"IF(Kalkulator!$B$35=TRUE,0,VLOOKUP(TODAY()+A249,T:V,3,1)/100)","v":0.23}]
[248,0.1004,7.5899999999999995E-2,7.46E-2,7.46E-2,0.2099,0.18240000000000001,{"$f":"IF(Kalkulator!$B$35=TRUE,0,VLOOKUP(TODAY()+A250,T:V,3,1)/100)","v":0.23}]
[249,0.1003,7.5899999999999995E-2,7.46E-2,7.46E-2,0.20979999999999999,0.1822,{"$f":"IF(Kalkulator!$B$35=TRUE,0,VLOOKUP(TODAY()+A251,T:V,3,1)/100)","v":0.23}]
[250,0.1002,7.5999999999999998E-2,7.46E-2,7.46E-2,0.2097,0.182,{"$f":"IF(Kalkulator!$B$35=TRUE,0,VLOOKUP(TODAY()+A252,T:V,3,1)/100)","v":0.23}]
[251,0.10009999999999999,7.6100000000000001E-2,7.46E-2,7.46E-2,0.20960000000000001,0.1817,{"$f":"IF(Kalkulator!$B$35=TRUE,0,VLOOKUP(TODAY()+A253,T:V,3,1)/100)","v":0.23}]
[252,0.1,7.6100000000000001E-2,7.46E-2,7.46E-2,0.20949999999999999,0.18149999999999999,{"$f":"IF(Kalkulator!$B$35=TRUE,0,VLOOKUP(TODAY()+A254,T:V,3,1)/100)","v":0.23}]
[253,9.9900000000000003E-2,7.6200000000000004E-2,7.46E-2,7.46E-2,0.2094,0.18129999999999999,{"$f":"IF(Kalkulator!$B$35=TRUE,0,VLOOKUP(TODAY()+A255,T:V,3,1)/100)","v":0.23}]
[254,9.98E-2,7.6300000000000007E-2,7.46E-2,7.46E-2,0.20930000000000001,0.18110000000000001,{"$f":"IF(Kalkulator!$B$35=TRUE,0,VLOOKUP(TODAY()+A256,T:V,3,1)/100)","v":0.23}]
[255,9.9699999999999997E-2,7.6300000000000007E-2,7.46E-2,7.46E-2,0.20910000000000001,0.18079999999999999,{"$f":"IF(Kalkulator!$B$35=TRUE,0,VLOOKUP(TODAY()+A257,T:V,3,1)/100)","v":0.23}]
[256,9.9500000000000005E-2,7.6399999999999996E-2,7.46E-2,7.46E-2,0.20899999999999999,0.18060000000000001,{"$f":"IF(Kalkulator!$B$35=TRUE,0,VLOOKUP(TODAY()+A258,T:V,3,1)/100)","v":0.23}]
[257,9.9400000000000002E-2,7.6499999999999999E-2,7.46E-2,7.46E-2,0.2089,0.1804,{"$f":"IF(Kalkulator!$B$35=TRUE,0,VLOOKUP(TODAY()+A259,T:V,3,1)/100)","v":0.23}]
[258,9.9299999999999999E-2,7.6499999999999999E-2,7.46E-2,7.46E-2,0.20880000000000001,0.1802,{"$f":"IF(Kalkulator!$B$35=TRUE,0,VLOOKUP(TODAY()+A260,T:V,3,1)/100)","v":0.23}]
[259,9.9199999999999997E-2,7.6600000000000001E-2,7.46E-2,7.46E-2,0.2087,0.1799,{"$f":"IF(Kalkulator!$B$35=TRUE,0,VLOOKUP(TODAY()+A261,T:V,3,1)/100)","v":0.23}]
[260,9.9099999999999994E-2,7.6600000000000001E-2,7.46E-2,7.46E-2,0.20860000000000001,0.1797,{"$f":"IF(Kalkulator!$B$35=TRUE,0,VLOOKUP(TODAY()+A262,T:V,3,1)/100)","v":0.23}]
[261,9.9000000000000005E-2,7.6700000000000004E-2,7.46E-2,7.46E-2,0.20849999999999999,0.17949999999999999,{"$f":"IF(Kalkulator!$B$35=TRUE,0,VLOOKUP(TODAY()+A263,T:V,3,1)/100)","v":0.23}]
[262,9.8900000000000002E-2,7.6799999999999993E-2,7.46E-2,7.46E-2,0.20830000000000001,0.17929999999999999,{"$f":"IF(Kalkulator!$B$35=TRUE,0,VLOOKUP(TODAY()+A264,T:V,3,1)/100)","v":0.23}]
[263,9.8799999999999999E-2,7.6799999999999993E-2,7.46E-2,7.46E-2,0.2082,0.17899999999999999,{"$f":"IF(Kalkulator!$B$35=TRUE,0,VLOOKUP(TODAY()+A265,T:V,3,1)/100)","v":0.23}]
[264,9.8699999999999996E-2,7.6899999999999996E-2,7.46E-2,7.46E-2,0.20810000000000001,0.17879999999999999,{"$f":"IF(Kalkulator!$B$35=TRUE,0,VLOOKUP(TODAY()+A266,T:V,3,1)/100)","v":0.23}]
[265,9.8599999999999993E-2,7.6999999999999999E-2,7.46E-2,7.46E-2,0.20799999999999999,0.17860000000000001,{"$f":"IF(Kalkulator!$B$35=TRUE,0,VLOOKUP(TODAY()+A267,T:V,3,1)/100)","v":0.23}]
[266,9.8500000000000004E-2,7.6999999999999999E-2,7.46E-2,7.46E-2,0.2079,0.1784,{"$f":"IF(Kalkulator!$B$35=TRUE,0,VLOOKUP(TODAY()+A268,T:V,3,1)/100)","v":0.23}]
[267,9.8400000000000001E-2,7.7100000000000002E-2,7.46E-2,7.46E-2,0.20780000000000001,0.17810000000000001,{"$f":"IF(Kalkulator!$B$35=TRUE,0,VLOOKUP(TODAY()+A269,T:V,3,1)/100)","v":0.23}]
[268,9.8299999999999998E-2,7.7200000000000005E-2,7.46E-2,7.46E-2,0.2077,0.1779,{"$f":"IF(Kalkulator!$B$35=TRUE,0,VLOOKUP(TODAY()+A270,T:V,3,1)/100)","v":0.23}]
[269,9.8199999999999996E-2,7.7200000000000005E-2,7.46E-2,7.46E-2,0.20749999999999999,0.1777,{"$f":"IF(Kalkulator!$B$35=TRUE,0,VLOOKUP(TODAY()+A271,T:V,3,1)/100)","v":0.23}]
[270,9.8100000000000007E-2,7.7299999999999994E-2,7.46E-2,7.46E-2,0.2074,0.17749999999999999,{"$f":"IF(Kalkulator!$B$35=TRUE,0,VLOOKUP(TODAY()+A272,T:V,3,1)/100)","v":0.23}]
[271,9.8000000000000004E-2,7.7399999999999997E-2,7.46E-2,7.46E-2,0.20730000000000001,0.1772,{"$f":"IF(Kalkulator!$B$35=TRUE,0,VLOOKUP(TODAY()+A273,T:V,3,1)/100)","v":0.23}]
[272,9.7900000000000001E-2,7.7399999999999997E-2,7.46E-2,7.46E-2,0.2072,0.17699999999999999,{"$f":"IF(Kalkulator!$B$35=TRUE,0,VLOOKUP(TODAY()+A274,T:V,3,1)/100)","v":0.23}]
[273,9.7799999999999998E-2,7.7499999999999999E-2,7.46E-2,7.46E-2,0.20710000000000001,0.17680000000000001,{"$f":"IF(Kalkulator!$B$35=TRUE,0,VLOOKUP(TODAY()+A275,T:V,3,1)/100)","v":0.23}]
[274,9.7600000000000006E-2,7.7499999999999999E-2,7.46E-2,7.46E-2,0.20699999999999999,0.17660000000000001,{"$f":"IF(Kalkulator!$B$35=TRUE,0,VLOOKUP(TODAY()+A276,T:V,3,1)/100)","v":0.23}]
[275,9.7500000000000003E-2,7.7600000000000002E-2,7.46E-2,7.46E-2,0.2069,0.17630000000000001,{"$f":"IF(Kalkulator!$B$35=TRUE,0,VLOOKUP(TODAY()+A277,T:V,3,1)/100)","v":0.23}]
[276,9.74E-2,7.7700000000000005E-2,7.46E-2,7.46E-2,0.20680000000000001,0.17610000000000001,{"$f":"IF(Kalkulator!$B$35=TRUE,0,VLOOKUP(TODAY()+A278,T:V,3,1)/100)","v":0.23}]
[277,9.7299999999999998E-2,7.7700000000000005E-2,7.46E-2,7.46E-2,0.20660000000000001,0.1759,{"$f":"IF(Kalkulator!$B$35=TRUE,0,VLOOKUP(TODAY()+A279,T:V,3,1)/100)","v":0.23}]
[278,9.7199999999999995E-2,7.7799999999999994E-2,7.46E-2,7.46E-2,0.20649999999999999,0.1757,{"$f":"IF(Kalkulator!$B$35=TRUE,0,VLOOKUP(TODAY()+A280,T:V,3,1)/100)","v":0.23}]
[279,9.7100000000000006E-2,7.7899999999999997E-2,7.46E-2,7.46E-2,0.2064,0.1754,{"$f":"IF(Kalkulator!$B$35=TRUE,0,VLOOKUP(TODAY()+A281,T:V,3,1)/100)","v":0.23}]
[280,9.7000000000000003E-2,7.7899999999999997E-2,7.46E-2,7.46E-2,0.20630000000000001,0.17519999999999999,{"$f":"IF(Kalkulator!$B$35=TRUE,0,VLOOKUP(TODAY()+A282,T:V,3,1)/100)","v":0.23}]
[281,9.69E-2,7.8E-2,7.46E-2,7.46E-2,0.20619999999999999,0.17499999999999999,{"$f":"IF(Kalkulator!$B$35=TRUE,0,VLOOKUP(TODAY()+A283,T:V,3,1)/100)","v":0.23}]
[282,9.6799999999999997E-2,7.8100000000000003E-2,7.46E-2,7.46E-2,0.20610000000000001,0.17480000000000001,{"$f":"IF(Kalkulator!$B$35=TRUE,0,VLOOKUP(TODAY()+A284,T:V,3,1)/100)","v":0.23}]
[283,9.6699999999999994E-2,7.8100000000000003E-2,7.46E-2,7.46E-2,0.20599999999999999,0.17449999999999999,{"$f":"IF(Kalkulator!$B$35=TRUE,0,VLOOKUP(TODAY()+A285,T:V,3,1)/100)","v":0.23}]
[284,9.6600000000000005E-2,7.8200000000000006E-2,7.46E-2,7.46E-2,0.20580000000000001,0.17430000000000001,{"$f":"IF(Kalkulator!$B$35=TRUE,0,VLOOKUP(TODAY()+A286,T:V,3,1)/100)","v":0.23}]
[285,9.6500000000000002E-2,7.8299999999999995E-2,7.46E-2,7.46E-2,0.20569999999999999,0.1741,{"$f":"IF(Kalkulator!$B$35=TRUE,0,VLOOKUP(TODAY()+A287,T:V,3,1)/100)","v":0.23}]
[286,9.64E-2,7.8299999999999995E-2,7.46E-2,7.46E-2,0.2056,0.1739,{"$f":"IF(Kalkulator!$B$35=TRUE,0,VLOOKUP(TODAY()+A288,T:V,3,1)/100)","v":0.23}]
[287,9.6299999999999997E-2,7.8399999999999997E-2,7.46E-2,7.46E-2,0.20549999999999999,0.1736,{"$f":"IF(Kalkulator!$B$35=TRUE,0,VLOOKUP(TODAY()+A289,T:V,3,1)/100)","v":0.23}]
[288,9.6199999999999994E-2,7.8399999999999997E-2,7.46E-2,7.46E-2,0.2054,0.1734,{"$f":"IF(Kalkulator!$B$35=TRUE,0,VLOOKUP(TODAY()+A290,T:V,3,1)/100)","v":0.23}]
[289,9.6100000000000005E-2,7.85E-2,7.46E-2,7.46E-2,0.20530000000000001,0.17319999999999999,{"$f":"IF(Kalkulator!$B$35=TRUE,0,VLOOKUP(TODAY()+A291,T:V,3,1)/100)","v":0.23}]
[290,9.6000000000000002E-2,7.8600000000000003E-2,7.46E-2,7.46E-2,0.20519999999999999,0.17299999999999999,{"$f":"IF(Kalkulator!$B$35=TRUE,0,VLOOKUP(TODAY()+A292,T:V,3,1)/100)","v":0.23}]
[291,9.5899999999999999E-2,7.8600000000000003E-2,7.46E-2,7.46E-2,0.2051,0.17269999999999999,{"$f":"IF(Kalkulator!$B$35=TRUE,0,VLOOKUP(TODAY()+A293,T:V,3,1)/100)","v":0.23}]
[292,9.5799999999999996E-2,7.8700000000000006E-2,7.46E-2,7.46E-2,0.2049,0.17249999999999999,{"$f":"IF(Kalkulator!$B$35=TRUE,0,VLOOKUP(TODAY()+A294,T:V,3,1)/100)","v":0.23}]
[293,9.5600000000000004E-2,7.8799999999999995E-2,7.46E-2,7.46E-2,0.20480000000000001,0.17230000000000001,{"$f":"IF(Kalkulator!$B$35=TRUE,0,VLOOKUP(TODAY()+A295,T:V,3,1)/100)","v":0.23}]
[294,9.5500000000000002E-2,7.8799999999999995E-2,7.46E-2,7.46E-2,0.20469999999999999,0.1721,{"$f":"IF(Kalkulator!$B$35=TRUE,0,VLOOKUP(TODAY()+A296,T:V,3,1)/100)","v":0.23}]
[295,9.5399999999999999E-2,7.8899999999999998E-2,7.46E-2,7.46E-2,0.2046,0.17180000000000001,{"$f":"IF(Kalkulator!$B$35=TRUE,0,VLOOKUP(TODAY()+A297,T:V,3,1)/100)","v":0.23}]
[296,9.5299999999999996E-2,7.9000000000000001E-2,7.46E-2,7.46E-2,0.20449999999999999,0.1716,{"$f":"IF(Kalkulator!$B$35=TRUE,0,VLOOKUP(TODAY()+A298,T:V,3,1)/100)","v":0.23}]
[297,9.5200000000000007E-2,7.9000000000000001E-2,7.46E-2,7.46E-2,0.2044,0.1714,{"$f":"IF(Kalkulator!$B$35=TRUE,0,VLOOKUP(TODAY()+A299,T:V,3,1)/100)","v":0.23}]
[298,9.5100000000000004E-2,7.9100000000000004E-2,7.46E-2,7.46E-2,0.20430000000000001,0.17119999999999999,{"$f":"IF(Kalkulator!$B$35=TRUE,0,VLOOKUP(TODAY()+A300,T:V,3,1)/100)","v":0.23}]
[299,9.5000000000000001E-2,7.9100000000000004E-2,7.46E-2,7.46E-2,0.2041,0.1709,{"$f":"IF(Kalkulator!$B$35=TRUE,0,VLOOKUP(TODAY()+A301,T:V,3,1)/100)","v":0.23}]
[300,9.4899999999999998E-2,7.9200000000000007E-2,7.46E-2,7.46E-2,0.20399999999999999,0.17069999999999999,{"$f":"IF(Kalkulator!$B$35=TRUE,0,VLOOKUP(TODAY()+A302,T:V,3,1)/100)","v":0.23}]
[301,9.4799999999999995E-2,7.9299999999999995E-2,7.46E-2,7.46E-2,0.2039,0.17050000000000001,{"$f":"IF(Kalkulator!$B$35=TRUE,0,VLOOKUP(TODAY()+A303,T:V,3,1)/100)","v":0.23}]
[302,9.4700000000000006E-2,7.9299999999999995E-2,7.46E-2,7.46E-2,0.20380000000000001,0.17030000000000001,{"$f":"IF(Kalkulator!$B$35=TRUE,0,VLOOKUP(TODAY()+A304,T:V,3,1)/100)","v":0.23}]
[303,9.4600000000000004E-2,7.9399999999999998E-2,7.46E-2,7.46E-2,0.20369999999999999,0.17,{"$f":"IF(Kalkulator!$B$35=TRUE,0,VLOOKUP(TODAY()+A305,T:V,3,1)/100)","v":0.23}]
[304,9.4500000000000001E-2,7.9500000000000001E-2,7.46E-2,7.46E-2,0.2036,0.16980000000000001,{"$f":"IF(Kalkulator!$B$35=TRUE,0,VLOOKUP(TODAY()+A306,T:V,3,1)/100)","v":0.23}]
[305,9.4399999999999998E-2,7.9500000000000001E-2,7.46E-2,7.46E-2,0.20349999999999999,0.1696,{"$f":"IF(Kalkulator!$B$35=TRUE,0,VLOOKUP(TODAY()+A307,T:V,3,1)/100)","v":0.23}]
[306,9.4299999999999995E-2,7.9600000000000004E-2,7.46E-2,7.46E-2,0.2034,0.1694,{"$f":"IF(Kalkulator!$B$35=TRUE,0,VLOOKUP(TODAY()+A308,T:V,3,1)/100)","v":0.23}]
[307,9.4200000000000006E-2,7.9699999999999993E-2,7.46E-2,7.46E-2,0.20319999999999999,0.1691,{"$f":"IF(Kalkulator!$B$35=TRUE,0,VLOOKUP(TODAY()+A309,T:V,3,1)/100)","v":0.23}]
[308,9.4100000000000003E-2,7.9699999999999993E-2,7.46E-2,7.46E-2,0.2031,0.16889999999999999,{"$f":"IF(Kalkulator!$B$35=TRUE,0,VLOOKUP(TODAY()+A310,T:V,3,1)/100)","v":0.23}]
[309,9.4E-2,7.9799999999999996E-2,7.46E-2,7.46E-2,0.20300000000000001,0.16869999999999999,{"$f":"IF(Kalkulator!$B$35=TRUE,0,VLOOKUP(TODAY()+A311,T:V,3,1)/100)","v":0.23}]
[310,9.3899999999999997E-2,7.9899999999999999E-2,7.46E-2,7.46E-2,0.2029,0.16850000000000001,{"$f":"IF(Kalkulator!$B$35=TRUE,0,VLOOKUP(TODAY()+A312,T:V,3,1)/100)","v":0.23}]
[311,9.3700000000000006E-2,7.9899999999999999E-2,7.46E-2,7.46E-2,0.20280000000000001,0.16819999999999999,{"$f":"IF(Kalkulator!$B$35=TRUE,0,VLOOKUP(TODAY()+A313,T:V,3,1)/100)","v":0.23}]
[312,9.3600000000000003E-2,0.08,7.46E-2,7.46E-2,0.20269999999999999,0.16800000000000001,{"$f":"IF(Kalkulator!$B$35=TRUE,0,VLOOKUP(TODAY()+A314,T:V,3,1)/100)","v":0.23}]
[313,9.35E-2,0.08,7.46E-2,7.46E-2,0.2026,0.1678,{"$f":"IF(Kalkulator!$B$35=TRUE,0,VLOOKUP(TODAY()+A315,T:V,3,1)/100)","v":0.23}]
[314,9.3399999999999997E-2,8.0100000000000005E-2,7.46E-2,7.46E-2,0.2024,0.1676,{"$f":"IF(Kalkulator!$B$35=TRUE,0,VLOOKUP(TODAY()+A316,T:V,3,1)/100)","v":0.23}]
[315,9.3299999999999994E-2,8.0199999999999994E-2,7.46E-2,7.46E-2,0.20230000000000001,0.1673,{"$f":"IF(Kalkulator!$B$35=TRUE,0,VLOOKUP(TODAY()+A317,T:V,3,1)/100)","v":0.23}]
[316,9.3200000000000005E-2,8.0199999999999994E-2,7.46E-2,7.46E-2,0.20219999999999999,0.1671,{"$f":"IF(Kalkulator!$B$35=TRUE,0,VLOOKUP(TODAY()+A318,T:V,3,1)/100)","v":0.23}]
[317,9.3100000000000002E-2,8.0299999999999996E-2,7.46E-2,7.46E-2,0.2021,0.16689999999999999,{"$f":"IF(Kalkulator!$B$35=TRUE,0,VLOOKUP(TODAY()+A319,T:V,3,1)/100)","v":0.23}]
[318,9.2999999999999999E-2,8.0399999999999999E-2,7.46E-2,7.46E-2,0.20200000000000001,0.16669999999999999,{"$f":"IF(Kalkulator!$B$35=TRUE,0,VLOOKUP(TODAY()+A320,T:V,3,1)/100)","v":0.23}]
[319,9.2899999999999996E-2,8.0399999999999999E-2,7.46E-2,7.46E-2,0.2019,0.16639999999999999,{"$f":"IF(Kalkulator!$B$35=TRUE,0,VLOOKUP(TODAY()+A321,T:V,3,1)/100)","v":0.23}]
[320,9.2799999999999994E-2,8.0500000000000002E-2,7.46E-2,7.46E-2,0.20180000000000001,0.16619999999999999,{"$f":"IF(Kalkulator!$B$35=TRUE,0,VLOOKUP(TODAY()+A322,T:V,3,1)/100)","v":0.23}]
[321,9.2899999999999996E-2,8.0600000000000005E-2,7.46E-2,7.46E-2,0.20169999999999999,0.16639999999999999,{"$f":"IF(Kalkulator!$B$35=TRUE,0,VLOOKUP(TODAY()+A323,T:V,3,1)/100)","v":0.23}]
[322,9.2999999999999999E-2,8.0600000000000005E-2,7.46E-2,7.46E-2,0.20150000000000001,0.1666,{"$f":"IF(Kalkulator!$B$35=TRUE,0,VLOOKUP(TODAY()+A324,T:V,3,1)/100)","v":0.23}]
[323,9.3100000000000002E-2,8.0699999999999994E-2,7.46E-2,7.46E-2,0.2014,0.1668,{"$f":"IF(Kalkulator!$B$35=TRUE,0,VLOOKUP(TODAY()+A325,T:V,3,1)/100)","v":0.23}]
[324,9.3200000000000005E-2,8.0799999999999997E-2,7.46E-2,7.46E-2,0.20130000000000001,0.1671,{"$f":"IF(Kalkulator!$B$35=TRUE,0,VLOOKUP(TODAY()+A326,T:V,3,1)/100)","v":0.23}]
[325,9.3299999999999994E-2,8.0799999999999997E-2,7.46E-2,7.46E-2,0.20119999999999999,0.1673,{"$f":"IF(Kalkulator!$B$35=TRUE,0,VLOOKUP(TODAY()+A327,T:V,3,1)/100)","v":0.23}]
[326,9.3399999999999997E-2,8.09E-2,7.46E-2,7.46E-2,0.2011,0.16750000000000001,{"$f":"IF(Kalkulator!$B$35=TRUE,0,VLOOKUP(TODAY()+A328,T:V,3,1)/100)","v":0.23}]
[327,9.35E-2,8.09E-2,7.46E-2,7.46E-2,0.20100000000000001,0.16769999999999999,{"$f":"IF(Kalkulator!$B$35=TRUE,0,VLOOKUP(TODAY()+A329,T:V,3,1)/100)","v":0.23}]
[328,9.3700000000000006E-2,8.1000000000000003E-2,7.46E-2,7.46E-2,0.2009,0.16789999999999999,{"$f":"IF(Kalkulator!$B$35=TRUE,0,VLOOKUP(TODAY()+A330,T:V,3,1)/100)","v":0.23}]
[329,9.3799999999999994E-2,8.1100000000000005E-2,7.46E-2,7.46E-2,0.20069999999999999,0.1681,{"$f":"IF(Kalkulator!$B$35=TRUE,0,VLOOKUP(TODAY()+A331,T:V,3,1)/100)","v":0.23}]
[330,9.3899999999999997E-2,8.1100000000000005E-2,7.46E-2,7.46E-2,0.2006,0.16830000000000001,{"$f":"IF(Kalkulator!$B$35=TRUE,0,VLOOKUP(TODAY()+A332,T:V,3,1)/100)","v":0.23}]
[331,9.4E-2,8.1199999999999994E-2,7.46E-2,7.46E-2,0.20050000000000001,0.16850000000000001,{"$f":"IF(Kalkulator!$B$35=TRUE,0,VLOOKUP(TODAY()+A333,T:V,3,1)/100)","v":0.23}]
[332,9.4100000000000003E-2,8.1299999999999997E-2,7.46E-2,7.46E-2,0.20039999999999999,0.16880000000000001,{"$f":"IF(Kalkulator!$B$35=TRUE,0,VLOOKUP(TODAY()+A334,T:V,3,1)/100)","v":0.23}]
[333,9.4200000000000006E-2,8.1299999999999997E-2,7.46E-2,7.46E-2,0.20030000000000001,0.16900000000000001,{"$f":"IF(Kalkulator!$B$35=TRUE,0,VLOOKUP(TODAY()+A335,T:V,3,1)/100)","v":0.23}]
[334,9.4299999999999995E-2,8.14E-2,7.46E-2,7.46E-2,0.20019999999999999,0.16919999999999999,{"$f":"IF(Kalkulator!$B$35=TRUE,0,VLOOKUP(TODAY()+A336,T:V,3,1)/100)","v":0.23}]
[335,9.4399999999999998E-2,8.1500000000000003E-2,7.46E-2,7.46E-2,0.2001,0.1694,{"$f":"IF(Kalkulator!$B$35=TRUE,0,VLOOKUP(TODAY()+A337,T:V,3,1)/100)","v":0.23}]
[336,9.4500000000000001E-2,8.1500000000000003E-2,7.46E-2,7.46E-2,0.19989999999999999,0.1696,{"$f":"IF(Kalkulator!$B$35=TRUE,0,VLOOKUP(TODAY()+A338,T:V,3,1)/100)","v":0.23}]
[337,9.4600000000000004E-2,8.1600000000000006E-2,7.46E-2,7.46E-2,0.19980000000000001,0.16980000000000001,{"$f":"IF(Kalkulator!$B$35=TRUE,0,VLOOKUP(TODAY()+A339,T:V,3,1)/100)","v":0.23}]
[338,9.4700000000000006E-2,8.1600000000000006E-2,7.46E-2,7.46E-2,0.19969999999999999,0.17,{"$f":"IF(Kalkulator!$B$35=TRUE,0,VLOOKUP(TODAY()+A340,T:V,3,1)/100)","v":0.23}]
[339,9.4799999999999995E-2,8.1699999999999995E-2,7.46E-2,7.46E-2,0.1996,0.17019999999999999,{"$f":"IF(Kalkulator!$B$35=TRUE,0,VLOOKUP(TODAY()+A341,T:V,3,1)/100)","v":0.23}]
[340,9.4899999999999998E-2,8.1799999999999998E-2,7.46E-2,7.46E-2,0.19950000000000001,0.17050000000000001,{"$f":"IF(Kalkulator!$B$35=TRUE,0,VLOOKUP(TODAY()+A342,T:V,3,1)/100)","v":0.23}]
[341,9.5000000000000001E-2,8.1799999999999998E-2,7.46E-2,7.46E-2,0.19939999999999999,0.17069999999999999,{"$f":"IF(Kalkulator!$B$35=TRUE,0,VLOOKUP(TODAY()+A343,T:V,3,1)/100)","v":0.23}]
[342,9.5100000000000004E-2,8.1900000000000001E-2,7.46E-2,7.46E-2,0.1993,0.1709,{"$f":"IF(Kalkulator!$B$35=TRUE,0,VLOOKUP(TODAY()+A344,T:V,3,1)/100)","v":0.23}]
[343,9.5299999999999996E-2,8.2000000000000003E-2,7.46E-2,7.46E-2,0.19919999999999999,0.1711,{"$f":"IF(Kalkulator!$B$35=TRUE,0,VLOOKUP(TODAY()+A345,T:V,3,1)/100)","v":0.23}]
[344,9.5399999999999999E-2,8.2000000000000003E-2,7.46E-2,7.46E-2,0.19900000000000001,0.17130000000000001,{"$f":"IF(Kalkulator!$B$35=TRUE,0,VLOOKUP(TODAY()+A346,T:V,3,1)/100)","v":0.23}]
[345,9.5500000000000002E-2,8.2100000000000006E-2,7.46E-2,7.46E-2,0.19889999999999999,0.17150000000000001,{"$f":"IF(Kalkulator!$B$35=TRUE,0,VLOOKUP(TODAY()+A347,T:V,3,1)/100)","v":0.23}]
[346,9.5600000000000004E-2,8.2199999999999995E-2,7.46E-2,7.46E-2,0.1988,0.17169999999999999,{"$f":"IF(Kalkulator!$B$35=TRUE,0,VLOOKUP(TODAY()+A348,T:V,3,1)/100)","v":0.23}]
[347,9.5699999999999993E-2,8.2199999999999995E-2,7.46E-2,7.46E-2,0.19869999999999999,0.17199999999999999,{"$f":"IF(Kalkulator!$B$35=TRUE,0,VLOOKUP(TODAY()+A349,T:V,3,1)/100)","v":0.23}]
[348,9.5799999999999996E-2,8.2299999999999998E-2,7.46E-2,7.46E-2,0.1986,0.17219999999999999,{"$f":"IF(Kalkulator!$B$35=TRUE,0,VLOOKUP(TODAY()+A350,T:V,3,1)/100)","v":0.23}]
[349,9.5899999999999999E-2,8.2400000000000001E-2,7.46E-2,7.46E-2,0.19850000000000001,0.1724,{"$f":"IF(Kalkulator!$B$35=TRUE,0,VLOOKUP(TODAY()+A351,T:V,3,1)/100)","v":0.23}]
[350,9.6000000000000002E-2,8.2400000000000001E-2,7.46E-2,7.46E-2,0.19839999999999999,0.1726,{"$f":"IF(Kalkulator!$B$35=TRUE,0,VLOOKUP(TODAY()+A352,T:V,3,1)/100)","v":0.23}]
[351,9.6100000000000005E-2,8.2500000000000004E-2,7.46E-2,7.46E-2,0.19819999999999999,0.17280000000000001,{"$f":"IF(Kalkulator!$B$35=TRUE,0,VLOOKUP(TODAY()+A353,T:V,3,1)/100)","v":0.23}]
[352,9.6199999999999994E-2,8.2500000000000004E-2,7.46E-2,7.46E-2,0.1981,0.17299999999999999,{"$f":"IF(Kalkulator!$B$35=TRUE,0,VLOOKUP(TODAY()+A354,T:V,3,1)/100)","v":0.23}]
[353,9.6299999999999997E-2,8.2600000000000007E-2,7.46E-2,7.46E-2,0.19800000000000001,0.17319999999999999,{"$f":"IF(Kalkulator!$B$35=TRUE,0,VLOOKUP(TODAY()+A355,T:V,3,1)/100)","v":0.23}]
[354,9.64E-2,8.2699999999999996E-2,7.46E-2,7.46E-2,0.19789999999999999,0.1734,{"$f":"IF(Kalkulator!$B$35=TRUE,0,VLOOKUP(TODAY()+A356,T:V,3,1)/100)","v":0.23}]
[355,9.6500000000000002E-2,8.2699999999999996E-2,7.46E-2,7.46E-2,0.1978,0.17369999999999999,{"$f":"IF(Kalkulator!$B$35=TRUE,0,VLOOKUP(TODAY()+A357,T:V,3,1)/100)","v":0.23}]
[356,9.6600000000000005E-2,8.2799999999999999E-2,7.46E-2,7.46E-2,0.19769999999999999,0.1739,{"$f":"IF(Kalkulator!$B$35=TRUE,0,VLOOKUP(TODAY()+A358,T:V,3,1)/100)","v":0.23}]
[357,9.6699999999999994E-2,8.2900000000000001E-2,7.46E-2,7.46E-2,0.1976,0.1741,{"$f":"IF(Kalkulator!$B$35=TRUE,0,VLOOKUP(TODAY()+A359,T:V,3,1)/100)","v":0.23}]
[358,9.69E-2,8.2900000000000001E-2,7.46E-2,7.46E-2,0.19750000000000001,0.17430000000000001,{"$f":"IF(Kalkulator!$B$35=TRUE,0,VLOOKUP(TODAY()+A360,T:V,3,1)/100)","v":0.23}]
[359,9.7000000000000003E-2,8.3000000000000004E-2,7.46E-2,7.46E-2,0.1973,0.17449999999999999,{"$f":"IF(Kalkulator!$B$35=TRUE,0,VLOOKUP(TODAY()+A361,T:V,3,1)/100)","v":0.23}]
[360,9.7100000000000006E-2,8.3099999999999993E-2,7.46E-2,7.46E-2,0.19719999999999999,0.17469999999999999,{"$f":"IF(Kalkulator!$B$35=TRUE,0,VLOOKUP(TODAY()+A362,T:V,3,1)/100)","v":0.23}]
[361,9.7199999999999995E-2,8.3099999999999993E-2,7.46E-2,7.46E-2,0.1971,0.1749,{"$f":"IF(Kalkulator!$B$35=TRUE,0,VLOOKUP(TODAY()+A363,T:V,3,1)/100)","v":0.23}]
[362,9.7299999999999998E-2,8.3199999999999996E-2,7.46E-2,7.46E-2,0.19700000000000001,0.17510000000000001,{"$f":"IF(Kalkulator!$B$35=TRUE,0,VLOOKUP(TODAY()+A364,T:V,3,1)/100)","v":0.23}]
[363,9.74E-2,8.3199999999999996E-2,7.46E-2,7.46E-2,0.19689999999999999,0.1754,{"$f":"IF(Kalkulator!$B$35=TRUE,0,VLOOKUP(TODAY()+A365,T:V,3,1)/100)","v":0.23}]
[364,9.7500000000000003E-2,8.3299999999999999E-2,7.46E-2,7.46E-2,0.1968,0.17560000000000001,{"$f":"IF(Kalkulator!$B$35=TRUE,0,VLOOKUP(TODAY()+A366,T:V,3,1)/100)","v":0.23}]
[365,9.7600000000000006E-2,8.3400000000000002E-2,7.46E-2,7.46E-2,0.19670000000000001,0.17580000000000001,{"$f":"IF(Kalkulator!$B$35=TRUE,0,VLOOKUP(TODAY()+A367,T:V,3,1)/100)","v":0.23}]
[366,9.7699999999999995E-2,8.3400000000000002E-2,7.46E-2,7.46E-2,0.19650000000000001,0.17599999999999999,{"$f":"IF(Kalkulator!$B$35=TRUE,0,VLOOKUP(TODAY()+A368,T:V,3,1)/100)","v":0.23}]
[367,9.7799999999999998E-2,8.3500000000000005E-2,7.46E-2,7.46E-2,0.19639999999999999,0.1762,{"$f":"IF(Kalkulator!$B$35=TRUE,0,VLOOKUP(TODAY()+A369,T:V,3,1)/100)","v":0.23}]
[368,9.7900000000000001E-2,8.3599999999999994E-2,7.46E-2,7.46E-2,0.1963,0.1764,{"$f":"IF(Kalkulator!$B$35=TRUE,0,VLOOKUP(TODAY()+A370,T:V,3,1)/100)","v":0.23}]
[369,9.8000000000000004E-2,8.3599999999999994E-2,7.46E-2,7.46E-2,0.19620000000000001,0.17660000000000001,{"$f":"IF(Kalkulator!$B$35=TRUE,0,VLOOKUP(TODAY()+A371,T:V,3,1)/100)","v":0.23}]
[370,9.8100000000000007E-2,8.3699999999999997E-2,7.46E-2,7.46E-2,0.1961,0.1769,{"$f":"IF(Kalkulator!$B$35=TRUE,0,VLOOKUP(TODAY()+A372,T:V,3,1)/100)","v":0.23}]
[371,9.8199999999999996E-2,8.3799999999999999E-2,7.46E-2,7.46E-2,0.19600000000000001,0.17710000000000001,{"$f":"IF(Kalkulator!$B$35=TRUE,0,VLOOKUP(TODAY()+A373,T:V,3,1)/100)","v":0.23}]
[372,9.8299999999999998E-2,8.3799999999999999E-2,7.46E-2,7.46E-2,0.19589999999999999,0.17730000000000001,{"$f":"IF(Kalkulator!$B$35=TRUE,0,VLOOKUP(TODAY()+A374,T:V,3,1)/100)","v":0.23}]
[373,9.8400000000000001E-2,8.3900000000000002E-2,7.46E-2,7.46E-2,0.1958,0.17749999999999999,{"$f":"IF(Kalkulator!$B$35=TRUE,0,VLOOKUP(TODAY()+A375,T:V,3,1)/100)","v":0.23}]
[374,9.8599999999999993E-2,8.4000000000000005E-2,7.46E-2,7.46E-2,0.1956,0.1777,{"$f":"IF(Kalkulator!$B$35=TRUE,0,VLOOKUP(TODAY()+A376,T:V,3,1)/100)","v":0.23}]
[375,9.8699999999999996E-2,8.4000000000000005E-2,7.46E-2,7.46E-2,0.19550000000000001,0.1779,{"$f":"IF(Kalkulator!$B$35=TRUE,0,VLOOKUP(TODAY()+A377,T:V,3,1)/100)","v":0.23}]
[376,9.8799999999999999E-2,8.4099999999999994E-2,7.46E-2,7.46E-2,0.19539999999999999,0.17810000000000001,{"$f":"IF(Kalkulator!$B$35=TRUE,0,VLOOKUP(TODAY()+A378,T:V,3,1)/100)","v":0.23}]
[377,9.8900000000000002E-2,8.4099999999999994E-2,7.46E-2,7.46E-2,0.1953,0.17829999999999999,{"$f":"IF(Kalkulator!$B$35=TRUE,0,VLOOKUP(TODAY()+A379,T:V,3,1)/100)","v":0.23}]
[378,9.9000000000000005E-2,8.4199999999999997E-2,7.46E-2,7.46E-2,0.19520000000000001,0.17860000000000001,{"$f":"IF(Kalkulator!$B$35=TRUE,0,VLOOKUP(TODAY()+A380,T:V,3,1)/100)","v":0.23}]
[379,9.9099999999999994E-2,8.43E-2,7.46E-2,7.46E-2,0.1951,0.17879999999999999,{"$f":"IF(Kalkulator!$B$35=TRUE,0,VLOOKUP(TODAY()+A381,T:V,3,1)/100)","v":0.23}]
[380,9.9199999999999997E-2,8.43E-2,7.46E-2,7.46E-2,0.19500000000000001,0.17899999999999999,{"$f":"IF(Kalkulator!$B$35=TRUE,0,VLOOKUP(TODAY()+A382,T:V,3,1)/100)","v":0.23}]
[381,9.9299999999999999E-2,8.4400000000000003E-2,7.46E-2,7.46E-2,0.1948,0.1792,{"$f":"IF(Kalkulator!$B$35=TRUE,0,VLOOKUP(TODAY()+A383,T:V,3,1)/100)","v":0.23}]
[382,9.9400000000000002E-2,8.4500000000000006E-2,7.46E-2,7.46E-2,0.19470000000000001,0.1794,{"$f":"IF(Kalkulator!$B$35=TRUE,0,VLOOKUP(TODAY()+A384,T:V,3,1)/100)","v":0.23}]
[383,9.9500000000000005E-2,8.4500000000000006E-2,7.46E-2,7.46E-2,0.1946,0.17960000000000001,{"$f":"IF(Kalkulator!$B$35=TRUE,0,VLOOKUP(TODAY()+A385,T:V,3,1)/100)","v":0.23}]
[384,9.9599999999999994E-2,8.4599999999999995E-2,7.46E-2,7.46E-2,0.19450000000000001,0.17979999999999999,{"$f":"IF(Kalkulator!$B$35=TRUE,0,VLOOKUP(TODAY()+A386,T:V,3,1)/100)","v":0.23}]
[385,9.9699999999999997E-2,8.4699999999999998E-2,7.46E-2,7.46E-2,0.19439999999999999,0.18,{"$f":"IF(Kalkulator!$B$35=TRUE,0,VLOOKUP(TODAY()+A387,T:V,3,1)/100)","v":0.23}]
[386,9.98E-2,8.4699999999999998E-2,7.46E-2,7.46E-2,0.1943,0.18029999999999999,{"$f":"IF(Kalkulator!$B$35=TRUE,0,VLOOKUP(TODAY()+A388,T:V,3,1)/100)","v":0.23}]
[387,9.9900000000000003E-2,8.48E-2,7.46E-2,7.46E-2,0.19420000000000001,0.18049999999999999,{"$f":"IF(Kalkulator!$B$35=TRUE,0,VLOOKUP(TODAY()+A389,T:V,3,1)/100)","v":0.23}]
[388,0.1,8.4900000000000003E-2,7.46E-2,7.46E-2,0.19400000000000001,0.1807,{"$f":"IF(Kalkulator!$B$35=TRUE,0,VLOOKUP(TODAY()+A390,T:V,3,1)/100)","v":0.23}]
[389,0.1002,8.4900000000000003E-2,7.46E-2,7.46E-2,0.19389999999999999,0.18090000000000001,{"$f":"IF(Kalkulator!$B$35=TRUE,0,VLOOKUP(TODAY()+A391,T:V,3,1)/100)","v":0.23}]
[390,0.1003,8.5000000000000006E-2,7.46E-2,7.46E-2,0.1938,0.18110000000000001,{"$f":"IF(Kalkulator!$B$35=TRUE,0,VLOOKUP(TODAY()+A392,T:V,3,1)/100)","v":0.23}]
[391,0.1004,8.5000000000000006E-2,7.46E-2,7.46E-2,0.19370000000000001,0.18129999999999999,{"$f":"IF(Kalkulator!$B$35=TRUE,0,VLOOKUP(TODAY()+A393,T:V,3,1)/100)","v":0.23}]
[392,0.10050000000000001,8.5099999999999995E-2,7.46E-2,7.46E-2,0.19359999999999999,0.18149999999999999,{"$f":"IF(Kalkulator!$B$35=TRUE,0,VLOOKUP(TODAY()+A394,T:V,3,1)/100)","v":0.23}]
[393,0.10059999999999999,8.5199999999999998E-2,7.46E-2,7.46E-2,0.19350000000000001,0.18179999999999999,{"$f":"IF(Kalkulator!$B$35=TRUE,0,VLOOKUP(TODAY()+A395,T:V,3,1)/100)","v":0.23}]
[394,0.1007,8.5199999999999998E-2,7.46E-2,7.46E-2,0.19339999999999999,0.182,{"$f":"IF(Kalkulator!$B$35=TRUE,0,VLOOKUP(TODAY()+A396,T:V,3,1)/100)","v":0.23}]
[395,0.1008,8.5300000000000001E-2,7.46E-2,7.46E-2,0.1933,0.1822,{"$f":"IF(Kalkulator!$B$35=TRUE,0,VLOOKUP(TODAY()+A397,T:V,3,1)/100)","v":0.23}]
[396,0.1009,8.5400000000000004E-2,7.46E-2,7.46E-2,0.19309999999999999,0.18240000000000001,{"$f":"IF(Kalkulator!$B$35=TRUE,0,VLOOKUP(TODAY()+A398,T:V,3,1)/100)","v":0.23}]
[397,0.10100000000000001,8.5400000000000004E-2,7.46E-2,7.46E-2,0.193,0.18260000000000001,{"$f":"IF(Kalkulator!$B$35=TRUE,0,VLOOKUP(TODAY()+A399,T:V,3,1)/100)","v":0.23}]
[398,0.1011,8.5500000000000007E-2,7.46E-2,7.46E-2,0.19289999999999999,0.18279999999999999,{"$f":"IF(Kalkulator!$B$35=TRUE,0,VLOOKUP(TODAY()+A400,T:V,3,1)/100)","v":0.23}]
[399,0.1012,8.5599999999999996E-2,7.46E-2,7.46E-2,0.1928,0.183,{"$f":"IF(Kalkulator!$B$35=TRUE,0,VLOOKUP(TODAY()+A401,T:V,3,1)/100)","v":0.23}]
[400,0.1013,8.5599999999999996E-2,7.46E-2,7.46E-2,0.19270000000000001,0.1832,{"$f":"IF(Kalkulator!$B$35=TRUE,0,VLOOKUP(TODAY()+A402,T:V,3,1)/100)","v":0.23}]
[401,0.1014,8.5699999999999998E-2,7.46E-2,7.46E-2,0.19259999999999999,0.1835,{"$f":"IF(Kalkulator!$B$35=TRUE,0,VLOOKUP(TODAY()+A403,T:V,3,1)/100)","v":0.23}]
[402,0.10150000000000001,8.5699999999999998E-2,7.46E-2,7.46E-2,0.1925,0.1837,{"$f":"IF(Kalkulator!$B$35=TRUE,0,VLOOKUP(TODAY()+A404,T:V,3,1)/100)","v":0.23}]
[403,0.1016,8.5800000000000001E-2,7.46E-2,7.46E-2,0.1923,0.18390000000000001,{"$f":"IF(Kalkulator!$B$35=TRUE,0,VLOOKUP(TODAY()+A405,T:V,3,1)/100)","v":0.23}]
[404,0.1018,8.5900000000000004E-2,7.46E-2,7.46E-2,0.19220000000000001,0.18410000000000001,{"$f":"IF(Kalkulator!$B$35=TRUE,0,VLOOKUP(TODAY()+A406,T:V,3,1)/100)","v":0.23}]
[405,0.1019,8.5900000000000004E-2,7.46E-2,7.46E-2,0.19209999999999999,0.18429999999999999,{"$f":"IF(Kalkulator!$B$35=TRUE,0,VLOOKUP(TODAY()+A407,T:V,3,1)/100)","v":0.23}]
[406,0.10199999999999999,8.5999999999999993E-2,7.46E-2,7.46E-2,0.192,0.1845,{"$f":"IF(Kalkulator!$B$35=TRUE,0,VLOOKUP(TODAY()+A408,T:V,3,1)/100)","v":0.23}]
[407,0.1021,8.6099999999999996E-2,7.46E-2,7.46E-2,0.19189999999999999,0.1847,{"$f":"IF(Kalkulator!$B$35=TRUE,0,VLOOKUP(TODAY()+A409,T:V,3,1)/100)","v":0.23}]
[408,0.1022,8.6099999999999996E-2,7.46E-2,7.46E-2,0.1918,0.18490000000000001,{"$f":"IF(Kalkulator!$B$35=TRUE,0,VLOOKUP(TODAY()+A410,T:V,3,1)/100)","v":0.23}]
[409,0.1023,8.6199999999999999E-2,7.46E-2,7.46E-2,0.19170000000000001,0.1852,{"$f":"IF(Kalkulator!$B$35=TRUE,0,VLOOKUP(TODAY()+A411,T:V,3,1)/100)","v":0.23}]
[410,0.1024,8.6300000000000002E-2,7.46E-2,7.46E-2,0.19159999999999999,0.18540000000000001,{"$f":"IF(Kalkulator!$B$35=TRUE,0,VLOOKUP(TODAY()+A412,T:V,3,1)/100)","v":0.23}]
[411,0.10249999999999999,8.6300000000000002E-2,7.46E-2,7.46E-2,0.19139999999999999,0.18559999999999999,{"$f":"IF(Kalkulator!$B$35=TRUE,0,VLOOKUP(TODAY()+A413,T:V,3,1)/100)","v":0.23}]
[412,0.1021,8.6400000000000005E-2,7.46E-2,7.46E-2,0.1913,0.18579999999999999,{"$f":"IF(Kalkulator!$B$35=TRUE,0,VLOOKUP(TODAY()+A414,T:V,3,1)/100)","v":0.23}]
[413,0.1016,8.6499999999999994E-2,7.46E-2,7.46E-2,0.19120000000000001,0.1855,{"$f":"IF(Kalkulator!$B$35=TRUE,0,VLOOKUP(TODAY()+A415,T:V,3,1)/100)","v":0.23}]
[414,0.1012,8.6499999999999994E-2,7.46E-2,7.46E-2,0.19109999999999999,0.1852,{"$f":"IF(Kalkulator!$B$35=TRUE,0,VLOOKUP(TODAY()+A416,T:V,3,1)/100)","v":0.23}]
[415,0.1008,8.6599999999999996E-2,7.46E-2,7.46E-2,0.191,0.18490000000000001,{"$f":"IF(Kalkulator!$B$35=TRUE,0,VLOOKUP(TODAY()+A417,T:V,3,1)/100)","v":0.23}]
[416,0.1004,8.6599999999999996E-2,7.46E-2,7.46E-2,0.19089999999999999,0.18459999999999999,{"$f":"IF(Kalkulator!$B$35=TRUE,0,VLOOKUP(TODAY()+A418,T:V,3,1)/100)","v":0.23}]
[417,9.9900000000000003E-2,8.6699999999999999E-2,7.46E-2,7.46E-2,0.1908,0.18429999999999999,{"$f":"IF(Kalkulator!$B$35=TRUE,0,VLOOKUP(TODAY()+A419,T:V,3,1)/100)","v":0.23}]
[418,9.9500000000000005E-2,8.6800000000000002E-2,7.46E-2,7.46E-2,0.19059999999999999,0.184,{"$f":"IF(Kalkulator!$B$35=TRUE,0,VLOOKUP(TODAY()+A420,T:V,3,1)/100)","v":0.23}]
[419,9.9099999999999994E-2,8.6800000000000002E-2,7.46E-2,7.46E-2,0.1905,0.1837,{"$f":"IF(Kalkulator!$B$35=TRUE,0,VLOOKUP(TODAY()+A421,T:V,3,1)/100)","v":0.23}]
[420,9.8699999999999996E-2,8.6900000000000005E-2,7.46E-2,7.46E-2,0.19040000000000001,0.18329999999999999,{"$f":"IF(Kalkulator!$B$35=TRUE,0,VLOOKUP(TODAY()+A422,T:V,3,1)/100)","v":0.23}]
[421,9.8199999999999996E-2,8.6999999999999994E-2,7.46E-2,7.46E-2,0.1903,0.183,{"$f":"IF(Kalkulator!$B$35=TRUE,0,VLOOKUP(TODAY()+A423,T:V,3,1)/100)","v":0.23}]
[422,9.7799999999999998E-2,8.6999999999999994E-2,7.46E-2,7.46E-2,0.19020000000000001,0.1827,{"$f":"IF(Kalkulator!$B$35=TRUE,0,VLOOKUP(TODAY()+A424,T:V,3,1)/100)","v":0.23}]
[423,9.74E-2,8.7099999999999997E-2,7.46E-2,7.46E-2,0.19009999999999999,0.18240000000000001,{"$f":"IF(Kalkulator!$B$35=TRUE,0,VLOOKUP(TODAY()+A425,T:V,3,1)/100)","v":0.23}]
[424,9.69E-2,8.72E-2,7.46E-2,7.46E-2,0.19,0.18210000000000001,{"$f":"IF(Kalkulator!$B$35=TRUE,0,VLOOKUP(TODAY()+A426,T:V,3,1)/100)","v":0.23}]
[425,9.6500000000000002E-2,8.72E-2,7.46E-2,7.46E-2,0.18990000000000001,0.18179999999999999,{"$f":"IF(Kalkulator!$B$35=TRUE,0,VLOOKUP(TODAY()+A427,T:V,3,1)/100)","v":0.23}]
[426,9.6100000000000005E-2,8.7300000000000003E-2,7.46E-2,7.46E-2,0.18970000000000001,0.18149999999999999,{"$f":"IF(Kalkulator!$B$35=TRUE,0,VLOOKUP(TODAY()+A428,T:V,3,1)/100)","v":0.23}]
[427,9.5699999999999993E-2,8.7300000000000003E-2,7.46E-2,7.46E-2,0.18959999999999999,0.1812,{"$f":"IF(Kalkulator!$B$35=TRUE,0,VLOOKUP(TODAY()+A429,T:V,3,1)/100)","v":0.23}]
[428,9.5200000000000007E-2,8.7400000000000005E-2,7.46E-2,7.46E-2,0.1895,0.18090000000000001,{"$f":"IF(Kalkulator!$B$35=TRUE,0,VLOOKUP(TODAY()+A430,T:V,3,1)/100)","v":0.23}]
[429,9.4799999999999995E-2,8.7499999999999994E-2,7.46E-2,7.46E-2,0.18940000000000001,0.18060000000000001,{"$f":"IF(Kalkulator!$B$35=TRUE,0,VLOOKUP(TODAY()+A431,T:V,3,1)/100)","v":0.23}]
[430,9.4399999999999998E-2,8.7499999999999994E-2,7.46E-2,7.46E-2,0.1893,0.18029999999999999,{"$f":"IF(Kalkulator!$B$35=TRUE,0,VLOOKUP(TODAY()+A432,T:V,3,1)/100)","v":0.23}]
[431,9.4E-2,8.7599999999999997E-2,7.46E-2,7.46E-2,0.18920000000000001,0.18,{"$f":"IF(Kalkulator!$B$35=TRUE,0,VLOOKUP(TODAY()+A433,T:V,3,1)/100)","v":0.23}]
[432,9.35E-2,8.77E-2,7.46E-2,7.46E-2,0.18909999999999999,0.1797,{"$f":"IF(Kalkulator!$B$35=TRUE,0,VLOOKUP(TODAY()+A434,T:V,3,1)/100)","v":0.23}]
[433,9.3100000000000002E-2,8.77E-2,7.46E-2,7.46E-2,0.18890000000000001,0.1794,{"$f":"IF(Kalkulator!$B$35=TRUE,0,VLOOKUP(TODAY()+A435,T:V,3,1)/100)","v":0.23}]
[434,9.2700000000000005E-2,8.7800000000000003E-2,7.46E-2,7.46E-2,0.1888,0.17899999999999999,{"$f":"IF(Kalkulator!$B$35=TRUE,0,VLOOKUP(TODAY()+A436,T:V,3,1)/100)","v":0.23}]
[435,9.2200000000000004E-2,8.7900000000000006E-2,7.46E-2,7.46E-2,0.18870000000000001,0.1787,{"$f":"IF(Kalkulator!$B$35=TRUE,0,VLOOKUP(TODAY()+A437,T:V,3,1)/100)","v":0.23}]
[436,9.1800000000000007E-2,8.7900000000000006E-2,7.46E-2,7.46E-2,0.18859999999999999,0.1784,{"$f":"IF(Kalkulator!$B$35=TRUE,0,VLOOKUP(TODAY()+A438,T:V,3,1)/100)","v":0.23}]
[437,9.1399999999999995E-2,8.7999999999999995E-2,7.46E-2,7.46E-2,0.1885,0.17810000000000001,{"$f":"IF(Kalkulator!$B$35=TRUE,0,VLOOKUP(TODAY()+A439,T:V,3,1)/100)","v":0.23}]
[438,9.0999999999999998E-2,8.8099999999999998E-2,7.46E-2,7.46E-2,0.18840000000000001,0.17780000000000001,{"$f":"IF(Kalkulator!$B$35=TRUE,0,VLOOKUP(TODAY()+A440,T:V,3,1)/100)","v":0.23}]
[439,9.0499999999999997E-2,8.8099999999999998E-2,7.46E-2,7.46E-2,0.1883,0.17749999999999999,{"$f":"IF(Kalkulator!$B$35=TRUE,0,VLOOKUP(TODAY()+A441,T:V,3,1)/100)","v":0.23}]
[440,9.01E-2,8.8200000000000001E-2,7.46E-2,7.46E-2,0.18820000000000001,0.1772,{"$f":"IF(Kalkulator!$B$35=TRUE,0,VLOOKUP(TODAY()+A442,T:V,3,1)/100)","v":0.23}]
[441,8.9700000000000002E-2,8.8200000000000001E-2,7.46E-2,7.46E-2,0.188,0.1769,{"$f":"IF(Kalkulator!$B$35=TRUE,0,VLOOKUP(TODAY()+A443,T:V,3,1)/100)","v":0.23}]
[442,8.9200000000000002E-2,8.8300000000000003E-2,7.46E-2,7.46E-2,0.18790000000000001,0.17660000000000001,{"$f":"IF(Kalkulator!$B$35=TRUE,0,VLOOKUP(TODAY()+A444,T:V,3,1)/100)","v":0.23}]
[443,8.8800000000000004E-2,8.8400000000000006E-2,7.46E-2,7.46E-2,0.18779999999999999,0.17630000000000001,{"$f":"IF(Kalkulator!$B$35=TRUE,0,VLOOKUP(TODAY()+A445,T:V,3,1)/100)","v":0.23}]
[444,8.8400000000000006E-2,8.8400000000000006E-2,7.46E-2,7.46E-2,0.18770000000000001,0.17599999999999999,{"$f":"IF(Kalkulator!$B$35=TRUE,0,VLOOKUP(TODAY()+A446,T:V,3,1)/100)","v":0.23}]
[445,8.7999999999999995E-2,8.8499999999999995E-2,7.46E-2,7.46E-2,0.18759999999999999,0.1757,{"$f":"IF(Kalkulator!$B$35=TRUE,0,VLOOKUP(TODAY()+A447,T:V,3,1)/100)","v":0.23}]
[446,8.7499999999999994E-2,8.8599999999999998E-2,7.46E-2,7.46E-2,0.1875,0.1754,{"$f":"IF(Kalkulator!$B$35=TRUE,0,VLOOKUP(TODAY()+A448,T:V,3,1)/100)","v":0.23}]
[447,8.7099999999999997E-2,8.8599999999999998E-2,7.46E-2,7.46E-2,0.18740000000000001,0.17510000000000001,{"$f":"IF(Kalkulator!$B$35=TRUE,0,VLOOKUP(TODAY()+A449,T:V,3,1)/100)","v":0.23}]
[448,8.6699999999999999E-2,8.8700000000000001E-2,7.46E-2,7.46E-2,0.18720000000000001,0.17480000000000001,{"$f":"IF(Kalkulator!$B$35=TRUE,0,VLOOKUP(TODAY()+A450,T:V,3,1)/100)","v":0.23}]
[449,8.6300000000000002E-2,8.8800000000000004E-2,7.46E-2,7.46E-2,0.18709999999999999,0.1744,{"$f":"IF(Kalkulator!$B$35=TRUE,0,VLOOKUP(TODAY()+A451,T:V,3,1)/100)","v":0.23}]
[450,8.5800000000000001E-2,8.8800000000000004E-2,7.46E-2,7.46E-2,0.187,0.1741,{"$f":"IF(Kalkulator!$B$35=TRUE,0,VLOOKUP(TODAY()+A452,T:V,3,1)/100)","v":0.23}]
[451,8.5400000000000004E-2,8.8900000000000007E-2,7.46E-2,7.46E-2,0.18690000000000001,0.17380000000000001,{"$f":"IF(Kalkulator!$B$35=TRUE,0,VLOOKUP(TODAY()+A453,T:V,3,1)/100)","v":0.23}]
[452,8.5000000000000006E-2,8.8999999999999996E-2,7.46E-2,7.46E-2,0.18679999999999999,0.17349999999999999,{"$f":"IF(Kalkulator!$B$35=TRUE,0,VLOOKUP(TODAY()+A454,T:V,3,1)/100)","v":0.23}]
[453,8.4500000000000006E-2,8.8999999999999996E-2,7.46E-2,7.46E-2,0.1867,0.17319999999999999,{"$f":"IF(Kalkulator!$B$35=TRUE,0,VLOOKUP(TODAY()+A455,T:V,3,1)/100)","v":0.23}]
[454,8.4099999999999994E-2,8.9099999999999999E-2,7.46E-2,7.46E-2,0.18659999999999999,0.1729,{"$f":"IF(Kalkulator!$B$35=TRUE,0,VLOOKUP(TODAY()+A456,T:V,3,1)/100)","v":0.23}]
[455,8.3699999999999997E-2,8.9099999999999999E-2,7.46E-2,7.46E-2,0.18640000000000001,0.1726,{"$f":"IF(Kalkulator!$B$35=TRUE,0,VLOOKUP(TODAY()+A457,T:V,3,1)/100)","v":0.23}]
[456,8.3299999999999999E-2,8.9200000000000002E-2,7.46E-2,7.46E-2,0.18629999999999999,0.17230000000000001,{"$f":"IF(Kalkulator!$B$35=TRUE,0,VLOOKUP(TODAY()+A458,T:V,3,1)/100)","v":0.23}]
[457,8.2799999999999999E-2,8.9300000000000004E-2,7.46E-2,7.46E-2,0.1862,0.17199999999999999,{"$f":"IF(Kalkulator!$B$35=TRUE,0,VLOOKUP(TODAY()+A459,T:V,3,1)/100)","v":0.23}]
[458,8.2400000000000001E-2,8.9300000000000004E-2,7.46E-2,7.46E-2,0.18609999999999999,0.17169999999999999,{"$f":"IF(Kalkulator!$B$35=TRUE,0,VLOOKUP(TODAY()+A460,T:V,3,1)/100)","v":0.23}]
[459,8.2000000000000003E-2,8.9399999999999993E-2,7.46E-2,7.46E-2,0.186,0.17150000000000001,{"$f":"IF(Kalkulator!$B$35=TRUE,0,VLOOKUP(TODAY()+A461,T:V,3,1)/100)","v":0.23}]
[460,8.1600000000000006E-2,8.9499999999999996E-2,7.46E-2,7.46E-2,0.18590000000000001,0.17119999999999999,{"$f":"IF(Kalkulator!$B$35=TRUE,0,VLOOKUP(TODAY()+A462,T:V,3,1)/100)","v":0.23}]
[461,8.1100000000000005E-2,8.9499999999999996E-2,7.46E-2,7.46E-2,0.18579999999999999,0.1709,{"$f":"IF(Kalkulator!$B$35=TRUE,0,VLOOKUP(TODAY()+A463,T:V,3,1)/100)","v":0.23}]
[462,8.0699999999999994E-2,8.9599999999999999E-2,7.46E-2,7.46E-2,0.1857,0.1706,{"$f":"IF(Kalkulator!$B$35=TRUE,0,VLOOKUP(TODAY()+A464,T:V,3,1)/100)","v":0.23}]
[463,8.0299999999999996E-2,8.9700000000000002E-2,7.46E-2,7.46E-2,0.1855,0.17030000000000001,{"$f":"IF(Kalkulator!$B$35=TRUE,0,VLOOKUP(TODAY()+A465,T:V,3,1)/100)","v":0.23}]
[464,7.9799999999999996E-2,8.9700000000000002E-2,7.46E-2,7.46E-2,0.18540000000000001,0.1701,{"$f":"IF(Kalkulator!$B$35=TRUE,0,VLOOKUP(TODAY()+A466,T:V,3,1)/100)","v":0.23}]
[465,7.9399999999999998E-2,8.9800000000000005E-2,7.46E-2,7.46E-2,0.18529999999999999,0.16980000000000001,{"$f":"IF(Kalkulator!$B$35=TRUE,0,VLOOKUP(TODAY()+A467,T:V,3,1)/100)","v":0.23}]
[466,7.9000000000000001E-2,8.9800000000000005E-2,7.46E-2,7.46E-2,0.1852,0.16950000000000001,{"$f":"IF(Kalkulator!$B$35=TRUE,0,VLOOKUP(TODAY()+A468,T:V,3,1)/100)","v":0.23}]
[467,7.8600000000000003E-2,8.9899999999999994E-2,7.46E-2,7.46E-2,0.18509999999999999,0.16919999999999999,{"$f":"IF(Kalkulator!$B$35=TRUE,0,VLOOKUP(TODAY()+A469,T:V,3,1)/100)","v":0.23}]
[468,7.8100000000000003E-2,0.09,7.46E-2,7.46E-2,0.185,0.16889999999999999,{"$f":"IF(Kalkulator!$B$35=TRUE,0,VLOOKUP(TODAY()+A470,T:V,3,1)/100)","v":0.23}]
[469,7.7700000000000005E-2,0.09,7.46E-2,7.46E-2,0.18490000000000001,0.16869999999999999,{"$f":"IF(Kalkulator!$B$35=TRUE,0,VLOOKUP(TODAY()+A471,T:V,3,1)/100)","v":0.23}]
[470,7.7299999999999994E-2,9.01E-2,7.46E-2,7.46E-2,0.1847,0.16839999999999999,{"$f":"IF(Kalkulator!$B$35=TRUE,0,VLOOKUP(TODAY()+A472,T:V,3,1)/100)","v":0.23}]
[471,7.6899999999999996E-2,9.0200000000000002E-2,7.46E-2,7.46E-2,0.18459999999999999,0.1681,{"$f":"IF(Kalkulator!$B$35=TRUE,0,VLOOKUP(TODAY()+A473,T:V,3,1)/100)","v":0.23}]
[472,7.6399999999999996E-2,9.0200000000000002E-2,7.46E-2,7.46E-2,0.1845,0.1678,{"$f":"IF(Kalkulator!$B$35=TRUE,0,VLOOKUP(TODAY()+A474,T:V,3,1)/100)","v":0.23}]
[473,7.5999999999999998E-2,9.0300000000000005E-2,7.46E-2,7.46E-2,0.18440000000000001,0.16750000000000001,{"$f":"IF(Kalkulator!$B$35=TRUE,0,VLOOKUP(TODAY()+A475,T:V,3,1)/100)","v":0.23}]
[474,7.5600000000000001E-2,9.0399999999999994E-2,7.46E-2,7.46E-2,0.18429999999999999,0.1673,{"$f":"IF(Kalkulator!$B$35=TRUE,0,VLOOKUP(TODAY()+A476,T:V,3,1)/100)","v":0.23}]
[475,7.51E-2,9.0399999999999994E-2,7.46E-2,7.46E-2,0.1842,0.16700000000000001,{"$f":"IF(Kalkulator!$B$35=TRUE,0,VLOOKUP(TODAY()+A477,T:V,3,1)/100)","v":0.23}]
[476,7.4700000000000003E-2,9.0499999999999997E-2,7.46E-2,7.46E-2,0.18410000000000001,0.16669999999999999,{"$f":"IF(Kalkulator!$B$35=TRUE,0,VLOOKUP(TODAY()+A478,T:V,3,1)/100)","v":0.23}]
[477,7.4300000000000005E-2,9.06E-2,7.46E-2,7.46E-2,0.184,0.16639999999999999,{"$f":"IF(Kalkulator!$B$35=TRUE,0,VLOOKUP(TODAY()+A479,T:V,3,1)/100)","v":0.23}]
[478,7.3899999999999993E-2,9.06E-2,7.46E-2,7.46E-2,0.18379999999999999,0.1661,{"$f":"IF(Kalkulator!$B$35=TRUE,0,VLOOKUP(TODAY()+A480,T:V,3,1)/100)","v":0.23}]
[479,7.3400000000000007E-2,9.0700000000000003E-2,7.46E-2,7.46E-2,0.1837,0.1658,{"$f":"IF(Kalkulator!$B$35=TRUE,0,VLOOKUP(TODAY()+A481,T:V,3,1)/100)","v":0.23}]
[480,7.2999999999999995E-2,9.0700000000000003E-2,7.46E-2,7.46E-2,0.18360000000000001,0.1656,{"$f":"IF(Kalkulator!$B$35=TRUE,0,VLOOKUP(TODAY()+A482,T:V,3,1)/100)","v":0.23}]
[481,7.2599999999999998E-2,9.0800000000000006E-2,7.46E-2,7.46E-2,0.1835,0.1653,{"$f":"IF(Kalkulator!$B$35=TRUE,0,VLOOKUP(TODAY()+A483,T:V,3,1)/100)","v":0.23}]
[482,7.2099999999999997E-2,9.0899999999999995E-2,7.46E-2,7.46E-2,0.18340000000000001,0.16500000000000001,{"$f":"IF(Kalkulator!$B$35=TRUE,0,VLOOKUP(TODAY()+A484,T:V,3,1)/100)","v":0.23}]
[483,7.17E-2,9.0899999999999995E-2,7.46E-2,7.46E-2,0.18329999999999999,0.16470000000000001,{"$f":"IF(Kalkulator!$B$35=TRUE,0,VLOOKUP(TODAY()+A485,T:V,3,1)/100)","v":0.23}]
[484,7.1300000000000002E-2,9.0999999999999998E-2,7.46E-2,7.46E-2,0.1832,0.16439999999999999,{"$f":"IF(Kalkulator!$B$35=TRUE,0,VLOOKUP(TODAY()+A486,T:V,3,1)/100)","v":0.23}]
[485,7.0900000000000005E-2,9.11E-2,7.46E-2,7.46E-2,0.183,0.16420000000000001,{"$f":"IF(Kalkulator!$B$35=TRUE,0,VLOOKUP(TODAY()+A487,T:V,3,1)/100)","v":0.23}]
[486,7.0400000000000004E-2,9.11E-2,7.46E-2,7.46E-2,0.18290000000000001,0.16389999999999999,{"$f":"IF(Kalkulator!$B$35=TRUE,0,VLOOKUP(TODAY()+A488,T:V,3,1)/100)","v":0.23}]
[487,7.0000000000000007E-2,9.1200000000000003E-2,7.46E-2,7.46E-2,0.18279999999999999,0.1636,{"$f":"IF(Kalkulator!$B$35=TRUE,0,VLOOKUP(TODAY()+A489,T:V,3,1)/100)","v":0.23}]
[488,6.9599999999999995E-2,9.1300000000000006E-2,7.46E-2,7.46E-2,0.1827,0.1633,{"$f":"IF(Kalkulator!$B$35=TRUE,0,VLOOKUP(TODAY()+A490,T:V,3,1)/100)","v":0.23}]
[489,6.9199999999999998E-2,9.1300000000000006E-2,7.46E-2,7.46E-2,0.18260000000000001,0.16300000000000001,{"$f":"IF(Kalkulator!$B$35=TRUE,0,VLOOKUP(TODAY()+A491,T:V,3,1)/100)","v":0.23}]
[490,6.8699999999999997E-2,9.1399999999999995E-2,7.46E-2,7.46E-2,0.1825,0.1628,{"$f":"IF(Kalkulator!$B$35=TRUE,0,VLOOKUP(TODAY()+A492,T:V,3,1)/100)","v":0.23}]
[491,6.83E-2,9.1399999999999995E-2,7.46E-2,7.46E-2,0.18240000000000001,0.16250000000000001,{"$f":"IF(Kalkulator!$B$35=TRUE,0,VLOOKUP(TODAY()+A493,T:V,3,1)/100)","v":0.23}]
[492,6.7900000000000002E-2,9.1499999999999998E-2,7.46E-2,7.46E-2,0.18229999999999999,0.16220000000000001,{"$f":"IF(Kalkulator!$B$35=TRUE,0,VLOOKUP(TODAY()+A494,T:V,3,1)/100)","v":0.23}]
[493,6.7400000000000002E-2,9.1600000000000001E-2,7.46E-2,7.46E-2,0.18210000000000001,0.16189999999999999,{"$f":"IF(Kalkulator!$B$35=TRUE,0,VLOOKUP(TODAY()+A495,T:V,3,1)/100)","v":0.23}]
[494,6.7000000000000004E-2,9.1600000000000001E-2,7.46E-2,7.46E-2,0.182,0.16159999999999999,{"$f":"IF(Kalkulator!$B$35=TRUE,0,VLOOKUP(TODAY()+A496,T:V,3,1)/100)","v":0.23}]
[495,6.6600000000000006E-2,9.1700000000000004E-2,7.46E-2,7.46E-2,0.18190000000000001,0.16139999999999999,{"$f":"IF(Kalkulator!$B$35=TRUE,0,VLOOKUP(TODAY()+A497,T:V,3,1)/100)","v":0.23}]
[496,6.6199999999999995E-2,9.1800000000000007E-2,7.46E-2,7.46E-2,0.18179999999999999,0.16109999999999999,{"$f":"IF(Kalkulator!$B$35=TRUE,0,VLOOKUP(TODAY()+A498,T:V,3,1)/100)","v":0.23}]
[497,6.5699999999999995E-2,9.1800000000000007E-2,7.46E-2,7.46E-2,0.1817,0.1608,{"$f":"IF(Kalkulator!$B$35=TRUE,0,VLOOKUP(TODAY()+A499,T:V,3,1)/100)","v":0.23}]
[498,6.5299999999999997E-2,9.1899999999999996E-2,7.46E-2,7.46E-2,0.18160000000000001,0.1605,{"$f":"IF(Kalkulator!$B$35=TRUE,0,VLOOKUP(TODAY()+A500,T:V,3,1)/100)","v":0.23}]
[499,6.4899999999999999E-2,9.1999999999999998E-2,7.46E-2,7.46E-2,0.18149999999999999,0.16020000000000001,{"$f":"IF(Kalkulator!$B$35=TRUE,0,VLOOKUP(TODAY()+A501,T:V,3,1)/100)","v":0.23}]
[500,6.4500000000000002E-2,9.1999999999999998E-2,7.46E-2,7.46E-2,0.18129999999999999,0.16,{"$f":"IF(Kalkulator!$B$35=TRUE,0,VLOOKUP(TODAY()+A502,T:V,3,1)/100)","v":0.23}]
[501,6.4000000000000001E-2,9.2100000000000001E-2,7.46E-2,7.46E-2,0.1812,0.15970000000000001,{"$f":"IF(Kalkulator!$B$35=TRUE,0,VLOOKUP(TODAY()+A503,T:V,3,1)/100)","v":0.23}]
[502,6.3600000000000004E-2,9.2200000000000004E-2,7.46E-2,7.46E-2,0.18110000000000001,0.15939999999999999,{"$f":"IF(Kalkulator!$B$35=TRUE,0,VLOOKUP(TODAY()+A504,T:V,3,1)/100)","v":0.23}]
[503,6.4500000000000002E-2,9.2200000000000004E-2,7.46E-2,7.46E-2,0.18099999999999999,0.15909999999999999,{"$f":"IF(Kalkulator!$B$35=TRUE,0,VLOOKUP(TODAY()+A505,T:V,3,1)/100)","v":0.23}]
[504,6.5299999999999997E-2,9.2299999999999993E-2,7.46E-2,7.46E-2,0.18090000000000001,0.1588,{"$f":"IF(Kalkulator!$B$35=TRUE,0,VLOOKUP(TODAY()+A506,T:V,3,1)/100)","v":0.23}]
[505,6.6199999999999995E-2,9.2299999999999993E-2,7.46E-2,7.46E-2,0.18079999999999999,0.15859999999999999,{"$f":"IF(Kalkulator!$B$35=TRUE,0,VLOOKUP(TODAY()+A507,T:V,3,1)/100)","v":0.23}]
[506,6.7000000000000004E-2,9.2399999999999996E-2,7.46E-2,7.46E-2,0.1807,0.1583,{"$f":"IF(Kalkulator!$B$35=TRUE,0,VLOOKUP(TODAY()+A508,T:V,3,1)/100)","v":0.23}]
[507,6.7900000000000002E-2,9.2499999999999999E-2,7.46E-2,7.46E-2,0.18060000000000001,0.158,{"$f":"IF(Kalkulator!$B$35=TRUE,0,VLOOKUP(TODAY()+A509,T:V,3,1)/100)","v":0.23}]
[508,6.8699999999999997E-2,9.2499999999999999E-2,7.46E-2,7.46E-2,0.1804,0.15770000000000001,{"$f":"IF(Kalkulator!$B$35=TRUE,0,VLOOKUP(TODAY()+A510,T:V,3,1)/100)","v":0.23}]
[509,6.9599999999999995E-2,9.2600000000000002E-2,7.46E-2,7.46E-2,0.18029999999999999,0.15740000000000001,{"$f":"IF(Kalkulator!$B$35=TRUE,0,VLOOKUP(TODAY()+A511,T:V,3,1)/100)","v":0.23}]
[510,7.0400000000000004E-2,9.2700000000000005E-2,7.46E-2,7.46E-2,0.1802,0.15720000000000001,{"$f":"IF(Kalkulator!$B$35=TRUE,0,VLOOKUP(TODAY()+A512,T:V,3,1)/100)","v":0.23}]
[511,7.1300000000000002E-2,9.2700000000000005E-2,7.46E-2,7.46E-2,0.18010000000000001,0.15690000000000001,{"$f":"IF(Kalkulator!$B$35=TRUE,0,VLOOKUP(TODAY()+A513,T:V,3,1)/100)","v":0.23}]
[512,7.2099999999999997E-2,9.2799999999999994E-2,7.46E-2,7.46E-2,0.18,0.15659999999999999,{"$f":"IF(Kalkulator!$B$35=TRUE,0,VLOOKUP(TODAY()+A514,T:V,3,1)/100)","v":0.23}]
[513,7.2999999999999995E-2,9.2899999999999996E-2,7.46E-2,7.46E-2,0.1799,0.15629999999999999,{"$f":"IF(Kalkulator!$B$35=TRUE,0,VLOOKUP(TODAY()+A515,T:V,3,1)/100)","v":0.23}]
[514,7.3800000000000004E-2,9.2899999999999996E-2,7.46E-2,7.46E-2,0.17979999999999999,0.156,{"$f":"IF(Kalkulator!$B$35=TRUE,0,VLOOKUP(TODAY()+A516,T:V,3,1)/100)","v":0.23}]
[515,7.4700000000000003E-2,9.2999999999999999E-2,7.46E-2,7.46E-2,0.17960000000000001,0.15579999999999999,{"$f":"IF(Kalkulator!$B$35=TRUE,0,VLOOKUP(TODAY()+A517,T:V,3,1)/100)","v":0.23}]
[516,7.5499999999999998E-2,9.3100000000000002E-2,7.46E-2,7.46E-2,0.17949999999999999,0.1555,{"$f":"IF(Kalkulator!$B$35=TRUE,0,VLOOKUP(TODAY()+A518,T:V,3,1)/100)","v":0.23}]
[517,7.6399999999999996E-2,9.3100000000000002E-2,7.46E-2,7.46E-2,0.1794,0.1552,{"$f":"IF(Kalkulator!$B$35=TRUE,0,VLOOKUP(TODAY()+A519,T:V,3,1)/100)","v":0.23}]
[518,7.7200000000000005E-2,9.3200000000000005E-2,7.46E-2,7.46E-2,0.17929999999999999,0.15490000000000001,{"$f":"IF(Kalkulator!$B$35=TRUE,0,VLOOKUP(TODAY()+A520,T:V,3,1)/100)","v":0.23}]
[519,7.8100000000000003E-2,9.3200000000000005E-2,7.46E-2,7.46E-2,0.1792,0.15459999999999999,{"$f":"IF(Kalkulator!$B$35=TRUE,0,VLOOKUP(TODAY()+A521,T:V,3,1)/100)","v":0.23}]
[520,7.8899999999999998E-2,9.3299999999999994E-2,7.46E-2,7.46E-2,0.17910000000000001,0.15440000000000001,{"$f":"IF(Kalkulator!$B$35=TRUE,0,VLOOKUP(TODAY()+A522,T:V,3,1)/100)","v":0.23}]
[521,7.9799999999999996E-2,9.3399999999999997E-2,7.46E-2,7.46E-2,0.17899999999999999,0.15409999999999999,{"$f":"IF(Kalkulator!$B$35=TRUE,0,VLOOKUP(TODAY()+A523,T:V,3,1)/100)","v":0.23}]
[522,8.0600000000000005E-2,9.3399999999999997E-2,7.46E-2,7.46E-2,0.17879999999999999,0.15379999999999999,{"$f":"IF(Kalkulator!$B$35=TRUE,0,VLOOKUP(TODAY()+A524,T:V,3,1)/100)","v":0.23}]
[523,8.14E-2,9.35E-2,7.46E-2,7.46E-2,0.1787,0.1535,{"$f":"IF(Kalkulator!$B$35=TRUE,0,VLOOKUP(TODAY()+A525,T:V,3,1)/100)","v":0.23}]
[524,8.2299999999999998E-2,9.3600000000000003E-2,7.46E-2,7.46E-2,0.17860000000000001,0.1532,{"$f":"IF(Kalkulator!$B$35=TRUE,0,VLOOKUP(TODAY()+A526,T:V,3,1)/100)","v":0.23}]
[525,8.3199999999999996E-2,9.3600000000000003E-2,7.46E-2,7.46E-2,0.17849999999999999,0.153,{"$f":"IF(Kalkulator!$B$35=TRUE,0,VLOOKUP(TODAY()+A527,T:V,3,1)/100)","v":0.23}]
[526,8.4000000000000005E-2,9.3700000000000006E-2,7.46E-2,7.46E-2,0.1784,0.1527,{"$f":"IF(Kalkulator!$B$35=TRUE,0,VLOOKUP(TODAY()+A528,T:V,3,1)/100)","v":0.23}]
[527,8.4900000000000003E-2,9.3799999999999994E-2,7.46E-2,7.46E-2,0.17829999999999999,0.15240000000000001,{"$f":"IF(Kalkulator!$B$35=TRUE,0,VLOOKUP(TODAY()+A529,T:V,3,1)/100)","v":0.23}]
[528,8.5699999999999998E-2,9.3799999999999994E-2,7.46E-2,7.46E-2,0.1782,0.15210000000000001,{"$f":"IF(Kalkulator!$B$35=TRUE,0,VLOOKUP(TODAY()+A530,T:V,3,1)/100)","v":0.23}]
[529,8.6599999999999996E-2,9.3899999999999997E-2,7.46E-2,7.46E-2,0.17810000000000001,0.15179999999999999,{"$f":"IF(Kalkulator!$B$35=TRUE,0,VLOOKUP(TODAY()+A531,T:V,3,1)/100)","v":0.23}]
[530,8.7400000000000005E-2,9.3899999999999997E-2,7.46E-2,7.46E-2,0.1779,0.1515,{"$f":"IF(Kalkulator!$B$35=TRUE,0,VLOOKUP(TODAY()+A532,T:V,3,1)/100)","v":0.23}]
[531,8.8200000000000001E-2,9.4E-2,7.46E-2,7.46E-2,0.17780000000000001,0.15129999999999999,{"$f":"IF(Kalkulator!$B$35=TRUE,0,VLOOKUP(TODAY()+A533,T:V,3,1)/100)","v":0.23}]
[532,8.9099999999999999E-2,9.4100000000000003E-2,7.46E-2,7.46E-2,0.1777,0.151,{"$f":"IF(Kalkulator!$B$35=TRUE,0,VLOOKUP(TODAY()+A534,T:V,3,1)/100)","v":0.23}]
[533,0.09,9.4100000000000003E-2,7.46E-2,7.46E-2,0.17760000000000001,0.1507,{"$f":"IF(Kalkulator!$B$35=TRUE,0,VLOOKUP(TODAY()+A535,T:V,3,1)/100)","v":0.23}]
[534,9.0800000000000006E-2,9.4200000000000006E-2,7.46E-2,7.46E-2,0.17749999999999999,0.15040000000000001,{"$f":"IF(Kalkulator!$B$35=TRUE,0,VLOOKUP(TODAY()+A536,T:V,3,1)/100)","v":0.23}]
[535,9.1700000000000004E-2,9.4299999999999995E-2,7.46E-2,7.46E-2,0.1774,0.15010000000000001,{"$f":"IF(Kalkulator!$B$35=TRUE,0,VLOOKUP(TODAY()+A537,T:V,3,1)/100)","v":0.23}]
[536,9.2499999999999999E-2,9.4299999999999995E-2,7.46E-2,7.46E-2,0.17730000000000001,0.14990000000000001,{"$f":"IF(Kalkulator!$B$35=TRUE,0,VLOOKUP(TODAY()+A538,T:V,3,1)/100)","v":0.23}]
[537,9.3399999999999997E-2,9.4399999999999998E-2,7.46E-2,7.46E-2,0.17710000000000001,0.14960000000000001,{"$f":"IF(Kalkulator!$B$35=TRUE,0,VLOOKUP(TODAY()+A539,T:V,3,1)/100)","v":0.23}]
[538,9.4200000000000006E-2,9.4500000000000001E-2,7.46E-2,7.46E-2,0.17699999999999999,0.14929999999999999,{"$f":"IF(Kalkulator!$B$35=TRUE,0,VLOOKUP(TODAY()+A540,T:V,3,1)/100)","v":0.23}]
[539,9.5000000000000001E-2,9.4500000000000001E-2,7.46E-2,7.46E-2,0.1769,0.14899999999999999,{"$f":"IF(Kalkulator!$B$35=TRUE,0,VLOOKUP(TODAY()+A541,T:V,3,1)/100)","v":0.23}]
[540,9.5899999999999999E-2,9.4600000000000004E-2,7.46E-2,7.46E-2,0.17680000000000001,0.1487,{"$f":"IF(Kalkulator!$B$35=TRUE,0,VLOOKUP(TODAY()+A542,T:V,3,1)/100)","v":0.23}]
[541,9.6799999999999997E-2,9.4700000000000006E-2,7.46E-2,7.46E-2,0.1767,0.14849999999999999,{"$f":"IF(Kalkulator!$B$35=TRUE,0,VLOOKUP(TODAY()+A543,T:V,3,1)/100)","v":0.23}]
[542,9.7600000000000006E-2,9.4700000000000006E-2,7.46E-2,7.46E-2,0.17660000000000001,0.1482,{"$f":"IF(Kalkulator!$B$35=TRUE,0,VLOOKUP(TODAY()+A544,T:V,3,1)/100)","v":0.23}]
[543,9.8500000000000004E-2,9.4799999999999995E-2,7.46E-2,7.46E-2,0.17649999999999999,0.1479,{"$f":"IF(Kalkulator!$B$35=TRUE,0,VLOOKUP(TODAY()+A545,T:V,3,1)/100)","v":0.23}]
[544,9.9299999999999999E-2,9.4799999999999995E-2,7.46E-2,7.46E-2,0.1764,0.14760000000000001,{"$f":"IF(Kalkulator!$B$35=TRUE,0,VLOOKUP(TODAY()+A546,T:V,3,1)/100)","v":0.23}]
[545,0.1002,9.4899999999999998E-2,7.46E-2,7.46E-2,0.1762,0.14729999999999999,{"$f":"IF(Kalkulator!$B$35=TRUE,0,VLOOKUP(TODAY()+A547,T:V,3,1)/100)","v":0.23}]
[546,0.10100000000000001,9.5000000000000001E-2,7.46E-2,7.46E-2,0.17610000000000001,0.14710000000000001,{"$f":"IF(Kalkulator!$B$35=TRUE,0,VLOOKUP(TODAY()+A548,T:V,3,1)/100)","v":0.23}]
[547,0.1018,9.5000000000000001E-2,7.46E-2,7.46E-2,0.17599999999999999,0.14680000000000001,{"$f":"IF(Kalkulator!$B$35=TRUE,0,VLOOKUP(TODAY()+A549,T:V,3,1)/100)","v":0.23}]
[548,0.1027,9.5100000000000004E-2,7.46E-2,7.46E-2,0.1759,0.14649999999999999,{"$f":"IF(Kalkulator!$B$35=TRUE,0,VLOOKUP(TODAY()+A550,T:V,3,1)/100)","v":0.23}]
[549,0.1027,9.5100000000000004E-2,7.46E-2,7.46E-2,0.1759,0.1464,{"$f":"IF(Kalkulator!$B$35=TRUE,0,VLOOKUP(TODAY()+A551,T:V,3,1)/100)","v":0.23}]
[550,0.1026,9.5100000000000004E-2,7.46E-2,7.46E-2,0.1759,0.1462,{"$f":"IF(Kalkulator!$B$35=TRUE,0,VLOOKUP(TODAY()+A552,T:V,3,1)/100)","v":0.23}]
[551,0.1026,9.5100000000000004E-2,7.46E-2,7.46E-2,0.1759,0.14610000000000001,{"$f":"IF(Kalkulator!$B$35=TRUE,0,VLOOKUP(TODAY()+A553,T:V,3,1)/100)","v":0.23}]
[552,0.10249999999999999,9.5100000000000004E-2,7.46E-2,7.46E-2,0.1759,0.14599999999999999,{"$f":"IF(Kalkulator!$B$35=TRUE,0,VLOOKUP(TODAY()+A554,T:V,3,1)/100)","v":0.23}]
[553,0.10249999999999999,9.5100000000000004E-2,7.46E-2,7.46E-2,0.1759,0.14580000000000001,{"$f":"IF(Kalkulator!$B$35=TRUE,0,VLOOKUP(TODAY()+A555,T:V,3,1)/100)","v":0.23}]
[554,0.1024,9.5100000000000004E-2,7.46E-2,7.46E-2,0.1759,0.1457,{"$f":"IF(Kalkulator!$B$35=TRUE,0,VLOOKUP(TODAY()+A556,T:V,3,1)/100)","v":0.23}]
[555,0.1024,9.5100000000000004E-2,7.46E-2,7.46E-2,0.1759,0.14560000000000001,{"$f":"IF(Kalkulator!$B$35=TRUE,0,VLOOKUP(TODAY()+A557,T:V,3,1)/100)","v":0.23}]
[556,0.1023,9.5100000000000004E-2,7.46E-2,7.46E-2,0.1759,0.1454,{"$f":"IF(Kalkulator!$B$35=TRUE,0,VLOOKUP(TODAY()+A558,T:V,3,1)/100)","v":0.23}]
[557,0.1023,9.5100000000000004E-2,7.46E-2,7.46E-2,0.1759,0.14530000000000001,{"$f":"IF(Kalkulator!$B$35=TRUE,0,VLOOKUP(TODAY()+A559,T:V,3,1)/100)","v":0.23}]
[558,0.1022,9.5100000000000004E-2,7.46E-2,7.46E-2,0.1759,0.14510000000000001,{"$f":"IF(Kalkulator!$B$35=TRUE,0,VLOOKUP(TODAY()+A560,T:V,3,1)/100)","v":0.23}]
[559,0.1022,9.5100000000000004E-2,7.46E-2,7.46E-2,0.1759,0.14499999999999999,{"$f":"IF(Kalkulator!$B$35=TRUE,0,VLOOKUP(TODAY()+A561,T:V,3,1)/100)","v":0.23}]
[560,0.1021,9.5100000000000004E-2,7.46E-2,7.46E-2,0.1759,0.1449,{"$f":"IF(Kalkulator!$B$35=TRUE,0,VLOOKUP(TODAY()+A562,T:V,3,1)/100)","v":0.23}]
[561,0.1021,9.5100000000000004E-2,7.46E-2,7.46E-2,0.1759,0.1447,{"$f":"IF(Kalkulator!$B$35=TRUE,0,VLOOKUP(TODAY()+A563,T:V,3,1)/100)","v":0.23}]
[562,0.10199999999999999,9.5100000000000004E-2,7.46E-2,7.46E-2,0.1759,0.14460000000000001,{"$f":"IF(Kalkulator!$B$35=TRUE,0,VLOOKUP(TODAY()+A564,T:V,3,1)/100)","v":0.23}]
[563,0.10199999999999999,9.5100000000000004E-2,7.46E-2,7.46E-2,0.1759,0.14449999999999999,{"$f":"IF(Kalkulator!$B$35=TRUE,0,VLOOKUP(TODAY()+A565,T:V,3,1)/100)","v":0.23}]
[564,0.1019,9.5100000000000004E-2,7.46E-2,7.46E-2,0.1759,0.14430000000000001,{"$f":"IF(Kalkulator!$B$35=TRUE,0,VLOOKUP(TODAY()+A566,T:V,3,1)/100)","v":0.23}]
[565,0.1019,9.5100000000000004E-2,7.46E-2,7.46E-2,0.1759,0.14419999999999999,{"$f":"IF(Kalkulator!$B$35=TRUE,0,VLOOKUP(TODAY()+A567,T:V,3,1)/100)","v":0.23}]
[566,0.1018,9.5100000000000004E-2,7.46E-2,7.46E-2,0.1759,0.14410000000000001,{"$f":"IF(Kalkulator!$B$35=TRUE,0,VLOOKUP(TODAY()+A568,T:V,3,1)/100)","v":0.23}]
[567,0.1018,9.5100000000000004E-2,7.46E-2,7.46E-2,0.1759,0.1439,{"$f":"IF(Kalkulator!$B$35=TRUE,0,VLOOKUP(TODAY()+A569,T:V,3,1)/100)","v":0.23}]
[568,0.1018,9.5100000000000004E-2,7.46E-2,7.46E-2,0.1759,0.14380000000000001,{"$f":"IF(Kalkulator!$B$35=TRUE,0,VLOOKUP(TODAY()+A570,T:V,3,1)/100)","v":0.23}]
[569,0.1017,9.5100000000000004E-2,7.46E-2,7.46E-2,0.1759,0.14369999999999999,{"$f":"IF(Kalkulator!$B$35=TRUE,0,VLOOKUP(TODAY()+A571,T:V,3,1)/100)","v":0.23}]
[570,0.1017,9.5100000000000004E-2,7.46E-2,7.46E-2,0.1759,0.14349999999999999,{"$f":"IF(Kalkulator!$B$35=TRUE,0,VLOOKUP(TODAY()+A572,T:V,3,1)/100)","v":0.23}]
[571,0.1016,9.5100000000000004E-2,7.46E-2,7.46E-2,0.1759,0.1434,{"$f":"IF(Kalkulator!$B$35=TRUE,0,VLOOKUP(TODAY()+A573,T:V,3,1)/100)","v":0.23}]
[572,0.1016,9.5100000000000004E-2,7.46E-2,7.46E-2,0.1759,0.14330000000000001,{"$f":"IF(Kalkulator!$B$35=TRUE,0,VLOOKUP(TODAY()+A574,T:V,3,1)/100)","v":0.23}]
[573,0.10150000000000001,9.5100000000000004E-2,7.46E-2,7.46E-2,0.1759,0.1431,{"$f":"IF(Kalkulator!$B$35=TRUE,0,VLOOKUP(TODAY()+A575,T:V,3,1)/100)","v":0.23}]
[574,0.10150000000000001,9.5100000000000004E-2,7.46E-2,7.46E-2,0.1759,0.14299999999999999,{"$f":"IF(Kalkulator!$B$35=TRUE,0,VLOOKUP(TODAY()+A576,T:V,3,1)/100)","v":0.23}]
[575,0.1014,9.5100000000000004E-2,7.46E-2,7.46E-2,0.1759,0.1429,{"$f":"IF(Kalkulator!$B$35=TRUE,0,VLOOKUP(TODAY()+A577,T:V,3,1)/100)","v":0.23}]
[576,0.1014,9.5100000000000004E-2,7.46E-2,7.46E-2,0.1759,0.14269999999999999,{"$f":"IF(Kalkulator!$B$35=TRUE,0,VLOOKUP(TODAY()+A578,T:V,3,1)/100)","v":0.23}]
[577,0.1013,9.5100000000000004E-2,7.46E-2,7.46E-2,0.1759,0.1426,{"$f":"IF(Kalkulator!$B$35=TRUE,0,VLOOKUP(TODAY()+A579,T:V,3,1)/100)","v":0.23}]
[578,0.1013,9.5100000000000004E-2,7.46E-2,7.46E-2,0.1759,0.1424,{"$f":"IF(Kalkulator!$B$35=TRUE,0,VLOOKUP(TODAY()+A580,T:V,3,1)/100)","v":0.23}]
[579,0.1012,9.5100000000000004E-2,7.46E-2,7.46E-2,0.1759,0.14230000000000001,{"$f":"IF(Kalkulator!$B$35=TRUE,0,VLOOKUP(TODAY()+A581,T:V,3,1)/100)","v":0.23}]
[580,0.1012,9.5100000000000004E-2,7.46E-2,7.46E-2,0.1759,0.14219999999999999,{"$f":"IF(Kalkulator!$B$35=TRUE,0,VLOOKUP(TODAY()+A582,T:V,3,1)/100)","v":0.23}]
[581,0.1011,9.5100000000000004E-2,7.46E-2,7.46E-2,0.1759,0.14199999999999999,{"$f":"IF(Kalkulator!$B$35=TRUE,0,VLOOKUP(TODAY()+A583,T:V,3,1)/100)","v":0.23}]
[582,0.1011,9.5100000000000004E-2,7.46E-2,7.46E-2,0.1759,0.1419,{"$f":"IF(Kalkulator!$B$35=TRUE,0,VLOOKUP(TODAY()+A584,T:V,3,1)/100)","v":0.23}]
[583,0.10100000000000001,9.5100000000000004E-2,7.46E-2,7.46E-2,0.1759,0.14180000000000001,{"$f":"IF(Kalkulator!$B$35=TRUE,0,VLOOKUP(TODAY()+A585,T:V,3,1)/100)","v":0.23}]
[584,0.10100000000000001,9.5100000000000004E-2,7.46E-2,7.46E-2,0.1759,0.1416,{"$f":"IF(Kalkulator!$B$35=TRUE,0,VLOOKUP(TODAY()+A586,T:V,3,1)/100)","v":0.23}]
[585,0.1009,9.5100000000000004E-2,7.46E-2,7.46E-2,0.1759,0.14149999999999999,{"$f":"IF(Kalkulator!$B$35=TRUE,0,VLOOKUP(TODAY()+A587,T:V,3,1)/100)","v":0.23}]
[586,0.1009,9.5100000000000004E-2,7.46E-2,7.46E-2,0.1759,0.1414,{"$f":"IF(Kalkulator!$B$35=TRUE,0,VLOOKUP(TODAY()+A588,T:V,3,1)/100)","v":0.23}]
[587,0.1009,9.5100000000000004E-2,7.46E-2,7.46E-2,0.1759,0.14119999999999999,{"$f":"IF(Kalkulator!$B$35=TRUE,0,VLOOKUP(TODAY()+A589,T:V,3,1)/100)","v":0.23}]
[588,0.1008,9.5100000000000004E-2,7.46E-2,7.46E-2,0.1759,0.1411,{"$f":"IF(Kalkulator!$B$35=TRUE,0,VLOOKUP(TODAY()+A590,T:V,3,1)/100)","v":0.23}]
[589,0.1008,9.5100000000000004E-2,7.46E-2,7.46E-2,0.1759,0.14099999999999999,{"$f":"IF(Kalkulator!$B$35=TRUE,0,VLOOKUP(TODAY()+A591,T:V,3,1)/100)","v":0.23}]
[590,0.1007,9.5100000000000004E-2,7.46E-2,7.46E-2,0.1759,0.14080000000000001,{"$f":"IF(Kalkulator!$B$35=TRUE,0,VLOOKUP(TODAY()+A592,T:V,3,1)/100)","v":0.23}]
[591,0.1007,9.5100000000000004E-2,7.46E-2,7.46E-2,0.1759,0.14069999999999999,{"$f":"IF(Kalkulator!$B$35=TRUE,0,VLOOKUP(TODAY()+A593,T:V,3,1)/100)","v":0.23}]
[592,0.10059999999999999,9.5100000000000004E-2,7.46E-2,7.46E-2,0.1759,0.1406,{"$f":"IF(Kalkulator!$B$35=TRUE,0,VLOOKUP(TODAY()+A594,T:V,3,1)/100)","v":0.23}]
[593,0.10059999999999999,9.5100000000000004E-2,7.46E-2,7.46E-2,0.1759,0.1404,{"$f":"IF(Kalkulator!$B$35=TRUE,0,VLOOKUP(TODAY()+A595,T:V,3,1)/100)","v":0.23}]
[594,0.10050000000000001,9.5100000000000004E-2,7.46E-2,7.46E-2,0.1759,0.14030000000000001,{"$f":"IF(Kalkulator!$B$35=TRUE,0,VLOOKUP(TODAY()+A596,T:V,3,1)/100)","v":0.23}]
[595,0.10050000000000001,9.5100000000000004E-2,7.46E-2,7.46E-2,0.1759,0.1401,{"$f":"IF(Kalkulator!$B$35=TRUE,0,VLOOKUP(TODAY()+A597,T:V,3,1)/100)","v":0.23}]
[596,0.1004,9.5100000000000004E-2,7.46E-2,7.46E-2,0.1759,0.14000000000000001,{"$f":"IF(Kalkulator!$B$35=TRUE,0,VLOOKUP(TODAY()+A598,T:V,3,1)/100)","v":0.23}]
[597,0.1004,9.5100000000000004E-2,7.46E-2,7.46E-2,0.1759,0.1399,{"$f":"IF(Kalkulator!$B$35=TRUE,0,VLOOKUP(TODAY()+A599,T:V,3,1)/100)","v":0.23}]
[598,0.1003,9.5100000000000004E-2,7.46E-2,7.46E-2,0.1759,0.13969999999999999,{"$f":"IF(Kalkulator!$B$35=TRUE,0,VLOOKUP(TODAY()+A600,T:V,3,1)/100)","v":0.23}]
[599,0.1003,9.5100000000000004E-2,7.46E-2,7.46E-2,0.1759,0.1396,{"$f":"IF(Kalkulator!$B$35=TRUE,0,VLOOKUP(TODAY()+A601,T:V,3,1)/100)","v":0.23}]
[600,0.1002,9.5100000000000004E-2,7.46E-2,7.46E-2,0.1759,0.13950000000000001,{"$f":"IF(Kalkulator!$B$35=TRUE,0,VLOOKUP(TODAY()+A602,T:V,3,1)/100)","v":0.23}]
[601,0.1002,9.5100000000000004E-2,7.46E-2,7.46E-2,0.1759,0.13930000000000001,{"$f":"IF(Kalkulator!$B$35=TRUE,0,VLOOKUP(TODAY()+A603,T:V,3,1)/100)","v":0.23}]
[602,0.10009999999999999,9.5100000000000004E-2,7.46E-2,7.46E-2,0.1759,0.13919999999999999,{"$f":"IF(Kalkulator!$B$35=TRUE,0,VLOOKUP(TODAY()+A604,T:V,3,1)/100)","v":0.23}]
[603,0.10009999999999999,9.5100000000000004E-2,7.46E-2,7.46E-2,0.1759,0.1391,{"$f":"IF(Kalkulator!$B$35=TRUE,0,VLOOKUP(TODAY()+A605,T:V,3,1)/100)","v":0.23}]
[604,0.1,9.5100000000000004E-2,7.46E-2,7.46E-2,0.1759,0.1389,{"$f":"IF(Kalkulator!$B$35=TRUE,0,VLOOKUP(TODAY()+A606,T:V,3,1)/100)","v":0.23}]
[605,0.1,9.5100000000000004E-2,7.46E-2,7.46E-2,0.1759,0.13880000000000001,{"$f":"IF(Kalkulator!$B$35=TRUE,0,VLOOKUP(TODAY()+A607,T:V,3,1)/100)","v":0.23}]
[606,0.1,9.5100000000000004E-2,7.46E-2,7.46E-2,0.1759,0.13869999999999999,{"$f":"IF(Kalkulator!$B$35=TRUE,0,VLOOKUP(TODAY()+A608,T:V,3,1)/100)","v":0.23}]
[607,9.9900000000000003E-2,9.5100000000000004E-2,7.46E-2,7.46E-2,0.1759,0.13850000000000001,{"$f":"IF(Kalkulator!$B$35=TRUE,0,VLOOKUP(TODAY()+A609,T:V,3,1)/100)","v":0.23}]
[608,9.9900000000000003E-2,9.5100000000000004E-2,7.46E-2,7.46E-2,0.1759,0.1384,{"$f":"IF(Kalkulator!$B$35=TRUE,0,VLOOKUP(TODAY()+A610,T:V,3,1)/100)","v":0.23}]
[609,9.98E-2,9.5100000000000004E-2,7.46E-2,7.46E-2,0.1759,0.13830000000000001,{"$f":"IF(Kalkulator!$B$35=TRUE,0,VLOOKUP(TODAY()+A611,T:V,3,1)/100)","v":0.23}]
[610,9.98E-2,9.5100000000000004E-2,7.46E-2,7.46E-2,0.1759,0.1381,{"$f":"IF(Kalkulator!$B$35=TRUE,0,VLOOKUP(TODAY()+A612,T:V,3,1)/100)","v":0.23}]
[611,9.9699999999999997E-2,9.5100000000000004E-2,7.46E-2,7.46E-2,0.1759,0.13800000000000001,{"$f":"IF(Kalkulator!$B$35=TRUE,0,VLOOKUP(TODAY()+A613,T:V,3,1)/100)","v":0.23}]
[612,9.9699999999999997E-2,9.5100000000000004E-2,7.46E-2,7.46E-2,0.1759,0.13780000000000001,{"$f":"IF(Kalkulator!$B$35=TRUE,0,VLOOKUP(TODAY()+A614,T:V,3,1)/100)","v":0.23}]
[613,9.9599999999999994E-2,9.5100000000000004E-2,7.46E-2,7.46E-2,0.1759,0.13769999999999999,{"$f":"IF(Kalkulator!$B$35=TRUE,0,VLOOKUP(TODAY()+A615,T:V,3,1)/100)","v":0.23}]
[614,9.9599999999999994E-2,9.5100000000000004E-2,7.46E-2,7.46E-2,0.1759,0.1376,{"$f":"IF(Kalkulator!$B$35=TRUE,0,VLOOKUP(TODAY()+A616,T:V,3,1)/100)","v":0.23}]
[615,9.9500000000000005E-2,9.5100000000000004E-2,7.46E-2,7.46E-2,0.1759,0.13739999999999999,{"$f":"IF(Kalkulator!$B$35=TRUE,0,VLOOKUP(TODAY()+A617,T:V,3,1)/100)","v":0.23}]
[616,9.9500000000000005E-2,9.5100000000000004E-2,7.46E-2,7.46E-2,0.1759,0.13730000000000001,{"$f":"IF(Kalkulator!$B$35=TRUE,0,VLOOKUP(TODAY()+A618,T:V,3,1)/100)","v":0.23}]
[617,9.9400000000000002E-2,9.5100000000000004E-2,7.46E-2,7.46E-2,0.1759,0.13719999999999999,{"$f":"IF(Kalkulator!$B$35=TRUE,0,VLOOKUP(TODAY()+A619,T:V,3,1)/100)","v":0.23}]
[618,9.9400000000000002E-2,9.5100000000000004E-2,7.46E-2,7.46E-2,0.1759,0.13700000000000001,{"$f":"IF(Kalkulator!$B$35=TRUE,0,VLOOKUP(TODAY()+A620,T:V,3,1)/100)","v":0.23}]
[619,9.9299999999999999E-2,9.5100000000000004E-2,7.46E-2,7.46E-2,0.1759,0.13689999999999999,{"$f":"IF(Kalkulator!$B$35=TRUE,0,VLOOKUP(TODAY()+A621,T:V,3,1)/100)","v":0.23}]
[620,9.9299999999999999E-2,9.5100000000000004E-2,7.46E-2,7.46E-2,0.1759,0.1368,{"$f":"IF(Kalkulator!$B$35=TRUE,0,VLOOKUP(TODAY()+A622,T:V,3,1)/100)","v":0.23}]
[621,9.9199999999999997E-2,9.5100000000000004E-2,7.46E-2,7.46E-2,0.1759,0.1366,{"$f":"IF(Kalkulator!$B$35=TRUE,0,VLOOKUP(TODAY()+A623,T:V,3,1)/100)","v":0.23}]
[622,9.9199999999999997E-2,9.5100000000000004E-2,7.46E-2,7.46E-2,0.1759,0.13650000000000001,{"$f":"IF(Kalkulator!$B$35=TRUE,0,VLOOKUP(TODAY()+A624,T:V,3,1)/100)","v":0.23}]
[623,9.9099999999999994E-2,9.5100000000000004E-2,7.46E-2,7.46E-2,0.1759,0.13639999999999999,{"$f":"IF(Kalkulator!$B$35=TRUE,0,VLOOKUP(TODAY()+A625,T:V,3,1)/100)","v":0.23}]
[624,9.9099999999999994E-2,9.5100000000000004E-2,7.46E-2,7.46E-2,0.1759,0.13619999999999999,{"$f":"IF(Kalkulator!$B$35=TRUE,0,VLOOKUP(TODAY()+A626,T:V,3,1)/100)","v":0.23}]
[625,9.9099999999999994E-2,9.5100000000000004E-2,7.46E-2,7.46E-2,0.1759,0.1361,{"$f":"IF(Kalkulator!$B$35=TRUE,0,VLOOKUP(TODAY()+A627,T:V,3,1)/100)","v":0.23}]
[626,9.9000000000000005E-2,9.5100000000000004E-2,7.46E-2,7.46E-2,0.1759,0.13600000000000001,{"$f":"IF(Kalkulator!$B$35=TRUE,0,VLOOKUP(TODAY()+A628,T:V,3,1)/100)","v":0.23}]
[627,9.9000000000000005E-2,9.5100000000000004E-2,7.46E-2,7.46E-2,0.1759,0.1358,{"$f":"IF(Kalkulator!$B$35=TRUE,0,VLOOKUP(TODAY()+A629,T:V,3,1)/100)","v":0.23}]
[628,9.8900000000000002E-2,9.5100000000000004E-2,7.46E-2,7.46E-2,0.1759,0.13569999999999999,{"$f":"IF(Kalkulator!$B$35=TRUE,0,VLOOKUP(TODAY()+A630,T:V,3,1)/100)","v":0.23}]
[629,9.8900000000000002E-2,9.5100000000000004E-2,7.46E-2,7.46E-2,0.1759,0.1356,{"$f":"IF(Kalkulator!$B$35=TRUE,0,VLOOKUP(TODAY()+A631,T:V,3,1)/100)","v":0.23}]
[630,9.8799999999999999E-2,9.5100000000000004E-2,7.46E-2,7.46E-2,0.1759,0.13539999999999999,{"$f":"IF(Kalkulator!$B$35=TRUE,0,VLOOKUP(TODAY()+A632,T:V,3,1)/100)","v":0.23}]
[631,9.8799999999999999E-2,9.5100000000000004E-2,7.46E-2,7.46E-2,0.1759,0.1353,{"$f":"IF(Kalkulator!$B$35=TRUE,0,VLOOKUP(TODAY()+A633,T:V,3,1)/100)","v":0.23}]
[632,9.8699999999999996E-2,9.5100000000000004E-2,7.46E-2,7.46E-2,0.1759,0.1351,{"$f":"IF(Kalkulator!$B$35=TRUE,0,VLOOKUP(TODAY()+A634,T:V,3,1)/100)","v":0.23}]
[633,9.8699999999999996E-2,9.5100000000000004E-2,7.46E-2,7.46E-2,0.1759,0.13500000000000001,{"$f":"IF(Kalkulator!$B$35=TRUE,0,VLOOKUP(TODAY()+A635,T:V,3,1)/100)","v":0.23}]
[634,9.8599999999999993E-2,9.5100000000000004E-2,7.46E-2,7.46E-2,0.1759,0.13489999999999999,{"$f":"IF(Kalkulator!$B$35=TRUE,0,VLOOKUP(TODAY()+A636,T:V,3,1)/100)","v":0.23}]
[635,9.8599999999999993E-2,9.5100000000000004E-2,7.46E-2,7.46E-2,0.1759,0.13469999999999999,{"$f":"IF(Kalkulator!$B$35=TRUE,0,VLOOKUP(TODAY()+A637,T:V,3,1)/100)","v":0.23}]
[636,9.8500000000000004E-2,9.5100000000000004E-2,7.46E-2,7.46E-2,0.1759,0.1346,{"$f":"IF(Kalkulator!$B$35=TRUE,0,VLOOKUP(TODAY()+A638,T:V,3,1)/100)","v":0.23}]
[637,9.8500000000000004E-2,9.5100000000000004E-2,7.46E-2,7.46E-2,0.1759,0.13450000000000001,{"$f":"IF(Kalkulator!$B$35=TRUE,0,VLOOKUP(TODAY()+A639,T:V,3,1)/100)","v":0.23}]
[638,9.8400000000000001E-2,9.5100000000000004E-2,7.46E-2,7.46E-2,0.1759,0.1343,{"$f":"IF(Kalkulator!$B$35=TRUE,0,VLOOKUP(TODAY()+A640,T:V,3,1)/100)","v":0.23}]
[639,9.8400000000000001E-2,9.5100000000000004E-2,7.46E-2,7.46E-2,0.1759,0.13420000000000001,{"$f":"IF(Kalkulator!$B$35=TRUE,0,VLOOKUP(TODAY()+A641,T:V,3,1)/100)","v":0.23}]
[640,9.8299999999999998E-2,9.5100000000000004E-2,7.46E-2,7.46E-2,0.1759,0.1341,{"$f":"IF(Kalkulator!$B$35=TRUE,0,VLOOKUP(TODAY()+A642,T:V,3,1)/100)","v":0.23}]
[641,9.8299999999999998E-2,9.5100000000000004E-2,7.46E-2,7.46E-2,0.1759,0.13400000000000001,{"$f":"IF(Kalkulator!$B$35=TRUE,0,VLOOKUP(TODAY()+A643,T:V,3,1)/100)","v":0.23}]
[642,9.8199999999999996E-2,9.5100000000000004E-2,7.46E-2,7.46E-2,0.1759,0.13389999999999999,{"$f":"IF(Kalkulator!$B$35=TRUE,0,VLOOKUP(TODAY()+A644,T:V,3,1)/100)","v":0.23}]
[643,9.8199999999999996E-2,9.5100000000000004E-2,7.46E-2,7.46E-2,0.1759,0.13389999999999999,{"$f":"IF(Kalkulator!$B$35=TRUE,0,VLOOKUP(TODAY()+A645,T:V,3,1)/100)","v":0.23}]
[644,9.8100000000000007E-2,9.5100000000000004E-2,7.46E-2,7.46E-2,0.1759,0.1338,{"$f":"IF(Kalkulator!$B$35=TRUE,0,VLOOKUP(TODAY()+A646,T:V,3,1)/100)","v":0.23}]
[645,9.8100000000000007E-2,9.5100000000000004E-2,7.46E-2,7.46E-2,0.1759,0.13370000000000001,{"$f":"IF(Kalkulator!$B$35=TRUE,0,VLOOKUP(TODAY()+A647,T:V,3,1)/100)","v":0.23}]
[646,9.8100000000000007E-2,9.5100000000000004E-2,7.46E-2,7.46E-2,0.1759,0.1336,{"$f":"IF(Kalkulator!$B$35=TRUE,0,VLOOKUP(TODAY()+A648,T:V,3,1)/100)","v":0.23}]
[647,9.8000000000000004E-2,9.5100000000000004E-2,7.46E-2,7.46E-2,0.1759,0.13350000000000001,{"$f":"IF(Kalkulator!$B$35=TRUE,0,VLOOKUP(TODAY()+A649,T:V,3,1)/100)","v":0.23}]
[648,9.8000000000000004E-2,9.5100000000000004E-2,7.46E-2,7.46E-2,0.1759,0.13339999999999999,{"$f":"IF(Kalkulator!$B$35=TRUE,0,VLOOKUP(TODAY()+A650,T:V,3,1)/100)","v":0.23}]
[649,9.7900000000000001E-2,9.5100000000000004E-2,7.46E-2,7.46E-2,0.1759,0.1333,{"$f":"IF(Kalkulator!$B$35=TRUE,0,VLOOKUP(TODAY()+A651,T:V,3,1)/100)","v":0.23}]
[650,9.7900000000000001E-2,9.5100000000000004E-2,7.46E-2,7.46E-2,0.1759,0.13320000000000001,{"$f":"IF(Kalkulator!$B$35=TRUE,0,VLOOKUP(TODAY()+A652,T:V,3,1)/100)","v":0.23}]
[651,9.7799999999999998E-2,9.5100000000000004E-2,7.46E-2,7.46E-2,0.1759,0.13320000000000001,{"$f":"IF(Kalkulator!$B$35=TRUE,0,VLOOKUP(TODAY()+A653,T:V,3,1)/100)","v":0.23}]
[652,9.7799999999999998E-2,9.5100000000000004E-2,7.46E-2,7.46E-2,0.1759,0.1331,{"$f":"IF(Kalkulator!$B$35=TRUE,0,VLOOKUP(TODAY()+A654,T:V,3,1)/100)","v":0.23}]
[653,9.7699999999999995E-2,9.5100000000000004E-2,7.46E-2,7.46E-2,0.1759,0.13300000000000001,{"$f":"IF(Kalkulator!$B$35=TRUE,0,VLOOKUP(TODAY()+A655,T:V,3,1)/100)","v":0.23}]
[654,9.7699999999999995E-2,9.5100000000000004E-2,7.46E-2,7.46E-2,0.1759,0.13289999999999999,{"$f":"IF(Kalkulator!$B$35=TRUE,0,VLOOKUP(TODAY()+A656,T:V,3,1)/100)","v":0.23}]
[655,9.7600000000000006E-2,9.5100000000000004E-2,7.46E-2,7.46E-2,0.1759,0.1328,{"$f":"IF(Kalkulator!$B$35=TRUE,0,VLOOKUP(TODAY()+A657,T:V,3,1)/100)","v":0.23}]
[656,9.7600000000000006E-2,9.5100000000000004E-2,7.46E-2,7.46E-2,0.1759,0.13270000000000001,{"$f":"IF(Kalkulator!$B$35=TRUE,0,VLOOKUP(TODAY()+A658,T:V,3,1)/100)","v":0.23}]
[657,9.7500000000000003E-2,9.5100000000000004E-2,7.46E-2,7.46E-2,0.1759,0.1326,{"$f":"IF(Kalkulator!$B$35=TRUE,0,VLOOKUP(TODAY()+A659,T:V,3,1)/100)","v":0.23}]
[658,9.7500000000000003E-2,9.5100000000000004E-2,7.46E-2,7.46E-2,0.1759,0.1326,{"$f":"IF(Kalkulator!$B$35=TRUE,0,VLOOKUP(TODAY()+A660,T:V,3,1)/100)","v":0.23}]
[659,9.74E-2,9.5100000000000004E-2,7.46E-2,7.46E-2,0.1759,0.13250000000000001,{"$f":"IF(Kalkulator!$B$35=TRUE,0,VLOOKUP(TODAY()+A661,T:V,3,1)/100)","v":0.23}]
[660,9.74E-2,9.5100000000000004E-2,7.46E-2,7.46E-2,0.1759,0.13239999999999999,{"$f":"IF(Kalkulator!$B$35=TRUE,0,VLOOKUP(TODAY()+A662,T:V,3,1)/100)","v":0.23}]
[661,9.7299999999999998E-2,9.5100000000000004E-2,7.46E-2,7.46E-2,0.1759,0.1323,{"$f":"IF(Kalkulator!$B$35=TRUE,0,VLOOKUP(TODAY()+A663,T:V,3,1)/100)","v":0.23}]
[662,9.7299999999999998E-2,9.5100000000000004E-2,7.46E-2,7.46E-2,0.1759,0.13220000000000001,{"$f":"IF(Kalkulator!$B$35=TRUE,0,VLOOKUP(TODAY()+A664,T:V,3,1)/100)","v":0.23}]
[663,9.7199999999999995E-2,9.5100000000000004E-2,7.46E-2,7.46E-2,0.1759,0.1321,{"$f":"IF(Kalkulator!$B$35=TRUE,0,VLOOKUP(TODAY()+A665,T:V,3,1)/100)","v":0.23}]
[664,9.7199999999999995E-2,9.5100000000000004E-2,7.46E-2,7.46E-2,0.1759,0.13200000000000001,{"$f":"IF(Kalkulator!$B$35=TRUE,0,VLOOKUP(TODAY()+A666,T:V,3,1)/100)","v":0.23}]
[665,9.7199999999999995E-2,9.5100000000000004E-2,7.46E-2,7.46E-2,0.1759,0.13200000000000001,{"$f":"IF(Kalkulator!$B$35=TRUE,0,VLOOKUP(TODAY()+A667,T:V,3,1)/100)","v":0.23}]
[666,9.7100000000000006E-2,9.5100000000000004E-2,7.46E-2,7.46E-2,0.1759,0.13189999999999999,{"$f":"IF(Kalkulator!$B$35=TRUE,0,VLOOKUP(TODAY()+A668,T:V,3,1)/100)","v":0.23}]
[667,9.7100000000000006E-2,9.5100000000000004E-2,7.46E-2,7.46E-2,0.1759,0.1318,{"$f":"IF(Kalkulator!$B$35=TRUE,0,VLOOKUP(TODAY()+A669,T:V,3,1)/100)","v":0.23}]
[668,9.7000000000000003E-2,9.5100000000000004E-2,7.46E-2,7.46E-2,0.1759,0.13170000000000001,{"$f":"IF(Kalkulator!$B$35=TRUE,0,VLOOKUP(TODAY()+A670,T:V,3,1)/100)","v":0.23}]
[669,9.7000000000000003E-2,9.5100000000000004E-2,7.46E-2,7.46E-2,0.1759,0.13159999999999999,{"$f":"IF(Kalkulator!$B$35=TRUE,0,VLOOKUP(TODAY()+A671,T:V,3,1)/100)","v":0.23}]
[670,9.69E-2,9.5100000000000004E-2,7.46E-2,7.46E-2,0.1759,0.13150000000000001,{"$f":"IF(Kalkulator!$B$35=TRUE,0,VLOOKUP(TODAY()+A672,T:V,3,1)/100)","v":0.23}]
[671,9.69E-2,9.5100000000000004E-2,7.46E-2,7.46E-2,0.1759,0.13139999999999999,{"$f":"IF(Kalkulator!$B$35=TRUE,0,VLOOKUP(TODAY()+A673,T:V,3,1)/100)","v":0.23}]
[672,9.6799999999999997E-2,9.5100000000000004E-2,7.46E-2,7.46E-2,0.1759,0.1313,{"$f":"IF(Kalkulator!$B$35=TRUE,0,VLOOKUP(TODAY()+A674,T:V,3,1)/100)","v":0.23}]
[673,9.6799999999999997E-2,9.5100000000000004E-2,7.46E-2,7.46E-2,0.1759,0.1313,{"$f":"IF(Kalkulator!$B$35=TRUE,0,VLOOKUP(TODAY()+A675,T:V,3,1)/100)","v":0.23}]
[674,9.6699999999999994E-2,9.5100000000000004E-2,7.46E-2,7.46E-2,0.1759,0.13120000000000001,{"$f":"IF(Kalkulator!$B$35=TRUE,0,VLOOKUP(TODAY()+A676,T:V,3,1)/100)","v":0.23}]
[675,9.6699999999999994E-2,9.5100000000000004E-2,7.46E-2,7.46E-2,0.1759,0.13109999999999999,{"$f":"IF(Kalkulator!$B$35=TRUE,0,VLOOKUP(TODAY()+A677,T:V,3,1)/100)","v":0.23}]
[676,9.6600000000000005E-2,9.5100000000000004E-2,7.46E-2,7.46E-2,0.1759,0.13100000000000001,{"$f":"IF(Kalkulator!$B$35=TRUE,0,VLOOKUP(TODAY()+A678,T:V,3,1)/100)","v":0.23}]
[677,9.6600000000000005E-2,9.5100000000000004E-2,7.46E-2,7.46E-2,0.1759,0.13089999999999999,{"$f":"IF(Kalkulator!$B$35=TRUE,0,VLOOKUP(TODAY()+A679,T:V,3,1)/100)","v":0.23}]
[678,9.6500000000000002E-2,9.5100000000000004E-2,7.46E-2,7.46E-2,0.1759,0.1308,{"$f":"IF(Kalkulator!$B$35=TRUE,0,VLOOKUP(TODAY()+A680,T:V,3,1)/100)","v":0.23}]
[679,9.6500000000000002E-2,9.5100000000000004E-2,7.46E-2,7.46E-2,0.1759,0.13070000000000001,{"$f":"IF(Kalkulator!$B$35=TRUE,0,VLOOKUP(TODAY()+A681,T:V,3,1)/100)","v":0.23}]
[680,9.64E-2,9.5100000000000004E-2,7.46E-2,7.46E-2,0.1759,0.13070000000000001,{"$f":"IF(Kalkulator!$B$35=TRUE,0,VLOOKUP(TODAY()+A682,T:V,3,1)/100)","v":0.23}]
[681,9.64E-2,9.5100000000000004E-2,7.46E-2,7.46E-2,0.1759,0.13059999999999999,{"$f":"IF(Kalkulator!$B$35=TRUE,0,VLOOKUP(TODAY()+A683,T:V,3,1)/100)","v":0.23}]
[682,9.6299999999999997E-2,9.5100000000000004E-2,7.46E-2,7.46E-2,0.1759,0.1305,{"$f":"IF(Kalkulator!$B$35=TRUE,0,VLOOKUP(TODAY()+A684,T:V,3,1)/100)","v":0.23}]
[683,9.6299999999999997E-2,9.5100000000000004E-2,7.46E-2,7.46E-2,0.1759,0.13039999999999999,{"$f":"IF(Kalkulator!$B$35=TRUE,0,VLOOKUP(TODAY()+A685,T:V,3,1)/100)","v":0.23}]
[684,9.6299999999999997E-2,9.5100000000000004E-2,7.46E-2,7.46E-2,0.1759,0.1303,{"$f":"IF(Kalkulator!$B$35=TRUE,0,VLOOKUP(TODAY()+A686,T:V,3,1)/100)","v":0.23}]
[685,9.6199999999999994E-2,9.5100000000000004E-2,7.46E-2,7.46E-2,0.1759,0.13020000000000001,{"$f":"IF(Kalkulator!$B$35=TRUE,0,VLOOKUP(TODAY()+A687,T:V,3,1)/100)","v":0.23}]
[686,9.6199999999999994E-2,9.5100000000000004E-2,7.46E-2,7.46E-2,0.1759,0.13009999999999999,{"$f":"IF(Kalkulator!$B$35=TRUE,0,VLOOKUP(TODAY()+A688,T:V,3,1)/100)","v":0.23}]
[687,9.6100000000000005E-2,9.5100000000000004E-2,7.46E-2,7.46E-2,0.1759,0.13,{"$f":"IF(Kalkulator!$B$35=TRUE,0,VLOOKUP(TODAY()+A689,T:V,3,1)/100)","v":0.23}]
[688,9.6100000000000005E-2,9.5100000000000004E-2,7.46E-2,7.46E-2,0.1759,0.13,{"$f":"IF(Kalkulator!$B$35=TRUE,0,VLOOKUP(TODAY()+A690,T:V,3,1)/100)","v":0.23}]
[689,9.6000000000000002E-2,9.5100000000000004E-2,7.46E-2,7.46E-2,0.1759,0.12989999999999999,{"$f":"IF(Kalkulator!$B$35=TRUE,0,VLOOKUP(TODAY()+A691,T:V,3,1)/100)","v":0.23}]
[690,9.6000000000000002E-2,9.5100000000000004E-2,7.46E-2,7.46E-2,0.1759,0.1298,{"$f":"IF(Kalkulator!$B$35=TRUE,0,VLOOKUP(TODAY()+A692,T:V,3,1)/100)","v":0.23}]
[691,9.5899999999999999E-2,9.5100000000000004E-2,7.46E-2,7.46E-2,0.1759,0.12970000000000001,{"$f":"IF(Kalkulator!$B$35=TRUE,0,VLOOKUP(TODAY()+A693,T:V,3,1)/100)","v":0.23}]
[692,9.5899999999999999E-2,9.5100000000000004E-2,7.46E-2,7.46E-2,0.1759,0.12959999999999999,{"$f":"IF(Kalkulator!$B$35=TRUE,0,VLOOKUP(TODAY()+A694,T:V,3,1)/100)","v":0.23}]
[693,9.5799999999999996E-2,9.5100000000000004E-2,7.46E-2,7.46E-2,0.1759,0.1295,{"$f":"IF(Kalkulator!$B$35=TRUE,0,VLOOKUP(TODAY()+A695,T:V,3,1)/100)","v":0.23}]
[694,9.5799999999999996E-2,9.5100000000000004E-2,7.46E-2,7.46E-2,0.1759,0.12939999999999999,{"$f":"IF(Kalkulator!$B$35=TRUE,0,VLOOKUP(TODAY()+A696,T:V,3,1)/100)","v":0.23}]
[695,9.5699999999999993E-2,9.5100000000000004E-2,7.46E-2,7.46E-2,0.1759,0.12939999999999999,{"$f":"IF(Kalkulator!$B$35=TRUE,0,VLOOKUP(TODAY()+A697,T:V,3,1)/100)","v":0.23}]
[696,9.5699999999999993E-2,9.5100000000000004E-2,7.46E-2,7.46E-2,0.1759,0.1293,{"$f":"IF(Kalkulator!$B$35=TRUE,0,VLOOKUP(TODAY()+A698,T:V,3,1)/100)","v":0.23}]
[697,9.5600000000000004E-2,9.5100000000000004E-2,7.46E-2,7.46E-2,0.1759,0.12920000000000001,{"$f":"IF(Kalkulator!$B$35=TRUE,0,VLOOKUP(TODAY()+A699,T:V,3,1)/100)","v":0.23}]
[698,9.5600000000000004E-2,9.5100000000000004E-2,7.46E-2,7.46E-2,0.1759,0.12909999999999999,{"$f":"IF(Kalkulator!$B$35=TRUE,0,VLOOKUP(TODAY()+A700,T:V,3,1)/100)","v":0.23}]
[699,9.5500000000000002E-2,9.5100000000000004E-2,7.46E-2,7.46E-2,0.1759,0.129,{"$f":"IF(Kalkulator!$B$35=TRUE,0,VLOOKUP(TODAY()+A701,T:V,3,1)/100)","v":0.23}]
[700,9.5500000000000002E-2,9.5100000000000004E-2,7.46E-2,7.46E-2,0.1759,0.12889999999999999,{"$f":"IF(Kalkulator!$B$35=TRUE,0,VLOOKUP(TODAY()+A702,T:V,3,1)/100)","v":0.23}]
[701,9.5399999999999999E-2,9.5100000000000004E-2,7.46E-2,7.46E-2,0.1759,0.1288,{"$f":"IF(Kalkulator!$B$35=TRUE,0,VLOOKUP(TODAY()+A703,T:V,3,1)/100)","v":0.23}]
[702,9.5399999999999999E-2,9.5100000000000004E-2,7.46E-2,7.46E-2,0.1759,0.1288,{"$f":"IF(Kalkulator!$B$35=TRUE,0,VLOOKUP(TODAY()+A704,T:V,3,1)/100)","v":0.23}]
[703,9.5399999999999999E-2,9.5100000000000004E-2,7.46E-2,7.46E-2,0.1759,0.12870000000000001,{"$f":"IF(Kalkulator!$B$35=TRUE,0,VLOOKUP(TODAY()+A705,T:V,3,1)/100)","v":0.23}]
[704,9.5299999999999996E-2,9.5100000000000004E-2,7.46E-2,7.46E-2,0.1759,0.12859999999999999,{"$f":"IF(Kalkulator!$B$35=TRUE,0,VLOOKUP(TODAY()+A706,T:V,3,1)/100)","v":0.23}]
[705,9.5299999999999996E-2,9.5100000000000004E-2,7.46E-2,7.46E-2,0.1759,0.1285,{"$f":"IF(Kalkulator!$B$35=TRUE,0,VLOOKUP(TODAY()+A707,T:V,3,1)/100)","v":0.23}]
[706,9.5200000000000007E-2,9.5100000000000004E-2,7.46E-2,7.46E-2,0.1759,0.12839999999999999,{"$f":"IF(Kalkulator!$B$35=TRUE,0,VLOOKUP(TODAY()+A708,T:V,3,1)/100)","v":0.23}]
[707,9.5200000000000007E-2,9.5100000000000004E-2,7.46E-2,7.46E-2,0.1759,0.1283,{"$f":"IF(Kalkulator!$B$35=TRUE,0,VLOOKUP(TODAY()+A709,T:V,3,1)/100)","v":0.23}]
[708,9.5100000000000004E-2,9.5100000000000004E-2,7.46E-2,7.46E-2,0.1759,0.12820000000000001,{"$f":"IF(Kalkulator!$B$35=TRUE,0,VLOOKUP(TODAY()+A710,T:V,3,1)/100)","v":0.23}]
[709,9.5100000000000004E-2,9.5100000000000004E-2,7.46E-2,7.46E-2,0.1759,0.12809999999999999,{"$f":"IF(Kalkulator!$B$35=TRUE,0,VLOOKUP(TODAY()+A711,T:V,3,1)/100)","v":0.23}]
[710,9.5000000000000001E-2,9.5100000000000004E-2,7.46E-2,7.46E-2,0.1759,0.12809999999999999,{"$f":"IF(Kalkulator!$B$35=TRUE,0,VLOOKUP(TODAY()+A712,T:V,3,1)/100)","v":0.23}]
[711,9.5000000000000001E-2,9.5100000000000004E-2,7.46E-2,7.46E-2,0.1759,0.128,{"$f":"IF(Kalkulator!$B$35=TRUE,0,VLOOKUP(TODAY()+A713,T:V,3,1)/100)","v":0.23}]
[712,9.4899999999999998E-2,9.5100000000000004E-2,7.46E-2,7.46E-2,0.1759,0.12790000000000001,{"$f":"IF(Kalkulator!$B$35=TRUE,0,VLOOKUP(TODAY()+A714,T:V,3,1)/100)","v":0.23}]
[713,9.4899999999999998E-2,9.5100000000000004E-2,7.46E-2,7.46E-2,0.1759,0.1278,{"$f":"IF(Kalkulator!$B$35=TRUE,0,VLOOKUP(TODAY()+A715,T:V,3,1)/100)","v":0.23}]
[714,9.4799999999999995E-2,9.5100000000000004E-2,7.46E-2,7.46E-2,0.1759,0.12770000000000001,{"$f":"IF(Kalkulator!$B$35=TRUE,0,VLOOKUP(TODAY()+A716,T:V,3,1)/100)","v":0.23}]
[715,9.4799999999999995E-2,9.5100000000000004E-2,7.46E-2,7.46E-2,0.1759,0.12759999999999999,{"$f":"IF(Kalkulator!$B$35=TRUE,0,VLOOKUP(TODAY()+A717,T:V,3,1)/100)","v":0.23}]
[716,9.4700000000000006E-2,9.5100000000000004E-2,7.46E-2,7.46E-2,0.1759,0.1275,{"$f":"IF(Kalkulator!$B$35=TRUE,0,VLOOKUP(TODAY()+A718,T:V,3,1)/100)","v":0.23}]
[717,9.4700000000000006E-2,9.5100000000000004E-2,7.46E-2,7.46E-2,0.1759,0.1275,{"$f":"IF(Kalkulator!$B$35=TRUE,0,VLOOKUP(TODAY()+A719,T:V,3,1)/100)","v":0.23}]
[718,9.4600000000000004E-2,9.5100000000000004E-2,7.46E-2,7.46E-2,0.1759,0.12740000000000001,{"$f":"IF(Kalkulator!$B$35=TRUE,0,VLOOKUP(TODAY()+A720,T:V,3,1)/100)","v":0.23}]
[719,9.4600000000000004E-2,9.5100000000000004E-2,7.46E-2,7.46E-2,0.1759,0.1273,{"$f":"IF(Kalkulator!$B$35=TRUE,0,VLOOKUP(TODAY()+A721,T:V,3,1)/100)","v":0.23}]
[720,9.4500000000000001E-2,9.5100000000000004E-2,7.46E-2,7.46E-2,0.1759,0.12720000000000001,{"$f":"IF(Kalkulator!$B$35=TRUE,0,VLOOKUP(TODAY()+A722,T:V,3,1)/100)","v":0.23}]
[721,9.4500000000000001E-2,9.5100000000000004E-2,7.46E-2,7.46E-2,0.1759,0.12709999999999999,{"$f":"IF(Kalkulator!$B$35=TRUE,0,VLOOKUP(TODAY()+A723,T:V,3,1)/100)","v":0.23}]
[722,9.4500000000000001E-2,9.5100000000000004E-2,7.46E-2,7.46E-2,0.1759,0.127,{"$f":"IF(Kalkulator!$B$35=TRUE,0,VLOOKUP(TODAY()+A724,T:V,3,1)/100)","v":0.23}]
[723,9.4399999999999998E-2,9.5100000000000004E-2,7.46E-2,7.46E-2,0.1759,0.12690000000000001,{"$f":"IF(Kalkulator!$B$35=TRUE,0,VLOOKUP(TODAY()+A725,T:V,3,1)/100)","v":0.23}]
[724,9.4399999999999998E-2,9.5100000000000004E-2,7.46E-2,7.46E-2,0.1759,0.1268,{"$f":"IF(Kalkulator!$B$35=TRUE,0,VLOOKUP(TODAY()+A726,T:V,3,1)/100)","v":0.23}]
[725,9.4299999999999995E-2,9.5100000000000004E-2,7.46E-2,7.46E-2,0.1759,0.1268,{"$f":"IF(Kalkulator!$B$35=TRUE,0,VLOOKUP(TODAY()+A727,T:V,3,1)/100)","v":0.23}]
[726,9.4299999999999995E-2,9.5100000000000004E-2,7.46E-2,7.46E-2,0.1759,0.12670000000000001,{"$f":"IF(Kalkulator!$B$35=TRUE,0,VLOOKUP(TODAY()+A728,T:V,3,1)/100)","v":0.23}]
[727,9.4200000000000006E-2,9.5100000000000004E-2,7.46E-2,7.46E-2,0.1759,0.12659999999999999,{"$f":"IF(Kalkulator!$B$35=TRUE,0,VLOOKUP(TODAY()+A729,T:V,3,1)/100)","v":0.23}]
[728,9.4200000000000006E-2,9.5100000000000004E-2,7.46E-2,7.46E-2,0.1759,0.1265,{"$f":"IF(Kalkulator!$B$35=TRUE,0,VLOOKUP(TODAY()+A730,T:V,3,1)/100)","v":0.23}]
[729,9.4100000000000003E-2,9.5100000000000004E-2,7.46E-2,7.46E-2,0.1759,0.12640000000000001,{"$f":"IF(Kalkulator!$B$35=TRUE,0,VLOOKUP(TODAY()+A731,T:V,3,1)/100)","v":0.23}]
[730,9.4100000000000003E-2,9.5100000000000004E-2,7.46E-2,7.46E-2,0.1759,0.1263,{"$f":"IF(Kalkulator!$B$35=TRUE,0,VLOOKUP(TODAY()+A732,T:V,3,1)/100)","v":0.23}]
[731,9.4E-2,9.5100000000000004E-2,7.46E-2,7.46E-2,0.1759,0.12620000000000001,{"$f":"IF(Kalkulator!$B$35=TRUE,0,VLOOKUP(TODAY()+A733,T:V,3,1)/100)","v":0.23}]
[732,9.4E-2,9.5100000000000004E-2,7.46E-2,7.46E-2,0.1759,0.12620000000000001,{"$f":"IF(Kalkulator!$B$35=TRUE,0,VLOOKUP(TODAY()+A734,T:V,3,1)/100)","v":0.23}]
[733,9.3899999999999997E-2,9.5100000000000004E-2,7.46E-2,7.46E-2,0.1759,0.12609999999999999,{"$f":"IF(Kalkulator!$B$35=TRUE,0,VLOOKUP(TODAY()+A735,T:V,3,1)/100)","v":0.23}]
[734,9.3899999999999997E-2,9.5100000000000004E-2,7.46E-2,7.46E-2,0.1759,0.126,{"$f":"IF(Kalkulator!$B$35=TRUE,0,VLOOKUP(TODAY()+A736,T:V,3,1)/100)","v":0.23}]
[735,9.3799999999999994E-2,9.5100000000000004E-2,7.46E-2,7.46E-2,0.1759,0.12590000000000001,{"$f":"IF(Kalkulator!$B$35=TRUE,0,VLOOKUP(TODAY()+A737,T:V,3,1)/100)","v":0.23}]
[736,9.3799999999999994E-2,9.5100000000000004E-2,7.46E-2,7.46E-2,0.1759,0.1258,{"$f":"IF(Kalkulator!$B$35=TRUE,0,VLOOKUP(TODAY()+A738,T:V,3,1)/100)","v":0.23}]
[737,9.3700000000000006E-2,9.5100000000000004E-2,7.46E-2,7.46E-2,0.1759,0.12570000000000001,{"$f":"IF(Kalkulator!$B$35=TRUE,0,VLOOKUP(TODAY()+A739,T:V,3,1)/100)","v":0.23}]
[738,9.3700000000000006E-2,9.5100000000000004E-2,7.46E-2,7.46E-2,0.1759,0.12559999999999999,{"$f":"IF(Kalkulator!$B$35=TRUE,0,VLOOKUP(TODAY()+A740,T:V,3,1)/100)","v":0.23}]
[739,9.3600000000000003E-2,9.5100000000000004E-2,7.46E-2,7.46E-2,0.1759,0.12559999999999999,{"$f":"IF(Kalkulator!$B$35=TRUE,0,VLOOKUP(TODAY()+A741,T:V,3,1)/100)","v":0.23}]
[740,9.3600000000000003E-2,9.5100000000000004E-2,7.46E-2,7.46E-2,0.1759,0.1255,{"$f":"IF(Kalkulator!$B$35=TRUE,0,VLOOKUP(TODAY()+A742,T:V,3,1)/100)","v":0.23}]
[741,9.3600000000000003E-2,9.5100000000000004E-2,7.46E-2,7.46E-2,0.1759,0.12540000000000001,{"$f":"IF(Kalkulator!$B$35=TRUE,0,VLOOKUP(TODAY()+A743,T:V,3,1)/100)","v":0.23}]
[742,9.35E-2,9.5100000000000004E-2,7.46E-2,7.46E-2,0.1759,0.12529999999999999,{"$f":"IF(Kalkulator!$B$35=TRUE,0,VLOOKUP(TODAY()+A744,T:V,3,1)/100)","v":0.23}]
[743,9.35E-2,9.5100000000000004E-2,7.46E-2,7.46E-2,0.1759,0.12520000000000001,{"$f":"IF(Kalkulator!$B$35=TRUE,0,VLOOKUP(TODAY()+A745,T:V,3,1)/100)","v":0.23}]
[744,9.3399999999999997E-2,9.5100000000000004E-2,7.46E-2,7.46E-2,0.1759,0.12509999999999999,{"$f":"IF(Kalkulator!$B$35=TRUE,0,VLOOKUP(TODAY()+A746,T:V,3,1)/100)","v":0.23}]
[745,9.3399999999999997E-2,9.5100000000000004E-2,7.46E-2,7.46E-2,0.1759,0.125,{"$f":"IF(Kalkulator!$B$35=TRUE,0,VLOOKUP(TODAY()+A747,T:V,3,1)/100)","v":0.23}]
[746,9.3299999999999994E-2,9.5100000000000004E-2,7.46E-2,7.46E-2,0.1759,0.1249,{"$f":"IF(Kalkulator!$B$35=TRUE,0,VLOOKUP(TODAY()+A748,T:V,3,1)/100)","v":0.23}]
[747,9.3299999999999994E-2,9.5100000000000004E-2,7.46E-2,7.46E-2,0.1759,0.1249,{"$f":"IF(Kalkulator!$B$35=TRUE,0,VLOOKUP(TODAY()+A749,T:V,3,1)/100)","v":0.23}]
[748,9.3200000000000005E-2,9.5100000000000004E-2,7.46E-2,7.46E-2,0.1759,0.12479999999999999,{"$f":"IF(Kalkulator!$B$35=TRUE,0,VLOOKUP(TODAY()+A750,T:V,3,1)/100)","v":0.23}]
[749,9.3200000000000005E-2,9.5100000000000004E-2,7.46E-2,7.46E-2,0.1759,0.12470000000000001,{"$f":"IF(Kalkulator!$B$35=TRUE,0,VLOOKUP(TODAY()+A751,T:V,3,1)/100)","v":0.23}]
[750,9.3100000000000002E-2,9.5100000000000004E-2,7.46E-2,7.46E-2,0.1759,0.1246,{"$f":"IF(Kalkulator!$B$35=TRUE,0,VLOOKUP(TODAY()+A752,T:V,3,1)/100)","v":0.23}]
[751,9.3100000000000002E-2,9.5100000000000004E-2,7.46E-2,7.46E-2,0.1759,0.1245,{"$f":"IF(Kalkulator!$B$35=TRUE,0,VLOOKUP(TODAY()+A753,T:V,3,1)/100)","v":0.23}]
[752,9.2999999999999999E-2,9.5100000000000004E-2,7.46E-2,7.46E-2,0.1759,0.1244,{"$f":"IF(Kalkulator!$B$35=TRUE,0,VLOOKUP(TODAY()+A754,T:V,3,1)/100)","v":0.23}]
[753,9.2999999999999999E-2,9.5100000000000004E-2,7.46E-2,7.46E-2,0.1759,0.12429999999999999,{"$f":"IF(Kalkulator!$B$35=TRUE,0,VLOOKUP(TODAY()+A755,T:V,3,1)/100)","v":0.23}]
[754,9.2899999999999996E-2,9.5100000000000004E-2,7.46E-2,7.46E-2,0.1759,0.12429999999999999,{"$f":"IF(Kalkulator!$B$35=TRUE,0,VLOOKUP(TODAY()+A756,T:V,3,1)/100)","v":0.23}]
[755,9.2899999999999996E-2,9.5100000000000004E-2,7.46E-2,7.46E-2,0.1759,0.1242,{"$f":"IF(Kalkulator!$B$35=TRUE,0,VLOOKUP(TODAY()+A757,T:V,3,1)/100)","v":0.23}]
[756,9.2799999999999994E-2,9.5100000000000004E-2,7.46E-2,7.46E-2,0.1759,0.1241,{"$f":"IF(Kalkulator!$B$35=TRUE,0,VLOOKUP(TODAY()+A758,T:V,3,1)/100)","v":0.23}]
[757,9.2799999999999994E-2,9.5100000000000004E-2,7.46E-2,7.46E-2,0.1759,0.124,{"$f":"IF(Kalkulator!$B$35=TRUE,0,VLOOKUP(TODAY()+A759,T:V,3,1)/100)","v":0.23}]
[758,9.2700000000000005E-2,9.5100000000000004E-2,7.46E-2,7.46E-2,0.1759,0.1239,{"$f":"IF(Kalkulator!$B$35=TRUE,0,VLOOKUP(TODAY()+A760,T:V,3,1)/100)","v":0.23}]
[759,9.2700000000000005E-2,9.5100000000000004E-2,7.46E-2,7.46E-2,0.1759,0.12379999999999999,{"$f":"IF(Kalkulator!$B$35=TRUE,0,VLOOKUP(TODAY()+A761,T:V,3,1)/100)","v":0.23}]
[760,9.2700000000000005E-2,9.5100000000000004E-2,7.46E-2,7.46E-2,0.1759,0.1237,{"$f":"IF(Kalkulator!$B$35=TRUE,0,VLOOKUP(TODAY()+A762,T:V,3,1)/100)","v":0.23}]
[761,9.2600000000000002E-2,9.5100000000000004E-2,7.46E-2,7.46E-2,0.1759,0.1236,{"$f":"IF(Kalkulator!$B$35=TRUE,0,VLOOKUP(TODAY()+A763,T:V,3,1)/100)","v":0.23}]
[762,9.2600000000000002E-2,9.5100000000000004E-2,7.46E-2,7.46E-2,0.1759,0.1236,{"$f":"IF(Kalkulator!$B$35=TRUE,0,VLOOKUP(TODAY()+A764,T:V,3,1)/100)","v":0.23}]
[763,9.2499999999999999E-2,9.5100000000000004E-2,7.46E-2,7.46E-2,0.1759,0.1235,{"$f":"IF(Kalkulator!$B$35=TRUE,0,VLOOKUP(TODAY()+A765,T:V,3,1)/100)","v":0.23}]
[764,9.2499999999999999E-2,9.5100000000000004E-2,7.46E-2,7.46E-2,0.1759,0.1234,{"$f":"IF(Kalkulator!$B$35=TRUE,0,VLOOKUP(TODAY()+A766,T:V,3,1)/100)","v":0.23}]
[765,9.2399999999999996E-2,9.5100000000000004E-2,7.46E-2,7.46E-2,0.1759,0.12330000000000001,{"$f":"IF(Kalkulator!$B$35=TRUE,0,VLOOKUP(TODAY()+A767,T:V,3,1)/100)","v":0.23}]
[766,9.2399999999999996E-2,9.5100000000000004E-2,7.46E-2,7.46E-2,0.1759,0.1232,{"$f":"IF(Kalkulator!$B$35=TRUE,0,VLOOKUP(TODAY()+A768,T:V,3,1)/100)","v":0.23}]
[767,9.2299999999999993E-2,9.5100000000000004E-2,7.46E-2,7.46E-2,0.1759,0.1231,{"$f":"IF(Kalkulator!$B$35=TRUE,0,VLOOKUP(TODAY()+A769,T:V,3,1)/100)","v":0.23}]
[768,9.2299999999999993E-2,9.5100000000000004E-2,7.46E-2,7.46E-2,0.1759,0.123,{"$f":"IF(Kalkulator!$B$35=TRUE,0,VLOOKUP(TODAY()+A770,T:V,3,1)/100)","v":0.23}]
[769,9.2200000000000004E-2,9.5100000000000004E-2,7.46E-2,7.46E-2,0.1759,0.123,{"$f":"IF(Kalkulator!$B$35=TRUE,0,VLOOKUP(TODAY()+A771,T:V,3,1)/100)","v":0.23}]
[770,9.2200000000000004E-2,9.5100000000000004E-2,7.46E-2,7.46E-2,0.1759,0.1229,{"$f":"IF(Kalkulator!$B$35=TRUE,0,VLOOKUP(TODAY()+A772,T:V,3,1)/100)","v":0.23}]
[771,9.2100000000000001E-2,9.5100000000000004E-2,7.46E-2,7.46E-2,0.1759,0.12280000000000001,{"$f":"IF(Kalkulator!$B$35=TRUE,0,VLOOKUP(TODAY()+A773,T:V,3,1)/100)","v":0.23}]
[772,9.2100000000000001E-2,9.5100000000000004E-2,7.46E-2,7.46E-2,0.1759,0.1227,{"$f":"IF(Kalkulator!$B$35=TRUE,0,VLOOKUP(TODAY()+A774,T:V,3,1)/100)","v":0.23}]
[773,9.1999999999999998E-2,9.5100000000000004E-2,7.46E-2,7.46E-2,0.1759,0.1226,{"$f":"IF(Kalkulator!$B$35=TRUE,0,VLOOKUP(TODAY()+A775,T:V,3,1)/100)","v":0.23}]
[774,9.1999999999999998E-2,9.5100000000000004E-2,7.46E-2,7.46E-2,0.1759,0.1225,{"$f":"IF(Kalkulator!$B$35=TRUE,0,VLOOKUP(TODAY()+A776,T:V,3,1)/100)","v":0.23}]
[775,9.1899999999999996E-2,9.5100000000000004E-2,7.46E-2,7.46E-2,0.1759,0.12239999999999999,{"$f":"IF(Kalkulator!$B$35=TRUE,0,VLOOKUP(TODAY()+A777,T:V,3,1)/100)","v":0.23}]
[776,9.1899999999999996E-2,9.5100000000000004E-2,7.46E-2,7.46E-2,0.1759,0.12239999999999999,{"$f":"IF(Kalkulator!$B$35=TRUE,0,VLOOKUP(TODAY()+A778,T:V,3,1)/100)","v":0.23}]
[777,9.1800000000000007E-2,9.5100000000000004E-2,7.46E-2,7.46E-2,0.1759,0.12230000000000001,{"$f":"IF(Kalkulator!$B$35=TRUE,0,VLOOKUP(TODAY()+A779,T:V,3,1)/100)","v":0.23}]
[778,9.1800000000000007E-2,9.5100000000000004E-2,7.46E-2,7.46E-2,0.1759,0.1222,{"$f":"IF(Kalkulator!$B$35=TRUE,0,VLOOKUP(TODAY()+A780,T:V,3,1)/100)","v":0.23}]
[779,9.1800000000000007E-2,9.5100000000000004E-2,7.46E-2,7.46E-2,0.1759,0.1221,{"$f":"IF(Kalkulator!$B$35=TRUE,0,VLOOKUP(TODAY()+A781,T:V,3,1)/100)","v":0.23}]
[780,9.1700000000000004E-2,9.5100000000000004E-2,7.46E-2,7.46E-2,0.1759,0.122,{"$f":"IF(Kalkulator!$B$35=TRUE,0,VLOOKUP(TODAY()+A782,T:V,3,1)/100)","v":0.23}]
[781,9.1700000000000004E-2,9.5100000000000004E-2,7.46E-2,7.46E-2,0.1759,0.12189999999999999,{"$f":"IF(Kalkulator!$B$35=TRUE,0,VLOOKUP(TODAY()+A783,T:V,3,1)/100)","v":0.23}]
[782,9.1600000000000001E-2,9.5100000000000004E-2,7.46E-2,7.46E-2,0.1759,0.12180000000000001,{"$f":"IF(Kalkulator!$B$35=TRUE,0,VLOOKUP(TODAY()+A784,T:V,3,1)/100)","v":0.23}]
[783,9.1600000000000001E-2,9.5100000000000004E-2,7.46E-2,7.46E-2,0.1759,0.1217,{"$f":"IF(Kalkulator!$B$35=TRUE,0,VLOOKUP(TODAY()+A785,T:V,3,1)/100)","v":0.23}]
[784,9.1499999999999998E-2,9.5100000000000004E-2,7.46E-2,7.46E-2,0.1759,0.1217,{"$f":"IF(Kalkulator!$B$35=TRUE,0,VLOOKUP(TODAY()+A786,T:V,3,1)/100)","v":0.23}]
[785,9.1499999999999998E-2,9.5100000000000004E-2,7.46E-2,7.46E-2,0.1759,0.1216,{"$f":"IF(Kalkulator!$B$35=TRUE,0,VLOOKUP(TODAY()+A787,T:V,3,1)/100)","v":0.23}]
[786,9.1399999999999995E-2,9.5100000000000004E-2,7.46E-2,7.46E-2,0.1759,0.1215,{"$f":"IF(Kalkulator!$B$35=TRUE,0,VLOOKUP(TODAY()+A788,T:V,3,1)/100)","v":0.23}]
[787,9.1399999999999995E-2,9.5100000000000004E-2,7.46E-2,7.46E-2,0.1759,0.12139999999999999,{"$f":"IF(Kalkulator!$B$35=TRUE,0,VLOOKUP(TODAY()+A789,T:V,3,1)/100)","v":0.23}]
[788,9.1300000000000006E-2,9.5100000000000004E-2,7.46E-2,7.46E-2,0.1759,0.12130000000000001,{"$f":"IF(Kalkulator!$B$35=TRUE,0,VLOOKUP(TODAY()+A790,T:V,3,1)/100)","v":0.23}]
[789,9.1300000000000006E-2,9.5100000000000004E-2,7.46E-2,7.46E-2,0.1759,0.1212,{"$f":"IF(Kalkulator!$B$35=TRUE,0,VLOOKUP(TODAY()+A791,T:V,3,1)/100)","v":0.23}]
[790,9.1200000000000003E-2,9.5100000000000004E-2,7.46E-2,7.46E-2,0.1759,0.1211,{"$f":"IF(Kalkulator!$B$35=TRUE,0,VLOOKUP(TODAY()+A792,T:V,3,1)/100)","v":0.23}]
[791,9.1200000000000003E-2,9.5100000000000004E-2,7.46E-2,7.46E-2,0.1759,0.1211,{"$f":"IF(Kalkulator!$B$35=TRUE,0,VLOOKUP(TODAY()+A793,T:V,3,1)/100)","v":0.23}]
[792,9.11E-2,9.5100000000000004E-2,7.46E-2,7.46E-2,0.1759,0.121,{"$f":"IF(Kalkulator!$B$35=TRUE,0,VLOOKUP(TODAY()+A794,T:V,3,1)/100)","v":0.23}]
[793,9.11E-2,9.5100000000000004E-2,7.46E-2,7.46E-2,0.1759,0.12089999999999999,{"$f":"IF(Kalkulator!$B$35=TRUE,0,VLOOKUP(TODAY()+A795,T:V,3,1)/100)","v":0.23}]
[794,9.0999999999999998E-2,9.5100000000000004E-2,7.46E-2,7.46E-2,0.1759,0.1208,{"$f":"IF(Kalkulator!$B$35=TRUE,0,VLOOKUP(TODAY()+A796,T:V,3,1)/100)","v":0.23}]
[795,9.0999999999999998E-2,9.5100000000000004E-2,7.46E-2,7.46E-2,0.1759,0.1207,{"$f":"IF(Kalkulator!$B$35=TRUE,0,VLOOKUP(TODAY()+A797,T:V,3,1)/100)","v":0.23}]
[796,9.0899999999999995E-2,9.5100000000000004E-2,7.46E-2,7.46E-2,0.1759,0.1206,{"$f":"IF(Kalkulator!$B$35=TRUE,0,VLOOKUP(TODAY()+A798,T:V,3,1)/100)","v":0.23}]
[797,9.0899999999999995E-2,9.5100000000000004E-2,7.46E-2,7.46E-2,0.1759,0.1205,{"$f":"IF(Kalkulator!$B$35=TRUE,0,VLOOKUP(TODAY()+A799,T:V,3,1)/100)","v":0.23}]
[798,9.0899999999999995E-2,9.5100000000000004E-2,7.46E-2,7.46E-2,0.1759,0.12039999999999999,{"$f":"IF(Kalkulator!$B$35=TRUE,0,VLOOKUP(TODAY()+A800,T:V,3,1)/100)","v":0.23}]
[799,9.0800000000000006E-2,9.5100000000000004E-2,7.46E-2,7.46E-2,0.1759,0.12039999999999999,{"$f":"IF(Kalkulator!$B$35=TRUE,0,VLOOKUP(TODAY()+A801,T:V,3,1)/100)","v":0.23}]
[800,9.0800000000000006E-2,9.5100000000000004E-2,7.46E-2,7.46E-2,0.1759,0.1203,{"$f":"IF(Kalkulator!$B$35=TRUE,0,VLOOKUP(TODAY()+A802,T:V,3,1)/100)","v":0.23}]
[801,9.0700000000000003E-2,9.5100000000000004E-2,7.46E-2,7.46E-2,0.1759,0.1202,{"$f":"IF(Kalkulator!$B$35=TRUE,0,VLOOKUP(TODAY()+A803,T:V,3,1)/100)","v":0.23}]
[802,9.0700000000000003E-2,9.5100000000000004E-2,7.46E-2,7.46E-2,0.1759,0.1201,{"$f":"IF(Kalkulator!$B$35=TRUE,0,VLOOKUP(TODAY()+A804,T:V,3,1)/100)","v":0.23}]
[803,9.06E-2,9.5100000000000004E-2,7.46E-2,7.46E-2,0.1759,0.12,{"$f":"IF(Kalkulator!$B$35=TRUE,0,VLOOKUP(TODAY()+A805,T:V,3,1)/100)","v":0.23}]
[804,9.06E-2,9.5100000000000004E-2,7.46E-2,7.46E-2,0.1759,0.11990000000000001,{"$f":"IF(Kalkulator!$B$35=TRUE,0,VLOOKUP(TODAY()+A806,T:V,3,1)/100)","v":0.23}]
[805,9.0499999999999997E-2,9.5100000000000004E-2,7.46E-2,7.46E-2,0.1759,0.1198,{"$f":"IF(Kalkulator!$B$35=TRUE,0,VLOOKUP(TODAY()+A807,T:V,3,1)/100)","v":0.23}]
[806,9.0499999999999997E-2,9.5100000000000004E-2,7.46E-2,7.46E-2,0.1759,0.1198,{"$f":"IF(Kalkulator!$B$35=TRUE,0,VLOOKUP(TODAY()+A808,T:V,3,1)/100)","v":0.23}]
[807,9.0399999999999994E-2,9.5100000000000004E-2,7.46E-2,7.46E-2,0.1759,0.1197,{"$f":"IF(Kalkulator!$B$35=TRUE,0,VLOOKUP(TODAY()+A809,T:V,3,1)/100)","v":0.23}]
[808,9.0399999999999994E-2,9.5100000000000004E-2,7.46E-2,7.46E-2,0.1759,0.1196,{"$f":"IF(Kalkulator!$B$35=TRUE,0,VLOOKUP(TODAY()+A810,T:V,3,1)/100)","v":0.23}]
[809,9.0300000000000005E-2,9.5100000000000004E-2,7.46E-2,7.46E-2,0.1759,0.1195,{"$f":"IF(Kalkulator!$B$35=TRUE,0,VLOOKUP(TODAY()+A811,T:V,3,1)/100)","v":0.23}]
[810,9.0300000000000005E-2,9.5100000000000004E-2,7.46E-2,7.46E-2,0.1759,0.11940000000000001,{"$f":"IF(Kalkulator!$B$35=TRUE,0,VLOOKUP(TODAY()+A812,T:V,3,1)/100)","v":0.23}]
[811,9.0200000000000002E-2,9.5100000000000004E-2,7.46E-2,7.46E-2,0.1759,0.1193,{"$f":"IF(Kalkulator!$B$35=TRUE,0,VLOOKUP(TODAY()+A813,T:V,3,1)/100)","v":0.23}]
[812,9.0200000000000002E-2,9.5100000000000004E-2,7.46E-2,7.46E-2,0.1759,0.1192,{"$f":"IF(Kalkulator!$B$35=TRUE,0,VLOOKUP(TODAY()+A814,T:V,3,1)/100)","v":0.23}]
[813,9.01E-2,9.5100000000000004E-2,7.46E-2,7.46E-2,0.1759,0.1191,{"$f":"IF(Kalkulator!$B$35=TRUE,0,VLOOKUP(TODAY()+A815,T:V,3,1)/100)","v":0.23}]
[814,9.01E-2,9.5100000000000004E-2,7.46E-2,7.46E-2,0.1759,0.1191,{"$f":"IF(Kalkulator!$B$35=TRUE,0,VLOOKUP(TODAY()+A816,T:V,3,1)/100)","v":0.23}]
[815,0.09,9.5100000000000004E-2,7.46E-2,7.46E-2,0.1759,0.11899999999999999,{"$f":"IF(Kalkulator!$B$35=TRUE,0,VLOOKUP(TODAY()+A817,T:V,3,1)/100)","v":0.23}]
[816,0.09,9.5100000000000004E-2,7.46E-2,7.46E-2,0.1759,0.11890000000000001,{"$f":"IF(Kalkulator!$B$35=TRUE,0,VLOOKUP(TODAY()+A818,T:V,3,1)/100)","v":0.23}]
[817,0.09,9.5100000000000004E-2,7.46E-2,7.46E-2,0.1759,0.1188,{"$f":"IF(Kalkulator!$B$35=TRUE,0,VLOOKUP(TODAY()+A819,T:V,3,1)/100)","v":0.23}]
[818,8.9899999999999994E-2,9.5100000000000004E-2,7.46E-2,7.46E-2,0.1759,0.1187,{"$f":"IF(Kalkulator!$B$35=TRUE,0,VLOOKUP(TODAY()+A820,T:V,3,1)/100)","v":0.23}]
[819,8.9899999999999994E-2,9.5100000000000004E-2,7.46E-2,7.46E-2,0.1759,0.1186,{"$f":"IF(Kalkulator!$B$35=TRUE,0,VLOOKUP(TODAY()+A821,T:V,3,1)/100)","v":0.23}]
[820,8.9800000000000005E-2,9.5100000000000004E-2,7.46E-2,7.46E-2,0.1759,0.11849999999999999,{"$f":"IF(Kalkulator!$B$35=TRUE,0,VLOOKUP(TODAY()+A822,T:V,3,1)/100)","v":0.23}]
[821,8.9800000000000005E-2,9.5100000000000004E-2,7.46E-2,7.46E-2,0.1759,0.11849999999999999,{"$f":"IF(Kalkulator!$B$35=TRUE,0,VLOOKUP(TODAY()+A823,T:V,3,1)/100)","v":0.23}]
[822,8.9700000000000002E-2,9.5100000000000004E-2,7.46E-2,7.46E-2,0.1759,0.11840000000000001,{"$f":"IF(Kalkulator!$B$35=TRUE,0,VLOOKUP(TODAY()+A824,T:V,3,1)/100)","v":0.23}]
[823,8.9700000000000002E-2,9.5100000000000004E-2,7.46E-2,7.46E-2,0.1759,0.1183,{"$f":"IF(Kalkulator!$B$35=TRUE,0,VLOOKUP(TODAY()+A825,T:V,3,1)/100)","v":0.23}]
[824,8.9599999999999999E-2,9.5100000000000004E-2,7.46E-2,7.46E-2,0.1759,0.1182,{"$f":"IF(Kalkulator!$B$35=TRUE,0,VLOOKUP(TODAY()+A826,T:V,3,1)/100)","v":0.23}]
[825,8.9599999999999999E-2,9.5100000000000004E-2,7.46E-2,7.46E-2,0.1759,0.1181,{"$f":"IF(Kalkulator!$B$35=TRUE,0,VLOOKUP(TODAY()+A827,T:V,3,1)/100)","v":0.23}]
[826,8.9499999999999996E-2,9.5100000000000004E-2,7.46E-2,7.46E-2,0.1759,0.11799999999999999,{"$f":"IF(Kalkulator!$B$35=TRUE,0,VLOOKUP(TODAY()+A828,T:V,3,1)/100)","v":0.23}]
[827,8.9499999999999996E-2,9.5100000000000004E-2,7.46E-2,7.46E-2,0.1759,0.1179,{"$f":"IF(Kalkulator!$B$35=TRUE,0,VLOOKUP(TODAY()+A829,T:V,3,1)/100)","v":0.23}]
[828,8.9399999999999993E-2,9.5100000000000004E-2,7.46E-2,7.46E-2,0.1759,0.1179,{"$f":"IF(Kalkulator!$B$35=TRUE,0,VLOOKUP(TODAY()+A830,T:V,3,1)/100)","v":0.23}]
[829,8.9399999999999993E-2,9.5100000000000004E-2,7.46E-2,7.46E-2,0.1759,0.1178,{"$f":"IF(Kalkulator!$B$35=TRUE,0,VLOOKUP(TODAY()+A831,T:V,3,1)/100)","v":0.23}]
[830,8.9300000000000004E-2,9.5100000000000004E-2,7.46E-2,7.46E-2,0.1759,0.1177,{"$f":"IF(Kalkulator!$B$35=TRUE,0,VLOOKUP(TODAY()+A832,T:V,3,1)/100)","v":0.23}]
[831,8.9300000000000004E-2,9.5100000000000004E-2,7.46E-2,7.46E-2,0.1759,0.1176,{"$f":"IF(Kalkulator!$B$35=TRUE,0,VLOOKUP(TODAY()+A833,T:V,3,1)/100)","v":0.23}]
[832,8.9200000000000002E-2,9.5100000000000004E-2,7.46E-2,7.46E-2,0.1759,0.11749999999999999,{"$f":"IF(Kalkulator!$B$35=TRUE,0,VLOOKUP(TODAY()+A834,T:V,3,1)/100)","v":0.23}]
[833,8.9200000000000002E-2,9.5100000000000004E-2,7.46E-2,7.46E-2,0.1759,0.1174,{"$f":"IF(Kalkulator!$B$35=TRUE,0,VLOOKUP(TODAY()+A835,T:V,3,1)/100)","v":0.23}]
[834,8.9099999999999999E-2,9.5100000000000004E-2,7.46E-2,7.46E-2,0.1759,0.1173,{"$f":"IF(Kalkulator!$B$35=TRUE,0,VLOOKUP(TODAY()+A836,T:V,3,1)/100)","v":0.23}]
[835,8.9099999999999999E-2,9.5100000000000004E-2,7.46E-2,7.46E-2,0.1759,0.1172,{"$f":"IF(Kalkulator!$B$35=TRUE,0,VLOOKUP(TODAY()+A837,T:V,3,1)/100)","v":0.23}]
[836,8.8999999999999996E-2,9.5100000000000004E-2,7.46E-2,7.46E-2,0.1759,0.1172,{"$f":"IF(Kalkulator!$B$35=TRUE,0,VLOOKUP(TODAY()+A838,T:V,3,1)/100)","v":0.23}]
[837,8.8999999999999996E-2,9.5100000000000004E-2,7.46E-2,7.46E-2,0.1759,0.1171,{"$f":"IF(Kalkulator!$B$35=TRUE,0,VLOOKUP(TODAY()+A839,T:V,3,1)/100)","v":0.23}]
[838,8.8999999999999996E-2,9.5100000000000004E-2,7.46E-2,7.46E-2,0.1759,0.11700000000000001,{"$f":"IF(Kalkulator!$B$35=TRUE,0,VLOOKUP(TODAY()+A840,T:V,3,1)/100)","v":0.23}]
[839,8.8900000000000007E-2,9.5100000000000004E-2,7.46E-2,7.46E-2,0.1759,0.1169,{"$f":"IF(Kalkulator!$B$35=TRUE,0,VLOOKUP(TODAY()+A841,T:V,3,1)/100)","v":0.23}]
[840,8.8900000000000007E-2,9.5100000000000004E-2,7.46E-2,7.46E-2,0.1759,0.1168,{"$f":"IF(Kalkulator!$B$35=TRUE,0,VLOOKUP(TODAY()+A842,T:V,3,1)/100)","v":0.23}]
[841,8.8800000000000004E-2,9.5100000000000004E-2,7.46E-2,7.46E-2,0.1759,0.1167,{"$f":"IF(Kalkulator!$B$35=TRUE,0,VLOOKUP(TODAY()+A843,T:V,3,1)/100)","v":0.23}]
[842,8.8800000000000004E-2,9.5100000000000004E-2,7.46E-2,7.46E-2,0.1759,0.1166,{"$f":"IF(Kalkulator!$B$35=TRUE,0,VLOOKUP(TODAY()+A844,T:V,3,1)/100)","v":0.23}]
[843,8.8700000000000001E-2,9.5100000000000004E-2,7.46E-2,7.46E-2,0.1759,0.1166,{"$f":"IF(Kalkulator!$B$35=TRUE,0,VLOOKUP(TODAY()+A845,T:V,3,1)/100)","v":0.23}]
[844,8.8700000000000001E-2,9.5100000000000004E-2,7.46E-2,7.46E-2,0.1759,0.11650000000000001,{"$f":"IF(Kalkulator!$B$35=TRUE,0,VLOOKUP(TODAY()+A846,T:V,3,1)/100)","v":0.23}]
[845,8.8599999999999998E-2,9.5100000000000004E-2,7.46E-2,7.46E-2,0.1759,0.1164,{"$f":"IF(Kalkulator!$B$35=TRUE,0,VLOOKUP(TODAY()+A847,T:V,3,1)/100)","v":0.23}]
[846,8.8599999999999998E-2,9.5100000000000004E-2,7.46E-2,7.46E-2,0.1759,0.1163,{"$f":"IF(Kalkulator!$B$35=TRUE,0,VLOOKUP(TODAY()+A848,T:V,3,1)/100)","v":0.23}]
[847,8.8499999999999995E-2,9.5100000000000004E-2,7.46E-2,7.46E-2,0.1759,0.1162,{"$f":"IF(Kalkulator!$B$35=TRUE,0,VLOOKUP(TODAY()+A849,T:V,3,1)/100)","v":0.23}]
[848,8.8499999999999995E-2,9.5100000000000004E-2,7.46E-2,7.46E-2,0.1759,0.11609999999999999,{"$f":"IF(Kalkulator!$B$35=TRUE,0,VLOOKUP(TODAY()+A850,T:V,3,1)/100)","v":0.23}]
[849,8.8400000000000006E-2,9.5100000000000004E-2,7.46E-2,7.46E-2,0.1759,0.11600000000000001,{"$f":"IF(Kalkulator!$B$35=TRUE,0,VLOOKUP(TODAY()+A851,T:V,3,1)/100)","v":0.23}]
[850,8.8400000000000006E-2,9.5100000000000004E-2,7.46E-2,7.46E-2,0.1759,0.1159,{"$f":"IF(Kalkulator!$B$35=TRUE,0,VLOOKUP(TODAY()+A852,T:V,3,1)/100)","v":0.23}]
[851,8.8300000000000003E-2,9.5100000000000004E-2,7.46E-2,7.46E-2,0.1759,0.1159,{"$f":"IF(Kalkulator!$B$35=TRUE,0,VLOOKUP(TODAY()+A853,T:V,3,1)/100)","v":0.23}]
[852,8.8300000000000003E-2,9.5100000000000004E-2,7.46E-2,7.46E-2,0.1759,0.1158,{"$f":"IF(Kalkulator!$B$35=TRUE,0,VLOOKUP(TODAY()+A854,T:V,3,1)/100)","v":0.23}]
[853,8.8200000000000001E-2,9.5100000000000004E-2,7.46E-2,7.46E-2,0.1759,0.1157,{"$f":"IF(Kalkulator!$B$35=TRUE,0,VLOOKUP(TODAY()+A855,T:V,3,1)/100)","v":0.23}]
[854,8.8200000000000001E-2,9.5100000000000004E-2,7.46E-2,7.46E-2,0.1759,0.11559999999999999,{"$f":"IF(Kalkulator!$B$35=TRUE,0,VLOOKUP(TODAY()+A856,T:V,3,1)/100)","v":0.23}]
[855,8.8099999999999998E-2,9.5100000000000004E-2,7.46E-2,7.46E-2,0.1759,0.11550000000000001,{"$f":"IF(Kalkulator!$B$35=TRUE,0,VLOOKUP(TODAY()+A857,T:V,3,1)/100)","v":0.23}]
[856,8.8099999999999998E-2,9.5100000000000004E-2,7.46E-2,7.46E-2,0.1759,0.1154,{"$f":"IF(Kalkulator!$B$35=TRUE,0,VLOOKUP(TODAY()+A858,T:V,3,1)/100)","v":0.23}]
[857,8.8099999999999998E-2,9.5100000000000004E-2,7.46E-2,7.46E-2,0.1759,0.1153,{"$f":"IF(Kalkulator!$B$35=TRUE,0,VLOOKUP(TODAY()+A859,T:V,3,1)/100)","v":0.23}]
[858,8.7999999999999995E-2,9.5100000000000004E-2,7.46E-2,7.46E-2,0.1759,0.1153,{"$f":"IF(Kalkulator!$B$35=TRUE,0,VLOOKUP(TODAY()+A860,T:V,3,1)/100)","v":0.23}]
[859,8.7999999999999995E-2,9.5100000000000004E-2,7.46E-2,7.46E-2,0.1759,0.1152,{"$f":"IF(Kalkulator!$B$35=TRUE,0,VLOOKUP(TODAY()+A861,T:V,3,1)/100)","v":0.23}]
[860,8.7900000000000006E-2,9.5100000000000004E-2,7.46E-2,7.46E-2,0.1759,0.11509999999999999,{"$f":"IF(Kalkulator!$B$35=TRUE,0,VLOOKUP(TODAY()+A862,T:V,3,1)/100)","v":0.23}]
[861,8.7900000000000006E-2,9.5100000000000004E-2,7.46E-2,7.46E-2,0.1759,0.115,{"$f":"IF(Kalkulator!$B$35=TRUE,0,VLOOKUP(TODAY()+A863,T:V,3,1)/100)","v":0.23}]
[862,8.7800000000000003E-2,9.5100000000000004E-2,7.46E-2,7.46E-2,0.1759,0.1149,{"$f":"IF(Kalkulator!$B$35=TRUE,0,VLOOKUP(TODAY()+A864,T:V,3,1)/100)","v":0.23}]
[863,8.7800000000000003E-2,9.5100000000000004E-2,7.46E-2,7.46E-2,0.1759,0.1148,{"$f":"IF(Kalkulator!$B$35=TRUE,0,VLOOKUP(TODAY()+A865,T:V,3,1)/100)","v":0.23}]
[864,8.77E-2,9.5100000000000004E-2,7.46E-2,7.46E-2,0.1759,0.1147,{"$f":"IF(Kalkulator!$B$35=TRUE,0,VLOOKUP(TODAY()+A866,T:V,3,1)/100)","v":0.23}]
[865,8.77E-2,9.5100000000000004E-2,7.46E-2,7.46E-2,0.1759,0.1147,{"$f":"IF(Kalkulator!$B$35=TRUE,0,VLOOKUP(TODAY()+A867,T:V,3,1)/100)","v":0.23}]
[866,8.7599999999999997E-2,9.5100000000000004E-2,7.46E-2,7.46E-2,0.1759,0.11459999999999999,{"$f":"IF(Kalkulator!$B$35=TRUE,0,VLOOKUP(TODAY()+A868,T:V,3,1)/100)","v":0.23}]
[867,8.7599999999999997E-2,9.5100000000000004E-2,7.46E-2,7.46E-2,0.1759,0.1145,{"$f":"IF(Kalkulator!$B$35=TRUE,0,VLOOKUP(TODAY()+A869,T:V,3,1)/100)","v":0.23}]
[868,8.7499999999999994E-2,9.5100000000000004E-2,7.46E-2,7.46E-2,0.1759,0.1144,{"$f":"IF(Kalkulator!$B$35=TRUE,0,VLOOKUP(TODAY()+A870,T:V,3,1)/100)","v":0.23}]
[869,8.7499999999999994E-2,9.5100000000000004E-2,7.46E-2,7.46E-2,0.1759,0.1143,{"$f":"IF(Kalkulator!$B$35=TRUE,0,VLOOKUP(TODAY()+A871,T:V,3,1)/100)","v":0.23}]
[870,8.7400000000000005E-2,9.5100000000000004E-2,7.46E-2,7.46E-2,0.1759,0.1142,{"$f":"IF(Kalkulator!$B$35=TRUE,0,VLOOKUP(TODAY()+A872,T:V,3,1)/100)","v":0.23}]
[871,8.7400000000000005E-2,9.5100000000000004E-2,7.46E-2,7.46E-2,0.1759,0.11409999999999999,{"$f":"IF(Kalkulator!$B$35=TRUE,0,VLOOKUP(TODAY()+A873,T:V,3,1)/100)","v":0.23}]
[872,8.7300000000000003E-2,9.5100000000000004E-2,7.46E-2,7.46E-2,0.1759,0.114,{"$f":"IF(Kalkulator!$B$35=TRUE,0,VLOOKUP(TODAY()+A874,T:V,3,1)/100)","v":0.23}]
[873,8.7300000000000003E-2,9.5100000000000004E-2,7.46E-2,7.46E-2,0.1759,0.114,{"$f":"IF(Kalkulator!$B$35=TRUE,0,VLOOKUP(TODAY()+A875,T:V,3,1)/100)","v":0.23}]
[874,8.72E-2,9.5100000000000004E-2,7.46E-2,7.46E-2,0.1759,0.1139,{"$f":"IF(Kalkulator!$B$35=TRUE,0,VLOOKUP(TODAY()+A876,T:V,3,1)/100)","v":0.23}]
[875,8.72E-2,9.5100000000000004E-2,7.46E-2,7.46E-2,0.1759,0.1138,{"$f":"IF(Kalkulator!$B$35=TRUE,0,VLOOKUP(TODAY()+A877,T:V,3,1)/100)","v":0.23}]
[876,8.72E-2,9.5100000000000004E-2,7.46E-2,7.46E-2,0.1759,0.1137,{"$f":"IF(Kalkulator!$B$35=TRUE,0,VLOOKUP(TODAY()+A878,T:V,3,1)/100)","v":0.23}]
[877,8.7099999999999997E-2,9.5100000000000004E-2,7.46E-2,7.46E-2,0.1759,0.11360000000000001,{"$f":"IF(Kalkulator!$B$35=TRUE,0,VLOOKUP(TODAY()+A879,T:V,3,1)/100)","v":0.23}]
[878,8.7099999999999997E-2,9.5100000000000004E-2,7.46E-2,7.46E-2,0.1759,0.1135,{"$f":"IF(Kalkulator!$B$35=TRUE,0,VLOOKUP(TODAY()+A880,T:V,3,1)/100)","v":0.23}]
[879,8.6999999999999994E-2,9.5100000000000004E-2,7.46E-2,7.46E-2,0.1759,0.1134,{"$f":"IF(Kalkulator!$B$35=TRUE,0,VLOOKUP(TODAY()+A881,T:V,3,1)/100)","v":0.23}]
[880,8.6999999999999994E-2,9.5100000000000004E-2,7.46E-2,7.46E-2,0.1759,0.1134,{"$f":"IF(Kalkulator!$B$35=TRUE,0,VLOOKUP(TODAY()+A882,T:V,3,1)/100)","v":0.23}]
[881,8.6900000000000005E-2,9.5100000000000004E-2,7.46E-2,7.46E-2,0.1759,0.1133,{"$f":"IF(Kalkulator!$B$35=TRUE,0,VLOOKUP(TODAY()+A883,T:V,3,1)/100)","v":0.23}]
[882,8.6900000000000005E-2,9.5100000000000004E-2,7.46E-2,7.46E-2,0.1759,0.1132,{"$f":"IF(Kalkulator!$B$35=TRUE,0,VLOOKUP(TODAY()+A884,T:V,3,1)/100)","v":0.23}]
[883,8.6800000000000002E-2,9.5100000000000004E-2,7.46E-2,7.46E-2,0.1759,0.11310000000000001,{"$f":"IF(Kalkulator!$B$35=TRUE,0,VLOOKUP(TODAY()+A885,T:V,3,1)/100)","v":0.23}]
[884,8.6800000000000002E-2,9.5100000000000004E-2,7.46E-2,7.46E-2,0.1759,0.113,{"$f":"IF(Kalkulator!$B$35=TRUE,0,VLOOKUP(TODAY()+A886,T:V,3,1)/100)","v":0.23}]
[885,8.6699999999999999E-2,9.5100000000000004E-2,7.46E-2,7.46E-2,0.1759,0.1129,{"$f":"IF(Kalkulator!$B$35=TRUE,0,VLOOKUP(TODAY()+A887,T:V,3,1)/100)","v":0.23}]
[886,8.6699999999999999E-2,9.5100000000000004E-2,7.46E-2,7.46E-2,0.1759,0.1128,{"$f":"IF(Kalkulator!$B$35=TRUE,0,VLOOKUP(TODAY()+A888,T:V,3,1)/100)","v":0.23}]
[887,8.6599999999999996E-2,9.5100000000000004E-2,7.46E-2,7.46E-2,0.1759,0.11269999999999999,{"$f":"IF(Kalkulator!$B$35=TRUE,0,VLOOKUP(TODAY()+A889,T:V,3,1)/100)","v":0.23}]
[888,8.6599999999999996E-2,9.5100000000000004E-2,7.46E-2,7.46E-2,0.1759,0.11269999999999999,{"$f":"IF(Kalkulator!$B$35=TRUE,0,VLOOKUP(TODAY()+A890,T:V,3,1)/100)","v":0.23}]
[889,8.6499999999999994E-2,9.5100000000000004E-2,7.46E-2,7.46E-2,0.1759,0.11260000000000001,{"$f":"IF(Kalkulator!$B$35=TRUE,0,VLOOKUP(TODAY()+A891,T:V,3,1)/100)","v":0.23}]
[890,8.6499999999999994E-2,9.5100000000000004E-2,7.46E-2,7.46E-2,0.1759,0.1125,{"$f":"IF(Kalkulator!$B$35=TRUE,0,VLOOKUP(TODAY()+A892,T:V,3,1)/100)","v":0.23}]
[891,8.6400000000000005E-2,9.5100000000000004E-2,7.46E-2,7.46E-2,0.1759,0.1124,{"$f":"IF(Kalkulator!$B$35=TRUE,0,VLOOKUP(TODAY()+A893,T:V,3,1)/100)","v":0.23}]
[892,8.6400000000000005E-2,9.5100000000000004E-2,7.46E-2,7.46E-2,0.1759,0.1123,{"$f":"IF(Kalkulator!$B$35=TRUE,0,VLOOKUP(TODAY()+A894,T:V,3,1)/100)","v":0.23}]
[893,8.6300000000000002E-2,9.5100000000000004E-2,7.46E-2,7.46E-2,0.1759,0.11219999999999999,{"$f":"IF(Kalkulator!$B$35=TRUE,0,VLOOKUP(TODAY()+A895,T:V,3,1)/100)","v":0.23}]
[894,8.6300000000000002E-2,9.5100000000000004E-2,7.46E-2,7.46E-2,0.1759,0.11210000000000001,{"$f":"IF(Kalkulator!$B$35=TRUE,0,VLOOKUP(TODAY()+A896,T:V,3,1)/100)","v":0.23}]
[895,8.6300000000000002E-2,9.5100000000000004E-2,7.46E-2,7.46E-2,0.1759,0.11210000000000001,{"$f":"IF(Kalkulator!$B$35=TRUE,0,VLOOKUP(TODAY()+A897,T:V,3,1)/100)","v":0.23}]
[896,8.6199999999999999E-2,9.5100000000000004E-2,7.46E-2,7.46E-2,0.1759,0.112,{"$f":"IF(Kalkulator!$B$35=TRUE,0,VLOOKUP(TODAY()+A898,T:V,3,1)/100)","v":0.23}]
[897,8.6199999999999999E-2,9.5100000000000004E-2,7.46E-2,7.46E-2,0.1759,0.1119,{"$f":"IF(Kalkulator!$B$35=TRUE,0,VLOOKUP(TODAY()+A899,T:V,3,1)/100)","v":0.23}]
[898,8.6099999999999996E-2,9.5100000000000004E-2,7.46E-2,7.46E-2,0.1759,0.1118,{"$f":"IF(Kalkulator!$B$35=TRUE,0,VLOOKUP(TODAY()+A900,T:V,3,1)/100)","v":0.23}]
[899,8.6099999999999996E-2,9.5100000000000004E-2,7.46E-2,7.46E-2,0.1759,0.11169999999999999,{"$f":"IF(Kalkulator!$B$35=TRUE,0,VLOOKUP(TODAY()+A901,T:V,3,1)/100)","v":0.23}]
[900,8.5999999999999993E-2,9.5100000000000004E-2,7.46E-2,7.46E-2,0.1759,0.1116,{"$f":"IF(Kalkulator!$B$35=TRUE,0,VLOOKUP(TODAY()+A902,T:V,3,1)/100)","v":0.23}]
[901,8.5999999999999993E-2,9.5100000000000004E-2,7.46E-2,7.46E-2,0.1759,0.1115,{"$f":"IF(Kalkulator!$B$35=TRUE,0,VLOOKUP(TODAY()+A903,T:V,3,1)/100)","v":0.23}]
[902,8.5900000000000004E-2,9.5100000000000004E-2,7.46E-2,7.46E-2,0.1759,0.1115,{"$f":"IF(Kalkulator!$B$35=TRUE,0,VLOOKUP(TODAY()+A904,T:V,3,1)/100)","v":0.23}]
[903,8.5900000000000004E-2,9.5100000000000004E-2,7.46E-2,7.46E-2,0.1759,0.1114,{"$f":"IF(Kalkulator!$B$35=TRUE,0,VLOOKUP(TODAY()+A905,T:V,3,1)/100)","v":0.23}]
[904,8.5800000000000001E-2,9.5100000000000004E-2,7.46E-2,7.46E-2,0.1759,0.1113,{"$f":"IF(Kalkulator!$B$35=TRUE,0,VLOOKUP(TODAY()+A906,T:V,3,1)/100)","v":0.23}]
[905,8.5800000000000001E-2,9.5100000000000004E-2,7.46E-2,7.46E-2,0.1759,0.11119999999999999,{"$f":"IF(Kalkulator!$B$35=TRUE,0,VLOOKUP(TODAY()+A907,T:V,3,1)/100)","v":0.23}]
[906,8.5699999999999998E-2,9.5100000000000004E-2,7.46E-2,7.46E-2,0.1759,0.1111,{"$f":"IF(Kalkulator!$B$35=TRUE,0,VLOOKUP(TODAY()+A908,T:V,3,1)/100)","v":0.23}]
[907,8.5699999999999998E-2,9.5100000000000004E-2,7.46E-2,7.46E-2,0.1759,0.111,{"$f":"IF(Kalkulator!$B$35=TRUE,0,VLOOKUP(TODAY()+A909,T:V,3,1)/100)","v":0.23}]
[908,8.5599999999999996E-2,9.5100000000000004E-2,7.46E-2,7.46E-2,0.1759,0.1109,{"$f":"IF(Kalkulator!$B$35=TRUE,0,VLOOKUP(TODAY()+A910,T:V,3,1)/100)","v":0.23}]
[909,8.5599999999999996E-2,9.5100000000000004E-2,7.46E-2,7.46E-2,0.1759,0.1108,{"$f":"IF(Kalkulator!$B$35=TRUE,0,VLOOKUP(TODAY()+A911,T:V,3,1)/100)","v":0.23}]
[910,8.5500000000000007E-2,9.5100000000000004E-2,7.46E-2,7.46E-2,0.1759,0.1108,{"$f":"IF(Kalkulator!$B$35=TRUE,0,VLOOKUP(TODAY()+A912,T:V,3,1)/100)","v":0.23}]
[911,8.5500000000000007E-2,9.5100000000000004E-2,7.46E-2,7.46E-2,0.1759,0.11070000000000001,{"$f":"IF(Kalkulator!$B$35=TRUE,0,VLOOKUP(TODAY()+A913,T:V,3,1)/100)","v":0.23}]
[912,8.5400000000000004E-2,9.5100000000000004E-2,7.46E-2,7.46E-2,0.1759,0.1106,{"$f":"IF(Kalkulator!$B$35=TRUE,0,VLOOKUP(TODAY()+A914,T:V,3,1)/100)","v":0.23}]
[913,8.5400000000000004E-2,9.5100000000000004E-2,7.46E-2,7.46E-2,0.1759,0.1105,{"$f":"IF(Kalkulator!$B$35=TRUE,0,VLOOKUP(TODAY()+A915,T:V,3,1)/100)","v":0.23}]
[914,8.5400000000000004E-2,9.5100000000000004E-2,7.46E-2,7.46E-2,0.1759,0.1105,{"$f":"IF(Kalkulator!$B$35=TRUE,0,VLOOKUP(TODAY()+A916,T:V,3,1)/100)","v":0.23}]
[915,8.5400000000000004E-2,9.5100000000000004E-2,7.46E-2,7.46E-2,0.1759,0.1105,{"$f":"IF(Kalkulator!$B$35=TRUE,0,VLOOKUP(TODAY()+A917,T:V,3,1)/100)","v":0.23}]
[916,8.5300000000000001E-2,9.5100000000000004E-2,7.46E-2,7.46E-2,0.1759,0.1105,{"$f":"IF(Kalkulator!$B$35=TRUE,0,VLOOKUP(TODAY()+A918,T:V,3,1)/100)","v":0.23}]
[917,8.5300000000000001E-2,9.5100000000000004E-2,7.46E-2,7.46E-2,0.1759,0.1105,{"$f":"IF(Kalkulator!$B$35=TRUE,0,VLOOKUP(TODAY()+A919,T:V,3,1)/100)","v":0.23}]
[918,8.5300000000000001E-2,9.5100000000000004E-2,7.46E-2,7.46E-2,0.1759,0.1105,{"$f":"IF(Kalkulator!$B$35=TRUE,0,VLOOKUP(TODAY()+A920,T:V,3,1)/100)","v":0.23}]
[919,8.5300000000000001E-2,9.5100000000000004E-2,7.46E-2,7.46E-2,0.1759,0.1105,{"$f":"IF(Kalkulator!$B$35=TRUE,0,VLOOKUP(TODAY()+A921,T:V,3,1)/100)","v":0.23}]
[920,8.5199999999999998E-2,9.5100000000000004E-2,7.46E-2,7.46E-2,0.1759,0.1105,{"$f":"IF(Kalkulator!$B$35=TRUE,0,VLOOKUP(TODAY()+A922,T:V,3,1)/100)","v":0.23}]
[921,8.5199999999999998E-2,9.5100000000000004E-2,7.46E-2,7.46E-2,0.1759,0.1105,{"$f":"IF(Kalkulator!$B$35=TRUE,0,VLOOKUP(TODAY()+A923,T:V,3,1)/100)","v":0.23}]
[922,8.5199999999999998E-2,9.5100000000000004E-2,7.46E-2,7.46E-2,0.1759,0.1105,{"$f":"IF(Kalkulator!$B$35=TRUE,0,VLOOKUP(TODAY()+A924,T:V,3,1)/100)","v":0.23}]
[923,8.5199999999999998E-2,9.5100000000000004E-2,7.46E-2,7.46E-2,0.1759,0.1105,{"$f":"IF(Kalkulator!$B$35=TRUE,0,VLOOKUP(TODAY()+A925,T:V,3,1)/100)","v":0.23}]
[924,8.5199999999999998E-2,9.5100000000000004E-2,7.46E-2,7.46E-2,0.1759,0.1105,{"$f":"IF(Kalkulator!$B$35=TRUE,0,VLOOKUP(TODAY()+A926,T:V,3,1)/100)","v":0.23}]
[925,8.5099999999999995E-2,9.5100000000000004E-2,7.46E-2,7.46E-2,0.1759,0.1105,{"$f":"IF(Kalkulator!$B$35=TRUE,0,VLOOKUP(TODAY()+A927,T:V,3,1)/100)","v":0.23}]
[926,8.5099999999999995E-2,9.5100000000000004E-2,7.46E-2,7.46E-2,0.1759,0.1105,{"$f":"IF(Kalkulator!$B$35=TRUE,0,VLOOKUP(TODAY()+A928,T:V,3,1)/100)","v":0.23}]
[927,8.5099999999999995E-2,9.5100000000000004E-2,7.46E-2,7.46E-2,0.1759,0.1105,{"$f":"IF(Kalkulator!$B$35=TRUE,0,VLOOKUP(TODAY()+A929,T:V,3,1)/100)","v":0.23}]
[928,8.5099999999999995E-2,9.5100000000000004E-2,7.46E-2,7.46E-2,0.1759,0.1105,{"$f":"IF(Kalkulator!$B$35=TRUE,0,VLOOKUP(TODAY()+A930,T:V,3,1)/100)","v":0.23}]
[929,8.5099999999999995E-2,9.5100000000000004E-2,7.46E-2,7.46E-2,0.1759,0.1105,{"$f":"IF(Kalkulator!$B$35=TRUE,0,VLOOKUP(TODAY()+A931,T:V,3,1)/100)","v":0.23}]
[930,8.5000000000000006E-2,9.5100000000000004E-2,7.46E-2,7.46E-2,0.1759,0.1105,{"$f":"IF(Kalkulator!$B$35=TRUE,0,VLOOKUP(TODAY()+A932,T:V,3,1)/100)","v":0.23}]
[931,8.5000000000000006E-2,9.5100000000000004E-2,7.46E-2,7.46E-2,0.1759,0.1105,{"$f":"IF(Kalkulator!$B$35=TRUE,0,VLOOKUP(TODAY()+A933,T:V,3,1)/100)","v":0.23}]
[932,8.5000000000000006E-2,9.5100000000000004E-2,7.46E-2,7.46E-2,0.1759,0.1105,{"$f":"IF(Kalkulator!$B$35=TRUE,0,VLOOKUP(TODAY()+A934,T:V,3,1)/100)","v":0.23}]
[933,8.5000000000000006E-2,9.5100000000000004E-2,7.46E-2,7.46E-2,0.1759,0.1105,{"$f":"IF(Kalkulator!$B$35=TRUE,0,VLOOKUP(TODAY()+A935,T:V,3,1)/100)","v":0.23}]
[934,8.4900000000000003E-2,9.5100000000000004E-2,7.46E-2,7.46E-2,0.1759,0.1105,{"$f":"IF(Kalkulator!$B$35=TRUE,0,VLOOKUP(TODAY()+A936,T:V,3,1)/100)","v":0.23}]
[935,8.4900000000000003E-2,9.5100000000000004E-2,7.46E-2,7.46E-2,0.1759,0.1105,{"$f":"IF(Kalkulator!$B$35=TRUE,0,VLOOKUP(TODAY()+A937,T:V,3,1)/100)","v":0.23}]
[936,8.4900000000000003E-2,9.5100000000000004E-2,7.46E-2,7.46E-2,0.1759,0.1105,{"$f":"IF(Kalkulator!$B$35=TRUE,0,VLOOKUP(TODAY()+A938,T:V,3,1)/100)","v":0.23}]
[937,8.4900000000000003E-2,9.5100000000000004E-2,7.46E-2,7.46E-2,0.1759,0.1105,{"$f":"IF(Kalkulator!$B$35=TRUE,0,VLOOKUP(TODAY()+A939,T:V,3,1)/100)","v":0.23}]
[938,8.4900000000000003E-2,9.5100000000000004E-2,7.46E-2,7.46E-2,0.1759,0.1105,{"$f":"IF(Kalkulator!$B$35=TRUE,0,VLOOKUP(TODAY()+A940,T:V,3,1)/100)","v":0.23}]
[939,8.48E-2,9.5100000000000004E-2,7.46E-2,7.46E-2,0.1759,0.1105,{"$f":"IF(Kalkulator!$B$35=TRUE,0,VLOOKUP(TODAY()+A941,T:V,3,1)/100)","v":0.23}]
[940,8.48E-2,9.5100000000000004E-2,7.46E-2,7.46E-2,0.1759,0.1105,{"$f":"IF(Kalkulator!$B$35=TRUE,0,VLOOKUP(TODAY()+A942,T:V,3,1)/100)","v":0.23}]
[941,8.48E-2,9.5100000000000004E-2,7.46E-2,7.46E-2,0.1759,0.1105,{"$f":"IF(Kalkulator!$B$35=TRUE,0,VLOOKUP(TODAY()+A943,T:V,3,1)/100)","v":0.23}]
[942,8.48E-2,9.5100000000000004E-2,7.46E-2,7.46E-2,0.1759,0.1105,{"$f":"IF(Kalkulator!$B$35=TRUE,0,VLOOKUP(TODAY()+A944,T:V,3,1)/100)","v":0.23}]
[943,8.48E-2,9.5100000000000004E-2,7.46E-2,7.46E-2,0.1759,0.1105,{"$f":"IF(Kalkulator!$B$35=TRUE,0,VLOOKUP(TODAY()+A945,T:V,3,1)/100)","v":0.23}]
[944,8.4699999999999998E-2,9.5100000000000004E-2,7.46E-2,7.46E-2,0.1759,0.1105,{"$f":"IF(Kalkulator!$B$35=TRUE,0,VLOOKUP(TODAY()+A946,T:V,3,1)/100)","v":0.23}]
[945,8.4699999999999998E-2,9.5100000000000004E-2,7.46E-2,7.46E-2,0.1759,0.1105,{"$f":"IF(Kalkulator!$B$35=TRUE,0,VLOOKUP(TODAY()+A947,T:V,3,1)/100)","v":0.23}]
[946,8.4699999999999998E-2,9.5100000000000004E-2,7.46E-2,7.46E-2,0.1759,0.1105,{"$f":"IF(Kalkulator!$B$35=TRUE,0,VLOOKUP(TODAY()+A948,T:V,3,1)/100)","v":0.23}]
[947,8.4699999999999998E-2,9.5100000000000004E-2,7.46E-2,7.46E-2,0.1759,0.1105,{"$f":"IF(Kalkulator!$B$35=TRUE,0,VLOOKUP(TODAY()+A949,T:V,3,1)/100)","v":0.23}]
[948,8.4599999999999995E-2,9.5100000000000004E-2,7.46E-2,7.46E-2,0.1759,0.1105,{"$f":"IF(Kalkulator!$B$35=TRUE,0,VLOOKUP(TODAY()+A950,T:V,3,1)/100)","v":0.23}]
[949,8.4599999999999995E-2,9.5100000000000004E-2,7.46E-2,7.46E-2,0.1759,0.1105,{"$f":"IF(Kalkulator!$B$35=TRUE,0,VLOOKUP(TODAY()+A951,T:V,3,1)/100)","v":0.23}]
[950,8.4599999999999995E-2,9.5100000000000004E-2,7.46E-2,7.46E-2,0.1759,0.1105,{"$f":"IF(Kalkulator!$B$35=TRUE,0,VLOOKUP(TODAY()+A952,T:V,3,1)/100)","v":0.23}]
[951,8.4599999999999995E-2,9.5100000000000004E-2,7.46E-2,7.46E-2,0.1759,0.1105,{"$f":"IF(Kalkulator!$B$35=TRUE,0,VLOOKUP(TODAY()+A953,T:V,3,1)/100)","v":0.23}]
[952,8.4599999999999995E-2,9.5100000000000004E-2,7.46E-2,7.46E-2,0.1759,0.1105,{"$f":"IF(Kalkulator!$B$35=TRUE,0,VLOOKUP(TODAY()+A954,T:V,3,1)/100)","v":0.23}]
[953,8.4500000000000006E-2,9.5100000000000004E-2,7.46E-2,7.46E-2,0.1759,0.1105,{"$f":"IF(Kalkulator!$B$35=TRUE,0,VLOOKUP(TODAY()+A955,T:V,3,1)/100)","v":0.23}]
[954,8.4500000000000006E-2,9.5100000000000004E-2,7.46E-2,7.46E-2,0.1759,0.1105,{"$f":"IF(Kalkulator!$B$35=TRUE,0,VLOOKUP(TODAY()+A956,T:V,3,1)/100)","v":0.23}]
[955,8.4500000000000006E-2,9.5100000000000004E-2,7.46E-2,7.46E-2,0.1759,0.1105,{"$f":"IF(Kalkulator!$B$35=TRUE,0,VLOOKUP(TODAY()+A957,T:V,3,1)/100)","v":0.23}]
[956,8.4500000000000006E-2,9.5100000000000004E-2,7.46E-2,7.46E-2,0.1759,0.1105,{"$f":"IF(Kalkulator!$B$35=TRUE,0,VLOOKUP(TODAY()+A958,T:V,3,1)/100)","v":0.23}]
[957,8.4400000000000003E-2,9.5100000000000004E-2,7.46E-2,7.46E-2,0.1759,0.1105,{"$f":"IF(Kalkulator!$B$35=TRUE,0,VLOOKUP(TODAY()+A959,T:V,3,1)/100)","v":0.23}]
[958,8.4400000000000003E-2,9.5100000000000004E-2,7.46E-2,7.46E-2,0.1759,0.1105,{"$f":"IF(Kalkulator!$B$35=TRUE,0,VLOOKUP(TODAY()+A960,T:V,3,1)/100)","v":0.23}]
[959,8.4400000000000003E-2,9.5100000000000004E-2,7.46E-2,7.46E-2,0.1759,0.1105,{"$f":"IF(Kalkulator!$B$35=TRUE,0,VLOOKUP(TODAY()+A961,T:V,3,1)/100)","v":0.23}]
[960,8.4400000000000003E-2,9.5100000000000004E-2,7.46E-2,7.46E-2,0.1759,0.1105,{"$f":"IF(Kalkulator!$B$35=TRUE,0,VLOOKUP(TODAY()+A962,T:V,3,1)/100)","v":0.23}]
[961,8.4400000000000003E-2,9.5100000000000004E-2,7.46E-2,7.46E-2,0.1759,0.1105,{"$f":"IF(Kalkulator!$B$35=TRUE,0,VLOOKUP(TODAY()+A963,T:V,3,1)/100)","v":0.23}]
[962,8.43E-2,9.5100000000000004E-2,7.46E-2,7.46E-2,0.1759,0.1105,{"$f":"IF(Kalkulator!$B$35=TRUE,0,VLOOKUP(TODAY()+A964,T:V,3,1)/100)","v":0.23}]
[963,8.43E-2,9.5100000000000004E-2,7.46E-2,7.46E-2,0.1759,0.1105,{"$f":"IF(Kalkulator!$B$35=TRUE,0,VLOOKUP(TODAY()+A965,T:V,3,1)/100)","v":0.23}]
[964,8.43E-2,9.5100000000000004E-2,7.46E-2,7.46E-2,0.1759,0.1105,{"$f":"IF(Kalkulator!$B$35=TRUE,0,VLOOKUP(TODAY()+A966,T:V,3,1)/100)","v":0.23}]
[965,8.43E-2,9.5100000000000004E-2,7.46E-2,7.46E-2,0.1759,0.1105,{"$f":"IF(Kalkulator!$B$35=TRUE,0,VLOOKUP(TODAY()+A967,T:V,3,1)/100)","v":0.23}]
[966,8.43E-2,9.5100000000000004E-2,7.46E-2,7.46E-2,0.1759,0.1105,{"$f":"IF(Kalkulator!$B$35=TRUE,0,VLOOKUP(TODAY()+A968,T:V,3,1)/100)","v":0.23}]
[967,8.4199999999999997E-2,9.5100000000000004E-2,7.46E-2,7.46E-2,0.1759,0.1105,{"$f":"IF(Kalkulator!$B$35=TRUE,0,VLOOKUP(TODAY()+A969,T:V,3,1)/100)","v":0.23}]
[968,8.4199999999999997E-2,9.5100000000000004E-2,7.46E-2,7.46E-2,0.1759,0.1105,{"$f":"IF(Kalkulator!$B$35=TRUE,0,VLOOKUP(TODAY()+A970,T:V,3,1)/100)","v":0.23}]
[969,8.4199999999999997E-2,9.5100000000000004E-2,7.46E-2,7.46E-2,0.1759,0.1105,{"$f":"IF(Kalkulator!$B$35=TRUE,0,VLOOKUP(TODAY()+A971,T:V,3,1)/100)","v":0.23}]
[970,8.4199999999999997E-2,9.5100000000000004E-2,7.46E-2,7.46E-2,0.1759,0.1105,{"$f":"IF(Kalkulator!$B$35=TRUE,0,VLOOKUP(TODAY()+A972,T:V,3,1)/100)","v":0.23}]
[971,8.4099999999999994E-2,9.5100000000000004E-2,7.46E-2,7.46E-2,0.1759,0.1105,{"$f":"IF(Kalkulator!$B$35=TRUE,0,VLOOKUP(TODAY()+A973,T:V,3,1)/100)","v":0.23}]
[972,8.4099999999999994E-2,9.5100000000000004E-2,7.46E-2,7.46E-2,0.1759,0.1105,{"$f":"IF(Kalkulator!$B$35=TRUE,0,VLOOKUP(TODAY()+A974,T:V,3,1)/100)","v":0.23}]
[973,8.4099999999999994E-2,9.5100000000000004E-2,7.46E-2,7.46E-2,0.1759,0.1105,{"$f":"IF(Kalkulator!$B$35=TRUE,0,VLOOKUP(TODAY()+A975,T:V,3,1)/100)","v":0.23}]
[974,8.4099999999999994E-2,9.5100000000000004E-2,7.46E-2,7.46E-2,0.1759,0.1105,{"$f":"IF(Kalkulator!$B$35=TRUE,0,VLOOKUP(TODAY()+A976,T:V,3,1)/100)","v":0.23}]
[975,8.4099999999999994E-2,9.5100000000000004E-2,7.46E-2,7.46E-2,0.1759,0.1105,{"$f":"IF(Kalkulator!$B$35=TRUE,0,VLOOKUP(TODAY()+A977,T:V,3,1)/100)","v":0.23}]
[976,8.4000000000000005E-2,9.5100000000000004E-2,7.46E-2,7.46E-2,0.1759,0.1105,{"$f":"IF(Kalkulator!$B$35=TRUE,0,VLOOKUP(TODAY()+A978,T:V,3,1)/100)","v":0.23}]
[977,8.4000000000000005E-2,9.5100000000000004E-2,7.46E-2,7.46E-2,0.1759,0.1105,{"$f":"IF(Kalkulator!$B$35=TRUE,0,VLOOKUP(TODAY()+A979,T:V,3,1)/100)","v":0.23}]
[978,8.4000000000000005E-2,9.5100000000000004E-2,7.46E-2,7.46E-2,0.1759,0.1105,{"$f":"IF(Kalkulator!$B$35=TRUE,0,VLOOKUP(TODAY()+A980,T:V,3,1)/100)","v":0.23}]
[979,8.4000000000000005E-2,9.5100000000000004E-2,7.46E-2,7.46E-2,0.1759,0.1105,{"$f":"IF(Kalkulator!$B$35=TRUE,0,VLOOKUP(TODAY()+A981,T:V,3,1)/100)","v":0.23}]
[980,8.3900000000000002E-2,9.5100000000000004E-2,7.46E-2,7.46E-2,0.1759,0.1105,{"$f":"IF(Kalkulator!$B$35=TRUE,0,VLOOKUP(TODAY()+A982,T:V,3,1)/100)","v":0.23}]
[981,8.3900000000000002E-2,9.5100000000000004E-2,7.46E-2,7.46E-2,0.1759,0.1105,{"$f":"IF(Kalkulator!$B$35=TRUE,0,VLOOKUP(TODAY()+A983,T:V,3,1)/100)","v":0.23}]
[982,8.3900000000000002E-2,9.5100000000000004E-2,7.46E-2,7.46E-2,0.1759,0.1105,{"$f":"IF(Kalkulator!$B$35=TRUE,0,VLOOKUP(TODAY()+A984,T:V,3,1)/100)","v":0.23}]
[983,8.3900000000000002E-2,9.5100000000000004E-2,7.46E-2,7.46E-2,0.1759,0.1105,{"$f":"IF(Kalkulator!$B$35=TRUE,0,VLOOKUP(TODAY()+A985,T:V,3,1)/100)","v":0.23}]
[984,8.3900000000000002E-2,9.5100000000000004E-2,7.46E-2,7.46E-2,0.1759,0.1105,{"$f":"IF(Kalkulator!$B$35=TRUE,0,VLOOKUP(TODAY()+A986,T:V,3,1)/100)","v":0.23}]
[985,8.3799999999999999E-2,9.5100000000000004E-2,7.46E-2,7.46E-2,0.1759,0.1105,{"$f":"IF(Kalkulator!$B$35=TRUE,0,VLOOKUP(TODAY()+A987,T:V,3,1)/100)","v":0.23}]
[986,8.3799999999999999E-2,9.5100000000000004E-2,7.46E-2,7.46E-2,0.1759,0.1105,{"$f":"IF(Kalkulator!$B$35=TRUE,0,VLOOKUP(TODAY()+A988,T:V,3,1)/100)","v":0.23}]
[987,8.3799999999999999E-2,9.5100000000000004E-2,7.46E-2,7.46E-2,0.1759,0.1105,{"$f":"IF(Kalkulator!$B$35=TRUE,0,VLOOKUP(TODAY()+A989,T:V,3,1)/100)","v":0.23}]
[988,8.3799999999999999E-2,9.5100000000000004E-2,7.46E-2,7.46E-2,0.1759,0.1105,{"$f":"IF(Kalkulator!$B$35=TRUE,0,VLOOKUP(TODAY()+A990,T:V,3,1)/100)","v":0.23}]
[989,8.3799999999999999E-2,9.5100000000000004E-2,7.46E-2,7.46E-2,0.1759,0.1105,{"$f":"IF(Kalkulator!$B$35=TRUE,0,VLOOKUP(TODAY()+A991,T:V,3,1)/100)","v":0.23}]
[990,8.3699999999999997E-2,9.5100000000000004E-2,7.46E-2,7.46E-2,0.1759,0.1105,{"$f":"IF(Kalkulator!$B$35=TRUE,0,VLOOKUP(TODAY()+A992,T:V,3,1)/100)","v":0.23}]
[991,8.3699999999999997E-2,9.5100000000000004E-2,7.46E-2,7.46E-2,0.1759,0.1105,{"$f":"IF(Kalkulator!$B$35=TRUE,0,VLOOKUP(TODAY()+A993,T:V,3,1)/100)","v":0.23}]
[992,8.3699999999999997E-2,9.5100000000000004E-2,7.46E-2,7.46E-2,0.1759,0.1105,{"$f":"IF(Kalkulator!$B$35=TRUE,0,VLOOKUP(TODAY()+A994,T:V,3,1)/100)","v":0.23}]
[993,8.3699999999999997E-2,9.5100000000000004E-2,7.46E-2,7.46E-2,0.1759,0.1105,{"$f":"IF(Kalkulator!$B$35=TRUE,0,VLOOKUP(TODAY()+A995,T:V,3,1)/100)","v":0.23}]
[994,8.3599999999999994E-2,9.5100000000000004E-2,7.46E-2,7.46E-2,0.1759,0.1105,{"$f":"IF(Kalkulator!$B$35=TRUE,0,VLOOKUP(TODAY()+A996,T:V,3,1)/100)","v":0.23}]
[995,8.3599999999999994E-2,9.5100000000000004E-2,7.46E-2,7.46E-2,0.1759,0.1105,{"$f":"IF(Kalkulator!$B$35=TRUE,0,VLOOKUP(TODAY()+A997,T:V,3,1)/100)","v":0.23}]
[996,8.3599999999999994E-2,9.5100000000000004E-2,7.46E-2,7.46E-2,0.1759,0.1105,{"$f":"IF(Kalkulator!$B$35=TRUE,0,VLOOKUP(TODAY()+A998,T:V,3,1)/100)","v":0.23}]
[997,8.3599999999999994E-2,9.5100000000000004E-2,7.46E-2,7.46E-2,0.1759,0.1105,{"$f":"IF(Kalkulator!$B$35=TRUE,0,VLOOKUP(TODAY()+A999,T:V,3,1)/100)","v":0.23}]
[998,8.3599999999999994E-2,9.5100000000000004E-2,7.46E-2,7.46E-2,0.1759,0.1105,{"$f":"IF(Kalkulator!$B$35=TRUE,0,VLOOKUP(TODAY()+A1000,T:V,3,1)/100)","v":0.23}]
[999,8.3500000000000005E-2,9.5100000000000004E-2,7.46E-2,7.46E-2,0.1759,0.1105,{"$f":"IF(Kalkulator!$B$35=TRUE,0,VLOOKUP(TODAY()+A1001,T:V,3,1)/100)","v":0.23}]
[1000,8.3500000000000005E-2,9.5100000000000004E-2,7.46E-2,7.46E-2,0.1759,0.1105,{"$f":"IF(Kalkulator!$B$35=TRUE,0,VLOOKUP(TODAY()+A1002,T:V,3,1)/100)","v":0.23}]
[1001,8.3500000000000005E-2,9.5100000000000004E-2,7.46E-2,7.46E-2,0.1759,0.1105,{"$f":"IF(Kalkulator!$B$35=TRUE,0,VLOOKUP(TODAY()+A1003,T:V,3,1)/100)","v":0.23}]
[1002,8.3500000000000005E-2,9.5100000000000004E-2,7.46E-2,7.46E-2,0.1759,0.1105,{"$f":"IF(Kalkulator!$B$35=TRUE,0,VLOOKUP(TODAY()+A1004,T:V,3,1)/100)","v":0.23}]
[1003,8.3500000000000005E-2,9.5100000000000004E-2,7.46E-2,7.46E-2,0.1759,0.1105,{"$f":"IF(Kalkulator!$B$35=TRUE,0,VLOOKUP(TODAY()+A1005,T:V,3,1)/100)","v":0.23}]
[1004,8.3400000000000002E-2,9.5100000000000004E-2,7.46E-2,7.46E-2,0.1759,0.1105,{"$f":"IF(Kalkulator!$B$35=TRUE,0,VLOOKUP(TODAY()+A1006,T:V,3,1)/100)","v":0.23}]
[1005,8.3400000000000002E-2,9.5100000000000004E-2,7.46E-2,7.46E-2,0.1759,0.1105,{"$f":"IF(Kalkulator!$B$35=TRUE,0,VLOOKUP(TODAY()+A1007,T:V,3,1)/100)","v":0.23}]
[1006,8.3400000000000002E-2,9.5100000000000004E-2,7.46E-2,7.46E-2,0.1759,0.1105,{"$f":"IF(Kalkulator!$B$35=TRUE,0,VLOOKUP(TODAY()+A1008,T:V,3,1)/100)","v":0.23}]
[1007,8.3400000000000002E-2,9.5100000000000004E-2,7.46E-2,7.46E-2,0.1759,0.1105,{"$f":"IF(Kalkulator!$B$35=TRUE,0,VLOOKUP(TODAY()+A1009,T:V,3,1)/100)","v":0.23}]
[1008,8.3299999999999999E-2,9.5100000000000004E-2,7.46E-2,7.46E-2,0.1759,0.1105,{"$f":"IF(Kalkulator!$B$35=TRUE,0,VLOOKUP(TODAY()+A1010,T:V,3,1)/100)","v":0.23}]
[1009,8.3299999999999999E-2,9.5100000000000004E-2,7.46E-2,7.46E-2,0.1759,0.1105,{"$f":"IF(Kalkulator!$B$35=TRUE,0,VLOOKUP(TODAY()+A1011,T:V,3,1)/100)","v":0.23}]
[1010,8.3299999999999999E-2,9.5100000000000004E-2,7.46E-2,7.46E-2,0.1759,0.1105,{"$f":"IF(Kalkulator!$B$35=TRUE,0,VLOOKUP(TODAY()+A1012,T:V,3,1)/100)","v":0.23}]
[1011,8.3299999999999999E-2,9.5100000000000004E-2,7.46E-2,7.46E-2,0.1759,0.1105,{"$f":"IF(Kalkulator!$B$35=TRUE,0,VLOOKUP(TODAY()+A1013,T:V,3,1)/100)","v":0.23}]
[1012,8.3299999999999999E-2,9.5100000000000004E-2,7.46E-2,7.46E-2,0.1759,0.1105,{"$f":"IF(Kalkulator!$B$35=TRUE,0,VLOOKUP(TODAY()+A1014,T:V,3,1)/100)","v":0.23}]
[1013,8.3199999999999996E-2,9.5100000000000004E-2,7.46E-2,7.46E-2,0.1759,0.1105,{"$f":"IF(Kalkulator!$B$35=TRUE,0,VLOOKUP(TODAY()+A1015,T:V,3,1)/100)","v":0.23}]
[1014,8.3199999999999996E-2,9.5100000000000004E-2,7.46E-2,7.46E-2,0.1759,0.1105,{"$f":"IF(Kalkulator!$B$35=TRUE,0,VLOOKUP(TODAY()+A1016,T:V,3,1)/100)","v":0.23}]
[1015,8.3199999999999996E-2,9.5100000000000004E-2,7.46E-2,7.46E-2,0.1759,0.1105,{"$f":"IF(Kalkulator!$B$35=TRUE,0,VLOOKUP(TODAY()+A1017,T:V,3,1)/100)","v":0.23}]
[1016,8.3199999999999996E-2,9.5100000000000004E-2,7.46E-2,7.46E-2,0.1759,0.1105,{"$f":"IF(Kalkulator!$B$35=TRUE,0,VLOOKUP(TODAY()+A1018,T:V,3,1)/100)","v":0.23}]
[1017,8.3099999999999993E-2,9.5100000000000004E-2,7.46E-2,7.46E-2,0.1759,0.1105,{"$f":"IF(Kalkulator!$B$35=TRUE,0,VLOOKUP(TODAY()+A1019,T:V,3,1)/100)","v":0.23}]
[1018,8.3099999999999993E-2,9.5100000000000004E-2,7.46E-2,7.46E-2,0.1759,0.1105,{"$f":"IF(Kalkulator!$B$35=TRUE,0,VLOOKUP(TODAY()+A1020,T:V,3,1)/100)","v":0.23}]
[1019,8.3099999999999993E-2,9.5100000000000004E-2,7.46E-2,7.46E-2,0.1759,0.1105,{"$f":"IF(Kalkulator!$B$35=TRUE,0,VLOOKUP(TODAY()+A1021,T:V,3,1)/100)","v":0.23}]
[1020,8.3099999999999993E-2,9.5100000000000004E-2,7.46E-2,7.46E-2,0.1759,0.1105,{"$f":"IF(Kalkulator!$B$35=TRUE,0,VLOOKUP(TODAY()+A1022,T:V,3,1)/100)","v":0.23}]
[1021,8.3099999999999993E-2,9.5100000000000004E-2,7.46E-2,7.46E-2,0.1759,0.1105,{"$f":"IF(Kalkulator!$B$35=TRUE,0,VLOOKUP(TODAY()+A1023,T:V,3,1)/100)","v":0.23}]
[1022,8.3000000000000004E-2,9.5100000000000004E-2,7.46E-2,7.46E-2,0.1759,0.1105,{"$f":"IF(Kalkulator!$B$35=TRUE,0,VLOOKUP(TODAY()+A1024,T:V,3,1)/100)","v":0.23}]
[1023,8.3000000000000004E-2,9.5100000000000004E-2,7.46E-2,7.46E-2,0.1759,0.1105,{"$f":"IF(Kalkulator!$B$35=TRUE,0,VLOOKUP(TODAY()+A1025,T:V,3,1)/100)","v":0.23}]
[1024,8.3000000000000004E-2,9.5100000000000004E-2,7.46E-2,7.46E-2,0.1759,0.1105,{"$f":"IF(Kalkulator!$B$35=TRUE,0,VLOOKUP(TODAY()+A1026,T:V,3,1)/100)","v":0.23}]
[1025,8.3000000000000004E-2,9.5100000000000004E-2,7.46E-2,7.46E-2,0.1759,0.1105,{"$f":"IF(Kalkulator!$B$35=TRUE,0,VLOOKUP(TODAY()+A1027,T:V,3,1)/100)","v":0.23}]
[1026,8.3000000000000004E-2,9.5100000000000004E-2,7.46E-2,7.46E-2,0.1759,0.1105,{"$f":"IF(Kalkulator!$B$35=TRUE,0,VLOOKUP(TODAY()+A1028,T:V,3,1)/100)","v":0.23}]
[1027,8.2900000000000001E-2,9.5100000000000004E-2,7.46E-2,7.46E-2,0.1759,0.1105,{"$f":"IF(Kalkulator!$B$35=TRUE,0,VLOOKUP(TODAY()+A1029,T:V,3,1)/100)","v":0.23}]
[1028,8.2900000000000001E-2,9.5100000000000004E-2,7.46E-2,7.46E-2,0.1759,0.1105,{"$f":"IF(Kalkulator!$B$35=TRUE,0,VLOOKUP(TODAY()+A1030,T:V,3,1)/100)","v":0.23}]
[1029,8.2900000000000001E-2,9.5100000000000004E-2,7.46E-2,7.46E-2,0.1759,0.1105,{"$f":"IF(Kalkulator!$B$35=TRUE,0,VLOOKUP(TODAY()+A1031,T:V,3,1)/100)","v":0.23}]
[1030,8.2900000000000001E-2,9.5100000000000004E-2,7.46E-2,7.46E-2,0.1759,0.1105,{"$f":"IF(Kalkulator!$B$35=TRUE,0,VLOOKUP(TODAY()+A1032,T:V,3,1)/100)","v":0.23}]
[1031,8.2799999999999999E-2,9.5100000000000004E-2,7.46E-2,7.46E-2,0.1759,0.1105,{"$f":"IF(Kalkulator!$B$35=TRUE,0,VLOOKUP(TODAY()+A1033,T:V,3,1)/100)","v":0.23}]
[1032,8.2799999999999999E-2,9.5100000000000004E-2,7.46E-2,7.46E-2,0.1759,0.1105,{"$f":"IF(Kalkulator!$B$35=TRUE,0,VLOOKUP(TODAY()+A1034,T:V,3,1)/100)","v":0.23}]
[1033,8.2799999999999999E-2,9.5100000000000004E-2,7.46E-2,7.46E-2,0.1759,0.1105,{"$f":"IF(Kalkulator!$B$35=TRUE,0,VLOOKUP(TODAY()+A1035,T:V,3,1)/100)","v":0.23}]
[1034,8.2799999999999999E-2,9.5100000000000004E-2,7.46E-2,7.46E-2,0.1759,0.1105,{"$f":"IF(Kalkulator!$B$35=TRUE,0,VLOOKUP(TODAY()+A1036,T:V,3,1)/100)","v":0.23}]
[1035,8.2799999999999999E-2,9.5100000000000004E-2,7.46E-2,7.46E-2,0.1759,0.1105,{"$f":"IF(Kalkulator!$B$35=TRUE,0,VLOOKUP(TODAY()+A1037,T:V,3,1)/100)","v":0.23}]
[1036,8.2699999999999996E-2,9.5100000000000004E-2,7.46E-2,7.46E-2,0.1759,0.1105,{"$f":"IF(Kalkulator!$B$35=TRUE,0,VLOOKUP(TODAY()+A1038,T:V,3,1)/100)","v":0.23}]
[1037,8.2699999999999996E-2,9.5100000000000004E-2,7.46E-2,7.46E-2,0.1759,0.1105,{"$f":"IF(Kalkulator!$B$35=TRUE,0,VLOOKUP(TODAY()+A1039,T:V,3,1)/100)","v":0.23}]
[1038,8.2699999999999996E-2,9.5100000000000004E-2,7.46E-2,7.46E-2,0.1759,0.1105,{"$f":"IF(Kalkulator!$B$35=TRUE,0,VLOOKUP(TODAY()+A1040,T:V,3,1)/100)","v":0.23}]
[1039,8.2699999999999996E-2,9.5100000000000004E-2,7.46E-2,7.46E-2,0.1759,0.1105,{"$f":"IF(Kalkulator!$B$35=TRUE,0,VLOOKUP(TODAY()+A1041,T:V,3,1)/100)","v":0.23}]
[1040,8.2699999999999996E-2,9.5100000000000004E-2,7.46E-2,7.46E-2,0.1759,0.1105,{"$f":"IF(Kalkulator!$B$35=TRUE,0,VLOOKUP(TODAY()+A1042,T:V,3,1)/100)","v":0.23}]
[1041,8.2600000000000007E-2,9.5100000000000004E-2,7.46E-2,7.46E-2,0.1759,0.1105,{"$f":"IF(Kalkulator!$B$35=TRUE,0,VLOOKUP(TODAY()+A1043,T:V,3,1)/100)","v":0.23}]
[1042,8.2600000000000007E-2,9.5100000000000004E-2,7.46E-2,7.46E-2,0.1759,0.1105,{"$f":"IF(Kalkulator!$B$35=TRUE,0,VLOOKUP(TODAY()+A1044,T:V,3,1)/100)","v":0.23}]
[1043,8.2600000000000007E-2,9.5100000000000004E-2,7.46E-2,7.46E-2,0.1759,0.1105,{"$f":"IF(Kalkulator!$B$35=TRUE,0,VLOOKUP(TODAY()+A1045,T:V,3,1)/100)","v":0.23}]
[1044,8.2600000000000007E-2,9.5100000000000004E-2,7.46E-2,7.46E-2,0.1759,0.1105,{"$f":"IF(Kalkulator!$B$35=TRUE,0,VLOOKUP(TODAY()+A1046,T:V,3,1)/100)","v":0.23}]
[1045,8.2500000000000004E-2,9.5100000000000004E-2,7.46E-2,7.46E-2,0.1759,0.1105,{"$f":"IF(Kalkulator!$B$35=TRUE,0,VLOOKUP(TODAY()+A1047,T:V,3,1)/100)","v":0.23}]
[1046,8.2500000000000004E-2,9.5100000000000004E-2,7.46E-2,7.46E-2,0.1759,0.1105,{"$f":"IF(Kalkulator!$B$35=TRUE,0,VLOOKUP(TODAY()+A1048,T:V,3,1)/100)","v":0.23}]
[1047,8.2500000000000004E-2,9.5100000000000004E-2,7.46E-2,7.46E-2,0.1759,0.1105,{"$f":"IF(Kalkulator!$B$35=TRUE,0,VLOOKUP(TODAY()+A1049,T:V,3,1)/100)","v":0.23}]
[1048,8.2500000000000004E-2,9.5100000000000004E-2,7.46E-2,7.46E-2,0.1759,0.1105,{"$f":"IF(Kalkulator!$B$35=TRUE,0,VLOOKUP(TODAY()+A1050,T:V,3,1)/100)","v":0.23}]
[1049,8.2500000000000004E-2,9.5100000000000004E-2,7.46E-2,7.46E-2,0.1759,0.1105,{"$f":"IF(Kalkulator!$B$35=TRUE,0,VLOOKUP(TODAY()+A1051,T:V,3,1)/100)","v":0.23}]
[1050,8.2400000000000001E-2,9.5100000000000004E-2,7.46E-2,7.46E-2,0.1759,0.1105,{"$f":"IF(Kalkulator!$B$35=TRUE,0,VLOOKUP(TODAY()+A1052,T:V,3,1)/100)","v":0.23}]
[1051,8.2400000000000001E-2,9.5100000000000004E-2,7.46E-2,7.46E-2,0.1759,0.1105,{"$f":"IF(Kalkulator!$B$35=TRUE,0,VLOOKUP(TODAY()+A1053,T:V,3,1)/100)","v":0.23}]
[1052,8.2400000000000001E-2,9.5100000000000004E-2,7.46E-2,7.46E-2,0.1759,0.1105,{"$f":"IF(Kalkulator!$B$35=TRUE,0,VLOOKUP(TODAY()+A1054,T:V,3,1)/100)","v":0.23}]
[1053,8.2400000000000001E-2,9.5100000000000004E-2,7.46E-2,7.46E-2,0.1759,0.1105,{"$f":"IF(Kalkulator!$B$35=TRUE,0,VLOOKUP(TODAY()+A1055,T:V,3,1)/100)","v":0.23}]
[1054,8.2299999999999998E-2,9.5100000000000004E-2,7.46E-2,7.46E-2,0.1759,0.1105,{"$f":"IF(Kalkulator!$B$35=TRUE,0,VLOOKUP(TODAY()+A1056,T:V,3,1)/100)","v":0.23}]
[1055,8.2299999999999998E-2,9.5100000000000004E-2,7.46E-2,7.46E-2,0.1759,0.1105,{"$f":"IF(Kalkulator!$B$35=TRUE,0,VLOOKUP(TODAY()+A1057,T:V,3,1)/100)","v":0.23}]
[1056,8.2299999999999998E-2,9.5100000000000004E-2,7.46E-2,7.46E-2,0.1759,0.1105,{"$f":"IF(Kalkulator!$B$35=TRUE,0,VLOOKUP(TODAY()+A1058,T:V,3,1)/100)","v":0.23}]
[1057,8.2299999999999998E-2,9.5100000000000004E-2,7.46E-2,7.46E-2,0.1759,0.1105,{"$f":"IF(Kalkulator!$B$35=TRUE,0,VLOOKUP(TODAY()+A1059,T:V,3,1)/100)","v":0.23}]
[1058,8.2299999999999998E-2,9.5100000000000004E-2,7.46E-2,7.46E-2,0.1759,0.1105,{"$f":"IF(Kalkulator!$B$35=TRUE,0,VLOOKUP(TODAY()+A1060,T:V,3,1)/100)","v":0.23}]
[1059,8.2199999999999995E-2,9.5100000000000004E-2,7.46E-2,7.46E-2,0.1759,0.1105,{"$f":"IF(Kalkulator!$B$35=TRUE,0,VLOOKUP(TODAY()+A1061,T:V,3,1)/100)","v":0.23}]
[1060,8.2199999999999995E-2,9.5100000000000004E-2,7.46E-2,7.46E-2,0.1759,0.1105,{"$f":"IF(Kalkulator!$B$35=TRUE,0,VLOOKUP(TODAY()+A1062,T:V,3,1)/100)","v":0.23}]
[1061,8.2199999999999995E-2,9.5100000000000004E-2,7.46E-2,7.46E-2,0.1759,0.1105,{"$f":"IF(Kalkulator!$B$35=TRUE,0,VLOOKUP(TODAY()+A1063,T:V,3,1)/100)","v":0.23}]
[1062,8.2199999999999995E-2,9.5100000000000004E-2,7.46E-2,7.46E-2,0.1759,0.1105,{"$f":"IF(Kalkulator!$B$35=TRUE,0,VLOOKUP(TODAY()+A1064,T:V,3,1)/100)","v":0.23}]
[1063,8.2199999999999995E-2,9.5100000000000004E-2,7.46E-2,7.46E-2,0.1759,0.1105,{"$f":"IF(Kalkulator!$B$35=TRUE,0,VLOOKUP(TODAY()+A1065,T:V,3,1)/100)","v":0.23}]
[1064,8.2100000000000006E-2,9.5100000000000004E-2,7.46E-2,7.46E-2,0.1759,0.1105,{"$f":"IF(Kalkulator!$B$35=TRUE,0,VLOOKUP(TODAY()+A1066,T:V,3,1)/100)","v":0.23}]
[1065,8.2100000000000006E-2,9.5100000000000004E-2,7.46E-2,7.46E-2,0.1759,0.1105,{"$f":"IF(Kalkulator!$B$35=TRUE,0,VLOOKUP(TODAY()+A1067,T:V,3,1)/100)","v":0.23}]
[1066,8.2100000000000006E-2,9.5100000000000004E-2,7.46E-2,7.46E-2,0.1759,0.1105,{"$f":"IF(Kalkulator!$B$35=TRUE,0,VLOOKUP(TODAY()+A1068,T:V,3,1)/100)","v":0.23}]
[1067,8.2100000000000006E-2,9.5100000000000004E-2,7.46E-2,7.46E-2,0.1759,0.1105,{"$f":"IF(Kalkulator!$B$35=TRUE,0,VLOOKUP(TODAY()+A1069,T:V,3,1)/100)","v":0.23}]
[1068,8.2000000000000003E-2,9.5100000000000004E-2,7.46E-2,7.46E-2,0.1759,0.1105,{"$f":"IF(Kalkulator!$B$35=TRUE,0,VLOOKUP(TODAY()+A1070,T:V,3,1)/100)","v":0.23}]
[1069,8.2000000000000003E-2,9.5100000000000004E-2,7.46E-2,7.46E-2,0.1759,0.1105,{"$f":"IF(Kalkulator!$B$35=TRUE,0,VLOOKUP(TODAY()+A1071,T:V,3,1)/100)","v":0.23}]
[1070,8.2000000000000003E-2,9.5100000000000004E-2,7.46E-2,7.46E-2,0.1759,0.1105,{"$f":"IF(Kalkulator!$B$35=TRUE,0,VLOOKUP(TODAY()+A1072,T:V,3,1)/100)","v":0.23}]
[1071,8.2000000000000003E-2,9.5100000000000004E-2,7.46E-2,7.46E-2,0.1759,0.1105,{"$f":"IF(Kalkulator!$B$35=TRUE,0,VLOOKUP(TODAY()+A1073,T:V,3,1)/100)","v":0.23}]
[1072,8.2000000000000003E-2,9.5100000000000004E-2,7.46E-2,7.46E-2,0.1759,0.1105,{"$f":"IF(Kalkulator!$B$35=TRUE,0,VLOOKUP(TODAY()+A1074,T:V,3,1)/100)","v":0.23}]
[1073,8.1900000000000001E-2,9.5100000000000004E-2,7.46E-2,7.46E-2,0.1759,0.1105,{"$f":"IF(Kalkulator!$B$35=TRUE,0,VLOOKUP(TODAY()+A1075,T:V,3,1)/100)","v":0.23}]
[1074,8.1900000000000001E-2,9.5100000000000004E-2,7.46E-2,7.46E-2,0.1759,0.1105,{"$f":"IF(Kalkulator!$B$35=TRUE,0,VLOOKUP(TODAY()+A1076,T:V,3,1)/100)","v":0.23}]
[1075,8.1900000000000001E-2,9.5100000000000004E-2,7.46E-2,7.46E-2,0.1759,0.1105,{"$f":"IF(Kalkulator!$B$35=TRUE,0,VLOOKUP(TODAY()+A1077,T:V,3,1)/100)","v":0.23}]
[1076,8.1900000000000001E-2,9.5100000000000004E-2,7.46E-2,7.46E-2,0.1759,0.1105,{"$f":"IF(Kalkulator!$B$35=TRUE,0,VLOOKUP(TODAY()+A1078,T:V,3,1)/100)","v":0.23}]
[1077,8.1900000000000001E-2,9.5100000000000004E-2,7.46E-2,7.46E-2,0.1759,0.1105,{"$f":"IF(Kalkulator!$B$35=TRUE,0,VLOOKUP(TODAY()+A1079,T:V,3,1)/100)","v":0.23}]
[1078,8.1799999999999998E-2,9.5100000000000004E-2,7.46E-2,7.46E-2,0.1759,0.1105,{"$f":"IF(Kalkulator!$B$35=TRUE,0,VLOOKUP(TODAY()+A1080,T:V,3,1)/100)","v":0.23}]
[1079,8.1799999999999998E-2,9.5100000000000004E-2,7.46E-2,7.46E-2,0.1759,0.1105,{"$f":"IF(Kalkulator!$B$35=TRUE,0,VLOOKUP(TODAY()+A1081,T:V,3,1)/100)","v":0.23}]
[1080,8.1799999999999998E-2,9.5100000000000004E-2,7.46E-2,7.46E-2,0.1759,0.1105,{"$f":"IF(Kalkulator!$B$35=TRUE,0,VLOOKUP(TODAY()+A1082,T:V,3,1)/100)","v":0.23}]
[1081,8.1799999999999998E-2,9.5100000000000004E-2,7.46E-2,7.46E-2,0.1759,0.1105,{"$f":"IF(Kalkulator!$B$35=TRUE,0,VLOOKUP(TODAY()+A1083,T:V,3,1)/100)","v":0.23}]
[1082,8.1699999999999995E-2,9.5100000000000004E-2,7.46E-2,7.46E-2,0.1759,0.1105,{"$f":"IF(Kalkulator!$B$35=TRUE,0,VLOOKUP(TODAY()+A1084,T:V,3,1)/100)","v":0.23}]
[1083,8.1699999999999995E-2,9.5100000000000004E-2,7.46E-2,7.46E-2,0.1759,0.1105,{"$f":"IF(Kalkulator!$B$35=TRUE,0,VLOOKUP(TODAY()+A1085,T:V,3,1)/100)","v":0.23}]
[1084,8.1699999999999995E-2,9.5100000000000004E-2,7.46E-2,7.46E-2,0.1759,0.1105,{"$f":"IF(Kalkulator!$B$35=TRUE,0,VLOOKUP(TODAY()+A1086,T:V,3,1)/100)","v":0.23}]
[1085,8.1699999999999995E-2,9.5100000000000004E-2,7.46E-2,7.46E-2,0.1759,0.1105,{"$f":"IF(Kalkulator!$B$35=TRUE,0,VLOOKUP(TODAY()+A1087,T:V,3,1)/100)","v":0.23}]
[1086,8.1699999999999995E-2,9.5100000000000004E-2,7.46E-2,7.46E-2,0.1759,0.1105,{"$f":"IF(Kalkulator!$B$35=TRUE,0,VLOOKUP(TODAY()+A1088,T:V,3,1)/100)","v":0.23}]
[1087,8.1600000000000006E-2,9.5100000000000004E-2,7.46E-2,7.46E-2,0.1759,0.1105,{"$f":"IF(Kalkulator!$B$35=TRUE,0,VLOOKUP(TODAY()+A1089,T:V,3,1)/100)","v":0.23}]
[1088,8.1600000000000006E-2,9.5100000000000004E-2,7.46E-2,7.46E-2,0.1759,0.1105,{"$f":"IF(Kalkulator!$B$35=TRUE,0,VLOOKUP(TODAY()+A1090,T:V,3,1)/100)","v":0.23}]
[1089,8.1600000000000006E-2,9.5100000000000004E-2,7.46E-2,7.46E-2,0.1759,0.1105,{"$f":"IF(Kalkulator!$B$35=TRUE,0,VLOOKUP(TODAY()+A1091,T:V,3,1)/100)","v":0.23}]
[1090,8.1600000000000006E-2,9.5100000000000004E-2,7.46E-2,7.46E-2,0.1759,0.1105,{"$f":"IF(Kalkulator!$B$35=TRUE,0,VLOOKUP(TODAY()+A1092,T:V,3,1)/100)","v":0.23}]
[1091,8.1500000000000003E-2,9.5100000000000004E-2,7.46E-2,7.46E-2,0.1759,0.1105,{"$f":"IF(Kalkulator!$B$35=TRUE,0,VLOOKUP(TODAY()+A1093,T:V,3,1)/100)","v":0.23}]
[1092,8.1500000000000003E-2,9.5100000000000004E-2,7.46E-2,7.46E-2,0.1759,0.1105,{"$f":"IF(Kalkulator!$B$35=TRUE,0,VLOOKUP(TODAY()+A1094,T:V,3,1)/100)","v":0.23}]
[1093,8.1500000000000003E-2,9.5100000000000004E-2,7.46E-2,7.46E-2,0.1759,0.1105,{"$f":"IF(Kalkulator!$B$35=TRUE,0,VLOOKUP(TODAY()+A1095,T:V,3,1)/100)","v":0.23}]
[1094,8.1500000000000003E-2,9.5100000000000004E-2,7.46E-2,7.46E-2,0.1759,0.1105,{"$f":"IF(Kalkulator!$B$35=TRUE,0,VLOOKUP(TODAY()+A1096,T:V,3,1)/100)","v":0.23}]
[1095,8.1500000000000003E-2,9.5100000000000004E-2,7.46E-2,7.46E-2,0.1759,0.1105,{"$f":"IF(Kalkulator!$B$35=TRUE,0,VLOOKUP(TODAY()+A1097,T:V,3,1)/100)","v":0.23}]
[1096,8.14E-2,9.5100000000000004E-2,7.46E-2,7.46E-2,0.1759,0.1105,{"$f":"IF(Kalkulator!$B$35=TRUE,0,VLOOKUP(TODAY()+A1098,T:V,3,1)/100)","v":0.23}]
[1097,8.14E-2,9.5100000000000004E-2,7.46E-2,7.46E-2,0.1759,0.1105,{"$f":"IF(Kalkulator!$B$35=TRUE,0,VLOOKUP(TODAY()+A1099,T:V,3,1)/100)","v":0.23}]
[1098,8.14E-2,9.5100000000000004E-2,7.46E-2,7.46E-2,0.1759,0.1105,{"$f":"IF(Kalkulator!$B$35=TRUE,0,VLOOKUP(TODAY()+A1100,T:V,3,1)/100)","v":0.23}]
[1099,8.14E-2,9.5100000000000004E-2,7.46E-2,7.46E-2,0.1759,0.1105,{"$f":"IF(Kalkulator!$B$35=TRUE,0,VLOOKUP(TODAY()+A1101,T:V,3,1)/100)","v":0.23}]
[1100,8.14E-2,9.5100000000000004E-2,7.46E-2,7.46E-2,0.1759,0.1105,{"$f":"IF(Kalkulator!$B$35=TRUE,0,VLOOKUP(TODAY()+A1102,T:V,3,1)/100)","v":0.23}]
[1101,8.1299999999999997E-2,9.5100000000000004E-2,7.46E-2,7.46E-2,0.1759,0.1105,{"$f":"IF(Kalkulator!$B$35=TRUE,0,VLOOKUP(TODAY()+A1103,T:V,3,1)/100)","v":0.23}]
[1102,8.1299999999999997E-2,9.5100000000000004E-2,7.46E-2,7.46E-2,0.1759,0.1105,{"$f":"IF(Kalkulator!$B$35=TRUE,0,VLOOKUP(TODAY()+A1104,T:V,3,1)/100)","v":0.23}]
[1103,8.1299999999999997E-2,9.5100000000000004E-2,7.46E-2,7.46E-2,0.1759,0.1105,{"$f":"IF(Kalkulator!$B$35=TRUE,0,VLOOKUP(TODAY()+A1105,T:V,3,1)/100)","v":0.23}]
[1104,8.1299999999999997E-2,9.5100000000000004E-2,7.46E-2,7.46E-2,0.1759,0.1105,{"$f":"IF(Kalkulator!$B$35=TRUE,0,VLOOKUP(TODAY()+A1106,T:V,3,1)/100)","v":0.23}]
[1105,8.1199999999999994E-2,9.5100000000000004E-2,7.46E-2,7.46E-2,0.1759,0.1105,{"$f":"IF(Kalkulator!$B$35=TRUE,0,VLOOKUP(TODAY()+A1107,T:V,3,1)/100)","v":0.23}]
[1106,8.1199999999999994E-2,9.5100000000000004E-2,7.46E-2,7.46E-2,0.1759,0.1105,{"$f":"IF(Kalkulator!$B$35=TRUE,0,VLOOKUP(TODAY()+A1108,T:V,3,1)/100)","v":0.23}]
[1107,8.1199999999999994E-2,9.5100000000000004E-2,7.46E-2,7.46E-2,0.1759,0.1105,{"$f":"IF(Kalkulator!$B$35=TRUE,0,VLOOKUP(TODAY()+A1109,T:V,3,1)/100)","v":0.23}]
[1108,8.1199999999999994E-2,9.5100000000000004E-2,7.46E-2,7.46E-2,0.1759,0.1105,{"$f":"IF(Kalkulator!$B$35=TRUE,0,VLOOKUP(TODAY()+A1110,T:V,3,1)/100)","v":0.23}]
[1109,8.1199999999999994E-2,9.5100000000000004E-2,7.46E-2,7.46E-2,0.1759,0.1105,{"$f":"IF(Kalkulator!$B$35=TRUE,0,VLOOKUP(TODAY()+A1111,T:V,3,1)/100)","v":0.23}]
[1110,8.1100000000000005E-2,9.5100000000000004E-2,7.46E-2,7.46E-2,0.1759,0.1105,{"$f":"IF(Kalkulator!$B$35=TRUE,0,VLOOKUP(TODAY()+A1112,T:V,3,1)/100)","v":0.23}]
[1111,8.1100000000000005E-2,9.5100000000000004E-2,7.46E-2,7.46E-2,0.1759,0.1105,{"$f":"IF(Kalkulator!$B$35=TRUE,0,VLOOKUP(TODAY()+A1113,T:V,3,1)/100)","v":0.23}]
[1112,8.1100000000000005E-2,9.5100000000000004E-2,7.46E-2,7.46E-2,0.1759,0.1105,{"$f":"IF(Kalkulator!$B$35=TRUE,0,VLOOKUP(TODAY()+A1114,T:V,3,1)/100)","v":0.23}]
[1113,8.1100000000000005E-2,9.5100000000000004E-2,7.46E-2,7.46E-2,0.1759,0.1105,{"$f":"IF(Kalkulator!$B$35=TRUE,0,VLOOKUP(TODAY()+A1115,T:V,3,1)/100)","v":0.23}]
[1114,8.1000000000000003E-2,9.5100000000000004E-2,7.46E-2,7.46E-2,0.1759,0.1105,{"$f":"IF(Kalkulator!$B$35=TRUE,0,VLOOKUP(TODAY()+A1116,T:V,3,1)/100)","v":0.23}]
[1115,8.1000000000000003E-2,9.5100000000000004E-2,7.46E-2,7.46E-2,0.1759,0.1105,{"$f":"IF(Kalkulator!$B$35=TRUE,0,VLOOKUP(TODAY()+A1117,T:V,3,1)/100)","v":0.23}]
[1116,8.1000000000000003E-2,9.5100000000000004E-2,7.46E-2,7.46E-2,0.1759,0.1105,{"$f":"IF(Kalkulator!$B$35=TRUE,0,VLOOKUP(TODAY()+A1118,T:V,3,1)/100)","v":0.23}]
[1117,8.1000000000000003E-2,9.5100000000000004E-2,7.46E-2,7.46E-2,0.1759,0.1105,{"$f":"IF(Kalkulator!$B$35=TRUE,0,VLOOKUP(TODAY()+A1119,T:V,3,1)/100)","v":0.23}]
[1118,8.1000000000000003E-2,9.5100000000000004E-2,7.46E-2,7.46E-2,0.1759,0.1105,{"$f":"IF(Kalkulator!$B$35=TRUE,0,VLOOKUP(TODAY()+A1120,T:V,3,1)/100)","v":0.23}]
[1119,8.09E-2,9.5100000000000004E-2,7.46E-2,7.46E-2,0.1759,0.1105,{"$f":"IF(Kalkulator!$B$35=TRUE,0,VLOOKUP(TODAY()+A1121,T:V,3,1)/100)","v":0.23}]
[1120,8.09E-2,9.5100000000000004E-2,7.46E-2,7.46E-2,0.1759,0.1105,{"$f":"IF(Kalkulator!$B$35=TRUE,0,VLOOKUP(TODAY()+A1122,T:V,3,1)/100)","v":0.23}]
[1121,8.09E-2,9.5100000000000004E-2,7.46E-2,7.46E-2,0.1759,0.1105,{"$f":"IF(Kalkulator!$B$35=TRUE,0,VLOOKUP(TODAY()+A1123,T:V,3,1)/100)","v":0.23}]
[1122,8.09E-2,9.5100000000000004E-2,7.46E-2,7.46E-2,0.1759,0.1105,{"$f":"IF(Kalkulator!$B$35=TRUE,0,VLOOKUP(TODAY()+A1124,T:V,3,1)/100)","v":0.23}]
[1123,8.09E-2,9.5100000000000004E-2,7.46E-2,7.46E-2,0.1759,0.1105,{"$f":"IF(Kalkulator!$B$35=TRUE,0,VLOOKUP(TODAY()+A1125,T:V,3,1)/100)","v":0.23}]
[1124,8.0799999999999997E-2,9.5100000000000004E-2,7.46E-2,7.46E-2,0.1759,0.1105,{"$f":"IF(Kalkulator!$B$35=TRUE,0,VLOOKUP(TODAY()+A1126,T:V,3,1)/100)","v":0.23}]
[1125,8.0799999999999997E-2,9.5100000000000004E-2,7.46E-2,7.46E-2,0.1759,0.1105,{"$f":"IF(Kalkulator!$B$35=TRUE,0,VLOOKUP(TODAY()+A1127,T:V,3,1)/100)","v":0.23}]
[1126,8.0799999999999997E-2,9.5100000000000004E-2,7.46E-2,7.46E-2,0.1759,0.1105,{"$f":"IF(Kalkulator!$B$35=TRUE,0,VLOOKUP(TODAY()+A1128,T:V,3,1)/100)","v":0.23}]
[1127,8.0799999999999997E-2,9.5100000000000004E-2,7.46E-2,7.46E-2,0.1759,0.1105,{"$f":"IF(Kalkulator!$B$35=TRUE,0,VLOOKUP(TODAY()+A1129,T:V,3,1)/100)","v":0.23}]
[1128,8.0699999999999994E-2,9.5100000000000004E-2,7.46E-2,7.46E-2,0.1759,0.1105,{"$f":"IF(Kalkulator!$B$35=TRUE,0,VLOOKUP(TODAY()+A1130,T:V,3,1)/100)","v":0.23}]
[1129,8.0699999999999994E-2,9.5100000000000004E-2,7.46E-2,7.46E-2,0.1759,0.1105,{"$f":"IF(Kalkulator!$B$35=TRUE,0,VLOOKUP(TODAY()+A1131,T:V,3,1)/100)","v":0.23}]
[1130,8.0699999999999994E-2,9.5100000000000004E-2,7.46E-2,7.46E-2,0.1759,0.1105,{"$f":"IF(Kalkulator!$B$35=TRUE,0,VLOOKUP(TODAY()+A1132,T:V,3,1)/100)","v":0.23}]
[1131,8.0699999999999994E-2,9.5100000000000004E-2,7.46E-2,7.46E-2,0.1759,0.1105,{"$f":"IF(Kalkulator!$B$35=TRUE,0,VLOOKUP(TODAY()+A1133,T:V,3,1)/100)","v":0.23}]
[1132,8.0699999999999994E-2,9.5100000000000004E-2,7.46E-2,7.46E-2,0.1759,0.1105,{"$f":"IF(Kalkulator!$B$35=TRUE,0,VLOOKUP(TODAY()+A1134,T:V,3,1)/100)","v":0.23}]
[1133,8.0600000000000005E-2,9.5100000000000004E-2,7.46E-2,7.46E-2,0.1759,0.1105,{"$f":"IF(Kalkulator!$B$35=TRUE,0,VLOOKUP(TODAY()+A1135,T:V,3,1)/100)","v":0.23}]
[1134,8.0600000000000005E-2,9.5100000000000004E-2,7.46E-2,7.46E-2,0.1759,0.1105,{"$f":"IF(Kalkulator!$B$35=TRUE,0,VLOOKUP(TODAY()+A1136,T:V,3,1)/100)","v":0.23}]
[1135,8.0600000000000005E-2,9.5100000000000004E-2,7.46E-2,7.46E-2,0.1759,0.1105,{"$f":"IF(Kalkulator!$B$35=TRUE,0,VLOOKUP(TODAY()+A1137,T:V,3,1)/100)","v":0.23}]
[1136,8.0600000000000005E-2,9.5100000000000004E-2,7.46E-2,7.46E-2,0.1759,0.1105,{"$f":"IF(Kalkulator!$B$35=TRUE,0,VLOOKUP(TODAY()+A1138,T:V,3,1)/100)","v":0.23}]
[1137,8.0600000000000005E-2,9.5100000000000004E-2,7.46E-2,7.46E-2,0.1759,0.1105,{"$f":"IF(Kalkulator!$B$35=TRUE,0,VLOOKUP(TODAY()+A1139,T:V,3,1)/100)","v":0.23}]
[1138,8.0500000000000002E-2,9.5100000000000004E-2,7.46E-2,7.46E-2,0.1759,0.1105,{"$f":"IF(Kalkulator!$B$35=TRUE,0,VLOOKUP(TODAY()+A1140,T:V,3,1)/100)","v":0.23}]
[1139,8.0500000000000002E-2,9.5100000000000004E-2,7.46E-2,7.46E-2,0.1759,0.1105,{"$f":"IF(Kalkulator!$B$35=TRUE,0,VLOOKUP(TODAY()+A1141,T:V,3,1)/100)","v":0.23}]
[1140,8.0500000000000002E-2,9.5100000000000004E-2,7.46E-2,7.46E-2,0.1759,0.1105,{"$f":"IF(Kalkulator!$B$35=TRUE,0,VLOOKUP(TODAY()+A1142,T:V,3,1)/100)","v":0.23}]
[1141,8.0500000000000002E-2,9.5100000000000004E-2,7.46E-2,7.46E-2,0.1759,0.1105,{"$f":"IF(Kalkulator!$B$35=TRUE,0,VLOOKUP(TODAY()+A1143,T:V,3,1)/100)","v":0.23}]
[1142,8.0399999999999999E-2,9.5100000000000004E-2,7.46E-2,7.46E-2,0.1759,0.1105,{"$f":"IF(Kalkulator!$B$35=TRUE,0,VLOOKUP(TODAY()+A1144,T:V,3,1)/100)","v":0.23}]
[1143,8.0399999999999999E-2,9.5100000000000004E-2,7.46E-2,7.46E-2,0.1759,0.1105,{"$f":"IF(Kalkulator!$B$35=TRUE,0,VLOOKUP(TODAY()+A1145,T:V,3,1)/100)","v":0.23}]
[1144,8.0399999999999999E-2,9.5100000000000004E-2,7.46E-2,7.46E-2,0.1759,0.1105,{"$f":"IF(Kalkulator!$B$35=TRUE,0,VLOOKUP(TODAY()+A1146,T:V,3,1)/100)","v":0.23}]
[1145,8.0399999999999999E-2,9.5100000000000004E-2,7.46E-2,7.46E-2,0.1759,0.1105,{"$f":"IF(Kalkulator!$B$35=TRUE,0,VLOOKUP(TODAY()+A1147,T:V,3,1)/100)","v":0.23}]
[1146,8.0399999999999999E-2,9.5100000000000004E-2,7.46E-2,7.46E-2,0.1759,0.1105,{"$f":"IF(Kalkulator!$B$35=TRUE,0,VLOOKUP(TODAY()+A1148,T:V,3,1)/100)","v":0.23}]
[1147,8.0299999999999996E-2,9.5100000000000004E-2,7.46E-2,7.46E-2,0.1759,0.1105,{"$f":"IF(Kalkulator!$B$35=TRUE,0,VLOOKUP(TODAY()+A1149,T:V,3,1)/100)","v":0.23}]
[1148,8.0299999999999996E-2,9.5100000000000004E-2,7.46E-2,7.46E-2,0.1759,0.1105,{"$f":"IF(Kalkulator!$B$35=TRUE,0,VLOOKUP(TODAY()+A1150,T:V,3,1)/100)","v":0.23}]
[1149,8.0299999999999996E-2,9.5100000000000004E-2,7.46E-2,7.46E-2,0.1759,0.1105,{"$f":"IF(Kalkulator!$B$35=TRUE,0,VLOOKUP(TODAY()+A1151,T:V,3,1)/100)","v":0.23}]
[1150,8.0299999999999996E-2,9.5100000000000004E-2,7.46E-2,7.46E-2,0.1759,0.1105,{"$f":"IF(Kalkulator!$B$35=TRUE,0,VLOOKUP(TODAY()+A1152,T:V,3,1)/100)","v":0.23}]
[1151,8.0199999999999994E-2,9.5100000000000004E-2,7.46E-2,7.46E-2,0.1759,0.1105,{"$f":"IF(Kalkulator!$B$35=TRUE,0,VLOOKUP(TODAY()+A1153,T:V,3,1)/100)","v":0.23}]
[1152,8.0199999999999994E-2,9.5100000000000004E-2,7.46E-2,7.46E-2,0.1759,0.1105,{"$f":"IF(Kalkulator!$B$35=TRUE,0,VLOOKUP(TODAY()+A1154,T:V,3,1)/100)","v":0.23}]
[1153,8.0199999999999994E-2,9.5100000000000004E-2,7.46E-2,7.46E-2,0.1759,0.1105,{"$f":"IF(Kalkulator!$B$35=TRUE,0,VLOOKUP(TODAY()+A1155,T:V,3,1)/100)","v":0.23}]
[1154,8.0199999999999994E-2,9.5100000000000004E-2,7.46E-2,7.46E-2,0.1759,0.1105,{"$f":"IF(Kalkulator!$B$35=TRUE,0,VLOOKUP(TODAY()+A1156,T:V,3,1)/100)","v":0.23}]
[1155,8.0199999999999994E-2,9.5100000000000004E-2,7.46E-2,7.46E-2,0.1759,0.1105,{"$f":"IF(Kalkulator!$B$35=TRUE,0,VLOOKUP(TODAY()+A1157,T:V,3,1)/100)","v":0.23}]
[1156,8.0100000000000005E-2,9.5100000000000004E-2,7.46E-2,7.46E-2,0.1759,0.1105,{"$f":"IF(Kalkulator!$B$35=TRUE,0,VLOOKUP(TODAY()+A1158,T:V,3,1)/100)","v":0.23}]
[1157,8.0100000000000005E-2,9.5100000000000004E-2,7.46E-2,7.46E-2,0.1759,0.1105,{"$f":"IF(Kalkulator!$B$35=TRUE,0,VLOOKUP(TODAY()+A1159,T:V,3,1)/100)","v":0.23}]
[1158,8.0100000000000005E-2,9.5100000000000004E-2,7.46E-2,7.46E-2,0.1759,0.1105,{"$f":"IF(Kalkulator!$B$35=TRUE,0,VLOOKUP(TODAY()+A1160,T:V,3,1)/100)","v":0.23}]
[1159,8.0100000000000005E-2,9.5100000000000004E-2,7.46E-2,7.46E-2,0.1759,0.1105,{"$f":"IF(Kalkulator!$B$35=TRUE,0,VLOOKUP(TODAY()+A1161,T:V,3,1)/100)","v":0.23}]
[1160,8.0100000000000005E-2,9.5100000000000004E-2,7.46E-2,7.46E-2,0.1759,0.1105,{"$f":"IF(Kalkulator!$B$35=TRUE,0,VLOOKUP(TODAY()+A1162,T:V,3,1)/100)","v":0.23}]
[1161,0.08,9.5100000000000004E-2,7.46E-2,7.46E-2,0.1759,0.1105,{"$f":"IF(Kalkulator!$B$35=TRUE,0,VLOOKUP(TODAY()+A1163,T:V,3,1)/100)","v":0.23}]
[1162,0.08,9.5100000000000004E-2,7.46E-2,7.46E-2,0.1759,0.1105,{"$f":"IF(Kalkulator!$B$35=TRUE,0,VLOOKUP(TODAY()+A1164,T:V,3,1)/100)","v":0.23}]
[1163,0.08,9.5100000000000004E-2,7.46E-2,7.46E-2,0.1759,0.1105,{"$f":"IF(Kalkulator!$B$35=TRUE,0,VLOOKUP(TODAY()+A1165,T:V,3,1)/100)","v":0.23}]
[1164,0.08,9.5100000000000004E-2,7.46E-2,7.46E-2,0.1759,0.1105,{"$f":"IF(Kalkulator!$B$35=TRUE,0,VLOOKUP(TODAY()+A1166,T:V,3,1)/100)","v":0.23}]
[1165,7.9899999999999999E-2,9.5100000000000004E-2,7.46E-2,7.46E-2,0.1759,0.1105,{"$f":"IF(Kalkulator!$B$35=TRUE,0,VLOOKUP(TODAY()+A1167,T:V,3,1)/100)","v":0.23}]
[1166,7.9899999999999999E-2,9.5100000000000004E-2,7.46E-2,7.46E-2,0.1759,0.1105,{"$f":"IF(Kalkulator!$B$35=TRUE,0,VLOOKUP(TODAY()+A1168,T:V,3,1)/100)","v":0.23}]
[1167,7.9899999999999999E-2,9.5100000000000004E-2,7.46E-2,7.46E-2,0.1759,0.1105,{"$f":"IF(Kalkulator!$B$35=TRUE,0,VLOOKUP(TODAY()+A1169,T:V,3,1)/100)","v":0.23}]
[1168,7.9899999999999999E-2,9.5100000000000004E-2,7.46E-2,7.46E-2,0.1759,0.1105,{"$f":"IF(Kalkulator!$B$35=TRUE,0,VLOOKUP(TODAY()+A1170,T:V,3,1)/100)","v":0.23}]
[1169,7.9899999999999999E-2,9.5100000000000004E-2,7.46E-2,7.46E-2,0.1759,0.1105,{"$f":"IF(Kalkulator!$B$35=TRUE,0,VLOOKUP(TODAY()+A1171,T:V,3,1)/100)","v":0.23}]
[1170,7.9799999999999996E-2,9.5100000000000004E-2,7.46E-2,7.46E-2,0.1759,0.1105,{"$f":"IF(Kalkulator!$B$35=TRUE,0,VLOOKUP(TODAY()+A1172,T:V,3,1)/100)","v":0.23}]
[1171,7.9799999999999996E-2,9.5100000000000004E-2,7.46E-2,7.46E-2,0.1759,0.1105,{"$f":"IF(Kalkulator!$B$35=TRUE,0,VLOOKUP(TODAY()+A1173,T:V,3,1)/100)","v":0.23}]
[1172,7.9799999999999996E-2,9.5100000000000004E-2,7.46E-2,7.46E-2,0.1759,0.1105,{"$f":"IF(Kalkulator!$B$35=TRUE,0,VLOOKUP(TODAY()+A1174,T:V,3,1)/100)","v":0.23}]
[1173,7.9799999999999996E-2,9.5100000000000004E-2,7.46E-2,7.46E-2,0.1759,0.1105,{"$f":"IF(Kalkulator!$B$35=TRUE,0,VLOOKUP(TODAY()+A1175,T:V,3,1)/100)","v":0.23}]
[1174,7.9799999999999996E-2,9.5100000000000004E-2,7.46E-2,7.46E-2,0.1759,0.1105,{"$f":"IF(Kalkulator!$B$35=TRUE,0,VLOOKUP(TODAY()+A1176,T:V,3,1)/100)","v":0.23}]
[1175,7.9699999999999993E-2,9.5100000000000004E-2,7.46E-2,7.46E-2,0.1759,0.1105,{"$f":"IF(Kalkulator!$B$35=TRUE,0,VLOOKUP(TODAY()+A1177,T:V,3,1)/100)","v":0.23}]
[1176,7.9699999999999993E-2,9.5100000000000004E-2,7.46E-2,7.46E-2,0.1759,0.1105,{"$f":"IF(Kalkulator!$B$35=TRUE,0,VLOOKUP(TODAY()+A1178,T:V,3,1)/100)","v":0.23}]
[1177,7.9699999999999993E-2,9.5100000000000004E-2,7.46E-2,7.46E-2,0.1759,0.1105,{"$f":"IF(Kalkulator!$B$35=TRUE,0,VLOOKUP(TODAY()+A1179,T:V,3,1)/100)","v":0.23}]
[1178,7.9699999999999993E-2,9.5100000000000004E-2,7.46E-2,7.46E-2,0.1759,0.1105,{"$f":"IF(Kalkulator!$B$35=TRUE,0,VLOOKUP(TODAY()+A1180,T:V,3,1)/100)","v":0.23}]
[1179,7.9600000000000004E-2,9.5100000000000004E-2,7.46E-2,7.46E-2,0.1759,0.1105,{"$f":"IF(Kalkulator!$B$35=TRUE,0,VLOOKUP(TODAY()+A1181,T:V,3,1)/100)","v":0.23}]
[1180,7.9600000000000004E-2,9.5100000000000004E-2,7.46E-2,7.46E-2,0.1759,0.1105,{"$f":"IF(Kalkulator!$B$35=TRUE,0,VLOOKUP(TODAY()+A1182,T:V,3,1)/100)","v":0.23}]
[1181,7.9600000000000004E-2,9.5100000000000004E-2,7.46E-2,7.46E-2,0.1759,0.1105,{"$f":"IF(Kalkulator!$B$35=TRUE,0,VLOOKUP(TODAY()+A1183,T:V,3,1)/100)","v":0.23}]
[1182,7.9600000000000004E-2,9.5100000000000004E-2,7.46E-2,7.46E-2,0.1759,0.1105,{"$f":"IF(Kalkulator!$B$35=TRUE,0,VLOOKUP(TODAY()+A1184,T:V,3,1)/100)","v":0.23}]
[1183,7.9600000000000004E-2,9.5100000000000004E-2,7.46E-2,7.46E-2,0.1759,0.1105,{"$f":"IF(Kalkulator!$B$35=TRUE,0,VLOOKUP(TODAY()+A1185,T:V,3,1)/100)","v":0.23}]
[1184,7.9500000000000001E-2,9.5100000000000004E-2,7.46E-2,7.46E-2,0.1759,0.1105,{"$f":"IF(Kalkulator!$B$35=TRUE,0,VLOOKUP(TODAY()+A1186,T:V,3,1)/100)","v":0.23}]
[1185,7.9500000000000001E-2,9.5100000000000004E-2,7.46E-2,7.46E-2,0.1759,0.1105,{"$f":"IF(Kalkulator!$B$35=TRUE,0,VLOOKUP(TODAY()+A1187,T:V,3,1)/100)","v":0.23}]
[1186,7.9500000000000001E-2,9.5100000000000004E-2,7.46E-2,7.46E-2,0.1759,0.1105,{"$f":"IF(Kalkulator!$B$35=TRUE,0,VLOOKUP(TODAY()+A1188,T:V,3,1)/100)","v":0.23}]
[1187,7.9500000000000001E-2,9.5100000000000004E-2,7.46E-2,7.46E-2,0.1759,0.1105,{"$f":"IF(Kalkulator!$B$35=TRUE,0,VLOOKUP(TODAY()+A1189,T:V,3,1)/100)","v":0.23}]
[1188,7.9399999999999998E-2,9.5100000000000004E-2,7.46E-2,7.46E-2,0.1759,0.1105,{"$f":"IF(Kalkulator!$B$35=TRUE,0,VLOOKUP(TODAY()+A1190,T:V,3,1)/100)","v":0.23}]
[1189,7.9399999999999998E-2,9.5100000000000004E-2,7.46E-2,7.46E-2,0.1759,0.1105,{"$f":"IF(Kalkulator!$B$35=TRUE,0,VLOOKUP(TODAY()+A1191,T:V,3,1)/100)","v":0.23}]
[1190,7.9399999999999998E-2,9.5100000000000004E-2,7.46E-2,7.46E-2,0.1759,0.1105,{"$f":"IF(Kalkulator!$B$35=TRUE,0,VLOOKUP(TODAY()+A1192,T:V,3,1)/100)","v":0.23}]
[1191,7.9399999999999998E-2,9.5100000000000004E-2,7.46E-2,7.46E-2,0.1759,0.1105,{"$f":"IF(Kalkulator!$B$35=TRUE,0,VLOOKUP(TODAY()+A1193,T:V,3,1)/100)","v":0.23}]
[1192,7.9399999999999998E-2,9.5100000000000004E-2,7.46E-2,7.46E-2,0.1759,0.1105,{"$f":"IF(Kalkulator!$B$35=TRUE,0,VLOOKUP(TODAY()+A1194,T:V,3,1)/100)","v":0.23}]
[1193,7.9299999999999995E-2,9.5100000000000004E-2,7.46E-2,7.46E-2,0.1759,0.1105,{"$f":"IF(Kalkulator!$B$35=TRUE,0,VLOOKUP(TODAY()+A1195,T:V,3,1)/100)","v":0.23}]
[1194,7.9299999999999995E-2,9.5100000000000004E-2,7.46E-2,7.46E-2,0.1759,0.1105,{"$f":"IF(Kalkulator!$B$35=TRUE,0,VLOOKUP(TODAY()+A1196,T:V,3,1)/100)","v":0.23}]
[1195,7.9299999999999995E-2,9.5100000000000004E-2,7.46E-2,7.46E-2,0.1759,0.1105,{"$f":"IF(Kalkulator!$B$35=TRUE,0,VLOOKUP(TODAY()+A1197,T:V,3,1)/100)","v":0.23}]
[1196,7.9299999999999995E-2,9.5100000000000004E-2,7.46E-2,7.46E-2,0.1759,0.1105,{"$f":"IF(Kalkulator!$B$35=TRUE,0,VLOOKUP(TODAY()+A1198,T:V,3,1)/100)","v":0.23}]
[1197,7.9299999999999995E-2,9.5100000000000004E-2,7.46E-2,7.46E-2,0.1759,0.1105,{"$f":"IF(Kalkulator!$B$35=TRUE,0,VLOOKUP(TODAY()+A1199,T:V,3,1)/100)","v":0.23}]
[1198,7.9200000000000007E-2,9.5100000000000004E-2,7.46E-2,7.46E-2,0.1759,0.1105,{"$f":"IF(Kalkulator!$B$35=TRUE,0,VLOOKUP(TODAY()+A1200,T:V,3,1)/100)","v":0.23}]
[1199,7.9200000000000007E-2,9.5100000000000004E-2,7.46E-2,7.46E-2,0.1759,0.1105,{"$f":"IF(Kalkulator!$B$35=TRUE,0,VLOOKUP(TODAY()+A1201,T:V,3,1)/100)","v":0.23}]
[1200,7.9200000000000007E-2,9.5100000000000004E-2,7.46E-2,7.46E-2,0.1759,0.1105,{"$f":"IF(Kalkulator!$B$35=TRUE,0,VLOOKUP(TODAY()+A1202,T:V,3,1)/100)","v":0.23}]
[1201,7.9200000000000007E-2,9.5100000000000004E-2,7.46E-2,7.46E-2,0.1759,0.1105,{"$f":"IF(Kalkulator!$B$35=TRUE,0,VLOOKUP(TODAY()+A1203,T:V,3,1)/100)","v":0.23}]
[1202,7.9100000000000004E-2,9.5100000000000004E-2,7.46E-2,7.46E-2,0.1759,0.1105,{"$f":"IF(Kalkulator!$B$35=TRUE,0,VLOOKUP(TODAY()+A1204,T:V,3,1)/100)","v":0.23}]
[1203,7.9100000000000004E-2,9.5100000000000004E-2,7.46E-2,7.46E-2,0.1759,0.1105,{"$f":"IF(Kalkulator!$B$35=TRUE,0,VLOOKUP(TODAY()+A1205,T:V,3,1)/100)","v":0.23}]
[1204,7.9100000000000004E-2,9.5100000000000004E-2,7.46E-2,7.46E-2,0.1759,0.1105,{"$f":"IF(Kalkulator!$B$35=TRUE,0,VLOOKUP(TODAY()+A1206,T:V,3,1)/100)","v":0.23}]
[1205,7.9100000000000004E-2,9.5100000000000004E-2,7.46E-2,7.46E-2,0.1759,0.1105,{"$f":"IF(Kalkulator!$B$35=TRUE,0,VLOOKUP(TODAY()+A1207,T:V,3,1)/100)","v":0.23}]
[1206,7.9100000000000004E-2,9.5100000000000004E-2,7.46E-2,7.46E-2,0.1759,0.1105,{"$f":"IF(Kalkulator!$B$35=TRUE,0,VLOOKUP(TODAY()+A1208,T:V,3,1)/100)","v":0.23}]
[1207,7.9000000000000001E-2,9.5100000000000004E-2,7.46E-2,7.46E-2,0.1759,0.1105,{"$f":"IF(Kalkulator!$B$35=TRUE,0,VLOOKUP(TODAY()+A1209,T:V,3,1)/100)","v":0.23}]
[1208,7.9000000000000001E-2,9.5100000000000004E-2,7.46E-2,7.46E-2,0.1759,0.1105,{"$f":"IF(Kalkulator!$B$35=TRUE,0,VLOOKUP(TODAY()+A1210,T:V,3,1)/100)","v":0.23}]
[1209,7.9000000000000001E-2,9.5100000000000004E-2,7.46E-2,7.46E-2,0.1759,0.1105,{"$f":"IF(Kalkulator!$B$35=TRUE,0,VLOOKUP(TODAY()+A1211,T:V,3,1)/100)","v":0.23}]
[1210,7.9000000000000001E-2,9.5100000000000004E-2,7.46E-2,7.46E-2,0.1759,0.1105,{"$f":"IF(Kalkulator!$B$35=TRUE,0,VLOOKUP(TODAY()+A1212,T:V,3,1)/100)","v":0.23}]
[1211,7.9000000000000001E-2,9.5100000000000004E-2,7.46E-2,7.46E-2,0.1759,0.1105,{"$f":"IF(Kalkulator!$B$35=TRUE,0,VLOOKUP(TODAY()+A1213,T:V,3,1)/100)","v":0.23}]
[1212,7.8899999999999998E-2,9.5100000000000004E-2,7.46E-2,7.46E-2,0.1759,0.1105,{"$f":"IF(Kalkulator!$B$35=TRUE,0,VLOOKUP(TODAY()+A1214,T:V,3,1)/100)","v":0.23}]
[1213,7.8899999999999998E-2,9.5100000000000004E-2,7.46E-2,7.46E-2,0.1759,0.1105,{"$f":"IF(Kalkulator!$B$35=TRUE,0,VLOOKUP(TODAY()+A1215,T:V,3,1)/100)","v":0.23}]
[1214,7.8899999999999998E-2,9.5100000000000004E-2,7.46E-2,7.46E-2,0.1759,0.1105,{"$f":"IF(Kalkulator!$B$35=TRUE,0,VLOOKUP(TODAY()+A1216,T:V,3,1)/100)","v":0.23}]
[1215,7.8899999999999998E-2,9.5100000000000004E-2,7.46E-2,7.46E-2,0.1759,0.1105,{"$f":"IF(Kalkulator!$B$35=TRUE,0,VLOOKUP(TODAY()+A1217,T:V,3,1)/100)","v":0.23}]
[1216,7.8799999999999995E-2,9.5100000000000004E-2,7.46E-2,7.46E-2,0.1759,0.1105,{"$f":"IF(Kalkulator!$B$35=TRUE,0,VLOOKUP(TODAY()+A1218,T:V,3,1)/100)","v":0.23}]
[1217,7.8799999999999995E-2,9.5100000000000004E-2,7.46E-2,7.46E-2,0.1759,0.1105,{"$f":"IF(Kalkulator!$B$35=TRUE,0,VLOOKUP(TODAY()+A1219,T:V,3,1)/100)","v":0.23}]
[1218,7.8799999999999995E-2,9.5100000000000004E-2,7.46E-2,7.46E-2,0.1759,0.1105,{"$f":"IF(Kalkulator!$B$35=TRUE,0,VLOOKUP(TODAY()+A1220,T:V,3,1)/100)","v":0.23}]
[1219,7.8799999999999995E-2,9.5100000000000004E-2,7.46E-2,7.46E-2,0.1759,0.1105,{"$f":"IF(Kalkulator!$B$35=TRUE,0,VLOOKUP(TODAY()+A1221,T:V,3,1)/100)","v":0.23}]
[1220,7.8799999999999995E-2,9.5100000000000004E-2,7.46E-2,7.46E-2,0.1759,0.1105,{"$f":"IF(Kalkulator!$B$35=TRUE,0,VLOOKUP(TODAY()+A1222,T:V,3,1)/100)","v":0.23}]
[1221,7.8700000000000006E-2,9.5100000000000004E-2,7.46E-2,7.46E-2,0.1759,0.1105,{"$f":"IF(Kalkulator!$B$35=TRUE,0,VLOOKUP(TODAY()+A1223,T:V,3,1)/100)","v":0.23}]
[1222,7.8700000000000006E-2,9.5100000000000004E-2,7.46E-2,7.46E-2,0.1759,0.1105,{"$f":"IF(Kalkulator!$B$35=TRUE,0,VLOOKUP(TODAY()+A1224,T:V,3,1)/100)","v":0.23}]
[1223,7.8700000000000006E-2,9.5100000000000004E-2,7.46E-2,7.46E-2,0.1759,0.1105,{"$f":"IF(Kalkulator!$B$35=TRUE,0,VLOOKUP(TODAY()+A1225,T:V,3,1)/100)","v":0.23}]
[1224,7.8700000000000006E-2,9.5100000000000004E-2,7.46E-2,7.46E-2,0.1759,0.1105,{"$f":"IF(Kalkulator!$B$35=TRUE,0,VLOOKUP(TODAY()+A1226,T:V,3,1)/100)","v":0.23}]
[1225,7.8600000000000003E-2,9.5100000000000004E-2,7.46E-2,7.46E-2,0.1759,0.1105,{"$f":"IF(Kalkulator!$B$35=TRUE,0,VLOOKUP(TODAY()+A1227,T:V,3,1)/100)","v":0.23}]
[1226,7.8600000000000003E-2,9.5100000000000004E-2,7.46E-2,7.46E-2,0.1759,0.1105,{"$f":"IF(Kalkulator!$B$35=TRUE,0,VLOOKUP(TODAY()+A1228,T:V,3,1)/100)","v":0.23}]
[1227,7.8600000000000003E-2,9.5100000000000004E-2,7.46E-2,7.46E-2,0.1759,0.1105,{"$f":"IF(Kalkulator!$B$35=TRUE,0,VLOOKUP(TODAY()+A1229,T:V,3,1)/100)","v":0.23}]
[1228,7.8600000000000003E-2,9.5100000000000004E-2,7.46E-2,7.46E-2,0.1759,0.1105,{"$f":"IF(Kalkulator!$B$35=TRUE,0,VLOOKUP(TODAY()+A1230,T:V,3,1)/100)","v":0.23}]
[1229,7.8600000000000003E-2,9.5100000000000004E-2,7.46E-2,7.46E-2,0.1759,0.1105,{"$f":"IF(Kalkulator!$B$35=TRUE,0,VLOOKUP(TODAY()+A1231,T:V,3,1)/100)","v":0.23}]
[1230,7.85E-2,9.5100000000000004E-2,7.46E-2,7.46E-2,0.1759,0.1105,{"$f":"IF(Kalkulator!$B$35=TRUE,0,VLOOKUP(TODAY()+A1232,T:V,3,1)/100)","v":0.23}]
[1231,7.85E-2,9.5100000000000004E-2,7.46E-2,7.46E-2,0.1759,0.1105,{"$f":"IF(Kalkulator!$B$35=TRUE,0,VLOOKUP(TODAY()+A1233,T:V,3,1)/100)","v":0.23}]
[1232,7.85E-2,9.5100000000000004E-2,7.46E-2,7.46E-2,0.1759,0.1105,{"$f":"IF(Kalkulator!$B$35=TRUE,0,VLOOKUP(TODAY()+A1234,T:V,3,1)/100)","v":0.23}]
[1233,7.85E-2,9.5100000000000004E-2,7.46E-2,7.46E-2,0.1759,0.1105,{"$f":"IF(Kalkulator!$B$35=TRUE,0,VLOOKUP(TODAY()+A1235,T:V,3,1)/100)","v":0.23}]
[1234,7.85E-2,9.5100000000000004E-2,7.46E-2,7.46E-2,0.1759,0.1105,{"$f":"IF(Kalkulator!$B$35=TRUE,0,VLOOKUP(TODAY()+A1236,T:V,3,1)/100)","v":0.23}]
[1235,7.8399999999999997E-2,9.5100000000000004E-2,7.46E-2,7.46E-2,0.1759,0.1105,{"$f":"IF(Kalkulator!$B$35=TRUE,0,VLOOKUP(TODAY()+A1237,T:V,3,1)/100)","v":0.23}]
[1236,7.8399999999999997E-2,9.5100000000000004E-2,7.46E-2,7.46E-2,0.1759,0.1105,{"$f":"IF(Kalkulator!$B$35=TRUE,0,VLOOKUP(TODAY()+A1238,T:V,3,1)/100)","v":0.23}]
[1237,7.8399999999999997E-2,9.5100000000000004E-2,7.46E-2,7.46E-2,0.1759,0.1105,{"$f":"IF(Kalkulator!$B$35=TRUE,0,VLOOKUP(TODAY()+A1239,T:V,3,1)/100)","v":0.23}]
[1238,7.8399999999999997E-2,9.5100000000000004E-2,7.46E-2,7.46E-2,0.1759,0.1105,{"$f":"IF(Kalkulator!$B$35=TRUE,0,VLOOKUP(TODAY()+A1240,T:V,3,1)/100)","v":0.23}]
[1239,7.8299999999999995E-2,9.5100000000000004E-2,7.46E-2,7.46E-2,0.1759,0.1105,{"$f":"IF(Kalkulator!$B$35=TRUE,0,VLOOKUP(TODAY()+A1241,T:V,3,1)/100)","v":0.23}]
[1240,7.8299999999999995E-2,9.5100000000000004E-2,7.46E-2,7.46E-2,0.1759,0.1105,{"$f":"IF(Kalkulator!$B$35=TRUE,0,VLOOKUP(TODAY()+A1242,T:V,3,1)/100)","v":0.23}]
[1241,7.8299999999999995E-2,9.5100000000000004E-2,7.46E-2,7.46E-2,0.1759,0.1105,{"$f":"IF(Kalkulator!$B$35=TRUE,0,VLOOKUP(TODAY()+A1243,T:V,3,1)/100)","v":0.23}]
[1242,7.8299999999999995E-2,9.5100000000000004E-2,7.46E-2,7.46E-2,0.1759,0.1105,{"$f":"IF(Kalkulator!$B$35=TRUE,0,VLOOKUP(TODAY()+A1244,T:V,3,1)/100)","v":0.23}]
[1243,7.8299999999999995E-2,9.5100000000000004E-2,7.46E-2,7.46E-2,0.1759,0.1105,{"$f":"IF(Kalkulator!$B$35=TRUE,0,VLOOKUP(TODAY()+A1245,T:V,3,1)/100)","v":0.23}]
[1244,7.8200000000000006E-2,9.5100000000000004E-2,7.46E-2,7.46E-2,0.1759,0.1105,{"$f":"IF(Kalkulator!$B$35=TRUE,0,VLOOKUP(TODAY()+A1246,T:V,3,1)/100)","v":0.23}]
[1245,7.8200000000000006E-2,9.5100000000000004E-2,7.46E-2,7.46E-2,0.1759,0.1105,{"$f":"IF(Kalkulator!$B$35=TRUE,0,VLOOKUP(TODAY()+A1247,T:V,3,1)/100)","v":0.23}]
[1246,7.8200000000000006E-2,9.5100000000000004E-2,7.46E-2,7.46E-2,0.1759,0.1105,{"$f":"IF(Kalkulator!$B$35=TRUE,0,VLOOKUP(TODAY()+A1248,T:V,3,1)/100)","v":0.23}]
[1247,7.8200000000000006E-2,9.5100000000000004E-2,7.46E-2,7.46E-2,0.1759,0.1105,{"$f":"IF(Kalkulator!$B$35=TRUE,0,VLOOKUP(TODAY()+A1249,T:V,3,1)/100)","v":0.23}]
[1248,7.8100000000000003E-2,9.5100000000000004E-2,7.46E-2,7.46E-2,0.1759,0.1105,{"$f":"IF(Kalkulator!$B$35=TRUE,0,VLOOKUP(TODAY()+A1250,T:V,3,1)/100)","v":0.23}]
[1249,7.8100000000000003E-2,9.5100000000000004E-2,7.46E-2,7.46E-2,0.1759,0.1105,{"$f":"IF(Kalkulator!$B$35=TRUE,0,VLOOKUP(TODAY()+A1251,T:V,3,1)/100)","v":0.23}]
[1250,7.8100000000000003E-2,9.5100000000000004E-2,7.46E-2,7.46E-2,0.1759,0.1105,{"$f":"IF(Kalkulator!$B$35=TRUE,0,VLOOKUP(TODAY()+A1252,T:V,3,1)/100)","v":0.23}]
[1251,7.8100000000000003E-2,9.5100000000000004E-2,7.46E-2,7.46E-2,0.1759,0.1105,{"$f":"IF(Kalkulator!$B$35=TRUE,0,VLOOKUP(TODAY()+A1253,T:V,3,1)/100)","v":0.23}]
[1252,7.8100000000000003E-2,9.5100000000000004E-2,7.46E-2,7.46E-2,0.1759,0.1105,{"$f":"IF(Kalkulator!$B$35=TRUE,0,VLOOKUP(TODAY()+A1254,T:V,3,1)/100)","v":0.23}]
[1253,7.8E-2,9.5100000000000004E-2,7.46E-2,7.46E-2,0.1759,0.1105,{"$f":"IF(Kalkulator!$B$35=TRUE,0,VLOOKUP(TODAY()+A1255,T:V,3,1)/100)","v":0.23}]
[1254,7.8E-2,9.5100000000000004E-2,7.46E-2,7.46E-2,0.1759,0.1105,{"$f":"IF(Kalkulator!$B$35=TRUE,0,VLOOKUP(TODAY()+A1256,T:V,3,1)/100)","v":0.23}]
[1255,7.8E-2,9.5100000000000004E-2,7.46E-2,7.46E-2,0.1759,0.1105,{"$f":"IF(Kalkulator!$B$35=TRUE,0,VLOOKUP(TODAY()+A1257,T:V,3,1)/100)","v":0.23}]
[1256,7.8E-2,9.5100000000000004E-2,7.46E-2,7.46E-2,0.1759,0.1105,{"$f":"IF(Kalkulator!$B$35=TRUE,0,VLOOKUP(TODAY()+A1258,T:V,3,1)/100)","v":0.23}]
[1257,7.8E-2,9.5100000000000004E-2,7.46E-2,7.46E-2,0.1759,0.1105,{"$f":"IF(Kalkulator!$B$35=TRUE,0,VLOOKUP(TODAY()+A1259,T:V,3,1)/100)","v":0.23}]
[1258,7.7899999999999997E-2,9.5100000000000004E-2,7.46E-2,7.46E-2,0.1759,0.1105,{"$f":"IF(Kalkulator!$B$35=TRUE,0,VLOOKUP(TODAY()+A1260,T:V,3,1)/100)","v":0.23}]
[1259,7.7899999999999997E-2,9.5100000000000004E-2,7.46E-2,7.46E-2,0.1759,0.1105,{"$f":"IF(Kalkulator!$B$35=TRUE,0,VLOOKUP(TODAY()+A1261,T:V,3,1)/100)","v":0.23}]
[1260,7.7899999999999997E-2,9.5100000000000004E-2,7.46E-2,7.46E-2,0.1759,0.1105,{"$f":"IF(Kalkulator!$B$35=TRUE,0,VLOOKUP(TODAY()+A1262,T:V,3,1)/100)","v":0.23}]
[1261,7.7899999999999997E-2,9.5100000000000004E-2,7.46E-2,7.46E-2,0.1759,0.1105,{"$f":"IF(Kalkulator!$B$35=TRUE,0,VLOOKUP(TODAY()+A1263,T:V,3,1)/100)","v":0.23}]
[1262,7.7799999999999994E-2,9.5100000000000004E-2,7.46E-2,7.46E-2,0.1759,0.1105,{"$f":"IF(Kalkulator!$B$35=TRUE,0,VLOOKUP(TODAY()+A1264,T:V,3,1)/100)","v":0.23}]
[1263,7.7799999999999994E-2,9.5100000000000004E-2,7.46E-2,7.46E-2,0.1759,0.1105,{"$f":"IF(Kalkulator!$B$35=TRUE,0,VLOOKUP(TODAY()+A1265,T:V,3,1)/100)","v":0.23}]
[1264,7.7799999999999994E-2,9.5100000000000004E-2,7.46E-2,7.46E-2,0.1759,0.1105,{"$f":"IF(Kalkulator!$B$35=TRUE,0,VLOOKUP(TODAY()+A1266,T:V,3,1)/100)","v":0.23}]
[1265,7.7799999999999994E-2,9.5100000000000004E-2,7.46E-2,7.46E-2,0.1759,0.1105,{"$f":"IF(Kalkulator!$B$35=TRUE,0,VLOOKUP(TODAY()+A1267,T:V,3,1)/100)","v":0.23}]
[1266,7.7799999999999994E-2,9.5100000000000004E-2,7.46E-2,7.46E-2,0.1759,0.1105,{"$f":"IF(Kalkulator!$B$35=TRUE,0,VLOOKUP(TODAY()+A1268,T:V,3,1)/100)","v":0.23}]
[1267,7.7700000000000005E-2,9.5100000000000004E-2,7.46E-2,7.46E-2,0.1759,0.1105,{"$f":"IF(Kalkulator!$B$35=TRUE,0,VLOOKUP(TODAY()+A1269,T:V,3,1)/100)","v":0.23}]
[1268,7.7700000000000005E-2,9.5100000000000004E-2,7.46E-2,7.46E-2,0.1759,0.1105,{"$f":"IF(Kalkulator!$B$35=TRUE,0,VLOOKUP(TODAY()+A1270,T:V,3,1)/100)","v":0.23}]
[1269,7.7700000000000005E-2,9.5100000000000004E-2,7.46E-2,7.46E-2,0.1759,0.1105,{"$f":"IF(Kalkulator!$B$35=TRUE,0,VLOOKUP(TODAY()+A1271,T:V,3,1)/100)","v":0.23}]
[1270,7.7700000000000005E-2,9.5100000000000004E-2,7.46E-2,7.46E-2,0.1759,0.1105,{"$f":"IF(Kalkulator!$B$35=TRUE,0,VLOOKUP(TODAY()+A1272,T:V,3,1)/100)","v":0.23}]
[1271,7.7700000000000005E-2,9.5100000000000004E-2,7.46E-2,7.46E-2,0.1759,0.1105,{"$f":"IF(Kalkulator!$B$35=TRUE,0,VLOOKUP(TODAY()+A1273,T:V,3,1)/100)","v":0.23}]
[1272,7.7600000000000002E-2,9.5100000000000004E-2,7.46E-2,7.46E-2,0.1759,0.1105,{"$f":"IF(Kalkulator!$B$35=TRUE,0,VLOOKUP(TODAY()+A1274,T:V,3,1)/100)","v":0.23}]
[1273,7.7600000000000002E-2,9.5100000000000004E-2,7.46E-2,7.46E-2,0.1759,0.1105,{"$f":"IF(Kalkulator!$B$35=TRUE,0,VLOOKUP(TODAY()+A1275,T:V,3,1)/100)","v":0.23}]
[1274,7.7600000000000002E-2,9.5100000000000004E-2,7.46E-2,7.46E-2,0.1759,0.1105,{"$f":"IF(Kalkulator!$B$35=TRUE,0,VLOOKUP(TODAY()+A1276,T:V,3,1)/100)","v":0.23}]
[1275,7.7600000000000002E-2,9.5100000000000004E-2,7.46E-2,7.46E-2,0.1759,0.1105,{"$f":"IF(Kalkulator!$B$35=TRUE,0,VLOOKUP(TODAY()+A1277,T:V,3,1)/100)","v":0.23}]
[1276,7.7499999999999999E-2,9.5100000000000004E-2,7.46E-2,7.46E-2,0.1759,0.1105,{"$f":"IF(Kalkulator!$B$35=TRUE,0,VLOOKUP(TODAY()+A1278,T:V,3,1)/100)","v":0.23}]
[1277,7.7499999999999999E-2,9.5100000000000004E-2,7.46E-2,7.46E-2,0.1759,0.1105,{"$f":"IF(Kalkulator!$B$35=TRUE,0,VLOOKUP(TODAY()+A1279,T:V,3,1)/100)","v":0.23}]
[1278,7.7499999999999999E-2,9.5100000000000004E-2,7.46E-2,7.46E-2,0.1759,0.1105,{"$f":"IF(Kalkulator!$B$35=TRUE,0,VLOOKUP(TODAY()+A1280,T:V,3,1)/100)","v":0.23}]
[1279,7.7499999999999999E-2,9.5100000000000004E-2,7.46E-2,7.46E-2,0.1759,0.1105,{"$f":"IF(Kalkulator!$B$35=TRUE,0,VLOOKUP(TODAY()+A1281,T:V,3,1)/100)","v":0.23}]
[1280,7.7499999999999999E-2,9.5100000000000004E-2,7.46E-2,7.46E-2,0.1759,0.1105,{"$f":"IF(Kalkulator!$B$35=TRUE,0,VLOOKUP(TODAY()+A1282,T:V,3,1)/100)","v":0.23}]
[1281,7.7499999999999999E-2,9.5100000000000004E-2,7.46E-2,7.46E-2,0.1759,0.1105,{"$f":"IF(Kalkulator!$B$35=TRUE,0,VLOOKUP(TODAY()+A1283,T:V,3,1)/100)","v":0.23}]
[1282,7.7499999999999999E-2,9.5100000000000004E-2,7.46E-2,7.46E-2,0.1759,0.1105,{"$f":"IF(Kalkulator!$B$35=TRUE,0,VLOOKUP(TODAY()+A1284,T:V,3,1)/100)","v":0.23}]
[1283,7.7499999999999999E-2,9.5100000000000004E-2,7.46E-2,7.46E-2,0.1759,0.1105,{"$f":"IF(Kalkulator!$B$35=TRUE,0,VLOOKUP(TODAY()+A1285,T:V,3,1)/100)","v":0.23}]
[1284,7.7499999999999999E-2,9.5100000000000004E-2,7.46E-2,7.46E-2,0.1759,0.1105,{"$f":"IF(Kalkulator!$B$35=TRUE,0,VLOOKUP(TODAY()+A1286,T:V,3,1)/100)","v":0.23}]
[1285,7.7499999999999999E-2,9.5100000000000004E-2,7.46E-2,7.46E-2,0.1759,0.1105,{"$f":"IF(Kalkulator!$B$35=TRUE,0,VLOOKUP(TODAY()+A1287,T:V,3,1)/100)","v":0.23}]
[1286,7.7499999999999999E-2,9.5100000000000004E-2,7.46E-2,7.46E-2,0.1759,0.1105,{"$f":"IF(Kalkulator!$B$35=TRUE,0,VLOOKUP(TODAY()+A1288,T:V,3,1)/100)","v":0.23}]
[1287,7.7499999999999999E-2,9.5100000000000004E-2,7.46E-2,7.46E-2,0.1759,0.1105,{"$f":"IF(Kalkulator!$B$35=TRUE,0,VLOOKUP(TODAY()+A1289,T:V,3,1)/100)","v":0.23}]
[1288,7.7499999999999999E-2,9.5100000000000004E-2,7.46E-2,7.46E-2,0.1759,0.1105,{"$f":"IF(Kalkulator!$B$35=TRUE,0,VLOOKUP(TODAY()+A1290,T:V,3,1)/100)","v":0.23}]
[1289,7.7499999999999999E-2,9.5100000000000004E-2,7.46E-2,7.46E-2,0.1759,0.1105,{"$f":"IF(Kalkulator!$B$35=TRUE,0,VLOOKUP(TODAY()+A1291,T:V,3,1)/100)","v":0.23}]
[1290,7.7499999999999999E-2,9.5100000000000004E-2,7.46E-2,7.46E-2,0.1759,0.1105,{"$f":"IF(Kalkulator!$B$35=TRUE,0,VLOOKUP(TODAY()+A1292,T:V,3,1)/100)","v":0.23}]
[1291,7.7499999999999999E-2,9.5100000000000004E-2,7.46E-2,7.46E-2,0.1759,0.1105,{"$f":"IF(Kalkulator!$B$35=TRUE,0,VLOOKUP(TODAY()+A1293,T:V,3,1)/100)","v":0.23}]
[1292,7.7499999999999999E-2,9.5100000000000004E-2,7.46E-2,7.46E-2,0.1759,0.1105,{"$f":"IF(Kalkulator!$B$35=TRUE,0,VLOOKUP(TODAY()+A1294,T:V,3,1)/100)","v":0.23}]
[1293,7.7499999999999999E-2,9.5100000000000004E-2,7.46E-2,7.46E-2,0.1759,0.1105,{"$f":"IF(Kalkulator!$B$35=TRUE,0,VLOOKUP(TODAY()+A1295,T:V,3,1)/100)","v":0.23}]
[1294,7.7499999999999999E-2,9.5100000000000004E-2,7.46E-2,7.46E-2,0.1759,0.1105,{"$f":"IF(Kalkulator!$B$35=TRUE,0,VLOOKUP(TODAY()+A1296,T:V,3,1)/100)","v":0.23}]
[1295,7.7499999999999999E-2,9.5100000000000004E-2,7.46E-2,7.46E-2,0.1759,0.1105,{"$f":"IF(Kalkulator!$B$35=TRUE,0,VLOOKUP(TODAY()+A1297,T:V,3,1)/100)","v":0.23}]
[1296,7.7499999999999999E-2,9.5100000000000004E-2,7.46E-2,7.46E-2,0.1759,0.1105,{"$f":"IF(Kalkulator!$B$35=TRUE,0,VLOOKUP(TODAY()+A1298,T:V,3,1)/100)","v":0.23}]
[1297,7.7499999999999999E-2,9.5100000000000004E-2,7.46E-2,7.46E-2,0.1759,0.1105,{"$f":"IF(Kalkulator!$B$35=TRUE,0,VLOOKUP(TODAY()+A1299,T:V,3,1)/100)","v":0.23}]
[1298,7.7499999999999999E-2,9.5100000000000004E-2,7.46E-2,7.46E-2,0.1759,0.1105,{"$f":"IF(Kalkulator!$B$35=TRUE,0,VLOOKUP(TODAY()+A1300,T:V,3,1)/100)","v":0.23}]
[1299,7.7499999999999999E-2,9.5100000000000004E-2,7.46E-2,7.46E-2,0.1759,0.1105,{"$f":"IF(Kalkulator!$B$35=TRUE,0,VLOOKUP(TODAY()+A1301,T:V,3,1)/100)","v":0.23}]
[1300,7.7499999999999999E-2,9.5100000000000004E-2,7.46E-2,7.46E-2,0.1759,0.1105,{"$f":"IF(Kalkulator!$B$35=TRUE,0,VLOOKUP(TODAY()+A1302,T:V,3,1)/100)","v":0.23}]
[1301,7.7499999999999999E-2,9.5100000000000004E-2,7.46E-2,7.46E-2,0.1759,0.1105,{"$f":"IF(Kalkulator!$B$35=TRUE,0,VLOOKUP(TODAY()+A1303,T:V,3,1)/100)","v":0.23}]
[1302,7.7499999999999999E-2,9.5100000000000004E-2,7.46E-2,7.46E-2,0.1759,0.1105,{"$f":"IF(Kalkulator!$B$35=TRUE,0,VLOOKUP(TODAY()+A1304,T:V,3,1)/100)","v":0.23}]
[1303,7.7499999999999999E-2,9.5100000000000004E-2,7.46E-2,7.46E-2,0.1759,0.1105,{"$f":"IF(Kalkulator!$B$35=TRUE,0,VLOOKUP(TODAY()+A1305,T:V,3,1)/100)","v":0.23}]
[1304,7.7499999999999999E-2,9.5100000000000004E-2,7.46E-2,7.46E-2,0.1759,0.1105,{"$f":"IF(Kalkulator!$B$35=TRUE,0,VLOOKUP(TODAY()+A1306,T:V,3,1)/100)","v":0.23}]
[1305,7.7499999999999999E-2,9.5100000000000004E-2,7.46E-2,7.46E-2,0.1759,0.1105,{"$f":"IF(Kalkulator!$B$35=TRUE,0,VLOOKUP(TODAY()+A1307,T:V,3,1)/100)","v":0.23}]
[1306,7.7499999999999999E-2,9.5100000000000004E-2,7.46E-2,7.46E-2,0.1759,0.1105,{"$f":"IF(Kalkulator!$B$35=TRUE,0,VLOOKUP(TODAY()+A1308,T:V,3,1)/100)","v":0.23}]
[1307,7.7499999999999999E-2,9.5100000000000004E-2,7.46E-2,7.46E-2,0.1759,0.1105,{"$f":"IF(Kalkulator!$B$35=TRUE,0,VLOOKUP(TODAY()+A1309,T:V,3,1)/100)","v":0.23}]
[1308,7.7499999999999999E-2,9.5100000000000004E-2,7.46E-2,7.46E-2,0.1759,0.1105,{"$f":"IF(Kalkulator!$B$35=TRUE,0,VLOOKUP(TODAY()+A1310,T:V,3,1)/100)","v":0.23}]
[1309,7.7499999999999999E-2,9.5100000000000004E-2,7.46E-2,7.46E-2,0.1759,0.1105,{"$f":"IF(Kalkulator!$B$35=TRUE,0,VLOOKUP(TODAY()+A1311,T:V,3,1)/100)","v":0.23}]
[1310,7.7499999999999999E-2,9.5100000000000004E-2,7.46E-2,7.46E-2,0.1759,0.1105,{"$f":"IF(Kalkulator!$B$35=TRUE,0,VLOOKUP(TODAY()+A1312,T:V,3,1)/100)","v":0.23}]
[1311,7.7499999999999999E-2,9.5100000000000004E-2,7.46E-2,7.46E-2,0.1759,0.1105,{"$f":"IF(Kalkulator!$B$35=TRUE,0,VLOOKUP(TODAY()+A1313,T:V,3,1)/100)","v":0.23}]
[1312,7.7499999999999999E-2,9.5100000000000004E-2,7.46E-2,7.46E-2,0.1759,0.1105,{"$f":"IF(Kalkulator!$B$35=TRUE,0,VLOOKUP(TODAY()+A1314,T:V,3,1)/100)","v":0.23}]
[1313,7.7499999999999999E-2,9.5100000000000004E-2,7.46E-2,7.46E-2,0.1759,0.1105,{"$f":"IF(Kalkulator!$B$35=TRUE,0,VLOOKUP(TODAY()+A1315,T:V,3,1)/100)","v":0.23}]
[1314,7.7499999999999999E-2,9.5100000000000004E-2,7.46E-2,7.46E-2,0.1759,0.1105,{"$f":"IF(Kalkulator!$B$35=TRUE,0,VLOOKUP(TODAY()+A1316,T:V,3,1)/100)","v":0.23}]
[1315,7.7499999999999999E-2,9.5100000000000004E-2,7.46E-2,7.46E-2,0.1759,0.1105,{"$f":"IF(Kalkulator!$B$35=TRUE,0,VLOOKUP(TODAY()+A1317,T:V,3,1)/100)","v":0.23}]
[1316,7.7499999999999999E-2,9.5100000000000004E-2,7.46E-2,7.46E-2,0.1759,0.1105,{"$f":"IF(Kalkulator!$B$35=TRUE,0,VLOOKUP(TODAY()+A1318,T:V,3,1)/100)","v":0.23}]
[1317,7.7499999999999999E-2,9.5100000000000004E-2,7.46E-2,7.46E-2,0.1759,0.1105,{"$f":"IF(Kalkulator!$B$35=TRUE,0,VLOOKUP(TODAY()+A1319,T:V,3,1)/100)","v":0.23}]
[1318,7.7499999999999999E-2,9.5100000000000004E-2,7.46E-2,7.46E-2,0.1759,0.1105,{"$f":"IF(Kalkulator!$B$35=TRUE,0,VLOOKUP(TODAY()+A1320,T:V,3,1)/100)","v":0.23}]
[1319,7.7499999999999999E-2,9.5100000000000004E-2,7.46E-2,7.46E-2,0.1759,0.1105,{"$f":"IF(Kalkulator!$B$35=TRUE,0,VLOOKUP(TODAY()+A1321,T:V,3,1)/100)","v":0.23}]
[1320,7.7499999999999999E-2,9.5100000000000004E-2,7.46E-2,7.46E-2,0.1759,0.1105,{"$f":"IF(Kalkulator!$B$35=TRUE,0,VLOOKUP(TODAY()+A1322,T:V,3,1)/100)","v":0.23}]
[1321,7.7499999999999999E-2,9.5100000000000004E-2,7.46E-2,7.46E-2,0.1759,0.1105,{"$f":"IF(Kalkulator!$B$35=TRUE,0,VLOOKUP(TODAY()+A1323,T:V,3,1)/100)","v":0.23}]
[1322,7.7499999999999999E-2,9.5100000000000004E-2,7.46E-2,7.46E-2,0.1759,0.1105,{"$f":"IF(Kalkulator!$B$35=TRUE,0,VLOOKUP(TODAY()+A1324,T:V,3,1)/100)","v":0.23}]
[1323,7.7499999999999999E-2,9.5100000000000004E-2,7.46E-2,7.46E-2,0.1759,0.1105,{"$f":"IF(Kalkulator!$B$35=TRUE,0,VLOOKUP(TODAY()+A1325,T:V,3,1)/100)","v":0.23}]
[1324,7.7499999999999999E-2,9.5100000000000004E-2,7.46E-2,7.46E-2,0.1759,0.1105,{"$f":"IF(Kalkulator!$B$35=TRUE,0,VLOOKUP(TODAY()+A1326,T:V,3,1)/100)","v":0.23}]
[1325,7.7499999999999999E-2,9.5100000000000004E-2,7.46E-2,7.46E-2,0.1759,0.1105,{"$f":"IF(Kalkulator!$B$35=TRUE,0,VLOOKUP(TODAY()+A1327,T:V,3,1)/100)","v":0.23}]
[1326,7.7499999999999999E-2,9.5100000000000004E-2,7.46E-2,7.46E-2,0.1759,0.1105,{"$f":"IF(Kalkulator!$B$35=TRUE,0,VLOOKUP(TODAY()+A1328,T:V,3,1)/100)","v":0.23}]
[1327,7.7499999999999999E-2,9.5100000000000004E-2,7.46E-2,7.46E-2,0.1759,0.1105,{"$f":"IF(Kalkulator!$B$35=TRUE,0,VLOOKUP(TODAY()+A1329,T:V,3,1)/100)","v":0.23}]
[1328,7.7499999999999999E-2,9.5100000000000004E-2,7.46E-2,7.46E-2,0.1759,0.1105,{"$f":"IF(Kalkulator!$B$35=TRUE,0,VLOOKUP(TODAY()+A1330,T:V,3,1)/100)","v":0.23}]
[1329,7.7499999999999999E-2,9.5100000000000004E-2,7.46E-2,7.46E-2,0.1759,0.1105,{"$f":"IF(Kalkulator!$B$35=TRUE,0,VLOOKUP(TODAY()+A1331,T:V,3,1)/100)","v":0.23}]
[1330,7.7499999999999999E-2,9.5100000000000004E-2,7.46E-2,7.46E-2,0.1759,0.1105,{"$f":"IF(Kalkulator!$B$35=TRUE,0,VLOOKUP(TODAY()+A1332,T:V,3,1)/100)","v":0.23}]
[1331,7.7499999999999999E-2,9.5100000000000004E-2,7.46E-2,7.46E-2,0.1759,0.1105,{"$f":"IF(Kalkulator!$B$35=TRUE,0,VLOOKUP(TODAY()+A1333,T:V,3,1)/100)","v":0.23}]
[1332,7.7499999999999999E-2,9.5100000000000004E-2,7.46E-2,7.46E-2,0.1759,0.1105,{"$f":"IF(Kalkulator!$B$35=TRUE,0,VLOOKUP(TODAY()+A1334,T:V,3,1)/100)","v":0.23}]
[1333,7.7499999999999999E-2,9.5100000000000004E-2,7.46E-2,7.46E-2,0.1759,0.1105,{"$f":"IF(Kalkulator!$B$35=TRUE,0,VLOOKUP(TODAY()+A1335,T:V,3,1)/100)","v":0.23}]
[1334,7.7499999999999999E-2,9.5100000000000004E-2,7.46E-2,7.46E-2,0.1759,0.1105,{"$f":"IF(Kalkulator!$B$35=TRUE,0,VLOOKUP(TODAY()+A1336,T:V,3,1)/100)","v":0.23}]
[1335,7.7499999999999999E-2,9.5100000000000004E-2,7.46E-2,7.46E-2,0.1759,0.1105,{"$f":"IF(Kalkulator!$B$35=TRUE,0,VLOOKUP(TODAY()+A1337,T:V,3,1)/100)","v":0.23}]
[1336,7.7499999999999999E-2,9.5100000000000004E-2,7.46E-2,7.46E-2,0.1759,0.1105,{"$f":"IF(Kalkulator!$B$35=TRUE,0,VLOOKUP(TODAY()+A1338,T:V,3,1)/100)","v":0.23}]
[1337,7.7499999999999999E-2,9.5100000000000004E-2,7.46E-2,7.46E-2,0.1759,0.1105,{"$f":"IF(Kalkulator!$B$35=TRUE,0,VLOOKUP(TODAY()+A1339,T:V,3,1)/100)","v":0.23}]
[1338,7.7499999999999999E-2,9.5100000000000004E-2,7.46E-2,7.46E-2,0.1759,0.1105,{"$f":"IF(Kalkulator!$B$35=TRUE,0,VLOOKUP(TODAY()+A1340,T:V,3,1)/100)","v":0.23}]
[1339,7.7499999999999999E-2,9.5100000000000004E-2,7.46E-2,7.46E-2,0.1759,0.1105,{"$f":"IF(Kalkulator!$B$35=TRUE,0,VLOOKUP(TODAY()+A1341,T:V,3,1)/100)","v":0.23}]
[1340,7.7499999999999999E-2,9.5100000000000004E-2,7.46E-2,7.46E-2,0.1759,0.1105,{"$f":"IF(Kalkulator!$B$35=TRUE,0,VLOOKUP(TODAY()+A1342,T:V,3,1)/100)","v":0.23}]
[1341,7.7499999999999999E-2,9.5100000000000004E-2,7.46E-2,7.46E-2,0.1759,0.1105,{"$f":"IF(Kalkulator!$B$35=TRUE,0,VLOOKUP(TODAY()+A1343,T:V,3,1)/100)","v":0.23}]
[1342,7.7499999999999999E-2,9.5100000000000004E-2,7.46E-2,7.46E-2,0.1759,0.1105,{"$f":"IF(Kalkulator!$B$35=TRUE,0,VLOOKUP(TODAY()+A1344,T:V,3,1)/100)","v":0.23}]
[1343,7.7499999999999999E-2,9.5100000000000004E-2,7.46E-2,7.46E-2,0.1759,0.1105,{"$f":"IF(Kalkulator!$B$35=TRUE,0,VLOOKUP(TODAY()+A1345,T:V,3,1)/100)","v":0.23}]
[1344,7.7499999999999999E-2,9.5100000000000004E-2,7.46E-2,7.46E-2,0.1759,0.1105,{"$f":"IF(Kalkulator!$B$35=TRUE,0,VLOOKUP(TODAY()+A1346,T:V,3,1)/100)","v":0.23}]
[1345,7.7499999999999999E-2,9.5100000000000004E-2,7.46E-2,7.46E-2,0.1759,0.1105,{"$f":"IF(Kalkulator!$B$35=TRUE,0,VLOOKUP(TODAY()+A1347,T:V,3,1)/100)","v":0.23}]
[1346,7.7499999999999999E-2,9.5100000000000004E-2,7.46E-2,7.46E-2,0.1759,0.1105,{"$f":"IF(Kalkulator!$B$35=TRUE,0,VLOOKUP(TODAY()+A1348,T:V,3,1)/100)","v":0.23}]
[1347,7.7499999999999999E-2,9.5100000000000004E-2,7.46E-2,7.46E-2,0.1759,0.1105,{"$f":"IF(Kalkulator!$B$35=TRUE,0,VLOOKUP(TODAY()+A1349,T:V,3,1)/100)","v":0.23}]
[1348,7.7499999999999999E-2,9.5100000000000004E-2,7.46E-2,7.46E-2,0.1759,0.1105,{"$f":"IF(Kalkulator!$B$35=TRUE,0,VLOOKUP(TODAY()+A1350,T:V,3,1)/100)","v":0.23}]
[1349,7.7499999999999999E-2,9.5100000000000004E-2,7.46E-2,7.46E-2,0.1759,0.1105,{"$f":"IF(Kalkulator!$B$35=TRUE,0,VLOOKUP(TODAY()+A1351,T:V,3,1)/100)","v":0.23}]
[1350,7.7499999999999999E-2,9.5100000000000004E-2,7.46E-2,7.46E-2,0.1759,0.1105,{"$f":"IF(Kalkulator!$B$35=TRUE,0,VLOOKUP(TODAY()+A1352,T:V,3,1)/100)","v":0.23}]
[1351,7.7499999999999999E-2,9.5100000000000004E-2,7.46E-2,7.46E-2,0.1759,0.1105,{"$f":"IF(Kalkulator!$B$35=TRUE,0,VLOOKUP(TODAY()+A1353,T:V,3,1)/100)","v":0.23}]
[1352,7.7499999999999999E-2,9.5100000000000004E-2,7.46E-2,7.46E-2,0.1759,0.1105,{"$f":"IF(Kalkulator!$B$35=TRUE,0,VLOOKUP(TODAY()+A1354,T:V,3,1)/100)","v":0.23}]
[1353,7.7499999999999999E-2,9.5100000000000004E-2,7.46E-2,7.46E-2,0.1759,0.1105,{"$f":"IF(Kalkulator!$B$35=TRUE,0,VLOOKUP(TODAY()+A1355,T:V,3,1)/100)","v":0.23}]
[1354,7.7499999999999999E-2,9.5100000000000004E-2,7.46E-2,7.46E-2,0.1759,0.1105,{"$f":"IF(Kalkulator!$B$35=TRUE,0,VLOOKUP(TODAY()+A1356,T:V,3,1)/100)","v":0.23}]
[1355,7.7499999999999999E-2,9.5100000000000004E-2,7.46E-2,7.46E-2,0.1759,0.1105,{"$f":"IF(Kalkulator!$B$35=TRUE,0,VLOOKUP(TODAY()+A1357,T:V,3,1)/100)","v":0.23}]
[1356,7.7499999999999999E-2,9.5100000000000004E-2,7.46E-2,7.46E-2,0.1759,0.1105,{"$f":"IF(Kalkulator!$B$35=TRUE,0,VLOOKUP(TODAY()+A1358,T:V,3,1)/100)","v":0.23}]
[1357,7.7499999999999999E-2,9.5100000000000004E-2,7.46E-2,7.46E-2,0.1759,0.1105,{"$f":"IF(Kalkulator!$B$35=TRUE,0,VLOOKUP(TODAY()+A1359,T:V,3,1)/100)","v":0.23}]
[1358,7.7499999999999999E-2,9.5100000000000004E-2,7.46E-2,7.46E-2,0.1759,0.1105,{"$f":"IF(Kalkulator!$B$35=TRUE,0,VLOOKUP(TODAY()+A1360,T:V,3,1)/100)","v":0.23}]
[1359,7.7499999999999999E-2,9.5100000000000004E-2,7.46E-2,7.46E-2,0.1759,0.1105,{"$f":"IF(Kalkulator!$B$35=TRUE,0,VLOOKUP(TODAY()+A1361,T:V,3,1)/100)","v":0.23}]
[1360,7.7499999999999999E-2,9.5100000000000004E-2,7.46E-2,7.46E-2,0.1759,0.1105,{"$f":"IF(Kalkulator!$B$35=TRUE,0,VLOOKUP(TODAY()+A1362,T:V,3,1)/100)","v":0.23}]
[1361,7.7499999999999999E-2,9.5100000000000004E-2,7.46E-2,7.46E-2,0.1759,0.1105,{"$f":"IF(Kalkulator!$B$35=TRUE,0,VLOOKUP(TODAY()+A1363,T:V,3,1)/100)","v":0.23}]
[1362,7.7499999999999999E-2,9.5100000000000004E-2,7.46E-2,7.46E-2,0.1759,0.1105,{"$f":"IF(Kalkulator!$B$35=TRUE,0,VLOOKUP(TODAY()+A1364,T:V,3,1)/100)","v":0.23}]
[1363,7.7499999999999999E-2,9.5100000000000004E-2,7.46E-2,7.46E-2,0.1759,0.1105,{"$f":"IF(Kalkulator!$B$35=TRUE,0,VLOOKUP(TODAY()+A1365,T:V,3,1)/100)","v":0.23}]
[1364,7.7499999999999999E-2,9.5100000000000004E-2,7.46E-2,7.46E-2,0.1759,0.1105,{"$f":"IF(Kalkulator!$B$35=TRUE,0,VLOOKUP(TODAY()+A1366,T:V,3,1)/100)","v":0.23}]
[1365,7.7499999999999999E-2,9.5100000000000004E-2,7.46E-2,7.46E-2,0.1759,0.1105,{"$f":"IF(Kalkulator!$B$35=TRUE,0,VLOOKUP(TODAY()+A1367,T:V,3,1)/100)","v":0.23}]
[1366,7.7499999999999999E-2,9.5100000000000004E-2,7.46E-2,7.46E-2,0.1759,0.1105,{"$f":"IF(Kalkulator!$B$35=TRUE,0,VLOOKUP(TODAY()+A1368,T:V,3,1)/100)","v":0.23}]
[1367,7.7499999999999999E-2,9.5100000000000004E-2,7.46E-2,7.46E-2,0.1759,0.1105,{"$f":"IF(Kalkulator!$B$35=TRUE,0,VLOOKUP(TODAY()+A1369,T:V,3,1)/100)","v":0.23}]
[1368,7.7499999999999999E-2,9.5100000000000004E-2,7.46E-2,7.46E-2,0.1759,0.1105,{"$f":"IF(Kalkulator!$B$35=TRUE,0,VLOOKUP(TODAY()+A1370,T:V,3,1)/100)","v":0.23}]
[1369,7.7499999999999999E-2,9.5100000000000004E-2,7.46E-2,7.46E-2,0.1759,0.1105,{"$f":"IF(Kalkulator!$B$35=TRUE,0,VLOOKUP(TODAY()+A1371,T:V,3,1)/100)","v":0.23}]
[1370,7.7499999999999999E-2,9.5100000000000004E-2,7.46E-2,7.46E-2,0.1759,0.1105,{"$f":"IF(Kalkulator!$B$35=TRUE,0,VLOOKUP(TODAY()+A1372,T:V,3,1)/100)","v":0.23}]
[1371,7.7499999999999999E-2,9.5100000000000004E-2,7.46E-2,7.46E-2,0.1759,0.1105,{"$f":"IF(Kalkulator!$B$35=TRUE,0,VLOOKUP(TODAY()+A1373,T:V,3,1)/100)","v":0.23}]
[1372,7.7499999999999999E-2,9.5100000000000004E-2,7.46E-2,7.46E-2,0.1759,0.1105,{"$f":"IF(Kalkulator!$B$35=TRUE,0,VLOOKUP(TODAY()+A1374,T:V,3,1)/100)","v":0.23}]
[1373,7.7499999999999999E-2,9.5100000000000004E-2,7.46E-2,7.46E-2,0.1759,0.1105,{"$f":"IF(Kalkulator!$B$35=TRUE,0,VLOOKUP(TODAY()+A1375,T:V,3,1)/100)","v":0.23}]
[1374,7.7499999999999999E-2,9.5100000000000004E-2,7.46E-2,7.46E-2,0.1759,0.1105,{"$f":"IF(Kalkulator!$B$35=TRUE,0,VLOOKUP(TODAY()+A1376,T:V,3,1)/100)","v":0.23}]
[1375,7.7499999999999999E-2,9.5100000000000004E-2,7.46E-2,7.46E-2,0.1759,0.1105,{"$f":"IF(Kalkulator!$B$35=TRUE,0,VLOOKUP(TODAY()+A1377,T:V,3,1)/100)","v":0.23}]
[1376,7.7499999999999999E-2,9.5100000000000004E-2,7.46E-2,7.46E-2,0.1759,0.1105,{"$f":"IF(Kalkulator!$B$35=TRUE,0,VLOOKUP(TODAY()+A1378,T:V,3,1)/100)","v":0.23}]
[1377,7.7499999999999999E-2,9.5100000000000004E-2,7.46E-2,7.46E-2,0.1759,0.1105,{"$f":"IF(Kalkulator!$B$35=TRUE,0,VLOOKUP(TODAY()+A1379,T:V,3,1)/100)","v":0.23}]
[1378,7.7499999999999999E-2,9.5100000000000004E-2,7.46E-2,7.46E-2,0.1759,0.1105,{"$f":"IF(Kalkulator!$B$35=TRUE,0,VLOOKUP(TODAY()+A1380,T:V,3,1)/100)","v":0.23}]
[1379,7.7499999999999999E-2,9.5100000000000004E-2,7.46E-2,7.46E-2,0.1759,0.1105,{"$f":"IF(Kalkulator!$B$35=TRUE,0,VLOOKUP(TODAY()+A1381,T:V,3,1)/100)","v":0.23}]
[1380,7.7499999999999999E-2,9.5100000000000004E-2,7.46E-2,7.46E-2,0.1759,0.1105,{"$f":"IF(Kalkulator!$B$35=TRUE,0,VLOOKUP(TODAY()+A1382,T:V,3,1)/100)","v":0.23}]
[1381,7.7499999999999999E-2,9.5100000000000004E-2,7.46E-2,7.46E-2,0.1759,0.1105,{"$f":"IF(Kalkulator!$B$35=TRUE,0,VLOOKUP(TODAY()+A1383,T:V,3,1)/100)","v":0.23}]
[1382,7.7499999999999999E-2,9.5100000000000004E-2,7.46E-2,7.46E-2,0.1759,0.1105,{"$f":"IF(Kalkulator!$B$35=TRUE,0,VLOOKUP(TODAY()+A1384,T:V,3,1)/100)","v":0.23}]
[1383,7.7499999999999999E-2,9.5100000000000004E-2,7.46E-2,7.46E-2,0.1759,0.1105,{"$f":"IF(Kalkulator!$B$35=TRUE,0,VLOOKUP(TODAY()+A1385,T:V,3,1)/100)","v":0.23}]
[1384,7.7499999999999999E-2,9.5100000000000004E-2,7.46E-2,7.46E-2,0.1759,0.1105,{"$f":"IF(Kalkulator!$B$35=TRUE,0,VLOOKUP(TODAY()+A1386,T:V,3,1)/100)","v":0.23}]
[1385,7.7499999999999999E-2,9.5100000000000004E-2,7.46E-2,7.46E-2,0.1759,0.1105,{"$f":"IF(Kalkulator!$B$35=TRUE,0,VLOOKUP(TODAY()+A1387,T:V,3,1)/100)","v":0.23}]
[1386,7.7499999999999999E-2,9.5100000000000004E-2,7.46E-2,7.46E-2,0.1759,0.1105,{"$f":"IF(Kalkulator!$B$35=TRUE,0,VLOOKUP(TODAY()+A1388,T:V,3,1)/100)","v":0.23}]
[1387,7.7499999999999999E-2,9.5100000000000004E-2,7.46E-2,7.46E-2,0.1759,0.1105,{"$f":"IF(Kalkulator!$B$35=TRUE,0,VLOOKUP(TODAY()+A1389,T:V,3,1)/100)","v":0.23}]
[1388,7.7499999999999999E-2,9.5100000000000004E-2,7.46E-2,7.46E-2,0.1759,0.1105,{"$f":"IF(Kalkulator!$B$35=TRUE,0,VLOOKUP(TODAY()+A1390,T:V,3,1)/100)","v":0.23}]
[1389,7.7499999999999999E-2,9.5100000000000004E-2,7.46E-2,7.46E-2,0.1759,0.1105,{"$f":"IF(Kalkulator!$B$35=TRUE,0,VLOOKUP(TODAY()+A1391,T:V,3,1)/100)","v":0.23}]
[1390,7.7499999999999999E-2,9.5100000000000004E-2,7.46E-2,7.46E-2,0.1759,0.1105,{"$f":"IF(Kalkulator!$B$35=TRUE,0,VLOOKUP(TODAY()+A1392,T:V,3,1)/100)","v":0.23}]
[1391,7.7499999999999999E-2,9.5100000000000004E-2,7.46E-2,7.46E-2,0.1759,0.1105,{"$f":"IF(Kalkulator!$B$35=TRUE,0,VLOOKUP(TODAY()+A1393,T:V,3,1)/100)","v":0.23}]
[1392,7.7499999999999999E-2,9.5100000000000004E-2,7.46E-2,7.46E-2,0.1759,0.1105,{"$f":"IF(Kalkulator!$B$35=TRUE,0,VLOOKUP(TODAY()+A1394,T:V,3,1)/100)","v":0.23}]
[1393,7.7499999999999999E-2,9.5100000000000004E-2,7.46E-2,7.46E-2,0.1759,0.1105,{"$f":"IF(Kalkulator!$B$35=TRUE,0,VLOOKUP(TODAY()+A1395,T:V,3,1)/100)","v":0.23}]
[1394,7.7499999999999999E-2,9.5100000000000004E-2,7.46E-2,7.46E-2,0.1759,0.1105,{"$f":"IF(Kalkulator!$B$35=TRUE,0,VLOOKUP(TODAY()+A1396,T:V,3,1)/100)","v":0.23}]
[1395,7.7499999999999999E-2,9.5100000000000004E-2,7.46E-2,7.46E-2,0.1759,0.1105,{"$f":"IF(Kalkulator!$B$35=TRUE,0,VLOOKUP(TODAY()+A1397,T:V,3,1)/100)","v":0.23}]
[1396,7.7499999999999999E-2,9.5100000000000004E-2,7.46E-2,7.46E-2,0.1759,0.1105,{"$f":"IF(Kalkulator!$B$35=TRUE,0,VLOOKUP(TODAY()+A1398,T:V,3,1)/100)","v":0.23}]
[1397,7.7499999999999999E-2,9.5100000000000004E-2,7.46E-2,7.46E-2,0.1759,0.1105,{"$f":"IF(Kalkulator!$B$35=TRUE,0,VLOOKUP(TODAY()+A1399,T:V,3,1)/100)","v":0.23}]
[1398,7.7499999999999999E-2,9.5100000000000004E-2,7.46E-2,7.46E-2,0.1759,0.1105,{"$f":"IF(Kalkulator!$B$35=TRUE,0,VLOOKUP(TODAY()+A1400,T:V,3,1)/100)","v":0.23}]
[1399,7.7499999999999999E-2,9.5100000000000004E-2,7.46E-2,7.46E-2,0.1759,0.1105,{"$f":"IF(Kalkulator!$B$35=TRUE,0,VLOOKUP(TODAY()+A1401,T:V,3,1)/100)","v":0.23}]
[1400,7.7499999999999999E-2,9.5100000000000004E-2,7.46E-2,7.46E-2,0.1759,0.1105,{"$f":"IF(Kalkulator!$B$35=TRUE,0,VLOOKUP(TODAY()+A1402,T:V,3,1)/100)","v":0.23}]
[1401,7.7499999999999999E-2,9.5100000000000004E-2,7.46E-2,7.46E-2,0.1759,0.1105,{"$f":"IF(Kalkulator!$B$35=TRUE,0,VLOOKUP(TODAY()+A1403,T:V,3,1)/100)","v":0.23}]
[1402,7.7499999999999999E-2,9.5100000000000004E-2,7.46E-2,7.46E-2,0.1759,0.1105,{"$f":"IF(Kalkulator!$B$35=TRUE,0,VLOOKUP(TODAY()+A1404,T:V,3,1)/100)","v":0.23}]
[1403,7.7499999999999999E-2,9.5100000000000004E-2,7.46E-2,7.46E-2,0.1759,0.1105,{"$f":"IF(Kalkulator!$B$35=TRUE,0,VLOOKUP(TODAY()+A1405,T:V,3,1)/100)","v":0.23}]
[1404,7.7499999999999999E-2,9.5100000000000004E-2,7.46E-2,7.46E-2,0.1759,0.1105,{"$f":"IF(Kalkulator!$B$35=TRUE,0,VLOOKUP(TODAY()+A1406,T:V,3,1)/100)","v":0.23}]
[1405,7.7499999999999999E-2,9.5100000000000004E-2,7.46E-2,7.46E-2,0.1759,0.1105,{"$f":"IF(Kalkulator!$B$35=TRUE,0,VLOOKUP(TODAY()+A1407,T:V,3,1)/100)","v":0.23}]
[1406,7.7499999999999999E-2,9.5100000000000004E-2,7.46E-2,7.46E-2,0.1759,0.1105,{"$f":"IF(Kalkulator!$B$35=TRUE,0,VLOOKUP(TODAY()+A1408,T:V,3,1)/100)","v":0.23}]
[1407,7.7499999999999999E-2,9.5100000000000004E-2,7.46E-2,7.46E-2,0.1759,0.1105,{"$f":"IF(Kalkulator!$B$35=TRUE,0,VLOOKUP(TODAY()+A1409,T:V,3,1)/100)","v":0.23}]
[1408,7.7499999999999999E-2,9.5100000000000004E-2,7.46E-2,7.46E-2,0.1759,0.1105,{"$f":"IF(Kalkulator!$B$35=TRUE,0,VLOOKUP(TODAY()+A1410,T:V,3,1)/100)","v":0.23}]
[1409,7.7499999999999999E-2,9.5100000000000004E-2,7.46E-2,7.46E-2,0.1759,0.1105,{"$f":"IF(Kalkulator!$B$35=TRUE,0,VLOOKUP(TODAY()+A1411,T:V,3,1)/100)","v":0.23}]
[1410,7.7499999999999999E-2,9.5100000000000004E-2,7.46E-2,7.46E-2,0.1759,0.1105,{"$f":"IF(Kalkulator!$B$35=TRUE,0,VLOOKUP(TODAY()+A1412,T:V,3,1)/100)","v":0.23}]
[1411,7.7499999999999999E-2,9.5100000000000004E-2,7.46E-2,7.46E-2,0.1759,0.1105,{"$f":"IF(Kalkulator!$B$35=TRUE,0,VLOOKUP(TODAY()+A1413,T:V,3,1)/100)","v":0.23}]
[1412,7.7499999999999999E-2,9.5100000000000004E-2,7.46E-2,7.46E-2,0.1759,0.1105,{"$f":"IF(Kalkulator!$B$35=TRUE,0,VLOOKUP(TODAY()+A1414,T:V,3,1)/100)","v":0.23}]
[1413,7.7499999999999999E-2,9.5100000000000004E-2,7.46E-2,7.46E-2,0.1759,0.1105,{"$f":"IF(Kalkulator!$B$35=TRUE,0,VLOOKUP(TODAY()+A1415,T:V,3,1)/100)","v":0.23}]
[1414,7.7499999999999999E-2,9.5100000000000004E-2,7.46E-2,7.46E-2,0.1759,0.1105,{"$f":"IF(Kalkulator!$B$35=TRUE,0,VLOOKUP(TODAY()+A1416,T:V,3,1)/100)","v":0.23}]
[1415,7.7499999999999999E-2,9.5100000000000004E-2,7.46E-2,7.46E-2,0.1759,0.1105,{"$f":"IF(Kalkulator!$B$35=TRUE,0,VLOOKUP(TODAY()+A1417,T:V,3,1)/100)","v":0.23}]
[1416,7.7499999999999999E-2,9.5100000000000004E-2,7.46E-2,7.46E-2,0.1759,0.1105,{"$f":"IF(Kalkulator!$B$35=TRUE,0,VLOOKUP(TODAY()+A1418,T:V,3,1)/100)","v":0.23}]
[1417,7.7499999999999999E-2,9.5100000000000004E-2,7.46E-2,7.46E-2,0.1759,0.1105,{"$f":"IF(Kalkulator!$B$35=TRUE,0,VLOOKUP(TODAY()+A1419,T:V,3,1)/100)","v":0.23}]
[1418,7.7499999999999999E-2,9.5100000000000004E-2,7.46E-2,7.46E-2,0.1759,0.1105,{"$f":"IF(Kalkulator!$B$35=TRUE,0,VLOOKUP(TODAY()+A1420,T:V,3,1)/100)","v":0.23}]
[1419,7.7499999999999999E-2,9.5100000000000004E-2,7.46E-2,7.46E-2,0.1759,0.1105,{"$f":"IF(Kalkulator!$B$35=TRUE,0,VLOOKUP(TODAY()+A1421,T:V,3,1)/100)","v":0.23}]
[1420,7.7499999999999999E-2,9.5100000000000004E-2,7.46E-2,7.46E-2,0.1759,0.1105,{"$f":"IF(Kalkulator!$B$35=TRUE,0,VLOOKUP(TODAY()+A1422,T:V,3,1)/100)","v":0.23}]
[1421,7.7499999999999999E-2,9.5100000000000004E-2,7.46E-2,7.46E-2,0.1759,0.1105,{"$f":"IF(Kalkulator!$B$35=TRUE,0,VLOOKUP(TODAY()+A1423,T:V,3,1)/100)","v":0.23}]
[1422,7.7499999999999999E-2,9.5100000000000004E-2,7.46E-2,7.46E-2,0.1759,0.1105,{"$f":"IF(Kalkulator!$B$35=TRUE,0,VLOOKUP(TODAY()+A1424,T:V,3,1)/100)","v":0.23}]
[1423,7.7499999999999999E-2,9.5100000000000004E-2,7.46E-2,7.46E-2,0.1759,0.1105,{"$f":"IF(Kalkulator!$B$35=TRUE,0,VLOOKUP(TODAY()+A1425,T:V,3,1)/100)","v":0.23}]
[1424,7.7499999999999999E-2,9.5100000000000004E-2,7.46E-2,7.46E-2,0.1759,0.1105,{"$f":"IF(Kalkulator!$B$35=TRUE,0,VLOOKUP(TODAY()+A1426,T:V,3,1)/100)","v":0.23}]
[1425,7.7499999999999999E-2,9.5100000000000004E-2,7.46E-2,7.46E-2,0.1759,0.1105,{"$f":"IF(Kalkulator!$B$35=TRUE,0,VLOOKUP(TODAY()+A1427,T:V,3,1)/100)","v":0.23}]
[1426,7.7499999999999999E-2,9.5100000000000004E-2,7.46E-2,7.46E-2,0.1759,0.1105,{"$f":"IF(Kalkulator!$B$35=TRUE,0,VLOOKUP(TODAY()+A1428,T:V,3,1)/100)","v":0.23}]
[1427,7.7499999999999999E-2,9.5100000000000004E-2,7.46E-2,7.46E-2,0.1759,0.1105,{"$f":"IF(Kalkulator!$B$35=TRUE,0,VLOOKUP(TODAY()+A1429,T:V,3,1)/100)","v":0.23}]
[1428,7.7499999999999999E-2,9.5100000000000004E-2,7.46E-2,7.46E-2,0.1759,0.1105,{"$f":"IF(Kalkulator!$B$35=TRUE,0,VLOOKUP(TODAY()+A1430,T:V,3,1)/100)","v":0.23}]
[1429,7.7499999999999999E-2,9.5100000000000004E-2,7.46E-2,7.46E-2,0.1759,0.1105,{"$f":"IF(Kalkulator!$B$35=TRUE,0,VLOOKUP(TODAY()+A1431,T:V,3,1)/100)","v":0.23}]
[1430,7.7499999999999999E-2,9.5100000000000004E-2,7.46E-2,7.46E-2,0.1759,0.1105,{"$f":"IF(Kalkulator!$B$35=TRUE,0,VLOOKUP(TODAY()+A1432,T:V,3,1)/100)","v":0.23}]
[1431,7.7499999999999999E-2,9.5100000000000004E-2,7.46E-2,7.46E-2,0.1759,0.1105,{"$f":"IF(Kalkulator!$B$35=TRUE,0,VLOOKUP(TODAY()+A1433,T:V,3,1)/100)","v":0.23}]
[1432,7.7499999999999999E-2,9.5100000000000004E-2,7.46E-2,7.46E-2,0.1759,0.1105,{"$f":"IF(Kalkulator!$B$35=TRUE,0,VLOOKUP(TODAY()+A1434,T:V,3,1)/100)","v":0.23}]
[1433,7.7499999999999999E-2,9.5100000000000004E-2,7.46E-2,7.46E-2,0.1759,0.1105,{"$f":"IF(Kalkulator!$B$35=TRUE,0,VLOOKUP(TODAY()+A1435,T:V,3,1)/100)","v":0.23}]
[1434,7.7499999999999999E-2,9.5100000000000004E-2,7.46E-2,7.46E-2,0.1759,0.1105,{"$f":"IF(Kalkulator!$B$35=TRUE,0,VLOOKUP(TODAY()+A1436,T:V,3,1)/100)","v":0.23}]
[1435,7.7499999999999999E-2,9.5100000000000004E-2,7.46E-2,7.46E-2,0.1759,0.1105,{"$f":"IF(Kalkulator!$B$35=TRUE,0,VLOOKUP(TODAY()+A1437,T:V,3,1)/100)","v":0.23}]
[1436,7.7499999999999999E-2,9.5100000000000004E-2,7.46E-2,7.46E-2,0.1759,0.1105,{"$f":"IF(Kalkulator!$B$35=TRUE,0,VLOOKUP(TODAY()+A1438,T:V,3,1)/100)","v":0.23}]
[1437,7.7499999999999999E-2,9.5100000000000004E-2,7.46E-2,7.46E-2,0.1759,0.1105,{"$f":"IF(Kalkulator!$B$35=TRUE,0,VLOOKUP(TODAY()+A1439,T:V,3,1)/100)","v":0.23}]
[1438,7.7499999999999999E-2,9.5100000000000004E-2,7.46E-2,7.46E-2,0.1759,0.1105,{"$f":"IF(Kalkulator!$B$35=TRUE,0,VLOOKUP(TODAY()+A1440,T:V,3,1)/100)","v":0.23}]
[1439,7.7499999999999999E-2,9.5100000000000004E-2,7.46E-2,7.46E-2,0.1759,0.1105,{"$f":"IF(Kalkulator!$B$35=TRUE,0,VLOOKUP(TODAY()+A1441,T:V,3,1)/100)","v":0.23}]
[1440,7.7499999999999999E-2,9.5100000000000004E-2,7.46E-2,7.46E-2,0.1759,0.1105,{"$f":"IF(Kalkulator!$B$35=TRUE,0,VLOOKUP(TODAY()+A1442,T:V,3,1)/100)","v":0.23}]
[1441,7.7499999999999999E-2,9.5100000000000004E-2,7.46E-2,7.46E-2,0.1759,0.1105,{"$f":"IF(Kalkulator!$B$35=TRUE,0,VLOOKUP(TODAY()+A1443,T:V,3,1)/100)","v":0.23}]
[1442,7.7499999999999999E-2,9.5100000000000004E-2,7.46E-2,7.46E-2,0.1759,0.1105,{"$f":"IF(Kalkulator!$B$35=TRUE,0,VLOOKUP(TODAY()+A1444,T:V,3,1)/100)","v":0.23}]
[1443,7.7499999999999999E-2,9.5100000000000004E-2,7.46E-2,7.46E-2,0.1759,0.1105,{"$f":"IF(Kalkulator!$B$35=TRUE,0,VLOOKUP(TODAY()+A1445,T:V,3,1)/100)","v":0.23}]
[1444,7.7499999999999999E-2,9.5100000000000004E-2,7.46E-2,7.46E-2,0.1759,0.1105,{"$f":"IF(Kalkulator!$B$35=TRUE,0,VLOOKUP(TODAY()+A1446,T:V,3,1)/100)","v":0.23}]
[1445,7.7499999999999999E-2,9.5100000000000004E-2,7.46E-2,7.46E-2,0.1759,0.1105,{"$f":"IF(Kalkulator!$B$35=TRUE,0,VLOOKUP(TODAY()+A1447,T:V,3,1)/100)","v":0.23}]
[1446,7.7499999999999999E-2,9.5100000000000004E-2,7.46E-2,7.46E-2,0.1759,0.1105,{"$f":"IF(Kalkulator!$B$35=TRUE,0,VLOOKUP(TODAY()+A1448,T:V,3,1)/100)","v":0.23}]
[1447,7.7499999999999999E-2,9.5100000000000004E-2,7.46E-2,7.46E-2,0.1759,0.1105,{"$f":"IF(Kalkulator!$B$35=TRUE,0,VLOOKUP(TODAY()+A1449,T:V,3,1)/100)","v":0.23}]
[1448,7.7499999999999999E-2,9.5100000000000004E-2,7.46E-2,7.46E-2,0.1759,0.1105,{"$f":"IF(Kalkulator!$B$35=TRUE,0,VLOOKUP(TODAY()+A1450,T:V,3,1)/100)","v":0.23}]
[1449,7.7499999999999999E-2,9.5100000000000004E-2,7.46E-2,7.46E-2,0.1759,0.1105,{"$f":"IF(Kalkulator!$B$35=TRUE,0,VLOOKUP(TODAY()+A1451,T:V,3,1)/100)","v":0.23}]
[1450,7.7499999999999999E-2,9.5100000000000004E-2,7.46E-2,7.46E-2,0.1759,0.1105,{"$f":"IF(Kalkulator!$B$35=TRUE,0,VLOOKUP(TODAY()+A1452,T:V,3,1)/100)","v":0.23}]
[1451,7.7499999999999999E-2,9.5100000000000004E-2,7.46E-2,7.46E-2,0.1759,0.1105,{"$f":"IF(Kalkulator!$B$35=TRUE,0,VLOOKUP(TODAY()+A1453,T:V,3,1)/100)","v":0.23}]
[1452,7.7499999999999999E-2,9.5100000000000004E-2,7.46E-2,7.46E-2,0.1759,0.1105,{"$f":"IF(Kalkulator!$B$35=TRUE,0,VLOOKUP(TODAY()+A1454,T:V,3,1)/100)","v":0.23}]
[1453,7.7499999999999999E-2,9.5100000000000004E-2,7.46E-2,7.46E-2,0.1759,0.1105,{"$f":"IF(Kalkulator!$B$35=TRUE,0,VLOOKUP(TODAY()+A1455,T:V,3,1)/100)","v":0.23}]
[1454,7.7499999999999999E-2,9.5100000000000004E-2,7.46E-2,7.46E-2,0.1759,0.1105,{"$f":"IF(Kalkulator!$B$35=TRUE,0,VLOOKUP(TODAY()+A1456,T:V,3,1)/100)","v":0.23}]
[1455,7.7499999999999999E-2,9.5100000000000004E-2,7.46E-2,7.46E-2,0.1759,0.1105,{"$f":"IF(Kalkulator!$B$35=TRUE,0,VLOOKUP(TODAY()+A1457,T:V,3,1)/100)","v":0.23}]
[1456,7.7499999999999999E-2,9.5100000000000004E-2,7.46E-2,7.46E-2,0.1759,0.1105,{"$f":"IF(Kalkulator!$B$35=TRUE,0,VLOOKUP(TODAY()+A1458,T:V,3,1)/100)","v":0.23}]
[1457,7.7499999999999999E-2,9.5100000000000004E-2,7.46E-2,7.46E-2,0.1759,0.1105,{"$f":"IF(Kalkulator!$B$35=TRUE,0,VLOOKUP(TODAY()+A1459,T:V,3,1)/100)","v":0.23}]
[1458,7.7499999999999999E-2,9.5100000000000004E-2,7.46E-2,7.46E-2,0.1759,0.1105,{"$f":"IF(Kalkulator!$B$35=TRUE,0,VLOOKUP(TODAY()+A1460,T:V,3,1)/100)","v":0.23}]
[1459,7.7499999999999999E-2,9.5100000000000004E-2,7.46E-2,7.46E-2,0.1759,0.1105,{"$f":"IF(Kalkulator!$B$35=TRUE,0,VLOOKUP(TODAY()+A1461,T:V,3,1)/100)","v":0.23}]
[1460,7.7499999999999999E-2,9.5100000000000004E-2,7.46E-2,7.46E-2,0.1759,0.1105,{"$f":"IF(Kalkulator!$B$35=TRUE,0,VLOOKUP(TODAY()+A1462,T:V,3,1)/100)","v":0.23}]
[1461,7.7499999999999999E-2,9.5100000000000004E-2,7.46E-2,7.46E-2,0.1759,0.1105,{"$f":"IF(Kalkulator!$B$35=TRUE,0,VLOOKUP(TODAY()+A1463,T:V,3,1)/100)","v":0.23}]
[1462,7.7499999999999999E-2,9.5100000000000004E-2,7.46E-2,7.46E-2,0.1759,0.1105,{"$f":"IF(Kalkulator!$B$35=TRUE,0,VLOOKUP(TODAY()+A1464,T:V,3,1)/100)","v":0.23}]
[1463,7.7499999999999999E-2,9.5100000000000004E-2,7.46E-2,7.46E-2,0.1759,0.1105,{"$f":"IF(Kalkulator!$B$35=TRUE,0,VLOOKUP(TODAY()+A1465,T:V,3,1)/100)","v":0.23}]
[1464,7.7499999999999999E-2,9.5100000000000004E-2,7.46E-2,7.46E-2,0.1759,0.1105,{"$f":"IF(Kalkulator!$B$35=TRUE,0,VLOOKUP(TODAY()+A1466,T:V,3,1)/100)","v":0.23}]
[1465,7.7499999999999999E-2,9.5100000000000004E-2,7.46E-2,7.46E-2,0.1759,0.1105,{"$f":"IF(Kalkulator!$B$35=TRUE,0,VLOOKUP(TODAY()+A1467,T:V,3,1)/100)","v":0.23}]
[1466,7.7499999999999999E-2,9.5100000000000004E-2,7.46E-2,7.46E-2,0.1759,0.1105,{"$f":"IF(Kalkulator!$B$35=TRUE,0,VLOOKUP(TODAY()+A1468,T:V,3,1)/100)","v":0.23}]
[1467,7.7499999999999999E-2,9.5100000000000004E-2,7.46E-2,7.46E-2,0.1759,0.1105,{"$f":"IF(Kalkulator!$B$35=TRUE,0,VLOOKUP(TODAY()+A1469,T:V,3,1)/100)","v":0.23}]
[1468,7.7499999999999999E-2,9.5100000000000004E-2,7.46E-2,7.46E-2,0.1759,0.1105,{"$f":"IF(Kalkulator!$B$35=TRUE,0,VLOOKUP(TODAY()+A1470,T:V,3,1)/100)","v":0.23}]
[1469,7.7499999999999999E-2,9.5100000000000004E-2,7.46E-2,7.46E-2,0.1759,0.1105,{"$f":"IF(Kalkulator!$B$35=TRUE,0,VLOOKUP(TODAY()+A1471,T:V,3,1)/100)","v":0.23}]
[1470,7.7499999999999999E-2,9.5100000000000004E-2,7.46E-2,7.46E-2,0.1759,0.1105,{"$f":"IF(Kalkulator!$B$35=TRUE,0,VLOOKUP(TODAY()+A1472,T:V,3,1)/100)","v":0.23}]
[1471,7.7499999999999999E-2,9.5100000000000004E-2,7.46E-2,7.46E-2,0.1759,0.1105,{"$f":"IF(Kalkulator!$B$35=TRUE,0,VLOOKUP(TODAY()+A1473,T:V,3,1)/100)","v":0.23}]
[1472,7.7499999999999999E-2,9.5100000000000004E-2,7.46E-2,7.46E-2,0.1759,0.1105,{"$f":"IF(Kalkulator!$B$35=TRUE,0,VLOOKUP(TODAY()+A1474,T:V,3,1)/100)","v":0.23}]
[1473,7.7499999999999999E-2,9.5100000000000004E-2,7.46E-2,7.46E-2,0.1759,0.1105,{"$f":"IF(Kalkulator!$B$35=TRUE,0,VLOOKUP(TODAY()+A1475,T:V,3,1)/100)","v":0.23}]
[1474,7.7499999999999999E-2,9.5100000000000004E-2,7.46E-2,7.46E-2,0.1759,0.1105,{"$f":"IF(Kalkulator!$B$35=TRUE,0,VLOOKUP(TODAY()+A1476,T:V,3,1)/100)","v":0.23}]
[1475,7.7499999999999999E-2,9.5100000000000004E-2,7.46E-2,7.46E-2,0.1759,0.1105,{"$f":"IF(Kalkulator!$B$35=TRUE,0,VLOOKUP(TODAY()+A1477,T:V,3,1)/100)","v":0.23}]
[1476,7.7499999999999999E-2,9.5100000000000004E-2,7.46E-2,7.46E-2,0.1759,0.1105,{"$f":"IF(Kalkulator!$B$35=TRUE,0,VLOOKUP(TODAY()+A1478,T:V,3,1)/100)","v":0.23}]
[1477,7.7499999999999999E-2,9.5100000000000004E-2,7.46E-2,7.46E-2,0.1759,0.1105,{"$f":"IF(Kalkulator!$B$35=TRUE,0,VLOOKUP(TODAY()+A1479,T:V,3,1)/100)","v":0.23}]
[1478,7.7499999999999999E-2,9.5100000000000004E-2,7.46E-2,7.46E-2,0.1759,0.1105,{"$f":"IF(Kalkulator!$B$35=TRUE,0,VLOOKUP(TODAY()+A1480,T:V,3,1)/100)","v":0.23}]
[1479,7.7499999999999999E-2,9.5100000000000004E-2,7.46E-2,7.46E-2,0.1759,0.1105,{"$f":"IF(Kalkulator!$B$35=TRUE,0,VLOOKUP(TODAY()+A1481,T:V,3,1)/100)","v":0.23}]
[1480,7.7499999999999999E-2,9.5100000000000004E-2,7.46E-2,7.46E-2,0.1759,0.1105,{"$f":"IF(Kalkulator!$B$35=TRUE,0,VLOOKUP(TODAY()+A1482,T:V,3,1)/100)","v":0.23}]
[1481,7.7499999999999999E-2,9.5100000000000004E-2,7.46E-2,7.46E-2,0.1759,0.1105,{"$f":"IF(Kalkulator!$B$35=TRUE,0,VLOOKUP(TODAY()+A1483,T:V,3,1)/100)","v":0.23}]
[1482,7.7499999999999999E-2,9.5100000000000004E-2,7.46E-2,7.46E-2,0.1759,0.1105,{"$f":"IF(Kalkulator!$B$35=TRUE,0,VLOOKUP(TODAY()+A1484,T:V,3,1)/100)","v":0.23}]
[1483,7.7499999999999999E-2,9.5100000000000004E-2,7.46E-2,7.46E-2,0.1759,0.1105,{"$f":"IF(Kalkulator!$B$35=TRUE,0,VLOOKUP(TODAY()+A1485,T:V,3,1)/100)","v":0.23}]
[1484,7.7499999999999999E-2,9.5100000000000004E-2,7.46E-2,7.46E-2,0.1759,0.1105,{"$f":"IF(Kalkulator!$B$35=TRUE,0,VLOOKUP(TODAY()+A1486,T:V,3,1)/100)","v":0.23}]
[1485,7.7499999999999999E-2,9.5100000000000004E-2,7.46E-2,7.46E-2,0.1759,0.1105,{"$f":"IF(Kalkulator!$B$35=TRUE,0,VLOOKUP(TODAY()+A1487,T:V,3,1)/100)","v":0.23}]
[1486,7.7499999999999999E-2,9.5100000000000004E-2,7.46E-2,7.46E-2,0.1759,0.1105,{"$f":"IF(Kalkulator!$B$35=TRUE,0,VLOOKUP(TODAY()+A1488,T:V,3,1)/100)","v":0.23}]
[1487,7.7499999999999999E-2,9.5100000000000004E-2,7.46E-2,7.46E-2,0.1759,0.1105,{"$f":"IF(Kalkulator!$B$35=TRUE,0,VLOOKUP(TODAY()+A1489,T:V,3,1)/100)","v":0.23}]
[1488,7.7499999999999999E-2,9.5100000000000004E-2,7.46E-2,7.46E-2,0.1759,0.1105,{"$f":"IF(Kalkulator!$B$35=TRUE,0,VLOOKUP(TODAY()+A1490,T:V,3,1)/100)","v":0.23}]
[1489,7.7499999999999999E-2,9.5100000000000004E-2,7.46E-2,7.46E-2,0.1759,0.1105,{"$f":"IF(Kalkulator!$B$35=TRUE,0,VLOOKUP(TODAY()+A1491,T:V,3,1)/100)","v":0.23}]
[1490,7.7499999999999999E-2,9.5100000000000004E-2,7.46E-2,7.46E-2,0.1759,0.1105,{"$f":"IF(Kalkulator!$B$35=TRUE,0,VLOOKUP(TODAY()+A1492,T:V,3,1)/100)","v":0.23}]
[1491,7.7499999999999999E-2,9.5100000000000004E-2,7.46E-2,7.46E-2,0.1759,0.1105,{"$f":"IF(Kalkulator!$B$35=TRUE,0,VLOOKUP(TODAY()+A1493,T:V,3,1)/100)","v":0.23}]
[1492,7.7499999999999999E-2,9.5100000000000004E-2,7.46E-2,7.46E-2,0.1759,0.1105,{"$f":"IF(Kalkulator!$B$35=TRUE,0,VLOOKUP(TODAY()+A1494,T:V,3,1)/100)","v":0.23}]
[1493,7.7499999999999999E-2,9.5100000000000004E-2,7.46E-2,7.46E-2,0.1759,0.1105,{"$f":"IF(Kalkulator!$B$35=TRUE,0,VLOOKUP(TODAY()+A1495,T:V,3,1)/100)","v":0.23}]
[1494,7.7499999999999999E-2,9.5100000000000004E-2,7.46E-2,7.46E-2,0.1759,0.1105,{"$f":"IF(Kalkulator!$B$35=TRUE,0,VLOOKUP(TODAY()+A1496,T:V,3,1)/100)","v":0.23}]
[1495,7.7499999999999999E-2,9.5100000000000004E-2,7.46E-2,7.46E-2,0.1759,0.1105,{"$f":"IF(Kalkulator!$B$35=TRUE,0,VLOOKUP(TODAY()+A1497,T:V,3,1)/100)","v":0.23}]
[1496,7.7499999999999999E-2,9.5100000000000004E-2,7.46E-2,7.46E-2,0.1759,0.1105,{"$f":"IF(Kalkulator!$B$35=TRUE,0,VLOOKUP(TODAY()+A1498,T:V,3,1)/100)","v":0.23}]
[1497,7.7499999999999999E-2,9.5100000000000004E-2,7.46E-2,7.46E-2,0.1759,0.1105,{"$f":"IF(Kalkulator!$B$35=TRUE,0,VLOOKUP(TODAY()+A1499,T:V,3,1)/100)","v":0.23}]
[1498,7.7499999999999999E-2,9.5100000000000004E-2,7.46E-2,7.46E-2,0.1759,0.1105,{"$f":"IF(Kalkulator!$B$35=TRUE,0,VLOOKUP(TODAY()+A1500,T:V,3,1)/100)","v":0.23}]
[1499,7.7499999999999999E-2,9.5100000000000004E-2,7.46E-2,7.46E-2,0.1759,0.1105,{"$f":"IF(Kalkulator!$B$35=TRUE,0,VLOOKUP(TODAY()+A1501,T:V,3,1)/100)","v":0.23}]
[1500,7.7499999999999999E-2,9.5100000000000004E-2,7.46E-2,7.46E-2,0.1759,0.1105,{"$f":"IF(Kalkulator!$B$35=TRUE,0,VLOOKUP(TODAY()+A1502,T:V,3,1)/100)","v":0.23}]
[1501,7.7499999999999999E-2,9.5100000000000004E-2,7.46E-2,7.46E-2,0.1759,0.1105,{"$f":"IF(Kalkulator!$B$35=TRUE,0,VLOOKUP(TODAY()+A1503,T:V,3,1)/100)","v":0.23}]
[1502,7.7499999999999999E-2,9.5100000000000004E-2,7.46E-2,7.46E-2,0.1759,0.1105,{"$f":"IF(Kalkulator!$B$35=TRUE,0,VLOOKUP(TODAY()+A1504,T:V,3,1)/100)","v":0.23}]
[1503,7.7499999999999999E-2,9.5100000000000004E-2,7.46E-2,7.46E-2,0.1759,0.1105,{"$f":"IF(Kalkulator!$B$35=TRUE,0,VLOOKUP(TODAY()+A1505,T:V,3,1)/100)","v":0.23}]
[1504,7.7499999999999999E-2,9.5100000000000004E-2,7.46E-2,7.46E-2,0.1759,0.1105,{"$f":"IF(Kalkulator!$B$35=TRUE,0,VLOOKUP(TODAY()+A1506,T:V,3,1)/100)","v":0.23}]
[1505,7.7499999999999999E-2,9.5100000000000004E-2,7.46E-2,7.46E-2,0.1759,0.1105,{"$f":"IF(Kalkulator!$B$35=TRUE,0,VLOOKUP(TODAY()+A1507,T:V,3,1)/100)","v":0.23}]
[1506,7.7499999999999999E-2,9.5100000000000004E-2,7.46E-2,7.46E-2,0.1759,0.1105,{"$f":"IF(Kalkulator!$B$35=TRUE,0,VLOOKUP(TODAY()+A1508,T:V,3,1)/100)","v":0.23}]
[1507,7.7499999999999999E-2,9.5100000000000004E-2,7.46E-2,7.46E-2,0.1759,0.1105,{"$f":"IF(Kalkulator!$B$35=TRUE,0,VLOOKUP(TODAY()+A1509,T:V,3,1)/100)","v":0.23}]
[1508,7.7499999999999999E-2,9.5100000000000004E-2,7.46E-2,7.46E-2,0.1759,0.1105,{"$f":"IF(Kalkulator!$B$35=TRUE,0,VLOOKUP(TODAY()+A1510,T:V,3,1)/100)","v":0.23}]
[1509,7.7499999999999999E-2,9.5100000000000004E-2,7.46E-2,7.46E-2,0.1759,0.1105,{"$f":"IF(Kalkulator!$B$35=TRUE,0,VLOOKUP(TODAY()+A1511,T:V,3,1)/100)","v":0.23}]
[1510,7.7499999999999999E-2,9.5100000000000004E-2,7.46E-2,7.46E-2,0.1759,0.1105,{"$f":"IF(Kalkulator!$B$35=TRUE,0,VLOOKUP(TODAY()+A1512,T:V,3,1)/100)","v":0.23}]
[1511,7.7499999999999999E-2,9.5100000000000004E-2,7.46E-2,7.46E-2,0.1759,0.1105,{"$f":"IF(Kalkulator!$B$35=TRUE,0,VLOOKUP(TODAY()+A1513,T:V,3,1)/100)","v":0.23}]
[1512,7.7499999999999999E-2,9.5100000000000004E-2,7.46E-2,7.46E-2,0.1759,0.1105,{"$f":"IF(Kalkulator!$B$35=TRUE,0,VLOOKUP(TODAY()+A1514,T:V,3,1)/100)","v":0.23}]
[1513,7.7499999999999999E-2,9.5100000000000004E-2,7.46E-2,7.46E-2,0.1759,0.1105,{"$f":"IF(Kalkulator!$B$35=TRUE,0,VLOOKUP(TODAY()+A1515,T:V,3,1)/100)","v":0.23}]
[1514,7.7499999999999999E-2,9.5100000000000004E-2,7.46E-2,7.46E-2,0.1759,0.1105,{"$f":"IF(Kalkulator!$B$35=TRUE,0,VLOOKUP(TODAY()+A1516,T:V,3,1)/100)","v":0.23}]
[1515,7.7499999999999999E-2,9.5100000000000004E-2,7.46E-2,7.46E-2,0.1759,0.1105,{"$f":"IF(Kalkulator!$B$35=TRUE,0,VLOOKUP(TODAY()+A1517,T:V,3,1)/100)","v":0.23}]
[1516,7.7499999999999999E-2,9.5100000000000004E-2,7.46E-2,7.46E-2,0.1759,0.1105,{"$f":"IF(Kalkulator!$B$35=TRUE,0,VLOOKUP(TODAY()+A1518,T:V,3,1)/100)","v":0.23}]
[1517,7.7499999999999999E-2,9.5100000000000004E-2,7.46E-2,7.46E-2,0.1759,0.1105,{"$f":"IF(Kalkulator!$B$35=TRUE,0,VLOOKUP(TODAY()+A1519,T:V,3,1)/100)","v":0.23}]
[1518,7.7499999999999999E-2,9.5100000000000004E-2,7.46E-2,7.46E-2,0.1759,0.1105,{"$f":"IF(Kalkulator!$B$35=TRUE,0,VLOOKUP(TODAY()+A1520,T:V,3,1)/100)","v":0.23}]
[1519,7.7499999999999999E-2,9.5100000000000004E-2,7.46E-2,7.46E-2,0.1759,0.1105,{"$f":"IF(Kalkulator!$B$35=TRUE,0,VLOOKUP(TODAY()+A1521,T:V,3,1)/100)","v":0.23}]
[1520,7.7499999999999999E-2,9.5100000000000004E-2,7.46E-2,7.46E-2,0.1759,0.1105,{"$f":"IF(Kalkulator!$B$35=TRUE,0,VLOOKUP(TODAY()+A1522,T:V,3,1)/100)","v":0.23}]
[1521,7.7499999999999999E-2,9.5100000000000004E-2,7.46E-2,7.46E-2,0.1759,0.1105,{"$f":"IF(Kalkulator!$B$35=TRUE,0,VLOOKUP(TODAY()+A1523,T:V,3,1)/100)","v":0.23}]
[1522,7.7499999999999999E-2,9.5100000000000004E-2,7.46E-2,7.46E-2,0.1759,0.1105,{"$f":"IF(Kalkulator!$B$35=TRUE,0,VLOOKUP(TODAY()+A1524,T:V,3,1)/100)","v":0.23}]
[1523,7.7499999999999999E-2,9.5100000000000004E-2,7.46E-2,7.46E-2,0.1759,0.1105,{"$f":"IF(Kalkulator!$B$35=TRUE,0,VLOOKUP(TODAY()+A1525,T:V,3,1)/100)","v":0.23}]
[1524,7.7499999999999999E-2,9.5100000000000004E-2,7.46E-2,7.46E-2,0.1759,0.1105,{"$f":"IF(Kalkulator!$B$35=TRUE,0,VLOOKUP(TODAY()+A1526,T:V,3,1)/100)","v":0.23}]
[1525,7.7499999999999999E-2,9.5100000000000004E-2,7.46E-2,7.46E-2,0.1759,0.1105,{"$f":"IF(Kalkulator!$B$35=TRUE,0,VLOOKUP(TODAY()+A1527,T:V,3,1)/100)","v":0.23}]
[1526,7.7499999999999999E-2,9.5100000000000004E-2,7.46E-2,7.46E-2,0.1759,0.1105,{"$f":"IF(Kalkulator!$B$35=TRUE,0,VLOOKUP(TODAY()+A1528,T:V,3,1)/100)","v":0.23}]
[1527,7.7499999999999999E-2,9.5100000000000004E-2,7.46E-2,7.46E-2,0.1759,0.1105,{"$f":"IF(Kalkulator!$B$35=TRUE,0,VLOOKUP(TODAY()+A1529,T:V,3,1)/100)","v":0.23}]
[1528,7.7499999999999999E-2,9.5100000000000004E-2,7.46E-2,7.46E-2,0.1759,0.1105,{"$f":"IF(Kalkulator!$B$35=TRUE,0,VLOOKUP(TODAY()+A1530,T:V,3,1)/100)","v":0.23}]
[1529,7.7499999999999999E-2,9.5100000000000004E-2,7.46E-2,7.46E-2,0.1759,0.1105,{"$f":"IF(Kalkulator!$B$35=TRUE,0,VLOOKUP(TODAY()+A1531,T:V,3,1)/100)","v":0.23}]
[1530,7.7499999999999999E-2,9.5100000000000004E-2,7.46E-2,7.46E-2,0.1759,0.1105,{"$f":"IF(Kalkulator!$B$35=TRUE,0,VLOOKUP(TODAY()+A1532,T:V,3,1)/100)","v":0.23}]
[1531,7.7499999999999999E-2,9.5100000000000004E-2,7.46E-2,7.46E-2,0.1759,0.1105,{"$f":"IF(Kalkulator!$B$35=TRUE,0,VLOOKUP(TODAY()+A1533,T:V,3,1)/100)","v":0.23}]
[1532,7.7499999999999999E-2,9.5100000000000004E-2,7.46E-2,7.46E-2,0.1759,0.1105,{"$f":"IF(Kalkulator!$B$35=TRUE,0,VLOOKUP(TODAY()+A1534,T:V,3,1)/100)","v":0.23}]
[1533,7.7499999999999999E-2,9.5100000000000004E-2,7.46E-2,7.46E-2,0.1759,0.1105,{"$f":"IF(Kalkulator!$B$35=TRUE,0,VLOOKUP(TODAY()+A1535,T:V,3,1)/100)","v":0.23}]
[1534,7.7499999999999999E-2,9.5100000000000004E-2,7.46E-2,7.46E-2,0.1759,0.1105,{"$f":"IF(Kalkulator!$B$35=TRUE,0,VLOOKUP(TODAY()+A1536,T:V,3,1)/100)","v":0.23}]
[1535,7.7499999999999999E-2,9.5100000000000004E-2,7.46E-2,7.46E-2,0.1759,0.1105,{"$f":"IF(Kalkulator!$B$35=TRUE,0,VLOOKUP(TODAY()+A1537,T:V,3,1)/100)","v":0.23}]
[1536,7.7499999999999999E-2,9.5100000000000004E-2,7.46E-2,7.46E-2,0.1759,0.1105,{"$f":"IF(Kalkulator!$B$35=TRUE,0,VLOOKUP(TODAY()+A1538,T:V,3,1)/100)","v":0.23}]
[1537,7.7499999999999999E-2,9.5100000000000004E-2,7.46E-2,7.46E-2,0.1759,0.1105,{"$f":"IF(Kalkulator!$B$35=TRUE,0,VLOOKUP(TODAY()+A1539,T:V,3,1)/100)","v":0.23}]
[1538,7.7499999999999999E-2,9.5100000000000004E-2,7.46E-2,7.46E-2,0.1759,0.1105,{"$f":"IF(Kalkulator!$B$35=TRUE,0,VLOOKUP(TODAY()+A1540,T:V,3,1)/100)","v":0.23}]
[1539,7.7499999999999999E-2,9.5100000000000004E-2,7.46E-2,7.46E-2,0.1759,0.1105,{"$f":"IF(Kalkulator!$B$35=TRUE,0,VLOOKUP(TODAY()+A1541,T:V,3,1)/100)","v":0.23}]
[1540,7.7499999999999999E-2,9.5100000000000004E-2,7.46E-2,7.46E-2,0.1759,0.1105,{"$f":"IF(Kalkulator!$B$35=TRUE,0,VLOOKUP(TODAY()+A1542,T:V,3,1)/100)","v":0.23}]
[1541,7.7499999999999999E-2,9.5100000000000004E-2,7.46E-2,7.46E-2,0.1759,0.1105,{"$f":"IF(Kalkulator!$B$35=TRUE,0,VLOOKUP(TODAY()+A1543,T:V,3,1)/100)","v":0.23}]
[1542,7.7499999999999999E-2,9.5100000000000004E-2,7.46E-2,7.46E-2,0.1759,0.1105,{"$f":"IF(Kalkulator!$B$35=TRUE,0,VLOOKUP(TODAY()+A1544,T:V,3,1)/100)","v":0.23}]
[1543,7.7499999999999999E-2,9.5100000000000004E-2,7.46E-2,7.46E-2,0.1759,0.1105,{"$f":"IF(Kalkulator!$B$35=TRUE,0,VLOOKUP(TODAY()+A1545,T:V,3,1)/100)","v":0.23}]
[1544,7.7499999999999999E-2,9.5100000000000004E-2,7.46E-2,7.46E-2,0.1759,0.1105,{"$f":"IF(Kalkulator!$B$35=TRUE,0,VLOOKUP(TODAY()+A1546,T:V,3,1)/100)","v":0.23}]
[1545,7.7499999999999999E-2,9.5100000000000004E-2,7.46E-2,7.46E-2,0.1759,0.1105,{"$f":"IF(Kalkulator!$B$35=TRUE,0,VLOOKUP(TODAY()+A1547,T:V,3,1)/100)","v":0.23}]
[1546,7.7499999999999999E-2,9.5100000000000004E-2,7.46E-2,7.46E-2,0.1759,0.1105,{"$f":"IF(Kalkulator!$B$35=TRUE,0,VLOOKUP(TODAY()+A1548,T:V,3,1)/100)","v":0.23}]
[1547,7.7499999999999999E-2,9.5100000000000004E-2,7.46E-2,7.46E-2,0.1759,0.1105,{"$f":"IF(Kalkulator!$B$35=TRUE,0,VLOOKUP(TODAY()+A1549,T:V,3,1)/100)","v":0.23}]
[1548,7.7499999999999999E-2,9.5100000000000004E-2,7.46E-2,7.46E-2,0.1759,0.1105,{"$f":"IF(Kalkulator!$B$35=TRUE,0,VLOOKUP(TODAY()+A1550,T:V,3,1)/100)","v":0.23}]
[1549,7.7499999999999999E-2,9.5100000000000004E-2,7.46E-2,7.46E-2,0.1759,0.1105,{"$f":"IF(Kalkulator!$B$35=TRUE,0,VLOOKUP(TODAY()+A1551,T:V,3,1)/100)","v":0.23}]
[1550,7.7499999999999999E-2,9.5100000000000004E-2,7.46E-2,7.46E-2,0.1759,0.1105,{"$f":"IF(Kalkulator!$B$35=TRUE,0,VLOOKUP(TODAY()+A1552,T:V,3,1)/100)","v":0.23}]
[1551,7.7499999999999999E-2,9.5100000000000004E-2,7.46E-2,7.46E-2,0.1759,0.1105,{"$f":"IF(Kalkulator!$B$35=TRUE,0,VLOOKUP(TODAY()+A1553,T:V,3,1)/100)","v":0.23}]
[1552,7.7499999999999999E-2,9.5100000000000004E-2,7.46E-2,7.46E-2,0.1759,0.1105,{"$f":"IF(Kalkulator!$B$35=TRUE,0,VLOOKUP(TODAY()+A1554,T:V,3,1)/100)","v":0.23}]
[1553,7.7499999999999999E-2,9.5100000000000004E-2,7.46E-2,7.46E-2,0.1759,0.1105,{"$f":"IF(Kalkulator!$B$35=TRUE,0,VLOOKUP(TODAY()+A1555,T:V,3,1)/100)","v":0.23}]
[1554,7.7499999999999999E-2,9.5100000000000004E-2,7.46E-2,7.46E-2,0.1759,0.1105,{"$f":"IF(Kalkulator!$B$35=TRUE,0,VLOOKUP(TODAY()+A1556,T:V,3,1)/100)","v":0.23}]
[1555,7.7499999999999999E-2,9.5100000000000004E-2,7.46E-2,7.46E-2,0.1759,0.1105,{"$f":"IF(Kalkulator!$B$35=TRUE,0,VLOOKUP(TODAY()+A1557,T:V,3,1)/100)","v":0.23}]
[1556,7.7499999999999999E-2,9.5100000000000004E-2,7.46E-2,7.46E-2,0.1759,0.1105,{"$f":"IF(Kalkulator!$B$35=TRUE,0,VLOOKUP(TODAY()+A1558,T:V,3,1)/100)","v":0.23}]
[1557,7.7499999999999999E-2,9.5100000000000004E-2,7.46E-2,7.46E-2,0.1759,0.1105,{"$f":"IF(Kalkulator!$B$35=TRUE,0,VLOOKUP(TODAY()+A1559,T:V,3,1)/100)","v":0.23}]
[1558,7.7499999999999999E-2,9.5100000000000004E-2,7.46E-2,7.46E-2,0.1759,0.1105,{"$f":"IF(Kalkulator!$B$35=TRUE,0,VLOOKUP(TODAY()+A1560,T:V,3,1)/100)","v":0.23}]
[1559,7.7499999999999999E-2,9.5100000000000004E-2,7.46E-2,7.46E-2,0.1759,0.1105,{"$f":"IF(Kalkulator!$B$35=TRUE,0,VLOOKUP(TODAY()+A1561,T:V,3,1)/100)","v":0.23}]
[1560,7.7499999999999999E-2,9.5100000000000004E-2,7.46E-2,7.46E-2,0.1759,0.1105,{"$f":"IF(Kalkulator!$B$35=TRUE,0,VLOOKUP(TODAY()+A1562,T:V,3,1)/100)","v":0.23}]
[1561,7.7499999999999999E-2,9.5100000000000004E-2,7.46E-2,7.46E-2,0.1759,0.1105,{"$f":"IF(Kalkulator!$B$35=TRUE,0,VLOOKUP(TODAY()+A1563,T:V,3,1)/100)","v":0.23}]
[1562,7.7499999999999999E-2,9.5100000000000004E-2,7.46E-2,7.46E-2,0.1759,0.1105,{"$f":"IF(Kalkulator!$B$35=TRUE,0,VLOOKUP(TODAY()+A1564,T:V,3,1)/100)","v":0.23}]
[1563,7.7499999999999999E-2,9.5100000000000004E-2,7.46E-2,7.46E-2,0.1759,0.1105,{"$f":"IF(Kalkulator!$B$35=TRUE,0,VLOOKUP(TODAY()+A1565,T:V,3,1)/100)","v":0.23}]
[1564,7.7499999999999999E-2,9.5100000000000004E-2,7.46E-2,7.46E-2,0.1759,0.1105,{"$f":"IF(Kalkulator!$B$35=TRUE,0,VLOOKUP(TODAY()+A1566,T:V,3,1)/100)","v":0.23}]
[1565,7.7499999999999999E-2,9.5100000000000004E-2,7.46E-2,7.46E-2,0.1759,0.1105,{"$f":"IF(Kalkulator!$B$35=TRUE,0,VLOOKUP(TODAY()+A1567,T:V,3,1)/100)","v":0.23}]
[1566,7.7499999999999999E-2,9.5100000000000004E-2,7.46E-2,7.46E-2,0.1759,0.1105,{"$f":"IF(Kalkulator!$B$35=TRUE,0,VLOOKUP(TODAY()+A1568,T:V,3,1)/100)","v":0.23}]
[1567,7.7499999999999999E-2,9.5100000000000004E-2,7.46E-2,7.46E-2,0.1759,0.1105,{"$f":"IF(Kalkulator!$B$35=TRUE,0,VLOOKUP(TODAY()+A1569,T:V,3,1)/100)","v":0.23}]
[1568,7.7499999999999999E-2,9.5100000000000004E-2,7.46E-2,7.46E-2,0.1759,0.1105,{"$f":"IF(Kalkulator!$B$35=TRUE,0,VLOOKUP(TODAY()+A1570,T:V,3,1)/100)","v":0.23}]
[1569,7.7499999999999999E-2,9.5100000000000004E-2,7.46E-2,7.46E-2,0.1759,0.1105,{"$f":"IF(Kalkulator!$B$35=TRUE,0,VLOOKUP(TODAY()+A1571,T:V,3,1)/100)","v":0.23}]
[1570,7.7499999999999999E-2,9.5100000000000004E-2,7.46E-2,7.46E-2,0.1759,0.1105,{"$f":"IF(Kalkulator!$B$35=TRUE,0,VLOOKUP(TODAY()+A1572,T:V,3,1)/100)","v":0.23}]
[1571,7.7499999999999999E-2,9.5100000000000004E-2,7.46E-2,7.46E-2,0.1759,0.1105,{"$f":"IF(Kalkulator!$B$35=TRUE,0,VLOOKUP(TODAY()+A1573,T:V,3,1)/100)","v":0.23}]
[1572,7.7499999999999999E-2,9.5100000000000004E-2,7.46E-2,7.46E-2,0.1759,0.1105,{"$f":"IF(Kalkulator!$B$35=TRUE,0,VLOOKUP(TODAY()+A1574,T:V,3,1)/100)","v":0.23}]
[1573,7.7499999999999999E-2,9.5100000000000004E-2,7.46E-2,7.46E-2,0.1759,0.1105,{"$f":"IF(Kalkulator!$B$35=TRUE,0,VLOOKUP(TODAY()+A1575,T:V,3,1)/100)","v":0.23}]
[1574,7.7499999999999999E-2,9.5100000000000004E-2,7.46E-2,7.46E-2,0.1759,0.1105,{"$f":"IF(Kalkulator!$B$35=TRUE,0,VLOOKUP(TODAY()+A1576,T:V,3,1)/100)","v":0.23}]
[1575,7.7499999999999999E-2,9.5100000000000004E-2,7.46E-2,7.46E-2,0.1759,0.1105,{"$f":"IF(Kalkulator!$B$35=TRUE,0,VLOOKUP(TODAY()+A1577,T:V,3,1)/100)","v":0.23}]
[1576,7.7499999999999999E-2,9.5100000000000004E-2,7.46E-2,7.46E-2,0.1759,0.1105,{"$f":"IF(Kalkulator!$B$35=TRUE,0,VLOOKUP(TODAY()+A1578,T:V,3,1)/100)","v":0.23}]
[1577,7.7499999999999999E-2,9.5100000000000004E-2,7.46E-2,7.46E-2,0.1759,0.1105,{"$f":"IF(Kalkulator!$B$35=TRUE,0,VLOOKUP(TODAY()+A1579,T:V,3,1)/100)","v":0.23}]
[1578,7.7499999999999999E-2,9.5100000000000004E-2,7.46E-2,7.46E-2,0.1759,0.1105,{"$f":"IF(Kalkulator!$B$35=TRUE,0,VLOOKUP(TODAY()+A1580,T:V,3,1)/100)","v":0.23}]
[1579,7.7499999999999999E-2,9.5100000000000004E-2,7.46E-2,7.46E-2,0.1759,0.1105,{"$f":"IF(Kalkulator!$B$35=TRUE,0,VLOOKUP(TODAY()+A1581,T:V,3,1)/100)","v":0.23}]
[1580,7.7499999999999999E-2,9.5100000000000004E-2,7.46E-2,7.46E-2,0.1759,0.1105,{"$f":"IF(Kalkulator!$B$35=TRUE,0,VLOOKUP(TODAY()+A1582,T:V,3,1)/100)","v":0.23}]
[1581,7.7499999999999999E-2,9.5100000000000004E-2,7.46E-2,7.46E-2,0.1759,0.1105,{"$f":"IF(Kalkulator!$B$35=TRUE,0,VLOOKUP(TODAY()+A1583,T:V,3,1)/100)","v":0.23}]
[1582,7.7499999999999999E-2,9.5100000000000004E-2,7.46E-2,7.46E-2,0.1759,0.1105,{"$f":"IF(Kalkulator!$B$35=TRUE,0,VLOOKUP(TODAY()+A1584,T:V,3,1)/100)","v":0.23}]
[1583,7.7499999999999999E-2,9.5100000000000004E-2,7.46E-2,7.46E-2,0.1759,0.1105,{"$f":"IF(Kalkulator!$B$35=TRUE,0,VLOOKUP(TODAY()+A1585,T:V,3,1)/100)","v":0.23}]
[1584,7.7499999999999999E-2,9.5100000000000004E-2,7.46E-2,7.46E-2,0.1759,0.1105,{"$f":"IF(Kalkulator!$B$35=TRUE,0,VLOOKUP(TODAY()+A1586,T:V,3,1)/100)","v":0.23}]
[1585,7.7499999999999999E-2,9.5100000000000004E-2,7.46E-2,7.46E-2,0.1759,0.1105,{"$f":"IF(Kalkulator!$B$35=TRUE,0,VLOOKUP(TODAY()+A1587,T:V,3,1)/100)","v":0.23}]
[1586,7.7499999999999999E-2,9.5100000000000004E-2,7.46E-2,7.46E-2,0.1759,0.1105,{"$f":"IF(Kalkulator!$B$35=TRUE,0,VLOOKUP(TODAY()+A1588,T:V,3,1)/100)","v":0.23}]
[1587,7.7499999999999999E-2,9.5100000000000004E-2,7.46E-2,7.46E-2,0.1759,0.1105,{"$f":"IF(Kalkulator!$B$35=TRUE,0,VLOOKUP(TODAY()+A1589,T:V,3,1)/100)","v":0.23}]
[1588,7.7499999999999999E-2,9.5100000000000004E-2,7.46E-2,7.46E-2,0.1759,0.1105,{"$f":"IF(Kalkulator!$B$35=TRUE,0,VLOOKUP(TODAY()+A1590,T:V,3,1)/100)","v":0.23}]
[1589,7.7499999999999999E-2,9.5100000000000004E-2,7.46E-2,7.46E-2,0.1759,0.1105,{"$f":"IF(Kalkulator!$B$35=TRUE,0,VLOOKUP(TODAY()+A1591,T:V,3,1)/100)","v":0.23}]
[1590,7.7499999999999999E-2,9.5100000000000004E-2,7.46E-2,7.46E-2,0.1759,0.1105,{"$f":"IF(Kalkulator!$B$35=TRUE,0,VLOOKUP(TODAY()+A1592,T:V,3,1)/100)","v":0.23}]
[1591,7.7499999999999999E-2,9.5100000000000004E-2,7.46E-2,7.46E-2,0.1759,0.1105,{"$f":"IF(Kalkulator!$B$35=TRUE,0,VLOOKUP(TODAY()+A1593,T:V,3,1)/100)","v":0.23}]
[1592,7.7499999999999999E-2,9.5100000000000004E-2,7.46E-2,7.46E-2,0.1759,0.1105,{"$f":"IF(Kalkulator!$B$35=TRUE,0,VLOOKUP(TODAY()+A1594,T:V,3,1)/100)","v":0.23}]
[1593,7.7499999999999999E-2,9.5100000000000004E-2,7.46E-2,7.46E-2,0.1759,0.1105,{"$f":"IF(Kalkulator!$B$35=TRUE,0,VLOOKUP(TODAY()+A1595,T:V,3,1)/100)","v":0.23}]
[1594,7.7499999999999999E-2,9.5100000000000004E-2,7.46E-2,7.46E-2,0.1759,0.1105,{"$f":"IF(Kalkulator!$B$35=TRUE,0,VLOOKUP(TODAY()+A1596,T:V,3,1)/100)","v":0.23}]
[1595,7.7499999999999999E-2,9.5100000000000004E-2,7.46E-2,7.46E-2,0.1759,0.1105,{"$f":"IF(Kalkulator!$B$35=TRUE,0,VLOOKUP(TODAY()+A1597,T:V,3,1)/100)","v":0.23}]
[1596,7.7499999999999999E-2,9.5100000000000004E-2,7.46E-2,7.46E-2,0.1759,0.1105,{"$f":"IF(Kalkulator!$B$35=TRUE,0,VLOOKUP(TODAY()+A1598,T:V,3,1)/100)","v":0.23}]
[1597,7.7499999999999999E-2,9.5100000000000004E-2,7.46E-2,7.46E-2,0.1759,0.1105,{"$f":"IF(Kalkulator!$B$35=TRUE,0,VLOOKUP(TODAY()+A1599,T:V,3,1)/100)","v":0.23}]
[1598,7.7499999999999999E-2,9.5100000000000004E-2,7.46E-2,7.46E-2,0.1759,0.1105,{"$f":"IF(Kalkulator!$B$35=TRUE,0,VLOOKUP(TODAY()+A1600,T:V,3,1)/100)","v":0.23}]
[1599,7.7499999999999999E-2,9.5100000000000004E-2,7.46E-2,7.46E-2,0.1759,0.1105,{"$f":"IF(Kalkulator!$B$35=TRUE,0,VLOOKUP(TODAY()+A1601,T:V,3,1)/100)","v":0.23}]
[1600,7.7499999999999999E-2,9.5100000000000004E-2,7.46E-2,7.46E-2,0.1759,0.1105,{"$f":"IF(Kalkulator!$B$35=TRUE,0,VLOOKUP(TODAY()+A1602,T:V,3,1)/100)","v":0.23}]
[1601,7.7499999999999999E-2,9.5100000000000004E-2,7.46E-2,7.46E-2,0.1759,0.1105,{"$f":"IF(Kalkulator!$B$35=TRUE,0,VLOOKUP(TODAY()+A1603,T:V,3,1)/100)","v":0.23}]
[1602,7.7499999999999999E-2,9.5100000000000004E-2,7.46E-2,7.46E-2,0.1759,0.1105,{"$f":"IF(Kalkulator!$B$35=TRUE,0,VLOOKUP(TODAY()+A1604,T:V,3,1)/100)","v":0.23}]
[1603,7.7499999999999999E-2,9.5100000000000004E-2,7.46E-2,7.46E-2,0.1759,0.1105,{"$f":"IF(Kalkulator!$B$35=TRUE,0,VLOOKUP(TODAY()+A1605,T:V,3,1)/100)","v":0.23}]
[1604,7.7499999999999999E-2,9.5100000000000004E-2,7.46E-2,7.46E-2,0.1759,0.1105,{"$f":"IF(Kalkulator!$B$35=TRUE,0,VLOOKUP(TODAY()+A1606,T:V,3,1)/100)","v":0.23}]
[1605,7.7499999999999999E-2,9.5100000000000004E-2,7.46E-2,7.46E-2,0.1759,0.1105,{"$f":"IF(Kalkulator!$B$35=TRUE,0,VLOOKUP(TODAY()+A1607,T:V,3,1)/100)","v":0.23}]
[1606,7.7499999999999999E-2,9.5100000000000004E-2,7.46E-2,7.46E-2,0.1759,0.1105,{"$f":"IF(Kalkulator!$B$35=TRUE,0,VLOOKUP(TODAY()+A1608,T:V,3,1)/100)","v":0.23}]
[1607,7.7499999999999999E-2,9.5100000000000004E-2,7.46E-2,7.46E-2,0.1759,0.1105,{"$f":"IF(Kalkulator!$B$35=TRUE,0,VLOOKUP(TODAY()+A1609,T:V,3,1)/100)","v":0.23}]
[1608,7.7499999999999999E-2,9.5100000000000004E-2,7.46E-2,7.46E-2,0.1759,0.1105,{"$f":"IF(Kalkulator!$B$35=TRUE,0,VLOOKUP(TODAY()+A1610,T:V,3,1)/100)","v":0.23}]
[1609,7.7499999999999999E-2,9.5100000000000004E-2,7.46E-2,7.46E-2,0.1759,0.1105,{"$f":"IF(Kalkulator!$B$35=TRUE,0,VLOOKUP(TODAY()+A1611,T:V,3,1)/100)","v":0.23}]
[1610,7.7499999999999999E-2,9.5100000000000004E-2,7.46E-2,7.46E-2,0.1759,0.1105,{"$f":"IF(Kalkulator!$B$35=TRUE,0,VLOOKUP(TODAY()+A1612,T:V,3,1)/100)","v":0.23}]
[1611,7.7499999999999999E-2,9.5100000000000004E-2,7.46E-2,7.46E-2,0.1759,0.1105,{"$f":"IF(Kalkulator!$B$35=TRUE,0,VLOOKUP(TODAY()+A1613,T:V,3,1)/100)","v":0.23}]
[1612,7.7499999999999999E-2,9.5100000000000004E-2,7.46E-2,7.46E-2,0.1759,0.1105,{"$f":"IF(Kalkulator!$B$35=TRUE,0,VLOOKUP(TODAY()+A1614,T:V,3,1)/100)","v":0.23}]
[1613,7.7499999999999999E-2,9.5100000000000004E-2,7.46E-2,7.46E-2,0.1759,0.1105,{"$f":"IF(Kalkulator!$B$35=TRUE,0,VLOOKUP(TODAY()+A1615,T:V,3,1)/100)","v":0.23}]
[1614,7.7499999999999999E-2,9.5100000000000004E-2,7.46E-2,7.46E-2,0.1759,0.1105,{"$f":"IF(Kalkulator!$B$35=TRUE,0,VLOOKUP(TODAY()+A1616,T:V,3,1)/100)","v":0.23}]
[1615,7.7499999999999999E-2,9.5100000000000004E-2,7.46E-2,7.46E-2,0.1759,0.1105,{"$f":"IF(Kalkulator!$B$35=TRUE,0,VLOOKUP(TODAY()+A1617,T:V,3,1)/100)","v":0.23}]
[1616,7.7499999999999999E-2,9.5100000000000004E-2,7.46E-2,7.46E-2,0.1759,0.1105,{"$f":"IF(Kalkulator!$B$35=TRUE,0,VLOOKUP(TODAY()+A1618,T:V,3,1)/100)","v":0.23}]
[1617,7.7499999999999999E-2,9.5100000000000004E-2,7.46E-2,7.46E-2,0.1759,0.1105,{"$f":"IF(Kalkulator!$B$35=TRUE,0,VLOOKUP(TODAY()+A1619,T:V,3,1)/100)","v":0.23}]
[1618,7.7499999999999999E-2,9.5100000000000004E-2,7.46E-2,7.46E-2,0.1759,0.1105,{"$f":"IF(Kalkulator!$B$35=TRUE,0,VLOOKUP(TODAY()+A1620,T:V,3,1)/100)","v":0.23}]
[1619,7.7499999999999999E-2,9.5100000000000004E-2,7.46E-2,7.46E-2,0.1759,0.1105,{"$f":"IF(Kalkulator!$B$35=TRUE,0,VLOOKUP(TODAY()+A1621,T:V,3,1)/100)","v":0.23}]
[1620,7.7499999999999999E-2,9.5100000000000004E-2,7.46E-2,7.46E-2,0.1759,0.1105,{"$f":"IF(Kalkulator!$B$35=TRUE,0,VLOOKUP(TODAY()+A1622,T:V,3,1)/100)","v":0.23}]
[1621,7.7499999999999999E-2,9.5100000000000004E-2,7.46E-2,7.46E-2,0.1759,0.1105,{"$f":"IF(Kalkulator!$B$35=TRUE,0,VLOOKUP(TODAY()+A1623,T:V,3,1)/100)","v":0.23}]
[1622,7.7499999999999999E-2,9.5100000000000004E-2,7.46E-2,7.46E-2,0.1759,0.1105,{"$f":"IF(Kalkulator!$B$35=TRUE,0,VLOOKUP(TODAY()+A1624,T:V,3,1)/100)","v":0.23}]
[1623,7.7499999999999999E-2,9.5100000000000004E-2,7.46E-2,7.46E-2,0.1759,0.1105,{"$f":"IF(Kalkulator!$B$35=TRUE,0,VLOOKUP(TODAY()+A1625,T:V,3,1)/100)","v":0.23}]
[1624,7.7499999999999999E-2,9.5100000000000004E-2,7.46E-2,7.46E-2,0.1759,0.1105,{"$f":"IF(Kalkulator!$B$35=TRUE,0,VLOOKUP(TODAY()+A1626,T:V,3,1)/100)","v":0.23}]
[1625,7.7499999999999999E-2,9.5100000000000004E-2,7.46E-2,7.46E-2,0.1759,0.1105,{"$f":"IF(Kalkulator!$B$35=TRUE,0,VLOOKUP(TODAY()+A1627,T:V,3,1)/100)","v":0.23}]
[1626,7.7499999999999999E-2,9.5100000000000004E-2,7.46E-2,7.46E-2,0.1759,0.1105,{"$f":"IF(Kalkulator!$B$35=TRUE,0,VLOOKUP(TODAY()+A1628,T:V,3,1)/100)","v":0.23}]
[1627,7.7499999999999999E-2,9.5100000000000004E-2,7.46E-2,7.46E-2,0.1759,0.1105,{"$f":"IF(Kalkulator!$B$35=TRUE,0,VLOOKUP(TODAY()+A1629,T:V,3,1)/100)","v":0.23}]
[1628,7.7499999999999999E-2,9.5100000000000004E-2,7.46E-2,7.46E-2,0.1759,0.1105,{"$f":"IF(Kalkulator!$B$35=TRUE,0,VLOOKUP(TODAY()+A1630,T:V,3,1)/100)","v":0.23}]
[1629,7.7499999999999999E-2,9.5100000000000004E-2,7.46E-2,7.46E-2,0.1759,0.1105,{"$f":"IF(Kalkulator!$B$35=TRUE,0,VLOOKUP(TODAY()+A1631,T:V,3,1)/100)","v":0.23}]
[1630,7.7499999999999999E-2,9.5100000000000004E-2,7.46E-2,7.46E-2,0.1759,0.1105,{"$f":"IF(Kalkulator!$B$35=TRUE,0,VLOOKUP(TODAY()+A1632,T:V,3,1)/100)","v":0.23}]
[1631,7.7499999999999999E-2,9.5100000000000004E-2,7.46E-2,7.46E-2,0.1759,0.1105,{"$f":"IF(Kalkulator!$B$35=TRUE,0,VLOOKUP(TODAY()+A1633,T:V,3,1)/100)","v":0.23}]
[1632,7.7499999999999999E-2,9.5100000000000004E-2,7.46E-2,7.46E-2,0.1759,0.1105,{"$f":"IF(Kalkulator!$B$35=TRUE,0,VLOOKUP(TODAY()+A1634,T:V,3,1)/100)","v":0.23}]
[1633,7.7499999999999999E-2,9.5100000000000004E-2,7.46E-2,7.46E-2,0.1759,0.1105,{"$f":"IF(Kalkulator!$B$35=TRUE,0,VLOOKUP(TODAY()+A1635,T:V,3,1)/100)","v":0.23}]
[1634,7.7499999999999999E-2,9.5100000000000004E-2,7.46E-2,7.46E-2,0.1759,0.1105,{"$f":"IF(Kalkulator!$B$35=TRUE,0,VLOOKUP(TODAY()+A1636,T:V,3,1)/100)","v":0.23}]
[1635,7.7499999999999999E-2,9.5100000000000004E-2,7.46E-2,7.46E-2,0.1759,0.1105,{"$f":"IF(Kalkulator!$B$35=TRUE,0,VLOOKUP(TODAY()+A1637,T:V,3,1)/100)","v":0.23}]
[1636,7.7499999999999999E-2,9.5100000000000004E-2,7.46E-2,7.46E-2,0.1759,0.1105,{"$f":"IF(Kalkulator!$B$35=TRUE,0,VLOOKUP(TODAY()+A1638,T:V,3,1)/100)","v":0.23}]
[1637,7.7499999999999999E-2,9.5100000000000004E-2,7.46E-2,7.46E-2,0.1759,0.1105,{"$f":"IF(Kalkulator!$B$35=TRUE,0,VLOOKUP(TODAY()+A1639,T:V,3,1)/100)","v":0.23}]
[1638,7.7499999999999999E-2,9.5100000000000004E-2,7.46E-2,7.46E-2,0.1759,0.1105,{"$f":"IF(Kalkulator!$B$35=TRUE,0,VLOOKUP(TODAY()+A1640,T:V,3,1)/100)","v":0.23}]
[1639,7.7499999999999999E-2,9.5100000000000004E-2,7.46E-2,7.46E-2,0.1759,0.1105,{"$f":"IF(Kalkulator!$B$35=TRUE,0,VLOOKUP(TODAY()+A1641,T:V,3,1)/100)","v":0.23}]
[1640,7.7499999999999999E-2,9.5100000000000004E-2,7.46E-2,7.46E-2,0.1759,0.1105,{"$f":"IF(Kalkulator!$B$35=TRUE,0,VLOOKUP(TODAY()+A1642,T:V,3,1)/100)","v":0.23}]
[1641,7.7499999999999999E-2,9.5100000000000004E-2,7.46E-2,7.46E-2,0.1759,0.1105,{"$f":"IF(Kalkulator!$B$35=TRUE,0,VLOOKUP(TODAY()+A1643,T:V,3,1)/100)","v":0.23}]
[1642,7.7499999999999999E-2,9.5100000000000004E-2,7.46E-2,7.46E-2,0.1759,0.1105,{"$f":"IF(Kalkulator!$B$35=TRUE,0,VLOOKUP(TODAY()+A1644,T:V,3,1)/100)","v":0.23}]
[1643,7.7499999999999999E-2,9.5100000000000004E-2,7.46E-2,7.46E-2,0.1759,0.1105,{"$f":"IF(Kalkulator!$B$35=TRUE,0,VLOOKUP(TODAY()+A1645,T:V,3,1)/100)","v":0.23}]
[1644,7.7499999999999999E-2,9.5100000000000004E-2,7.46E-2,7.46E-2,0.1759,0.1105,{"$f":"IF(Kalkulator!$B$35=TRUE,0,VLOOKUP(TODAY()+A1646,T:V,3,1)/100)","v":0.23}]
[1645,7.7499999999999999E-2,9.5100000000000004E-2,7.46E-2,7.46E-2,0.1759,0.1105,{"$f":"IF(Kalkulator!$B$35=TRUE,0,VLOOKUP(TODAY()+A1647,T:V,3,1)/100)","v":0.23}]
[1646,7.7499999999999999E-2,9.5100000000000004E-2,7.46E-2,7.46E-2,0.1759,0.1105,{"$f":"IF(Kalkulator!$B$35=TRUE,0,VLOOKUP(TODAY()+A1648,T:V,3,1)/100)","v":0.23}]
[1647,7.7499999999999999E-2,9.5100000000000004E-2,7.46E-2,7.46E-2,0.1759,0.1105,{"$f":"IF(Kalkulator!$B$35=TRUE,0,VLOOKUP(TODAY()+A1649,T:V,3,1)/100)","v":0.23}]
[1648,7.7499999999999999E-2,9.5100000000000004E-2,7.46E-2,7.46E-2,0.1759,0.1105,{"$f":"IF(Kalkulator!$B$35=TRUE,0,VLOOKUP(TODAY()+A1650,T:V,3,1)/100)","v":0.23}]
[1649,7.7499999999999999E-2,9.5100000000000004E-2,7.46E-2,7.46E-2,0.1759,0.1105,{"$f":"IF(Kalkulator!$B$35=TRUE,0,VLOOKUP(TODAY()+A1651,T:V,3,1)/100)","v":0.23}]
[1650,7.7499999999999999E-2,9.5100000000000004E-2,7.46E-2,7.46E-2,0.1759,0.1105,{"$f":"IF(Kalkulator!$B$35=TRUE,0,VLOOKUP(TODAY()+A1652,T:V,3,1)/100)","v":0.23}]
[1651,7.7499999999999999E-2,9.5100000000000004E-2,7.46E-2,7.46E-2,0.1759,0.1105,{"$f":"IF(Kalkulator!$B$35=TRUE,0,VLOOKUP(TODAY()+A1653,T:V,3,1)/100)","v":0.23}]
[1652,7.7499999999999999E-2,9.5100000000000004E-2,7.46E-2,7.46E-2,0.1759,0.1105,{"$f":"IF(Kalkulator!$B$35=TRUE,0,VLOOKUP(TODAY()+A1654,T:V,3,1)/100)","v":0.23}]
[1653,7.7499999999999999E-2,9.5100000000000004E-2,7.46E-2,7.46E-2,0.1759,0.1105,{"$f":"IF(Kalkulator!$B$35=TRUE,0,VLOOKUP(TODAY()+A1655,T:V,3,1)/100)","v":0.23}]
[1654,7.7499999999999999E-2,9.5100000000000004E-2,7.46E-2,7.46E-2,0.1759,0.1105,{"$f":"IF(Kalkulator!$B$35=TRUE,0,VLOOKUP(TODAY()+A1656,T:V,3,1)/100)","v":0.23}]
[1655,7.7499999999999999E-2,9.5100000000000004E-2,7.46E-2,7.46E-2,0.1759,0.1105,{"$f":"IF(Kalkulator!$B$35=TRUE,0,VLOOKUP(TODAY()+A1657,T:V,3,1)/100)","v":0.23}]
[1656,7.7499999999999999E-2,9.5100000000000004E-2,7.46E-2,7.46E-2,0.1759,0.1105,{"$f":"IF(Kalkulator!$B$35=TRUE,0,VLOOKUP(TODAY()+A1658,T:V,3,1)/100)","v":0.23}]
[1657,7.7499999999999999E-2,9.5100000000000004E-2,7.46E-2,7.46E-2,0.1759,0.1105,{"$f":"IF(Kalkulator!$B$35=TRUE,0,VLOOKUP(TODAY()+A1659,T:V,3,1)/100)","v":0.23}]
[1658,7.7499999999999999E-2,9.5100000000000004E-2,7.46E-2,7.46E-2,0.1759,0.1105,{"$f":"IF(Kalkulator!$B$35=TRUE,0,VLOOKUP(TODAY()+A1660,T:V,3,1)/100)","v":0.23}]
[1659,7.7499999999999999E-2,9.5100000000000004E-2,7.46E-2,7.46E-2,0.1759,0.1105,{"$f":"IF(Kalkulator!$B$35=TRUE,0,VLOOKUP(TODAY()+A1661,T:V,3,1)/100)","v":0.23}]
[1660,7.7499999999999999E-2,9.5100000000000004E-2,7.46E-2,7.46E-2,0.1759,0.1105,{"$f":"IF(Kalkulator!$B$35=TRUE,0,VLOOKUP(TODAY()+A1662,T:V,3,1)/100)","v":0.23}]
[1661,7.7499999999999999E-2,9.5100000000000004E-2,7.46E-2,7.46E-2,0.1759,0.1105,{"$f":"IF(Kalkulator!$B$35=TRUE,0,VLOOKUP(TODAY()+A1663,T:V,3,1)/100)","v":0.23}]
[1662,7.7499999999999999E-2,9.5100000000000004E-2,7.46E-2,7.46E-2,0.1759,0.1105,{"$f":"IF(Kalkulator!$B$35=TRUE,0,VLOOKUP(TODAY()+A1664,T:V,3,1)/100)","v":0.23}]
[1663,7.7499999999999999E-2,9.5100000000000004E-2,7.46E-2,7.46E-2,0.1759,0.1105,{"$f":"IF(Kalkulator!$B$35=TRUE,0,VLOOKUP(TODAY()+A1665,T:V,3,1)/100)","v":0.23}]
[1664,7.7499999999999999E-2,9.5100000000000004E-2,7.46E-2,7.46E-2,0.1759,0.1105,{"$f":"IF(Kalkulator!$B$35=TRUE,0,VLOOKUP(TODAY()+A1666,T:V,3,1)/100)","v":0.23}]
[1665,7.7499999999999999E-2,9.5100000000000004E-2,7.46E-2,7.46E-2,0.1759,0.1105,{"$f":"IF(Kalkulator!$B$35=TRUE,0,VLOOKUP(TODAY()+A1667,T:V,3,1)/100)","v":0.23}]
[1666,7.7499999999999999E-2,9.5100000000000004E-2,7.46E-2,7.46E-2,0.1759,0.1105,{"$f":"IF(Kalkulator!$B$35=TRUE,0,VLOOKUP(TODAY()+A1668,T:V,3,1)/100)","v":0.23}]
[1667,7.7499999999999999E-2,9.5100000000000004E-2,7.46E-2,7.46E-2,0.1759,0.1105,{"$f":"IF(Kalkulator!$B$35=TRUE,0,VLOOKUP(TODAY()+A1669,T:V,3,1)/100)","v":0.23}]
[1668,7.7499999999999999E-2,9.5100000000000004E-2,7.46E-2,7.46E-2,0.1759,0.1105,{"$f":"IF(Kalkulator!$B$35=TRUE,0,VLOOKUP(TODAY()+A1670,T:V,3,1)/100)","v":0.23}]
[1669,7.7499999999999999E-2,9.5100000000000004E-2,7.46E-2,7.46E-2,0.1759,0.1105,{"$f":"IF(Kalkulator!$B$35=TRUE,0,VLOOKUP(TODAY()+A1671,T:V,3,1)/100)","v":0.23}]
[1670,7.7499999999999999E-2,9.5100000000000004E-2,7.46E-2,7.46E-2,0.1759,0.1105,{"$f":"IF(Kalkulator!$B$35=TRUE,0,VLOOKUP(TODAY()+A1672,T:V,3,1)/100)","v":0.23}]
[1671,7.7499999999999999E-2,9.5100000000000004E-2,7.46E-2,7.46E-2,0.1759,0.1105,{"$f":"IF(Kalkulator!$B$35=TRUE,0,VLOOKUP(TODAY()+A1673,T:V,3,1)/100)","v":0.23}]
[1672,7.7499999999999999E-2,9.5100000000000004E-2,7.46E-2,7.46E-2,0.1759,0.1105,{"$f":"IF(Kalkulator!$B$35=TRUE,0,VLOOKUP(TODAY()+A1674,T:V,3,1)/100)","v":0.23}]
[1673,7.7499999999999999E-2,9.5100000000000004E-2,7.46E-2,7.46E-2,0.1759,0.1105,{"$f":"IF(Kalkulator!$B$35=TRUE,0,VLOOKUP(TODAY()+A1675,T:V,3,1)/100)","v":0.23}]
[1674,7.7499999999999999E-2,9.5100000000000004E-2,7.46E-2,7.46E-2,0.1759,0.1105,{"$f":"IF(Kalkulator!$B$35=TRUE,0,VLOOKUP(TODAY()+A1676,T:V,3,1)/100)","v":0.23}]
[1675,7.7499999999999999E-2,9.5100000000000004E-2,7.46E-2,7.46E-2,0.1759,0.1105,{"$f":"IF(Kalkulator!$B$35=TRUE,0,VLOOKUP(TODAY()+A1677,T:V,3,1)/100)","v":0.23}]
[1676,7.7499999999999999E-2,9.5100000000000004E-2,7.46E-2,7.46E-2,0.1759,0.1105,{"$f":"IF(Kalkulator!$B$35=TRUE,0,VLOOKUP(TODAY()+A1678,T:V,3,1)/100)","v":0.23}]
[1677,7.7499999999999999E-2,9.5100000000000004E-2,7.46E-2,7.46E-2,0.1759,0.1105,{"$f":"IF(Kalkulator!$B$35=TRUE,0,VLOOKUP(TODAY()+A1679,T:V,3,1)/100)","v":0.23}]
[1678,7.7499999999999999E-2,9.5100000000000004E-2,7.46E-2,7.46E-2,0.1759,0.1105,{"$f":"IF(Kalkulator!$B$35=TRUE,0,VLOOKUP(TODAY()+A1680,T:V,3,1)/100)","v":0.23}]
[1679,7.7499999999999999E-2,9.5100000000000004E-2,7.46E-2,7.46E-2,0.1759,0.1105,{"$f":"IF(Kalkulator!$B$35=TRUE,0,VLOOKUP(TODAY()+A1681,T:V,3,1)/100)","v":0.23}]
[1680,7.7499999999999999E-2,9.5100000000000004E-2,7.46E-2,7.46E-2,0.1759,0.1105,{"$f":"IF(Kalkulator!$B$35=TRUE,0,VLOOKUP(TODAY()+A1682,T:V,3,1)/100)","v":0.23}]
[1681,7.7499999999999999E-2,9.5100000000000004E-2,7.46E-2,7.46E-2,0.1759,0.1105,{"$f":"IF(Kalkulator!$B$35=TRUE,0,VLOOKUP(TODAY()+A1683,T:V,3,1)/100)","v":0.23}]
[1682,7.7499999999999999E-2,9.5100000000000004E-2,7.46E-2,7.46E-2,0.1759,0.1105,{"$f":"IF(Kalkulator!$B$35=TRUE,0,VLOOKUP(TODAY()+A1684,T:V,3,1)/100)","v":0.23}]
[1683,7.7499999999999999E-2,9.5100000000000004E-2,7.46E-2,7.46E-2,0.1759,0.1105,{"$f":"IF(Kalkulator!$B$35=TRUE,0,VLOOKUP(TODAY()+A1685,T:V,3,1)/100)","v":0.23}]
[1684,7.7499999999999999E-2,9.5100000000000004E-2,7.46E-2,7.46E-2,0.1759,0.1105,{"$f":"IF(Kalkulator!$B$35=TRUE,0,VLOOKUP(TODAY()+A1686,T:V,3,1)/100)","v":0.23}]
[1685,7.7499999999999999E-2,9.5100000000000004E-2,7.46E-2,7.46E-2,0.1759,0.1105,{"$f":"IF(Kalkulator!$B$35=TRUE,0,VLOOKUP(TODAY()+A1687,T:V,3,1)/100)","v":0.23}]
[1686,7.7499999999999999E-2,9.5100000000000004E-2,7.46E-2,7.46E-2,0.1759,0.1105,{"$f":"IF(Kalkulator!$B$35=TRUE,0,VLOOKUP(TODAY()+A1688,T:V,3,1)/100)","v":0.23}]
[1687,7.7499999999999999E-2,9.5100000000000004E-2,7.46E-2,7.46E-2,0.1759,0.1105,{"$f":"IF(Kalkulator!$B$35=TRUE,0,VLOOKUP(TODAY()+A1689,T:V,3,1)/100)","v":0.23}]
[1688,7.7499999999999999E-2,9.5100000000000004E-2,7.46E-2,7.46E-2,0.1759,0.1105,{"$f":"IF(Kalkulator!$B$35=TRUE,0,VLOOKUP(TODAY()+A1690,T:V,3,1)/100)","v":0.23}]
[1689,7.7499999999999999E-2,9.5100000000000004E-2,7.46E-2,7.46E-2,0.1759,0.1105,{"$f":"IF(Kalkulator!$B$35=TRUE,0,VLOOKUP(TODAY()+A1691,T:V,3,1)/100)","v":0.23}]
[1690,7.7499999999999999E-2,9.5100000000000004E-2,7.46E-2,7.46E-2,0.1759,0.1105,{"$f":"IF(Kalkulator!$B$35=TRUE,0,VLOOKUP(TODAY()+A1692,T:V,3,1)/100)","v":0.23}]
[1691,7.7499999999999999E-2,9.5100000000000004E-2,7.46E-2,7.46E-2,0.1759,0.1105,{"$f":"IF(Kalkulator!$B$35=TRUE,0,VLOOKUP(TODAY()+A1693,T:V,3,1)/100)","v":0.23}]
[1692,7.7499999999999999E-2,9.5100000000000004E-2,7.46E-2,7.46E-2,0.1759,0.1105,{"$f":"IF(Kalkulator!$B$35=TRUE,0,VLOOKUP(TODAY()+A1694,T:V,3,1)/100)","v":0.23}]
[1693,7.7499999999999999E-2,9.5100000000000004E-2,7.46E-2,7.46E-2,0.1759,0.1105,{"$f":"IF(Kalkulator!$B$35=TRUE,0,VLOOKUP(TODAY()+A1695,T:V,3,1)/100)","v":0.23}]
[1694,7.7499999999999999E-2,9.5100000000000004E-2,7.46E-2,7.46E-2,0.1759,0.1105,{"$f":"IF(Kalkulator!$B$35=TRUE,0,VLOOKUP(TODAY()+A1696,T:V,3,1)/100)","v":0.23}]
[1695,7.7499999999999999E-2,9.5100000000000004E-2,7.46E-2,7.46E-2,0.1759,0.1105,{"$f":"IF(Kalkulator!$B$35=TRUE,0,VLOOKUP(TODAY()+A1697,T:V,3,1)/100)","v":0.23}]
[1696,7.7499999999999999E-2,9.5100000000000004E-2,7.46E-2,7.46E-2,0.1759,0.1105,{"$f":"IF(Kalkulator!$B$35=TRUE,0,VLOOKUP(TODAY()+A1698,T:V,3,1)/100)","v":0.23}]
[1697,7.7499999999999999E-2,9.5100000000000004E-2,7.46E-2,7.46E-2,0.1759,0.1105,{"$f":"IF(Kalkulator!$B$35=TRUE,0,VLOOKUP(TODAY()+A1699,T:V,3,1)/100)","v":0.23}]
[1698,7.7499999999999999E-2,9.5100000000000004E-2,7.46E-2,7.46E-2,0.1759,0.1105,{"$f":"IF(Kalkulator!$B$35=TRUE,0,VLOOKUP(TODAY()+A1700,T:V,3,1)/100)","v":0.23}]
[1699,7.7499999999999999E-2,9.5100000000000004E-2,7.46E-2,7.46E-2,0.1759,0.1105,{"$f":"IF(Kalkulator!$B$35=TRUE,0,VLOOKUP(TODAY()+A1701,T:V,3,1)/100)","v":0.23}]
[1700,7.7499999999999999E-2,9.5100000000000004E-2,7.46E-2,7.46E-2,0.1759,0.1105,{"$f":"IF(Kalkulator!$B$35=TRUE,0,VLOOKUP(TODAY()+A1702,T:V,3,1)/100)","v":0.23}]
[1701,7.7499999999999999E-2,9.5100000000000004E-2,7.46E-2,7.46E-2,0.1759,0.1105,{"$f":"IF(Kalkulator!$B$35=TRUE,0,VLOOKUP(TODAY()+A1703,T:V,3,1)/100)","v":0.23}]
[1702,7.7499999999999999E-2,9.5100000000000004E-2,7.46E-2,7.46E-2,0.1759,0.1105,{"$f":"IF(Kalkulator!$B$35=TRUE,0,VLOOKUP(TODAY()+A1704,T:V,3,1)/100)","v":0.23}]
[1703,7.7499999999999999E-2,9.5100000000000004E-2,7.46E-2,7.46E-2,0.1759,0.1105,{"$f":"IF(Kalkulator!$B$35=TRUE,0,VLOOKUP(TODAY()+A1705,T:V,3,1)/100)","v":0.23}]
[1704,7.7499999999999999E-2,9.5100000000000004E-2,7.46E-2,7.46E-2,0.1759,0.1105,{"$f":"IF(Kalkulator!$B$35=TRUE,0,VLOOKUP(TODAY()+A1706,T:V,3,1)/100)","v":0.23}]
[1705,7.7499999999999999E-2,9.5100000000000004E-2,7.46E-2,7.46E-2,0.1759,0.1105,{"$f":"IF(Kalkulator!$B$35=TRUE,0,VLOOKUP(TODAY()+A1707,T:V,3,1)/100)","v":0.23}]
[1706,7.7499999999999999E-2,9.5100000000000004E-2,7.46E-2,7.46E-2,0.1759,0.1105,{"$f":"IF(Kalkulator!$B$35=TRUE,0,VLOOKUP(TODAY()+A1708,T:V,3,1)/100)","v":0.23}]
[1707,7.7499999999999999E-2,9.5100000000000004E-2,7.46E-2,7.46E-2,0.1759,0.1105,{"$f":"IF(Kalkulator!$B$35=TRUE,0,VLOOKUP(TODAY()+A1709,T:V,3,1)/100)","v":0.23}]
[1708,7.7499999999999999E-2,9.5100000000000004E-2,7.46E-2,7.46E-2,0.1759,0.1105,{"$f":"IF(Kalkulator!$B$35=TRUE,0,VLOOKUP(TODAY()+A1710,T:V,3,1)/100)","v":0.23}]
[1709,7.7499999999999999E-2,9.5100000000000004E-2,7.46E-2,7.46E-2,0.1759,0.1105,{"$f":"IF(Kalkulator!$B$35=TRUE,0,VLOOKUP(TODAY()+A1711,T:V,3,1)/100)","v":0.23}]
[1710,7.7499999999999999E-2,9.5100000000000004E-2,7.46E-2,7.46E-2,0.1759,0.1105,{"$f":"IF(Kalkulator!$B$35=TRUE,0,VLOOKUP(TODAY()+A1712,T:V,3,1)/100)","v":0.23}]
[1711,7.7499999999999999E-2,9.5100000000000004E-2,7.46E-2,7.46E-2,0.1759,0.1105,{"$f":"IF(Kalkulator!$B$35=TRUE,0,VLOOKUP(TODAY()+A1713,T:V,3,1)/100)","v":0.23}]
[1712,7.7499999999999999E-2,9.5100000000000004E-2,7.46E-2,7.46E-2,0.1759,0.1105,{"$f":"IF(Kalkulator!$B$35=TRUE,0,VLOOKUP(TODAY()+A1714,T:V,3,1)/100)","v":0.23}]
[1713,7.7499999999999999E-2,9.5100000000000004E-2,7.46E-2,7.46E-2,0.1759,0.1105,{"$f":"IF(Kalkulator!$B$35=TRUE,0,VLOOKUP(TODAY()+A1715,T:V,3,1)/100)","v":0.23}]
[1714,7.7499999999999999E-2,9.5100000000000004E-2,7.46E-2,7.46E-2,0.1759,0.1105,{"$f":"IF(Kalkulator!$B$35=TRUE,0,VLOOKUP(TODAY()+A1716,T:V,3,1)/100)","v":0.23}]
[1715,7.7499999999999999E-2,9.5100000000000004E-2,7.46E-2,7.46E-2,0.1759,0.1105,{"$f":"IF(Kalkulator!$B$35=TRUE,0,VLOOKUP(TODAY()+A1717,T:V,3,1)/100)","v":0.23}]
[1716,7.7499999999999999E-2,9.5100000000000004E-2,7.46E-2,7.46E-2,0.1759,0.1105,{"$f":"IF(Kalkulator!$B$35=TRUE,0,VLOOKUP(TODAY()+A1718,T:V,3,1)/100)","v":0.23}]
[1717,7.7499999999999999E-2,9.5100000000000004E-2,7.46E-2,7.46E-2,0.1759,0.1105,{"$f":"IF(Kalkulator!$B$35=TRUE,0,VLOOKUP(TODAY()+A1719,T:V,3,1)/100)","v":0.23}]
[1718,7.7499999999999999E-2,9.5100000000000004E-2,7.46E-2,7.46E-2,0.1759,0.1105,{"$f":"IF(Kalkulator!$B$35=TRUE,0,VLOOKUP(TODAY()+A1720,T:V,3,1)/100)","v":0.23}]
[1719,7.7499999999999999E-2,9.5100000000000004E-2,7.46E-2,7.46E-2,0.1759,0.1105,{"$f":"IF(Kalkulator!$B$35=TRUE,0,VLOOKUP(TODAY()+A1721,T:V,3,1)/100)","v":0.23}]
[1720,7.7499999999999999E-2,9.5100000000000004E-2,7.46E-2,7.46E-2,0.1759,0.1105,{"$f":"IF(Kalkulator!$B$35=TRUE,0,VLOOKUP(TODAY()+A1722,T:V,3,1)/100)","v":0.23}]
[1721,7.7499999999999999E-2,9.5100000000000004E-2,7.46E-2,7.46E-2,0.1759,0.1105,{"$f":"IF(Kalkulator!$B$35=TRUE,0,VLOOKUP(TODAY()+A1723,T:V,3,1)/100)","v":0.23}]
[1722,7.7499999999999999E-2,9.5100000000000004E-2,7.46E-2,7.46E-2,0.1759,0.1105,{"$f":"IF(Kalkulator!$B$35=TRUE,0,VLOOKUP(TODAY()+A1724,T:V,3,1)/100)","v":0.23}]
[1723,7.7499999999999999E-2,9.5100000000000004E-2,7.46E-2,7.46E-2,0.1759,0.1105,{"$f":"IF(Kalkulator!$B$35=TRUE,0,VLOOKUP(TODAY()+A1725,T:V,3,1)/100)","v":0.23}]
[1724,7.7499999999999999E-2,9.5100000000000004E-2,7.46E-2,7.46E-2,0.1759,0.1105,{"$f":"IF(Kalkulator!$B$35=TRUE,0,VLOOKUP(TODAY()+A1726,T:V,3,1)/100)","v":0.23}]
[1725,7.7499999999999999E-2,9.5100000000000004E-2,7.46E-2,7.46E-2,0.1759,0.1105,{"$f":"IF(Kalkulator!$B$35=TRUE,0,VLOOKUP(TODAY()+A1727,T:V,3,1)/100)","v":0.23}]
[1726,7.7499999999999999E-2,9.5100000000000004E-2,7.46E-2,7.46E-2,0.1759,0.1105,{"$f":"IF(Kalkulator!$B$35=TRUE,0,VLOOKUP(TODAY()+A1728,T:V,3,1)/100)","v":0.23}]
[1727,7.7499999999999999E-2,9.5100000000000004E-2,7.46E-2,7.46E-2,0.1759,0.1105,{"$f":"IF(Kalkulator!$B$35=TRUE,0,VLOOKUP(TODAY()+A1729,T:V,3,1)/100)","v":0.23}]
[1728,7.7499999999999999E-2,9.5100000000000004E-2,7.46E-2,7.46E-2,0.1759,0.1105,{"$f":"IF(Kalkulator!$B$35=TRUE,0,VLOOKUP(TODAY()+A1730,T:V,3,1)/100)","v":0.23}]
[1729,7.7499999999999999E-2,9.5100000000000004E-2,7.46E-2,7.46E-2,0.1759,0.1105,{"$f":"IF(Kalkulator!$B$35=TRUE,0,VLOOKUP(TODAY()+A1731,T:V,3,1)/100)","v":0.23}]
[1730,7.7499999999999999E-2,9.5100000000000004E-2,7.46E-2,7.46E-2,0.1759,0.1105,{"$f":"IF(Kalkulator!$B$35=TRUE,0,VLOOKUP(TODAY()+A1732,T:V,3,1)/100)","v":0.23}]
[1731,7.7499999999999999E-2,9.5100000000000004E-2,7.46E-2,7.46E-2,0.1759,0.1105,{"$f":"IF(Kalkulator!$B$35=TRUE,0,VLOOKUP(TODAY()+A1733,T:V,3,1)/100)","v":0.23}]
[1732,7.7499999999999999E-2,9.5100000000000004E-2,7.46E-2,7.46E-2,0.1759,0.1105,{"$f":"IF(Kalkulator!$B$35=TRUE,0,VLOOKUP(TODAY()+A1734,T:V,3,1)/100)","v":0.23}]
[1733,7.7499999999999999E-2,9.5100000000000004E-2,7.46E-2,7.46E-2,0.1759,0.1105,{"$f":"IF(Kalkulator!$B$35=TRUE,0,VLOOKUP(TODAY()+A1735,T:V,3,1)/100)","v":0.23}]
[1734,7.7499999999999999E-2,9.5100000000000004E-2,7.46E-2,7.46E-2,0.1759,0.1105,{"$f":"IF(Kalkulator!$B$35=TRUE,0,VLOOKUP(TODAY()+A1736,T:V,3,1)/100)","v":0.23}]
[1735,7.7499999999999999E-2,9.5100000000000004E-2,7.46E-2,7.46E-2,0.1759,0.1105,{"$f":"IF(Kalkulator!$B$35=TRUE,0,VLOOKUP(TODAY()+A1737,T:V,3,1)/100)","v":0.23}]
[1736,7.7499999999999999E-2,9.5100000000000004E-2,7.46E-2,7.46E-2,0.1759,0.1105,{"$f":"IF(Kalkulator!$B$35=TRUE,0,VLOOKUP(TODAY()+A1738,T:V,3,1)/100)","v":0.23}]
[1737,7.7499999999999999E-2,9.5100000000000004E-2,7.46E-2,7.46E-2,0.1759,0.1105,{"$f":"IF(Kalkulator!$B$35=TRUE,0,VLOOKUP(TODAY()+A1739,T:V,3,1)/100)","v":0.23}]
[1738,7.7499999999999999E-2,9.5100000000000004E-2,7.46E-2,7.46E-2,0.1759,0.1105,{"$f":"IF(Kalkulator!$B$35=TRUE,0,VLOOKUP(TODAY()+A1740,T:V,3,1)/100)","v":0.23}]
[1739,7.7499999999999999E-2,9.5100000000000004E-2,7.46E-2,7.46E-2,0.1759,0.1105,{"$f":"IF(Kalkulator!$B$35=TRUE,0,VLOOKUP(TODAY()+A1741,T:V,3,1)/100)","v":0.23}]
[1740,7.7499999999999999E-2,9.5100000000000004E-2,7.46E-2,7.46E-2,0.1759,0.1105,{"$f":"IF(Kalkulator!$B$35=TRUE,0,VLOOKUP(TODAY()+A1742,T:V,3,1)/100)","v":0.23}]
[1741,7.7499999999999999E-2,9.5100000000000004E-2,7.46E-2,7.46E-2,0.1759,0.1105,{"$f":"IF(Kalkulator!$B$35=TRUE,0,VLOOKUP(TODAY()+A1743,T:V,3,1)/100)","v":0.23}]
[1742,7.7499999999999999E-2,9.5100000000000004E-2,7.46E-2,7.46E-2,0.1759,0.1105,{"$f":"IF(Kalkulator!$B$35=TRUE,0,VLOOKUP(TODAY()+A1744,T:V,3,1)/100)","v":0.23}]
[1743,7.7499999999999999E-2,9.5100000000000004E-2,7.46E-2,7.46E-2,0.1759,0.1105,{"$f":"IF(Kalkulator!$B$35=TRUE,0,VLOOKUP(TODAY()+A1745,T:V,3,1)/100)","v":0.23}]
[1744,7.7499999999999999E-2,9.5100000000000004E-2,7.46E-2,7.46E-2,0.1759,0.1105,{"$f":"IF(Kalkulator!$B$35=TRUE,0,VLOOKUP(TODAY()+A1746,T:V,3,1)/100)","v":0.23}]
[1745,7.7499999999999999E-2,9.5100000000000004E-2,7.46E-2,7.46E-2,0.1759,0.1105,{"$f":"IF(Kalkulator!$B$35=TRUE,0,VLOOKUP(TODAY()+A1747,T:V,3,1)/100)","v":0.23}]
[1746,7.7499999999999999E-2,9.5100000000000004E-2,7.46E-2,7.46E-2,0.1759,0.1105,{"$f":"IF(Kalkulator!$B$35=TRUE,0,VLOOKUP(TODAY()+A1748,T:V,3,1)/100)","v":0.23}]
[1747,7.7499999999999999E-2,9.5100000000000004E-2,7.46E-2,7.46E-2,0.1759,0.1105,{"$f":"IF(Kalkulator!$B$35=TRUE,0,VLOOKUP(TODAY()+A1749,T:V,3,1)/100)","v":0.23}]
[1748,7.7499999999999999E-2,9.5100000000000004E-2,7.46E-2,7.46E-2,0.1759,0.1105,{"$f":"IF(Kalkulator!$B$35=TRUE,0,VLOOKUP(TODAY()+A1750,T:V,3,1)/100)","v":0.23}]
[1749,7.7499999999999999E-2,9.5100000000000004E-2,7.46E-2,7.46E-2,0.1759,0.1105,{"$f":"IF(Kalkulator!$B$35=TRUE,0,VLOOKUP(TODAY()+A1751,T:V,3,1)/100)","v":0.23}]
[1750,7.7499999999999999E-2,9.5100000000000004E-2,7.46E-2,7.46E-2,0.1759,0.1105,{"$f":"IF(Kalkulator!$B$35=TRUE,0,VLOOKUP(TODAY()+A1752,T:V,3,1)/100)","v":0.23}]
[1751,7.7499999999999999E-2,9.5100000000000004E-2,7.46E-2,7.46E-2,0.1759,0.1105,{"$f":"IF(Kalkulator!$B$35=TRUE,0,VLOOKUP(TODAY()+A1753,T:V,3,1)/100)","v":0.23}]
[1752,7.7499999999999999E-2,9.5100000000000004E-2,7.46E-2,7.46E-2,0.1759,0.1105,{"$f":"IF(Kalkulator!$B$35=TRUE,0,VLOOKUP(TODAY()+A1754,T:V,3,1)/100)","v":0.23}]
[1753,7.7499999999999999E-2,9.5100000000000004E-2,7.46E-2,7.46E-2,0.1759,0.1105,{"$f":"IF(Kalkulator!$B$35=TRUE,0,VLOOKUP(TODAY()+A1755,T:V,3,1)/100)","v":0.23}]
[1754,7.7499999999999999E-2,9.5100000000000004E-2,7.46E-2,7.46E-2,0.1759,0.1105,{"$f":"IF(Kalkulator!$B$35=TRUE,0,VLOOKUP(TODAY()+A1756,T:V,3,1)/100)","v":0.23}]
[1755,7.7499999999999999E-2,9.5100000000000004E-2,7.46E-2,7.46E-2,0.1759,0.1105,{"$f":"IF(Kalkulator!$B$35=TRUE,0,VLOOKUP(TODAY()+A1757,T:V,3,1)/100)","v":0.23}]
[1756,7.7499999999999999E-2,9.5100000000000004E-2,7.46E-2,7.46E-2,0.1759,0.1105,{"$f":"IF(Kalkulator!$B$35=TRUE,0,VLOOKUP(TODAY()+A1758,T:V,3,1)/100)","v":0.23}]
[1757,7.7499999999999999E-2,9.5100000000000004E-2,7.46E-2,7.46E-2,0.1759,0.1105,{"$f":"IF(Kalkulator!$B$35=TRUE,0,VLOOKUP(TODAY()+A1759,T:V,3,1)/100)","v":0.23}]
[1758,7.7499999999999999E-2,9.5100000000000004E-2,7.46E-2,7.46E-2,0.1759,0.1105,{"$f":"IF(Kalkulator!$B$35=TRUE,0,VLOOKUP(TODAY()+A1760,T:V,3,1)/100)","v":0.23}]
[1759,7.7499999999999999E-2,9.5100000000000004E-2,7.46E-2,7.46E-2,0.1759,0.1105,{"$f":"IF(Kalkulator!$B$35=TRUE,0,VLOOKUP(TODAY()+A1761,T:V,3,1)/100)","v":0.23}]
[1760,7.7499999999999999E-2,9.5100000000000004E-2,7.46E-2,7.46E-2,0.1759,0.1105,{"$f":"IF(Kalkulator!$B$35=TRUE,0,VLOOKUP(TODAY()+A1762,T:V,3,1)/100)","v":0.23}]
[1761,7.7499999999999999E-2,9.5100000000000004E-2,7.46E-2,7.46E-2,0.1759,0.1105,{"$f":"IF(Kalkulator!$B$35=TRUE,0,VLOOKUP(TODAY()+A1763,T:V,3,1)/100)","v":0.23}]
[1762,7.7499999999999999E-2,9.5100000000000004E-2,7.46E-2,7.46E-2,0.1759,0.1105,{"$f":"IF(Kalkulator!$B$35=TRUE,0,VLOOKUP(TODAY()+A1764,T:V,3,1)/100)","v":0.23}]
[1763,7.7499999999999999E-2,9.5100000000000004E-2,7.46E-2,7.46E-2,0.1759,0.1105,{"$f":"IF(Kalkulator!$B$35=TRUE,0,VLOOKUP(TODAY()+A1765,T:V,3,1)/100)","v":0.23}]
[1764,7.7499999999999999E-2,9.5100000000000004E-2,7.46E-2,7.46E-2,0.1759,0.1105,{"$f":"IF(Kalkulator!$B$35=TRUE,0,VLOOKUP(TODAY()+A1766,T:V,3,1)/100)","v":0.23}]
[1765,7.7499999999999999E-2,9.5100000000000004E-2,7.46E-2,7.46E-2,0.1759,0.1105,{"$f":"IF(Kalkulator!$B$35=TRUE,0,VLOOKUP(TODAY()+A1767,T:V,3,1)/100)","v":0.23}]
[1766,7.7499999999999999E-2,9.5100000000000004E-2,7.46E-2,7.46E-2,0.1759,0.1105,{"$f":"IF(Kalkulator!$B$35=TRUE,0,VLOOKUP(TODAY()+A1768,T:V,3,1)/100)","v":0.23}]
[1767,7.7499999999999999E-2,9.5100000000000004E-2,7.46E-2,7.46E-2,0.1759,0.1105,{"$f":"IF(Kalkulator!$B$35=TRUE,0,VLOOKUP(TODAY()+A1769,T:V,3,1)/100)","v":0.23}]
[1768,7.7499999999999999E-2,9.5100000000000004E-2,7.46E-2,7.46E-2,0.1759,0.1105,{"$f":"IF(Kalkulator!$B$35=TRUE,0,VLOOKUP(TODAY()+A1770,T:V,3,1)/100)","v":0.23}]
[1769,7.7499999999999999E-2,9.5100000000000004E-2,7.46E-2,7.46E-2,0.1759,0.1105,{"$f":"IF(Kalkulator!$B$35=TRUE,0,VLOOKUP(TODAY()+A1771,T:V,3,1)/100)","v":0.23}]
[1770,7.7499999999999999E-2,9.5100000000000004E-2,7.46E-2,7.46E-2,0.1759,0.1105,{"$f":"IF(Kalkulator!$B$35=TRUE,0,VLOOKUP(TODAY()+A1772,T:V,3,1)/100)","v":0.23}]
[1771,7.7499999999999999E-2,9.5100000000000004E-2,7.46E-2,7.46E-2,0.1759,0.1105,{"$f":"IF(Kalkulator!$B$35=TRUE,0,VLOOKUP(TODAY()+A1773,T:V,3,1)/100)","v":0.23}]
[1772,7.7499999999999999E-2,9.5100000000000004E-2,7.46E-2,7.46E-2,0.1759,0.1105,{"$f":"IF(Kalkulator!$B$35=TRUE,0,VLOOKUP(TODAY()+A1774,T:V,3,1)/100)","v":0.23}]
[1773,7.7499999999999999E-2,9.5100000000000004E-2,7.46E-2,7.46E-2,0.1759,0.1105,{"$f":"IF(Kalkulator!$B$35=TRUE,0,VLOOKUP(TODAY()+A1775,T:V,3,1)/100)","v":0.23}]
[1774,7.7499999999999999E-2,9.5100000000000004E-2,7.46E-2,7.46E-2,0.1759,0.1105,{"$f":"IF(Kalkulator!$B$35=TRUE,0,VLOOKUP(TODAY()+A1776,T:V,3,1)/100)","v":0.23}]
[1775,7.7499999999999999E-2,9.5100000000000004E-2,7.46E-2,7.46E-2,0.1759,0.1105,{"$f":"IF(Kalkulator!$B$35=TRUE,0,VLOOKUP(TODAY()+A1777,T:V,3,1)/100)","v":0.23}]
[1776,7.7499999999999999E-2,9.5100000000000004E-2,7.46E-2,7.46E-2,0.1759,0.1105,{"$f":"IF(Kalkulator!$B$35=TRUE,0,VLOOKUP(TODAY()+A1778,T:V,3,1)/100)","v":0.23}]
[1777,7.7499999999999999E-2,9.5100000000000004E-2,7.46E-2,7.46E-2,0.1759,0.1105,{"$f":"IF(Kalkulator!$B$35=TRUE,0,VLOOKUP(TODAY()+A1779,T:V,3,1)/100)","v":0.23}]
[1778,7.7499999999999999E-2,9.5100000000000004E-2,7.46E-2,7.46E-2,0.1759,0.1105,{"$f":"IF(Kalkulator!$B$35=TRUE,0,VLOOKUP(TODAY()+A1780,T:V,3,1)/100)","v":0.23}]
[1779,7.7499999999999999E-2,9.5100000000000004E-2,7.46E-2,7.46E-2,0.1759,0.1105,{"$f":"IF(Kalkulator!$B$35=TRUE,0,VLOOKUP(TODAY()+A1781,T:V,3,1)/100)","v":0.23}]
[1780,7.7499999999999999E-2,9.5100000000000004E-2,7.46E-2,7.46E-2,0.1759,0.1105,{"$f":"IF(Kalkulator!$B$35=TRUE,0,VLOOKUP(TODAY()+A1782,T:V,3,1)/100)","v":0.23}]
[1781,7.7499999999999999E-2,9.5100000000000004E-2,7.46E-2,7.46E-2,0.1759,0.1105,{"$f":"IF(Kalkulator!$B$35=TRUE,0,VLOOKUP(TODAY()+A1783,T:V,3,1)/100)","v":0.23}]
[1782,7.7499999999999999E-2,9.5100000000000004E-2,7.46E-2,7.46E-2,0.1759,0.1105,{"$f":"IF(Kalkulator!$B$35=TRUE,0,VLOOKUP(TODAY()+A1784,T:V,3,1)/100)","v":0.23}]
[1783,7.7499999999999999E-2,9.5100000000000004E-2,7.46E-2,7.46E-2,0.1759,0.1105,{"$f":"IF(Kalkulator!$B$35=TRUE,0,VLOOKUP(TODAY()+A1785,T:V,3,1)/100)","v":0.23}]
[1784,7.7499999999999999E-2,9.5100000000000004E-2,7.46E-2,7.46E-2,0.1759,0.1105,{"$f":"IF(Kalkulator!$B$35=TRUE,0,VLOOKUP(TODAY()+A1786,T:V,3,1)/100)","v":0.23}]
[1785,7.7499999999999999E-2,9.5100000000000004E-2,7.46E-2,7.46E-2,0.1759,0.1105,{"$f":"IF(Kalkulator!$B$35=TRUE,0,VLOOKUP(TODAY()+A1787,T:V,3,1)/100)","v":0.23}]
[1786,7.7499999999999999E-2,9.5100000000000004E-2,7.46E-2,7.46E-2,0.1759,0.1105,{"$f":"IF(Kalkulator!$B$35=TRUE,0,VLOOKUP(TODAY()+A1788,T:V,3,1)/100)","v":0.23}]
[1787,7.7499999999999999E-2,9.5100000000000004E-2,7.46E-2,7.46E-2,0.1759,0.1105,{"$f":"IF(Kalkulator!$B$35=TRUE,0,VLOOKUP(TODAY()+A1789,T:V,3,1)/100)","v":0.23}]
[1788,7.7499999999999999E-2,9.5100000000000004E-2,7.46E-2,7.46E-2,0.1759,0.1105,{"$f":"IF(Kalkulator!$B$35=TRUE,0,VLOOKUP(TODAY()+A1790,T:V,3,1)/100)","v":0.23}]
[1789,7.7499999999999999E-2,9.5100000000000004E-2,7.46E-2,7.46E-2,0.1759,0.1105,{"$f":"IF(Kalkulator!$B$35=TRUE,0,VLOOKUP(TODAY()+A1791,T:V,3,1)/100)","v":0.23}]
[1790,7.7499999999999999E-2,9.5100000000000004E-2,7.46E-2,7.46E-2,0.1759,0.1105,{"$f":"IF(Kalkulator!$B$35=TRUE,0,VLOOKUP(TODAY()+A1792,T:V,3,1)/100)","v":0.23}]
[1791,7.7499999999999999E-2,9.5100000000000004E-2,7.46E-2,7.46E-2,0.1759,0.1105,{"$f":"IF(Kalkulator!$B$35=TRUE,0,VLOOKUP(TODAY()+A1793,T:V,3,1)/100)","v":0.23}]
[1792,7.7499999999999999E-2,9.5100000000000004E-2,7.46E-2,7.46E-2,0.1759,0.1105,{"$f":"IF(Kalkulator!$B$35=TRUE,0,VLOOKUP(TODAY()+A1794,T:V,3,1)/100)","v":0.23}]
[1793,7.7499999999999999E-2,9.5100000000000004E-2,7.46E-2,7.46E-2,0.1759,0.1105,{"$f":"IF(Kalkulator!$B$35=TRUE,0,VLOOKUP(TODAY()+A1795,T:V,3,1)/100)","v":0.23}]
[1794,7.7499999999999999E-2,9.5100000000000004E-2,7.46E-2,7.46E-2,0.1759,0.1105,{"$f":"IF(Kalkulator!$B$35=TRUE,0,VLOOKUP(TODAY()+A1796,T:V,3,1)/100)","v":0.23}]
[1795,7.7499999999999999E-2,9.5100000000000004E-2,7.46E-2,7.46E-2,0.1759,0.1105,{"$f":"IF(Kalkulator!$B$35=TRUE,0,VLOOKUP(TODAY()+A1797,T:V,3,1)/100)","v":0.23}]
[1796,7.7499999999999999E-2,9.5100000000000004E-2,7.46E-2,7.46E-2,0.1759,0.1105,{"$f":"IF(Kalkulator!$B$35=TRUE,0,VLOOKUP(TODAY()+A1798,T:V,3,1)/100)","v":0.23}]
[1797,7.7499999999999999E-2,9.5100000000000004E-2,7.46E-2,7.46E-2,0.1759,0.1105,{"$f":"IF(Kalkulator!$B$35=TRUE,0,VLOOKUP(TODAY()+A1799,T:V,3,1)/100)","v":0.23}]
[1798,7.7499999999999999E-2,9.5100000000000004E-2,7.46E-2,7.46E-2,0.1759,0.1105,{"$f":"IF(Kalkulator!$B$35=TRUE,0,VLOOKUP(TODAY()+A1800,T:V,3,1)/100)","v":0.23}]
[1799,7.7499999999999999E-2,9.5100000000000004E-2,7.46E-2,7.46E-2,0.1759,0.1105,{"$f":"IF(Kalkulator!$B$35=TRUE,0,VLOOKUP(TODAY()+A1801,T:V,3,1)/100)","v":0.23}]
[1800,7.7499999999999999E-2,9.5100000000000004E-2,7.46E-2,7.46E-2,0.1759,0.1105,{"$f":"IF(Kalkulator!$B$35=TRUE,0,VLOOKUP(TODAY()+A1802,T:V,3,1)/100)","v":0.23}]
[1801,7.7499999999999999E-2,9.5100000000000004E-2,7.46E-2,7.46E-2,0.1759,0.1105,{"$f":"IF(Kalkulator!$B$35=TRUE,0,VLOOKUP(TODAY()+A1803,T:V,3,1)/100)","v":0.23}]
[1802,7.7499999999999999E-2,9.5100000000000004E-2,7.46E-2,7.46E-2,0.1759,0.1105,{"$f":"IF(Kalkulator!$B$35=TRUE,0,VLOOKUP(TODAY()+A1804,T:V,3,1)/100)","v":0.23}]
[1803,7.7499999999999999E-2,9.5100000000000004E-2,7.46E-2,7.46E-2,0.1759,0.1105,{"$f":"IF(Kalkulator!$B$35=TRUE,0,VLOOKUP(TODAY()+A1805,T:V,3,1)/100)","v":0.23}]
[1804,7.7499999999999999E-2,9.5100000000000004E-2,7.46E-2,7.46E-2,0.1759,0.1105,{"$f":"IF(Kalkulator!$B$35=TRUE,0,VLOOKUP(TODAY()+A1806,T:V,3,1)/100)","v":0.23}]
[1805,7.7499999999999999E-2,9.5100000000000004E-2,7.46E-2,7.46E-2,0.1759,0.1105,{"$f":"IF(Kalkulator!$B$35=TRUE,0,VLOOKUP(TODAY()+A1807,T:V,3,1)/100)","v":0.23}]
[1806,7.7499999999999999E-2,9.5100000000000004E-2,7.46E-2,7.46E-2,0.1759,0.1105,{"$f":"IF(Kalkulator!$B$35=TRUE,0,VLOOKUP(TODAY()+A1808,T:V,3,1)/100)","v":0.23}]
[1807,7.7499999999999999E-2,9.5100000000000004E-2,7.46E-2,7.46E-2,0.1759,0.1105,{"$f":"IF(Kalkulator!$B$35=TRUE,0,VLOOKUP(TODAY()+A1809,T:V,3,1)/100)","v":0.23}]
[1808,7.7499999999999999E-2,9.5100000000000004E-2,7.46E-2,7.46E-2,0.1759,0.1105,{"$f":"IF(Kalkulator!$B$35=TRUE,0,VLOOKUP(TODAY()+A1810,T:V,3,1)/100)","v":0.23}]
[1809,7.7499999999999999E-2,9.5100000000000004E-2,7.46E-2,7.46E-2,0.1759,0.1105,{"$f":"IF(Kalkulator!$B$35=TRUE,0,VLOOKUP(TODAY()+A1811,T:V,3,1)/100)","v":0.23}]
[1810,7.7499999999999999E-2,9.5100000000000004E-2,7.46E-2,7.46E-2,0.1759,0.1105,{"$f":"IF(Kalkulator!$B$35=TRUE,0,VLOOKUP(TODAY()+A1812,T:V,3,1)/100)","v":0.23}]
[1811,7.7499999999999999E-2,9.5100000000000004E-2,7.46E-2,7.46E-2,0.1759,0.1105,{"$f":"IF(Kalkulator!$B$35=TRUE,0,VLOOKUP(TODAY()+A1813,T:V,3,1)/100)","v":0.23}]
[1812,7.7499999999999999E-2,9.5100000000000004E-2,7.46E-2,7.46E-2,0.1759,0.1105,{"$f":"IF(Kalkulator!$B$35=TRUE,0,VLOOKUP(TODAY()+A1814,T:V,3,1)/100)","v":0.23}]
[1813,7.7499999999999999E-2,9.5100000000000004E-2,7.46E-2,7.46E-2,0.1759,0.1105,{"$f":"IF(Kalkulator!$B$35=TRUE,0,VLOOKUP(TODAY()+A1815,T:V,3,1)/100)","v":0.23}]
[1814,7.7499999999999999E-2,9.5100000000000004E-2,7.46E-2,7.46E-2,0.1759,0.1105,{"$f":"IF(Kalkulator!$B$35=TRUE,0,VLOOKUP(TODAY()+A1816,T:V,3,1)/100)","v":0.23}]
[1815,7.7499999999999999E-2,9.5100000000000004E-2,7.46E-2,7.46E-2,0.1759,0.1105,{"$f":"IF(Kalkulator!$B$35=TRUE,0,VLOOKUP(TODAY()+A1817,T:V,3,1)/100)","v":0.23}]
[1816,7.7499999999999999E-2,9.5100000000000004E-2,7.46E-2,7.46E-2,0.1759,0.1105,{"$f":"IF(Kalkulator!$B$35=TRUE,0,VLOOKUP(TODAY()+A1818,T:V,3,1)/100)","v":0.23}]
[1817,7.7499999999999999E-2,9.5100000000000004E-2,7.46E-2,7.46E-2,0.1759,0.1105,{"$f":"IF(Kalkulator!$B$35=TRUE,0,VLOOKUP(TODAY()+A1819,T:V,3,1)/100)","v":0.23}]
[1818,7.7499999999999999E-2,9.5100000000000004E-2,7.46E-2,7.46E-2,0.1759,0.1105,{"$f":"IF(Kalkulator!$B$35=TRUE,0,VLOOKUP(TODAY()+A1820,T:V,3,1)/100)","v":0.23}]
[1819,7.7499999999999999E-2,9.5100000000000004E-2,7.46E-2,7.46E-2,0.1759,0.1105,{"$f":"IF(Kalkulator!$B$35=TRUE,0,VLOOKUP(TODAY()+A1821,T:V,3,1)/100)","v":0.23}]
[1820,7.7499999999999999E-2,9.5100000000000004E-2,7.46E-2,7.46E-2,0.1759,0.1105,{"$f":"IF(Kalkulator!$B$35=TRUE,0,VLOOKUP(TODAY()+A1822,T:V,3,1)/100)","v":0.23}]
[1821,7.7499999999999999E-2,9.5100000000000004E-2,7.46E-2,7.46E-2,0.1759,0.1105,{"$f":"IF(Kalkulator!$B$35=TRUE,0,VLOOKUP(TODAY()+A1823,T:V,3,1)/100)","v":0.23}]
[1822,7.7499999999999999E-2,9.5100000000000004E-2,7.46E-2,7.46E-2,0.1759,0.1105,{"$f":"IF(Kalkulator!$B$35=TRUE,0,VLOOKUP(TODAY()+A1824,T:V,3,1)/100)","v":0.23}]
[1823,7.7499999999999999E-2,9.5100000000000004E-2,7.46E-2,7.46E-2,0.1759,0.1105,{"$f":"IF(Kalkulator!$B$35=TRUE,0,VLOOKUP(TODAY()+A1825,T:V,3,1)/100)","v":0.23}]
[1824,7.7499999999999999E-2,9.5100000000000004E-2,7.46E-2,7.46E-2,0.1759,0.1105,{"$f":"IF(Kalkulator!$B$35=TRUE,0,VLOOKUP(TODAY()+A1826,T:V,3,1)/100)","v":0.23}]
[1825,7.7499999999999999E-2,9.5100000000000004E-2,7.46E-2,7.46E-2,0.1759,0.1105,{"$f":"IF(Kalkulator!$B$35=TRUE,0,VLOOKUP(TODAY()+A1827,T:V,3,1)/100)","v":0.23}]
[1826,7.7499999999999999E-2,9.5100000000000004E-2,7.46E-2,7.46E-2,0.1759,0.1105,{"$f":"IF(Kalkulator!$B$35=TRUE,0,VLOOKUP(TODAY()+A1828,T:V,3,1)/100)","v":0.23}]
[1827,7.7499999999999999E-2,9.5100000000000004E-2,7.46E-2,7.46E-2,0.1759,0.1105,{"$f":"IF(Kalkulator!$B$35=TRUE,0,VLOOKUP(TODAY()+A1829,T:V,3,1)/100)","v":0.23}]
[1828,7.7499999999999999E-2,9.5100000000000004E-2,7.46E-2,7.46E-2,0.1759,0.1105,{"$f":"IF(Kalkulator!$B$35=TRUE,0,VLOOKUP(TODAY()+A1830,T:V,3,1)/100)","v":0.23}]
[1829,7.7499999999999999E-2,9.5100000000000004E-2,7.46E-2,7.46E-2,0.1759,0.1105,{"$f":"IF(Kalkulator!$B$35=TRUE,0,VLOOKUP(TODAY()+A1831,T:V,3,1)/100)","v":0.23}]
[1830,7.7499999999999999E-2,9.5100000000000004E-2,7.46E-2,7.46E-2,0.1759,0.1105,{"$f":"IF(Kalkulator!$B$35=TRUE,0,VLOOKUP(TODAY()+A1832,T:V,3,1)/100)","v":0.23}]
[1831,7.7499999999999999E-2,9.5100000000000004E-2,7.46E-2,7.46E-2,0.1759,0.1105,{"$f":"IF(Kalkulator!$B$35=TRUE,0,VLOOKUP(TODAY()+A1833,T:V,3,1)/100)","v":0.23}]
[1832,7.7499999999999999E-2,9.5100000000000004E-2,7.46E-2,7.46E-2,0.1759,0.1105,{"$f":"IF(Kalkulator!$B$35=TRUE,0,VLOOKUP(TODAY()+A1834,T:V,3,1)/100)","v":0.23}]
[1833,7.7499999999999999E-2,9.5100000000000004E-2,7.46E-2,7.46E-2,0.1759,0.1105,{"$f":"IF(Kalkulator!$B$35=TRUE,0,VLOOKUP(TODAY()+A1835,T:V,3,1)/100)","v":0.23}]
[1834,7.7499999999999999E-2,9.5100000000000004E-2,7.46E-2,7.46E-2,0.1759,0.1105,{"$f":"IF(Kalkulator!$B$35=TRUE,0,VLOOKUP(TODAY()+A1836,T:V,3,1)/100)","v":0.23}]
[1835,7.7499999999999999E-2,9.5100000000000004E-2,7.46E-2,7.46E-2,0.1759,0.1105,{"$f":"IF(Kalkulator!$B$35=TRUE,0,VLOOKUP(TODAY()+A1837,T:V,3,1)/100)","v":0.23}]
[1836,7.7499999999999999E-2,9.5100000000000004E-2,7.46E-2,7.46E-2,0.1759,0.1105,{"$f":"IF(Kalkulator!$B$35=TRUE,0,VLOOKUP(TODAY()+A1838,T:V,3,1)/100)","v":0.23}]
[1837,7.7499999999999999E-2,9.5100000000000004E-2,7.46E-2,7.46E-2,0.1759,0.1105,{"$f":"IF(Kalkulator!$B$35=TRUE,0,VLOOKUP(TODAY()+A1839,T:V,3,1)/100)","v":0.23}]
[1838,7.7499999999999999E-2,9.5100000000000004E-2,7.46E-2,7.46E-2,0.1759,0.1105,{"$f":"IF(Kalkulator!$B$35=TRUE,0,VLOOKUP(TODAY()+A1840,T:V,3,1)/100)","v":0.23}]
[1839,7.7499999999999999E-2,9.5100000000000004E-2,7.46E-2,7.46E-2,0.1759,0.1105,{"$f":"IF(Kalkulator!$B$35=TRUE,0,VLOOKUP(TODAY()+A1841,T:V,3,1)/100)","v":0.23}]
[1840,7.7499999999999999E-2,9.5100000000000004E-2,7.46E-2,7.46E-2,0.1759,0.1105,{"$f":"IF(Kalkulator!$B$35=TRUE,0,VLOOKUP(TODAY()+A1842,T:V,3,1)/100)","v":0.23}]
[1841,7.7499999999999999E-2,9.5100000000000004E-2,7.46E-2,7.46E-2,0.1759,0.1105,{"$f":"IF(Kalkulator!$B$35=TRUE,0,VLOOKUP(TODAY()+A1843,T:V,3,1)/100)","v":0.23}]
[1842,7.7499999999999999E-2,9.5100000000000004E-2,7.46E-2,7.46E-2,0.1759,0.1105,{"$f":"IF(Kalkulator!$B$35=TRUE,0,VLOOKUP(TODAY()+A1844,T:V,3,1)/100)","v":0.23}]
[1843,7.7499999999999999E-2,9.5100000000000004E-2,7.46E-2,7.46E-2,0.1759,0.1105,{"$f":"IF(Kalkulator!$B$35=TRUE,0,VLOOKUP(TODAY()+A1845,T:V,3,1)/100)","v":0.23}]
[1844,7.7499999999999999E-2,9.5100000000000004E-2,7.46E-2,7.46E-2,0.1759,0.1105,{"$f":"IF(Kalkulator!$B$35=TRUE,0,VLOOKUP(TODAY()+A1846,T:V,3,1)/100)","v":0.23}]
[1845,7.7499999999999999E-2,9.5100000000000004E-2,7.46E-2,7.46E-2,0.1759,0.1105,{"$f":"IF(Kalkulator!$B$35=TRUE,0,VLOOKUP(TODAY()+A1847,T:V,3,1)/100)","v":0.23}]
[1846,7.7499999999999999E-2,9.5100000000000004E-2,7.46E-2,7.46E-2,0.1759,0.1105,{"$f":"IF(Kalkulator!$B$35=TRUE,0,VLOOKUP(TODAY()+A1848,T:V,3,1)/100)","v":0.23}]
[1847,7.7499999999999999E-2,9.5100000000000004E-2,7.46E-2,7.46E-2,0.1759,0.1105,{"$f":"IF(Kalkulator!$B$35=TRUE,0,VLOOKUP(TODAY()+A1849,T:V,3,1)/100)","v":0.23}]
[1848,7.7499999999999999E-2,9.5100000000000004E-2,7.46E-2,7.46E-2,0.1759,0.1105,{"$f":"IF(Kalkulator!$B$35=TRUE,0,VLOOKUP(TODAY()+A1850,T:V,3,1)/100)","v":0.23}]
[1849,7.7499999999999999E-2,9.5100000000000004E-2,7.46E-2,7.46E-2,0.1759,0.1105,{"$f":"IF(Kalkulator!$B$35=TRUE,0,VLOOKUP(TODAY()+A1851,T:V,3,1)/100)","v":0.23}]
[1850,7.7499999999999999E-2,9.5100000000000004E-2,7.46E-2,7.46E-2,0.1759,0.1105,{"$f":"IF(Kalkulator!$B$35=TRUE,0,VLOOKUP(TODAY()+A1852,T:V,3,1)/100)","v":0.23}]
[1851,7.7499999999999999E-2,9.5100000000000004E-2,7.46E-2,7.46E-2,0.1759,0.1105,{"$f":"IF(Kalkulator!$B$35=TRUE,0,VLOOKUP(TODAY()+A1853,T:V,3,1)/100)","v":0.23}]
[1852,7.7499999999999999E-2,9.5100000000000004E-2,7.46E-2,7.46E-2,0.1759,0.1105,{"$f":"IF(Kalkulator!$B$35=TRUE,0,VLOOKUP(TODAY()+A1854,T:V,3,1)/100)","v":0.23}]
[1853,7.7499999999999999E-2,9.5100000000000004E-2,7.46E-2,7.46E-2,0.1759,0.1105,{"$f":"IF(Kalkulator!$B$35=TRUE,0,VLOOKUP(TODAY()+A1855,T:V,3,1)/100)","v":0.23}]
[1854,7.7499999999999999E-2,9.5100000000000004E-2,7.46E-2,7.46E-2,0.1759,0.1105,{"$f":"IF(Kalkulator!$B$35=TRUE,0,VLOOKUP(TODAY()+A1856,T:V,3,1)/100)","v":0.23}]
[1855,7.7499999999999999E-2,9.5100000000000004E-2,7.46E-2,7.46E-2,0.1759,0.1105,{"$f":"IF(Kalkulator!$B$35=TRUE,0,VLOOKUP(TODAY()+A1857,T:V,3,1)/100)","v":0.23}]
[1856,7.7499999999999999E-2,9.5100000000000004E-2,7.46E-2,7.46E-2,0.1759,0.1105,{"$f":"IF(Kalkulator!$B$35=TRUE,0,VLOOKUP(TODAY()+A1858,T:V,3,1)/100)","v":0.23}]
[1857,7.7499999999999999E-2,9.5100000000000004E-2,7.46E-2,7.46E-2,0.1759,0.1105,{"$f":"IF(Kalkulator!$B$35=TRUE,0,VLOOKUP(TODAY()+A1859,T:V,3,1)/100)","v":0.23}]
[1858,7.7499999999999999E-2,9.5100000000000004E-2,7.46E-2,7.46E-2,0.1759,0.1105,{"$f":"IF(Kalkulator!$B$35=TRUE,0,VLOOKUP(TODAY()+A1860,T:V,3,1)/100)","v":0.23}]
[1859,7.7499999999999999E-2,9.5100000000000004E-2,7.46E-2,7.46E-2,0.1759,0.1105,{"$f":"IF(Kalkulator!$B$35=TRUE,0,VLOOKUP(TODAY()+A1861,T:V,3,1)/100)","v":0.23}]
[1860,7.7499999999999999E-2,9.5100000000000004E-2,7.46E-2,7.46E-2,0.1759,0.1105,{"$f":"IF(Kalkulator!$B$35=TRUE,0,VLOOKUP(TODAY()+A1862,T:V,3,1)/100)","v":0.23}]
[1861,7.7499999999999999E-2,9.5100000000000004E-2,7.46E-2,7.46E-2,0.1759,0.1105,{"$f":"IF(Kalkulator!$B$35=TRUE,0,VLOOKUP(TODAY()+A1863,T:V,3,1)/100)","v":0.23}]
[1862,7.7499999999999999E-2,9.5100000000000004E-2,7.46E-2,7.46E-2,0.1759,0.1105,{"$f":"IF(Kalkulator!$B$35=TRUE,0,VLOOKUP(TODAY()+A1864,T:V,3,1)/100)","v":0.23}]
[1863,7.7499999999999999E-2,9.5100000000000004E-2,7.46E-2,7.46E-2,0.1759,0.1105,{"$f":"IF(Kalkulator!$B$35=TRUE,0,VLOOKUP(TODAY()+A1865,T:V,3,1)/100)","v":0.23}]
[1864,7.7499999999999999E-2,9.5100000000000004E-2,7.46E-2,7.46E-2,0.1759,0.1105,{"$f":"IF(Kalkulator!$B$35=TRUE,0,VLOOKUP(TODAY()+A1866,T:V,3,1)/100)","v":0.23}]
[1865,7.7499999999999999E-2,9.5100000000000004E-2,7.46E-2,7.46E-2,0.1759,0.1105,{"$f":"IF(Kalkulator!$B$35=TRUE,0,VLOOKUP(TODAY()+A1867,T:V,3,1)/100)","v":0.23}]
[1866,7.7499999999999999E-2,9.5100000000000004E-2,7.46E-2,7.46E-2,0.1759,0.1105,{"$f":"IF(Kalkulator!$B$35=TRUE,0,VLOOKUP(TODAY()+A1868,T:V,3,1)/100)","v":0.23}]
[1867,7.7499999999999999E-2,9.5100000000000004E-2,7.46E-2,7.46E-2,0.1759,0.1105,{"$f":"IF(Kalkulator!$B$35=TRUE,0,VLOOKUP(TODAY()+A1869,T:V,3,1)/100)","v":0.23}]
[1868,7.7499999999999999E-2,9.5100000000000004E-2,7.46E-2,7.46E-2,0.1759,0.1105,{"$f":"IF(Kalkulator!$B$35=TRUE,0,VLOOKUP(TODAY()+A1870,T:V,3,1)/100)","v":0.23}]
[1869,7.7499999999999999E-2,9.5100000000000004E-2,7.46E-2,7.46E-2,0.1759,0.1105,{"$f":"IF(Kalkulator!$B$35=TRUE,0,VLOOKUP(TODAY()+A1871,T:V,3,1)/100)","v":0.23}]
[1870,7.7499999999999999E-2,9.5100000000000004E-2,7.46E-2,7.46E-2,0.1759,0.1105,{"$f":"IF(Kalkulator!$B$35=TRUE,0,VLOOKUP(TODAY()+A1872,T:V,3,1)/100)","v":0.23}]
[1871,7.7499999999999999E-2,9.5100000000000004E-2,7.46E-2,7.46E-2,0.1759,0.1105,{"$f":"IF(Kalkulator!$B$35=TRUE,0,VLOOKUP(TODAY()+A1873,T:V,3,1)/100)","v":0.23}]
[1872,7.7499999999999999E-2,9.5100000000000004E-2,7.46E-2,7.46E-2,0.1759,0.1105,{"$f":"IF(Kalkulator!$B$35=TRUE,0,VLOOKUP(TODAY()+A1874,T:V,3,1)/100)","v":0.23}]
[1873,7.7499999999999999E-2,9.5100000000000004E-2,7.46E-2,7.46E-2,0.1759,0.1105,{"$f":"IF(Kalkulator!$B$35=TRUE,0,VLOOKUP(TODAY()+A1875,T:V,3,1)/100)","v":0.23}]
[1874,7.7499999999999999E-2,9.5100000000000004E-2,7.46E-2,7.46E-2,0.1759,0.1105,{"$f":"IF(Kalkulator!$B$35=TRUE,0,VLOOKUP(TODAY()+A1876,T:V,3,1)/100)","v":0.23}]
[1875,7.7499999999999999E-2,9.5100000000000004E-2,7.46E-2,7.46E-2,0.1759,0.1105,{"$f":"IF(Kalkulator!$B$35=TRUE,0,VLOOKUP(TODAY()+A1877,T:V,3,1)/100)","v":0.23}]
[1876,7.7499999999999999E-2,9.5100000000000004E-2,7.46E-2,7.46E-2,0.1759,0.1105,{"$f":"IF(Kalkulator!$B$35=TRUE,0,VLOOKUP(TODAY()+A1878,T:V,3,1)/100)","v":0.23}]
[1877,7.7499999999999999E-2,9.5100000000000004E-2,7.46E-2,7.46E-2,0.1759,0.1105,{"$f":"IF(Kalkulator!$B$35=TRUE,0,VLOOKUP(TODAY()+A1879,T:V,3,1)/100)","v":0.23}]
[1878,7.7499999999999999E-2,9.5100000000000004E-2,7.46E-2,7.46E-2,0.1759,0.1105,{"$f":"IF(Kalkulator!$B$35=TRUE,0,VLOOKUP(TODAY()+A1880,T:V,3,1)/100)","v":0.23}]
[1879,7.7499999999999999E-2,9.5100000000000004E-2,7.46E-2,7.46E-2,0.1759,0.1105,{"$f":"IF(Kalkulator!$B$35=TRUE,0,VLOOKUP(TODAY()+A1881,T:V,3,1)/100)","v":0.23}]
[1880,7.7499999999999999E-2,9.5100000000000004E-2,7.46E-2,7.46E-2,0.1759,0.1105,{"$f":"IF(Kalkulator!$B$35=TRUE,0,VLOOKUP(TODAY()+A1882,T:V,3,1)/100)","v":0.23}]
[1881,7.7499999999999999E-2,9.5100000000000004E-2,7.46E-2,7.46E-2,0.1759,0.1105,{"$f":"IF(Kalkulator!$B$35=TRUE,0,VLOOKUP(TODAY()+A1883,T:V,3,1)/100)","v":0.23}]
[1882,7.7499999999999999E-2,9.5100000000000004E-2,7.46E-2,7.46E-2,0.1759,0.1105,{"$f":"IF(Kalkulator!$B$35=TRUE,0,VLOOKUP(TODAY()+A1884,T:V,3,1)/100)","v":0.23}]
[1883,7.7499999999999999E-2,9.5100000000000004E-2,7.46E-2,7.46E-2,0.1759,0.1105,{"$f":"IF(Kalkulator!$B$35=TRUE,0,VLOOKUP(TODAY()+A1885,T:V,3,1)/100)","v":0.23}]
[1884,7.7499999999999999E-2,9.5100000000000004E-2,7.46E-2,7.46E-2,0.1759,0.1105,{"$f":"IF(Kalkulator!$B$35=TRUE,0,VLOOKUP(TODAY()+A1886,T:V,3,1)/100)","v":0.23}]
[1885,7.7499999999999999E-2,9.5100000000000004E-2,7.46E-2,7.46E-2,0.1759,0.1105,{"$f":"IF(Kalkulator!$B$35=TRUE,0,VLOOKUP(TODAY()+A1887,T:V,3,1)/100)","v":0.23}]
[1886,7.7499999999999999E-2,9.5100000000000004E-2,7.46E-2,7.46E-2,0.1759,0.1105,{"$f":"IF(Kalkulator!$B$35=TRUE,0,VLOOKUP(TODAY()+A1888,T:V,3,1)/100)","v":0.23}]
[1887,7.7499999999999999E-2,9.5100000000000004E-2,7.46E-2,7.46E-2,0.1759,0.1105,{"$f":"IF(Kalkulator!$B$35=TRUE,0,VLOOKUP(TODAY()+A1889,T:V,3,1)/100)","v":0.23}]
[1888,7.7499999999999999E-2,9.5100000000000004E-2,7.46E-2,7.46E-2,0.1759,0.1105,{"$f":"IF(Kalkulator!$B$35=TRUE,0,VLOOKUP(TODAY()+A1890,T:V,3,1)/100)","v":0.23}]
[1889,7.7499999999999999E-2,9.5100000000000004E-2,7.46E-2,7.46E-2,0.1759,0.1105,{"$f":"IF(Kalkulator!$B$35=TRUE,0,VLOOKUP(TODAY()+A1891,T:V,3,1)/100)","v":0.23}]
[1890,7.7499999999999999E-2,9.5100000000000004E-2,7.46E-2,7.46E-2,0.1759,0.1105,{"$f":"IF(Kalkulator!$B$35=TRUE,0,VLOOKUP(TODAY()+A1892,T:V,3,1)/100)","v":0.23}]
[1891,7.7499999999999999E-2,9.5100000000000004E-2,7.46E-2,7.46E-2,0.1759,0.1105,{"$f":"IF(Kalkulator!$B$35=TRUE,0,VLOOKUP(TODAY()+A1893,T:V,3,1)/100)","v":0.23}]
[1892,7.7499999999999999E-2,9.5100000000000004E-2,7.46E-2,7.46E-2,0.1759,0.1105,{"$f":"IF(Kalkulator!$B$35=TRUE,0,VLOOKUP(TODAY()+A1894,T:V,3,1)/100)","v":0.23}]
[1893,7.7499999999999999E-2,9.5100000000000004E-2,7.46E-2,7.46E-2,0.1759,0.1105,{"$f":"IF(Kalkulator!$B$35=TRUE,0,VLOOKUP(TODAY()+A1895,T:V,3,1)/100)","v":0.23}]
[1894,7.7499999999999999E-2,9.5100000000000004E-2,7.46E-2,7.46E-2,0.1759,0.1105,{"$f":"IF(Kalkulator!$B$35=TRUE,0,VLOOKUP(TODAY()+A1896,T:V,3,1)/100)","v":0.23}]
[1895,7.7499999999999999E-2,9.5100000000000004E-2,7.46E-2,7.46E-2,0.1759,0.1105,{"$f":"IF(Kalkulator!$B$35=TRUE,0,VLOOKUP(TODAY()+A1897,T:V,3,1)/100)","v":0.23}]
[1896,7.7499999999999999E-2,9.5100000000000004E-2,7.46E-2,7.46E-2,0.1759,0.1105,{"$f":"IF(Kalkulator!$B$35=TRUE,0,VLOOKUP(TODAY()+A1898,T:V,3,1)/100)","v":0.23}]
[1897,7.7499999999999999E-2,9.5100000000000004E-2,7.46E-2,7.46E-2,0.1759,0.1105,{"$f":"IF(Kalkulator!$B$35=TRUE,0,VLOOKUP(TODAY()+A1899,T:V,3,1)/100)","v":0.23}]
[1898,7.7499999999999999E-2,9.5100000000000004E-2,7.46E-2,7.46E-2,0.1759,0.1105,{"$f":"IF(Kalkulator!$B$35=TRUE,0,VLOOKUP(TODAY()+A1900,T:V,3,1)/100)","v":0.23}]
[1899,7.7499999999999999E-2,9.5100000000000004E-2,7.46E-2,7.46E-2,0.1759,0.1105,{"$f":"IF(Kalkulator!$B$35=TRUE,0,VLOOKUP(TODAY()+A1901,T:V,3,1)/100)","v":0.23}]
[1900,7.7499999999999999E-2,9.5100000000000004E-2,7.46E-2,7.46E-2,0.1759,0.1105,{"$f":"IF(Kalkulator!$B$35=TRUE,0,VLOOKUP(TODAY()+A1902,T:V,3,1)/100)","v":0.23}]
[1901,7.7499999999999999E-2,9.5100000000000004E-2,7.46E-2,7.46E-2,0.1759,0.1105,{"$f":"IF(Kalkulator!$B$35=TRUE,0,VLOOKUP(TODAY()+A1903,T:V,3,1)/100)","v":0.23}]
[1902,7.7499999999999999E-2,9.5100000000000004E-2,7.46E-2,7.46E-2,0.1759,0.1105,{"$f":"IF(Kalkulator!$B$35=TRUE,0,VLOOKUP(TODAY()+A1904,T:V,3,1)/100)","v":0.23}]
[1903,7.7499999999999999E-2,9.5100000000000004E-2,7.46E-2,7.46E-2,0.1759,0.1105,{"$f":"IF(Kalkulator!$B$35=TRUE,0,VLOOKUP(TODAY()+A1905,T:V,3,1)/100)","v":0.23}]
[1904,7.7499999999999999E-2,9.5100000000000004E-2,7.46E-2,7.46E-2,0.1759,0.1105,{"$f":"IF(Kalkulator!$B$35=TRUE,0,VLOOKUP(TODAY()+A1906,T:V,3,1)/100)","v":0.23}]
[1905,7.7499999999999999E-2,9.5100000000000004E-2,7.46E-2,7.46E-2,0.1759,0.1105,{"$f":"IF(Kalkulator!$B$35=TRUE,0,VLOOKUP(TODAY()+A1907,T:V,3,1)/100)","v":0.23}]
[1906,7.7499999999999999E-2,9.5100000000000004E-2,7.46E-2,7.46E-2,0.1759,0.1105,{"$f":"IF(Kalkulator!$B$35=TRUE,0,VLOOKUP(TODAY()+A1908,T:V,3,1)/100)","v":0.23}]
[1907,7.7499999999999999E-2,9.5100000000000004E-2,7.46E-2,7.46E-2,0.1759,0.1105,{"$f":"IF(Kalkulator!$B$35=TRUE,0,VLOOKUP(TODAY()+A1909,T:V,3,1)/100)","v":0.23}]
[1908,7.7499999999999999E-2,9.5100000000000004E-2,7.46E-2,7.46E-2,0.1759,0.1105,{"$f":"IF(Kalkulator!$B$35=TRUE,0,VLOOKUP(TODAY()+A1910,T:V,3,1)/100)","v":0.23}]
[1909,7.7499999999999999E-2,9.5100000000000004E-2,7.46E-2,7.46E-2,0.1759,0.1105,{"$f":"IF(Kalkulator!$B$35=TRUE,0,VLOOKUP(TODAY()+A1911,T:V,3,1)/100)","v":0.23}]
[1910,7.7499999999999999E-2,9.5100000000000004E-2,7.46E-2,7.46E-2,0.1759,0.1105,{"$f":"IF(Kalkulator!$B$35=TRUE,0,VLOOKUP(TODAY()+A1912,T:V,3,1)/100)","v":0.23}]
[1911,7.7499999999999999E-2,9.5100000000000004E-2,7.46E-2,7.46E-2,0.1759,0.1105,{"$f":"IF(Kalkulator!$B$35=TRUE,0,VLOOKUP(TODAY()+A1913,T:V,3,1)/100)","v":0.23}]
[1912,7.7499999999999999E-2,9.5100000000000004E-2,7.46E-2,7.46E-2,0.1759,0.1105,{"$f":"IF(Kalkulator!$B$35=TRUE,0,VLOOKUP(TODAY()+A1914,T:V,3,1)/100)","v":0.23}]
[1913,7.7499999999999999E-2,9.5100000000000004E-2,7.46E-2,7.46E-2,0.1759,0.1105,{"$f":"IF(Kalkulator!$B$35=TRUE,0,VLOOKUP(TODAY()+A1915,T:V,3,1)/100)","v":0.23}]
[1914,7.7499999999999999E-2,9.5100000000000004E-2,7.46E-2,7.46E-2,0.1759,0.1105,{"$f":"IF(Kalkulator!$B$35=TRUE,0,VLOOKUP(TODAY()+A1916,T:V,3,1)/100)","v":0.23}]
[1915,7.7499999999999999E-2,9.5100000000000004E-2,7.46E-2,7.46E-2,0.1759,0.1105,{"$f":"IF(Kalkulator!$B$35=TRUE,0,VLOOKUP(TODAY()+A1917,T:V,3,1)/100)","v":0.23}]
[1916,7.7499999999999999E-2,9.5100000000000004E-2,7.46E-2,7.46E-2,0.1759,0.1105,{"$f":"IF(Kalkulator!$B$35=TRUE,0,VLOOKUP(TODAY()+A1918,T:V,3,1)/100)","v":0.23}]
[1917,7.7499999999999999E-2,9.5100000000000004E-2,7.46E-2,7.46E-2,0.1759,0.1105,{"$f":"IF(Kalkulator!$B$35=TRUE,0,VLOOKUP(TODAY()+A1919,T:V,3,1)/100)","v":0.23}]
[1918,7.7499999999999999E-2,9.5100000000000004E-2,7.46E-2,7.46E-2,0.1759,0.1105,{"$f":"IF(Kalkulator!$B$35=TRUE,0,VLOOKUP(TODAY()+A1920,T:V,3,1)/100)","v":0.23}]
[1919,7.7499999999999999E-2,9.5100000000000004E-2,7.46E-2,7.46E-2,0.1759,0.1105,{"$f":"IF(Kalkulator!$B$35=TRUE,0,VLOOKUP(TODAY()+A1921,T:V,3,1)/100)","v":0.23}]
[1920,7.7499999999999999E-2,9.5100000000000004E-2,7.46E-2,7.46E-2,0.1759,0.1105,{"$f":"IF(Kalkulator!$B$35=TRUE,0,VLOOKUP(TODAY()+A1922,T:V,3,1)/100)","v":0.23}]
[1921,7.7499999999999999E-2,9.5100000000000004E-2,7.46E-2,7.46E-2,0.1759,0.1105,{"$f":"IF(Kalkulator!$B$35=TRUE,0,VLOOKUP(TODAY()+A1923,T:V,3,1)/100)","v":0.23}]
[1922,7.7499999999999999E-2,9.5100000000000004E-2,7.46E-2,7.46E-2,0.1759,0.1105,{"$f":"IF(Kalkulator!$B$35=TRUE,0,VLOOKUP(TODAY()+A1924,T:V,3,1)/100)","v":0.23}]
[1923,7.7499999999999999E-2,9.5100000000000004E-2,7.46E-2,7.46E-2,0.1759,0.1105,{"$f":"IF(Kalkulator!$B$35=TRUE,0,VLOOKUP(TODAY()+A1925,T:V,3,1)/100)","v":0.23}]
[1924,7.7499999999999999E-2,9.5100000000000004E-2,7.46E-2,7.46E-2,0.1759,0.1105,{"$f":"IF(Kalkulator!$B$35=TRUE,0,VLOOKUP(TODAY()+A1926,T:V,3,1)/100)","v":0.23}]
[1925,7.7499999999999999E-2,9.5100000000000004E-2,7.46E-2,7.46E-2,0.1759,0.1105,{"$f":"IF(Kalkulator!$B$35=TRUE,0,VLOOKUP(TODAY()+A1927,T:V,3,1)/100)","v":0.23}]
[1926,7.7499999999999999E-2,9.5100000000000004E-2,7.46E-2,7.46E-2,0.1759,0.1105,{"$f":"IF(Kalkulator!$B$35=TRUE,0,VLOOKUP(TODAY()+A1928,T:V,3,1)/100)","v":0.23}]
[1927,7.7499999999999999E-2,9.5100000000000004E-2,7.46E-2,7.46E-2,0.1759,0.1105,{"$f":"IF(Kalkulator!$B$35=TRUE,0,VLOOKUP(TODAY()+A1929,T:V,3,1)/100)","v":0.23}]
[1928,7.7499999999999999E-2,9.5100000000000004E-2,7.46E-2,7.46E-2,0.1759,0.1105,{"$f":"IF(Kalkulator!$B$35=TRUE,0,VLOOKUP(TODAY()+A1930,T:V,3,1)/100)","v":0.23}]
[1929,7.7499999999999999E-2,9.5100000000000004E-2,7.46E-2,7.46E-2,0.1759,0.1105,{"$f":"IF(Kalkulator!$B$35=TRUE,0,VLOOKUP(TODAY()+A1931,T:V,3,1)/100)","v":0.23}]
[1930,7.7499999999999999E-2,9.5100000000000004E-2,7.46E-2,7.46E-2,0.1759,0.1105,{"$f":"IF(Kalkulator!$B$35=TRUE,0,VLOOKUP(TODAY()+A1932,T:V,3,1)/100)","v":0.23}]
[1931,7.7499999999999999E-2,9.5100000000000004E-2,7.46E-2,7.46E-2,0.1759,0.1105,{"$f":"IF(Kalkulator!$B$35=TRUE,0,VLOOKUP(TODAY()+A1933,T:V,3,1)/100)","v":0.23}]
[1932,7.7499999999999999E-2,9.5100000000000004E-2,7.46E-2,7.46E-2,0.1759,0.1105,{"$f":"IF(Kalkulator!$B$35=TRUE,0,VLOOKUP(TODAY()+A1934,T:V,3,1)/100)","v":0.23}]
[1933,7.7499999999999999E-2,9.5100000000000004E-2,7.46E-2,7.46E-2,0.1759,0.1105,{"$f":"IF(Kalkulator!$B$35=TRUE,0,VLOOKUP(TODAY()+A1935,T:V,3,1)/100)","v":0.23}]
[1934,7.7499999999999999E-2,9.5100000000000004E-2,7.46E-2,7.46E-2,0.1759,0.1105,{"$f":"IF(Kalkulator!$B$35=TRUE,0,VLOOKUP(TODAY()+A1936,T:V,3,1)/100)","v":0.23}]
[1935,7.7499999999999999E-2,9.5100000000000004E-2,7.46E-2,7.46E-2,0.1759,0.1105,{"$f":"IF(Kalkulator!$B$35=TRUE,0,VLOOKUP(TODAY()+A1937,T:V,3,1)/100)","v":0.23}]
[1936,7.7499999999999999E-2,9.5100000000000004E-2,7.46E-2,7.46E-2,0.1759,0.1105,{"$f":"IF(Kalkulator!$B$35=TRUE,0,VLOOKUP(TODAY()+A1938,T:V,3,1)/100)","v":0.23}]
[1937,7.7499999999999999E-2,9.5100000000000004E-2,7.46E-2,7.46E-2,0.1759,0.1105,{"$f":"IF(Kalkulator!$B$35=TRUE,0,VLOOKUP(TODAY()+A1939,T:V,3,1)/100)","v":0.23}]
[1938,7.7499999999999999E-2,9.5100000000000004E-2,7.46E-2,7.46E-2,0.1759,0.1105,{"$f":"IF(Kalkulator!$B$35=TRUE,0,VLOOKUP(TODAY()+A1940,T:V,3,1)/100)","v":0.23}]
[1939,7.7499999999999999E-2,9.5100000000000004E-2,7.46E-2,7.46E-2,0.1759,0.1105,{"$f":"IF(Kalkulator!$B$35=TRUE,0,VLOOKUP(TODAY()+A1941,T:V,3,1)/100)","v":0.23}]
[1940,7.7499999999999999E-2,9.5100000000000004E-2,7.46E-2,7.46E-2,0.1759,0.1105,{"$f":"IF(Kalkulator!$B$35=TRUE,0,VLOOKUP(TODAY()+A1942,T:V,3,1)/100)","v":0.23}]
[1941,7.7499999999999999E-2,9.5100000000000004E-2,7.46E-2,7.46E-2,0.1759,0.1105,{"$f":"IF(Kalkulator!$B$35=TRUE,0,VLOOKUP(TODAY()+A1943,T:V,3,1)/100)","v":0.23}]
[1942,7.7499999999999999E-2,9.5100000000000004E-2,7.46E-2,7.46E-2,0.1759,0.1105,{"$f":"IF(Kalkulator!$B$35=TRUE,0,VLOOKUP(TODAY()+A1944,T:V,3,1)/100)","v":0.23}]
[1943,7.7499999999999999E-2,9.5100000000000004E-2,7.46E-2,7.46E-2,0.1759,0.1105,{"$f":"IF(Kalkulator!$B$35=TRUE,0,VLOOKUP(TODAY()+A1945,T:V,3,1)/100)","v":0.23}]
[1944,7.7499999999999999E-2,9.5100000000000004E-2,7.46E-2,7.46E-2,0.1759,0.1105,{"$f":"IF(Kalkulator!$B$35=TRUE,0,VLOOKUP(TODAY()+A1946,T:V,3,1)/100)","v":0.23}]
[1945,7.7499999999999999E-2,9.5100000000000004E-2,7.46E-2,7.46E-2,0.1759,0.1105,{"$f":"IF(Kalkulator!$B$35=TRUE,0,VLOOKUP(TODAY()+A1947,T:V,3,1)/100)","v":0.23}]
[1946,7.7499999999999999E-2,9.5100000000000004E-2,7.46E-2,7.46E-2,0.1759,0.1105,{"$f":"IF(Kalkulator!$B$35=TRUE,0,VLOOKUP(TODAY()+A1948,T:V,3,1)/100)","v":0.23}]
[1947,7.7499999999999999E-2,9.5100000000000004E-2,7.46E-2,7.46E-2,0.1759,0.1105,{"$f":"IF(Kalkulator!$B$35=TRUE,0,VLOOKUP(TODAY()+A1949,T:V,3,1)/100)","v":0.23}]
[1948,7.7499999999999999E-2,9.5100000000000004E-2,7.46E-2,7.46E-2,0.1759,0.1105,{"$f":"IF(Kalkulator!$B$35=TRUE,0,VLOOKUP(TODAY()+A1950,T:V,3,1)/100)","v":0.23}]
[1949,7.7499999999999999E-2,9.5100000000000004E-2,7.46E-2,7.46E-2,0.1759,0.1105,{"$f":"IF(Kalkulator!$B$35=TRUE,0,VLOOKUP(TODAY()+A1951,T:V,3,1)/100)","v":0.23}]
[1950,7.7499999999999999E-2,9.5100000000000004E-2,7.46E-2,7.46E-2,0.1759,0.1105,{"$f":"IF(Kalkulator!$B$35=TRUE,0,VLOOKUP(TODAY()+A1952,T:V,3,1)/100)","v":0.23}]
[1951,7.7499999999999999E-2,9.5100000000000004E-2,7.46E-2,7.46E-2,0.1759,0.1105,{"$f":"IF(Kalkulator!$B$35=TRUE,0,VLOOKUP(TODAY()+A1953,T:V,3,1)/100)","v":0.23}]
[1952,7.7499999999999999E-2,9.5100000000000004E-2,7.46E-2,7.46E-2,0.1759,0.1105,{"$f":"IF(Kalkulator!$B$35=TRUE,0,VLOOKUP(TODAY()+A1954,T:V,3,1)/100)","v":0.23}]
[1953,7.7499999999999999E-2,9.5100000000000004E-2,7.46E-2,7.46E-2,0.1759,0.1105,{"$f":"IF(Kalkulator!$B$35=TRUE,0,VLOOKUP(TODAY()+A1955,T:V,3,1)/100)","v":0.23}]
[1954,7.7499999999999999E-2,9.5100000000000004E-2,7.46E-2,7.46E-2,0.1759,0.1105,{"$f":"IF(Kalkulator!$B$35=TRUE,0,VLOOKUP(TODAY()+A1956,T:V,3,1)/100)","v":0.23}]
[1955,7.7499999999999999E-2,9.5100000000000004E-2,7.46E-2,7.46E-2,0.1759,0.1105,{"$f":"IF(Kalkulator!$B$35=TRUE,0,VLOOKUP(TODAY()+A1957,T:V,3,1)/100)","v":0.23}]
[1956,7.7499999999999999E-2,9.5100000000000004E-2,7.46E-2,7.46E-2,0.1759,0.1105,{"$f":"IF(Kalkulator!$B$35=TRUE,0,VLOOKUP(TODAY()+A1958,T:V,3,1)/100)","v":0.23}]
[1957,7.7499999999999999E-2,9.5100000000000004E-2,7.46E-2,7.46E-2,0.1759,0.1105,{"$f":"IF(Kalkulator!$B$35=TRUE,0,VLOOKUP(TODAY()+A1959,T:V,3,1)/100)","v":0.23}]
[1958,7.7499999999999999E-2,9.5100000000000004E-2,7.46E-2,7.46E-2,0.1759,0.1105,{"$f":"IF(Kalkulator!$B$35=TRUE,0,VLOOKUP(TODAY()+A1960,T:V,3,1)/100)","v":0.23}]
[1959,7.7499999999999999E-2,9.5100000000000004E-2,7.46E-2,7.46E-2,0.1759,0.1105,{"$f":"IF(Kalkulator!$B$35=TRUE,0,VLOOKUP(TODAY()+A1961,T:V,3,1)/100)","v":0.23}]
[1960,7.7499999999999999E-2,9.5100000000000004E-2,7.46E-2,7.46E-2,0.1759,0.1105,{"$f":"IF(Kalkulator!$B$35=TRUE,0,VLOOKUP(TODAY()+A1962,T:V,3,1)/100)","v":0.23}]
[1961,7.7499999999999999E-2,9.5100000000000004E-2,7.46E-2,7.46E-2,0.1759,0.1105,{"$f":"IF(Kalkulator!$B$35=TRUE,0,VLOOKUP(TODAY()+A1963,T:V,3,1)/100)","v":0.23}]
[1962,7.7499999999999999E-2,9.5100000000000004E-2,7.46E-2,7.46E-2,0.1759,0.1105,{"$f":"IF(Kalkulator!$B$35=TRUE,0,VLOOKUP(TODAY()+A1964,T:V,3,1)/100)","v":0.23}]
[1963,7.7499999999999999E-2,9.5100000000000004E-2,7.46E-2,7.46E-2,0.1759,0.1105,{"$f":"IF(Kalkulator!$B$35=TRUE,0,VLOOKUP(TODAY()+A1965,T:V,3,1)/100)","v":0.23}]
[1964,7.7499999999999999E-2,9.5100000000000004E-2,7.46E-2,7.46E-2,0.1759,0.1105,{"$f":"IF(Kalkulator!$B$35=TRUE,0,VLOOKUP(TODAY()+A1966,T:V,3,1)/100)","v":0.23}]
[1965,7.7499999999999999E-2,9.5100000000000004E-2,7.46E-2,7.46E-2,0.1759,0.1105,{"$f":"IF(Kalkulator!$B$35=TRUE,0,VLOOKUP(TODAY()+A1967,T:V,3,1)/100)","v":0.23}]
[1966,7.7499999999999999E-2,9.5100000000000004E-2,7.46E-2,7.46E-2,0.1759,0.1105,{"$f":"IF(Kalkulator!$B$35=TRUE,0,VLOOKUP(TODAY()+A1968,T:V,3,1)/100)","v":0.23}]
[1967,7.7499999999999999E-2,9.5100000000000004E-2,7.46E-2,7.46E-2,0.1759,0.1105,{"$f":"IF(Kalkulator!$B$35=TRUE,0,VLOOKUP(TODAY()+A1969,T:V,3,1)/100)","v":0.23}]
[1968,7.7499999999999999E-2,9.5100000000000004E-2,7.46E-2,7.46E-2,0.1759,0.1105,{"$f":"IF(Kalkulator!$B$35=TRUE,0,VLOOKUP(TODAY()+A1970,T:V,3,1)/100)","v":0.23}]
[1969,7.7499999999999999E-2,9.5100000000000004E-2,7.46E-2,7.46E-2,0.1759,0.1105,{"$f":"IF(Kalkulator!$B$35=TRUE,0,VLOOKUP(TODAY()+A1971,T:V,3,1)/100)","v":0.23}]
[1970,7.7499999999999999E-2,9.5100000000000004E-2,7.46E-2,7.46E-2,0.1759,0.1105,{"$f":"IF(Kalkulator!$B$35=TRUE,0,VLOOKUP(TODAY()+A1972,T:V,3,1)/100)","v":0.23}]
[1971,7.7499999999999999E-2,9.5100000000000004E-2,7.46E-2,7.46E-2,0.1759,0.1105,{"$f":"IF(Kalkulator!$B$35=TRUE,0,VLOOKUP(TODAY()+A1973,T:V,3,1)/100)","v":0.23}]
[1972,7.7499999999999999E-2,9.5100000000000004E-2,7.46E-2,7.46E-2,0.1759,0.1105,{"$f":"IF(Kalkulator!$B$35=TRUE,0,VLOOKUP(TODAY()+A1974,T:V,3,1)/100)","v":0.23}]
[1973,7.7499999999999999E-2,9.5100000000000004E-2,7.46E-2,7.46E-2,0.1759,0.1105,{"$f":"IF(Kalkulator!$B$35=TRUE,0,VLOOKUP(TODAY()+A1975,T:V,3,1)/100)","v":0.23}]
[1974,7.7499999999999999E-2,9.5100000000000004E-2,7.46E-2,7.46E-2,0.1759,0.1105,{"$f":"IF(Kalkulator!$B$35=TRUE,0,VLOOKUP(TODAY()+A1976,T:V,3,1)/100)","v":0.23}]
[1975,7.7499999999999999E-2,9.5100000000000004E-2,7.46E-2,7.46E-2,0.1759,0.1105,{"$f":"IF(Kalkulator!$B$35=TRUE,0,VLOOKUP(TODAY()+A1977,T:V,3,1)/100)","v":0.23}]
[1976,7.7499999999999999E-2,9.5100000000000004E-2,7.46E-2,7.46E-2,0.1759,0.1105,{"$f":"IF(Kalkulator!$B$35=TRUE,0,VLOOKUP(TODAY()+A1978,T:V,3,1)/100)","v":0.23}]
[1977,7.7499999999999999E-2,9.5100000000000004E-2,7.46E-2,7.46E-2,0.1759,0.1105,{"$f":"IF(Kalkulator!$B$35=TRUE,0,VLOOKUP(TODAY()+A1979,T:V,3,1)/100)","v":0.23}]
[1978,7.7499999999999999E-2,9.5100000000000004E-2,7.46E-2,7.46E-2,0.1759,0.1105,{"$f":"IF(Kalkulator!$B$35=TRUE,0,VLOOKUP(TODAY()+A1980,T:V,3,1)/100)","v":0.23}]
[1979,7.7499999999999999E-2,9.5100000000000004E-2,7.46E-2,7.46E-2,0.1759,0.1105,{"$f":"IF(Kalkulator!$B$35=TRUE,0,VLOOKUP(TODAY()+A1981,T:V,3,1)/100)","v":0.23}]
[1980,7.7499999999999999E-2,9.5100000000000004E-2,7.46E-2,7.46E-2,0.1759,0.1105,{"$f":"IF(Kalkulator!$B$35=TRUE,0,VLOOKUP(TODAY()+A1982,T:V,3,1)/100)","v":0.23}]
[1981,7.7499999999999999E-2,9.5100000000000004E-2,7.46E-2,7.46E-2,0.1759,0.1105,{"$f":"IF(Kalkulator!$B$35=TRUE,0,VLOOKUP(TODAY()+A1983,T:V,3,1)/100)","v":0.23}]
[1982,7.7499999999999999E-2,9.5100000000000004E-2,7.46E-2,7.46E-2,0.1759,0.1105,{"$f":"IF(Kalkulator!$B$35=TRUE,0,VLOOKUP(TODAY()+A1984,T:V,3,1)/100)","v":0.23}]
[1983,7.7499999999999999E-2,9.5100000000000004E-2,7.46E-2,7.46E-2,0.1759,0.1105,{"$f":"IF(Kalkulator!$B$35=TRUE,0,VLOOKUP(TODAY()+A1985,T:V,3,1)/100)","v":0.23}]
[1984,7.7499999999999999E-2,9.5100000000000004E-2,7.46E-2,7.46E-2,0.1759,0.1105,{"$f":"IF(Kalkulator!$B$35=TRUE,0,VLOOKUP(TODAY()+A1986,T:V,3,1)/100)","v":0.23}]
[1985,7.7499999999999999E-2,9.5100000000000004E-2,7.46E-2,7.46E-2,0.1759,0.1105,{"$f":"IF(Kalkulator!$B$35=TRUE,0,VLOOKUP(TODAY()+A1987,T:V,3,1)/100)","v":0.23}]
[1986,7.7499999999999999E-2,9.5100000000000004E-2,7.46E-2,7.46E-2,0.1759,0.1105,{"$f":"IF(Kalkulator!$B$35=TRUE,0,VLOOKUP(TODAY()+A1988,T:V,3,1)/100)","v":0.23}]
[1987,7.7499999999999999E-2,9.5100000000000004E-2,7.46E-2,7.46E-2,0.1759,0.1105,{"$f":"IF(Kalkulator!$B$35=TRUE,0,VLOOKUP(TODAY()+A1989,T:V,3,1)/100)","v":0.23}]
[1988,7.7499999999999999E-2,9.5100000000000004E-2,7.46E-2,7.46E-2,0.1759,0.1105,{"$f":"IF(Kalkulator!$B$35=TRUE,0,VLOOKUP(TODAY()+A1990,T:V,3,1)/100)","v":0.23}]
[1989,7.7499999999999999E-2,9.5100000000000004E-2,7.46E-2,7.46E-2,0.1759,0.1105,{"$f":"IF(Kalkulator!$B$35=TRUE,0,VLOOKUP(TODAY()+A1991,T:V,3,1)/100)","v":0.23}]
[1990,7.7499999999999999E-2,9.5100000000000004E-2,7.46E-2,7.46E-2,0.1759,0.1105,{"$f":"IF(Kalkulator!$B$35=TRUE,0,VLOOKUP(TODAY()+A1992,T:V,3,1)/100)","v":0.23}]
[1991,7.7499999999999999E-2,9.5100000000000004E-2,7.46E-2,7.46E-2,0.1759,0.1105,{"$f":"IF(Kalkulator!$B$35=TRUE,0,VLOOKUP(TODAY()+A1993,T:V,3,1)/100)","v":0.23}]
[1992,7.7499999999999999E-2,9.5100000000000004E-2,7.46E-2,7.46E-2,0.1759,0.1105,{"$f":"IF(Kalkulator!$B$35=TRUE,0,VLOOKUP(TODAY()+A1994,T:V,3,1)/100)","v":0.23}]
[1993,7.7499999999999999E-2,9.5100000000000004E-2,7.46E-2,7.46E-2,0.1759,0.1105,{"$f":"IF(Kalkulator!$B$35=TRUE,0,VLOOKUP(TODAY()+A1995,T:V,3,1)/100)","v":0.23}]
[1994,7.7499999999999999E-2,9.5100000000000004E-2,7.46E-2,7.46E-2,0.1759,0.1105,{"$f":"IF(Kalkulator!$B$35=TRUE,0,VLOOKUP(TODAY()+A1996,T:V,3,1)/100)","v":0.23}]
[1995,7.7499999999999999E-2,9.5100000000000004E-2,7.46E-2,7.46E-2,0.1759,0.1105,{"$f":"IF(Kalkulator!$B$35=TRUE,0,VLOOKUP(TODAY()+A1997,T:V,3,1)/100)","v":0.23}]
[1996,7.7499999999999999E-2,9.5100000000000004E-2,7.46E-2,7.46E-2,0.1759,0.1105,{"$f":"IF(Kalkulator!$B$35=TRUE,0,VLOOKUP(TODAY()+A1998,T:V,3,1)/100)","v":0.23}]
[1997,7.7499999999999999E-2,9.5100000000000004E-2,7.46E-2,7.46E-2,0.1759,0.1105,{"$f":"IF(Kalkulator!$B$35=TRUE,0,VLOOKUP(TODAY()+A1999,T:V,3,1)/100)","v":0.23}]
[1998,7.7499999999999999E-2,9.5100000000000004E-2,7.46E-2,7.46E-2,0.1759,0.1105,{"$f":"IF(Kalkulator!$B$35=TRUE,0,VLOOKUP(TODAY()+A2000,T:V,3,1)/100)","v":0.23}]
[1999,7.7499999999999999E-2,9.5100000000000004E-2,7.46E-2,7.46E-2,0.1759,0.1105,{"$f":"IF(Kalkulator!$B$35=TRUE,0,VLOOKUP(TODAY()+A2001,T:V,3,1)/100)","v":0.23}]
[2000,7.7499999999999999E-2,9.5100000000000004E-2,7.46E-2,7.46E-2,0.1759,0.1105,{"$f":"IF(Kalkulator!$B$35=TRUE,0,VLOOKUP(TODAY()+A2002,T:V,3,1)/100)","v":0.23}]
[2001,7.7499999999999999E-2,9.5100000000000004E-2,7.46E-2,7.46E-2,0.1759,0.1105,{"$f":"IF(Kalkulator!$B$35=TRUE,0,VLOOKUP(TODAY()+A2003,T:V,3,1)/100)","v":0.23}]
[2002,7.7499999999999999E-2,9.5100000000000004E-2,7.46E-2,7.46E-2,0.1759,0.1105,{"$f":"IF(Kalkulator!$B$35=TRUE,0,VLOOKUP(TODAY()+A2004,T:V,3,1)/100)","v":0.23}]
[2003,7.7499999999999999E-2,9.5100000000000004E-2,7.46E-2,7.46E-2,0.1759,0.1105,{"$f":"IF(Kalkulator!$B$35=TRUE,0,VLOOKUP(TODAY()+A2005,T:V,3,1)/100)","v":0.23}]
[2004,7.7499999999999999E-2,9.5100000000000004E-2,7.46E-2,7.46E-2,0.1759,0.1105,{"$f":"IF(Kalkulator!$B$35=TRUE,0,VLOOKUP(TODAY()+A2006,T:V,3,1)/100)","v":0.23}]
[2005,7.7499999999999999E-2,9.5100000000000004E-2,7.46E-2,7.46E-2,0.1759,0.1105,{"$f":"IF(Kalkulator!$B$35=TRUE,0,VLOOKUP(TODAY()+A2007,T:V,3,1)/100)","v":0.23}]
[2006,7.7499999999999999E-2,9.5100000000000004E-2,7.46E-2,7.46E-2,0.1759,0.1105,{"$f":"IF(Kalkulator!$B$35=TRUE,0,VLOOKUP(TODAY()+A2008,T:V,3,1)/100)","v":0.23}]
[2007,7.7499999999999999E-2,9.5100000000000004E-2,7.46E-2,7.46E-2,0.1759,0.1105,{"$f":"IF(Kalkulator!$B$35=TRUE,0,VLOOKUP(TODAY()+A2009,T:V,3,1)/100)","v":0.23}]
[2008,7.7499999999999999E-2,9.5100000000000004E-2,7.46E-2,7.46E-2,0.1759,0.1105,{"$f":"IF(Kalkulator!$B$35=TRUE,0,VLOOKUP(TODAY()+A2010,T:V,3,1)/100)","v":0.23}]
[2009,7.7499999999999999E-2,9.5100000000000004E-2,7.46E-2,7.46E-2,0.1759,0.1105,{"$f":"IF(Kalkulator!$B$35=TRUE,0,VLOOKUP(TODAY()+A2011,T:V,3,1)/100)","v":0.23}]
[2010,7.7499999999999999E-2,9.5100000000000004E-2,7.46E-2,7.46E-2,0.1759,0.1105,{"$f":"IF(Kalkulator!$B$35=TRUE,0,VLOOKUP(TODAY()+A2012,T:V,3,1)/100)","v":0.23}]
[2011,7.7499999999999999E-2,9.5100000000000004E-2,7.46E-2,7.46E-2,0.1759,0.1105,{"$f":"IF(Kalkulator!$B$35=TRUE,0,VLOOKUP(TODAY()+A2013,T:V,3,1)/100)","v":0.23}]
[2012,7.7499999999999999E-2,9.5100000000000004E-2,7.46E-2,7.46E-2,0.1759,0.1105,{"$f":"IF(Kalkulator!$B$35=TRUE,0,VLOOKUP(TODAY()+A2014,T:V,3,1)/100)","v":0.23}]
[2013,7.7499999999999999E-2,9.5100000000000004E-2,7.46E-2,7.46E-2,0.1759,0.1105,{"$f":"IF(Kalkulator!$B$35=TRUE,0,VLOOKUP(TODAY()+A2015,T:V,3,1)/100)","v":0.23}]
[2014,7.7499999999999999E-2,9.5100000000000004E-2,7.46E-2,7.46E-2,0.1759,0.1105,{"$f":"IF(Kalkulator!$B$35=TRUE,0,VLOOKUP(TODAY()+A2016,T:V,3,1)/100)","v":0.23}]
[2015,7.7499999999999999E-2,9.5100000000000004E-2,7.46E-2,7.46E-2,0.1759,0.1105,{"$f":"IF(Kalkulator!$B$35=TRUE,0,VLOOKUP(TODAY()+A2017,T:V,3,1)/100)","v":0.23}]
[2016,7.7499999999999999E-2,9.5100000000000004E-2,7.46E-2,7.46E-2,0.1759,0.1105,{"$f":"IF(Kalkulator!$B$35=TRUE,0,VLOOKUP(TODAY()+A2018,T:V,3,1)/100)","v":0.23}]
[2017,7.7499999999999999E-2,9.5100000000000004E-2,7.46E-2,7.46E-2,0.1759,0.1105,{"$f":"IF(Kalkulator!$B$35=TRUE,0,VLOOKUP(TODAY()+A2019,T:V,3,1)/100)","v":0.23}]
[2018,7.7499999999999999E-2,9.5100000000000004E-2,7.46E-2,7.46E-2,0.1759,0.1105,{"$f":"IF(Kalkulator!$B$35=TRUE,0,VLOOKUP(TODAY()+A2020,T:V,3,1)/100)","v":0.23}]
[2019,7.7499999999999999E-2,9.5100000000000004E-2,7.46E-2,7.46E-2,0.1759,0.1105,{"$f":"IF(Kalkulator!$B$35=TRUE,0,VLOOKUP(TODAY()+A2021,T:V,3,1)/100)","v":0.23}]
[2020,7.7499999999999999E-2,9.5100000000000004E-2,7.46E-2,7.46E-2,0.1759,0.1105,{"$f":"IF(Kalkulator!$B$35=TRUE,0,VLOOKUP(TODAY()+A2022,T:V,3,1)/100)","v":0.23}]
[2021,7.7499999999999999E-2,9.5100000000000004E-2,7.46E-2,7.46E-2,0.1759,0.1105,{"$f":"IF(Kalkulator!$B$35=TRUE,0,VLOOKUP(TODAY()+A2023,T:V,3,1)/100)","v":0.23}]
[2022,7.7499999999999999E-2,9.5100000000000004E-2,7.46E-2,7.46E-2,0.1759,0.1105,{"$f":"IF(Kalkulator!$B$35=TRUE,0,VLOOKUP(TODAY()+A2024,T:V,3,1)/100)","v":0.23}]
[2023,7.7499999999999999E-2,9.5100000000000004E-2,7.46E-2,7.46E-2,0.1759,0.1105,{"$f":"IF(Kalkulator!$B$35=TRUE,0,VLOOKUP(TODAY()+A2025,T:V,3,1)/100)","v":0.23}]
[2024,7.7499999999999999E-2,9.5100000000000004E-2,7.46E-2,7.46E-2,0.1759,0.1105,{"$f":"IF(Kalkulator!$B$35=TRUE,0,VLOOKUP(TODAY()+A2026,T:V,3,1)/100)","v":0.23}]
[2025,7.7499999999999999E-2,9.5100000000000004E-2,7.46E-2,7.46E-2,0.1759,0.1105,{"$f":"IF(Kalkulator!$B$35=TRUE,0,VLOOKUP(TODAY()+A2027,T:V,3,1)/100)","v":0.23}]
[2026,7.7499999999999999E-2,9.5100000000000004E-2,7.46E-2,7.46E-2,0.1759,0.1105,{"$f":"IF(Kalkulator!$B$35=TRUE,0,VLOOKUP(TODAY()+A2028,T:V,3,1)/100)","v":0.23}]
[2027,7.7499999999999999E-2,9.5100000000000004E-2,7.46E-2,7.46E-2,0.1759,0.1105,{"$f":"IF(Kalkulator!$B$35=TRUE,0,VLOOKUP(TODAY()+A2029,T:V,3,1)/100)","v":0.23}]
[2028,7.7499999999999999E-2,9.5100000000000004E-2,7.46E-2,7.46E-2,0.1759,0.1105,{"$f":"IF(Kalkulator!$B$35=TRUE,0,VLOOKUP(TODAY()+A2030,T:V,3,1)/100)","v":0.23}]
[2029,7.7499999999999999E-2,9.5100000000000004E-2,7.46E-2,7.46E-2,0.1759,0.1105,{"$f":"IF(Kalkulator!$B$35=TRUE,0,VLOOKUP(TODAY()+A2031,T:V,3,1)/100)","v":0.23}]
[2030,7.7499999999999999E-2,9.5100000000000004E-2,7.46E-2,7.46E-2,0.1759,0.1105,{"$f":"IF(Kalkulator!$B$35=TRUE,0,VLOOKUP(TODAY()+A2032,T:V,3,1)/100)","v":0.23}]
[2031,7.7499999999999999E-2,9.5100000000000004E-2,7.46E-2,7.46E-2,0.1759,0.1105,{"$f":"IF(Kalkulator!$B$35=TRUE,0,VLOOKUP(TODAY()+A2033,T:V,3,1)/100)","v":0.23}]
[2032,7.7499999999999999E-2,9.5100000000000004E-2,7.46E-2,7.46E-2,0.1759,0.1105,{"$f":"IF(Kalkulator!$B$35=TRUE,0,VLOOKUP(TODAY()+A2034,T:V,3,1)/100)","v":0.23}]
[2033,7.7499999999999999E-2,9.5100000000000004E-2,7.46E-2,7.46E-2,0.1759,0.1105,{"$f":"IF(Kalkulator!$B$35=TRUE,0,VLOOKUP(TODAY()+A2035,T:V,3,1)/100)","v":0.23}]
[2034,7.7499999999999999E-2,9.5100000000000004E-2,7.46E-2,7.46E-2,0.1759,0.1105,{"$f":"IF(Kalkulator!$B$35=TRUE,0,VLOOKUP(TODAY()+A2036,T:V,3,1)/100)","v":0.23}]
[2035,7.7499999999999999E-2,9.5100000000000004E-2,7.46E-2,7.46E-2,0.1759,0.1105,{"$f":"IF(Kalkulator!$B$35=TRUE,0,VLOOKUP(TODAY()+A2037,T:V,3,1)/100)","v":0.23}]
[2036,7.7499999999999999E-2,9.5100000000000004E-2,7.46E-2,7.46E-2,0.1759,0.1105,{"$f":"IF(Kalkulator!$B$35=TRUE,0,VLOOKUP(TODAY()+A2038,T:V,3,1)/100)","v":0.23}]
[2037,7.7499999999999999E-2,9.5100000000000004E-2,7.46E-2,7.46E-2,0.1759,0.1105,{"$f":"IF(Kalkulator!$B$35=TRUE,0,VLOOKUP(TODAY()+A2039,T:V,3,1)/100)","v":0.23}]
[2038,7.7499999999999999E-2,9.5100000000000004E-2,7.46E-2,7.46E-2,0.1759,0.1105,{"$f":"IF(Kalkulator!$B$35=TRUE,0,VLOOKUP(TODAY()+A2040,T:V,3,1)/100)","v":0.23}]
[2039,7.7499999999999999E-2,9.5100000000000004E-2,7.46E-2,7.46E-2,0.1759,0.1105,{"$f":"IF(Kalkulator!$B$35=TRUE,0,VLOOKUP(TODAY()+A2041,T:V,3,1)/100)","v":0.23}]
[2040,7.7499999999999999E-2,9.5100000000000004E-2,7.46E-2,7.46E-2,0.1759,0.1105,{"$f":"IF(Kalkulator!$B$35=TRUE,0,VLOOKUP(TODAY()+A2042,T:V,3,1)/100)","v":0.23}]
[2041,7.7499999999999999E-2,9.5100000000000004E-2,7.46E-2,7.46E-2,0.1759,0.1105,{"$f":"IF(Kalkulator!$B$35=TRUE,0,VLOOKUP(TODAY()+A2043,T:V,3,1)/100)","v":0.23}]
[2042,7.7499999999999999E-2,9.5100000000000004E-2,7.46E-2,7.46E-2,0.1759,0.1105,{"$f":"IF(Kalkulator!$B$35=TRUE,0,VLOOKUP(TODAY()+A2044,T:V,3,1)/100)","v":0.23}]
[2043,7.7499999999999999E-2,9.5100000000000004E-2,7.46E-2,7.46E-2,0.1759,0.1105,{"$f":"IF(Kalkulator!$B$35=TRUE,0,VLOOKUP(TODAY()+A2045,T:V,3,1)/100)","v":0.23}]
[2044,7.7499999999999999E-2,9.5100000000000004E-2,7.46E-2,7.46E-2,0.1759,0.1105,{"$f":"IF(Kalkulator!$B$35=TRUE,0,VLOOKUP(TODAY()+A2046,T:V,3,1)/100)","v":0.23}]
[2045,7.7499999999999999E-2,9.5100000000000004E-2,7.46E-2,7.46E-2,0.1759,0.1105,{"$f":"IF(Kalkulator!$B$35=TRUE,0,VLOOKUP(TODAY()+A2047,T:V,3,1)/100)","v":0.23}]
[2046,7.7499999999999999E-2,9.5100000000000004E-2,7.46E-2,7.46E-2,0.1759,0.1105,{"$f":"IF(Kalkulator!$B$35=TRUE,0,VLOOKUP(TODAY()+A2048,T:V,3,1)/100)","v":0.23}]
[2047,7.7499999999999999E-2,9.5100000000000004E-2,7.46E-2,7.46E-2,0.1759,0.1105,{"$f":"IF(Kalkulator!$B$35=TRUE,0,VLOOKUP(TODAY()+A2049,T:V,3,1)/100)","v":0.23}]
[2048,7.7499999999999999E-2,9.5100000000000004E-2,7.46E-2,7.46E-2,0.1759,0.1105,{"$f":"IF(Kalkulator!$B$35=TRUE,0,VLOOKUP(TODAY()+A2050,T:V,3,1)/100)","v":0.23}]
[2049,7.7499999999999999E-2,9.5100000000000004E-2,7.46E-2,7.46E-2,0.1759,0.1105,{"$f":"IF(Kalkulator!$B$35=TRUE,0,VLOOKUP(TODAY()+A2051,T:V,3,1)/100)","v":0.23}]
[2050,7.7499999999999999E-2,9.5100000000000004E-2,7.46E-2,7.46E-2,0.1759,0.1105,{"$f":"IF(Kalkulator!$B$35=TRUE,0,VLOOKUP(TODAY()+A2052,T:V,3,1)/100)","v":0.23}]
[2051,7.7499999999999999E-2,9.5100000000000004E-2,7.46E-2,7.46E-2,0.1759,0.1105,{"$f":"IF(Kalkulator!$B$35=TRUE,0,VLOOKUP(TODAY()+A2053,T:V,3,1)/100)","v":0.23}]
[2052,7.7499999999999999E-2,9.5100000000000004E-2,7.46E-2,7.46E-2,0.1759,0.1105,{"$f":"IF(Kalkulator!$B$35=TRUE,0,VLOOKUP(TODAY()+A2054,T:V,3,1)/100)","v":0.23}]
[2053,7.7499999999999999E-2,9.5100000000000004E-2,7.46E-2,7.46E-2,0.1759,0.1105,{"$f":"IF(Kalkulator!$B$35=TRUE,0,VLOOKUP(TODAY()+A2055,T:V,3,1)/100)","v":0.23}]
[2054,7.7499999999999999E-2,9.5100000000000004E-2,7.46E-2,7.46E-2,0.1759,0.1105,{"$f":"IF(Kalkulator!$B$35=TRUE,0,VLOOKUP(TODAY()+A2056,T:V,3,1)/100)","v":0.23}]
[2055,7.7499999999999999E-2,9.5100000000000004E-2,7.46E-2,7.46E-2,0.1759,0.1105,{"$f":"IF(Kalkulator!$B$35=TRUE,0,VLOOKUP(TODAY()+A2057,T:V,3,1)/100)","v":0.23}]
[2056,7.7499999999999999E-2,9.5100000000000004E-2,7.46E-2,7.46E-2,0.1759,0.1105,{"$f":"IF(Kalkulator!$B$35=TRUE,0,VLOOKUP(TODAY()+A2058,T:V,3,1)/100)","v":0.23}]
[2057,7.7499999999999999E-2,9.5100000000000004E-2,7.46E-2,7.46E-2,0.1759,0.1105,{"$f":"IF(Kalkulator!$B$35=TRUE,0,VLOOKUP(TODAY()+A2059,T:V,3,1)/100)","v":0.23}]
[2058,7.7499999999999999E-2,9.5100000000000004E-2,7.46E-2,7.46E-2,0.1759,0.1105,{"$f":"IF(Kalkulator!$B$35=TRUE,0,VLOOKUP(TODAY()+A2060,T:V,3,1)/100)","v":0.23}]
[2059,7.7499999999999999E-2,9.5100000000000004E-2,7.46E-2,7.46E-2,0.1759,0.1105,{"$f":"IF(Kalkulator!$B$35=TRUE,0,VLOOKUP(TODAY()+A2061,T:V,3,1)/100)","v":0.23}]
[2060,7.7499999999999999E-2,9.5100000000000004E-2,7.46E-2,7.46E-2,0.1759,0.1105,{"$f":"IF(Kalkulator!$B$35=TRUE,0,VLOOKUP(TODAY()+A2062,T:V,3,1)/100)","v":0.23}]
[2061,7.7499999999999999E-2,9.5100000000000004E-2,7.46E-2,7.46E-2,0.1759,0.1105,{"$f":"IF(Kalkulator!$B$35=TRUE,0,VLOOKUP(TODAY()+A2063,T:V,3,1)/100)","v":0.23}]
[2062,7.7499999999999999E-2,9.5100000000000004E-2,7.46E-2,7.46E-2,0.1759,0.1105,{"$f":"IF(Kalkulator!$B$35=TRUE,0,VLOOKUP(TODAY()+A2064,T:V,3,1)/100)","v":0.23}]
[2063,7.7499999999999999E-2,9.5100000000000004E-2,7.46E-2,7.46E-2,0.1759,0.1105,{"$f":"IF(Kalkulator!$B$35=TRUE,0,VLOOKUP(TODAY()+A2065,T:V,3,1)/100)","v":0.23}]
[2064,7.7499999999999999E-2,9.5100000000000004E-2,7.46E-2,7.46E-2,0.1759,0.1105,{"$f":"IF(Kalkulator!$B$35=TRUE,0,VLOOKUP(TODAY()+A2066,T:V,3,1)/100)","v":0.23}]
[2065,7.7499999999999999E-2,9.5100000000000004E-2,7.46E-2,7.46E-2,0.1759,0.1105,{"$f":"IF(Kalkulator!$B$35=TRUE,0,VLOOKUP(TODAY()+A2067,T:V,3,1)/100)","v":0.23}]
[2066,7.7499999999999999E-2,9.5100000000000004E-2,7.46E-2,7.46E-2,0.1759,0.1105,{"$f":"IF(Kalkulator!$B$35=TRUE,0,VLOOKUP(TODAY()+A2068,T:V,3,1)/100)","v":0.23}]
[2067,7.7499999999999999E-2,9.5100000000000004E-2,7.46E-2,7.46E-2,0.1759,0.1105,{"$f":"IF(Kalkulator!$B$35=TRUE,0,VLOOKUP(TODAY()+A2069,T:V,3,1)/100)","v":0.23}]
[2068,7.7499999999999999E-2,9.5100000000000004E-2,7.46E-2,7.46E-2,0.1759,0.1105,{"$f":"IF(Kalkulator!$B$35=TRUE,0,VLOOKUP(TODAY()+A2070,T:V,3,1)/100)","v":0.23}]
[2069,7.7499999999999999E-2,9.5100000000000004E-2,7.46E-2,7.46E-2,0.1759,0.1105,{"$f":"IF(Kalkulator!$B$35=TRUE,0,VLOOKUP(TODAY()+A2071,T:V,3,1)/100)","v":0.23}]
[2070,7.7499999999999999E-2,9.5100000000000004E-2,7.46E-2,7.46E-2,0.1759,0.1105,{"$f":"IF(Kalkulator!$B$35=TRUE,0,VLOOKUP(TODAY()+A2072,T:V,3,1)/100)","v":0.23}]
[2071,7.7499999999999999E-2,9.5100000000000004E-2,7.46E-2,7.46E-2,0.1759,0.1105,{"$f":"IF(Kalkulator!$B$35=TRUE,0,VLOOKUP(TODAY()+A2073,T:V,3,1)/100)","v":0.23}]
[2072,7.7499999999999999E-2,9.5100000000000004E-2,7.46E-2,7.46E-2,0.1759,0.1105,{"$f":"IF(Kalkulator!$B$35=TRUE,0,VLOOKUP(TODAY()+A2074,T:V,3,1)/100)","v":0.23}]
[2073,7.7499999999999999E-2,9.5100000000000004E-2,7.46E-2,7.46E-2,0.1759,0.1105,{"$f":"IF(Kalkulator!$B$35=TRUE,0,VLOOKUP(TODAY()+A2075,T:V,3,1)/100)","v":0.23}]
[2074,7.7499999999999999E-2,9.5100000000000004E-2,7.46E-2,7.46E-2,0.1759,0.1105,{"$f":"IF(Kalkulator!$B$35=TRUE,0,VLOOKUP(TODAY()+A2076,T:V,3,1)/100)","v":0.23}]
[2075,7.7499999999999999E-2,9.5100000000000004E-2,7.46E-2,7.46E-2,0.1759,0.1105,{"$f":"IF(Kalkulator!$B$35=TRUE,0,VLOOKUP(TODAY()+A2077,T:V,3,1)/100)","v":0.23}]
[2076,7.7499999999999999E-2,9.5100000000000004E-2,7.46E-2,7.46E-2,0.1759,0.1105,{"$f":"IF(Kalkulator!$B$35=TRUE,0,VLOOKUP(TODAY()+A2078,T:V,3,1)/100)","v":0.23}]
[2077,7.7499999999999999E-2,9.5100000000000004E-2,7.46E-2,7.46E-2,0.1759,0.1105,{"$f":"IF(Kalkulator!$B$35=TRUE,0,VLOOKUP(TODAY()+A2079,T:V,3,1)/100)","v":0.23}]
[2078,7.7499999999999999E-2,9.5100000000000004E-2,7.46E-2,7.46E-2,0.1759,0.1105,{"$f":"IF(Kalkulator!$B$35=TRUE,0,VLOOKUP(TODAY()+A2080,T:V,3,1)/100)","v":0.23}]
[2079,7.7499999999999999E-2,9.5100000000000004E-2,7.46E-2,7.46E-2,0.1759,0.1105,{"$f":"IF(Kalkulator!$B$35=TRUE,0,VLOOKUP(TODAY()+A2081,T:V,3,1)/100)","v":0.23}]
[2080,7.7499999999999999E-2,9.5100000000000004E-2,7.46E-2,7.46E-2,0.1759,0.1105,{"$f":"IF(Kalkulator!$B$35=TRUE,0,VLOOKUP(TODAY()+A2082,T:V,3,1)/100)","v":0.23}]
[2081,7.7499999999999999E-2,9.5100000000000004E-2,7.46E-2,7.46E-2,0.1759,0.1105,{"$f":"IF(Kalkulator!$B$35=TRUE,0,VLOOKUP(TODAY()+A2083,T:V,3,1)/100)","v":0.23}]
[2082,7.7499999999999999E-2,9.5100000000000004E-2,7.46E-2,7.46E-2,0.1759,0.1105,{"$f":"IF(Kalkulator!$B$35=TRUE,0,VLOOKUP(TODAY()+A2084,T:V,3,1)/100)","v":0.23}]
[2083,7.7499999999999999E-2,9.5100000000000004E-2,7.46E-2,7.46E-2,0.1759,0.1105,{"$f":"IF(Kalkulator!$B$35=TRUE,0,VLOOKUP(TODAY()+A2085,T:V,3,1)/100)","v":0.23}]
[2084,7.7499999999999999E-2,9.5100000000000004E-2,7.46E-2,7.46E-2,0.1759,0.1105,{"$f":"IF(Kalkulator!$B$35=TRUE,0,VLOOKUP(TODAY()+A2086,T:V,3,1)/100)","v":0.23}]
[2085,7.7499999999999999E-2,9.5100000000000004E-2,7.46E-2,7.46E-2,0.1759,0.1105,{"$f":"IF(Kalkulator!$B$35=TRUE,0,VLOOKUP(TODAY()+A2087,T:V,3,1)/100)","v":0.23}]
[2086,7.7499999999999999E-2,9.5100000000000004E-2,7.46E-2,7.46E-2,0.1759,0.1105,{"$f":"IF(Kalkulator!$B$35=TRUE,0,VLOOKUP(TODAY()+A2088,T:V,3,1)/100)","v":0.23}]
[2087,7.7499999999999999E-2,9.5100000000000004E-2,7.46E-2,7.46E-2,0.1759,0.1105,{"$f":"IF(Kalkulator!$B$35=TRUE,0,VLOOKUP(TODAY()+A2089,T:V,3,1)/100)","v":0.23}]
[2088,7.7499999999999999E-2,9.5100000000000004E-2,7.46E-2,7.46E-2,0.1759,0.1105,{"$f":"IF(Kalkulator!$B$35=TRUE,0,VLOOKUP(TODAY()+A2090,T:V,3,1)/100)","v":0.23}]
[2089,7.7499999999999999E-2,9.5100000000000004E-2,7.46E-2,7.46E-2,0.1759,0.1105,{"$f":"IF(Kalkulator!$B$35=TRUE,0,VLOOKUP(TODAY()+A2091,T:V,3,1)/100)","v":0.23}]
[2090,7.7499999999999999E-2,9.5100000000000004E-2,7.46E-2,7.46E-2,0.1759,0.1105,{"$f":"IF(Kalkulator!$B$35=TRUE,0,VLOOKUP(TODAY()+A2092,T:V,3,1)/100)","v":0.23}]
[2091,7.7499999999999999E-2,9.5100000000000004E-2,7.46E-2,7.46E-2,0.1759,0.1105,{"$f":"IF(Kalkulator!$B$35=TRUE,0,VLOOKUP(TODAY()+A2093,T:V,3,1)/100)","v":0.23}]
[2092,7.7499999999999999E-2,9.5100000000000004E-2,7.46E-2,7.46E-2,0.1759,0.1105,{"$f":"IF(Kalkulator!$B$35=TRUE,0,VLOOKUP(TODAY()+A2094,T:V,3,1)/100)","v":0.23}]
[2093,7.7499999999999999E-2,9.5100000000000004E-2,7.46E-2,7.46E-2,0.1759,0.1105,{"$f":"IF(Kalkulator!$B$35=TRUE,0,VLOOKUP(TODAY()+A2095,T:V,3,1)/100)","v":0.23}]
[2094,7.7499999999999999E-2,9.5100000000000004E-2,7.46E-2,7.46E-2,0.1759,0.1105,{"$f":"IF(Kalkulator!$B$35=TRUE,0,VLOOKUP(TODAY()+A2096,T:V,3,1)/100)","v":0.23}]
[2095,7.7499999999999999E-2,9.5100000000000004E-2,7.46E-2,7.46E-2,0.1759,0.1105,{"$f":"IF(Kalkulator!$B$35=TRUE,0,VLOOKUP(TODAY()+A2097,T:V,3,1)/100)","v":0.23}]
[2096,7.7499999999999999E-2,9.5100000000000004E-2,7.46E-2,7.46E-2,0.1759,0.1105,{"$f":"IF(Kalkulator!$B$35=TRUE,0,VLOOKUP(TODAY()+A2098,T:V,3,1)/100)","v":0.23}]
[2097,7.7499999999999999E-2,9.5100000000000004E-2,7.46E-2,7.46E-2,0.1759,0.1105,{"$f":"IF(Kalkulator!$B$35=TRUE,0,VLOOKUP(TODAY()+A2099,T:V,3,1)/100)","v":0.23}]
[2098,7.7499999999999999E-2,9.5100000000000004E-2,7.46E-2,7.46E-2,0.1759,0.1105,{"$f":"IF(Kalkulator!$B$35=TRUE,0,VLOOKUP(TODAY()+A2100,T:V,3,1)/100)","v":0.23}]
[2099,7.7499999999999999E-2,9.5100000000000004E-2,7.46E-2,7.46E-2,0.1759,0.1105,{"$f":"IF(Kalkulator!$B$35=TRUE,0,VLOOKUP(TODAY()+A2101,T:V,3,1)/100)","v":0.23}]
[2100,7.7499999999999999E-2,9.5100000000000004E-2,7.46E-2,7.46E-2,0.1759,0.1105,{"$f":"IF(Kalkulator!$B$35=TRUE,0,VLOOKUP(TODAY()+A2102,T:V,3,1)/100)","v":0.23}]
[2101,7.7499999999999999E-2,9.5100000000000004E-2,7.46E-2,7.46E-2,0.1759,0.1105,{"$f":"IF(Kalkulator!$B$35=TRUE,0,VLOOKUP(TODAY()+A2103,T:V,3,1)/100)","v":0.23}]
[2102,7.7499999999999999E-2,9.5100000000000004E-2,7.46E-2,7.46E-2,0.1759,0.1105,{"$f":"IF(Kalkulator!$B$35=TRUE,0,VLOOKUP(TODAY()+A2104,T:V,3,1)/100)","v":0.23}]
[2103,7.7499999999999999E-2,9.5100000000000004E-2,7.46E-2,7.46E-2,0.1759,0.1105,{"$f":"IF(Kalkulator!$B$35=TRUE,0,VLOOKUP(TODAY()+A2105,T:V,3,1)/100)","v":0.23}]
[2104,7.7499999999999999E-2,9.5100000000000004E-2,7.46E-2,7.46E-2,0.1759,0.1105,{"$f":"IF(Kalkulator!$B$35=TRUE,0,VLOOKUP(TODAY()+A2106,T:V,3,1)/100)","v":0.23}]
[2105,7.7499999999999999E-2,9.5100000000000004E-2,7.46E-2,7.46E-2,0.1759,0.1105,{"$f":"IF(Kalkulator!$B$35=TRUE,0,VLOOKUP(TODAY()+A2107,T:V,3,1)/100)","v":0.23}]
[2106,7.7499999999999999E-2,9.5100000000000004E-2,7.46E-2,7.46E-2,0.1759,0.1105,{"$f":"IF(Kalkulator!$B$35=TRUE,0,VLOOKUP(TODAY()+A2108,T:V,3,1)/100)","v":0.23}]
[2107,7.7499999999999999E-2,9.5100000000000004E-2,7.46E-2,7.46E-2,0.1759,0.1105,{"$f":"IF(Kalkulator!$B$35=TRUE,0,VLOOKUP(TODAY()+A2109,T:V,3,1)/100)","v":0.23}]
[2108,7.7499999999999999E-2,9.5100000000000004E-2,7.46E-2,7.46E-2,0.1759,0.1105,{"$f":"IF(Kalkulator!$B$35=TRUE,0,VLOOKUP(TODAY()+A2110,T:V,3,1)/100)","v":0.23}]
[2109,7.7499999999999999E-2,9.5100000000000004E-2,7.46E-2,7.46E-2,0.1759,0.1105,{"$f":"IF(Kalkulator!$B$35=TRUE,0,VLOOKUP(TODAY()+A2111,T:V,3,1)/100)","v":0.23}]
[2110,7.7499999999999999E-2,9.5100000000000004E-2,7.46E-2,7.46E-2,0.1759,0.1105,{"$f":"IF(Kalkulator!$B$35=TRUE,0,VLOOKUP(TODAY()+A2112,T:V,3,1)/100)","v":0.23}]
[2111,7.7499999999999999E-2,9.5100000000000004E-2,7.46E-2,7.46E-2,0.1759,0.1105,{"$f":"IF(Kalkulator!$B$35=TRUE,0,VLOOKUP(TODAY()+A2113,T:V,3,1)/100)","v":0.23}]
[2112,7.7499999999999999E-2,9.5100000000000004E-2,7.46E-2,7.46E-2,0.1759,0.1105,{"$f":"IF(Kalkulator!$B$35=TRUE,0,VLOOKUP(TODAY()+A2114,T:V,3,1)/100)","v":0.23}]
[2113,7.7499999999999999E-2,9.5100000000000004E-2,7.46E-2,7.46E-2,0.1759,0.1105,{"$f":"IF(Kalkulator!$B$35=TRUE,0,VLOOKUP(TODAY()+A2115,T:V,3,1)/100)","v":0.23}]
[2114,7.7499999999999999E-2,9.5100000000000004E-2,7.46E-2,7.46E-2,0.1759,0.1105,{"$f":"IF(Kalkulator!$B$35=TRUE,0,VLOOKUP(TODAY()+A2116,T:V,3,1)/100)","v":0.23}]
[2115,7.7499999999999999E-2,9.5100000000000004E-2,7.46E-2,7.46E-2,0.1759,0.1105,{"$f":"IF(Kalkulator!$B$35=TRUE,0,VLOOKUP(TODAY()+A2117,T:V,3,1)/100)","v":0.23}]
[2116,7.7499999999999999E-2,9.5100000000000004E-2,7.46E-2,7.46E-2,0.1759,0.1105,{"$f":"IF(Kalkulator!$B$35=TRUE,0,VLOOKUP(TODAY()+A2118,T:V,3,1)/100)","v":0.23}]
[2117,7.7499999999999999E-2,9.5100000000000004E-2,7.46E-2,7.46E-2,0.1759,0.1105,{"$f":"IF(Kalkulator!$B$35=TRUE,0,VLOOKUP(TODAY()+A2119,T:V,3,1)/100)","v":0.23}]
[2118,7.7499999999999999E-2,9.5100000000000004E-2,7.46E-2,7.46E-2,0.1759,0.1105,{"$f":"IF(Kalkulator!$B$35=TRUE,0,VLOOKUP(TODAY()+A2120,T:V,3,1)/100)","v":0.23}]
[2119,7.7499999999999999E-2,9.5100000000000004E-2,7.46E-2,7.46E-2,0.1759,0.1105,{"$f":"IF(Kalkulator!$B$35=TRUE,0,VLOOKUP(TODAY()+A2121,T:V,3,1)/100)","v":0.23}]
[2120,7.7499999999999999E-2,9.5100000000000004E-2,7.46E-2,7.46E-2,0.1759,0.1105,{"$f":"IF(Kalkulator!$B$35=TRUE,0,VLOOKUP(TODAY()+A2122,T:V,3,1)/100)","v":0.23}]
[2121,7.7499999999999999E-2,9.5100000000000004E-2,7.46E-2,7.46E-2,0.1759,0.1105,{"$f":"IF(Kalkulator!$B$35=TRUE,0,VLOOKUP(TODAY()+A2123,T:V,3,1)/100)","v":0.23}]
[2122,7.7499999999999999E-2,9.5100000000000004E-2,7.46E-2,7.46E-2,0.1759,0.1105,{"$f":"IF(Kalkulator!$B$35=TRUE,0,VLOOKUP(TODAY()+A2124,T:V,3,1)/100)","v":0.23}]
[2123,7.7499999999999999E-2,9.5100000000000004E-2,7.46E-2,7.46E-2,0.1759,0.1105,{"$f":"IF(Kalkulator!$B$35=TRUE,0,VLOOKUP(TODAY()+A2125,T:V,3,1)/100)","v":0.23}]
[2124,7.7499999999999999E-2,9.5100000000000004E-2,7.46E-2,7.46E-2,0.1759,0.1105,{"$f":"IF(Kalkulator!$B$35=TRUE,0,VLOOKUP(TODAY()+A2126,T:V,3,1)/100)","v":0.23}]
[2125,7.7499999999999999E-2,9.5100000000000004E-2,7.46E-2,7.46E-2,0.1759,0.1105,{"$f":"IF(Kalkulator!$B$35=TRUE,0,VLOOKUP(TODAY()+A2127,T:V,3,1)/100)","v":0.23}]
[2126,7.7499999999999999E-2,9.5100000000000004E-2,7.46E-2,7.46E-2,0.1759,0.1105,{"$f":"IF(Kalkulator!$B$35=TRUE,0,VLOOKUP(TODAY()+A2128,T:V,3,1)/100)","v":0.23}]
[2127,7.7499999999999999E-2,9.5100000000000004E-2,7.46E-2,7.46E-2,0.1759,0.1105,{"$f":"IF(Kalkulator!$B$35=TRUE,0,VLOOKUP(TODAY()+A2129,T:V,3,1)/100)","v":0.23}]
[2128,7.7499999999999999E-2,9.5100000000000004E-2,7.46E-2,7.46E-2,0.1759,0.1105,{"$f":"IF(Kalkulator!$B$35=TRUE,0,VLOOKUP(TODAY()+A2130,T:V,3,1)/100)","v":0.23}]
[2129,7.7499999999999999E-2,9.5100000000000004E-2,7.46E-2,7.46E-2,0.1759,0.1105,{"$f":"IF(Kalkulator!$B$35=TRUE,0,VLOOKUP(TODAY()+A2131,T:V,3,1)/100)","v":0.23}]
[2130,7.7499999999999999E-2,9.5100000000000004E-2,7.46E-2,7.46E-2,0.1759,0.1105,{"$f":"IF(Kalkulator!$B$35=TRUE,0,VLOOKUP(TODAY()+A2132,T:V,3,1)/100)","v":0.23}]
[2131,7.7499999999999999E-2,9.5100000000000004E-2,7.46E-2,7.46E-2,0.1759,0.1105,{"$f":"IF(Kalkulator!$B$35=TRUE,0,VLOOKUP(TODAY()+A2133,T:V,3,1)/100)","v":0.23}]
[2132,7.7499999999999999E-2,9.5100000000000004E-2,7.46E-2,7.46E-2,0.1759,0.1105,{"$f":"IF(Kalkulator!$B$35=TRUE,0,VLOOKUP(TODAY()+A2134,T:V,3,1)/100)","v":0.23}]
[2133,7.7499999999999999E-2,9.5100000000000004E-2,7.46E-2,7.46E-2,0.1759,0.1105,{"$f":"IF(Kalkulator!$B$35=TRUE,0,VLOOKUP(TODAY()+A2135,T:V,3,1)/100)","v":0.23}]
[2134,7.7499999999999999E-2,9.5100000000000004E-2,7.46E-2,7.46E-2,0.1759,0.1105,{"$f":"IF(Kalkulator!$B$35=TRUE,0,VLOOKUP(TODAY()+A2136,T:V,3,1)/100)","v":0.23}]
[2135,7.7499999999999999E-2,9.5100000000000004E-2,7.46E-2,7.46E-2,0.1759,0.1105,{"$f":"IF(Kalkulator!$B$35=TRUE,0,VLOOKUP(TODAY()+A2137,T:V,3,1)/100)","v":0.23}]
[2136,7.7499999999999999E-2,9.5100000000000004E-2,7.46E-2,7.46E-2,0.1759,0.1105,{"$f":"IF(Kalkulator!$B$35=TRUE,0,VLOOKUP(TODAY()+A2138,T:V,3,1)/100)","v":0.23}]
[2137,7.7499999999999999E-2,9.5100000000000004E-2,7.46E-2,7.46E-2,0.1759,0.1105,{"$f":"IF(Kalkulator!$B$35=TRUE,0,VLOOKUP(TODAY()+A2139,T:V,3,1)/100)","v":0.23}]
[2138,7.7499999999999999E-2,9.5100000000000004E-2,7.46E-2,7.46E-2,0.1759,0.1105,{"$f":"IF(Kalkulator!$B$35=TRUE,0,VLOOKUP(TODAY()+A2140,T:V,3,1)/100)","v":0.23}]
[2139,7.7499999999999999E-2,9.5100000000000004E-2,7.46E-2,7.46E-2,0.1759,0.1105,{"$f":"IF(Kalkulator!$B$35=TRUE,0,VLOOKUP(TODAY()+A2141,T:V,3,1)/100)","v":0.23}]
[2140,7.7499999999999999E-2,9.5100000000000004E-2,7.46E-2,7.46E-2,0.1759,0.1105,{"$f":"IF(Kalkulator!$B$35=TRUE,0,VLOOKUP(TODAY()+A2142,T:V,3,1)/100)","v":0.23}]
[2141,7.7499999999999999E-2,9.5100000000000004E-2,7.46E-2,7.46E-2,0.1759,0.1105,{"$f":"IF(Kalkulator!$B$35=TRUE,0,VLOOKUP(TODAY()+A2143,T:V,3,1)/100)","v":0.23}]
[2142,7.7499999999999999E-2,9.5100000000000004E-2,7.46E-2,7.46E-2,0.1759,0.1105,{"$f":"IF(Kalkulator!$B$35=TRUE,0,VLOOKUP(TODAY()+A2144,T:V,3,1)/100)","v":0.23}]
[2143,7.7499999999999999E-2,9.5100000000000004E-2,7.46E-2,7.46E-2,0.1759,0.1105,{"$f":"IF(Kalkulator!$B$35=TRUE,0,VLOOKUP(TODAY()+A2145,T:V,3,1)/100)","v":0.23}]
[2144,7.7499999999999999E-2,9.5100000000000004E-2,7.46E-2,7.46E-2,0.1759,0.1105,{"$f":"IF(Kalkulator!$B$35=TRUE,0,VLOOKUP(TODAY()+A2146,T:V,3,1)/100)","v":0.23}]
[2145,7.7499999999999999E-2,9.5100000000000004E-2,7.46E-2,7.46E-2,0.1759,0.1105,{"$f":"IF(Kalkulator!$B$35=TRUE,0,VLOOKUP(TODAY()+A2147,T:V,3,1)/100)","v":0.23}]
[2146,7.7499999999999999E-2,9.5100000000000004E-2,7.46E-2,7.46E-2,0.1759,0.1105,{"$f":"IF(Kalkulator!$B$35=TRUE,0,VLOOKUP(TODAY()+A2148,T:V,3,1)/100)","v":0.23}]
[2147,7.7499999999999999E-2,9.5100000000000004E-2,7.46E-2,7.46E-2,0.1759,0.1105,{"$f":"IF(Kalkulator!$B$35=TRUE,0,VLOOKUP(TODAY()+A2149,T:V,3,1)/100)","v":0.23}]
[2148,7.7499999999999999E-2,9.5100000000000004E-2,7.46E-2,7.46E-2,0.1759,0.1105,{"$f":"IF(Kalkulator!$B$35=TRUE,0,VLOOKUP(TODAY()+A2150,T:V,3,1)/100)","v":0.23}]
[2149,7.7499999999999999E-2,9.5100000000000004E-2,7.46E-2,7.46E-2,0.1759,0.1105,{"$f":"IF(Kalkulator!$B$35=TRUE,0,VLOOKUP(TODAY()+A2151,T:V,3,1)/100)","v":0.23}]
[2150,7.7499999999999999E-2,9.5100000000000004E-2,7.46E-2,7.46E-2,0.1759,0.1105,{"$f":"IF(Kalkulator!$B$35=TRUE,0,VLOOKUP(TODAY()+A2152,T:V,3,1)/100)","v":0.23}]
[2151,7.7499999999999999E-2,9.5100000000000004E-2,7.46E-2,7.46E-2,0.1759,0.1105,{"$f":"IF(Kalkulator!$B$35=TRUE,0,VLOOKUP(TODAY()+A2153,T:V,3,1)/100)","v":0.23}]
[2152,7.7499999999999999E-2,9.5100000000000004E-2,7.46E-2,7.46E-2,0.1759,0.1105,{"$f":"IF(Kalkulator!$B$35=TRUE,0,VLOOKUP(TODAY()+A2154,T:V,3,1)/100)","v":0.23}]
[2153,7.7499999999999999E-2,9.5100000000000004E-2,7.46E-2,7.46E-2,0.1759,0.1105,{"$f":"IF(Kalkulator!$B$35=TRUE,0,VLOOKUP(TODAY()+A2155,T:V,3,1)/100)","v":0.23}]
[2154,7.7499999999999999E-2,9.5100000000000004E-2,7.46E-2,7.46E-2,0.1759,0.1105,{"$f":"IF(Kalkulator!$B$35=TRUE,0,VLOOKUP(TODAY()+A2156,T:V,3,1)/100)","v":0.23}]
[2155,7.7499999999999999E-2,9.5100000000000004E-2,7.46E-2,7.46E-2,0.1759,0.1105,{"$f":"IF(Kalkulator!$B$35=TRUE,0,VLOOKUP(TODAY()+A2157,T:V,3,1)/100)","v":0.23}]
[2156,7.7499999999999999E-2,9.5100000000000004E-2,7.46E-2,7.46E-2,0.1759,0.1105,{"$f":"IF(Kalkulator!$B$35=TRUE,0,VLOOKUP(TODAY()+A2158,T:V,3,1)/100)","v":0.23}]
[2157,7.7499999999999999E-2,9.5100000000000004E-2,7.46E-2,7.46E-2,0.1759,0.1105,{"$f":"IF(Kalkulator!$B$35=TRUE,0,VLOOKUP(TODAY()+A2159,T:V,3,1)/100)","v":0.23}]
[2158,7.7499999999999999E-2,9.5100000000000004E-2,7.46E-2,7.46E-2,0.1759,0.1105,{"$f":"IF(Kalkulator!$B$35=TRUE,0,VLOOKUP(TODAY()+A2160,T:V,3,1)/100)","v":0.23}]
[2159,7.7499999999999999E-2,9.5100000000000004E-2,7.46E-2,7.46E-2,0.1759,0.1105,{"$f":"IF(Kalkulator!$B$35=TRUE,0,VLOOKUP(TODAY()+A2161,T:V,3,1)/100)","v":0.23}]
[2160,7.7499999999999999E-2,9.5100000000000004E-2,7.46E-2,7.46E-2,0.1759,0.1105,{"$f":"IF(Kalkulator!$B$35=TRUE,0,VLOOKUP(TODAY()+A2162,T:V,3,1)/100)","v":0.23}]
[2161,7.7499999999999999E-2,9.5100000000000004E-2,7.46E-2,7.46E-2,0.1759,0.1105,{"$f":"IF(Kalkulator!$B$35=TRUE,0,VLOOKUP(TODAY()+A2163,T:V,3,1)/100)","v":0.23}]
[2162,7.7499999999999999E-2,9.5100000000000004E-2,7.46E-2,7.46E-2,0.1759,0.1105,{"$f":"IF(Kalkulator!$B$35=TRUE,0,VLOOKUP(TODAY()+A2164,T:V,3,1)/100)","v":0.23}]
[2163,7.7499999999999999E-2,9.5100000000000004E-2,7.46E-2,7.46E-2,0.1759,0.1105,{"$f":"IF(Kalkulator!$B$35=TRUE,0,VLOOKUP(TODAY()+A2165,T:V,3,1)/100)","v":0.23}]
[2164,7.7499999999999999E-2,9.5100000000000004E-2,7.46E-2,7.46E-2,0.1759,0.1105,{"$f":"IF(Kalkulator!$B$35=TRUE,0,VLOOKUP(TODAY()+A2166,T:V,3,1)/100)","v":0.23}]
[2165,7.7499999999999999E-2,9.5100000000000004E-2,7.46E-2,7.46E-2,0.1759,0.1105,{"$f":"IF(Kalkulator!$B$35=TRUE,0,VLOOKUP(TODAY()+A2167,T:V,3,1)/100)","v":0.23}]
[2166,7.7499999999999999E-2,9.5100000000000004E-2,7.46E-2,7.46E-2,0.1759,0.1105,{"$f":"IF(Kalkulator!$B$35=TRUE,0,VLOOKUP(TODAY()+A2168,T:V,3,1)/100)","v":0.23}]
[2167,7.7499999999999999E-2,9.5100000000000004E-2,7.46E-2,7.46E-2,0.1759,0.1105,{"$f":"IF(Kalkulator!$B$35=TRUE,0,VLOOKUP(TODAY()+A2169,T:V,3,1)/100)","v":0.23}]
[2168,7.7499999999999999E-2,9.5100000000000004E-2,7.46E-2,7.46E-2,0.1759,0.1105,{"$f":"IF(Kalkulator!$B$35=TRUE,0,VLOOKUP(TODAY()+A2170,T:V,3,1)/100)","v":0.23}]
[2169,7.7499999999999999E-2,9.5100000000000004E-2,7.46E-2,7.46E-2,0.1759,0.1105,{"$f":"IF(Kalkulator!$B$35=TRUE,0,VLOOKUP(TODAY()+A2171,T:V,3,1)/100)","v":0.23}]
[2170,7.7499999999999999E-2,9.5100000000000004E-2,7.46E-2,7.46E-2,0.1759,0.1105,{"$f":"IF(Kalkulator!$B$35=TRUE,0,VLOOKUP(TODAY()+A2172,T:V,3,1)/100)","v":0.23}]
[2171,7.7499999999999999E-2,9.5100000000000004E-2,7.46E-2,7.46E-2,0.1759,0.1105,{"$f":"IF(Kalkulator!$B$35=TRUE,0,VLOOKUP(TODAY()+A2173,T:V,3,1)/100)","v":0.23}]
[2172,7.7499999999999999E-2,9.5100000000000004E-2,7.46E-2,7.46E-2,0.1759,0.1105,{"$f":"IF(Kalkulator!$B$35=TRUE,0,VLOOKUP(TODAY()+A2174,T:V,3,1)/100)","v":0.23}]
[2173,7.7499999999999999E-2,9.5100000000000004E-2,7.46E-2,7.46E-2,0.1759,0.1105,{"$f":"IF(Kalkulator!$B$35=TRUE,0,VLOOKUP(TODAY()+A2175,T:V,3,1)/100)","v":0.23}]
[2174,7.7499999999999999E-2,9.5100000000000004E-2,7.46E-2,7.46E-2,0.1759,0.1105,{"$f":"IF(Kalkulator!$B$35=TRUE,0,VLOOKUP(TODAY()+A2176,T:V,3,1)/100)","v":0.23}]
[2175,7.7499999999999999E-2,9.5100000000000004E-2,7.46E-2,7.46E-2,0.1759,0.1105,{"$f":"IF(Kalkulator!$B$35=TRUE,0,VLOOKUP(TODAY()+A2177,T:V,3,1)/100)","v":0.23}]
[2176,7.7499999999999999E-2,9.5100000000000004E-2,7.46E-2,7.46E-2,0.1759,0.1105,{"$f":"IF(Kalkulator!$B$35=TRUE,0,VLOOKUP(TODAY()+A2178,T:V,3,1)/100)","v":0.23}]
[2177,7.7499999999999999E-2,9.5100000000000004E-2,7.46E-2,7.46E-2,0.1759,0.1105,{"$f":"IF(Kalkulator!$B$35=TRUE,0,VLOOKUP(TODAY()+A2179,T:V,3,1)/100)","v":0.23}]
[2178,7.7499999999999999E-2,9.5100000000000004E-2,7.46E-2,7.46E-2,0.1759,0.1105,{"$f":"IF(Kalkulator!$B$35=TRUE,0,VLOOKUP(TODAY()+A2180,T:V,3,1)/100)","v":0.23}]
[2179,7.7499999999999999E-2,9.5100000000000004E-2,7.46E-2,7.46E-2,0.1759,0.1105,{"$f":"IF(Kalkulator!$B$35=TRUE,0,VLOOKUP(TODAY()+A2181,T:V,3,1)/100)","v":0.23}]
[2180,7.7499999999999999E-2,9.5100000000000004E-2,7.46E-2,7.46E-2,0.1759,0.1105,{"$f":"IF(Kalkulator!$B$35=TRUE,0,VLOOKUP(TODAY()+A2182,T:V,3,1)/100)","v":0.23}]
[2181,7.7499999999999999E-2,9.5100000000000004E-2,7.46E-2,7.46E-2,0.1759,0.1105,{"$f":"IF(Kalkulator!$B$35=TRUE,0,VLOOKUP(TODAY()+A2183,T:V,3,1)/100)","v":0.23}]
[2182,7.7499999999999999E-2,9.5100000000000004E-2,7.46E-2,7.46E-2,0.1759,0.1105,{"$f":"IF(Kalkulator!$B$35=TRUE,0,VLOOKUP(TODAY()+A2184,T:V,3,1)/100)","v":0.23}]
[2183,7.7499999999999999E-2,9.5100000000000004E-2,7.46E-2,7.46E-2,0.1759,0.1105,{"$f":"IF(Kalkulator!$B$35=TRUE,0,VLOOKUP(TODAY()+A2185,T:V,3,1)/100)","v":0.23}]
[2184,7.7499999999999999E-2,9.5100000000000004E-2,7.46E-2,7.46E-2,0.1759,0.1105,{"$f":"IF(Kalkulator!$B$35=TRUE,0,VLOOKUP(TODAY()+A2186,T:V,3,1)/100)","v":0.23}]
[2185,7.7499999999999999E-2,9.5100000000000004E-2,7.46E-2,7.46E-2,0.1759,0.1105,{"$f":"IF(Kalkulator!$B$35=TRUE,0,VLOOKUP(TODAY()+A2187,T:V,3,1)/100)","v":0.23}]
[2186,7.7499999999999999E-2,9.5100000000000004E-2,7.46E-2,7.46E-2,0.1759,0.1105,{"$f":"IF(Kalkulator!$B$35=TRUE,0,VLOOKUP(TODAY()+A2188,T:V,3,1)/100)","v":0.23}]
[2187,7.7499999999999999E-2,9.5100000000000004E-2,7.46E-2,7.46E-2,0.1759,0.1105,{"$f":"IF(Kalkulator!$B$35=TRUE,0,VLOOKUP(TODAY()+A2189,T:V,3,1)/100)","v":0.23}]
[2188,7.7499999999999999E-2,9.5100000000000004E-2,7.46E-2,7.46E-2,0.1759,0.1105,{"$f":"IF(Kalkulator!$B$35=TRUE,0,VLOOKUP(TODAY()+A2190,T:V,3,1)/100)","v":0.23}]
[2189,7.7499999999999999E-2,9.5100000000000004E-2,7.46E-2,7.46E-2,0.1759,0.1105,{"$f":"IF(Kalkulator!$B$35=TRUE,0,VLOOKUP(TODAY()+A2191,T:V,3,1)/100)","v":0.23}]
[2190,7.7499999999999999E-2,9.5100000000000004E-2,7.46E-2,7.46E-2,0.1759,0.1105,{"$f":"IF(Kalkulator!$B$35=TRUE,0,VLOOKUP(TODAY()+A2192,T:V,3,1)/100)","v":0.23}]
[2191,7.7499999999999999E-2,9.5100000000000004E-2,7.46E-2,7.46E-2,0.1759,0.1105,{"$f":"IF(Kalkulator!$B$35=TRUE,0,VLOOKUP(TODAY()+A2193,T:V,3,1)/100)","v":0.23}]
[2192,7.7499999999999999E-2,9.5100000000000004E-2,7.46E-2,7.46E-2,0.1759,0.1105,{"$f":"IF(Kalkulator!$B$35=TRUE,0,VLOOKUP(TODAY()+A2194,T:V,3,1)/100)","v":0.23}]
[2193,7.7499999999999999E-2,9.5100000000000004E-2,7.46E-2,7.46E-2,0.1759,0.1105,{"$f":"IF(Kalkulator!$B$35=TRUE,0,VLOOKUP(TODAY()+A2195,T:V,3,1)/100)","v":0.23}]
[2194,7.7499999999999999E-2,9.5100000000000004E-2,7.46E-2,7.46E-2,0.1759,0.1105,{"$f":"IF(Kalkulator!$B$35=TRUE,0,VLOOKUP(TODAY()+A2196,T:V,3,1)/100)","v":0.23}]
[2195,7.7499999999999999E-2,9.5100000000000004E-2,7.46E-2,7.46E-2,0.1759,0.1105,{"$f":"IF(Kalkulator!$B$35=TRUE,0,VLOOKUP(TODAY()+A2197,T:V,3,1)/100)","v":0.23}]
[2196,7.7499999999999999E-2,9.5100000000000004E-2,7.46E-2,7.46E-2,0.1759,0.1105,{"$f":"IF(Kalkulator!$B$35=TRUE,0,VLOOKUP(TODAY()+A2198,T:V,3,1)/100)","v":0.23}]
[2197,7.7499999999999999E-2,9.5100000000000004E-2,7.46E-2,7.46E-2,0.1759,0.1105,{"$f":"IF(Kalkulator!$B$35=TRUE,0,VLOOKUP(TODAY()+A2199,T:V,3,1)/100)","v":0.23}]
[2198,7.7499999999999999E-2,9.5100000000000004E-2,7.46E-2,7.46E-2,0.1759,0.1105,{"$f":"IF(Kalkulator!$B$35=TRUE,0,VLOOKUP(TODAY()+A2200,T:V,3,1)/100)","v":0.23}]
[2199,7.7499999999999999E-2,9.5100000000000004E-2,7.46E-2,7.46E-2,0.1759,0.1105,{"$f":"IF(Kalkulator!$B$35=TRUE,0,VLOOKUP(TODAY()+A2201,T:V,3,1)/100)","v":0.23}]
[2200,7.7499999999999999E-2,9.5100000000000004E-2,7.46E-2,7.46E-2,0.1759,0.1105,{"$f":"IF(Kalkulator!$B$35=TRUE,0,VLOOKUP(TODAY()+A2202,T:V,3,1)/100)","v":0.23}]
[2201,7.7499999999999999E-2,9.5100000000000004E-2,7.46E-2,7.46E-2,0.1759,0.1105,{"$f":"IF(Kalkulator!$B$35=TRUE,0,VLOOKUP(TODAY()+A2203,T:V,3,1)/100)","v":0.23}]
[2202,7.7499999999999999E-2,9.5100000000000004E-2,7.46E-2,7.46E-2,0.1759,0.1105,{"$f":"IF(Kalkulator!$B$35=TRUE,0,VLOOKUP(TODAY()+A2204,T:V,3,1)/100)","v":0.23}]
[2203,7.7499999999999999E-2,9.5100000000000004E-2,7.46E-2,7.46E-2,0.1759,0.1105,{"$f":"IF(Kalkulator!$B$35=TRUE,0,VLOOKUP(TODAY()+A2205,T:V,3,1)/100)","v":0.23}]
[2204,7.7499999999999999E-2,9.5100000000000004E-2,7.46E-2,7.46E-2,0.1759,0.1105,{"$f":"IF(Kalkulator!$B$35=TRUE,0,VLOOKUP(TODAY()+A2206,T:V,3,1)/100)","v":0.23}]
[2205,7.7499999999999999E-2,9.5100000000000004E-2,7.46E-2,7.46E-2,0.1759,0.1105,{"$f":"IF(Kalkulator!$B$35=TRUE,0,VLOOKUP(TODAY()+A2207,T:V,3,1)/100)","v":0.23}]
[2206,7.7499999999999999E-2,9.5100000000000004E-2,7.46E-2,7.46E-2,0.1759,0.1105,{"$f":"IF(Kalkulator!$B$35=TRUE,0,VLOOKUP(TODAY()+A2208,T:V,3,1)/100)","v":0.23}]