{"text_format":"1","workbook":"xlsx","n_sheets":12,"sheets":["Kalkulator","kompensacja międzyproduktowa","koszyki","koszyki P_L_H","Arkusz2","krzywa","Instrukcja","Manual","Kalkulator Depozytów","raport RTT","Transakcje_PCCP","Tabela"],"not_rendered":{"charts":0,"images":3,"macros":1,"external_links":0,"defined_names":4,"comments":0,"pivot_tables":0},"unopened":[],"bounds":{"document_bytes":16777216,"sheet_cells":100000,"rows_first":2000,"rows_last":500,"rows_between":2000,"halvings":0,"cell_chars":16384,"cell_head_chars":4096},"cells_cut":0,"cells_raw":0,"read":"whole","date_system":"1900"}

{"sheet":"Kalkulator","index":0,"n_rows":268,"n_cols":69,"rows_kept":268,"cut":false,"hidden":true,"merged":[[6,18,6,22]]}
["Podaj Datę",null,"Typ kontraktu",null,null,"typ"]
[{"$f":"'Kalkulator Depozytów'!F12","v":"00:00:00"},null,{"$f":"'Kalkulator Depozytów'!J13","v":0}]
[null,null,null,null,null,null,null,null,null,null,null,null,null,null,null,null,null,null,null,null,null,null,null,null,null,null,"ile < 0","ile > 0","minimalne >0","maksymalne <0"]
[null,null,null,null,null,null,null,null,null,null,null,null,null,null,null,null,null,null,null,null,null,null,null,null,null,null,{"$f":"COUNTIF(Y8:Y35,\"<0\")","v":28},{"$f":"COUNTIF(Z8:Z35,\"<0\")","v":28},{"$f":"SMALL(Y8:Y36,AA4+1)","v":-279},{"$f":"SMALL(Z8:Z36,AB4)","v":-798}]
[null,null,null,null,null,null,null,null,null,null,null,null,null,null,null,"Suma Depozytów",null,null,null,null,null,null,null,null,null,null,null,null,null,null,null,"różnica","ile dodać?"]
[null,null,null,null,null,null,null,null,null,null,null,null,null,null,null,{"$f":"SUM(P8:P29)","v":0},{"$f":"SUM(Q8:Q29)*'Kalkulator Depozytów'!F14","v":{"$error":"#N/A"}},null,null,null,null,null,null,null,"miejsce na date początkową","miejsce na datę końcową",null,null,{"$f":"VLOOKUP(AC4,Y8:AB39,4,0)","v":29},{"$f":"VLOOKUP(AD4,Z8:AB35,3,0)","v":28},null,{"$f":"AC6-AD6+1","v":2}]
["Początek","Koniec","Nominał","Wolumen Kupna","ŚWKK","Wolumen Sprzedaży","ŚWWS","Kurs Rozliczeniowy","Współczynnik Ryzyka","Zmiana czasu","Dni","profil dostawy","Liczba dni roboczych","Liczba dnia świątecznych","PEAK","Depozyt uzupełniający","Depozyt wstępny","L/H-PEAK","VAT",null,null,null,null,null,"2028-01-01","2028-12-31",null,null,null,10,null,null,null,null,null,"data koniec",null,null,null,null,"czy święto",null,null,null,null,"sum jeżeli",null,null,null,null,null,null,null,"data koniec",null,null,null,null,"czy święto",null,null,null,null,"sum jeżeli"]
["2024-11-28","2024-11-28",{"$f":"IF(L8=\"BASE\",(B8-A8+1)*24+J8,IF(L8=\"OFFPEAK\",M8*9+(N8)*24+J8,IF(L8=\"L-PEAK5\",M8*10,IF(L8=\"H-PEAK5\",M8*5,M8*15))))","v":24},{"$f":"'Kalkulator Depozytów'!M13","v":0},{"$f":"'Kalkulator Depozytów'!N13","v":0},{"$f":"'Kalkulator Depozytów'!O13","v":0},{"$f":"'Kalkulator Depozytów'!P13","v":0},{"$f":"'Kalkulator Depozytów'!Q13","v":0},{"$f":"ROUND(IF(OR(AND(K8>0,L8=\"L-PEAK5\"),AND(K8>0,L8=\"H-PEAK5\")),R8,IF(AND(K8>0,L8=\"PEAK5\"),O8,IF(K8>0,IF(OR(L8=\"BASE\"),AVERAGE(INDIRECT(\"krzywa!B\"&MATCH(A8-$A$2,krzywa!A:A,0)&\":B\"&MATCH(B8-$A$2,krzywa!A:A,0),TRUE)),IF(OR(L8=\"OFFPEAK\"),AVERAGE(INDIRECT(\"krzywa!F\"&MATCH(A8-$A$2,krzywa!A:A,0)&\":F\"&MATCH(B8-$A$2,krzywa!A:A,0)))))))),4)","v":{"$error":"#N/A"}},0,{"$f":"B8-$A$2","v":45624},"BASE",{"$f":"NETWORKDAYS(A8,B8,koszyki!$M$20:$M$898)","v":1},{"$f":"B8-A8+1- NETWORKDAYS(A8,B8,koszyki!$M$20:$M$898)","v":0},{"$f":"ROUND(IF((B8-A8+1)>2,IF(C8=75,AVERAGE(INDIRECT(\"krzywa!C\"&MATCH(K8-6,krzywa!A:A,0)&\":C\"&MATCH(K8-2,krzywa!A:A,0))),AVERAGE(INDIRECT(\"krzywa!C\"&MATCH(A8-$A$2+BQ8,krzywa!A:A,0)&\":C\"&MATCH(B8-$A$2-AY8,krzywa!A:A,0)))),INDIRECT(\"krzywa!C\"&MATCH(K8,krzywa!A:A,0))),4)","v":{"$error":"#N/A"}},{"$f":"C8*(D8*(H8-E8)-F8*(H8-G8))*U8","v":0},{"$f":"-C8*ABS(D8-F8)*H8*I8*U8+'kompensacja międzyproduktowa'!X8*U8","v":{"$error":"#N/A"}},{"$f":"ROUND(IF((B8-A8+1)>2,IF(C8=75,AVERAGE(INDIRECT(\"krzywa!D\"&MATCH(K8-6,krzywa!A:A,0)&\":D\"&MATCH(K8-2,krzywa!A:A,0))),AVERAGE(INDIRECT(\"krzywa!D\"&MATCH(A8-$A$2+BQ8,krzywa!A:A,0)&\":D\"&MATCH(B8-$A$2-AY8,krzywa!A:A,0)))),INDIRECT(\"krzywa!D\"&MATCH(K8,krzywa!A:A,0))),4)","v":{"$error":"#N/A"}},{"$f":"VLOOKUP(A8,krzywa!L:N,3,1)","v":0},{"$f":"VLOOKUP(B8,krzywa!L:N,3,1)","v":0},{"$f":"IF('Kalkulator Depozytów'!$B$35=TRUE,1,(1+S8/100)*W8+(1+T8/100)*(1-W8))","v":1},{"$f":"IF(S8<>T8,VLOOKUP(A8,krzywa!L:M,2,1))","v":false},{"$f":"IF(V8<>FALSE,IF(L8=\"BASE\",(V8-A8+1)*24+J8,IF(L8=\"OFFPEAK\",NETWORKDAYS(A8,V8,koszyki!$M$20:$M$898)*9+(N8)*24+J8,IF(L8=\"L-PEAK5\",NETWORKDAYS(A8,V8,koszyki!$M$20:$M$898)*10,IF(L8=\"H-PEAK5\",NETWORKDAYS(A8,V8,koszyki!$M$20:$M$898)*5,NETWORKDAYS(A8,V8,koszyki!$M$20:$M$898)*15))))/C8,1)","v":1},null,{"$f":"AC8-$Y$7","v":-5389},{"$f":"AC8-$Z$7","v":-5754},null,1,"2013-03-31",-1,null,null,null,null,null,{"$f":"B8","v":"2024-11-28"},{"$f":"AJ8-1","v":"2024-11-27"},"2024-11-26","2024-11-25",null,{"$f":"NETWORKDAYS(AJ8,AJ8,koszyki!$M$20:$M$89)","v":1},{"$f":"NETWORKDAYS(AK8,AK8,koszyki!$M$20:$M$89)","v":1},{"$f":"NETWORKDAYS(AL8,AL8,koszyki!$M$20:$M$89)","v":1},{"$f":"NETWORKDAYS(AM8,AM8,koszyki!$M$20:$M$89)","v":1},null,{"$f":"SUM(AO8)","v":1},{"$f":"SUM(AO8:AP8)","v":2},{"$f":"SUM(AO8:AQ8)","v":3},{"$f":"SUM(AO8:AR8)","v":4},null,{"$f":"COUNTIF(AT8:AW8,\"=0\")","v":0},null,null,{"$f":"A8","v":"2024-11-28"},{"$f":"BB8+1","v":"2024-11-29"},{"$f":"BC8+1","v":"2024-11-30"},{"$f":"BD8+1","v":"2024-12-01"},null,{"$f":"NETWORKDAYS(BB8,BB8,koszyki!$M$20:$M$89)","v":1},{"$f":"NETWORKDAYS(BC8,BC8,koszyki!$M$20:$M$89)","v":1},{"$f":"NETWORKDAYS(BD8,BD8,koszyki!$M$20:$M$89)","v":0},{"$f":"NETWORKDAYS(BE8,BE8,koszyki!$M$20:$M$89)","v":0},null,{"$f":"SUM(BG8)","v":1},{"$f":"SUM(BG8:BH8)","v":2},{"$f":"SUM(BG8:BI8)","v":2},{"$f":"SUM(BG8:BJ8)","v":2},null,{"$f":"COUNTIF(BL8:BO8,\"=0\")","v":0}]
["2024-11-29","2024-11-29",{"$f":"IF(L9=\"BASE\",(B9-A9+1)*24+J9,IF(L9=\"OFFPEAK\",M9*9+(N9)*24+J9,IF(L9=\"L-PEAK5\",M9*10,IF(L9=\"H-PEAK5\",M9*5,M9*15))))","v":24},{"$f":"'Kalkulator Depozytów'!M14","v":0},{"$f":"'Kalkulator Depozytów'!N14","v":0},{"$f":"'Kalkulator Depozytów'!O14","v":0},{"$f":"'Kalkulator Depozytów'!P14","v":0},{"$f":"'Kalkulator Depozytów'!Q14","v":0},{"$f":"ROUND(IF(OR(AND(K9>0,L9=\"L-PEAK5\"),AND(K9>0,L9=\"H-PEAK5\")),R9,IF(AND(K9>0,L9=\"PEAK5\"),O9,IF(K9>0,IF(OR(L9=\"BASE\"),AVERAGE(INDIRECT(\"krzywa!B\"&MATCH(A9-$A$2,krzywa!A:A,0)&\":B\"&MATCH(B9-$A$2,krzywa!A:A,0),TRUE)),IF(OR(L9=\"OFFPEAK\"),AVERAGE(INDIRECT(\"krzywa!F\"&MATCH(A9-$A$2,krzywa!A:A,0)&\":F\"&MATCH(B9-$A$2,krzywa!A:A,0)))))))),4)","v":{"$error":"#N/A"}},0,{"$f":"B9-$A$2","v":45625},"BASE",{"$f":"NETWORKDAYS(A9,B9,koszyki!$M$20:$M$898)","v":1},{"$f":"B9-A9+1- NETWORKDAYS(A9,B9,koszyki!$M$20:$M$898)","v":0},{"$f":"ROUND(IF((B9-A9+1)>2,IF(C9=75,AVERAGE(INDIRECT(\"krzywa!C\"&MATCH(K9-6,krzywa!A:A,0)&\":C\"&MATCH(K9-2,krzywa!A:A,0))),AVERAGE(INDIRECT(\"krzywa!C\"&MATCH(A9-$A$2+BQ9,krzywa!A:A,0)&\":C\"&MATCH(B9-$A$2-AY9,krzywa!A:A,0)))),INDIRECT(\"krzywa!C\"&MATCH(K9,krzywa!A:A,0))),4)","v":{"$error":"#N/A"}},{"$f":"C9*(D9*(H9-E9)-F9*(H9-G9))*U9","v":0},{"$f":"-C9*ABS(D9-F9)*H9*I9*U9+'kompensacja międzyproduktowa'!X9*U9","v":{"$error":"#N/A"}},{"$f":"ROUND(IF((B9-A9+1)>2,IF(C9=75,AVERAGE(INDIRECT(\"krzywa!D\"&MATCH(K9-6,krzywa!A:A,0)&\":D\"&MATCH(K9-2,krzywa!A:A,0))),AVERAGE(INDIRECT(\"krzywa!D\"&MATCH(A9-$A$2+BQ9,krzywa!A:A,0)&\":D\"&MATCH(B9-$A$2-AY9,krzywa!A:A,0)))),INDIRECT(\"krzywa!D\"&MATCH(K9,krzywa!A:A,0))),4)","v":{"$error":"#N/A"}},{"$f":"VLOOKUP(A9,krzywa!L:N,3,1)","v":0},{"$f":"VLOOKUP(B9,krzywa!L:N,3,1)","v":0},{"$f":"IF('Kalkulator Depozytów'!$B$35=TRUE,1,(1+S9/100)*W9+(1+T9/100)*(1-W9))","v":1},{"$f":"IF(S9<>T9,VLOOKUP(A9,krzywa!L:M,2,1))","v":false},{"$f":"IF(V9<>FALSE,IF(L9=\"BASE\",(V9-A9+1)*24+J9,IF(L9=\"OFFPEAK\",NETWORKDAYS(A9,V9,koszyki!$M$20:$M$898)*9+(N9)*24+J9,IF(L9=\"L-PEAK5\",NETWORKDAYS(A9,V9,koszyki!$M$20:$M$898)*10,IF(L9=\"H-PEAK5\",NETWORKDAYS(A9,V9,koszyki!$M$20:$M$898)*5,NETWORKDAYS(A9,V9,koszyki!$M$20:$M$898)*15))))/C9,1)","v":1},null,{"$f":"AC9-$Y$7","v":-5179},-5544,null,2,"2013-10-27",1,null,null,null,null,null,"2024-11-29","2024-11-28","2024-11-27","2024-11-26",null,{"$f":"NETWORKDAYS(AJ9,AJ9,koszyki!$M$20:$M$89)","v":1},{"$f":"NETWORKDAYS(AK9,AK9,koszyki!$M$20:$M$89)","v":1},{"$f":"NETWORKDAYS(AL9,AL9,koszyki!$M$20:$M$89)","v":1},{"$f":"NETWORKDAYS(AM9,AM9,koszyki!$M$20:$M$89)","v":1},null,{"$f":"SUM(AO9)","v":1},{"$f":"SUM(AO9:AP9)","v":2},{"$f":"SUM(AO9:AQ9)","v":3},{"$f":"SUM(AO9:AR9)","v":4},null,{"$f":"COUNTIF(AT9:AW9,\"=0\")","v":0},null,null,"2024-11-29",{"$f":"BB9+1","v":"2024-11-30"},"2024-12-01",{"$f":"BD9+1","v":"2024-12-02"},null,{"$f":"NETWORKDAYS(BB9,BB9,koszyki!$M$20:$M$89)","v":1},{"$f":"NETWORKDAYS(BC9,BC9,koszyki!$M$20:$M$89)","v":0},{"$f":"NETWORKDAYS(BD9,BD9,koszyki!$M$20:$M$89)","v":0},{"$f":"NETWORKDAYS(BE9,BE9,koszyki!$M$20:$M$89)","v":1},null,{"$f":"SUM(BG9)","v":1},{"$f":"SUM(BG9:BH9)","v":1},{"$f":"SUM(BG9:BI9)","v":1},{"$f":"SUM(BG9:BJ9)","v":2},null,{"$f":"COUNTIF(BL9:BO9,\"=0\")","v":0}]
["2024-11-30","2024-11-30",24,{"$f":"'Kalkulator Depozytów'!M15","v":0},{"$f":"'Kalkulator Depozytów'!N15","v":0},{"$f":"'Kalkulator Depozytów'!O15","v":0},{"$f":"'Kalkulator Depozytów'!P15","v":0},{"$f":"'Kalkulator Depozytów'!Q15","v":0},{"$f":"ROUND(IF(OR(AND(K10>0,L10=\"L-PEAK5\"),AND(K10>0,L10=\"H-PEAK5\")),R10,IF(AND(K10>0,L10=\"PEAK5\"),O10,IF(K10>0,IF(OR(L10=\"BASE\"),AVERAGE(INDIRECT(\"krzywa!B\"&MATCH(A10-$A$2,krzywa!A:A,0)&\":B\"&MATCH(B10-$A$2,krzywa!A:A,0),TRUE)),IF(OR(L10=\"OFFPEAK\"),AVERAGE(INDIRECT(\"krzywa!F\"&MATCH(A10-$A$2,krzywa!A:A,0)&\":F\"&MATCH(B10-$A$2,krzywa!A:A,0)))))))),4)","v":{"$error":"#N/A"}},0,45626,"BASE",{"$f":"NETWORKDAYS(A10,B10,koszyki!$M$20:$M$898)","v":0},{"$f":"B10-A10+1- NETWORKDAYS(A10,B10,koszyki!$M$20:$M$898)","v":1},{"$f":"ROUND(IF((B10-A10+1)>2,IF(C10=75,AVERAGE(INDIRECT(\"krzywa!C\"&MATCH(K10-6,krzywa!A:A,0)&\":C\"&MATCH(K10-2,krzywa!A:A,0))),AVERAGE(INDIRECT(\"krzywa!C\"&MATCH(A10-$A$2+BQ10,krzywa!A:A,0)&\":C\"&MATCH(B10-$A$2-AY10,krzywa!A:A,0)))),INDIRECT(\"krzywa!C\"&MATCH(K10,krzywa!A:A,0))),4)","v":{"$error":"#N/A"}},0,{"$f":"-C10*ABS(D10-F10)*H10*I10*U10+'kompensacja międzyproduktowa'!X10*U10","v":{"$error":"#N/A"}},{"$f":"ROUND(IF((B10-A10+1)>2,IF(C10=75,AVERAGE(INDIRECT(\"krzywa!D\"&MATCH(K10-6,krzywa!A:A,0)&\":D\"&MATCH(K10-2,krzywa!A:A,0))),AVERAGE(INDIRECT(\"krzywa!D\"&MATCH(A10-$A$2+BQ10,krzywa!A:A,0)&\":D\"&MATCH(B10-$A$2-AY10,krzywa!A:A,0)))),INDIRECT(\"krzywa!D\"&MATCH(K10,krzywa!A:A,0))),4)","v":{"$error":"#N/A"}},{"$f":"VLOOKUP(A10,krzywa!L:N,3,1)","v":0},{"$f":"VLOOKUP(B10,krzywa!L:N,3,1)","v":0},{"$f":"IF('Kalkulator Depozytów'!$B$35=TRUE,1,(1+S10/100)*W10+(1+T10/100)*(1-W10))","v":1},{"$f":"IF(S10<>T10,VLOOKUP(A10,krzywa!L:M,2,1))","v":false},{"$f":"IF(V10<>FALSE,IF(L10=\"BASE\",(V10-A10+1)*24+J10,IF(L10=\"OFFPEAK\",NETWORKDAYS(A10,V10,koszyki!$M$20:$M$898)*9+(N10)*24+J10,IF(L10=\"L-PEAK5\",NETWORKDAYS(A10,V10,koszyki!$M$20:$M$898)*10,IF(L10=\"H-PEAK5\",NETWORKDAYS(A10,V10,koszyki!$M$20:$M$898)*5,NETWORKDAYS(A10,V10,koszyki!$M$20:$M$898)*15))))/C10,1)","v":1},null,-5025,-5390,null,3,"2014-03-30",-1,null,null,null,null,null,"2024-11-30","2024-11-29","2024-11-28","2024-11-27",null,{"$f":"NETWORKDAYS(AJ10,AJ10,koszyki!$M$20:$M$89)","v":0},{"$f":"NETWORKDAYS(AK10,AK10,koszyki!$M$20:$M$89)","v":1},{"$f":"NETWORKDAYS(AL10,AL10,koszyki!$M$20:$M$89)","v":1},{"$f":"NETWORKDAYS(AM10,AM10,koszyki!$M$20:$M$89)","v":1},null,0,1,2,3,null,1,null,null,"2024-11-30","2024-12-01","2024-12-02","2024-12-03",null,{"$f":"NETWORKDAYS(BB10,BB10,koszyki!$M$20:$M$89)","v":0},{"$f":"NETWORKDAYS(BC10,BC10,koszyki!$M$20:$M$89)","v":0},{"$f":"NETWORKDAYS(BD10,BD10,koszyki!$M$20:$M$89)","v":1},{"$f":"NETWORKDAYS(BE10,BE10,koszyki!$M$20:$M$89)","v":1},null,0,0,1,2,null,2]
["2024-12-01","2024-12-01",24,{"$f":"'Kalkulator Depozytów'!M16","v":0},{"$f":"'Kalkulator Depozytów'!N16","v":0},{"$f":"'Kalkulator Depozytów'!O16","v":0},{"$f":"'Kalkulator Depozytów'!P16","v":0},{"$f":"'Kalkulator Depozytów'!Q16","v":0},{"$f":"ROUND(IF(OR(AND(K11>0,L11=\"L-PEAK5\"),AND(K11>0,L11=\"H-PEAK5\")),R11,IF(AND(K11>0,L11=\"PEAK5\"),O11,IF(K11>0,IF(OR(L11=\"BASE\"),AVERAGE(INDIRECT(\"krzywa!B\"&MATCH(A11-$A$2,krzywa!A:A,0)&\":B\"&MATCH(B11-$A$2,krzywa!A:A,0),TRUE)),IF(OR(L11=\"OFFPEAK\"),AVERAGE(INDIRECT(\"krzywa!F\"&MATCH(A11-$A$2,krzywa!A:A,0)&\":F\"&MATCH(B11-$A$2,krzywa!A:A,0)))))))),4)","v":{"$error":"#N/A"}},0,45627,"BASE",{"$f":"NETWORKDAYS(A11,B11,koszyki!$M$20:$M$898)","v":0},{"$f":"B11-A11+1- NETWORKDAYS(A11,B11,koszyki!$M$20:$M$898)","v":1},{"$f":"ROUND(IF((B11-A11+1)>2,IF(C11=75,AVERAGE(INDIRECT(\"krzywa!C\"&MATCH(K11-6,krzywa!A:A,0)&\":C\"&MATCH(K11-2,krzywa!A:A,0))),AVERAGE(INDIRECT(\"krzywa!C\"&MATCH(A11-$A$2+BQ11,krzywa!A:A,0)&\":C\"&MATCH(B11-$A$2-AY11,krzywa!A:A,0)))),INDIRECT(\"krzywa!C\"&MATCH(K11,krzywa!A:A,0))),4)","v":{"$error":"#N/A"}},0,{"$f":"-C11*ABS(D11-F11)*H11*I11*U11+'kompensacja międzyproduktowa'!X11*U11","v":{"$error":"#N/A"}},{"$f":"ROUND(IF((B11-A11+1)>2,IF(C11=75,AVERAGE(INDIRECT(\"krzywa!D\"&MATCH(K11-6,krzywa!A:A,0)&\":D\"&MATCH(K11-2,krzywa!A:A,0))),AVERAGE(INDIRECT(\"krzywa!D\"&MATCH(A11-$A$2+BQ11,krzywa!A:A,0)&\":D\"&MATCH(B11-$A$2-AY11,krzywa!A:A,0)))),INDIRECT(\"krzywa!D\"&MATCH(K11,krzywa!A:A,0))),4)","v":{"$error":"#N/A"}},{"$f":"VLOOKUP(A11,krzywa!L:N,3,1)","v":0},{"$f":"VLOOKUP(B11,krzywa!L:N,3,1)","v":0},{"$f":"IF('Kalkulator Depozytów'!$B$35=TRUE,1,(1+S11/100)*W11+(1+T11/100)*(1-W11))","v":1},{"$f":"IF(S11<>T11,VLOOKUP(A11,krzywa!L:M,2,1))","v":false},{"$f":"IF(V11<>FALSE,IF(L11=\"BASE\",(V11-A11+1)*24+J11,IF(L11=\"OFFPEAK\",NETWORKDAYS(A11,V11,koszyki!$M$20:$M$898)*9+(N11)*24+J11,IF(L11=\"L-PEAK5\",NETWORKDAYS(A11,V11,koszyki!$M$20:$M$898)*10,IF(L11=\"H-PEAK5\",NETWORKDAYS(A11,V11,koszyki!$M$20:$M$898)*5,NETWORKDAYS(A11,V11,koszyki!$M$20:$M$898)*15))))/C11,1)","v":1},null,-4815,-5180,null,4,"2014-10-26",1,null,null,null,null,null,"2024-12-01","2024-11-30","2024-11-29","2024-11-28",null,{"$f":"NETWORKDAYS(AJ11,AJ11,koszyki!$M$20:$M$89)","v":0},{"$f":"NETWORKDAYS(AK11,AK11,koszyki!$M$20:$M$89)","v":0},{"$f":"NETWORKDAYS(AL11,AL11,koszyki!$M$20:$M$89)","v":1},{"$f":"NETWORKDAYS(AM11,AM11,koszyki!$M$20:$M$89)","v":1},null,0,0,1,2,null,2,null,null,"2024-12-01","2024-12-02","2024-12-03","2024-12-04",null,{"$f":"NETWORKDAYS(BB11,BB11,koszyki!$M$20:$M$89)","v":0},{"$f":"NETWORKDAYS(BC11,BC11,koszyki!$M$20:$M$89)","v":1},{"$f":"NETWORKDAYS(BD11,BD11,koszyki!$M$20:$M$89)","v":1},{"$f":"NETWORKDAYS(BE11,BE11,koszyki!$M$20:$M$89)","v":1},null,0,1,2,3,null,1]
["2024-12-02","2024-12-02",24,{"$f":"'Kalkulator Depozytów'!M17","v":0},{"$f":"'Kalkulator Depozytów'!N17","v":0},{"$f":"'Kalkulator Depozytów'!O17","v":0},{"$f":"'Kalkulator Depozytów'!P17","v":0},{"$f":"'Kalkulator Depozytów'!Q17","v":0},{"$f":"ROUND(IF(OR(AND(K12>0,L12=\"L-PEAK5\"),AND(K12>0,L12=\"H-PEAK5\")),R12,IF(AND(K12>0,L12=\"PEAK5\"),O12,IF(K12>0,IF(OR(L12=\"BASE\"),AVERAGE(INDIRECT(\"krzywa!B\"&MATCH(A12-$A$2,krzywa!A:A,0)&\":B\"&MATCH(B12-$A$2,krzywa!A:A,0),TRUE)),IF(OR(L12=\"OFFPEAK\"),AVERAGE(INDIRECT(\"krzywa!F\"&MATCH(A12-$A$2,krzywa!A:A,0)&\":F\"&MATCH(B12-$A$2,krzywa!A:A,0)))))))),4)","v":{"$error":"#N/A"}},0,45628,"BASE",{"$f":"NETWORKDAYS(A12,B12,koszyki!$M$20:$M$898)","v":1},{"$f":"B12-A12+1- NETWORKDAYS(A12,B12,koszyki!$M$20:$M$898)","v":0},{"$f":"ROUND(IF((B12-A12+1)>2,IF(C12=75,AVERAGE(INDIRECT(\"krzywa!C\"&MATCH(K12-6,krzywa!A:A,0)&\":C\"&MATCH(K12-2,krzywa!A:A,0))),AVERAGE(INDIRECT(\"krzywa!C\"&MATCH(A12-$A$2+BQ12,krzywa!A:A,0)&\":C\"&MATCH(B12-$A$2-AY12,krzywa!A:A,0)))),INDIRECT(\"krzywa!C\"&MATCH(K12,krzywa!A:A,0))),4)","v":{"$error":"#N/A"}},0,{"$f":"-C12*ABS(D12-F12)*H12*I12*U12+'kompensacja międzyproduktowa'!X12*U12","v":{"$error":"#N/A"}},{"$f":"ROUND(IF((B12-A12+1)>2,IF(C12=75,AVERAGE(INDIRECT(\"krzywa!D\"&MATCH(K12-6,krzywa!A:A,0)&\":D\"&MATCH(K12-2,krzywa!A:A,0))),AVERAGE(INDIRECT(\"krzywa!D\"&MATCH(A12-$A$2+BQ12,krzywa!A:A,0)&\":D\"&MATCH(B12-$A$2-AY12,krzywa!A:A,0)))),INDIRECT(\"krzywa!D\"&MATCH(K12,krzywa!A:A,0))),4)","v":{"$error":"#N/A"}},{"$f":"VLOOKUP(A12,krzywa!L:N,3,1)","v":0},{"$f":"VLOOKUP(B12,krzywa!L:N,3,1)","v":0},{"$f":"IF('Kalkulator Depozytów'!$B$35=TRUE,1,(1+S12/100)*W12+(1+T12/100)*(1-W12))","v":1},{"$f":"IF(S12<>T12,VLOOKUP(A12,krzywa!L:M,2,1))","v":false},{"$f":"IF(V12<>FALSE,IF(L12=\"BASE\",(V12-A12+1)*24+J12,IF(L12=\"OFFPEAK\",NETWORKDAYS(A12,V12,koszyki!$M$20:$M$898)*9+(N12)*24+J12,IF(L12=\"L-PEAK5\",NETWORKDAYS(A12,V12,koszyki!$M$20:$M$898)*10,IF(L12=\"H-PEAK5\",NETWORKDAYS(A12,V12,koszyki!$M$20:$M$898)*5,NETWORKDAYS(A12,V12,koszyki!$M$20:$M$898)*15))))/C12,1)","v":1},null,-4661,-5026,null,5,"2015-03-29",-1,null,null,null,null,null,"2024-12-02","2024-12-01","2024-11-30","2024-11-29",null,{"$f":"NETWORKDAYS(AJ12,AJ12,koszyki!$M$20:$M$89)","v":1},{"$f":"NETWORKDAYS(AK12,AK12,koszyki!$M$20:$M$89)","v":0},{"$f":"NETWORKDAYS(AL12,AL12,koszyki!$M$20:$M$89)","v":0},{"$f":"NETWORKDAYS(AM12,AM12,koszyki!$M$20:$M$89)","v":1},null,1,1,1,2,null,0,null,null,"2024-12-02","2024-12-03","2024-12-04","2024-12-05",null,{"$f":"NETWORKDAYS(BB12,BB12,koszyki!$M$20:$M$89)","v":1},{"$f":"NETWORKDAYS(BC12,BC12,koszyki!$M$20:$M$89)","v":1},{"$f":"NETWORKDAYS(BD12,BD12,koszyki!$M$20:$M$89)","v":1},{"$f":"NETWORKDAYS(BE12,BE12,koszyki!$M$20:$M$89)","v":1},null,1,2,3,4,null,0]
["2024-12-03","2024-12-03",24,{"$f":"'Kalkulator Depozytów'!M18","v":0},{"$f":"'Kalkulator Depozytów'!N18","v":0},{"$f":"'Kalkulator Depozytów'!O18","v":0},{"$f":"'Kalkulator Depozytów'!P18","v":0},{"$f":"'Kalkulator Depozytów'!Q18","v":0},{"$f":"ROUND(IF(OR(AND(K13>0,L13=\"L-PEAK5\"),AND(K13>0,L13=\"H-PEAK5\")),R13,IF(AND(K13>0,L13=\"PEAK5\"),O13,IF(K13>0,IF(OR(L13=\"BASE\"),AVERAGE(INDIRECT(\"krzywa!B\"&MATCH(A13-$A$2,krzywa!A:A,0)&\":B\"&MATCH(B13-$A$2,krzywa!A:A,0),TRUE)),IF(OR(L13=\"OFFPEAK\"),AVERAGE(INDIRECT(\"krzywa!F\"&MATCH(A13-$A$2,krzywa!A:A,0)&\":F\"&MATCH(B13-$A$2,krzywa!A:A,0)))))))),4)","v":{"$error":"#N/A"}},0,45629,"BASE",{"$f":"NETWORKDAYS(A13,B13,koszyki!$M$20:$M$898)","v":1},{"$f":"B13-A13+1- NETWORKDAYS(A13,B13,koszyki!$M$20:$M$898)","v":0},{"$f":"ROUND(IF((B13-A13+1)>2,IF(C13=75,AVERAGE(INDIRECT(\"krzywa!C\"&MATCH(K13-6,krzywa!A:A,0)&\":C\"&MATCH(K13-2,krzywa!A:A,0))),AVERAGE(INDIRECT(\"krzywa!C\"&MATCH(A13-$A$2+BQ13,krzywa!A:A,0)&\":C\"&MATCH(B13-$A$2-AY13,krzywa!A:A,0)))),INDIRECT(\"krzywa!C\"&MATCH(K13,krzywa!A:A,0))),4)","v":{"$error":"#N/A"}},0,{"$f":"-C13*ABS(D13-F13)*H13*I13*U13+'kompensacja międzyproduktowa'!X13*U13","v":{"$error":"#N/A"}},{"$f":"ROUND(IF((B13-A13+1)>2,IF(C13=75,AVERAGE(INDIRECT(\"krzywa!D\"&MATCH(K13-6,krzywa!A:A,0)&\":D\"&MATCH(K13-2,krzywa!A:A,0))),AVERAGE(INDIRECT(\"krzywa!D\"&MATCH(A13-$A$2+BQ13,krzywa!A:A,0)&\":D\"&MATCH(B13-$A$2-AY13,krzywa!A:A,0)))),INDIRECT(\"krzywa!D\"&MATCH(K13,krzywa!A:A,0))),4)","v":{"$error":"#N/A"}},{"$f":"VLOOKUP(A13,krzywa!L:N,3,1)","v":0},{"$f":"VLOOKUP(B13,krzywa!L:N,3,1)","v":0},{"$f":"IF('Kalkulator Depozytów'!$B$35=TRUE,1,(1+S13/100)*W13+(1+T13/100)*(1-W13))","v":1},{"$f":"IF(S13<>T13,VLOOKUP(A13,krzywa!L:M,2,1))","v":false},{"$f":"IF(V13<>FALSE,IF(L13=\"BASE\",(V13-A13+1)*24+J13,IF(L13=\"OFFPEAK\",NETWORKDAYS(A13,V13,koszyki!$M$20:$M$898)*9+(N13)*24+J13,IF(L13=\"L-PEAK5\",NETWORKDAYS(A13,V13,koszyki!$M$20:$M$898)*10,IF(L13=\"H-PEAK5\",NETWORKDAYS(A13,V13,koszyki!$M$20:$M$898)*5,NETWORKDAYS(A13,V13,koszyki!$M$20:$M$898)*15))))/C13,1)","v":1},null,-4451,-4816,null,6,"2015-10-25",1,null,null,null,null,null,"2024-12-03","2024-12-02","2024-12-01","2024-11-30",null,{"$f":"NETWORKDAYS(AJ13,AJ13,koszyki!$M$20:$M$89)","v":1},{"$f":"NETWORKDAYS(AK13,AK13,koszyki!$M$20:$M$89)","v":1},{"$f":"NETWORKDAYS(AL13,AL13,koszyki!$M$20:$M$89)","v":0},{"$f":"NETWORKDAYS(AM13,AM13,koszyki!$M$20:$M$89)","v":0},null,1,2,2,2,null,0,null,null,"2024-12-03","2024-12-04","2024-12-05","2024-12-06",null,{"$f":"NETWORKDAYS(BB13,BB13,koszyki!$M$20:$M$89)","v":1},{"$f":"NETWORKDAYS(BC13,BC13,koszyki!$M$20:$M$89)","v":1},{"$f":"NETWORKDAYS(BD13,BD13,koszyki!$M$20:$M$89)","v":1},{"$f":"NETWORKDAYS(BE13,BE13,koszyki!$M$20:$M$89)","v":1},null,1,2,3,4,null,0]
["2024-12-04","2024-12-04",24,{"$f":"'Kalkulator Depozytów'!M19","v":0},{"$f":"'Kalkulator Depozytów'!N19","v":0},{"$f":"'Kalkulator Depozytów'!O19","v":0},{"$f":"'Kalkulator Depozytów'!P19","v":0},{"$f":"'Kalkulator Depozytów'!Q19","v":0},{"$f":"ROUND(IF(OR(AND(K14>0,L14=\"L-PEAK5\"),AND(K14>0,L14=\"H-PEAK5\")),R14,IF(AND(K14>0,L14=\"PEAK5\"),O14,IF(K14>0,IF(OR(L14=\"BASE\"),AVERAGE(INDIRECT(\"krzywa!B\"&MATCH(A14-$A$2,krzywa!A:A,0)&\":B\"&MATCH(B14-$A$2,krzywa!A:A,0),TRUE)),IF(OR(L14=\"OFFPEAK\"),AVERAGE(INDIRECT(\"krzywa!F\"&MATCH(A14-$A$2,krzywa!A:A,0)&\":F\"&MATCH(B14-$A$2,krzywa!A:A,0)))))))),4)","v":{"$error":"#N/A"}},0,45630,"BASE",{"$f":"NETWORKDAYS(A14,B14,koszyki!$M$20:$M$898)","v":1},{"$f":"B14-A14+1- NETWORKDAYS(A14,B14,koszyki!$M$20:$M$898)","v":0},{"$f":"ROUND(IF((B14-A14+1)>2,IF(C14=75,AVERAGE(INDIRECT(\"krzywa!C\"&MATCH(K14-6,krzywa!A:A,0)&\":C\"&MATCH(K14-2,krzywa!A:A,0))),AVERAGE(INDIRECT(\"krzywa!C\"&MATCH(A14-$A$2+BQ14,krzywa!A:A,0)&\":C\"&MATCH(B14-$A$2-AY14,krzywa!A:A,0)))),INDIRECT(\"krzywa!C\"&MATCH(K14,krzywa!A:A,0))),4)","v":{"$error":"#N/A"}},0,{"$f":"-C14*ABS(D14-F14)*H14*I14*U14+'kompensacja międzyproduktowa'!X14*U14","v":{"$error":"#N/A"}},{"$f":"ROUND(IF((B14-A14+1)>2,IF(C14=75,AVERAGE(INDIRECT(\"krzywa!D\"&MATCH(K14-6,krzywa!A:A,0)&\":D\"&MATCH(K14-2,krzywa!A:A,0))),AVERAGE(INDIRECT(\"krzywa!D\"&MATCH(A14-$A$2+BQ14,krzywa!A:A,0)&\":D\"&MATCH(B14-$A$2-AY14,krzywa!A:A,0)))),INDIRECT(\"krzywa!D\"&MATCH(K14,krzywa!A:A,0))),4)","v":{"$error":"#N/A"}},{"$f":"VLOOKUP(A14,krzywa!L:N,3,1)","v":0},{"$f":"VLOOKUP(B14,krzywa!L:N,3,1)","v":0},{"$f":"IF('Kalkulator Depozytów'!$B$35=TRUE,1,(1+S14/100)*W14+(1+T14/100)*(1-W14))","v":1},{"$f":"IF(S14<>T14,VLOOKUP(A14,krzywa!L:M,2,1))","v":false},{"$f":"IF(V14<>FALSE,IF(L14=\"BASE\",(V14-A14+1)*24+J14,IF(L14=\"OFFPEAK\",NETWORKDAYS(A14,V14,koszyki!$M$20:$M$898)*9+(N14)*24+J14,IF(L14=\"L-PEAK5\",NETWORKDAYS(A14,V14,koszyki!$M$20:$M$898)*10,IF(L14=\"H-PEAK5\",NETWORKDAYS(A14,V14,koszyki!$M$20:$M$898)*5,NETWORKDAYS(A14,V14,koszyki!$M$20:$M$898)*15))))/C14,1)","v":1},null,-4297,-4662,null,7,"2016-03-27",-1,null,null,null,null,null,"2024-12-04","2024-12-03","2024-12-02","2024-12-01",null,{"$f":"NETWORKDAYS(AJ14,AJ14,koszyki!$M$20:$M$89)","v":1},{"$f":"NETWORKDAYS(AK14,AK14,koszyki!$M$20:$M$89)","v":1},{"$f":"NETWORKDAYS(AL14,AL14,koszyki!$M$20:$M$89)","v":1},{"$f":"NETWORKDAYS(AM14,AM14,koszyki!$M$20:$M$89)","v":0},null,1,2,3,3,null,0,null,null,"2024-12-04","2024-12-05","2024-12-06","2024-12-07",null,{"$f":"NETWORKDAYS(BB14,BB14,koszyki!$M$20:$M$89)","v":1},{"$f":"NETWORKDAYS(BC14,BC14,koszyki!$M$20:$M$89)","v":1},{"$f":"NETWORKDAYS(BD14,BD14,koszyki!$M$20:$M$89)","v":1},{"$f":"NETWORKDAYS(BE14,BE14,koszyki!$M$20:$M$89)","v":0},null,1,2,3,3,null,0]
["2024-12-05","2024-12-05",24,{"$f":"'Kalkulator Depozytów'!M20","v":0},{"$f":"'Kalkulator Depozytów'!N20","v":0},{"$f":"'Kalkulator Depozytów'!O20","v":0},{"$f":"'Kalkulator Depozytów'!P20","v":0},{"$f":"'Kalkulator Depozytów'!Q20","v":0},{"$f":"ROUND(IF(OR(AND(K15>0,L15=\"L-PEAK5\"),AND(K15>0,L15=\"H-PEAK5\")),R15,IF(AND(K15>0,L15=\"PEAK5\"),O15,IF(K15>0,IF(OR(L15=\"BASE\"),AVERAGE(INDIRECT(\"krzywa!B\"&MATCH(A15-$A$2,krzywa!A:A,0)&\":B\"&MATCH(B15-$A$2,krzywa!A:A,0),TRUE)),IF(OR(L15=\"OFFPEAK\"),AVERAGE(INDIRECT(\"krzywa!F\"&MATCH(A15-$A$2,krzywa!A:A,0)&\":F\"&MATCH(B15-$A$2,krzywa!A:A,0)))))))),4)","v":{"$error":"#N/A"}},0,45631,"BASE",{"$f":"NETWORKDAYS(A15,B15,koszyki!$M$20:$M$898)","v":1},{"$f":"B15-A15+1- NETWORKDAYS(A15,B15,koszyki!$M$20:$M$898)","v":0},{"$f":"ROUND(IF((B15-A15+1)>2,IF(C15=75,AVERAGE(INDIRECT(\"krzywa!C\"&MATCH(K15-6,krzywa!A:A,0)&\":C\"&MATCH(K15-2,krzywa!A:A,0))),AVERAGE(INDIRECT(\"krzywa!C\"&MATCH(A15-$A$2+BQ15,krzywa!A:A,0)&\":C\"&MATCH(B15-$A$2-AY15,krzywa!A:A,0)))),INDIRECT(\"krzywa!C\"&MATCH(K15,krzywa!A:A,0))),4)","v":{"$error":"#N/A"}},0,{"$f":"-C15*ABS(D15-F15)*H15*I15*U15+'kompensacja międzyproduktowa'!X15*U15","v":{"$error":"#N/A"}},{"$f":"ROUND(IF((B15-A15+1)>2,IF(C15=75,AVERAGE(INDIRECT(\"krzywa!D\"&MATCH(K15-6,krzywa!A:A,0)&\":D\"&MATCH(K15-2,krzywa!A:A,0))),AVERAGE(INDIRECT(\"krzywa!D\"&MATCH(A15-$A$2+BQ15,krzywa!A:A,0)&\":D\"&MATCH(B15-$A$2-AY15,krzywa!A:A,0)))),INDIRECT(\"krzywa!D\"&MATCH(K15,krzywa!A:A,0))),4)","v":{"$error":"#N/A"}},{"$f":"VLOOKUP(A15,krzywa!L:N,3,1)","v":0},{"$f":"VLOOKUP(B15,krzywa!L:N,3,1)","v":0},{"$f":"IF('Kalkulator Depozytów'!$B$35=TRUE,1,(1+S15/100)*W15+(1+T15/100)*(1-W15))","v":1},{"$f":"IF(S15<>T15,VLOOKUP(A15,krzywa!L:M,2,1))","v":false},{"$f":"IF(V15<>FALSE,IF(L15=\"BASE\",(V15-A15+1)*24+J15,IF(L15=\"OFFPEAK\",NETWORKDAYS(A15,V15,koszyki!$M$20:$M$898)*9+(N15)*24+J15,IF(L15=\"L-PEAK5\",NETWORKDAYS(A15,V15,koszyki!$M$20:$M$898)*10,IF(L15=\"H-PEAK5\",NETWORKDAYS(A15,V15,koszyki!$M$20:$M$898)*5,NETWORKDAYS(A15,V15,koszyki!$M$20:$M$898)*15))))/C15,1)","v":1},null,-4080,-4445,null,8,"2016-10-30",1,null,null,null,null,null,"2024-12-05","2024-12-04","2024-12-03","2024-12-02",null,{"$f":"NETWORKDAYS(AJ15,AJ15,koszyki!$M$20:$M$89)","v":1},{"$f":"NETWORKDAYS(AK15,AK15,koszyki!$M$20:$M$89)","v":1},{"$f":"NETWORKDAYS(AL15,AL15,koszyki!$M$20:$M$89)","v":1},{"$f":"NETWORKDAYS(AM15,AM15,koszyki!$M$20:$M$89)","v":1},null,1,2,3,4,null,0,null,null,"2024-12-05","2024-12-06","2024-12-07","2024-12-08",null,{"$f":"NETWORKDAYS(BB15,BB15,koszyki!$M$20:$M$89)","v":1},{"$f":"NETWORKDAYS(BC15,BC15,koszyki!$M$20:$M$89)","v":1},{"$f":"NETWORKDAYS(BD15,BD15,koszyki!$M$20:$M$89)","v":0},{"$f":"NETWORKDAYS(BE15,BE15,koszyki!$M$20:$M$89)","v":0},null,1,2,2,2,null,0]
["2024-12-06","2024-12-06",24,{"$f":"'Kalkulator Depozytów'!M21","v":0},{"$f":"'Kalkulator Depozytów'!N21","v":0},{"$f":"'Kalkulator Depozytów'!O21","v":0},{"$f":"'Kalkulator Depozytów'!P21","v":0},{"$f":"'Kalkulator Depozytów'!Q21","v":0},{"$f":"ROUND(IF(OR(AND(K16>0,L16=\"L-PEAK5\"),AND(K16>0,L16=\"H-PEAK5\")),R16,IF(AND(K16>0,L16=\"PEAK5\"),O16,IF(K16>0,IF(OR(L16=\"BASE\"),AVERAGE(INDIRECT(\"krzywa!B\"&MATCH(A16-$A$2,krzywa!A:A,0)&\":B\"&MATCH(B16-$A$2,krzywa!A:A,0),TRUE)),IF(OR(L16=\"OFFPEAK\"),AVERAGE(INDIRECT(\"krzywa!F\"&MATCH(A16-$A$2,krzywa!A:A,0)&\":F\"&MATCH(B16-$A$2,krzywa!A:A,0)))))))),4)","v":{"$error":"#N/A"}},0,45632,"BASE",{"$f":"NETWORKDAYS(A16,B16,koszyki!$M$20:$M$898)","v":1},{"$f":"B16-A16+1- NETWORKDAYS(A16,B16,koszyki!$M$20:$M$898)","v":0},{"$f":"ROUND(IF((B16-A16+1)>2,IF(C16=75,AVERAGE(INDIRECT(\"krzywa!C\"&MATCH(K16-6,krzywa!A:A,0)&\":C\"&MATCH(K16-2,krzywa!A:A,0))),AVERAGE(INDIRECT(\"krzywa!C\"&MATCH(A16-$A$2+BQ16,krzywa!A:A,0)&\":C\"&MATCH(B16-$A$2-AY16,krzywa!A:A,0)))),INDIRECT(\"krzywa!C\"&MATCH(K16,krzywa!A:A,0))),4)","v":{"$error":"#N/A"}},0,{"$f":"-C16*ABS(D16-F16)*H16*I16*U16+'kompensacja międzyproduktowa'!X16*U16","v":{"$error":"#N/A"}},{"$f":"ROUND(IF((B16-A16+1)>2,IF(C16=75,AVERAGE(INDIRECT(\"krzywa!D\"&MATCH(K16-6,krzywa!A:A,0)&\":D\"&MATCH(K16-2,krzywa!A:A,0))),AVERAGE(INDIRECT(\"krzywa!D\"&MATCH(A16-$A$2+BQ16,krzywa!A:A,0)&\":D\"&MATCH(B16-$A$2-AY16,krzywa!A:A,0)))),INDIRECT(\"krzywa!D\"&MATCH(K16,krzywa!A:A,0))),4)","v":{"$error":"#N/A"}},{"$f":"VLOOKUP(A16,krzywa!L:N,3,1)","v":0},{"$f":"VLOOKUP(B16,krzywa!L:N,3,1)","v":0},{"$f":"IF('Kalkulator Depozytów'!$B$35=TRUE,1,(1+S16/100)*W16+(1+T16/100)*(1-W16))","v":1},{"$f":"IF(S16<>T16,VLOOKUP(A16,krzywa!L:M,2,1))","v":false},{"$f":"IF(V16<>FALSE,IF(L16=\"BASE\",(V16-A16+1)*24+J16,IF(L16=\"OFFPEAK\",NETWORKDAYS(A16,V16,koszyki!$M$20:$M$898)*9+(N16)*24+J16,IF(L16=\"L-PEAK5\",NETWORKDAYS(A16,V16,koszyki!$M$20:$M$898)*10,IF(L16=\"H-PEAK5\",NETWORKDAYS(A16,V16,koszyki!$M$20:$M$898)*5,NETWORKDAYS(A16,V16,koszyki!$M$20:$M$898)*15))))/C16,1)","v":1},null,-3933,-4298,null,9,"2017-03-26",-1,null,null,null,null,null,"2024-12-06","2024-12-05","2024-12-04","2024-12-03",null,{"$f":"NETWORKDAYS(AJ16,AJ16,koszyki!$M$20:$M$89)","v":1},{"$f":"NETWORKDAYS(AK16,AK16,koszyki!$M$20:$M$89)","v":1},{"$f":"NETWORKDAYS(AL16,AL16,koszyki!$M$20:$M$89)","v":1},{"$f":"NETWORKDAYS(AM16,AM16,koszyki!$M$20:$M$89)","v":1},null,1,2,3,4,null,0,null,null,"2024-12-06","2024-12-07","2024-12-08","2024-12-09",null,{"$f":"NETWORKDAYS(BB16,BB16,koszyki!$M$20:$M$89)","v":1},{"$f":"NETWORKDAYS(BC16,BC16,koszyki!$M$20:$M$89)","v":0},{"$f":"NETWORKDAYS(BD16,BD16,koszyki!$M$20:$M$89)","v":0},{"$f":"NETWORKDAYS(BE16,BE16,koszyki!$M$20:$M$89)","v":1},null,1,1,1,2,null,0]
["2024-12-07","2024-12-07",24,{"$f":"'Kalkulator Depozytów'!M22","v":0},{"$f":"'Kalkulator Depozytów'!N22","v":0},{"$f":"'Kalkulator Depozytów'!O22","v":0},{"$f":"'Kalkulator Depozytów'!P22","v":0},{"$f":"'Kalkulator Depozytów'!Q22","v":0},{"$f":"ROUND(IF(OR(AND(K17>0,L17=\"L-PEAK5\"),AND(K17>0,L17=\"H-PEAK5\")),R17,IF(AND(K17>0,L17=\"PEAK5\"),O17,IF(K17>0,IF(OR(L17=\"BASE\"),AVERAGE(INDIRECT(\"krzywa!B\"&MATCH(A17-$A$2,krzywa!A:A,0)&\":B\"&MATCH(B17-$A$2,krzywa!A:A,0),TRUE)),IF(OR(L17=\"OFFPEAK\"),AVERAGE(INDIRECT(\"krzywa!F\"&MATCH(A17-$A$2,krzywa!A:A,0)&\":F\"&MATCH(B17-$A$2,krzywa!A:A,0)))))))),4)","v":{"$error":"#N/A"}},0,45633,"BASE",{"$f":"NETWORKDAYS(A17,B17,koszyki!$M$20:$M$898)","v":0},{"$f":"B17-A17+1- NETWORKDAYS(A17,B17,koszyki!$M$20:$M$898)","v":1},{"$f":"ROUND(IF((B17-A17+1)>2,IF(C17=75,AVERAGE(INDIRECT(\"krzywa!C\"&MATCH(K17-6,krzywa!A:A,0)&\":C\"&MATCH(K17-2,krzywa!A:A,0))),AVERAGE(INDIRECT(\"krzywa!C\"&MATCH(A17-$A$2+BQ17,krzywa!A:A,0)&\":C\"&MATCH(B17-$A$2-AY17,krzywa!A:A,0)))),INDIRECT(\"krzywa!C\"&MATCH(K17,krzywa!A:A,0))),4)","v":{"$error":"#N/A"}},0,{"$f":"-C17*ABS(D17-F17)*H17*I17*U17+'kompensacja międzyproduktowa'!X17*U17","v":{"$error":"#N/A"}},{"$f":"ROUND(IF((B17-A17+1)>2,IF(C17=75,AVERAGE(INDIRECT(\"krzywa!D\"&MATCH(K17-6,krzywa!A:A,0)&\":D\"&MATCH(K17-2,krzywa!A:A,0))),AVERAGE(INDIRECT(\"krzywa!D\"&MATCH(A17-$A$2+BQ17,krzywa!A:A,0)&\":D\"&MATCH(B17-$A$2-AY17,krzywa!A:A,0)))),INDIRECT(\"krzywa!D\"&MATCH(K17,krzywa!A:A,0))),4)","v":{"$error":"#N/A"}},{"$f":"VLOOKUP(A17,krzywa!L:N,3,1)","v":0},{"$f":"VLOOKUP(B17,krzywa!L:N,3,1)","v":0},{"$f":"IF('Kalkulator Depozytów'!$B$35=TRUE,1,(1+S17/100)*W17+(1+T17/100)*(1-W17))","v":1},{"$f":"IF(S17<>T17,VLOOKUP(A17,krzywa!L:M,2,1))","v":false},{"$f":"IF(V17<>FALSE,IF(L17=\"BASE\",(V17-A17+1)*24+J17,IF(L17=\"OFFPEAK\",NETWORKDAYS(A17,V17,koszyki!$M$20:$M$898)*9+(N17)*24+J17,IF(L17=\"L-PEAK5\",NETWORKDAYS(A17,V17,koszyki!$M$20:$M$898)*10,IF(L17=\"H-PEAK5\",NETWORKDAYS(A17,V17,koszyki!$M$20:$M$898)*5,NETWORKDAYS(A17,V17,koszyki!$M$20:$M$898)*15))))/C17,1)","v":1},null,-3716,-4081,null,10,"2017-10-29",1,null,null,null,null,null,"2024-12-07","2024-12-06","2024-12-05","2024-12-04",null,{"$f":"NETWORKDAYS(AJ17,AJ17,koszyki!$M$20:$M$89)","v":0},{"$f":"NETWORKDAYS(AK17,AK17,koszyki!$M$20:$M$89)","v":1},{"$f":"NETWORKDAYS(AL17,AL17,koszyki!$M$20:$M$89)","v":1},{"$f":"NETWORKDAYS(AM17,AM17,koszyki!$M$20:$M$89)","v":1},null,0,1,2,3,null,1,null,null,"2024-12-07","2024-12-08","2024-12-09","2024-12-10",null,{"$f":"NETWORKDAYS(BB17,BB17,koszyki!$M$20:$M$89)","v":0},{"$f":"NETWORKDAYS(BC17,BC17,koszyki!$M$20:$M$89)","v":0},{"$f":"NETWORKDAYS(BD17,BD17,koszyki!$M$20:$M$89)","v":1},{"$f":"NETWORKDAYS(BE17,BE17,koszyki!$M$20:$M$89)","v":1},null,0,0,1,2,null,2]
["2024-12-08","2024-12-08",24,{"$f":"'Kalkulator Depozytów'!M23","v":0},{"$f":"'Kalkulator Depozytów'!N23","v":0},{"$f":"'Kalkulator Depozytów'!O23","v":0},{"$f":"'Kalkulator Depozytów'!P23","v":0},{"$f":"'Kalkulator Depozytów'!Q23","v":0},{"$f":"ROUND(IF(OR(AND(K18>0,L18=\"L-PEAK5\"),AND(K18>0,L18=\"H-PEAK5\")),R18,IF(AND(K18>0,L18=\"PEAK5\"),O18,IF(K18>0,IF(OR(L18=\"BASE\"),AVERAGE(INDIRECT(\"krzywa!B\"&MATCH(A18-$A$2,krzywa!A:A,0)&\":B\"&MATCH(B18-$A$2,krzywa!A:A,0),TRUE)),IF(OR(L18=\"OFFPEAK\"),AVERAGE(INDIRECT(\"krzywa!F\"&MATCH(A18-$A$2,krzywa!A:A,0)&\":F\"&MATCH(B18-$A$2,krzywa!A:A,0)))))))),4)","v":{"$error":"#N/A"}},0,45634,"BASE",{"$f":"NETWORKDAYS(A18,B18,koszyki!$M$20:$M$898)","v":0},{"$f":"B18-A18+1- NETWORKDAYS(A18,B18,koszyki!$M$20:$M$898)","v":1},{"$f":"ROUND(IF((B18-A18+1)>2,IF(C18=75,AVERAGE(INDIRECT(\"krzywa!C\"&MATCH(K18-6,krzywa!A:A,0)&\":C\"&MATCH(K18-2,krzywa!A:A,0))),AVERAGE(INDIRECT(\"krzywa!C\"&MATCH(A18-$A$2+BQ18,krzywa!A:A,0)&\":C\"&MATCH(B18-$A$2-AY18,krzywa!A:A,0)))),INDIRECT(\"krzywa!C\"&MATCH(K18,krzywa!A:A,0))),4)","v":{"$error":"#N/A"}},0,{"$f":"-C18*ABS(D18-F18)*H18*I18*U18+'kompensacja międzyproduktowa'!X18*U18","v":{"$error":"#N/A"}},{"$f":"ROUND(IF((B18-A18+1)>2,IF(C18=75,AVERAGE(INDIRECT(\"krzywa!D\"&MATCH(K18-6,krzywa!A:A,0)&\":D\"&MATCH(K18-2,krzywa!A:A,0))),AVERAGE(INDIRECT(\"krzywa!D\"&MATCH(A18-$A$2+BQ18,krzywa!A:A,0)&\":D\"&MATCH(B18-$A$2-AY18,krzywa!A:A,0)))),INDIRECT(\"krzywa!D\"&MATCH(K18,krzywa!A:A,0))),4)","v":{"$error":"#N/A"}},{"$f":"VLOOKUP(A18,krzywa!L:N,3,1)","v":0},{"$f":"VLOOKUP(B18,krzywa!L:N,3,1)","v":0},{"$f":"IF('Kalkulator Depozytów'!$B$35=TRUE,1,(1+S18/100)*W18+(1+T18/100)*(1-W18))","v":1},{"$f":"IF(S18<>T18,VLOOKUP(A18,krzywa!L:M,2,1))","v":false},{"$f":"IF(V18<>FALSE,IF(L18=\"BASE\",(V18-A18+1)*24+J18,IF(L18=\"OFFPEAK\",NETWORKDAYS(A18,V18,koszyki!$M$20:$M$898)*9+(N18)*24+J18,IF(L18=\"L-PEAK5\",NETWORKDAYS(A18,V18,koszyki!$M$20:$M$898)*10,IF(L18=\"H-PEAK5\",NETWORKDAYS(A18,V18,koszyki!$M$20:$M$898)*5,NETWORKDAYS(A18,V18,koszyki!$M$20:$M$898)*15))))/C18,1)","v":1},null,-3569,-3934,null,11,"2018-03-25",-1,null,null,null,null,null,"2024-12-08","2024-12-07","2024-12-06","2024-12-05",null,{"$f":"NETWORKDAYS(AJ18,AJ18,koszyki!$M$20:$M$89)","v":0},{"$f":"NETWORKDAYS(AK18,AK18,koszyki!$M$20:$M$89)","v":0},{"$f":"NETWORKDAYS(AL18,AL18,koszyki!$M$20:$M$89)","v":1},{"$f":"NETWORKDAYS(AM18,AM18,koszyki!$M$20:$M$89)","v":1},null,0,0,1,2,null,2,null,null,"2024-12-08","2024-12-09","2024-12-10","2024-12-11",null,{"$f":"NETWORKDAYS(BB18,BB18,koszyki!$M$20:$M$89)","v":0},{"$f":"NETWORKDAYS(BC18,BC18,koszyki!$M$20:$M$89)","v":1},{"$f":"NETWORKDAYS(BD18,BD18,koszyki!$M$20:$M$89)","v":1},{"$f":"NETWORKDAYS(BE18,BE18,koszyki!$M$20:$M$89)","v":1},null,0,1,2,3,null,1]
["2024-12-09","2024-12-15",168,{"$f":"'Kalkulator Depozytów'!M24","v":0},{"$f":"'Kalkulator Depozytów'!N24","v":0},{"$f":"'Kalkulator Depozytów'!O24","v":0},{"$f":"'Kalkulator Depozytów'!P24","v":0},{"$f":"'Kalkulator Depozytów'!Q24","v":0},{"$f":"ROUND(IF(OR(AND(K19>0,L19=\"L-PEAK5\"),AND(K19>0,L19=\"H-PEAK5\")),R19,IF(AND(K19>0,L19=\"PEAK5\"),O19,IF(K19>0,IF(OR(L19=\"BASE\"),AVERAGE(INDIRECT(\"krzywa!B\"&MATCH(A19-$A$2,krzywa!A:A,0)&\":B\"&MATCH(B19-$A$2,krzywa!A:A,0),TRUE)),IF(OR(L19=\"OFFPEAK\"),AVERAGE(INDIRECT(\"krzywa!F\"&MATCH(A19-$A$2,krzywa!A:A,0)&\":F\"&MATCH(B19-$A$2,krzywa!A:A,0)))))))),4)","v":{"$error":"#N/A"}},0,45641,"BASE",{"$f":"NETWORKDAYS(A19,B19,koszyki!$M$20:$M$898)","v":5},{"$f":"B19-A19+1- NETWORKDAYS(A19,B19,koszyki!$M$20:$M$898)","v":2},{"$f":"ROUND(IF((B19-A19+1)>2,IF(C19=75,AVERAGE(INDIRECT(\"krzywa!C\"&MATCH(K19-6,krzywa!A:A,0)&\":C\"&MATCH(K19-2,krzywa!A:A,0))),AVERAGE(INDIRECT(\"krzywa!C\"&MATCH(A19-$A$2+BQ19,krzywa!A:A,0)&\":C\"&MATCH(B19-$A$2-AY19,krzywa!A:A,0)))),INDIRECT(\"krzywa!C\"&MATCH(K19,krzywa!A:A,0))),4)","v":{"$error":"#N/A"}},0,{"$f":"-C19*ABS(D19-F19)*H19*I19*U19+'kompensacja międzyproduktowa'!X19*U19","v":{"$error":"#N/A"}},{"$f":"ROUND(IF((B19-A19+1)>2,IF(C19=75,AVERAGE(INDIRECT(\"krzywa!D\"&MATCH(K19-6,krzywa!A:A,0)&\":D\"&MATCH(K19-2,krzywa!A:A,0))),AVERAGE(INDIRECT(\"krzywa!D\"&MATCH(A19-$A$2+BQ19,krzywa!A:A,0)&\":D\"&MATCH(B19-$A$2-AY19,krzywa!A:A,0)))),INDIRECT(\"krzywa!D\"&MATCH(K19,krzywa!A:A,0))),4)","v":{"$error":"#N/A"}},{"$f":"VLOOKUP(A19,krzywa!L:N,3,1)","v":0},{"$f":"VLOOKUP(B19,krzywa!L:N,3,1)","v":0},{"$f":"IF('Kalkulator Depozytów'!$B$35=TRUE,1,(1+S19/100)*W19+(1+T19/100)*(1-W19))","v":1},{"$f":"IF(S19<>T19,VLOOKUP(A19,krzywa!L:M,2,1))","v":false},{"$f":"IF(V19<>FALSE,IF(L19=\"BASE\",(V19-A19+1)*24+J19,IF(L19=\"OFFPEAK\",NETWORKDAYS(A19,V19,koszyki!$M$20:$M$898)*9+(N19)*24+J19,IF(L19=\"L-PEAK5\",NETWORKDAYS(A19,V19,koszyki!$M$20:$M$898)*10,IF(L19=\"H-PEAK5\",NETWORKDAYS(A19,V19,koszyki!$M$20:$M$898)*5,NETWORKDAYS(A19,V19,koszyki!$M$20:$M$898)*15))))/C19,1)","v":1},null,-3352,-3717,null,12,"2018-10-28",1,null,null,null,null,null,"2024-12-15","2024-12-14","2024-12-13","2024-12-12",null,{"$f":"NETWORKDAYS(AJ19,AJ19,koszyki!$M$20:$M$89)","v":0},{"$f":"NETWORKDAYS(AK19,AK19,koszyki!$M$20:$M$89)","v":0},{"$f":"NETWORKDAYS(AL19,AL19,koszyki!$M$20:$M$89)","v":1},{"$f":"NETWORKDAYS(AM19,AM19,koszyki!$M$20:$M$89)","v":1},null,0,0,1,2,null,2,null,null,"2024-12-09","2024-12-10","2024-12-11","2024-12-12",null,{"$f":"NETWORKDAYS(BB19,BB19,koszyki!$M$20:$M$89)","v":1},{"$f":"NETWORKDAYS(BC19,BC19,koszyki!$M$20:$M$89)","v":1},{"$f":"NETWORKDAYS(BD19,BD19,koszyki!$M$20:$M$89)","v":1},{"$f":"NETWORKDAYS(BE19,BE19,koszyki!$M$20:$M$89)","v":1},null,1,2,3,4,null,0]
["2024-12-16","2024-12-22",168,{"$f":"'Kalkulator Depozytów'!M25","v":0},{"$f":"'Kalkulator Depozytów'!N25","v":0},{"$f":"'Kalkulator Depozytów'!O25","v":0},{"$f":"'Kalkulator Depozytów'!P25","v":0},{"$f":"'Kalkulator Depozytów'!Q25","v":0},{"$f":"ROUND(IF(OR(AND(K20>0,L20=\"L-PEAK5\"),AND(K20>0,L20=\"H-PEAK5\")),R20,IF(AND(K20>0,L20=\"PEAK5\"),O20,IF(K20>0,IF(OR(L20=\"BASE\"),AVERAGE(INDIRECT(\"krzywa!B\"&MATCH(A20-$A$2,krzywa!A:A,0)&\":B\"&MATCH(B20-$A$2,krzywa!A:A,0),TRUE)),IF(OR(L20=\"OFFPEAK\"),AVERAGE(INDIRECT(\"krzywa!F\"&MATCH(A20-$A$2,krzywa!A:A,0)&\":F\"&MATCH(B20-$A$2,krzywa!A:A,0)))))))),4)","v":{"$error":"#N/A"}},0,45648,"BASE",{"$f":"NETWORKDAYS(A20,B20,koszyki!$M$20:$M$898)","v":5},{"$f":"B20-A20+1- NETWORKDAYS(A20,B20,koszyki!$M$20:$M$898)","v":2},{"$f":"ROUND(IF((B20-A20+1)>2,IF(C20=75,AVERAGE(INDIRECT(\"krzywa!C\"&MATCH(K20-6,krzywa!A:A,0)&\":C\"&MATCH(K20-2,krzywa!A:A,0))),AVERAGE(INDIRECT(\"krzywa!C\"&MATCH(A20-$A$2+BQ20,krzywa!A:A,0)&\":C\"&MATCH(B20-$A$2-AY20,krzywa!A:A,0)))),INDIRECT(\"krzywa!C\"&MATCH(K20,krzywa!A:A,0))),4)","v":{"$error":"#N/A"}},0,{"$f":"-C20*ABS(D20-F20)*H20*I20*U20+'kompensacja międzyproduktowa'!X20*U20","v":{"$error":"#N/A"}},{"$f":"ROUND(IF((B20-A20+1)>2,IF(C20=75,AVERAGE(INDIRECT(\"krzywa!D\"&MATCH(K20-6,krzywa!A:A,0)&\":D\"&MATCH(K20-2,krzywa!A:A,0))),AVERAGE(INDIRECT(\"krzywa!D\"&MATCH(A20-$A$2+BQ20,krzywa!A:A,0)&\":D\"&MATCH(B20-$A$2-AY20,krzywa!A:A,0)))),INDIRECT(\"krzywa!D\"&MATCH(K20,krzywa!A:A,0))),4)","v":{"$error":"#N/A"}},{"$f":"VLOOKUP(A20,krzywa!L:N,3,1)","v":0},{"$f":"VLOOKUP(B20,krzywa!L:N,3,1)","v":0},{"$f":"IF('Kalkulator Depozytów'!$B$35=TRUE,1,(1+S20/100)*W20+(1+T20/100)*(1-W20))","v":1},{"$f":"IF(S20<>T20,VLOOKUP(A20,krzywa!L:M,2,1))","v":false},{"$f":"IF(V20<>FALSE,IF(L20=\"BASE\",(V20-A20+1)*24+J20,IF(L20=\"OFFPEAK\",NETWORKDAYS(A20,V20,koszyki!$M$20:$M$898)*9+(N20)*24+J20,IF(L20=\"L-PEAK5\",NETWORKDAYS(A20,V20,koszyki!$M$20:$M$898)*10,IF(L20=\"H-PEAK5\",NETWORKDAYS(A20,V20,koszyki!$M$20:$M$898)*5,NETWORKDAYS(A20,V20,koszyki!$M$20:$M$898)*15))))/C20,1)","v":1},null,-3198,-3563,null,13,"2019-03-31",-1,null,null,null,null,null,"2024-12-22","2024-12-21","2024-12-20","2024-12-19",null,{"$f":"NETWORKDAYS(AJ20,AJ20,koszyki!$M$20:$M$89)","v":0},{"$f":"NETWORKDAYS(AK20,AK20,koszyki!$M$20:$M$89)","v":0},{"$f":"NETWORKDAYS(AL20,AL20,koszyki!$M$20:$M$89)","v":1},{"$f":"NETWORKDAYS(AM20,AM20,koszyki!$M$20:$M$89)","v":1},null,0,0,1,2,null,2,null,null,"2024-12-16","2024-12-17","2024-12-18","2024-12-19",null,{"$f":"NETWORKDAYS(BB20,BB20,koszyki!$M$20:$M$89)","v":1},{"$f":"NETWORKDAYS(BC20,BC20,koszyki!$M$20:$M$89)","v":1},{"$f":"NETWORKDAYS(BD20,BD20,koszyki!$M$20:$M$89)","v":1},{"$f":"NETWORKDAYS(BE20,BE20,koszyki!$M$20:$M$89)","v":1},null,1,2,3,4,null,0]
["2024-12-23","2024-12-29",168,{"$f":"'Kalkulator Depozytów'!M26","v":0},{"$f":"'Kalkulator Depozytów'!N26","v":0},{"$f":"'Kalkulator Depozytów'!O26","v":0},{"$f":"'Kalkulator Depozytów'!P26","v":0},{"$f":"'Kalkulator Depozytów'!Q26","v":0},{"$f":"ROUND(IF(OR(AND(K21>0,L21=\"L-PEAK5\"),AND(K21>0,L21=\"H-PEAK5\")),R21,IF(AND(K21>0,L21=\"PEAK5\"),O21,IF(K21>0,IF(OR(L21=\"BASE\"),AVERAGE(INDIRECT(\"krzywa!B\"&MATCH(A21-$A$2,krzywa!A:A,0)&\":B\"&MATCH(B21-$A$2,krzywa!A:A,0),TRUE)),IF(OR(L21=\"OFFPEAK\"),AVERAGE(INDIRECT(\"krzywa!F\"&MATCH(A21-$A$2,krzywa!A:A,0)&\":F\"&MATCH(B21-$A$2,krzywa!A:A,0)))))))),4)","v":{"$error":"#N/A"}},0,45655,"BASE",{"$f":"NETWORKDAYS(A21,B21,koszyki!$M$20:$M$898)","v":3},{"$f":"B21-A21+1- NETWORKDAYS(A21,B21,koszyki!$M$20:$M$898)","v":4},{"$f":"ROUND(IF((B21-A21+1)>2,IF(C21=75,AVERAGE(INDIRECT(\"krzywa!C\"&MATCH(K21-6,krzywa!A:A,0)&\":C\"&MATCH(K21-2,krzywa!A:A,0))),AVERAGE(INDIRECT(\"krzywa!C\"&MATCH(A21-$A$2+BQ21,krzywa!A:A,0)&\":C\"&MATCH(B21-$A$2-AY21,krzywa!A:A,0)))),INDIRECT(\"krzywa!C\"&MATCH(K21,krzywa!A:A,0))),4)","v":{"$error":"#N/A"}},0,{"$f":"-C21*ABS(D21-F21)*H21*I21*U21+'kompensacja międzyproduktowa'!X21*U21","v":{"$error":"#N/A"}},{"$f":"ROUND(IF((B21-A21+1)>2,IF(C21=75,AVERAGE(INDIRECT(\"krzywa!D\"&MATCH(K21-6,krzywa!A:A,0)&\":D\"&MATCH(K21-2,krzywa!A:A,0))),AVERAGE(INDIRECT(\"krzywa!D\"&MATCH(A21-$A$2+BQ21,krzywa!A:A,0)&\":D\"&MATCH(B21-$A$2-AY21,krzywa!A:A,0)))),INDIRECT(\"krzywa!D\"&MATCH(K21,krzywa!A:A,0))),4)","v":{"$error":"#N/A"}},{"$f":"VLOOKUP(A21,krzywa!L:N,3,1)","v":0},{"$f":"VLOOKUP(B21,krzywa!L:N,3,1)","v":0},{"$f":"IF('Kalkulator Depozytów'!$B$35=TRUE,1,(1+S21/100)*W21+(1+T21/100)*(1-W21))","v":1},{"$f":"IF(S21<>T21,VLOOKUP(A21,krzywa!L:M,2,1))","v":false},{"$f":"IF(V21<>FALSE,IF(L21=\"BASE\",(V21-A21+1)*24+J21,IF(L21=\"OFFPEAK\",NETWORKDAYS(A21,V21,koszyki!$M$20:$M$898)*9+(N21)*24+J21,IF(L21=\"L-PEAK5\",NETWORKDAYS(A21,V21,koszyki!$M$20:$M$898)*10,IF(L21=\"H-PEAK5\",NETWORKDAYS(A21,V21,koszyki!$M$20:$M$898)*5,NETWORKDAYS(A21,V21,koszyki!$M$20:$M$898)*15))))/C21,1)","v":1},null,-2988,-3353,null,14,"2019-10-27",1,null,null,null,null,null,"2024-12-29","2024-12-28","2024-12-27","2024-12-26",null,{"$f":"NETWORKDAYS(AJ21,AJ21,koszyki!$M$20:$M$89)","v":0},{"$f":"NETWORKDAYS(AK21,AK21,koszyki!$M$20:$M$89)","v":0},{"$f":"NETWORKDAYS(AL21,AL21,koszyki!$M$20:$M$89)","v":1},{"$f":"NETWORKDAYS(AM21,AM21,koszyki!$M$20:$M$89)","v":1},null,0,0,1,2,null,2,null,null,"2024-12-23","2024-12-24","2024-12-25","2024-12-26",null,{"$f":"NETWORKDAYS(BB21,BB21,koszyki!$M$20:$M$89)","v":1},{"$f":"NETWORKDAYS(BC21,BC21,koszyki!$M$20:$M$89)","v":1},{"$f":"NETWORKDAYS(BD21,BD21,koszyki!$M$20:$M$89)","v":1},{"$f":"NETWORKDAYS(BE21,BE21,koszyki!$M$20:$M$89)","v":1},null,1,2,3,4,null,0]
["2024-12-30","2024-12-31",48,{"$f":"'Kalkulator Depozytów'!M27","v":0},{"$f":"'Kalkulator Depozytów'!N27","v":0},{"$f":"'Kalkulator Depozytów'!O27","v":0},{"$f":"'Kalkulator Depozytów'!P27","v":0},{"$f":"'Kalkulator Depozytów'!Q27","v":0},{"$f":"ROUND(IF(OR(AND(K22>0,L22=\"L-PEAK5\"),AND(K22>0,L22=\"H-PEAK5\")),R22,IF(AND(K22>0,L22=\"PEAK5\"),O22,IF(K22>0,IF(OR(L22=\"BASE\"),AVERAGE(INDIRECT(\"krzywa!B\"&MATCH(A22-$A$2,krzywa!A:A,0)&\":B\"&MATCH(B22-$A$2,krzywa!A:A,0),TRUE)),IF(OR(L22=\"OFFPEAK\"),AVERAGE(INDIRECT(\"krzywa!F\"&MATCH(A22-$A$2,krzywa!A:A,0)&\":F\"&MATCH(B22-$A$2,krzywa!A:A,0)))))))),4)","v":{"$error":"#N/A"}},0,45657,"BASE",{"$f":"NETWORKDAYS(A22,B22,koszyki!$M$20:$M$898)","v":2},{"$f":"B22-A22+1- NETWORKDAYS(A22,B22,koszyki!$M$20:$M$898)","v":0},{"$f":"ROUND(IF((B22-A22+1)>2,IF(C22=75,AVERAGE(INDIRECT(\"krzywa!C\"&MATCH(K22-6,krzywa!A:A,0)&\":C\"&MATCH(K22-2,krzywa!A:A,0))),AVERAGE(INDIRECT(\"krzywa!C\"&MATCH(A22-$A$2+BQ22,krzywa!A:A,0)&\":C\"&MATCH(B22-$A$2-AY22,krzywa!A:A,0)))),INDIRECT(\"krzywa!C\"&MATCH(K22,krzywa!A:A,0))),4)","v":{"$error":"#N/A"}},0,{"$f":"-C22*ABS(D22-F22)*H22*I22*U22+'kompensacja międzyproduktowa'!X22*U22","v":{"$error":"#N/A"}},{"$f":"ROUND(IF((B22-A22+1)>2,IF(C22=75,AVERAGE(INDIRECT(\"krzywa!D\"&MATCH(K22-6,krzywa!A:A,0)&\":D\"&MATCH(K22-2,krzywa!A:A,0))),AVERAGE(INDIRECT(\"krzywa!D\"&MATCH(A22-$A$2+BQ22,krzywa!A:A,0)&\":D\"&MATCH(B22-$A$2-AY22,krzywa!A:A,0)))),INDIRECT(\"krzywa!D\"&MATCH(K22,krzywa!A:A,0))),4)","v":{"$error":"#N/A"}},{"$f":"VLOOKUP(A22,krzywa!L:N,3,1)","v":0},{"$f":"VLOOKUP(B22,krzywa!L:N,3,1)","v":0},{"$f":"IF('Kalkulator Depozytów'!$B$35=TRUE,1,(1+S22/100)*W22+(1+T22/100)*(1-W22))","v":1},{"$f":"IF(S22<>T22,VLOOKUP(A22,krzywa!L:M,2,1))","v":false},{"$f":"IF(V22<>FALSE,IF(L22=\"BASE\",(V22-A22+1)*24+J22,IF(L22=\"OFFPEAK\",NETWORKDAYS(A22,V22,koszyki!$M$20:$M$898)*9+(N22)*24+J22,IF(L22=\"L-PEAK5\",NETWORKDAYS(A22,V22,koszyki!$M$20:$M$898)*10,IF(L22=\"H-PEAK5\",NETWORKDAYS(A22,V22,koszyki!$M$20:$M$898)*5,NETWORKDAYS(A22,V22,koszyki!$M$20:$M$898)*15))))/C22,1)","v":1},null,-2834,-3199,null,15,"2020-03-29",-1,null,null,null,null,null,"2024-12-31","2024-12-30","2024-12-29","2024-12-28",null,{"$f":"NETWORKDAYS(AJ22,AJ22,koszyki!$M$20:$M$89)","v":1},{"$f":"NETWORKDAYS(AK22,AK22,koszyki!$M$20:$M$89)","v":1},{"$f":"NETWORKDAYS(AL22,AL22,koszyki!$M$20:$M$89)","v":0},{"$f":"NETWORKDAYS(AM22,AM22,koszyki!$M$20:$M$89)","v":0},null,1,2,2,2,null,0,null,null,"2024-12-30","2024-12-31","2025-01-01","2025-01-02",null,{"$f":"NETWORKDAYS(BB22,BB22,koszyki!$M$20:$M$89)","v":1},{"$f":"NETWORKDAYS(BC22,BC22,koszyki!$M$20:$M$89)","v":1},{"$f":"NETWORKDAYS(BD22,BD22,koszyki!$M$20:$M$89)","v":1},{"$f":"NETWORKDAYS(BE22,BE22,koszyki!$M$20:$M$89)","v":1},null,1,2,3,4,null,0]
["2025-01-01","2025-01-05",120,{"$f":"'Kalkulator Depozytów'!M28","v":0},{"$f":"'Kalkulator Depozytów'!N28","v":0},{"$f":"'Kalkulator Depozytów'!O28","v":0},{"$f":"'Kalkulator Depozytów'!P28","v":0},{"$f":"'Kalkulator Depozytów'!Q28","v":0},{"$f":"ROUND(IF(OR(AND(K23>0,L23=\"L-PEAK5\"),AND(K23>0,L23=\"H-PEAK5\")),R23,IF(AND(K23>0,L23=\"PEAK5\"),O23,IF(K23>0,IF(OR(L23=\"BASE\"),AVERAGE(INDIRECT(\"krzywa!B\"&MATCH(A23-$A$2,krzywa!A:A,0)&\":B\"&MATCH(B23-$A$2,krzywa!A:A,0),TRUE)),IF(OR(L23=\"OFFPEAK\"),AVERAGE(INDIRECT(\"krzywa!F\"&MATCH(A23-$A$2,krzywa!A:A,0)&\":F\"&MATCH(B23-$A$2,krzywa!A:A,0)))))))),4)","v":{"$error":"#N/A"}},0,45662,"BASE",{"$f":"NETWORKDAYS(A23,B23,koszyki!$M$20:$M$898)","v":2},{"$f":"B23-A23+1- NETWORKDAYS(A23,B23,koszyki!$M$20:$M$898)","v":3},{"$f":"ROUND(IF((B23-A23+1)>2,IF(C23=75,AVERAGE(INDIRECT(\"krzywa!C\"&MATCH(K23-6,krzywa!A:A,0)&\":C\"&MATCH(K23-2,krzywa!A:A,0))),AVERAGE(INDIRECT(\"krzywa!C\"&MATCH(A23-$A$2+BQ23,krzywa!A:A,0)&\":C\"&MATCH(B23-$A$2-AY23,krzywa!A:A,0)))),INDIRECT(\"krzywa!C\"&MATCH(K23,krzywa!A:A,0))),4)","v":{"$error":"#N/A"}},0,{"$f":"-C23*ABS(D23-F23)*H23*I23*U23+'kompensacja międzyproduktowa'!X23*U23","v":{"$error":"#N/A"}},{"$f":"ROUND(IF((B23-A23+1)>2,IF(C23=75,AVERAGE(INDIRECT(\"krzywa!D\"&MATCH(K23-6,krzywa!A:A,0)&\":D\"&MATCH(K23-2,krzywa!A:A,0))),AVERAGE(INDIRECT(\"krzywa!D\"&MATCH(A23-$A$2+BQ23,krzywa!A:A,0)&\":D\"&MATCH(B23-$A$2-AY23,krzywa!A:A,0)))),INDIRECT(\"krzywa!D\"&MATCH(K23,krzywa!A:A,0))),4)","v":{"$error":"#N/A"}},{"$f":"VLOOKUP(A23,krzywa!L:N,3,1)","v":0},{"$f":"VLOOKUP(B23,krzywa!L:N,3,1)","v":0},{"$f":"IF('Kalkulator Depozytów'!$B$35=TRUE,1,(1+S23/100)*W23+(1+T23/100)*(1-W23))","v":1},{"$f":"IF(S23<>T23,VLOOKUP(A23,krzywa!L:M,2,1))","v":false},{"$f":"IF(V23<>FALSE,IF(L23=\"BASE\",(V23-A23+1)*24+J23,IF(L23=\"OFFPEAK\",NETWORKDAYS(A23,V23,koszyki!$M$20:$M$898)*9+(N23)*24+J23,IF(L23=\"L-PEAK5\",NETWORKDAYS(A23,V23,koszyki!$M$20:$M$898)*10,IF(L23=\"H-PEAK5\",NETWORKDAYS(A23,V23,koszyki!$M$20:$M$898)*5,NETWORKDAYS(A23,V23,koszyki!$M$20:$M$898)*15))))/C23,1)","v":1},null,-2624,-2989,null,16,"2020-10-25",1,null,null,null,null,null,"2025-01-05","2025-01-04","2025-01-03","2025-01-02",null,{"$f":"NETWORKDAYS(AJ23,AJ23,koszyki!$M$20:$M$89)","v":0},{"$f":"NETWORKDAYS(AK23,AK23,koszyki!$M$20:$M$89)","v":0},{"$f":"NETWORKDAYS(AL23,AL23,koszyki!$M$20:$M$89)","v":1},{"$f":"NETWORKDAYS(AM23,AM23,koszyki!$M$20:$M$89)","v":1},null,0,0,1,2,null,2,null,null,"2025-01-01","2025-01-02","2025-01-03","2025-01-04",null,{"$f":"NETWORKDAYS(BB23,BB23,koszyki!$M$20:$M$89)","v":1},{"$f":"NETWORKDAYS(BC23,BC23,koszyki!$M$20:$M$89)","v":1},{"$f":"NETWORKDAYS(BD23,BD23,koszyki!$M$20:$M$89)","v":1},{"$f":"NETWORKDAYS(BE23,BE23,koszyki!$M$20:$M$89)","v":0},null,1,2,3,3,null,0]
["2025-01-06","2025-01-31",624,{"$f":"'Kalkulator Depozytów'!M29","v":0},{"$f":"'Kalkulator Depozytów'!N29","v":0},{"$f":"'Kalkulator Depozytów'!O29","v":0},{"$f":"'Kalkulator Depozytów'!P29","v":0},{"$f":"'Kalkulator Depozytów'!Q29","v":0},{"$f":"ROUND(IF(OR(AND(K24>0,L24=\"L-PEAK5\"),AND(K24>0,L24=\"H-PEAK5\")),R24,IF(AND(K24>0,L24=\"PEAK5\"),O24,IF(K24>0,IF(OR(L24=\"BASE\"),AVERAGE(INDIRECT(\"krzywa!B\"&MATCH(A24-$A$2,krzywa!A:A,0)&\":B\"&MATCH(B24-$A$2,krzywa!A:A,0),TRUE)),IF(OR(L24=\"OFFPEAK\"),AVERAGE(INDIRECT(\"krzywa!F\"&MATCH(A24-$A$2,krzywa!A:A,0)&\":F\"&MATCH(B24-$A$2,krzywa!A:A,0)))))))),4)","v":{"$error":"#N/A"}},0,45688,"BASE",{"$f":"NETWORKDAYS(A24,B24,koszyki!$M$20:$M$898)","v":19},{"$f":"B24-A24+1- NETWORKDAYS(A24,B24,koszyki!$M$20:$M$898)","v":7},{"$f":"ROUND(IF((B24-A24+1)>2,IF(C24=75,AVERAGE(INDIRECT(\"krzywa!C\"&MATCH(K24-6,krzywa!A:A,0)&\":C\"&MATCH(K24-2,krzywa!A:A,0))),AVERAGE(INDIRECT(\"krzywa!C\"&MATCH(A24-$A$2+BQ24,krzywa!A:A,0)&\":C\"&MATCH(B24-$A$2-AY24,krzywa!A:A,0)))),INDIRECT(\"krzywa!C\"&MATCH(K24,krzywa!A:A,0))),4)","v":{"$error":"#N/A"}},0,{"$f":"-C24*ABS(D24-F24)*H24*I24*U24+'kompensacja międzyproduktowa'!X24*U24","v":{"$error":"#N/A"}},{"$f":"ROUND(IF((B24-A24+1)>2,IF(C24=75,AVERAGE(INDIRECT(\"krzywa!D\"&MATCH(K24-6,krzywa!A:A,0)&\":D\"&MATCH(K24-2,krzywa!A:A,0))),AVERAGE(INDIRECT(\"krzywa!D\"&MATCH(A24-$A$2+BQ24,krzywa!A:A,0)&\":D\"&MATCH(B24-$A$2-AY24,krzywa!A:A,0)))),INDIRECT(\"krzywa!D\"&MATCH(K24,krzywa!A:A,0))),4)","v":{"$error":"#N/A"}},{"$f":"VLOOKUP(A24,krzywa!L:N,3,1)","v":0},{"$f":"VLOOKUP(B24,krzywa!L:N,3,1)","v":0},{"$f":"IF('Kalkulator Depozytów'!$B$35=TRUE,1,(1+S24/100)*W24+(1+T24/100)*(1-W24))","v":1},{"$f":"IF(S24<>T24,VLOOKUP(A24,krzywa!L:M,2,1))","v":false},{"$f":"IF(V24<>FALSE,IF(L24=\"BASE\",(V24-A24+1)*24+J24,IF(L24=\"OFFPEAK\",NETWORKDAYS(A24,V24,koszyki!$M$20:$M$898)*9+(N24)*24+J24,IF(L24=\"L-PEAK5\",NETWORKDAYS(A24,V24,koszyki!$M$20:$M$898)*10,IF(L24=\"H-PEAK5\",NETWORKDAYS(A24,V24,koszyki!$M$20:$M$898)*5,NETWORKDAYS(A24,V24,koszyki!$M$20:$M$898)*15))))/C24,1)","v":1},null,-2470,-2835,null,17,"2021-03-28",-1,null,null,null,null,null,"2025-01-31","2025-01-30","2025-01-29","2025-01-28",null,{"$f":"NETWORKDAYS(AJ24,AJ24,koszyki!$M$20:$M$89)","v":1},{"$f":"NETWORKDAYS(AK24,AK24,koszyki!$M$20:$M$89)","v":1},{"$f":"NETWORKDAYS(AL24,AL24,koszyki!$M$20:$M$89)","v":1},{"$f":"NETWORKDAYS(AM24,AM24,koszyki!$M$20:$M$89)","v":1},null,1,2,3,4,null,0,null,null,"2025-01-06","2025-01-07","2025-01-08","2025-01-09",null,{"$f":"NETWORKDAYS(BB24,BB24,koszyki!$M$20:$M$89)","v":1},{"$f":"NETWORKDAYS(BC24,BC24,koszyki!$M$20:$M$89)","v":1},{"$f":"NETWORKDAYS(BD24,BD24,koszyki!$M$20:$M$89)","v":1},{"$f":"NETWORKDAYS(BE24,BE24,koszyki!$M$20:$M$89)","v":1},null,1,2,3,4,null,0]
["2025-02-01","2025-02-28",672,{"$f":"'Kalkulator Depozytów'!M30","v":0},{"$f":"'Kalkulator Depozytów'!N30","v":0},{"$f":"'Kalkulator Depozytów'!O30","v":0},{"$f":"'Kalkulator Depozytów'!P30","v":0},{"$f":"'Kalkulator Depozytów'!Q30","v":0},{"$f":"ROUND(IF(OR(AND(K25>0,L25=\"L-PEAK5\"),AND(K25>0,L25=\"H-PEAK5\")),R25,IF(AND(K25>0,L25=\"PEAK5\"),O25,IF(K25>0,IF(OR(L25=\"BASE\"),AVERAGE(INDIRECT(\"krzywa!B\"&MATCH(A25-$A$2,krzywa!A:A,0)&\":B\"&MATCH(B25-$A$2,krzywa!A:A,0),TRUE)),IF(OR(L25=\"OFFPEAK\"),AVERAGE(INDIRECT(\"krzywa!F\"&MATCH(A25-$A$2,krzywa!A:A,0)&\":F\"&MATCH(B25-$A$2,krzywa!A:A,0)))))))),4)","v":{"$error":"#N/A"}},0,45716,"BASE",{"$f":"NETWORKDAYS(A25,B25,koszyki!$M$20:$M$898)","v":20},{"$f":"B25-A25+1- NETWORKDAYS(A25,B25,koszyki!$M$20:$M$898)","v":8},{"$f":"ROUND(IF((B25-A25+1)>2,IF(C25=75,AVERAGE(INDIRECT(\"krzywa!C\"&MATCH(K25-6,krzywa!A:A,0)&\":C\"&MATCH(K25-2,krzywa!A:A,0))),AVERAGE(INDIRECT(\"krzywa!C\"&MATCH(A25-$A$2+BQ25,krzywa!A:A,0)&\":C\"&MATCH(B25-$A$2-AY25,krzywa!A:A,0)))),INDIRECT(\"krzywa!C\"&MATCH(K25,krzywa!A:A,0))),4)","v":{"$error":"#N/A"}},0,{"$f":"-C25*ABS(D25-F25)*H25*I25*U25+'kompensacja międzyproduktowa'!X25*U25","v":{"$error":"#N/A"}},{"$f":"ROUND(IF((B25-A25+1)>2,IF(C25=75,AVERAGE(INDIRECT(\"krzywa!D\"&MATCH(K25-6,krzywa!A:A,0)&\":D\"&MATCH(K25-2,krzywa!A:A,0))),AVERAGE(INDIRECT(\"krzywa!D\"&MATCH(A25-$A$2+BQ25,krzywa!A:A,0)&\":D\"&MATCH(B25-$A$2-AY25,krzywa!A:A,0)))),INDIRECT(\"krzywa!D\"&MATCH(K25,krzywa!A:A,0))),4)","v":{"$error":"#N/A"}},{"$f":"VLOOKUP(A25,krzywa!L:N,3,1)","v":0},{"$f":"VLOOKUP(B25,krzywa!L:N,3,1)","v":0},{"$f":"IF('Kalkulator Depozytów'!$B$35=TRUE,1,(1+S25/100)*W25+(1+T25/100)*(1-W25))","v":1},{"$f":"IF(S25<>T25,VLOOKUP(A25,krzywa!L:M,2,1))","v":false},{"$f":"IF(V25<>FALSE,IF(L25=\"BASE\",(V25-A25+1)*24+J25,IF(L25=\"OFFPEAK\",NETWORKDAYS(A25,V25,koszyki!$M$20:$M$898)*9+(N25)*24+J25,IF(L25=\"L-PEAK5\",NETWORKDAYS(A25,V25,koszyki!$M$20:$M$898)*10,IF(L25=\"H-PEAK5\",NETWORKDAYS(A25,V25,koszyki!$M$20:$M$898)*5,NETWORKDAYS(A25,V25,koszyki!$M$20:$M$898)*15))))/C25,1)","v":1},null,-2253,-2618,null,18,"2021-10-31",1,null,null,null,null,null,"2025-02-28","2025-02-27","2025-02-26","2025-02-25",null,{"$f":"NETWORKDAYS(AJ25,AJ25,koszyki!$M$20:$M$89)","v":1},{"$f":"NETWORKDAYS(AK25,AK25,koszyki!$M$20:$M$89)","v":1},{"$f":"NETWORKDAYS(AL25,AL25,koszyki!$M$20:$M$89)","v":1},{"$f":"NETWORKDAYS(AM25,AM25,koszyki!$M$20:$M$89)","v":1},null,1,2,3,4,null,0,null,null,"2025-02-01","2025-02-02","2025-02-03","2025-02-04",null,{"$f":"NETWORKDAYS(BB25,BB25,koszyki!$M$20:$M$89)","v":0},{"$f":"NETWORKDAYS(BC25,BC25,koszyki!$M$20:$M$89)","v":0},{"$f":"NETWORKDAYS(BD25,BD25,koszyki!$M$20:$M$89)","v":1},{"$f":"NETWORKDAYS(BE25,BE25,koszyki!$M$20:$M$89)","v":1},null,0,0,1,2,null,2]
["2025-03-01","2025-03-31",743,{"$f":"'Kalkulator Depozytów'!M31","v":0},{"$f":"'Kalkulator Depozytów'!N31","v":0},{"$f":"'Kalkulator Depozytów'!O31","v":0},{"$f":"'Kalkulator Depozytów'!P31","v":0},{"$f":"'Kalkulator Depozytów'!Q31","v":0},{"$f":"ROUND(IF(OR(AND(K26>0,L26=\"L-PEAK5\"),AND(K26>0,L26=\"H-PEAK5\")),R26,IF(AND(K26>0,L26=\"PEAK5\"),O26,IF(K26>0,IF(OR(L26=\"BASE\"),AVERAGE(INDIRECT(\"krzywa!B\"&MATCH(A26-$A$2,krzywa!A:A,0)&\":B\"&MATCH(B26-$A$2,krzywa!A:A,0),TRUE)),IF(OR(L26=\"OFFPEAK\"),AVERAGE(INDIRECT(\"krzywa!F\"&MATCH(A26-$A$2,krzywa!A:A,0)&\":F\"&MATCH(B26-$A$2,krzywa!A:A,0)))))))),4)","v":{"$error":"#N/A"}},-1,45747,"BASE",{"$f":"NETWORKDAYS(A26,B26,koszyki!$M$20:$M$898)","v":21},{"$f":"B26-A26+1- NETWORKDAYS(A26,B26,koszyki!$M$20:$M$898)","v":10},{"$f":"ROUND(IF((B26-A26+1)>2,IF(C26=75,AVERAGE(INDIRECT(\"krzywa!C\"&MATCH(K26-6,krzywa!A:A,0)&\":C\"&MATCH(K26-2,krzywa!A:A,0))),AVERAGE(INDIRECT(\"krzywa!C\"&MATCH(A26-$A$2+BQ26,krzywa!A:A,0)&\":C\"&MATCH(B26-$A$2-AY26,krzywa!A:A,0)))),INDIRECT(\"krzywa!C\"&MATCH(K26,krzywa!A:A,0))),4)","v":{"$error":"#N/A"}},0,{"$f":"-C26*ABS(D26-F26)*H26*I26*U26+'kompensacja międzyproduktowa'!X26*U26","v":{"$error":"#N/A"}},{"$f":"ROUND(IF((B26-A26+1)>2,IF(C26=75,AVERAGE(INDIRECT(\"krzywa!D\"&MATCH(K26-6,krzywa!A:A,0)&\":D\"&MATCH(K26-2,krzywa!A:A,0))),AVERAGE(INDIRECT(\"krzywa!D\"&MATCH(A26-$A$2+BQ26,krzywa!A:A,0)&\":D\"&MATCH(B26-$A$2-AY26,krzywa!A:A,0)))),INDIRECT(\"krzywa!D\"&MATCH(K26,krzywa!A:A,0))),4)","v":{"$error":"#N/A"}},{"$f":"VLOOKUP(A26,krzywa!L:N,3,1)","v":0},{"$f":"VLOOKUP(B26,krzywa!L:N,3,1)","v":0},{"$f":"IF('Kalkulator Depozytów'!$B$35=TRUE,1,(1+S26/100)*W26+(1+T26/100)*(1-W26))","v":1},{"$f":"IF(S26<>T26,VLOOKUP(A26,krzywa!L:M,2,1))","v":false},{"$f":"IF(V26<>FALSE,IF(L26=\"BASE\",(V26-A26+1)*24+J26,IF(L26=\"OFFPEAK\",NETWORKDAYS(A26,V26,koszyki!$M$20:$M$898)*9+(N26)*24+J26,IF(L26=\"L-PEAK5\",NETWORKDAYS(A26,V26,koszyki!$M$20:$M$898)*10,IF(L26=\"H-PEAK5\",NETWORKDAYS(A26,V26,koszyki!$M$20:$M$898)*5,NETWORKDAYS(A26,V26,koszyki!$M$20:$M$898)*15))))/C26,1)","v":1},null,-2107,-2472,null,19,"2022-03-26",-1,null,null,null,null,null,"2025-03-31","2025-03-30","2025-03-29","2025-03-28",null,{"$f":"NETWORKDAYS(AJ26,AJ26,koszyki!$M$20:$M$89)","v":1},{"$f":"NETWORKDAYS(AK26,AK26,koszyki!$M$20:$M$89)","v":0},{"$f":"NETWORKDAYS(AL26,AL26,koszyki!$M$20:$M$89)","v":0},{"$f":"NETWORKDAYS(AM26,AM26,koszyki!$M$20:$M$89)","v":1},null,1,1,1,2,null,0,null,null,"2025-03-01","2025-03-02","2025-03-03","2025-03-04",null,{"$f":"NETWORKDAYS(BB26,BB26,koszyki!$M$20:$M$89)","v":0},{"$f":"NETWORKDAYS(BC26,BC26,koszyki!$M$20:$M$89)","v":0},{"$f":"NETWORKDAYS(BD26,BD26,koszyki!$M$20:$M$89)","v":1},{"$f":"NETWORKDAYS(BE26,BE26,koszyki!$M$20:$M$89)","v":1},null,0,0,1,2,null,2]
["2025-04-01","2025-04-30",720,{"$f":"'Kalkulator Depozytów'!M32","v":0},{"$f":"'Kalkulator Depozytów'!N32","v":0},{"$f":"'Kalkulator Depozytów'!O32","v":0},{"$f":"'Kalkulator Depozytów'!P32","v":0},{"$f":"'Kalkulator Depozytów'!Q32","v":0},{"$f":"ROUND(IF(OR(AND(K27>0,L27=\"L-PEAK5\"),AND(K27>0,L27=\"H-PEAK5\")),R27,IF(AND(K27>0,L27=\"PEAK5\"),O27,IF(K27>0,IF(OR(L27=\"BASE\"),AVERAGE(INDIRECT(\"krzywa!B\"&MATCH(A27-$A$2,krzywa!A:A,0)&\":B\"&MATCH(B27-$A$2,krzywa!A:A,0),TRUE)),IF(OR(L27=\"OFFPEAK\"),AVERAGE(INDIRECT(\"krzywa!F\"&MATCH(A27-$A$2,krzywa!A:A,0)&\":F\"&MATCH(B27-$A$2,krzywa!A:A,0)))))))),4)","v":{"$error":"#N/A"}},0,45777,"BASE",{"$f":"NETWORKDAYS(A27,B27,koszyki!$M$20:$M$898)","v":21},{"$f":"B27-A27+1- NETWORKDAYS(A27,B27,koszyki!$M$20:$M$898)","v":9},{"$f":"ROUND(IF((B27-A27+1)>2,IF(C27=75,AVERAGE(INDIRECT(\"krzywa!C\"&MATCH(K27-6,krzywa!A:A,0)&\":C\"&MATCH(K27-2,krzywa!A:A,0))),AVERAGE(INDIRECT(\"krzywa!C\"&MATCH(A27-$A$2+BQ27,krzywa!A:A,0)&\":C\"&MATCH(B27-$A$2-AY27,krzywa!A:A,0)))),INDIRECT(\"krzywa!C\"&MATCH(K27,krzywa!A:A,0))),4)","v":{"$error":"#N/A"}},0,{"$f":"-C27*ABS(D27-F27)*H27*I27*U27+'kompensacja międzyproduktowa'!X27*U27","v":{"$error":"#N/A"}},{"$f":"ROUND(IF((B27-A27+1)>2,IF(C27=75,AVERAGE(INDIRECT(\"krzywa!D\"&MATCH(K27-6,krzywa!A:A,0)&\":D\"&MATCH(K27-2,krzywa!A:A,0))),AVERAGE(INDIRECT(\"krzywa!D\"&MATCH(A27-$A$2+BQ27,krzywa!A:A,0)&\":D\"&MATCH(B27-$A$2-AY27,krzywa!A:A,0)))),INDIRECT(\"krzywa!D\"&MATCH(K27,krzywa!A:A,0))),4)","v":{"$error":"#N/A"}},{"$f":"VLOOKUP(A27,krzywa!L:N,3,1)","v":0},{"$f":"VLOOKUP(B27,krzywa!L:N,3,1)","v":0},{"$f":"IF('Kalkulator Depozytów'!$B$35=TRUE,1,(1+S27/100)*W27+(1+T27/100)*(1-W27))","v":1},{"$f":"IF(S27<>T27,VLOOKUP(A27,krzywa!L:M,2,1))","v":false},{"$f":"IF(V27<>FALSE,IF(L27=\"BASE\",(V27-A27+1)*24+J27,IF(L27=\"OFFPEAK\",NETWORKDAYS(A27,V27,koszyki!$M$20:$M$898)*9+(N27)*24+J27,IF(L27=\"L-PEAK5\",NETWORKDAYS(A27,V27,koszyki!$M$20:$M$898)*10,IF(L27=\"H-PEAK5\",NETWORKDAYS(A27,V27,koszyki!$M$20:$M$898)*5,NETWORKDAYS(A27,V27,koszyki!$M$20:$M$898)*15))))/C27,1)","v":1},null,-1890,-2255,null,20,"2022-10-29",1,null,null,null,null,null,"2025-04-30","2025-04-29","2025-04-28","2025-04-27",null,{"$f":"NETWORKDAYS(AJ27,AJ27,koszyki!$M$20:$M$89)","v":1},{"$f":"NETWORKDAYS(AK27,AK27,koszyki!$M$20:$M$89)","v":1},{"$f":"NETWORKDAYS(AL27,AL27,koszyki!$M$20:$M$89)","v":1},{"$f":"NETWORKDAYS(AM27,AM27,koszyki!$M$20:$M$89)","v":0},null,1,2,3,3,null,0,null,null,"2025-04-01","2025-04-02","2025-04-03","2025-04-04",null,{"$f":"NETWORKDAYS(BB27,BB27,koszyki!$M$20:$M$89)","v":1},{"$f":"NETWORKDAYS(BC27,BC27,koszyki!$M$20:$M$89)","v":1},{"$f":"NETWORKDAYS(BD27,BD27,koszyki!$M$20:$M$89)","v":1},{"$f":"NETWORKDAYS(BE27,BE27,koszyki!$M$20:$M$89)","v":1},null,1,2,3,4,null,0]
["2025-05-01","2025-05-31",744,{"$f":"'Kalkulator Depozytów'!M33","v":0},{"$f":"'Kalkulator Depozytów'!N33","v":0},{"$f":"'Kalkulator Depozytów'!O33","v":0},{"$f":"'Kalkulator Depozytów'!P33","v":0},{"$f":"'Kalkulator Depozytów'!Q33","v":0},{"$f":"ROUND(IF(OR(AND(K28>0,L28=\"L-PEAK5\"),AND(K28>0,L28=\"H-PEAK5\")),R28,IF(AND(K28>0,L28=\"PEAK5\"),O28,IF(K28>0,IF(OR(L28=\"BASE\"),AVERAGE(INDIRECT(\"krzywa!B\"&MATCH(A28-$A$2,krzywa!A:A,0)&\":B\"&MATCH(B28-$A$2,krzywa!A:A,0),TRUE)),IF(OR(L28=\"OFFPEAK\"),AVERAGE(INDIRECT(\"krzywa!F\"&MATCH(A28-$A$2,krzywa!A:A,0)&\":F\"&MATCH(B28-$A$2,krzywa!A:A,0)))))))),4)","v":{"$error":"#N/A"}},0,45808,"BASE",{"$f":"NETWORKDAYS(A28,B28,koszyki!$M$20:$M$898)","v":21},{"$f":"B28-A28+1- NETWORKDAYS(A28,B28,koszyki!$M$20:$M$898)","v":10},{"$f":"ROUND(IF((B28-A28+1)>2,IF(C28=75,AVERAGE(INDIRECT(\"krzywa!C\"&MATCH(K28-6,krzywa!A:A,0)&\":C\"&MATCH(K28-2,krzywa!A:A,0))),AVERAGE(INDIRECT(\"krzywa!C\"&MATCH(A28-$A$2+BQ28,krzywa!A:A,0)&\":C\"&MATCH(B28-$A$2-AY28,krzywa!A:A,0)))),INDIRECT(\"krzywa!C\"&MATCH(K28,krzywa!A:A,0))),4)","v":{"$error":"#N/A"}},0,{"$f":"-C28*ABS(D28-F28)*H28*I28*U28+'kompensacja międzyproduktowa'!X28*U28","v":{"$error":"#N/A"}},{"$f":"ROUND(IF((B28-A28+1)>2,IF(C28=75,AVERAGE(INDIRECT(\"krzywa!D\"&MATCH(K28-6,krzywa!A:A,0)&\":D\"&MATCH(K28-2,krzywa!A:A,0))),AVERAGE(INDIRECT(\"krzywa!D\"&MATCH(A28-$A$2+BQ28,krzywa!A:A,0)&\":D\"&MATCH(B28-$A$2-AY28,krzywa!A:A,0)))),INDIRECT(\"krzywa!D\"&MATCH(K28,krzywa!A:A,0))),4)","v":{"$error":"#N/A"}},{"$f":"VLOOKUP(A28,krzywa!L:N,3,1)","v":0},{"$f":"VLOOKUP(B28,krzywa!L:N,3,1)","v":0},{"$f":"IF('Kalkulator Depozytów'!$B$35=TRUE,1,(1+S28/100)*W28+(1+T28/100)*(1-W28))","v":1},{"$f":"IF(S28<>T28,VLOOKUP(A28,krzywa!L:M,2,1))","v":false},{"$f":"IF(V28<>FALSE,IF(L28=\"BASE\",(V28-A28+1)*24+J28,IF(L28=\"OFFPEAK\",NETWORKDAYS(A28,V28,koszyki!$M$20:$M$898)*9+(N28)*24+J28,IF(L28=\"L-PEAK5\",NETWORKDAYS(A28,V28,koszyki!$M$20:$M$898)*10,IF(L28=\"H-PEAK5\",NETWORKDAYS(A28,V28,koszyki!$M$20:$M$898)*5,NETWORKDAYS(A28,V28,koszyki!$M$20:$M$898)*15))))/C28,1)","v":1},null,-1743,-2108,null,21,"2023-03-25",-1,null,null,null,null,null,"2025-05-31",{"$f":"AJ28-1","v":"2025-05-30"},"2025-05-29","2025-05-28",null,{"$f":"NETWORKDAYS(AJ28,AJ28,koszyki!$M$20:$M$89)","v":0},{"$f":"NETWORKDAYS(AK28,AK28,koszyki!$M$20:$M$89)","v":1},{"$f":"NETWORKDAYS(AL28,AL28,koszyki!$M$20:$M$89)","v":1},{"$f":"NETWORKDAYS(AM28,AM28,koszyki!$M$20:$M$89)","v":1},null,0,1,2,3,null,1,null,null,"2025-05-01","2025-05-02","2025-05-03","2025-05-04",null,{"$f":"NETWORKDAYS(BB28,BB28,koszyki!$M$20:$M$89)","v":1},{"$f":"NETWORKDAYS(BC28,BC28,koszyki!$M$20:$M$89)","v":1},{"$f":"NETWORKDAYS(BD28,BD28,koszyki!$M$20:$M$89)","v":0},{"$f":"NETWORKDAYS(BE28,BE28,koszyki!$M$20:$M$89)","v":0},null,1,2,2,2,null,0]
["2025-06-01","2025-06-30",720,{"$f":"'Kalkulator Depozytów'!M34","v":0},{"$f":"'Kalkulator Depozytów'!N34","v":0},{"$f":"'Kalkulator Depozytów'!O34","v":0},{"$f":"'Kalkulator Depozytów'!P34","v":0},{"$f":"'Kalkulator Depozytów'!Q34","v":0},{"$f":"ROUND(IF(OR(AND(K29>0,L29=\"L-PEAK5\"),AND(K29>0,L29=\"H-PEAK5\")),R29,IF(AND(K29>0,L29=\"PEAK5\"),O29,IF(K29>0,IF(OR(L29=\"BASE\"),AVERAGE(INDIRECT(\"krzywa!B\"&MATCH(A29-$A$2,krzywa!A:A,0)&\":B\"&MATCH(B29-$A$2,krzywa!A:A,0),TRUE)),IF(OR(L29=\"OFFPEAK\"),AVERAGE(INDIRECT(\"krzywa!F\"&MATCH(A29-$A$2,krzywa!A:A,0)&\":F\"&MATCH(B29-$A$2,krzywa!A:A,0)))))))),4)","v":{"$error":"#N/A"}},0,45838,"BASE",{"$f":"NETWORKDAYS(A29,B29,koszyki!$M$20:$M$898)","v":20},{"$f":"B29-A29+1- NETWORKDAYS(A29,B29,koszyki!$M$20:$M$898)","v":10},{"$f":"ROUND(IF((B29-A29+1)>2,IF(C29=75,AVERAGE(INDIRECT(\"krzywa!C\"&MATCH(K29-6,krzywa!A:A,0)&\":C\"&MATCH(K29-2,krzywa!A:A,0))),AVERAGE(INDIRECT(\"krzywa!C\"&MATCH(A29-$A$2+BQ29,krzywa!A:A,0)&\":C\"&MATCH(B29-$A$2-AY29,krzywa!A:A,0)))),INDIRECT(\"krzywa!C\"&MATCH(K29,krzywa!A:A,0))),4)","v":{"$error":"#N/A"}},0,{"$f":"-C29*ABS(D29-F29)*H29*I29*U29+'kompensacja międzyproduktowa'!X29*U29","v":{"$error":"#N/A"}},{"$f":"ROUND(IF((B29-A29+1)>2,IF(C29=75,AVERAGE(INDIRECT(\"krzywa!D\"&MATCH(K29-6,krzywa!A:A,0)&\":D\"&MATCH(K29-2,krzywa!A:A,0))),AVERAGE(INDIRECT(\"krzywa!D\"&MATCH(A29-$A$2+BQ29,krzywa!A:A,0)&\":D\"&MATCH(B29-$A$2-AY29,krzywa!A:A,0)))),INDIRECT(\"krzywa!D\"&MATCH(K29,krzywa!A:A,0))),4)","v":{"$error":"#N/A"}},{"$f":"VLOOKUP(A29,krzywa!L:N,3,1)","v":0},{"$f":"VLOOKUP(B29,krzywa!L:N,3,1)","v":0},{"$f":"IF('Kalkulator Depozytów'!$B$35=TRUE,1,(1+S29/100)*W29+(1+T29/100)*(1-W29))","v":1},{"$f":"IF(S29<>T29,VLOOKUP(A29,krzywa!L:M,2,1))","v":false},{"$f":"IF(V29<>FALSE,IF(L29=\"BASE\",(V29-A29+1)*24+J29,IF(L29=\"OFFPEAK\",NETWORKDAYS(A29,V29,koszyki!$M$20:$M$898)*9+(N29)*24+J29,IF(L29=\"L-PEAK5\",NETWORKDAYS(A29,V29,koszyki!$M$20:$M$898)*10,IF(L29=\"H-PEAK5\",NETWORKDAYS(A29,V29,koszyki!$M$20:$M$898)*5,NETWORKDAYS(A29,V29,koszyki!$M$20:$M$898)*15))))/C29,1)","v":1},null,-1526,{"$f":"AC29-$Z$7","v":-1891},null,22,"2023-10-28",1,null,null,null,null,null,"2025-06-30","2025-06-29","2025-06-28","2025-06-27",null,{"$f":"NETWORKDAYS(AJ29,AJ29,koszyki!$M$20:$M$89)","v":1},{"$f":"NETWORKDAYS(AK29,AK29,koszyki!$M$20:$M$89)","v":0},{"$f":"NETWORKDAYS(AL29,AL29,koszyki!$M$20:$M$89)","v":0},{"$f":"NETWORKDAYS(AM29,AM29,koszyki!$M$20:$M$89)","v":1},null,1,1,1,2,null,0,null,null,"2025-06-01","2025-06-02","2025-06-03","2025-06-04",null,{"$f":"NETWORKDAYS(BB29,BB29,koszyki!$M$20:$M$89)","v":0},{"$f":"NETWORKDAYS(BC29,BC29,koszyki!$M$20:$M$89)","v":1},{"$f":"NETWORKDAYS(BD29,BD29,koszyki!$M$20:$M$89)","v":1},{"$f":"NETWORKDAYS(BE29,BE29,koszyki!$M$20:$M$89)","v":1},null,0,1,2,3,null,1]
["2025-07-01","2025-09-30",{"$f":"IF(L30=\"BASE\",(B30-A30+1)*24+J30,IF(L30=\"OFFPEAK\",M30*9+(N30)*24+J30,IF(L30=\"L-PEAK5\",M30*10,IF(L30=\"H-PEAK5\",M30*5,M30*15))))","v":2208},{"$f":"'Kalkulator Depozytów'!M35","v":0},{"$f":"'Kalkulator Depozytów'!N35","v":0},{"$f":"'Kalkulator Depozytów'!O35","v":0},{"$f":"'Kalkulator Depozytów'!P35","v":0},{"$f":"'Kalkulator Depozytów'!Q35","v":0},{"$f":"ROUND(IF(OR(AND(K30>0,L30=\"L-PEAK5\"),AND(K30>0,L30=\"H-PEAK5\")),R30,IF(AND(K30>0,L30=\"PEAK5\"),O30,IF(K30>0,IF(OR(L30=\"BASE\"),AVERAGE(INDIRECT(\"krzywa!B\"&MATCH(A30-$A$2,krzywa!A:A,0)&\":B\"&MATCH(B30-$A$2,krzywa!A:A,0),TRUE)),IF(OR(L30=\"OFFPEAK\"),AVERAGE(INDIRECT(\"krzywa!F\"&MATCH(A30-$A$2,krzywa!A:A,0)&\":F\"&MATCH(B30-$A$2,krzywa!A:A,0)))))))),4)","v":{"$error":"#N/A"}},0,45930,"BASE",{"$f":"NETWORKDAYS(A30,B30,koszyki!$M$20:$M$898)","v":65},{"$f":"B30-A30+1- NETWORKDAYS(A30,B30,koszyki!$M$20:$M$898)","v":27},{"$f":"ROUND(IF((B30-A30+1)>2,IF(C30=75,AVERAGE(INDIRECT(\"krzywa!C\"&MATCH(K30-6,krzywa!A:A,0)&\":C\"&MATCH(K30-2,krzywa!A:A,0))),AVERAGE(INDIRECT(\"krzywa!C\"&MATCH(A30-$A$2+BQ30,krzywa!A:A,0)&\":C\"&MATCH(B30-$A$2-AY30,krzywa!A:A,0)))),INDIRECT(\"krzywa!C\"&MATCH(K30,krzywa!A:A,0))),4)","v":{"$error":"#N/A"}},0,{"$f":"-C30*ABS(D30-F30)*H30*I30*U30+'kompensacja międzyproduktowa'!X30*U30","v":{"$error":"#N/A"}},{"$f":"ROUND(IF((B30-A30+1)>2,IF(C30=75,AVERAGE(INDIRECT(\"krzywa!D\"&MATCH(K30-6,krzywa!A:A,0)&\":D\"&MATCH(K30-2,krzywa!A:A,0))),AVERAGE(INDIRECT(\"krzywa!D\"&MATCH(A30-$A$2+BQ30,krzywa!A:A,0)&\":D\"&MATCH(B30-$A$2-AY30,krzywa!A:A,0)))),INDIRECT(\"krzywa!D\"&MATCH(K30,krzywa!A:A,0))),4)","v":{"$error":"#N/A"}},{"$f":"VLOOKUP(A30,krzywa!L:N,3,1)","v":0},{"$f":"VLOOKUP(B30,krzywa!L:N,3,1)","v":0},{"$f":"IF('Kalkulator Depozytów'!$B$35=TRUE,1,(1+S30/100)*W30+(1+T30/100)*(1-W30))","v":1},{"$f":"IF(S30<>T30,VLOOKUP(A30,krzywa!L:M,2,1))","v":false},{"$f":"IF(V30<>FALSE,IF(L30=\"BASE\",(V30-A30+1)*24+J30,IF(L30=\"OFFPEAK\",NETWORKDAYS(A30,V30,koszyki!$M$20:$M$898)*9+(N30)*24+J30,IF(L30=\"L-PEAK5\",NETWORKDAYS(A30,V30,koszyki!$M$20:$M$898)*10,IF(L30=\"H-PEAK5\",NETWORKDAYS(A30,V30,koszyki!$M$20:$M$898)*5,NETWORKDAYS(A30,V30,koszyki!$M$20:$M$898)*15))))/C30,1)","v":1},null,-1371,-1736,null,23,"2024-03-31",-1,null,null,null,null,null,"2025-09-30","2025-09-29","2025-09-28","2025-09-27",null,{"$f":"NETWORKDAYS(AJ30,AJ30,koszyki!$M$20:$M$89)","v":1},{"$f":"NETWORKDAYS(AK30,AK30,koszyki!$M$20:$M$89)","v":1},{"$f":"NETWORKDAYS(AL30,AL30,koszyki!$M$20:$M$89)","v":0},{"$f":"NETWORKDAYS(AM30,AM30,koszyki!$M$20:$M$89)","v":0},null,1,2,2,2,null,0,null,null,"2025-07-01","2025-07-02","2025-07-03","2025-07-04",null,{"$f":"NETWORKDAYS(BB30,BB30,koszyki!$M$20:$M$89)","v":1},{"$f":"NETWORKDAYS(BC30,BC30,koszyki!$M$20:$M$89)","v":1},{"$f":"NETWORKDAYS(BD30,BD30,koszyki!$M$20:$M$89)","v":1},{"$f":"NETWORKDAYS(BE30,BE30,koszyki!$M$20:$M$89)","v":1},null,1,2,3,4,null,0]
["2025-10-01","2025-12-31",2209,{"$f":"'Kalkulator Depozytów'!M36","v":0},{"$f":"'Kalkulator Depozytów'!N36","v":0},{"$f":"'Kalkulator Depozytów'!O36","v":0},{"$f":"'Kalkulator Depozytów'!P36","v":0},{"$f":"'Kalkulator Depozytów'!Q36","v":0},{"$f":"ROUND(IF(OR(AND(K31>0,L31=\"L-PEAK5\"),AND(K31>0,L31=\"H-PEAK5\")),R31,IF(AND(K31>0,L31=\"PEAK5\"),O31,IF(K31>0,IF(OR(L31=\"BASE\"),AVERAGE(INDIRECT(\"krzywa!B\"&MATCH(A31-$A$2,krzywa!A:A,0)&\":B\"&MATCH(B31-$A$2,krzywa!A:A,0),TRUE)),IF(OR(L31=\"OFFPEAK\"),AVERAGE(INDIRECT(\"krzywa!F\"&MATCH(A31-$A$2,krzywa!A:A,0)&\":F\"&MATCH(B31-$A$2,krzywa!A:A,0)))))))),4)","v":{"$error":"#N/A"}},1,46022,"BASE",{"$f":"NETWORKDAYS(A31,B31,koszyki!$M$20:$M$898)","v":63},{"$f":"B31-A31+1- NETWORKDAYS(A31,B31,koszyki!$M$20:$M$898)","v":29},{"$f":"ROUND(IF((B31-A31+1)>2,IF(C31=75,AVERAGE(INDIRECT(\"krzywa!C\"&MATCH(K31-6,krzywa!A:A,0)&\":C\"&MATCH(K31-2,krzywa!A:A,0))),AVERAGE(INDIRECT(\"krzywa!C\"&MATCH(A31-$A$2+BQ31,krzywa!A:A,0)&\":C\"&MATCH(B31-$A$2-AY31,krzywa!A:A,0)))),INDIRECT(\"krzywa!C\"&MATCH(K31,krzywa!A:A,0))),4)","v":{"$error":"#N/A"}},0,{"$f":"-C31*ABS(D31-F31)*H31*I31*U31+'kompensacja międzyproduktowa'!X31*U31","v":{"$error":"#N/A"}},{"$f":"ROUND(IF((B31-A31+1)>2,IF(C31=75,AVERAGE(INDIRECT(\"krzywa!D\"&MATCH(K31-6,krzywa!A:A,0)&\":D\"&MATCH(K31-2,krzywa!A:A,0))),AVERAGE(INDIRECT(\"krzywa!D\"&MATCH(A31-$A$2+BQ31,krzywa!A:A,0)&\":D\"&MATCH(B31-$A$2-AY31,krzywa!A:A,0)))),INDIRECT(\"krzywa!D\"&MATCH(K31,krzywa!A:A,0))),4)","v":{"$error":"#N/A"}},{"$f":"VLOOKUP(A31,krzywa!L:N,3,1)","v":0},{"$f":"VLOOKUP(B31,krzywa!L:N,3,1)","v":0},{"$f":"IF('Kalkulator Depozytów'!$B$35=TRUE,1,(1+S31/100)*W31+(1+T31/100)*(1-W31))","v":1},{"$f":"IF(S31<>T31,VLOOKUP(A31,krzywa!L:M,2,1))","v":false},{"$f":"IF(V31<>FALSE,IF(L31=\"BASE\",(V31-A31+1)*24+J31,IF(L31=\"OFFPEAK\",NETWORKDAYS(A31,V31,koszyki!$M$20:$M$898)*9+(N31)*24+J31,IF(L31=\"L-PEAK5\",NETWORKDAYS(A31,V31,koszyki!$M$20:$M$898)*10,IF(L31=\"H-PEAK5\",NETWORKDAYS(A31,V31,koszyki!$M$20:$M$898)*5,NETWORKDAYS(A31,V31,koszyki!$M$20:$M$898)*15))))/C31,1)","v":1},null,-1161,-1526,null,24,"2024-10-27",1,null,null,null,null,null,"2025-12-31","2025-12-30","2025-12-29","2025-12-28",null,{"$f":"NETWORKDAYS(AJ31,AJ31,koszyki!$M$20:$M$89)","v":1},{"$f":"NETWORKDAYS(AK31,AK31,koszyki!$M$20:$M$89)","v":1},{"$f":"NETWORKDAYS(AL31,AL31,koszyki!$M$20:$M$89)","v":1},{"$f":"NETWORKDAYS(AM31,AM31,koszyki!$M$20:$M$89)","v":0},null,1,2,3,3,null,0,null,null,"2025-10-01","2025-10-02","2025-10-03","2025-10-04",null,{"$f":"NETWORKDAYS(BB31,BB31,koszyki!$M$20:$M$89)","v":1},{"$f":"NETWORKDAYS(BC31,BC31,koszyki!$M$20:$M$89)","v":1},{"$f":"NETWORKDAYS(BD31,BD31,koszyki!$M$20:$M$89)","v":1},{"$f":"NETWORKDAYS(BE31,BE31,koszyki!$M$20:$M$89)","v":0},null,1,2,3,3,null,0]
["2026-01-01","2026-03-31",2159,{"$f":"'Kalkulator Depozytów'!M37","v":0},{"$f":"'Kalkulator Depozytów'!N37","v":0},{"$f":"'Kalkulator Depozytów'!O37","v":0},{"$f":"'Kalkulator Depozytów'!P37","v":0},{"$f":"'Kalkulator Depozytów'!Q37","v":0},{"$f":"ROUND(IF(OR(AND(K32>0,L32=\"L-PEAK5\"),AND(K32>0,L32=\"H-PEAK5\")),R32,IF(AND(K32>0,L32=\"PEAK5\"),O32,IF(K32>0,IF(OR(L32=\"BASE\"),AVERAGE(INDIRECT(\"krzywa!B\"&MATCH(A32-$A$2,krzywa!A:A,0)&\":B\"&MATCH(B32-$A$2,krzywa!A:A,0),TRUE)),IF(OR(L32=\"OFFPEAK\"),AVERAGE(INDIRECT(\"krzywa!F\"&MATCH(A32-$A$2,krzywa!A:A,0)&\":F\"&MATCH(B32-$A$2,krzywa!A:A,0)))))))),4)","v":{"$error":"#N/A"}},-1,46112,"BASE",{"$f":"NETWORKDAYS(A32,B32,koszyki!$M$20:$M$898)","v":62},{"$f":"B32-A32+1- NETWORKDAYS(A32,B32,koszyki!$M$20:$M$898)","v":28},{"$f":"ROUND(IF((B32-A32+1)>2,IF(C32=75,AVERAGE(INDIRECT(\"krzywa!C\"&MATCH(K32-6,krzywa!A:A,0)&\":C\"&MATCH(K32-2,krzywa!A:A,0))),AVERAGE(INDIRECT(\"krzywa!C\"&MATCH(A32-$A$2+BQ32,krzywa!A:A,0)&\":C\"&MATCH(B32-$A$2-AY32,krzywa!A:A,0)))),INDIRECT(\"krzywa!C\"&MATCH(K32,krzywa!A:A,0))),4)","v":{"$error":"#N/A"}},0,{"$f":"-C32*ABS(D32-F32)*H32*I32*U32+'kompensacja międzyproduktowa'!X32*U32","v":{"$error":"#N/A"}},{"$f":"ROUND(IF((B32-A32+1)>2,IF(C32=75,AVERAGE(INDIRECT(\"krzywa!D\"&MATCH(K32-6,krzywa!A:A,0)&\":D\"&MATCH(K32-2,krzywa!A:A,0))),AVERAGE(INDIRECT(\"krzywa!D\"&MATCH(A32-$A$2+BQ32,krzywa!A:A,0)&\":D\"&MATCH(B32-$A$2-AY32,krzywa!A:A,0)))),INDIRECT(\"krzywa!D\"&MATCH(K32,krzywa!A:A,0))),4)","v":{"$error":"#N/A"}},{"$f":"VLOOKUP(A32,krzywa!L:N,3,1)","v":0},{"$f":"VLOOKUP(B32,krzywa!L:N,3,1)","v":0},{"$f":"IF('Kalkulator Depozytów'!$B$35=TRUE,1,(1+S32/100)*W32+(1+T32/100)*(1-W32))","v":1},{"$f":"IF(S32<>T32,VLOOKUP(A32,krzywa!L:M,2,1))","v":false},{"$f":"IF(V32<>FALSE,IF(L32=\"BASE\",(V32-A32+1)*24+J32,IF(L32=\"OFFPEAK\",NETWORKDAYS(A32,V32,koszyki!$M$20:$M$898)*9+(N32)*24+J32,IF(L32=\"L-PEAK5\",NETWORKDAYS(A32,V32,koszyki!$M$20:$M$898)*10,IF(L32=\"H-PEAK5\",NETWORKDAYS(A32,V32,koszyki!$M$20:$M$898)*5,NETWORKDAYS(A32,V32,koszyki!$M$20:$M$898)*15))))/C32,1)","v":1},null,{"$f":"AC32-$Y$7","v":-1007},{"$f":"AC32-$Z$7","v":-1372},null,25,"2025-03-30",-1,null,null,null,null,null,"2026-03-31","2026-03-30","2026-03-29","2026-03-28",null,{"$f":"NETWORKDAYS(AJ32,AJ32,koszyki!$M$20:$M$89)","v":1},{"$f":"NETWORKDAYS(AK32,AK32,koszyki!$M$20:$M$89)","v":1},{"$f":"NETWORKDAYS(AL32,AL32,koszyki!$M$20:$M$89)","v":0},{"$f":"NETWORKDAYS(AM32,AM32,koszyki!$M$20:$M$89)","v":0},null,1,2,2,2,null,0,null,null,"2026-01-01","2026-01-02","2026-01-03","2026-01-04",null,{"$f":"NETWORKDAYS(BB32,BB32,koszyki!$M$20:$M$89)","v":1},{"$f":"NETWORKDAYS(BC32,BC32,koszyki!$M$20:$M$89)","v":1},{"$f":"NETWORKDAYS(BD32,BD32,koszyki!$M$20:$M$89)","v":0},{"$f":"NETWORKDAYS(BE32,BE32,koszyki!$M$20:$M$89)","v":0},null,1,2,2,2,null,0]
["2026-04-01","2026-06-30",2184,{"$f":"'Kalkulator Depozytów'!M38","v":0},{"$f":"'Kalkulator Depozytów'!N38","v":0},{"$f":"'Kalkulator Depozytów'!O38","v":0},{"$f":"'Kalkulator Depozytów'!P38","v":0},{"$f":"'Kalkulator Depozytów'!Q38","v":0},{"$f":"ROUND(IF(OR(AND(K33>0,L33=\"L-PEAK5\"),AND(K33>0,L33=\"H-PEAK5\")),R33,IF(AND(K33>0,L33=\"PEAK5\"),O33,IF(K33>0,IF(OR(L33=\"BASE\"),AVERAGE(INDIRECT(\"krzywa!B\"&MATCH(A33-$A$2,krzywa!A:A,0)&\":B\"&MATCH(B33-$A$2,krzywa!A:A,0),TRUE)),IF(OR(L33=\"OFFPEAK\"),AVERAGE(INDIRECT(\"krzywa!F\"&MATCH(A33-$A$2,krzywa!A:A,0)&\":F\"&MATCH(B33-$A$2,krzywa!A:A,0)))))))),4)","v":{"$error":"#N/A"}},0,46203,"BASE",{"$f":"NETWORKDAYS(A33,B33,koszyki!$M$20:$M$898)","v":62},{"$f":"B33-A33+1- NETWORKDAYS(A33,B33,koszyki!$M$20:$M$898)","v":29},{"$f":"ROUND(IF((B33-A33+1)>2,IF(C33=75,AVERAGE(INDIRECT(\"krzywa!C\"&MATCH(K33-6,krzywa!A:A,0)&\":C\"&MATCH(K33-2,krzywa!A:A,0))),AVERAGE(INDIRECT(\"krzywa!C\"&MATCH(A33-$A$2+BQ33,krzywa!A:A,0)&\":C\"&MATCH(B33-$A$2-AY33,krzywa!A:A,0)))),INDIRECT(\"krzywa!C\"&MATCH(K33,krzywa!A:A,0))),4)","v":{"$error":"#N/A"}},0,{"$f":"-C33*ABS(D33-F33)*H33*I33*U33+'kompensacja międzyproduktowa'!X33*U33","v":{"$error":"#N/A"}},{"$f":"ROUND(IF((B33-A33+1)>2,IF(C33=75,AVERAGE(INDIRECT(\"krzywa!D\"&MATCH(K33-6,krzywa!A:A,0)&\":D\"&MATCH(K33-2,krzywa!A:A,0))),AVERAGE(INDIRECT(\"krzywa!D\"&MATCH(A33-$A$2+BQ33,krzywa!A:A,0)&\":D\"&MATCH(B33-$A$2-AY33,krzywa!A:A,0)))),INDIRECT(\"krzywa!D\"&MATCH(K33,krzywa!A:A,0))),4)","v":{"$error":"#N/A"}},{"$f":"VLOOKUP(A33,krzywa!L:N,3,1)","v":0},{"$f":"VLOOKUP(B33,krzywa!L:N,3,1)","v":0},{"$f":"IF('Kalkulator Depozytów'!$B$35=TRUE,1,(1+S33/100)*W33+(1+T33/100)*(1-W33))","v":1},{"$f":"IF(S33<>T33,VLOOKUP(A33,krzywa!L:M,2,1))","v":false},{"$f":"IF(V33<>FALSE,IF(L33=\"BASE\",(V33-A33+1)*24+J33,IF(L33=\"OFFPEAK\",NETWORKDAYS(A33,V33,koszyki!$M$20:$M$898)*9+(N33)*24+J33,IF(L33=\"L-PEAK5\",NETWORKDAYS(A33,V33,koszyki!$M$20:$M$898)*10,IF(L33=\"H-PEAK5\",NETWORKDAYS(A33,V33,koszyki!$M$20:$M$898)*5,NETWORKDAYS(A33,V33,koszyki!$M$20:$M$898)*15))))/C33,1)","v":1},null,-797,-1162,null,26,"2025-10-26",1,null,null,null,null,null,"2026-06-30","2026-06-29","2026-06-28","2026-06-27",null,{"$f":"NETWORKDAYS(AJ33,AJ33,koszyki!$M$20:$M$89)","v":1},{"$f":"NETWORKDAYS(AK33,AK33,koszyki!$M$20:$M$89)","v":1},{"$f":"NETWORKDAYS(AL33,AL33,koszyki!$M$20:$M$89)","v":0},{"$f":"NETWORKDAYS(AM33,AM33,koszyki!$M$20:$M$89)","v":0},null,1,2,2,2,null,0,null,null,"2026-04-01","2026-04-02","2026-04-03","2026-04-04",null,{"$f":"NETWORKDAYS(BB33,BB33,koszyki!$M$20:$M$89)","v":1},{"$f":"NETWORKDAYS(BC33,BC33,koszyki!$M$20:$M$89)","v":1},{"$f":"NETWORKDAYS(BD33,BD33,koszyki!$M$20:$M$89)","v":1},{"$f":"NETWORKDAYS(BE33,BE33,koszyki!$M$20:$M$89)","v":0},null,1,2,3,3,null,0]
["2026-07-01","2026-12-31",4417,{"$f":"'Kalkulator Depozytów'!M39","v":0},{"$f":"'Kalkulator Depozytów'!N39","v":0},{"$f":"'Kalkulator Depozytów'!O39","v":0},{"$f":"'Kalkulator Depozytów'!P39","v":0},{"$f":"'Kalkulator Depozytów'!Q39","v":0},{"$f":"ROUND(IF(OR(AND(K34>0,L34=\"L-PEAK5\"),AND(K34>0,L34=\"H-PEAK5\")),R34,IF(AND(K34>0,L34=\"PEAK5\"),O34,IF(K34>0,IF(OR(L34=\"BASE\"),AVERAGE(INDIRECT(\"krzywa!B\"&MATCH(A34-$A$2,krzywa!A:A,0)&\":B\"&MATCH(B34-$A$2,krzywa!A:A,0),TRUE)),IF(OR(L34=\"OFFPEAK\"),AVERAGE(INDIRECT(\"krzywa!F\"&MATCH(A34-$A$2,krzywa!A:A,0)&\":F\"&MATCH(B34-$A$2,krzywa!A:A,0)))))))),4)","v":{"$error":"#N/A"}},1,46387,"BASE",{"$f":"NETWORKDAYS(A34,B34,koszyki!$M$20:$M$898)","v":130},{"$f":"B34-A34+1- NETWORKDAYS(A34,B34,koszyki!$M$20:$M$898)","v":54},{"$f":"ROUND(IF((B34-A34+1)>2,IF(C34=75,AVERAGE(INDIRECT(\"krzywa!C\"&MATCH(K34-6,krzywa!A:A,0)&\":C\"&MATCH(K34-2,krzywa!A:A,0))),AVERAGE(INDIRECT(\"krzywa!C\"&MATCH(A34-$A$2+BQ34,krzywa!A:A,0)&\":C\"&MATCH(B34-$A$2-AY34,krzywa!A:A,0)))),INDIRECT(\"krzywa!C\"&MATCH(K34,krzywa!A:A,0))),4)","v":{"$error":"#N/A"}},0,{"$f":"-C34*ABS(D34-F34)*H34*I34*U34+'kompensacja międzyproduktowa'!X34*U34","v":{"$error":"#N/A"}},{"$f":"ROUND(IF((B34-A34+1)>2,IF(C34=75,AVERAGE(INDIRECT(\"krzywa!D\"&MATCH(K34-6,krzywa!A:A,0)&\":D\"&MATCH(K34-2,krzywa!A:A,0))),AVERAGE(INDIRECT(\"krzywa!D\"&MATCH(A34-$A$2+BQ34,krzywa!A:A,0)&\":D\"&MATCH(B34-$A$2-AY34,krzywa!A:A,0)))),INDIRECT(\"krzywa!D\"&MATCH(K34,krzywa!A:A,0))),4)","v":{"$error":"#N/A"}},{"$f":"VLOOKUP(A34,krzywa!L:N,3,1)","v":0},{"$f":"VLOOKUP(B34,krzywa!L:N,3,1)","v":0},{"$f":"IF('Kalkulator Depozytów'!$B$35=TRUE,1,(1+S34/100)*W34+(1+T34/100)*(1-W34))","v":1},{"$f":"IF(S34<>T34,VLOOKUP(A34,krzywa!L:M,2,1))","v":false},{"$f":"IF(V34<>FALSE,IF(L34=\"BASE\",(V34-A34+1)*24+J34,IF(L34=\"OFFPEAK\",NETWORKDAYS(A34,V34,koszyki!$M$20:$M$898)*9+(N34)*24+J34,IF(L34=\"L-PEAK5\",NETWORKDAYS(A34,V34,koszyki!$M$20:$M$898)*10,IF(L34=\"H-PEAK5\",NETWORKDAYS(A34,V34,koszyki!$M$20:$M$898)*5,NETWORKDAYS(A34,V34,koszyki!$M$20:$M$898)*15))))/C34,1)","v":1},null,-643,-1008,null,27,"2026-03-29",-1,null,null,null,null,null,"2026-12-31","2026-12-30","2026-12-29","2026-12-28",null,{"$f":"NETWORKDAYS(AJ34,AJ34,koszyki!$M$20:$M$89)","v":1},{"$f":"NETWORKDAYS(AK34,AK34,koszyki!$M$20:$M$89)","v":1},{"$f":"NETWORKDAYS(AL34,AL34,koszyki!$M$20:$M$89)","v":1},{"$f":"NETWORKDAYS(AM34,AM34,koszyki!$M$20:$M$89)","v":1},null,1,2,3,4,null,0,null,null,"2026-07-01","2026-07-02","2026-07-03","2026-07-04",null,{"$f":"NETWORKDAYS(BB34,BB34,koszyki!$M$20:$M$89)","v":1},{"$f":"NETWORKDAYS(BC34,BC34,koszyki!$M$20:$M$89)","v":1},{"$f":"NETWORKDAYS(BD34,BD34,koszyki!$M$20:$M$89)","v":1},{"$f":"NETWORKDAYS(BE34,BE34,koszyki!$M$20:$M$89)","v":0},null,1,2,3,3,null,0]
["2027-01-01","2027-12-31",8760,{"$f":"'Kalkulator Depozytów'!M40","v":0},{"$f":"'Kalkulator Depozytów'!N40","v":0},{"$f":"'Kalkulator Depozytów'!O40","v":0},{"$f":"'Kalkulator Depozytów'!P40","v":0},{"$f":"'Kalkulator Depozytów'!Q40","v":0},{"$f":"ROUND(IF(OR(AND(K35>0,L35=\"L-PEAK5\"),AND(K35>0,L35=\"H-PEAK5\")),R35,IF(AND(K35>0,L35=\"PEAK5\"),O35,IF(K35>0,IF(OR(L35=\"BASE\"),AVERAGE(INDIRECT(\"krzywa!B\"&MATCH(A35-$A$2,krzywa!A:A,0)&\":B\"&MATCH(B35-$A$2,krzywa!A:A,0),TRUE)),IF(OR(L35=\"OFFPEAK\"),AVERAGE(INDIRECT(\"krzywa!F\"&MATCH(A35-$A$2,krzywa!A:A,0)&\":F\"&MATCH(B35-$A$2,krzywa!A:A,0)))))))),4)","v":{"$error":"#N/A"}},0,46752,"BASE",{"$f":"NETWORKDAYS(A35,B35,koszyki!$M$20:$M$898)","v":253},{"$f":"B35-A35+1- NETWORKDAYS(A35,B35,koszyki!$M$20:$M$898)","v":112},{"$f":"ROUND(IF((B35-A35+1)>2,IF(C35=75,AVERAGE(INDIRECT(\"krzywa!C\"&MATCH(K35-6,krzywa!A:A,0)&\":C\"&MATCH(K35-2,krzywa!A:A,0))),AVERAGE(INDIRECT(\"krzywa!C\"&MATCH(A35-$A$2+BQ35,krzywa!A:A,0)&\":C\"&MATCH(B35-$A$2-AY35,krzywa!A:A,0)))),INDIRECT(\"krzywa!C\"&MATCH(K35,krzywa!A:A,0))),4)","v":{"$error":"#N/A"}},0,{"$f":"-C35*ABS(D35-F35)*H35*I35*U35+'kompensacja międzyproduktowa'!X35*U35","v":{"$error":"#N/A"}},{"$f":"ROUND(IF((B35-A35+1)>2,IF(C35=75,AVERAGE(INDIRECT(\"krzywa!D\"&MATCH(K35-6,krzywa!A:A,0)&\":D\"&MATCH(K35-2,krzywa!A:A,0))),AVERAGE(INDIRECT(\"krzywa!D\"&MATCH(A35-$A$2+BQ35,krzywa!A:A,0)&\":D\"&MATCH(B35-$A$2-AY35,krzywa!A:A,0)))),INDIRECT(\"krzywa!D\"&MATCH(K35,krzywa!A:A,0))),4)","v":{"$error":"#N/A"}},{"$f":"VLOOKUP(A35,krzywa!L:N,3,1)","v":23},{"$f":"VLOOKUP(B35,krzywa!L:N,3,1)","v":23},{"$f":"IF('Kalkulator Depozytów'!$B$35=TRUE,1,(1+S35/100)*W35+(1+T35/100)*(1-W35))","v":1.23},{"$f":"IF(S35<>T35,VLOOKUP(A35,krzywa!L:M,2,1))","v":false},{"$f":"IF(V35<>FALSE,IF(L35=\"BASE\",(V35-A35+1)*24+J35,IF(L35=\"OFFPEAK\",NETWORKDAYS(A35,V35,koszyki!$M$20:$M$898)*9+(N35)*24+J35,IF(L35=\"L-PEAK5\",NETWORKDAYS(A35,V35,koszyki!$M$20:$M$898)*10,IF(L35=\"H-PEAK5\",NETWORKDAYS(A35,V35,koszyki!$M$20:$M$898)*5,NETWORKDAYS(A35,V35,koszyki!$M$20:$M$898)*15))))/C35,1)","v":1},null,{"$f":"AC35-$Y$7","v":-433},-798,null,28,"2026-10-25",1,null,null,null,null,null,"2027-12-31","2027-12-30","2027-12-29","2027-12-28",null,{"$f":"NETWORKDAYS(AJ35,AJ35,koszyki!$M$20:$M$89)","v":1},{"$f":"NETWORKDAYS(AK35,AK35,koszyki!$M$20:$M$89)","v":1},{"$f":"NETWORKDAYS(AL35,AL35,koszyki!$M$20:$M$89)","v":1},{"$f":"NETWORKDAYS(AM35,AM35,koszyki!$M$20:$M$89)","v":1},null,1,2,3,4,null,0,null,null,"2027-01-01","2027-01-02","2027-01-03","2027-01-04",null,{"$f":"NETWORKDAYS(BB35,BB35,koszyki!$M$20:$M$89)","v":1},{"$f":"NETWORKDAYS(BC35,BC35,koszyki!$M$20:$M$89)","v":0},{"$f":"NETWORKDAYS(BD35,BD35,koszyki!$M$20:$M$89)","v":0},{"$f":"NETWORKDAYS(BE35,BE35,koszyki!$M$20:$M$89)","v":1},null,1,1,1,2,null,0]
["2028-01-01","2028-12-31",8784,{"$f":"'Kalkulator Depozytów'!M41","v":0},{"$f":"'Kalkulator Depozytów'!N41","v":0},{"$f":"'Kalkulator Depozytów'!O41","v":0},{"$f":"'Kalkulator Depozytów'!P41","v":0},{"$f":"'Kalkulator Depozytów'!Q41","v":0},{"$f":"ROUND(IF(OR(AND(K36>0,L36=\"L-PEAK5\"),AND(K36>0,L36=\"H-PEAK5\")),R36,IF(AND(K36>0,L36=\"PEAK5\"),O36,IF(K36>0,IF(OR(L36=\"BASE\"),AVERAGE(INDIRECT(\"krzywa!B\"&MATCH(A36-$A$2,krzywa!A:A,0)&\":B\"&MATCH(B36-$A$2,krzywa!A:A,0),TRUE)),IF(OR(L36=\"OFFPEAK\"),AVERAGE(INDIRECT(\"krzywa!F\"&MATCH(A36-$A$2,krzywa!A:A,0)&\":F\"&MATCH(B36-$A$2,krzywa!A:A,0)))))))),4)","v":{"$error":"#N/A"}},0,47118,"BASE",{"$f":"NETWORKDAYS(A36,B36,koszyki!$M$20:$M$898)","v":251},{"$f":"B36-A36+1- NETWORKDAYS(A36,B36,koszyki!$M$20:$M$898)","v":115},{"$f":"ROUND(IF((B36-A36+1)>2,IF(C36=75,AVERAGE(INDIRECT(\"krzywa!C\"&MATCH(K36-6,krzywa!A:A,0)&\":C\"&MATCH(K36-2,krzywa!A:A,0))),AVERAGE(INDIRECT(\"krzywa!C\"&MATCH(A36-$A$2+BQ36,krzywa!A:A,0)&\":C\"&MATCH(B36-$A$2-AY36,krzywa!A:A,0)))),INDIRECT(\"krzywa!C\"&MATCH(K36,krzywa!A:A,0))),4)","v":{"$error":"#N/A"}},0,{"$f":"-C36*ABS(D36-F36)*H36*I36*U36+'kompensacja międzyproduktowa'!X36*U36","v":{"$error":"#N/A"}},{"$f":"ROUND(IF((B36-A36+1)>2,IF(C36=75,AVERAGE(INDIRECT(\"krzywa!D\"&MATCH(K36-6,krzywa!A:A,0)&\":D\"&MATCH(K36-2,krzywa!A:A,0))),AVERAGE(INDIRECT(\"krzywa!D\"&MATCH(A36-$A$2+BQ36,krzywa!A:A,0)&\":D\"&MATCH(B36-$A$2-AY36,krzywa!A:A,0)))),INDIRECT(\"krzywa!D\"&MATCH(K36,krzywa!A:A,0))),4)","v":{"$error":"#N/A"}},{"$f":"VLOOKUP(A36,krzywa!L:N,3,1)","v":23},{"$f":"VLOOKUP(B36,krzywa!L:N,3,1)","v":23},{"$f":"IF('Kalkulator Depozytów'!$B$35=TRUE,1,(1+S36/100)*W36+(1+T36/100)*(1-W36))","v":1.23},{"$f":"IF(S36<>T36,VLOOKUP(A36,krzywa!L:M,2,1))","v":false},{"$f":"IF(V36<>FALSE,IF(L36=\"BASE\",(V36-A36+1)*24+J36,IF(L36=\"OFFPEAK\",NETWORKDAYS(A36,V36,koszyki!$M$20:$M$898)*9+(N36)*24+J36,IF(L36=\"L-PEAK5\",NETWORKDAYS(A36,V36,koszyki!$M$20:$M$898)*10,IF(L36=\"H-PEAK5\",NETWORKDAYS(A36,V36,koszyki!$M$20:$M$898)*5,NETWORKDAYS(A36,V36,koszyki!$M$20:$M$898)*15))))/C36,1)","v":1},null,{"$f":"AC36-$Y$7","v":-279},{"$f":"AC36-$Z$7","v":-644},null,29,"2027-03-28",-1,null,null,null,null,null,"2028-12-31","2028-12-30","2028-12-29","2028-12-28",null,{"$f":"NETWORKDAYS(AJ36,AJ36,koszyki!$M$20:$M$89)","v":0},{"$f":"NETWORKDAYS(AK36,AK36,koszyki!$M$20:$M$89)","v":0},{"$f":"NETWORKDAYS(AL36,AL36,koszyki!$M$20:$M$89)","v":1},{"$f":"NETWORKDAYS(AM36,AM36,koszyki!$M$20:$M$89)","v":1},null,0,0,1,2,null,2,null,null,"2028-01-01","2028-01-02","2028-01-03","2028-01-04",null,{"$f":"NETWORKDAYS(BB36,BB36,koszyki!$M$20:$M$89)","v":0},{"$f":"NETWORKDAYS(BC36,BC36,koszyki!$M$20:$M$89)","v":0},{"$f":"NETWORKDAYS(BD36,BD36,koszyki!$M$20:$M$89)","v":1},{"$f":"NETWORKDAYS(BE36,BE36,koszyki!$M$20:$M$89)","v":1},null,0,0,1,2,null,2]
["2024-11-28","2024-11-28",15,{"$f":"'Kalkulator Depozytów'!M42","v":0},{"$f":"'Kalkulator Depozytów'!N42","v":0},{"$f":"'Kalkulator Depozytów'!O42","v":0},{"$f":"'Kalkulator Depozytów'!P42","v":0},{"$f":"'Kalkulator Depozytów'!Q42","v":0},{"$f":"ROUND(IF(OR(AND(K37>0,L37=\"L-PEAK5\"),AND(K37>0,L37=\"H-PEAK5\")),R37,IF(AND(K37>0,L37=\"PEAK5\"),O37,IF(K37>0,IF(OR(L37=\"BASE\"),AVERAGE(INDIRECT(\"krzywa!B\"&MATCH(A37-$A$2,krzywa!A:A,0)&\":B\"&MATCH(B37-$A$2,krzywa!A:A,0),TRUE)),IF(OR(L37=\"OFFPEAK\"),AVERAGE(INDIRECT(\"krzywa!F\"&MATCH(A37-$A$2,krzywa!A:A,0)&\":F\"&MATCH(B37-$A$2,krzywa!A:A,0)))))))),4)","v":{"$error":"#N/A"}},0,45624,"PEAK5",{"$f":"NETWORKDAYS(A37,B37,koszyki!$M$20:$M$898)","v":1},{"$f":"B37-A37+1- NETWORKDAYS(A37,B37,koszyki!$M$20:$M$898)","v":0},{"$f":"ROUND(IF((B37-A37+1)>2,IF(C37=75,AVERAGE(INDIRECT(\"krzywa!C\"&MATCH(K37-6,krzywa!A:A,0)&\":C\"&MATCH(K37-2,krzywa!A:A,0))),AVERAGE(INDIRECT(\"krzywa!C\"&MATCH(A37-$A$2+BQ37,krzywa!A:A,0)&\":C\"&MATCH(B37-$A$2-AY37,krzywa!A:A,0)))),INDIRECT(\"krzywa!C\"&MATCH(K37,krzywa!A:A,0))),4)","v":{"$error":"#N/A"}},0,{"$f":"-C37*ABS(D37-F37)*H37*I37*U37+'kompensacja międzyproduktowa'!X37*U37","v":{"$error":"#N/A"}},{"$f":"ROUND(IF((B37-A37+1)>2,IF(C37=75,AVERAGE(INDIRECT(\"krzywa!D\"&MATCH(K37-6,krzywa!A:A,0)&\":D\"&MATCH(K37-2,krzywa!A:A,0))),AVERAGE(INDIRECT(\"krzywa!D\"&MATCH(A37-$A$2+BQ37,krzywa!A:A,0)&\":D\"&MATCH(B37-$A$2-AY37,krzywa!A:A,0)))),INDIRECT(\"krzywa!D\"&MATCH(K37,krzywa!A:A,0))),4)","v":{"$error":"#N/A"}},{"$f":"VLOOKUP(A37,krzywa!L:N,3,1)","v":0},{"$f":"VLOOKUP(B37,krzywa!L:N,3,1)","v":0},{"$f":"IF('Kalkulator Depozytów'!$B$35=TRUE,1,(1+S37/100)*W37+(1+T37/100)*(1-W37))","v":1},{"$f":"IF(S37<>T37,VLOOKUP(A37,krzywa!L:M,2,1))","v":false},{"$f":"IF(V37<>FALSE,IF(L37=\"BASE\",(V37-A37+1)*24+J37,IF(L37=\"OFFPEAK\",NETWORKDAYS(A37,V37,koszyki!$M$20:$M$898)*9+(N37)*24+J37,IF(L37=\"L-PEAK5\",NETWORKDAYS(A37,V37,koszyki!$M$20:$M$898)*10,IF(L37=\"H-PEAK5\",NETWORKDAYS(A37,V37,koszyki!$M$20:$M$898)*5,NETWORKDAYS(A37,V37,koszyki!$M$20:$M$898)*15))))/C37,1)","v":1},null,{"$f":"AC37-$Y$7","v":-62},{"$f":"AC37-$Z$7","v":-427},null,30,"2027-10-31",1,null,null,null,null,null,"2024-11-28","2024-11-27","2024-11-26","2024-11-25",null,{"$f":"NETWORKDAYS(AJ37,AJ37,koszyki!$M$20:$M$89)","v":1},{"$f":"NETWORKDAYS(AK37,AK37,koszyki!$M$20:$M$89)","v":1},{"$f":"NETWORKDAYS(AL37,AL37,koszyki!$M$20:$M$89)","v":1},{"$f":"NETWORKDAYS(AM37,AM37,koszyki!$M$20:$M$89)","v":1},null,1,2,3,4,null,0,null,null,"2024-11-28","2024-11-29","2024-11-30","2024-12-01",null,{"$f":"NETWORKDAYS(BB37,BB37,koszyki!$M$20:$M$89)","v":1},{"$f":"NETWORKDAYS(BC37,BC37,koszyki!$M$20:$M$89)","v":1},{"$f":"NETWORKDAYS(BD37,BD37,koszyki!$M$20:$M$89)","v":0},{"$f":"NETWORKDAYS(BE37,BE37,koszyki!$M$20:$M$89)","v":0},null,1,2,2,2,null,0]
["2024-11-29","2024-11-29",15,{"$f":"'Kalkulator Depozytów'!M43","v":0},{"$f":"'Kalkulator Depozytów'!N43","v":0},{"$f":"'Kalkulator Depozytów'!O43","v":0},{"$f":"'Kalkulator Depozytów'!P43","v":0},{"$f":"'Kalkulator Depozytów'!Q43","v":0},{"$f":"ROUND(IF(OR(AND(K38>0,L38=\"L-PEAK5\"),AND(K38>0,L38=\"H-PEAK5\")),R38,IF(AND(K38>0,L38=\"PEAK5\"),O38,IF(K38>0,IF(OR(L38=\"BASE\"),AVERAGE(INDIRECT(\"krzywa!B\"&MATCH(A38-$A$2,krzywa!A:A,0)&\":B\"&MATCH(B38-$A$2,krzywa!A:A,0),TRUE)),IF(OR(L38=\"OFFPEAK\"),AVERAGE(INDIRECT(\"krzywa!F\"&MATCH(A38-$A$2,krzywa!A:A,0)&\":F\"&MATCH(B38-$A$2,krzywa!A:A,0)))))))),4)","v":{"$error":"#N/A"}},0,45625,"PEAK5",{"$f":"NETWORKDAYS(A38,B38,koszyki!$M$20:$M$898)","v":1},{"$f":"B38-A38+1- NETWORKDAYS(A38,B38,koszyki!$M$20:$M$898)","v":0},{"$f":"ROUND(IF((B38-A38+1)>2,IF(C38=75,AVERAGE(INDIRECT(\"krzywa!C\"&MATCH(K38-6,krzywa!A:A,0)&\":C\"&MATCH(K38-2,krzywa!A:A,0))),AVERAGE(INDIRECT(\"krzywa!C\"&MATCH(A38-$A$2+BQ38,krzywa!A:A,0)&\":C\"&MATCH(B38-$A$2-AY38,krzywa!A:A,0)))),INDIRECT(\"krzywa!C\"&MATCH(K38,krzywa!A:A,0))),4)","v":{"$error":"#N/A"}},0,{"$f":"-C38*ABS(D38-F38)*H38*I38*U38+'kompensacja międzyproduktowa'!X38*U38","v":{"$error":"#N/A"}},{"$f":"ROUND(IF((B38-A38+1)>2,IF(C38=75,AVERAGE(INDIRECT(\"krzywa!D\"&MATCH(K38-6,krzywa!A:A,0)&\":D\"&MATCH(K38-2,krzywa!A:A,0))),AVERAGE(INDIRECT(\"krzywa!D\"&MATCH(A38-$A$2+BQ38,krzywa!A:A,0)&\":D\"&MATCH(B38-$A$2-AY38,krzywa!A:A,0)))),INDIRECT(\"krzywa!D\"&MATCH(K38,krzywa!A:A,0))),4)","v":{"$error":"#N/A"}},{"$f":"VLOOKUP(A38,krzywa!L:N,3,1)","v":0},{"$f":"VLOOKUP(B38,krzywa!L:N,3,1)","v":0},{"$f":"IF('Kalkulator Depozytów'!$B$35=TRUE,1,(1+S38/100)*W38+(1+T38/100)*(1-W38))","v":1},{"$f":"IF(S38<>T38,VLOOKUP(A38,krzywa!L:M,2,1))","v":false},{"$f":"IF(V38<>FALSE,IF(L38=\"BASE\",(V38-A38+1)*24+J38,IF(L38=\"OFFPEAK\",NETWORKDAYS(A38,V38,koszyki!$M$20:$M$898)*9+(N38)*24+J38,IF(L38=\"L-PEAK5\",NETWORKDAYS(A38,V38,koszyki!$M$20:$M$898)*10,IF(L38=\"H-PEAK5\",NETWORKDAYS(A38,V38,koszyki!$M$20:$M$898)*5,NETWORKDAYS(A38,V38,koszyki!$M$20:$M$898)*15))))/C38,1)","v":1},null,{"$f":"AC38-$Y$7","v":85},{"$f":"AC38-$Z$7","v":-280},null,31,"2028-03-26",-1,null,null,null,null,null,"2024-11-29","2024-11-28","2024-11-27","2024-11-26",null,{"$f":"NETWORKDAYS(AJ38,AJ38,koszyki!$M$20:$M$89)","v":1},{"$f":"NETWORKDAYS(AK38,AK38,koszyki!$M$20:$M$89)","v":1},{"$f":"NETWORKDAYS(AL38,AL38,koszyki!$M$20:$M$89)","v":1},{"$f":"NETWORKDAYS(AM38,AM38,koszyki!$M$20:$M$89)","v":1},null,1,2,3,4,null,0,null,null,"2024-11-29","2024-11-30","2024-12-01","2024-12-02",null,{"$f":"NETWORKDAYS(BB38,BB38,koszyki!$M$20:$M$89)","v":1},{"$f":"NETWORKDAYS(BC38,BC38,koszyki!$M$20:$M$89)","v":0},{"$f":"NETWORKDAYS(BD38,BD38,koszyki!$M$20:$M$89)","v":0},{"$f":"NETWORKDAYS(BE38,BE38,koszyki!$M$20:$M$89)","v":1},null,1,1,1,2,null,0]
["2024-11-30","2024-11-30",0,{"$f":"'Kalkulator Depozytów'!M44","v":0},{"$f":"'Kalkulator Depozytów'!N44","v":0},{"$f":"'Kalkulator Depozytów'!O44","v":0},{"$f":"'Kalkulator Depozytów'!P44","v":0},{"$f":"'Kalkulator Depozytów'!Q44","v":0},{"$f":"ROUND(IF(OR(AND(K39>0,L39=\"L-PEAK5\"),AND(K39>0,L39=\"H-PEAK5\")),R39,IF(AND(K39>0,L39=\"PEAK5\"),O39,IF(K39>0,IF(OR(L39=\"BASE\"),AVERAGE(INDIRECT(\"krzywa!B\"&MATCH(A39-$A$2,krzywa!A:A,0)&\":B\"&MATCH(B39-$A$2,krzywa!A:A,0),TRUE)),IF(OR(L39=\"OFFPEAK\"),AVERAGE(INDIRECT(\"krzywa!F\"&MATCH(A39-$A$2,krzywa!A:A,0)&\":F\"&MATCH(B39-$A$2,krzywa!A:A,0)))))))),4)","v":{"$error":"#N/A"}},0,45626,"PEAK5",{"$f":"NETWORKDAYS(A39,B39,koszyki!$M$20:$M$898)","v":0},{"$f":"B39-A39+1- NETWORKDAYS(A39,B39,koszyki!$M$20:$M$898)","v":1},{"$f":"ROUND(IF((B39-A39+1)>2,IF(C39=75,AVERAGE(INDIRECT(\"krzywa!C\"&MATCH(K39-6,krzywa!A:A,0)&\":C\"&MATCH(K39-2,krzywa!A:A,0))),AVERAGE(INDIRECT(\"krzywa!C\"&MATCH(A39-$A$2+BQ39,krzywa!A:A,0)&\":C\"&MATCH(B39-$A$2-AY39,krzywa!A:A,0)))),INDIRECT(\"krzywa!C\"&MATCH(K39,krzywa!A:A,0))),4)","v":{"$error":"#N/A"}},0,{"$f":"-C39*ABS(D39-F39)*H39*I39*U39+'kompensacja międzyproduktowa'!X39*U39","v":{"$error":"#N/A"}},{"$f":"ROUND(IF((B39-A39+1)>2,IF(C39=75,AVERAGE(INDIRECT(\"krzywa!D\"&MATCH(K39-6,krzywa!A:A,0)&\":D\"&MATCH(K39-2,krzywa!A:A,0))),AVERAGE(INDIRECT(\"krzywa!D\"&MATCH(A39-$A$2+BQ39,krzywa!A:A,0)&\":D\"&MATCH(B39-$A$2-AY39,krzywa!A:A,0)))),INDIRECT(\"krzywa!D\"&MATCH(K39,krzywa!A:A,0))),4)","v":{"$error":"#N/A"}},{"$f":"VLOOKUP(A39,krzywa!L:N,3,1)","v":0},{"$f":"VLOOKUP(B39,krzywa!L:N,3,1)","v":0},{"$f":"IF('Kalkulator Depozytów'!$B$35=TRUE,1,(1+S39/100)*W39+(1+T39/100)*(1-W39))","v":1},{"$f":"IF(S39<>T39,VLOOKUP(A39,krzywa!L:M,2,1))","v":false},{"$f":"IF(V39<>FALSE,IF(L39=\"BASE\",(V39-A39+1)*24+J39,IF(L39=\"OFFPEAK\",NETWORKDAYS(A39,V39,koszyki!$M$20:$M$898)*9+(N39)*24+J39,IF(L39=\"L-PEAK5\",NETWORKDAYS(A39,V39,koszyki!$M$20:$M$898)*10,IF(L39=\"H-PEAK5\",NETWORKDAYS(A39,V39,koszyki!$M$20:$M$898)*5,NETWORKDAYS(A39,V39,koszyki!$M$20:$M$898)*15))))/C39,1)","v":1},null,302,-63,null,32,"2028-10-29",1,null,null,null,null,null,"2024-11-30","2024-11-29","2024-11-28","2024-11-27",null,{"$f":"NETWORKDAYS(AJ39,AJ39,koszyki!$M$20:$M$89)","v":0},{"$f":"NETWORKDAYS(AK39,AK39,koszyki!$M$20:$M$89)","v":1},{"$f":"NETWORKDAYS(AL39,AL39,koszyki!$M$20:$M$89)","v":1},{"$f":"NETWORKDAYS(AM39,AM39,koszyki!$M$20:$M$89)","v":1},null,0,1,2,3,null,1,null,null,"2024-11-30","2024-12-01","2024-12-02","2024-12-03",null,{"$f":"NETWORKDAYS(BB39,BB39,koszyki!$M$20:$M$89)","v":0},{"$f":"NETWORKDAYS(BC39,BC39,koszyki!$M$20:$M$89)","v":0},{"$f":"NETWORKDAYS(BD39,BD39,koszyki!$M$20:$M$89)","v":1},{"$f":"NETWORKDAYS(BE39,BE39,koszyki!$M$20:$M$89)","v":1},null,0,0,1,2,null,2]
["2024-12-01","2024-12-01",0,{"$f":"'Kalkulator Depozytów'!M45","v":0},{"$f":"'Kalkulator Depozytów'!N45","v":0},{"$f":"'Kalkulator Depozytów'!O45","v":0},{"$f":"'Kalkulator Depozytów'!P45","v":0},{"$f":"'Kalkulator Depozytów'!Q45","v":0},{"$f":"ROUND(IF(OR(AND(K40>0,L40=\"L-PEAK5\"),AND(K40>0,L40=\"H-PEAK5\")),R40,IF(AND(K40>0,L40=\"PEAK5\"),O40,IF(K40>0,IF(OR(L40=\"BASE\"),AVERAGE(INDIRECT(\"krzywa!B\"&MATCH(A40-$A$2,krzywa!A:A,0)&\":B\"&MATCH(B40-$A$2,krzywa!A:A,0),TRUE)),IF(OR(L40=\"OFFPEAK\"),AVERAGE(INDIRECT(\"krzywa!F\"&MATCH(A40-$A$2,krzywa!A:A,0)&\":F\"&MATCH(B40-$A$2,krzywa!A:A,0)))))))),4)","v":{"$error":"#N/A"}},0,45627,"PEAK5",{"$f":"NETWORKDAYS(A40,B40,koszyki!$M$20:$M$898)","v":0},{"$f":"B40-A40+1- NETWORKDAYS(A40,B40,koszyki!$M$20:$M$898)","v":1},{"$f":"ROUND(IF((B40-A40+1)>2,IF(C40=75,AVERAGE(INDIRECT(\"krzywa!C\"&MATCH(K40-6,krzywa!A:A,0)&\":C\"&MATCH(K40-2,krzywa!A:A,0))),AVERAGE(INDIRECT(\"krzywa!C\"&MATCH(A40-$A$2+BQ40,krzywa!A:A,0)&\":C\"&MATCH(B40-$A$2-AY40,krzywa!A:A,0)))),INDIRECT(\"krzywa!C\"&MATCH(K40,krzywa!A:A,0))),4)","v":{"$error":"#N/A"}},0,{"$f":"-C40*ABS(D40-F40)*H40*I40*U40+'kompensacja międzyproduktowa'!X40*U40","v":{"$error":"#N/A"}},{"$f":"ROUND(IF((B40-A40+1)>2,IF(C40=75,AVERAGE(INDIRECT(\"krzywa!D\"&MATCH(K40-6,krzywa!A:A,0)&\":D\"&MATCH(K40-2,krzywa!A:A,0))),AVERAGE(INDIRECT(\"krzywa!D\"&MATCH(A40-$A$2+BQ40,krzywa!A:A,0)&\":D\"&MATCH(B40-$A$2-AY40,krzywa!A:A,0)))),INDIRECT(\"krzywa!D\"&MATCH(K40,krzywa!A:A,0))),4)","v":{"$error":"#N/A"}},{"$f":"VLOOKUP(A40,krzywa!L:N,3,1)","v":0},{"$f":"VLOOKUP(B40,krzywa!L:N,3,1)","v":0},{"$f":"IF('Kalkulator Depozytów'!$B$35=TRUE,1,(1+S40/100)*W40+(1+T40/100)*(1-W40))","v":1},{"$f":"IF(S40<>T40,VLOOKUP(A40,krzywa!L:M,2,1))","v":false},{"$f":"IF(V40<>FALSE,IF(L40=\"BASE\",(V40-A40+1)*24+J40,IF(L40=\"OFFPEAK\",NETWORKDAYS(A40,V40,koszyki!$M$20:$M$898)*9+(N40)*24+J40,IF(L40=\"L-PEAK5\",NETWORKDAYS(A40,V40,koszyki!$M$20:$M$898)*10,IF(L40=\"H-PEAK5\",NETWORKDAYS(A40,V40,koszyki!$M$20:$M$898)*5,NETWORKDAYS(A40,V40,koszyki!$M$20:$M$898)*15))))/C40,1)","v":1},null,null,null,null,null,null,null,null,null,null,null,null,{"$f":"B40","v":"2024-12-01"},"2024-11-30","2024-11-29","2024-11-28",null,{"$f":"NETWORKDAYS(AJ40,AJ40,koszyki!$M$20:$M$89)","v":0},{"$f":"NETWORKDAYS(AK40,AK40,koszyki!$M$20:$M$89)","v":0},{"$f":"NETWORKDAYS(AL40,AL40,koszyki!$M$20:$M$89)","v":1},{"$f":"NETWORKDAYS(AM40,AM40,koszyki!$M$20:$M$89)","v":1},null,0,0,1,2,null,2,null,null,{"$f":"A40","v":"2024-12-01"},"2024-12-02","2024-12-03","2024-12-04",null,{"$f":"NETWORKDAYS(BB40,BB40,koszyki!$M$20:$M$89)","v":0},{"$f":"NETWORKDAYS(BC40,BC40,koszyki!$M$20:$M$89)","v":1},{"$f":"NETWORKDAYS(BD40,BD40,koszyki!$M$20:$M$89)","v":1},{"$f":"NETWORKDAYS(BE40,BE40,koszyki!$M$20:$M$89)","v":1},null,0,1,2,3,null,1]
["2024-12-02","2024-12-02",15,{"$f":"'Kalkulator Depozytów'!M46","v":0},{"$f":"'Kalkulator Depozytów'!N46","v":0},{"$f":"'Kalkulator Depozytów'!O46","v":0},{"$f":"'Kalkulator Depozytów'!P46","v":0},{"$f":"'Kalkulator Depozytów'!Q46","v":0},{"$f":"ROUND(IF(OR(AND(K41>0,L41=\"L-PEAK5\"),AND(K41>0,L41=\"H-PEAK5\")),R41,IF(AND(K41>0,L41=\"PEAK5\"),O41,IF(K41>0,IF(OR(L41=\"BASE\"),AVERAGE(INDIRECT(\"krzywa!B\"&MATCH(A41-$A$2,krzywa!A:A,0)&\":B\"&MATCH(B41-$A$2,krzywa!A:A,0),TRUE)),IF(OR(L41=\"OFFPEAK\"),AVERAGE(INDIRECT(\"krzywa!F\"&MATCH(A41-$A$2,krzywa!A:A,0)&\":F\"&MATCH(B41-$A$2,krzywa!A:A,0)))))))),4)","v":{"$error":"#N/A"}},0,45628,"PEAK5",{"$f":"NETWORKDAYS(A41,B41,koszyki!$M$20:$M$898)","v":1},{"$f":"B41-A41+1- NETWORKDAYS(A41,B41,koszyki!$M$20:$M$898)","v":0},{"$f":"ROUND(IF((B41-A41+1)>2,IF(C41=75,AVERAGE(INDIRECT(\"krzywa!C\"&MATCH(K41-6,krzywa!A:A,0)&\":C\"&MATCH(K41-2,krzywa!A:A,0))),AVERAGE(INDIRECT(\"krzywa!C\"&MATCH(A41-$A$2+BQ41,krzywa!A:A,0)&\":C\"&MATCH(B41-$A$2-AY41,krzywa!A:A,0)))),INDIRECT(\"krzywa!C\"&MATCH(K41,krzywa!A:A,0))),4)","v":{"$error":"#N/A"}},0,{"$f":"-C41*ABS(D41-F41)*H41*I41*U41+'kompensacja międzyproduktowa'!X41*U41","v":{"$error":"#N/A"}},{"$f":"ROUND(IF((B41-A41+1)>2,IF(C41=75,AVERAGE(INDIRECT(\"krzywa!D\"&MATCH(K41-6,krzywa!A:A,0)&\":D\"&MATCH(K41-2,krzywa!A:A,0))),AVERAGE(INDIRECT(\"krzywa!D\"&MATCH(A41-$A$2+BQ41,krzywa!A:A,0)&\":D\"&MATCH(B41-$A$2-AY41,krzywa!A:A,0)))),INDIRECT(\"krzywa!D\"&MATCH(K41,krzywa!A:A,0))),4)","v":{"$error":"#N/A"}},{"$f":"VLOOKUP(A41,krzywa!L:N,3,1)","v":0},{"$f":"VLOOKUP(B41,krzywa!L:N,3,1)","v":0},{"$f":"IF('Kalkulator Depozytów'!$B$35=TRUE,1,(1+S41/100)*W41+(1+T41/100)*(1-W41))","v":1},{"$f":"IF(S41<>T41,VLOOKUP(A41,krzywa!L:M,2,1))","v":false},{"$f":"IF(V41<>FALSE,IF(L41=\"BASE\",(V41-A41+1)*24+J41,IF(L41=\"OFFPEAK\",NETWORKDAYS(A41,V41,koszyki!$M$20:$M$898)*9+(N41)*24+J41,IF(L41=\"L-PEAK5\",NETWORKDAYS(A41,V41,koszyki!$M$20:$M$898)*10,IF(L41=\"H-PEAK5\",NETWORKDAYS(A41,V41,koszyki!$M$20:$M$898)*5,NETWORKDAYS(A41,V41,koszyki!$M$20:$M$898)*15))))/C41,1)","v":1},null,null,null,null,null,null,null,null,null,null,null,null,"2024-12-02","2024-12-01","2024-11-30","2024-11-29",null,{"$f":"NETWORKDAYS(AJ41,AJ41,koszyki!$M$20:$M$89)","v":1},{"$f":"NETWORKDAYS(AK41,AK41,koszyki!$M$20:$M$89)","v":0},{"$f":"NETWORKDAYS(AL41,AL41,koszyki!$M$20:$M$89)","v":0},{"$f":"NETWORKDAYS(AM41,AM41,koszyki!$M$20:$M$89)","v":1},null,1,1,1,2,null,0,null,null,"2024-12-02","2024-12-03","2024-12-04","2024-12-05",null,{"$f":"NETWORKDAYS(BB41,BB41,koszyki!$M$20:$M$89)","v":1},{"$f":"NETWORKDAYS(BC41,BC41,koszyki!$M$20:$M$89)","v":1},{"$f":"NETWORKDAYS(BD41,BD41,koszyki!$M$20:$M$89)","v":1},{"$f":"NETWORKDAYS(BE41,BE41,koszyki!$M$20:$M$89)","v":1},null,1,2,3,4,null,0]
["2024-12-03","2024-12-03",15,{"$f":"'Kalkulator Depozytów'!M47","v":0},{"$f":"'Kalkulator Depozytów'!N47","v":0},{"$f":"'Kalkulator Depozytów'!O47","v":0},{"$f":"'Kalkulator Depozytów'!P47","v":0},{"$f":"'Kalkulator Depozytów'!Q47","v":0},{"$f":"ROUND(IF(OR(AND(K42>0,L42=\"L-PEAK5\"),AND(K42>0,L42=\"H-PEAK5\")),R42,IF(AND(K42>0,L42=\"PEAK5\"),O42,IF(K42>0,IF(OR(L42=\"BASE\"),AVERAGE(INDIRECT(\"krzywa!B\"&MATCH(A42-$A$2,krzywa!A:A,0)&\":B\"&MATCH(B42-$A$2,krzywa!A:A,0),TRUE)),IF(OR(L42=\"OFFPEAK\"),AVERAGE(INDIRECT(\"krzywa!F\"&MATCH(A42-$A$2,krzywa!A:A,0)&\":F\"&MATCH(B42-$A$2,krzywa!A:A,0)))))))),4)","v":{"$error":"#N/A"}},0,45629,"PEAK5",{"$f":"NETWORKDAYS(A42,B42,koszyki!$M$20:$M$898)","v":1},{"$f":"B42-A42+1- NETWORKDAYS(A42,B42,koszyki!$M$20:$M$898)","v":0},{"$f":"ROUND(IF((B42-A42+1)>2,IF(C42=75,AVERAGE(INDIRECT(\"krzywa!C\"&MATCH(K42-6,krzywa!A:A,0)&\":C\"&MATCH(K42-2,krzywa!A:A,0))),AVERAGE(INDIRECT(\"krzywa!C\"&MATCH(A42-$A$2+BQ42,krzywa!A:A,0)&\":C\"&MATCH(B42-$A$2-AY42,krzywa!A:A,0)))),INDIRECT(\"krzywa!C\"&MATCH(K42,krzywa!A:A,0))),4)","v":{"$error":"#N/A"}},0,{"$f":"-C42*ABS(D42-F42)*H42*I42*U42+'kompensacja międzyproduktowa'!X42*U42","v":{"$error":"#N/A"}},{"$f":"ROUND(IF((B42-A42+1)>2,IF(C42=75,AVERAGE(INDIRECT(\"krzywa!D\"&MATCH(K42-6,krzywa!A:A,0)&\":D\"&MATCH(K42-2,krzywa!A:A,0))),AVERAGE(INDIRECT(\"krzywa!D\"&MATCH(A42-$A$2+BQ42,krzywa!A:A,0)&\":D\"&MATCH(B42-$A$2-AY42,krzywa!A:A,0)))),INDIRECT(\"krzywa!D\"&MATCH(K42,krzywa!A:A,0))),4)","v":{"$error":"#N/A"}},{"$f":"VLOOKUP(A42,krzywa!L:N,3,1)","v":0},{"$f":"VLOOKUP(B42,krzywa!L:N,3,1)","v":0},{"$f":"IF('Kalkulator Depozytów'!$B$35=TRUE,1,(1+S42/100)*W42+(1+T42/100)*(1-W42))","v":1},{"$f":"IF(S42<>T42,VLOOKUP(A42,krzywa!L:M,2,1))","v":false},{"$f":"IF(V42<>FALSE,IF(L42=\"BASE\",(V42-A42+1)*24+J42,IF(L42=\"OFFPEAK\",NETWORKDAYS(A42,V42,koszyki!$M$20:$M$898)*9+(N42)*24+J42,IF(L42=\"L-PEAK5\",NETWORKDAYS(A42,V42,koszyki!$M$20:$M$898)*10,IF(L42=\"H-PEAK5\",NETWORKDAYS(A42,V42,koszyki!$M$20:$M$898)*5,NETWORKDAYS(A42,V42,koszyki!$M$20:$M$898)*15))))/C42,1)","v":1},null,null,null,null,null,null,null,null,null,null,null,null,"2024-12-03","2024-12-02","2024-12-01","2024-11-30",null,{"$f":"NETWORKDAYS(AJ42,AJ42,koszyki!$M$20:$M$89)","v":1},{"$f":"NETWORKDAYS(AK42,AK42,koszyki!$M$20:$M$89)","v":1},{"$f":"NETWORKDAYS(AL42,AL42,koszyki!$M$20:$M$89)","v":0},{"$f":"NETWORKDAYS(AM42,AM42,koszyki!$M$20:$M$89)","v":0},null,1,2,2,2,null,0,null,null,"2024-12-03","2024-12-04","2024-12-05","2024-12-06",null,{"$f":"NETWORKDAYS(BB42,BB42,koszyki!$M$20:$M$89)","v":1},{"$f":"NETWORKDAYS(BC42,BC42,koszyki!$M$20:$M$89)","v":1},{"$f":"NETWORKDAYS(BD42,BD42,koszyki!$M$20:$M$89)","v":1},{"$f":"NETWORKDAYS(BE42,BE42,koszyki!$M$20:$M$89)","v":1},null,1,2,3,4,null,0]
["2024-12-04","2024-12-04",15,{"$f":"'Kalkulator Depozytów'!M48","v":0},{"$f":"'Kalkulator Depozytów'!N48","v":0},{"$f":"'Kalkulator Depozytów'!O48","v":0},{"$f":"'Kalkulator Depozytów'!P48","v":0},{"$f":"'Kalkulator Depozytów'!Q48","v":0},{"$f":"ROUND(IF(OR(AND(K43>0,L43=\"L-PEAK5\"),AND(K43>0,L43=\"H-PEAK5\")),R43,IF(AND(K43>0,L43=\"PEAK5\"),O43,IF(K43>0,IF(OR(L43=\"BASE\"),AVERAGE(INDIRECT(\"krzywa!B\"&MATCH(A43-$A$2,krzywa!A:A,0)&\":B\"&MATCH(B43-$A$2,krzywa!A:A,0),TRUE)),IF(OR(L43=\"OFFPEAK\"),AVERAGE(INDIRECT(\"krzywa!F\"&MATCH(A43-$A$2,krzywa!A:A,0)&\":F\"&MATCH(B43-$A$2,krzywa!A:A,0)))))))),4)","v":{"$error":"#N/A"}},0,45630,"PEAK5",{"$f":"NETWORKDAYS(A43,B43,koszyki!$M$20:$M$898)","v":1},{"$f":"B43-A43+1- NETWORKDAYS(A43,B43,koszyki!$M$20:$M$898)","v":0},{"$f":"ROUND(IF((B43-A43+1)>2,IF(C43=75,AVERAGE(INDIRECT(\"krzywa!C\"&MATCH(K43-6,krzywa!A:A,0)&\":C\"&MATCH(K43-2,krzywa!A:A,0))),AVERAGE(INDIRECT(\"krzywa!C\"&MATCH(A43-$A$2+BQ43,krzywa!A:A,0)&\":C\"&MATCH(B43-$A$2-AY43,krzywa!A:A,0)))),INDIRECT(\"krzywa!C\"&MATCH(K43,krzywa!A:A,0))),4)","v":{"$error":"#N/A"}},0,{"$f":"-C43*ABS(D43-F43)*H43*I43*U43+'kompensacja międzyproduktowa'!X43*U43","v":{"$error":"#N/A"}},{"$f":"ROUND(IF((B43-A43+1)>2,IF(C43=75,AVERAGE(INDIRECT(\"krzywa!D\"&MATCH(K43-6,krzywa!A:A,0)&\":D\"&MATCH(K43-2,krzywa!A:A,0))),AVERAGE(INDIRECT(\"krzywa!D\"&MATCH(A43-$A$2+BQ43,krzywa!A:A,0)&\":D\"&MATCH(B43-$A$2-AY43,krzywa!A:A,0)))),INDIRECT(\"krzywa!D\"&MATCH(K43,krzywa!A:A,0))),4)","v":{"$error":"#N/A"}},{"$f":"VLOOKUP(A43,krzywa!L:N,3,1)","v":0},{"$f":"VLOOKUP(B43,krzywa!L:N,3,1)","v":0},{"$f":"IF('Kalkulator Depozytów'!$B$35=TRUE,1,(1+S43/100)*W43+(1+T43/100)*(1-W43))","v":1},{"$f":"IF(S43<>T43,VLOOKUP(A43,krzywa!L:M,2,1))","v":false},{"$f":"IF(V43<>FALSE,IF(L43=\"BASE\",(V43-A43+1)*24+J43,IF(L43=\"OFFPEAK\",NETWORKDAYS(A43,V43,koszyki!$M$20:$M$898)*9+(N43)*24+J43,IF(L43=\"L-PEAK5\",NETWORKDAYS(A43,V43,koszyki!$M$20:$M$898)*10,IF(L43=\"H-PEAK5\",NETWORKDAYS(A43,V43,koszyki!$M$20:$M$898)*5,NETWORKDAYS(A43,V43,koszyki!$M$20:$M$898)*15))))/C43,1)","v":1},null,null,null,null,null,null,null,null,null,null,null,null,"2024-12-04","2024-12-03","2024-12-02","2024-12-01",null,{"$f":"NETWORKDAYS(AJ43,AJ43,koszyki!$M$20:$M$89)","v":1},{"$f":"NETWORKDAYS(AK43,AK43,koszyki!$M$20:$M$89)","v":1},{"$f":"NETWORKDAYS(AL43,AL43,koszyki!$M$20:$M$89)","v":1},{"$f":"NETWORKDAYS(AM43,AM43,koszyki!$M$20:$M$89)","v":0},null,1,2,3,3,null,0,null,null,"2024-12-04","2024-12-05","2024-12-06","2024-12-07",null,{"$f":"NETWORKDAYS(BB43,BB43,koszyki!$M$20:$M$89)","v":1},{"$f":"NETWORKDAYS(BC43,BC43,koszyki!$M$20:$M$89)","v":1},{"$f":"NETWORKDAYS(BD43,BD43,koszyki!$M$20:$M$89)","v":1},{"$f":"NETWORKDAYS(BE43,BE43,koszyki!$M$20:$M$89)","v":0},null,1,2,3,3,null,0]
["2024-12-05","2024-12-05",15,{"$f":"'Kalkulator Depozytów'!M49","v":0},{"$f":"'Kalkulator Depozytów'!N49","v":0},{"$f":"'Kalkulator Depozytów'!O49","v":0},{"$f":"'Kalkulator Depozytów'!P49","v":0},{"$f":"'Kalkulator Depozytów'!Q49","v":0},{"$f":"ROUND(IF(OR(AND(K44>0,L44=\"L-PEAK5\"),AND(K44>0,L44=\"H-PEAK5\")),R44,IF(AND(K44>0,L44=\"PEAK5\"),O44,IF(K44>0,IF(OR(L44=\"BASE\"),AVERAGE(INDIRECT(\"krzywa!B\"&MATCH(A44-$A$2,krzywa!A:A,0)&\":B\"&MATCH(B44-$A$2,krzywa!A:A,0),TRUE)),IF(OR(L44=\"OFFPEAK\"),AVERAGE(INDIRECT(\"krzywa!F\"&MATCH(A44-$A$2,krzywa!A:A,0)&\":F\"&MATCH(B44-$A$2,krzywa!A:A,0)))))))),4)","v":{"$error":"#N/A"}},0,45631,"PEAK5",{"$f":"NETWORKDAYS(A44,B44,koszyki!$M$20:$M$898)","v":1},{"$f":"B44-A44+1- NETWORKDAYS(A44,B44,koszyki!$M$20:$M$898)","v":0},{"$f":"ROUND(IF((B44-A44+1)>2,IF(C44=75,AVERAGE(INDIRECT(\"krzywa!C\"&MATCH(K44-6,krzywa!A:A,0)&\":C\"&MATCH(K44-2,krzywa!A:A,0))),AVERAGE(INDIRECT(\"krzywa!C\"&MATCH(A44-$A$2+BQ44,krzywa!A:A,0)&\":C\"&MATCH(B44-$A$2-AY44,krzywa!A:A,0)))),INDIRECT(\"krzywa!C\"&MATCH(K44,krzywa!A:A,0))),4)","v":{"$error":"#N/A"}},0,{"$f":"-C44*ABS(D44-F44)*H44*I44*U44+'kompensacja międzyproduktowa'!X44*U44","v":{"$error":"#N/A"}},{"$f":"ROUND(IF((B44-A44+1)>2,IF(C44=75,AVERAGE(INDIRECT(\"krzywa!D\"&MATCH(K44-6,krzywa!A:A,0)&\":D\"&MATCH(K44-2,krzywa!A:A,0))),AVERAGE(INDIRECT(\"krzywa!D\"&MATCH(A44-$A$2+BQ44,krzywa!A:A,0)&\":D\"&MATCH(B44-$A$2-AY44,krzywa!A:A,0)))),INDIRECT(\"krzywa!D\"&MATCH(K44,krzywa!A:A,0))),4)","v":{"$error":"#N/A"}},{"$f":"VLOOKUP(A44,krzywa!L:N,3,1)","v":0},{"$f":"VLOOKUP(B44,krzywa!L:N,3,1)","v":0},{"$f":"IF('Kalkulator Depozytów'!$B$35=TRUE,1,(1+S44/100)*W44+(1+T44/100)*(1-W44))","v":1},{"$f":"IF(S44<>T44,VLOOKUP(A44,krzywa!L:M,2,1))","v":false},{"$f":"IF(V44<>FALSE,IF(L44=\"BASE\",(V44-A44+1)*24+J44,IF(L44=\"OFFPEAK\",NETWORKDAYS(A44,V44,koszyki!$M$20:$M$898)*9+(N44)*24+J44,IF(L44=\"L-PEAK5\",NETWORKDAYS(A44,V44,koszyki!$M$20:$M$898)*10,IF(L44=\"H-PEAK5\",NETWORKDAYS(A44,V44,koszyki!$M$20:$M$898)*5,NETWORKDAYS(A44,V44,koszyki!$M$20:$M$898)*15))))/C44,1)","v":1},null,null,null,null,null,null,null,null,null,null,null,null,"2024-12-05","2024-12-04","2024-12-03","2024-12-02",null,{"$f":"NETWORKDAYS(AJ44,AJ44,koszyki!$M$20:$M$89)","v":1},{"$f":"NETWORKDAYS(AK44,AK44,koszyki!$M$20:$M$89)","v":1},{"$f":"NETWORKDAYS(AL44,AL44,koszyki!$M$20:$M$89)","v":1},{"$f":"NETWORKDAYS(AM44,AM44,koszyki!$M$20:$M$89)","v":1},null,1,2,3,4,null,0,null,null,"2024-12-05","2024-12-06","2024-12-07","2024-12-08",null,{"$f":"NETWORKDAYS(BB44,BB44,koszyki!$M$20:$M$89)","v":1},{"$f":"NETWORKDAYS(BC44,BC44,koszyki!$M$20:$M$89)","v":1},{"$f":"NETWORKDAYS(BD44,BD44,koszyki!$M$20:$M$89)","v":0},{"$f":"NETWORKDAYS(BE44,BE44,koszyki!$M$20:$M$89)","v":0},null,1,2,2,2,null,0]
["2024-12-06","2024-12-06",15,{"$f":"'Kalkulator Depozytów'!M50","v":0},{"$f":"'Kalkulator Depozytów'!N50","v":0},{"$f":"'Kalkulator Depozytów'!O50","v":0},{"$f":"'Kalkulator Depozytów'!P50","v":0},{"$f":"'Kalkulator Depozytów'!Q50","v":0},{"$f":"ROUND(IF(OR(AND(K45>0,L45=\"L-PEAK5\"),AND(K45>0,L45=\"H-PEAK5\")),R45,IF(AND(K45>0,L45=\"PEAK5\"),O45,IF(K45>0,IF(OR(L45=\"BASE\"),AVERAGE(INDIRECT(\"krzywa!B\"&MATCH(A45-$A$2,krzywa!A:A,0)&\":B\"&MATCH(B45-$A$2,krzywa!A:A,0),TRUE)),IF(OR(L45=\"OFFPEAK\"),AVERAGE(INDIRECT(\"krzywa!F\"&MATCH(A45-$A$2,krzywa!A:A,0)&\":F\"&MATCH(B45-$A$2,krzywa!A:A,0)))))))),4)","v":{"$error":"#N/A"}},0,45632,"PEAK5",{"$f":"NETWORKDAYS(A45,B45,koszyki!$M$20:$M$898)","v":1},{"$f":"B45-A45+1- NETWORKDAYS(A45,B45,koszyki!$M$20:$M$898)","v":0},{"$f":"ROUND(IF((B45-A45+1)>2,IF(C45=75,AVERAGE(INDIRECT(\"krzywa!C\"&MATCH(K45-6,krzywa!A:A,0)&\":C\"&MATCH(K45-2,krzywa!A:A,0))),AVERAGE(INDIRECT(\"krzywa!C\"&MATCH(A45-$A$2+BQ45,krzywa!A:A,0)&\":C\"&MATCH(B45-$A$2-AY45,krzywa!A:A,0)))),INDIRECT(\"krzywa!C\"&MATCH(K45,krzywa!A:A,0))),4)","v":{"$error":"#N/A"}},0,{"$f":"-C45*ABS(D45-F45)*H45*I45*U45+'kompensacja międzyproduktowa'!X45*U45","v":{"$error":"#N/A"}},{"$f":"ROUND(IF((B45-A45+1)>2,IF(C45=75,AVERAGE(INDIRECT(\"krzywa!D\"&MATCH(K45-6,krzywa!A:A,0)&\":D\"&MATCH(K45-2,krzywa!A:A,0))),AVERAGE(INDIRECT(\"krzywa!D\"&MATCH(A45-$A$2+BQ45,krzywa!A:A,0)&\":D\"&MATCH(B45-$A$2-AY45,krzywa!A:A,0)))),INDIRECT(\"krzywa!D\"&MATCH(K45,krzywa!A:A,0))),4)","v":{"$error":"#N/A"}},{"$f":"VLOOKUP(A45,krzywa!L:N,3,1)","v":0},{"$f":"VLOOKUP(B45,krzywa!L:N,3,1)","v":0},{"$f":"IF('Kalkulator Depozytów'!$B$35=TRUE,1,(1+S45/100)*W45+(1+T45/100)*(1-W45))","v":1},{"$f":"IF(S45<>T45,VLOOKUP(A45,krzywa!L:M,2,1))","v":false},{"$f":"IF(V45<>FALSE,IF(L45=\"BASE\",(V45-A45+1)*24+J45,IF(L45=\"OFFPEAK\",NETWORKDAYS(A45,V45,koszyki!$M$20:$M$898)*9+(N45)*24+J45,IF(L45=\"L-PEAK5\",NETWORKDAYS(A45,V45,koszyki!$M$20:$M$898)*10,IF(L45=\"H-PEAK5\",NETWORKDAYS(A45,V45,koszyki!$M$20:$M$898)*5,NETWORKDAYS(A45,V45,koszyki!$M$20:$M$898)*15))))/C45,1)","v":1},null,null,null,null,null,null,null,null,null,null,null,null,"2024-12-06","2024-12-05","2024-12-04","2024-12-03",null,{"$f":"NETWORKDAYS(AJ45,AJ45,koszyki!$M$20:$M$89)","v":1},{"$f":"NETWORKDAYS(AK45,AK45,koszyki!$M$20:$M$89)","v":1},{"$f":"NETWORKDAYS(AL45,AL45,koszyki!$M$20:$M$89)","v":1},{"$f":"NETWORKDAYS(AM45,AM45,koszyki!$M$20:$M$89)","v":1},null,1,2,3,4,null,0,null,null,"2024-12-06","2024-12-07","2024-12-08","2024-12-09",null,{"$f":"NETWORKDAYS(BB45,BB45,koszyki!$M$20:$M$89)","v":1},{"$f":"NETWORKDAYS(BC45,BC45,koszyki!$M$20:$M$89)","v":0},{"$f":"NETWORKDAYS(BD45,BD45,koszyki!$M$20:$M$89)","v":0},{"$f":"NETWORKDAYS(BE45,BE45,koszyki!$M$20:$M$89)","v":1},null,1,1,1,2,null,0]
["2024-12-07","2024-12-07",0,{"$f":"'Kalkulator Depozytów'!M51","v":0},{"$f":"'Kalkulator Depozytów'!N51","v":0},{"$f":"'Kalkulator Depozytów'!O51","v":0},{"$f":"'Kalkulator Depozytów'!P51","v":0},{"$f":"'Kalkulator Depozytów'!Q51","v":0},{"$f":"ROUND(IF(OR(AND(K46>0,L46=\"L-PEAK5\"),AND(K46>0,L46=\"H-PEAK5\")),R46,IF(AND(K46>0,L46=\"PEAK5\"),O46,IF(K46>0,IF(OR(L46=\"BASE\"),AVERAGE(INDIRECT(\"krzywa!B\"&MATCH(A46-$A$2,krzywa!A:A,0)&\":B\"&MATCH(B46-$A$2,krzywa!A:A,0),TRUE)),IF(OR(L46=\"OFFPEAK\"),AVERAGE(INDIRECT(\"krzywa!F\"&MATCH(A46-$A$2,krzywa!A:A,0)&\":F\"&MATCH(B46-$A$2,krzywa!A:A,0)))))))),4)","v":{"$error":"#N/A"}},0,45633,"PEAK5",{"$f":"NETWORKDAYS(A46,B46,koszyki!$M$20:$M$898)","v":0},{"$f":"B46-A46+1- NETWORKDAYS(A46,B46,koszyki!$M$20:$M$898)","v":1},{"$f":"ROUND(IF((B46-A46+1)>2,IF(C46=75,AVERAGE(INDIRECT(\"krzywa!C\"&MATCH(K46-6,krzywa!A:A,0)&\":C\"&MATCH(K46-2,krzywa!A:A,0))),AVERAGE(INDIRECT(\"krzywa!C\"&MATCH(A46-$A$2+BQ46,krzywa!A:A,0)&\":C\"&MATCH(B46-$A$2-AY46,krzywa!A:A,0)))),INDIRECT(\"krzywa!C\"&MATCH(K46,krzywa!A:A,0))),4)","v":{"$error":"#N/A"}},0,{"$f":"-C46*ABS(D46-F46)*H46*I46*U46+'kompensacja międzyproduktowa'!X46*U46","v":{"$error":"#N/A"}},{"$f":"ROUND(IF((B46-A46+1)>2,IF(C46=75,AVERAGE(INDIRECT(\"krzywa!D\"&MATCH(K46-6,krzywa!A:A,0)&\":D\"&MATCH(K46-2,krzywa!A:A,0))),AVERAGE(INDIRECT(\"krzywa!D\"&MATCH(A46-$A$2+BQ46,krzywa!A:A,0)&\":D\"&MATCH(B46-$A$2-AY46,krzywa!A:A,0)))),INDIRECT(\"krzywa!D\"&MATCH(K46,krzywa!A:A,0))),4)","v":{"$error":"#N/A"}},{"$f":"VLOOKUP(A46,krzywa!L:N,3,1)","v":0},{"$f":"VLOOKUP(B46,krzywa!L:N,3,1)","v":0},{"$f":"IF('Kalkulator Depozytów'!$B$35=TRUE,1,(1+S46/100)*W46+(1+T46/100)*(1-W46))","v":1},{"$f":"IF(S46<>T46,VLOOKUP(A46,krzywa!L:M,2,1))","v":false},{"$f":"IF(V46<>FALSE,IF(L46=\"BASE\",(V46-A46+1)*24+J46,IF(L46=\"OFFPEAK\",NETWORKDAYS(A46,V46,koszyki!$M$20:$M$898)*9+(N46)*24+J46,IF(L46=\"L-PEAK5\",NETWORKDAYS(A46,V46,koszyki!$M$20:$M$898)*10,IF(L46=\"H-PEAK5\",NETWORKDAYS(A46,V46,koszyki!$M$20:$M$898)*5,NETWORKDAYS(A46,V46,koszyki!$M$20:$M$898)*15))))/C46,1)","v":1},null,null,null,null,null,null,null,null,null,null,null,null,"2024-12-07","2024-12-06","2024-12-05","2024-12-04",null,{"$f":"NETWORKDAYS(AJ46,AJ46,koszyki!$M$20:$M$89)","v":0},{"$f":"NETWORKDAYS(AK46,AK46,koszyki!$M$20:$M$89)","v":1},{"$f":"NETWORKDAYS(AL46,AL46,koszyki!$M$20:$M$89)","v":1},{"$f":"NETWORKDAYS(AM46,AM46,koszyki!$M$20:$M$89)","v":1},null,0,1,2,3,null,1,null,null,"2024-12-07","2024-12-08","2024-12-09","2024-12-10",null,{"$f":"NETWORKDAYS(BB46,BB46,koszyki!$M$20:$M$89)","v":0},{"$f":"NETWORKDAYS(BC46,BC46,koszyki!$M$20:$M$89)","v":0},{"$f":"NETWORKDAYS(BD46,BD46,koszyki!$M$20:$M$89)","v":1},{"$f":"NETWORKDAYS(BE46,BE46,koszyki!$M$20:$M$89)","v":1},null,0,0,1,2,null,2]
["2024-12-08","2024-12-08",0,{"$f":"'Kalkulator Depozytów'!M52","v":0},{"$f":"'Kalkulator Depozytów'!N52","v":0},{"$f":"'Kalkulator Depozytów'!O52","v":0},{"$f":"'Kalkulator Depozytów'!P52","v":0},{"$f":"'Kalkulator Depozytów'!Q52","v":0},{"$f":"ROUND(IF(OR(AND(K47>0,L47=\"L-PEAK5\"),AND(K47>0,L47=\"H-PEAK5\")),R47,IF(AND(K47>0,L47=\"PEAK5\"),O47,IF(K47>0,IF(OR(L47=\"BASE\"),AVERAGE(INDIRECT(\"krzywa!B\"&MATCH(A47-$A$2,krzywa!A:A,0)&\":B\"&MATCH(B47-$A$2,krzywa!A:A,0),TRUE)),IF(OR(L47=\"OFFPEAK\"),AVERAGE(INDIRECT(\"krzywa!F\"&MATCH(A47-$A$2,krzywa!A:A,0)&\":F\"&MATCH(B47-$A$2,krzywa!A:A,0)))))))),4)","v":{"$error":"#N/A"}},0,45634,"PEAK5",{"$f":"NETWORKDAYS(A47,B47,koszyki!$M$20:$M$898)","v":0},{"$f":"B47-A47+1- NETWORKDAYS(A47,B47,koszyki!$M$20:$M$898)","v":1},{"$f":"ROUND(IF((B47-A47+1)>2,IF(C47=75,AVERAGE(INDIRECT(\"krzywa!C\"&MATCH(K47-6,krzywa!A:A,0)&\":C\"&MATCH(K47-2,krzywa!A:A,0))),AVERAGE(INDIRECT(\"krzywa!C\"&MATCH(A47-$A$2+BQ47,krzywa!A:A,0)&\":C\"&MATCH(B47-$A$2-AY47,krzywa!A:A,0)))),INDIRECT(\"krzywa!C\"&MATCH(K47,krzywa!A:A,0))),4)","v":{"$error":"#N/A"}},0,{"$f":"-C47*ABS(D47-F47)*H47*I47*U47+'kompensacja międzyproduktowa'!X47*U47","v":{"$error":"#N/A"}},{"$f":"ROUND(IF((B47-A47+1)>2,IF(C47=75,AVERAGE(INDIRECT(\"krzywa!D\"&MATCH(K47-6,krzywa!A:A,0)&\":D\"&MATCH(K47-2,krzywa!A:A,0))),AVERAGE(INDIRECT(\"krzywa!D\"&MATCH(A47-$A$2+BQ47,krzywa!A:A,0)&\":D\"&MATCH(B47-$A$2-AY47,krzywa!A:A,0)))),INDIRECT(\"krzywa!D\"&MATCH(K47,krzywa!A:A,0))),4)","v":{"$error":"#N/A"}},{"$f":"VLOOKUP(A47,krzywa!L:N,3,1)","v":0},{"$f":"VLOOKUP(B47,krzywa!L:N,3,1)","v":0},{"$f":"IF('Kalkulator Depozytów'!$B$35=TRUE,1,(1+S47/100)*W47+(1+T47/100)*(1-W47))","v":1},{"$f":"IF(S47<>T47,VLOOKUP(A47,krzywa!L:M,2,1))","v":false},{"$f":"IF(V47<>FALSE,IF(L47=\"BASE\",(V47-A47+1)*24+J47,IF(L47=\"OFFPEAK\",NETWORKDAYS(A47,V47,koszyki!$M$20:$M$898)*9+(N47)*24+J47,IF(L47=\"L-PEAK5\",NETWORKDAYS(A47,V47,koszyki!$M$20:$M$898)*10,IF(L47=\"H-PEAK5\",NETWORKDAYS(A47,V47,koszyki!$M$20:$M$898)*5,NETWORKDAYS(A47,V47,koszyki!$M$20:$M$898)*15))))/C47,1)","v":1},null,null,null,null,null,null,null,null,null,null,null,null,"2024-12-08","2024-12-07","2024-12-06","2024-12-05",null,{"$f":"NETWORKDAYS(AJ47,AJ47,koszyki!$M$20:$M$89)","v":0},{"$f":"NETWORKDAYS(AK47,AK47,koszyki!$M$20:$M$89)","v":0},{"$f":"NETWORKDAYS(AL47,AL47,koszyki!$M$20:$M$89)","v":1},{"$f":"NETWORKDAYS(AM47,AM47,koszyki!$M$20:$M$89)","v":1},null,0,0,1,2,null,2,null,null,"2024-12-08","2024-12-09","2024-12-10","2024-12-11",null,{"$f":"NETWORKDAYS(BB47,BB47,koszyki!$M$20:$M$89)","v":0},{"$f":"NETWORKDAYS(BC47,BC47,koszyki!$M$20:$M$89)","v":1},{"$f":"NETWORKDAYS(BD47,BD47,koszyki!$M$20:$M$89)","v":1},{"$f":"NETWORKDAYS(BE47,BE47,koszyki!$M$20:$M$89)","v":1},null,0,1,2,3,null,1]
["2024-12-09","2024-12-15",75,{"$f":"'Kalkulator Depozytów'!M53","v":0},{"$f":"'Kalkulator Depozytów'!N53","v":0},{"$f":"'Kalkulator Depozytów'!O53","v":0},{"$f":"'Kalkulator Depozytów'!P53","v":0},{"$f":"'Kalkulator Depozytów'!Q53","v":0},{"$f":"ROUND(IF(OR(AND(K48>0,L48=\"L-PEAK5\"),AND(K48>0,L48=\"H-PEAK5\")),R48,IF(AND(K48>0,L48=\"PEAK5\"),O48,IF(K48>0,IF(OR(L48=\"BASE\"),AVERAGE(INDIRECT(\"krzywa!B\"&MATCH(A48-$A$2,krzywa!A:A,0)&\":B\"&MATCH(B48-$A$2,krzywa!A:A,0),TRUE)),IF(OR(L48=\"OFFPEAK\"),AVERAGE(INDIRECT(\"krzywa!F\"&MATCH(A48-$A$2,krzywa!A:A,0)&\":F\"&MATCH(B48-$A$2,krzywa!A:A,0)))))))),4)","v":{"$error":"#N/A"}},0,45641,"PEAK5",{"$f":"NETWORKDAYS(A48,B48,koszyki!$M$20:$M$898)","v":5},{"$f":"B48-A48+1- NETWORKDAYS(A48,B48,koszyki!$M$20:$M$898)","v":2},{"$f":"ROUND(IF((B48-A48+1)>2,IF(C48=75,AVERAGE(INDIRECT(\"krzywa!C\"&MATCH(K48-6,krzywa!A:A,0)&\":C\"&MATCH(K48-2,krzywa!A:A,0))),AVERAGE(INDIRECT(\"krzywa!C\"&MATCH(A48-$A$2+BQ48,krzywa!A:A,0)&\":C\"&MATCH(B48-$A$2-AY48,krzywa!A:A,0)))),INDIRECT(\"krzywa!C\"&MATCH(K48,krzywa!A:A,0))),4)","v":{"$error":"#N/A"}},0,{"$f":"-C48*ABS(D48-F48)*H48*I48*U48+'kompensacja międzyproduktowa'!X48*U48","v":{"$error":"#N/A"}},{"$f":"ROUND(IF((B48-A48+1)>2,IF(C48=75,AVERAGE(INDIRECT(\"krzywa!D\"&MATCH(K48-6,krzywa!A:A,0)&\":D\"&MATCH(K48-2,krzywa!A:A,0))),AVERAGE(INDIRECT(\"krzywa!D\"&MATCH(A48-$A$2+BQ48,krzywa!A:A,0)&\":D\"&MATCH(B48-$A$2-AY48,krzywa!A:A,0)))),INDIRECT(\"krzywa!D\"&MATCH(K48,krzywa!A:A,0))),4)","v":{"$error":"#N/A"}},{"$f":"VLOOKUP(A48,krzywa!L:N,3,1)","v":0},{"$f":"VLOOKUP(B48,krzywa!L:N,3,1)","v":0},{"$f":"IF('Kalkulator Depozytów'!$B$35=TRUE,1,(1+S48/100)*W48+(1+T48/100)*(1-W48))","v":1},{"$f":"IF(S48<>T48,VLOOKUP(A48,krzywa!L:M,2,1))","v":false},{"$f":"IF(V48<>FALSE,IF(L48=\"BASE\",(V48-A48+1)*24+J48,IF(L48=\"OFFPEAK\",NETWORKDAYS(A48,V48,koszyki!$M$20:$M$898)*9+(N48)*24+J48,IF(L48=\"L-PEAK5\",NETWORKDAYS(A48,V48,koszyki!$M$20:$M$898)*10,IF(L48=\"H-PEAK5\",NETWORKDAYS(A48,V48,koszyki!$M$20:$M$898)*5,NETWORKDAYS(A48,V48,koszyki!$M$20:$M$898)*15))))/C48,1)","v":1},null,null,null,null,null,null,null,null,null,null,null,null,"2024-12-15",{"$f":"AJ48-1","v":"2024-12-14"},"2024-12-13","2024-12-12",null,{"$f":"NETWORKDAYS(AJ48,AJ48,koszyki!$M$20:$M$89)","v":0},{"$f":"NETWORKDAYS(AK48,AK48,koszyki!$M$20:$M$89)","v":0},{"$f":"NETWORKDAYS(AL48,AL48,koszyki!$M$20:$M$89)","v":1},{"$f":"NETWORKDAYS(AM48,AM48,koszyki!$M$20:$M$89)","v":1},null,0,0,1,2,null,2,null,null,"2024-12-09","2024-12-10","2024-12-11","2024-12-12",null,{"$f":"NETWORKDAYS(BB48,BB48,koszyki!$M$20:$M$89)","v":1},{"$f":"NETWORKDAYS(BC48,BC48,koszyki!$M$20:$M$89)","v":1},{"$f":"NETWORKDAYS(BD48,BD48,koszyki!$M$20:$M$89)","v":1},{"$f":"NETWORKDAYS(BE48,BE48,koszyki!$M$20:$M$89)","v":1},null,1,2,3,4,null,0]
["2024-12-16","2024-12-22",75,{"$f":"'Kalkulator Depozytów'!M54","v":0},{"$f":"'Kalkulator Depozytów'!N54","v":0},{"$f":"'Kalkulator Depozytów'!O54","v":0},{"$f":"'Kalkulator Depozytów'!P54","v":0},{"$f":"'Kalkulator Depozytów'!Q54","v":0},{"$f":"ROUND(IF(OR(AND(K49>0,L49=\"L-PEAK5\"),AND(K49>0,L49=\"H-PEAK5\")),R49,IF(AND(K49>0,L49=\"PEAK5\"),O49,IF(K49>0,IF(OR(L49=\"BASE\"),AVERAGE(INDIRECT(\"krzywa!B\"&MATCH(A49-$A$2,krzywa!A:A,0)&\":B\"&MATCH(B49-$A$2,krzywa!A:A,0),TRUE)),IF(OR(L49=\"OFFPEAK\"),AVERAGE(INDIRECT(\"krzywa!F\"&MATCH(A49-$A$2,krzywa!A:A,0)&\":F\"&MATCH(B49-$A$2,krzywa!A:A,0)))))))),4)","v":{"$error":"#N/A"}},0,45648,"PEAK5",{"$f":"NETWORKDAYS(A49,B49,koszyki!$M$20:$M$898)","v":5},{"$f":"B49-A49+1- NETWORKDAYS(A49,B49,koszyki!$M$20:$M$898)","v":2},{"$f":"ROUND(IF((B49-A49+1)>2,IF(C49=75,AVERAGE(INDIRECT(\"krzywa!C\"&MATCH(K49-6,krzywa!A:A,0)&\":C\"&MATCH(K49-2,krzywa!A:A,0))),AVERAGE(INDIRECT(\"krzywa!C\"&MATCH(A49-$A$2+BQ49,krzywa!A:A,0)&\":C\"&MATCH(B49-$A$2-AY49,krzywa!A:A,0)))),INDIRECT(\"krzywa!C\"&MATCH(K49,krzywa!A:A,0))),4)","v":{"$error":"#N/A"}},0,{"$f":"-C49*ABS(D49-F49)*H49*I49*U49+'kompensacja międzyproduktowa'!X49*U49","v":{"$error":"#N/A"}},{"$f":"ROUND(IF((B49-A49+1)>2,IF(C49=75,AVERAGE(INDIRECT(\"krzywa!D\"&MATCH(K49-6,krzywa!A:A,0)&\":D\"&MATCH(K49-2,krzywa!A:A,0))),AVERAGE(INDIRECT(\"krzywa!D\"&MATCH(A49-$A$2+BQ49,krzywa!A:A,0)&\":D\"&MATCH(B49-$A$2-AY49,krzywa!A:A,0)))),INDIRECT(\"krzywa!D\"&MATCH(K49,krzywa!A:A,0))),4)","v":{"$error":"#N/A"}},{"$f":"VLOOKUP(A49,krzywa!L:N,3,1)","v":0},{"$f":"VLOOKUP(B49,krzywa!L:N,3,1)","v":0},{"$f":"IF('Kalkulator Depozytów'!$B$35=TRUE,1,(1+S49/100)*W49+(1+T49/100)*(1-W49))","v":1},{"$f":"IF(S49<>T49,VLOOKUP(A49,krzywa!L:M,2,1))","v":false},{"$f":"IF(V49<>FALSE,IF(L49=\"BASE\",(V49-A49+1)*24+J49,IF(L49=\"OFFPEAK\",NETWORKDAYS(A49,V49,koszyki!$M$20:$M$898)*9+(N49)*24+J49,IF(L49=\"L-PEAK5\",NETWORKDAYS(A49,V49,koszyki!$M$20:$M$898)*10,IF(L49=\"H-PEAK5\",NETWORKDAYS(A49,V49,koszyki!$M$20:$M$898)*5,NETWORKDAYS(A49,V49,koszyki!$M$20:$M$898)*15))))/C49,1)","v":1},null,null,null,null,null,null,null,null,null,null,null,null,"2024-12-22","2024-12-21","2024-12-20","2024-12-19",null,{"$f":"NETWORKDAYS(AJ49,AJ49,koszyki!$M$20:$M$89)","v":0},{"$f":"NETWORKDAYS(AK49,AK49,koszyki!$M$20:$M$89)","v":0},{"$f":"NETWORKDAYS(AL49,AL49,koszyki!$M$20:$M$89)","v":1},{"$f":"NETWORKDAYS(AM49,AM49,koszyki!$M$20:$M$89)","v":1},null,0,0,1,2,null,2,null,null,"2024-12-16","2024-12-17","2024-12-18","2024-12-19",null,{"$f":"NETWORKDAYS(BB49,BB49,koszyki!$M$20:$M$89)","v":1},{"$f":"NETWORKDAYS(BC49,BC49,koszyki!$M$20:$M$89)","v":1},{"$f":"NETWORKDAYS(BD49,BD49,koszyki!$M$20:$M$89)","v":1},{"$f":"NETWORKDAYS(BE49,BE49,koszyki!$M$20:$M$89)","v":1},null,1,2,3,4,null,0]
["2024-12-23","2024-12-29",45,{"$f":"'Kalkulator Depozytów'!M55","v":0},{"$f":"'Kalkulator Depozytów'!N55","v":0},{"$f":"'Kalkulator Depozytów'!O55","v":0},{"$f":"'Kalkulator Depozytów'!P55","v":0},{"$f":"'Kalkulator Depozytów'!Q55","v":0},{"$f":"ROUND(IF(OR(AND(K50>0,L50=\"L-PEAK5\"),AND(K50>0,L50=\"H-PEAK5\")),R50,IF(AND(K50>0,L50=\"PEAK5\"),O50,IF(K50>0,IF(OR(L50=\"BASE\"),AVERAGE(INDIRECT(\"krzywa!B\"&MATCH(A50-$A$2,krzywa!A:A,0)&\":B\"&MATCH(B50-$A$2,krzywa!A:A,0),TRUE)),IF(OR(L50=\"OFFPEAK\"),AVERAGE(INDIRECT(\"krzywa!F\"&MATCH(A50-$A$2,krzywa!A:A,0)&\":F\"&MATCH(B50-$A$2,krzywa!A:A,0)))))))),4)","v":{"$error":"#N/A"}},0,45655,"PEAK5",{"$f":"NETWORKDAYS(A50,B50,koszyki!$M$20:$M$898)","v":3},{"$f":"B50-A50+1- NETWORKDAYS(A50,B50,koszyki!$M$20:$M$898)","v":4},{"$f":"ROUND(IF((B50-A50+1)>2,IF(C50=75,AVERAGE(INDIRECT(\"krzywa!C\"&MATCH(K50-6,krzywa!A:A,0)&\":C\"&MATCH(K50-2,krzywa!A:A,0))),AVERAGE(INDIRECT(\"krzywa!C\"&MATCH(A50-$A$2+BQ50,krzywa!A:A,0)&\":C\"&MATCH(B50-$A$2-AY50,krzywa!A:A,0)))),INDIRECT(\"krzywa!C\"&MATCH(K50,krzywa!A:A,0))),4)","v":{"$error":"#N/A"}},0,{"$f":"-C50*ABS(D50-F50)*H50*I50*U50+'kompensacja międzyproduktowa'!X50*U50","v":{"$error":"#N/A"}},{"$f":"ROUND(IF((B50-A50+1)>2,IF(C50=75,AVERAGE(INDIRECT(\"krzywa!D\"&MATCH(K50-6,krzywa!A:A,0)&\":D\"&MATCH(K50-2,krzywa!A:A,0))),AVERAGE(INDIRECT(\"krzywa!D\"&MATCH(A50-$A$2+BQ50,krzywa!A:A,0)&\":D\"&MATCH(B50-$A$2-AY50,krzywa!A:A,0)))),INDIRECT(\"krzywa!D\"&MATCH(K50,krzywa!A:A,0))),4)","v":{"$error":"#N/A"}},{"$f":"VLOOKUP(A50,krzywa!L:N,3,1)","v":0},{"$f":"VLOOKUP(B50,krzywa!L:N,3,1)","v":0},{"$f":"IF('Kalkulator Depozytów'!$B$35=TRUE,1,(1+S50/100)*W50+(1+T50/100)*(1-W50))","v":1},{"$f":"IF(S50<>T50,VLOOKUP(A50,krzywa!L:M,2,1))","v":false},{"$f":"IF(V50<>FALSE,IF(L50=\"BASE\",(V50-A50+1)*24+J50,IF(L50=\"OFFPEAK\",NETWORKDAYS(A50,V50,koszyki!$M$20:$M$898)*9+(N50)*24+J50,IF(L50=\"L-PEAK5\",NETWORKDAYS(A50,V50,koszyki!$M$20:$M$898)*10,IF(L50=\"H-PEAK5\",NETWORKDAYS(A50,V50,koszyki!$M$20:$M$898)*5,NETWORKDAYS(A50,V50,koszyki!$M$20:$M$898)*15))))/C50,1)","v":1},null,null,null,null,null,null,null,null,null,null,null,null,"2024-12-29","2024-12-28","2024-12-27","2024-12-26",null,{"$f":"NETWORKDAYS(AJ50,AJ50,koszyki!$M$20:$M$89)","v":0},{"$f":"NETWORKDAYS(AK50,AK50,koszyki!$M$20:$M$89)","v":0},{"$f":"NETWORKDAYS(AL50,AL50,koszyki!$M$20:$M$89)","v":1},{"$f":"NETWORKDAYS(AM50,AM50,koszyki!$M$20:$M$89)","v":1},null,0,0,1,2,null,2,null,null,"2024-12-23","2024-12-24","2024-12-25","2024-12-26",null,{"$f":"NETWORKDAYS(BB50,BB50,koszyki!$M$20:$M$89)","v":1},{"$f":"NETWORKDAYS(BC50,BC50,koszyki!$M$20:$M$89)","v":1},{"$f":"NETWORKDAYS(BD50,BD50,koszyki!$M$20:$M$89)","v":1},{"$f":"NETWORKDAYS(BE50,BE50,koszyki!$M$20:$M$89)","v":1},null,1,2,3,4,null,0]
["2024-12-30","2024-12-31",30,{"$f":"'Kalkulator Depozytów'!M56","v":0},{"$f":"'Kalkulator Depozytów'!N56","v":0},{"$f":"'Kalkulator Depozytów'!O56","v":0},{"$f":"'Kalkulator Depozytów'!P56","v":0},{"$f":"'Kalkulator Depozytów'!Q56","v":0},{"$f":"ROUND(IF(OR(AND(K51>0,L51=\"L-PEAK5\"),AND(K51>0,L51=\"H-PEAK5\")),R51,IF(AND(K51>0,L51=\"PEAK5\"),O51,IF(K51>0,IF(OR(L51=\"BASE\"),AVERAGE(INDIRECT(\"krzywa!B\"&MATCH(A51-$A$2,krzywa!A:A,0)&\":B\"&MATCH(B51-$A$2,krzywa!A:A,0),TRUE)),IF(OR(L51=\"OFFPEAK\"),AVERAGE(INDIRECT(\"krzywa!F\"&MATCH(A51-$A$2,krzywa!A:A,0)&\":F\"&MATCH(B51-$A$2,krzywa!A:A,0)))))))),4)","v":{"$error":"#N/A"}},0,45657,"PEAK5",{"$f":"NETWORKDAYS(A51,B51,koszyki!$M$20:$M$898)","v":2},{"$f":"B51-A51+1- NETWORKDAYS(A51,B51,koszyki!$M$20:$M$898)","v":0},{"$f":"ROUND(IF((B51-A51+1)>2,IF(C51=75,AVERAGE(INDIRECT(\"krzywa!C\"&MATCH(K51-6,krzywa!A:A,0)&\":C\"&MATCH(K51-2,krzywa!A:A,0))),AVERAGE(INDIRECT(\"krzywa!C\"&MATCH(A51-$A$2+BQ51,krzywa!A:A,0)&\":C\"&MATCH(B51-$A$2-AY51,krzywa!A:A,0)))),INDIRECT(\"krzywa!C\"&MATCH(K51,krzywa!A:A,0))),4)","v":{"$error":"#N/A"}},0,{"$f":"-C51*ABS(D51-F51)*H51*I51*U51+'kompensacja międzyproduktowa'!X51*U51","v":{"$error":"#N/A"}},{"$f":"ROUND(IF((B51-A51+1)>2,IF(C51=75,AVERAGE(INDIRECT(\"krzywa!D\"&MATCH(K51-6,krzywa!A:A,0)&\":D\"&MATCH(K51-2,krzywa!A:A,0))),AVERAGE(INDIRECT(\"krzywa!D\"&MATCH(A51-$A$2+BQ51,krzywa!A:A,0)&\":D\"&MATCH(B51-$A$2-AY51,krzywa!A:A,0)))),INDIRECT(\"krzywa!D\"&MATCH(K51,krzywa!A:A,0))),4)","v":{"$error":"#N/A"}},{"$f":"VLOOKUP(A51,krzywa!L:N,3,1)","v":0},{"$f":"VLOOKUP(B51,krzywa!L:N,3,1)","v":0},{"$f":"IF('Kalkulator Depozytów'!$B$35=TRUE,1,(1+S51/100)*W51+(1+T51/100)*(1-W51))","v":1},{"$f":"IF(S51<>T51,VLOOKUP(A51,krzywa!L:M,2,1))","v":false},{"$f":"IF(V51<>FALSE,IF(L51=\"BASE\",(V51-A51+1)*24+J51,IF(L51=\"OFFPEAK\",NETWORKDAYS(A51,V51,koszyki!$M$20:$M$898)*9+(N51)*24+J51,IF(L51=\"L-PEAK5\",NETWORKDAYS(A51,V51,koszyki!$M$20:$M$898)*10,IF(L51=\"H-PEAK5\",NETWORKDAYS(A51,V51,koszyki!$M$20:$M$898)*5,NETWORKDAYS(A51,V51,koszyki!$M$20:$M$898)*15))))/C51,1)","v":1},null,null,null,null,null,null,null,null,null,null,null,null,"2024-12-31","2024-12-30","2024-12-29","2024-12-28",null,{"$f":"NETWORKDAYS(AJ51,AJ51,koszyki!$M$20:$M$89)","v":1},{"$f":"NETWORKDAYS(AK51,AK51,koszyki!$M$20:$M$89)","v":1},{"$f":"NETWORKDAYS(AL51,AL51,koszyki!$M$20:$M$89)","v":0},{"$f":"NETWORKDAYS(AM51,AM51,koszyki!$M$20:$M$89)","v":0},null,1,2,2,2,null,0,null,null,"2024-12-30","2024-12-31","2025-01-01","2025-01-02",null,{"$f":"NETWORKDAYS(BB51,BB51,koszyki!$M$20:$M$89)","v":1},{"$f":"NETWORKDAYS(BC51,BC51,koszyki!$M$20:$M$89)","v":1},{"$f":"NETWORKDAYS(BD51,BD51,koszyki!$M$20:$M$89)","v":1},{"$f":"NETWORKDAYS(BE51,BE51,koszyki!$M$20:$M$89)","v":1},null,1,2,3,4,null,0]
["2025-01-01","2025-01-05",30,{"$f":"'Kalkulator Depozytów'!M57","v":0},{"$f":"'Kalkulator Depozytów'!N57","v":0},{"$f":"'Kalkulator Depozytów'!O57","v":0},{"$f":"'Kalkulator Depozytów'!P57","v":0},{"$f":"'Kalkulator Depozytów'!Q57","v":0},{"$f":"ROUND(IF(OR(AND(K52>0,L52=\"L-PEAK5\"),AND(K52>0,L52=\"H-PEAK5\")),R52,IF(AND(K52>0,L52=\"PEAK5\"),O52,IF(K52>0,IF(OR(L52=\"BASE\"),AVERAGE(INDIRECT(\"krzywa!B\"&MATCH(A52-$A$2,krzywa!A:A,0)&\":B\"&MATCH(B52-$A$2,krzywa!A:A,0),TRUE)),IF(OR(L52=\"OFFPEAK\"),AVERAGE(INDIRECT(\"krzywa!F\"&MATCH(A52-$A$2,krzywa!A:A,0)&\":F\"&MATCH(B52-$A$2,krzywa!A:A,0)))))))),4)","v":{"$error":"#N/A"}},0,45662,"PEAK5",{"$f":"NETWORKDAYS(A52,B52,koszyki!$M$20:$M$898)","v":2},{"$f":"B52-A52+1- NETWORKDAYS(A52,B52,koszyki!$M$20:$M$898)","v":3},{"$f":"ROUND(IF((B52-A52+1)>2,IF(C52=75,AVERAGE(INDIRECT(\"krzywa!C\"&MATCH(K52-6,krzywa!A:A,0)&\":C\"&MATCH(K52-2,krzywa!A:A,0))),AVERAGE(INDIRECT(\"krzywa!C\"&MATCH(A52-$A$2+BQ52,krzywa!A:A,0)&\":C\"&MATCH(B52-$A$2-AY52,krzywa!A:A,0)))),INDIRECT(\"krzywa!C\"&MATCH(K52,krzywa!A:A,0))),4)","v":{"$error":"#N/A"}},0,{"$f":"-C52*ABS(D52-F52)*H52*I52*U52+'kompensacja międzyproduktowa'!X52*U52","v":{"$error":"#N/A"}},{"$f":"ROUND(IF((B52-A52+1)>2,IF(C52=75,AVERAGE(INDIRECT(\"krzywa!D\"&MATCH(K52-6,krzywa!A:A,0)&\":D\"&MATCH(K52-2,krzywa!A:A,0))),AVERAGE(INDIRECT(\"krzywa!D\"&MATCH(A52-$A$2+BQ52,krzywa!A:A,0)&\":D\"&MATCH(B52-$A$2-AY52,krzywa!A:A,0)))),INDIRECT(\"krzywa!D\"&MATCH(K52,krzywa!A:A,0))),4)","v":{"$error":"#N/A"}},{"$f":"VLOOKUP(A52,krzywa!L:N,3,1)","v":0},{"$f":"VLOOKUP(B52,krzywa!L:N,3,1)","v":0},{"$f":"IF('Kalkulator Depozytów'!$B$35=TRUE,1,(1+S52/100)*W52+(1+T52/100)*(1-W52))","v":1},{"$f":"IF(S52<>T52,VLOOKUP(A52,krzywa!L:M,2,1))","v":false},{"$f":"IF(V52<>FALSE,IF(L52=\"BASE\",(V52-A52+1)*24+J52,IF(L52=\"OFFPEAK\",NETWORKDAYS(A52,V52,koszyki!$M$20:$M$898)*9+(N52)*24+J52,IF(L52=\"L-PEAK5\",NETWORKDAYS(A52,V52,koszyki!$M$20:$M$898)*10,IF(L52=\"H-PEAK5\",NETWORKDAYS(A52,V52,koszyki!$M$20:$M$898)*5,NETWORKDAYS(A52,V52,koszyki!$M$20:$M$898)*15))))/C52,1)","v":1},null,null,null,null,null,null,null,null,null,null,null,null,"2025-01-05","2025-01-04","2025-01-03","2025-01-02",null,{"$f":"NETWORKDAYS(AJ52,AJ52,koszyki!$M$20:$M$89)","v":0},{"$f":"NETWORKDAYS(AK52,AK52,koszyki!$M$20:$M$89)","v":0},{"$f":"NETWORKDAYS(AL52,AL52,koszyki!$M$20:$M$89)","v":1},{"$f":"NETWORKDAYS(AM52,AM52,koszyki!$M$20:$M$89)","v":1},null,0,0,1,2,null,2,null,null,"2025-01-01","2025-01-02","2025-01-03","2025-01-04",null,{"$f":"NETWORKDAYS(BB52,BB52,koszyki!$M$20:$M$89)","v":1},{"$f":"NETWORKDAYS(BC52,BC52,koszyki!$M$20:$M$89)","v":1},{"$f":"NETWORKDAYS(BD52,BD52,koszyki!$M$20:$M$89)","v":1},{"$f":"NETWORKDAYS(BE52,BE52,koszyki!$M$20:$M$89)","v":0},null,1,2,3,3,null,0]
["2025-01-06","2025-01-31",285,{"$f":"'Kalkulator Depozytów'!M58","v":0},{"$f":"'Kalkulator Depozytów'!N58","v":0},{"$f":"'Kalkulator Depozytów'!O58","v":0},{"$f":"'Kalkulator Depozytów'!P58","v":0},{"$f":"'Kalkulator Depozytów'!Q58","v":0},{"$f":"ROUND(IF(OR(AND(K53>0,L53=\"L-PEAK5\"),AND(K53>0,L53=\"H-PEAK5\")),R53,IF(AND(K53>0,L53=\"PEAK5\"),O53,IF(K53>0,IF(OR(L53=\"BASE\"),AVERAGE(INDIRECT(\"krzywa!B\"&MATCH(A53-$A$2,krzywa!A:A,0)&\":B\"&MATCH(B53-$A$2,krzywa!A:A,0),TRUE)),IF(OR(L53=\"OFFPEAK\"),AVERAGE(INDIRECT(\"krzywa!F\"&MATCH(A53-$A$2,krzywa!A:A,0)&\":F\"&MATCH(B53-$A$2,krzywa!A:A,0)))))))),4)","v":{"$error":"#N/A"}},0,45688,"PEAK5",{"$f":"NETWORKDAYS(A53,B53,koszyki!$M$20:$M$898)","v":19},{"$f":"B53-A53+1- NETWORKDAYS(A53,B53,koszyki!$M$20:$M$898)","v":7},{"$f":"ROUND(IF((B53-A53+1)>2,IF(C53=75,AVERAGE(INDIRECT(\"krzywa!C\"&MATCH(K53-6,krzywa!A:A,0)&\":C\"&MATCH(K53-2,krzywa!A:A,0))),AVERAGE(INDIRECT(\"krzywa!C\"&MATCH(A53-$A$2+BQ53,krzywa!A:A,0)&\":C\"&MATCH(B53-$A$2-AY53,krzywa!A:A,0)))),INDIRECT(\"krzywa!C\"&MATCH(K53,krzywa!A:A,0))),4)","v":{"$error":"#N/A"}},0,{"$f":"-C53*ABS(D53-F53)*H53*I53*U53+'kompensacja międzyproduktowa'!X53*U53","v":{"$error":"#N/A"}},{"$f":"ROUND(IF((B53-A53+1)>2,IF(C53=75,AVERAGE(INDIRECT(\"krzywa!D\"&MATCH(K53-6,krzywa!A:A,0)&\":D\"&MATCH(K53-2,krzywa!A:A,0))),AVERAGE(INDIRECT(\"krzywa!D\"&MATCH(A53-$A$2+BQ53,krzywa!A:A,0)&\":D\"&MATCH(B53-$A$2-AY53,krzywa!A:A,0)))),INDIRECT(\"krzywa!D\"&MATCH(K53,krzywa!A:A,0))),4)","v":{"$error":"#N/A"}},{"$f":"VLOOKUP(A53,krzywa!L:N,3,1)","v":0},{"$f":"VLOOKUP(B53,krzywa!L:N,3,1)","v":0},{"$f":"IF('Kalkulator Depozytów'!$B$35=TRUE,1,(1+S53/100)*W53+(1+T53/100)*(1-W53))","v":1},{"$f":"IF(S53<>T53,VLOOKUP(A53,krzywa!L:M,2,1))","v":false},{"$f":"IF(V53<>FALSE,IF(L53=\"BASE\",(V53-A53+1)*24+J53,IF(L53=\"OFFPEAK\",NETWORKDAYS(A53,V53,koszyki!$M$20:$M$898)*9+(N53)*24+J53,IF(L53=\"L-PEAK5\",NETWORKDAYS(A53,V53,koszyki!$M$20:$M$898)*10,IF(L53=\"H-PEAK5\",NETWORKDAYS(A53,V53,koszyki!$M$20:$M$898)*5,NETWORKDAYS(A53,V53,koszyki!$M$20:$M$898)*15))))/C53,1)","v":1},null,null,null,null,null,null,null,null,null,null,null,null,"2025-01-31","2025-01-30","2025-01-29","2025-01-28",null,{"$f":"NETWORKDAYS(AJ53,AJ53,koszyki!$M$20:$M$89)","v":1},{"$f":"NETWORKDAYS(AK53,AK53,koszyki!$M$20:$M$89)","v":1},{"$f":"NETWORKDAYS(AL53,AL53,koszyki!$M$20:$M$89)","v":1},{"$f":"NETWORKDAYS(AM53,AM53,koszyki!$M$20:$M$89)","v":1},null,1,2,3,4,null,0,null,null,"2025-01-06","2025-01-07","2025-01-08","2025-01-09",null,{"$f":"NETWORKDAYS(BB53,BB53,koszyki!$M$20:$M$89)","v":1},{"$f":"NETWORKDAYS(BC53,BC53,koszyki!$M$20:$M$89)","v":1},{"$f":"NETWORKDAYS(BD53,BD53,koszyki!$M$20:$M$89)","v":1},{"$f":"NETWORKDAYS(BE53,BE53,koszyki!$M$20:$M$89)","v":1},null,1,2,3,4,null,0]
["2025-02-01","2025-02-28",300,{"$f":"'Kalkulator Depozytów'!M59","v":0},{"$f":"'Kalkulator Depozytów'!N59","v":0},{"$f":"'Kalkulator Depozytów'!O59","v":0},{"$f":"'Kalkulator Depozytów'!P59","v":0},{"$f":"'Kalkulator Depozytów'!Q59","v":0},{"$f":"ROUND(IF(OR(AND(K54>0,L54=\"L-PEAK5\"),AND(K54>0,L54=\"H-PEAK5\")),R54,IF(AND(K54>0,L54=\"PEAK5\"),O54,IF(K54>0,IF(OR(L54=\"BASE\"),AVERAGE(INDIRECT(\"krzywa!B\"&MATCH(A54-$A$2,krzywa!A:A,0)&\":B\"&MATCH(B54-$A$2,krzywa!A:A,0),TRUE)),IF(OR(L54=\"OFFPEAK\"),AVERAGE(INDIRECT(\"krzywa!F\"&MATCH(A54-$A$2,krzywa!A:A,0)&\":F\"&MATCH(B54-$A$2,krzywa!A:A,0)))))))),4)","v":{"$error":"#N/A"}},0,45716,"PEAK5",{"$f":"NETWORKDAYS(A54,B54,koszyki!$M$20:$M$898)","v":20},{"$f":"B54-A54+1- NETWORKDAYS(A54,B54,koszyki!$M$20:$M$898)","v":8},{"$f":"ROUND(IF((B54-A54+1)>2,IF(C54=75,AVERAGE(INDIRECT(\"krzywa!C\"&MATCH(K54-6,krzywa!A:A,0)&\":C\"&MATCH(K54-2,krzywa!A:A,0))),AVERAGE(INDIRECT(\"krzywa!C\"&MATCH(A54-$A$2+BQ54,krzywa!A:A,0)&\":C\"&MATCH(B54-$A$2-AY54,krzywa!A:A,0)))),INDIRECT(\"krzywa!C\"&MATCH(K54,krzywa!A:A,0))),4)","v":{"$error":"#N/A"}},0,{"$f":"-C54*ABS(D54-F54)*H54*I54*U54+'kompensacja międzyproduktowa'!X54*U54","v":{"$error":"#N/A"}},{"$f":"ROUND(IF((B54-A54+1)>2,IF(C54=75,AVERAGE(INDIRECT(\"krzywa!D\"&MATCH(K54-6,krzywa!A:A,0)&\":D\"&MATCH(K54-2,krzywa!A:A,0))),AVERAGE(INDIRECT(\"krzywa!D\"&MATCH(A54-$A$2+BQ54,krzywa!A:A,0)&\":D\"&MATCH(B54-$A$2-AY54,krzywa!A:A,0)))),INDIRECT(\"krzywa!D\"&MATCH(K54,krzywa!A:A,0))),4)","v":{"$error":"#N/A"}},{"$f":"VLOOKUP(A54,krzywa!L:N,3,1)","v":0},{"$f":"VLOOKUP(B54,krzywa!L:N,3,1)","v":0},{"$f":"IF('Kalkulator Depozytów'!$B$35=TRUE,1,(1+S54/100)*W54+(1+T54/100)*(1-W54))","v":1},{"$f":"IF(S54<>T54,VLOOKUP(A54,krzywa!L:M,2,1))","v":false},{"$f":"IF(V54<>FALSE,IF(L54=\"BASE\",(V54-A54+1)*24+J54,IF(L54=\"OFFPEAK\",NETWORKDAYS(A54,V54,koszyki!$M$20:$M$898)*9+(N54)*24+J54,IF(L54=\"L-PEAK5\",NETWORKDAYS(A54,V54,koszyki!$M$20:$M$898)*10,IF(L54=\"H-PEAK5\",NETWORKDAYS(A54,V54,koszyki!$M$20:$M$898)*5,NETWORKDAYS(A54,V54,koszyki!$M$20:$M$898)*15))))/C54,1)","v":1},null,null,null,null,null,null,null,null,null,null,null,null,"2025-02-28","2025-02-27","2025-02-26","2025-02-25",null,{"$f":"NETWORKDAYS(AJ54,AJ54,koszyki!$M$20:$M$89)","v":1},{"$f":"NETWORKDAYS(AK54,AK54,koszyki!$M$20:$M$89)","v":1},{"$f":"NETWORKDAYS(AL54,AL54,koszyki!$M$20:$M$89)","v":1},{"$f":"NETWORKDAYS(AM54,AM54,koszyki!$M$20:$M$89)","v":1},null,1,2,3,4,null,0,null,null,"2025-02-01","2025-02-02","2025-02-03","2025-02-04",null,{"$f":"NETWORKDAYS(BB54,BB54,koszyki!$M$20:$M$89)","v":0},{"$f":"NETWORKDAYS(BC54,BC54,koszyki!$M$20:$M$89)","v":0},{"$f":"NETWORKDAYS(BD54,BD54,koszyki!$M$20:$M$89)","v":1},{"$f":"NETWORKDAYS(BE54,BE54,koszyki!$M$20:$M$89)","v":1},null,0,0,1,2,null,2]
["2025-03-01","2025-03-31",315,{"$f":"'Kalkulator Depozytów'!M60","v":0},{"$f":"'Kalkulator Depozytów'!N60","v":0},{"$f":"'Kalkulator Depozytów'!O60","v":0},{"$f":"'Kalkulator Depozytów'!P60","v":0},{"$f":"'Kalkulator Depozytów'!Q60","v":0},{"$f":"ROUND(IF(OR(AND(K55>0,L55=\"L-PEAK5\"),AND(K55>0,L55=\"H-PEAK5\")),R55,IF(AND(K55>0,L55=\"PEAK5\"),O55,IF(K55>0,IF(OR(L55=\"BASE\"),AVERAGE(INDIRECT(\"krzywa!B\"&MATCH(A55-$A$2,krzywa!A:A,0)&\":B\"&MATCH(B55-$A$2,krzywa!A:A,0),TRUE)),IF(OR(L55=\"OFFPEAK\"),AVERAGE(INDIRECT(\"krzywa!F\"&MATCH(A55-$A$2,krzywa!A:A,0)&\":F\"&MATCH(B55-$A$2,krzywa!A:A,0)))))))),4)","v":{"$error":"#N/A"}},-1,45747,"PEAK5",{"$f":"NETWORKDAYS(A55,B55,koszyki!$M$20:$M$898)","v":21},{"$f":"B55-A55+1- NETWORKDAYS(A55,B55,koszyki!$M$20:$M$898)","v":10},{"$f":"ROUND(IF((B55-A55+1)>2,IF(C55=75,AVERAGE(INDIRECT(\"krzywa!C\"&MATCH(K55-6,krzywa!A:A,0)&\":C\"&MATCH(K55-2,krzywa!A:A,0))),AVERAGE(INDIRECT(\"krzywa!C\"&MATCH(A55-$A$2+BQ55,krzywa!A:A,0)&\":C\"&MATCH(B55-$A$2-AY55,krzywa!A:A,0)))),INDIRECT(\"krzywa!C\"&MATCH(K55,krzywa!A:A,0))),4)","v":{"$error":"#N/A"}},0,{"$f":"-C55*ABS(D55-F55)*H55*I55*U55+'kompensacja międzyproduktowa'!X55*U55","v":{"$error":"#N/A"}},{"$f":"ROUND(IF((B55-A55+1)>2,IF(C55=75,AVERAGE(INDIRECT(\"krzywa!D\"&MATCH(K55-6,krzywa!A:A,0)&\":D\"&MATCH(K55-2,krzywa!A:A,0))),AVERAGE(INDIRECT(\"krzywa!D\"&MATCH(A55-$A$2+BQ55,krzywa!A:A,0)&\":D\"&MATCH(B55-$A$2-AY55,krzywa!A:A,0)))),INDIRECT(\"krzywa!D\"&MATCH(K55,krzywa!A:A,0))),4)","v":{"$error":"#N/A"}},{"$f":"VLOOKUP(A55,krzywa!L:N,3,1)","v":0},{"$f":"VLOOKUP(B55,krzywa!L:N,3,1)","v":0},{"$f":"IF('Kalkulator Depozytów'!$B$35=TRUE,1,(1+S55/100)*W55+(1+T55/100)*(1-W55))","v":1},{"$f":"IF(S55<>T55,VLOOKUP(A55,krzywa!L:M,2,1))","v":false},{"$f":"IF(V55<>FALSE,IF(L55=\"BASE\",(V55-A55+1)*24+J55,IF(L55=\"OFFPEAK\",NETWORKDAYS(A55,V55,koszyki!$M$20:$M$898)*9+(N55)*24+J55,IF(L55=\"L-PEAK5\",NETWORKDAYS(A55,V55,koszyki!$M$20:$M$898)*10,IF(L55=\"H-PEAK5\",NETWORKDAYS(A55,V55,koszyki!$M$20:$M$898)*5,NETWORKDAYS(A55,V55,koszyki!$M$20:$M$898)*15))))/C55,1)","v":1},null,null,null,null,null,null,null,null,null,null,null,null,"2025-03-31","2025-03-30","2025-03-29","2025-03-28",null,{"$f":"NETWORKDAYS(AJ55,AJ55,koszyki!$M$20:$M$89)","v":1},{"$f":"NETWORKDAYS(AK55,AK55,koszyki!$M$20:$M$89)","v":0},{"$f":"NETWORKDAYS(AL55,AL55,koszyki!$M$20:$M$89)","v":0},{"$f":"NETWORKDAYS(AM55,AM55,koszyki!$M$20:$M$89)","v":1},null,1,1,1,2,null,0,null,null,"2025-03-01","2025-03-02","2025-03-03","2025-03-04",null,{"$f":"NETWORKDAYS(BB55,BB55,koszyki!$M$20:$M$89)","v":0},{"$f":"NETWORKDAYS(BC55,BC55,koszyki!$M$20:$M$89)","v":0},{"$f":"NETWORKDAYS(BD55,BD55,koszyki!$M$20:$M$89)","v":1},{"$f":"NETWORKDAYS(BE55,BE55,koszyki!$M$20:$M$89)","v":1},null,0,0,1,2,null,2]
["2025-04-01","2025-04-30",315,{"$f":"'Kalkulator Depozytów'!M61","v":0},{"$f":"'Kalkulator Depozytów'!N61","v":0},{"$f":"'Kalkulator Depozytów'!O61","v":0},{"$f":"'Kalkulator Depozytów'!P61","v":0},{"$f":"'Kalkulator Depozytów'!Q61","v":0},{"$f":"ROUND(IF(OR(AND(K56>0,L56=\"L-PEAK5\"),AND(K56>0,L56=\"H-PEAK5\")),R56,IF(AND(K56>0,L56=\"PEAK5\"),O56,IF(K56>0,IF(OR(L56=\"BASE\"),AVERAGE(INDIRECT(\"krzywa!B\"&MATCH(A56-$A$2,krzywa!A:A,0)&\":B\"&MATCH(B56-$A$2,krzywa!A:A,0),TRUE)),IF(OR(L56=\"OFFPEAK\"),AVERAGE(INDIRECT(\"krzywa!F\"&MATCH(A56-$A$2,krzywa!A:A,0)&\":F\"&MATCH(B56-$A$2,krzywa!A:A,0)))))))),4)","v":{"$error":"#N/A"}},0,45777,"PEAK5",{"$f":"NETWORKDAYS(A56,B56,koszyki!$M$20:$M$898)","v":21},{"$f":"B56-A56+1- NETWORKDAYS(A56,B56,koszyki!$M$20:$M$898)","v":9},{"$f":"ROUND(IF((B56-A56+1)>2,IF(C56=75,AVERAGE(INDIRECT(\"krzywa!C\"&MATCH(K56-6,krzywa!A:A,0)&\":C\"&MATCH(K56-2,krzywa!A:A,0))),AVERAGE(INDIRECT(\"krzywa!C\"&MATCH(A56-$A$2+BQ56,krzywa!A:A,0)&\":C\"&MATCH(B56-$A$2-AY56,krzywa!A:A,0)))),INDIRECT(\"krzywa!C\"&MATCH(K56,krzywa!A:A,0))),4)","v":{"$error":"#N/A"}},0,{"$f":"-C56*ABS(D56-F56)*H56*I56*U56+'kompensacja międzyproduktowa'!X56*U56","v":{"$error":"#N/A"}},{"$f":"ROUND(IF((B56-A56+1)>2,IF(C56=75,AVERAGE(INDIRECT(\"krzywa!D\"&MATCH(K56-6,krzywa!A:A,0)&\":D\"&MATCH(K56-2,krzywa!A:A,0))),AVERAGE(INDIRECT(\"krzywa!D\"&MATCH(A56-$A$2+BQ56,krzywa!A:A,0)&\":D\"&MATCH(B56-$A$2-AY56,krzywa!A:A,0)))),INDIRECT(\"krzywa!D\"&MATCH(K56,krzywa!A:A,0))),4)","v":{"$error":"#N/A"}},{"$f":"VLOOKUP(A56,krzywa!L:N,3,1)","v":0},{"$f":"VLOOKUP(B56,krzywa!L:N,3,1)","v":0},{"$f":"IF('Kalkulator Depozytów'!$B$35=TRUE,1,(1+S56/100)*W56+(1+T56/100)*(1-W56))","v":1},{"$f":"IF(S56<>T56,VLOOKUP(A56,krzywa!L:M,2,1))","v":false},{"$f":"IF(V56<>FALSE,IF(L56=\"BASE\",(V56-A56+1)*24+J56,IF(L56=\"OFFPEAK\",NETWORKDAYS(A56,V56,koszyki!$M$20:$M$898)*9+(N56)*24+J56,IF(L56=\"L-PEAK5\",NETWORKDAYS(A56,V56,koszyki!$M$20:$M$898)*10,IF(L56=\"H-PEAK5\",NETWORKDAYS(A56,V56,koszyki!$M$20:$M$898)*5,NETWORKDAYS(A56,V56,koszyki!$M$20:$M$898)*15))))/C56,1)","v":1},null,null,null,null,null,null,null,null,null,null,null,null,"2025-04-30","2025-04-29","2025-04-28","2025-04-27",null,{"$f":"NETWORKDAYS(AJ56,AJ56,koszyki!$M$20:$M$89)","v":1},{"$f":"NETWORKDAYS(AK56,AK56,koszyki!$M$20:$M$89)","v":1},{"$f":"NETWORKDAYS(AL56,AL56,koszyki!$M$20:$M$89)","v":1},{"$f":"NETWORKDAYS(AM56,AM56,koszyki!$M$20:$M$89)","v":0},null,1,2,3,3,null,0,null,null,"2025-04-01","2025-04-02","2025-04-03","2025-04-04",null,{"$f":"NETWORKDAYS(BB56,BB56,koszyki!$M$20:$M$89)","v":1},{"$f":"NETWORKDAYS(BC56,BC56,koszyki!$M$20:$M$89)","v":1},{"$f":"NETWORKDAYS(BD56,BD56,koszyki!$M$20:$M$89)","v":1},{"$f":"NETWORKDAYS(BE56,BE56,koszyki!$M$20:$M$89)","v":1},null,1,2,3,4,null,0]
["2025-05-01","2025-05-31",315,{"$f":"'Kalkulator Depozytów'!M62","v":0},{"$f":"'Kalkulator Depozytów'!N62","v":0},{"$f":"'Kalkulator Depozytów'!O62","v":0},{"$f":"'Kalkulator Depozytów'!P62","v":0},{"$f":"'Kalkulator Depozytów'!Q62","v":0},{"$f":"ROUND(IF(OR(AND(K57>0,L57=\"L-PEAK5\"),AND(K57>0,L57=\"H-PEAK5\")),R57,IF(AND(K57>0,L57=\"PEAK5\"),O57,IF(K57>0,IF(OR(L57=\"BASE\"),AVERAGE(INDIRECT(\"krzywa!B\"&MATCH(A57-$A$2,krzywa!A:A,0)&\":B\"&MATCH(B57-$A$2,krzywa!A:A,0),TRUE)),IF(OR(L57=\"OFFPEAK\"),AVERAGE(INDIRECT(\"krzywa!F\"&MATCH(A57-$A$2,krzywa!A:A,0)&\":F\"&MATCH(B57-$A$2,krzywa!A:A,0)))))))),4)","v":{"$error":"#N/A"}},0,45808,"PEAK5",{"$f":"NETWORKDAYS(A57,B57,koszyki!$M$20:$M$898)","v":21},{"$f":"B57-A57+1- NETWORKDAYS(A57,B57,koszyki!$M$20:$M$898)","v":10},{"$f":"ROUND(IF((B57-A57+1)>2,IF(C57=75,AVERAGE(INDIRECT(\"krzywa!C\"&MATCH(K57-6,krzywa!A:A,0)&\":C\"&MATCH(K57-2,krzywa!A:A,0))),AVERAGE(INDIRECT(\"krzywa!C\"&MATCH(A57-$A$2+BQ57,krzywa!A:A,0)&\":C\"&MATCH(B57-$A$2-AY57,krzywa!A:A,0)))),INDIRECT(\"krzywa!C\"&MATCH(K57,krzywa!A:A,0))),4)","v":{"$error":"#N/A"}},0,{"$f":"-C57*ABS(D57-F57)*H57*I57*U57+'kompensacja międzyproduktowa'!X57*U57","v":{"$error":"#N/A"}},{"$f":"ROUND(IF((B57-A57+1)>2,IF(C57=75,AVERAGE(INDIRECT(\"krzywa!D\"&MATCH(K57-6,krzywa!A:A,0)&\":D\"&MATCH(K57-2,krzywa!A:A,0))),AVERAGE(INDIRECT(\"krzywa!D\"&MATCH(A57-$A$2+BQ57,krzywa!A:A,0)&\":D\"&MATCH(B57-$A$2-AY57,krzywa!A:A,0)))),INDIRECT(\"krzywa!D\"&MATCH(K57,krzywa!A:A,0))),4)","v":{"$error":"#N/A"}},{"$f":"VLOOKUP(A57,krzywa!L:N,3,1)","v":0},{"$f":"VLOOKUP(B57,krzywa!L:N,3,1)","v":0},{"$f":"IF('Kalkulator Depozytów'!$B$35=TRUE,1,(1+S57/100)*W57+(1+T57/100)*(1-W57))","v":1},{"$f":"IF(S57<>T57,VLOOKUP(A57,krzywa!L:M,2,1))","v":false},{"$f":"IF(V57<>FALSE,IF(L57=\"BASE\",(V57-A57+1)*24+J57,IF(L57=\"OFFPEAK\",NETWORKDAYS(A57,V57,koszyki!$M$20:$M$898)*9+(N57)*24+J57,IF(L57=\"L-PEAK5\",NETWORKDAYS(A57,V57,koszyki!$M$20:$M$898)*10,IF(L57=\"H-PEAK5\",NETWORKDAYS(A57,V57,koszyki!$M$20:$M$898)*5,NETWORKDAYS(A57,V57,koszyki!$M$20:$M$898)*15))))/C57,1)","v":1},null,null,null,null,null,null,null,null,null,null,null,null,"2025-05-31","2025-05-30","2025-05-29","2025-05-28",null,{"$f":"NETWORKDAYS(AJ57,AJ57,koszyki!$M$20:$M$89)","v":0},{"$f":"NETWORKDAYS(AK57,AK57,koszyki!$M$20:$M$89)","v":1},{"$f":"NETWORKDAYS(AL57,AL57,koszyki!$M$20:$M$89)","v":1},{"$f":"NETWORKDAYS(AM57,AM57,koszyki!$M$20:$M$89)","v":1},null,0,1,2,3,null,1,null,null,"2025-05-01","2025-05-02","2025-05-03","2025-05-04",null,{"$f":"NETWORKDAYS(BB57,BB57,koszyki!$M$20:$M$89)","v":1},{"$f":"NETWORKDAYS(BC57,BC57,koszyki!$M$20:$M$89)","v":1},{"$f":"NETWORKDAYS(BD57,BD57,koszyki!$M$20:$M$89)","v":0},{"$f":"NETWORKDAYS(BE57,BE57,koszyki!$M$20:$M$89)","v":0},null,1,2,2,2,null,0]
["2025-06-01","2025-06-30",300,{"$f":"'Kalkulator Depozytów'!M63","v":0},{"$f":"'Kalkulator Depozytów'!N63","v":0},{"$f":"'Kalkulator Depozytów'!O63","v":0},{"$f":"'Kalkulator Depozytów'!P63","v":0},{"$f":"'Kalkulator Depozytów'!Q63","v":0},{"$f":"ROUND(IF(OR(AND(K58>0,L58=\"L-PEAK5\"),AND(K58>0,L58=\"H-PEAK5\")),R58,IF(AND(K58>0,L58=\"PEAK5\"),O58,IF(K58>0,IF(OR(L58=\"BASE\"),AVERAGE(INDIRECT(\"krzywa!B\"&MATCH(A58-$A$2,krzywa!A:A,0)&\":B\"&MATCH(B58-$A$2,krzywa!A:A,0),TRUE)),IF(OR(L58=\"OFFPEAK\"),AVERAGE(INDIRECT(\"krzywa!F\"&MATCH(A58-$A$2,krzywa!A:A,0)&\":F\"&MATCH(B58-$A$2,krzywa!A:A,0)))))))),4)","v":{"$error":"#N/A"}},0,45838,"PEAK5",{"$f":"NETWORKDAYS(A58,B58,koszyki!$M$20:$M$898)","v":20},{"$f":"B58-A58+1- NETWORKDAYS(A58,B58,koszyki!$M$20:$M$898)","v":10},{"$f":"ROUND(IF((B58-A58+1)>2,IF(C58=75,AVERAGE(INDIRECT(\"krzywa!C\"&MATCH(K58-6,krzywa!A:A,0)&\":C\"&MATCH(K58-2,krzywa!A:A,0))),AVERAGE(INDIRECT(\"krzywa!C\"&MATCH(A58-$A$2+BQ58,krzywa!A:A,0)&\":C\"&MATCH(B58-$A$2-AY58,krzywa!A:A,0)))),INDIRECT(\"krzywa!C\"&MATCH(K58,krzywa!A:A,0))),4)","v":{"$error":"#N/A"}},0,{"$f":"-C58*ABS(D58-F58)*H58*I58*U58+'kompensacja międzyproduktowa'!X58*U58","v":{"$error":"#N/A"}},{"$f":"ROUND(IF((B58-A58+1)>2,IF(C58=75,AVERAGE(INDIRECT(\"krzywa!D\"&MATCH(K58-6,krzywa!A:A,0)&\":D\"&MATCH(K58-2,krzywa!A:A,0))),AVERAGE(INDIRECT(\"krzywa!D\"&MATCH(A58-$A$2+BQ58,krzywa!A:A,0)&\":D\"&MATCH(B58-$A$2-AY58,krzywa!A:A,0)))),INDIRECT(\"krzywa!D\"&MATCH(K58,krzywa!A:A,0))),4)","v":{"$error":"#N/A"}},{"$f":"VLOOKUP(A58,krzywa!L:N,3,1)","v":0},{"$f":"VLOOKUP(B58,krzywa!L:N,3,1)","v":0},{"$f":"IF('Kalkulator Depozytów'!$B$35=TRUE,1,(1+S58/100)*W58+(1+T58/100)*(1-W58))","v":1},{"$f":"IF(S58<>T58,VLOOKUP(A58,krzywa!L:M,2,1))","v":false},{"$f":"IF(V58<>FALSE,IF(L58=\"BASE\",(V58-A58+1)*24+J58,IF(L58=\"OFFPEAK\",NETWORKDAYS(A58,V58,koszyki!$M$20:$M$898)*9+(N58)*24+J58,IF(L58=\"L-PEAK5\",NETWORKDAYS(A58,V58,koszyki!$M$20:$M$898)*10,IF(L58=\"H-PEAK5\",NETWORKDAYS(A58,V58,koszyki!$M$20:$M$898)*5,NETWORKDAYS(A58,V58,koszyki!$M$20:$M$898)*15))))/C58,1)","v":1},null,null,null,null,null,null,null,null,null,null,null,null,"2025-06-30","2025-06-29","2025-06-28","2025-06-27",null,{"$f":"NETWORKDAYS(AJ58,AJ58,koszyki!$M$20:$M$89)","v":1},{"$f":"NETWORKDAYS(AK58,AK58,koszyki!$M$20:$M$89)","v":0},{"$f":"NETWORKDAYS(AL58,AL58,koszyki!$M$20:$M$89)","v":0},{"$f":"NETWORKDAYS(AM58,AM58,koszyki!$M$20:$M$89)","v":1},null,1,1,1,2,null,0,null,null,"2025-06-01","2025-06-02","2025-06-03","2025-06-04",null,{"$f":"NETWORKDAYS(BB58,BB58,koszyki!$M$20:$M$89)","v":0},{"$f":"NETWORKDAYS(BC58,BC58,koszyki!$M$20:$M$89)","v":1},{"$f":"NETWORKDAYS(BD58,BD58,koszyki!$M$20:$M$89)","v":1},{"$f":"NETWORKDAYS(BE58,BE58,koszyki!$M$20:$M$89)","v":1},null,0,1,2,3,null,1]
["2025-07-01","2025-09-30",975,{"$f":"'Kalkulator Depozytów'!M64","v":0},{"$f":"'Kalkulator Depozytów'!N64","v":0},{"$f":"'Kalkulator Depozytów'!O64","v":0},{"$f":"'Kalkulator Depozytów'!P64","v":0},{"$f":"'Kalkulator Depozytów'!Q64","v":0},{"$f":"ROUND(IF(OR(AND(K59>0,L59=\"L-PEAK5\"),AND(K59>0,L59=\"H-PEAK5\")),R59,IF(AND(K59>0,L59=\"PEAK5\"),O59,IF(K59>0,IF(OR(L59=\"BASE\"),AVERAGE(INDIRECT(\"krzywa!B\"&MATCH(A59-$A$2,krzywa!A:A,0)&\":B\"&MATCH(B59-$A$2,krzywa!A:A,0),TRUE)),IF(OR(L59=\"OFFPEAK\"),AVERAGE(INDIRECT(\"krzywa!F\"&MATCH(A59-$A$2,krzywa!A:A,0)&\":F\"&MATCH(B59-$A$2,krzywa!A:A,0)))))))),4)","v":{"$error":"#N/A"}},0,45930,"PEAK5",{"$f":"NETWORKDAYS(A59,B59,koszyki!$M$20:$M$898)","v":65},{"$f":"B59-A59+1- NETWORKDAYS(A59,B59,koszyki!$M$20:$M$898)","v":27},{"$f":"ROUND(IF((B59-A59+1)>2,IF(C59=75,AVERAGE(INDIRECT(\"krzywa!C\"&MATCH(K59-6,krzywa!A:A,0)&\":C\"&MATCH(K59-2,krzywa!A:A,0))),AVERAGE(INDIRECT(\"krzywa!C\"&MATCH(A59-$A$2+BQ59,krzywa!A:A,0)&\":C\"&MATCH(B59-$A$2-AY59,krzywa!A:A,0)))),INDIRECT(\"krzywa!C\"&MATCH(K59,krzywa!A:A,0))),4)","v":{"$error":"#N/A"}},0,{"$f":"-C59*ABS(D59-F59)*H59*I59*U59+'kompensacja międzyproduktowa'!X59*U59","v":{"$error":"#N/A"}},{"$f":"ROUND(IF((B59-A59+1)>2,IF(C59=75,AVERAGE(INDIRECT(\"krzywa!D\"&MATCH(K59-6,krzywa!A:A,0)&\":D\"&MATCH(K59-2,krzywa!A:A,0))),AVERAGE(INDIRECT(\"krzywa!D\"&MATCH(A59-$A$2+BQ59,krzywa!A:A,0)&\":D\"&MATCH(B59-$A$2-AY59,krzywa!A:A,0)))),INDIRECT(\"krzywa!D\"&MATCH(K59,krzywa!A:A,0))),4)","v":{"$error":"#N/A"}},{"$f":"VLOOKUP(A59,krzywa!L:N,3,1)","v":0},{"$f":"VLOOKUP(B59,krzywa!L:N,3,1)","v":0},{"$f":"IF('Kalkulator Depozytów'!$B$35=TRUE,1,(1+S59/100)*W59+(1+T59/100)*(1-W59))","v":1},{"$f":"IF(S59<>T59,VLOOKUP(A59,krzywa!L:M,2,1))","v":false},{"$f":"IF(V59<>FALSE,IF(L59=\"BASE\",(V59-A59+1)*24+J59,IF(L59=\"OFFPEAK\",NETWORKDAYS(A59,V59,koszyki!$M$20:$M$898)*9+(N59)*24+J59,IF(L59=\"L-PEAK5\",NETWORKDAYS(A59,V59,koszyki!$M$20:$M$898)*10,IF(L59=\"H-PEAK5\",NETWORKDAYS(A59,V59,koszyki!$M$20:$M$898)*5,NETWORKDAYS(A59,V59,koszyki!$M$20:$M$898)*15))))/C59,1)","v":1},null,null,null,null,null,null,null,null,null,null,null,null,"2025-09-30","2025-09-29","2025-09-28","2025-09-27",null,{"$f":"NETWORKDAYS(AJ59,AJ59,koszyki!$M$20:$M$89)","v":1},{"$f":"NETWORKDAYS(AK59,AK59,koszyki!$M$20:$M$89)","v":1},{"$f":"NETWORKDAYS(AL59,AL59,koszyki!$M$20:$M$89)","v":0},{"$f":"NETWORKDAYS(AM59,AM59,koszyki!$M$20:$M$89)","v":0},null,1,2,2,2,null,0,null,null,"2025-07-01","2025-07-02","2025-07-03","2025-07-04",null,{"$f":"NETWORKDAYS(BB59,BB59,koszyki!$M$20:$M$89)","v":1},{"$f":"NETWORKDAYS(BC59,BC59,koszyki!$M$20:$M$89)","v":1},{"$f":"NETWORKDAYS(BD59,BD59,koszyki!$M$20:$M$89)","v":1},{"$f":"NETWORKDAYS(BE59,BE59,koszyki!$M$20:$M$89)","v":1},null,1,2,3,4,null,0]
["2025-10-01","2025-12-31",945,{"$f":"'Kalkulator Depozytów'!M65","v":0},{"$f":"'Kalkulator Depozytów'!N65","v":0},{"$f":"'Kalkulator Depozytów'!O65","v":0},{"$f":"'Kalkulator Depozytów'!P65","v":0},{"$f":"'Kalkulator Depozytów'!Q65","v":0},{"$f":"ROUND(IF(OR(AND(K60>0,L60=\"L-PEAK5\"),AND(K60>0,L60=\"H-PEAK5\")),R60,IF(AND(K60>0,L60=\"PEAK5\"),O60,IF(K60>0,IF(OR(L60=\"BASE\"),AVERAGE(INDIRECT(\"krzywa!B\"&MATCH(A60-$A$2,krzywa!A:A,0)&\":B\"&MATCH(B60-$A$2,krzywa!A:A,0),TRUE)),IF(OR(L60=\"OFFPEAK\"),AVERAGE(INDIRECT(\"krzywa!F\"&MATCH(A60-$A$2,krzywa!A:A,0)&\":F\"&MATCH(B60-$A$2,krzywa!A:A,0)))))))),4)","v":{"$error":"#N/A"}},1,46022,"PEAK5",{"$f":"NETWORKDAYS(A60,B60,koszyki!$M$20:$M$898)","v":63},{"$f":"B60-A60+1- NETWORKDAYS(A60,B60,koszyki!$M$20:$M$898)","v":29},{"$f":"ROUND(IF((B60-A60+1)>2,IF(C60=75,AVERAGE(INDIRECT(\"krzywa!C\"&MATCH(K60-6,krzywa!A:A,0)&\":C\"&MATCH(K60-2,krzywa!A:A,0))),AVERAGE(INDIRECT(\"krzywa!C\"&MATCH(A60-$A$2+BQ60,krzywa!A:A,0)&\":C\"&MATCH(B60-$A$2-AY60,krzywa!A:A,0)))),INDIRECT(\"krzywa!C\"&MATCH(K60,krzywa!A:A,0))),4)","v":{"$error":"#N/A"}},0,{"$f":"-C60*ABS(D60-F60)*H60*I60*U60+'kompensacja międzyproduktowa'!X60*U60","v":{"$error":"#N/A"}},{"$f":"ROUND(IF((B60-A60+1)>2,IF(C60=75,AVERAGE(INDIRECT(\"krzywa!D\"&MATCH(K60-6,krzywa!A:A,0)&\":D\"&MATCH(K60-2,krzywa!A:A,0))),AVERAGE(INDIRECT(\"krzywa!D\"&MATCH(A60-$A$2+BQ60,krzywa!A:A,0)&\":D\"&MATCH(B60-$A$2-AY60,krzywa!A:A,0)))),INDIRECT(\"krzywa!D\"&MATCH(K60,krzywa!A:A,0))),4)","v":{"$error":"#N/A"}},{"$f":"VLOOKUP(A60,krzywa!L:N,3,1)","v":0},{"$f":"VLOOKUP(B60,krzywa!L:N,3,1)","v":0},{"$f":"IF('Kalkulator Depozytów'!$B$35=TRUE,1,(1+S60/100)*W60+(1+T60/100)*(1-W60))","v":1},{"$f":"IF(S60<>T60,VLOOKUP(A60,krzywa!L:M,2,1))","v":false},{"$f":"IF(V60<>FALSE,IF(L60=\"BASE\",(V60-A60+1)*24+J60,IF(L60=\"OFFPEAK\",NETWORKDAYS(A60,V60,koszyki!$M$20:$M$898)*9+(N60)*24+J60,IF(L60=\"L-PEAK5\",NETWORKDAYS(A60,V60,koszyki!$M$20:$M$898)*10,IF(L60=\"H-PEAK5\",NETWORKDAYS(A60,V60,koszyki!$M$20:$M$898)*5,NETWORKDAYS(A60,V60,koszyki!$M$20:$M$898)*15))))/C60,1)","v":1},null,null,null,null,null,null,null,null,null,null,null,null,"2025-12-31","2025-12-30","2025-12-29","2025-12-28",null,{"$f":"NETWORKDAYS(AJ60,AJ60,koszyki!$M$20:$M$89)","v":1},{"$f":"NETWORKDAYS(AK60,AK60,koszyki!$M$20:$M$89)","v":1},{"$f":"NETWORKDAYS(AL60,AL60,koszyki!$M$20:$M$89)","v":1},{"$f":"NETWORKDAYS(AM60,AM60,koszyki!$M$20:$M$89)","v":0},null,1,2,3,3,null,0,null,null,"2025-10-01","2025-10-02","2025-10-03","2025-10-04",null,{"$f":"NETWORKDAYS(BB60,BB60,koszyki!$M$20:$M$89)","v":1},{"$f":"NETWORKDAYS(BC60,BC60,koszyki!$M$20:$M$89)","v":1},{"$f":"NETWORKDAYS(BD60,BD60,koszyki!$M$20:$M$89)","v":1},{"$f":"NETWORKDAYS(BE60,BE60,koszyki!$M$20:$M$89)","v":0},null,1,2,3,3,null,0]
["2026-01-01","2026-03-31",930,{"$f":"'Kalkulator Depozytów'!M66","v":0},{"$f":"'Kalkulator Depozytów'!N66","v":0},{"$f":"'Kalkulator Depozytów'!O66","v":0},{"$f":"'Kalkulator Depozytów'!P66","v":0},{"$f":"'Kalkulator Depozytów'!Q66","v":0},{"$f":"ROUND(IF(OR(AND(K61>0,L61=\"L-PEAK5\"),AND(K61>0,L61=\"H-PEAK5\")),R61,IF(AND(K61>0,L61=\"PEAK5\"),O61,IF(K61>0,IF(OR(L61=\"BASE\"),AVERAGE(INDIRECT(\"krzywa!B\"&MATCH(A61-$A$2,krzywa!A:A,0)&\":B\"&MATCH(B61-$A$2,krzywa!A:A,0),TRUE)),IF(OR(L61=\"OFFPEAK\"),AVERAGE(INDIRECT(\"krzywa!F\"&MATCH(A61-$A$2,krzywa!A:A,0)&\":F\"&MATCH(B61-$A$2,krzywa!A:A,0)))))))),4)","v":{"$error":"#N/A"}},-1,46112,"PEAK5",{"$f":"NETWORKDAYS(A61,B61,koszyki!$M$20:$M$898)","v":62},{"$f":"B61-A61+1- NETWORKDAYS(A61,B61,koszyki!$M$20:$M$898)","v":28},{"$f":"ROUND(IF((B61-A61+1)>2,IF(C61=75,AVERAGE(INDIRECT(\"krzywa!C\"&MATCH(K61-6,krzywa!A:A,0)&\":C\"&MATCH(K61-2,krzywa!A:A,0))),AVERAGE(INDIRECT(\"krzywa!C\"&MATCH(A61-$A$2+BQ61,krzywa!A:A,0)&\":C\"&MATCH(B61-$A$2-AY61,krzywa!A:A,0)))),INDIRECT(\"krzywa!C\"&MATCH(K61,krzywa!A:A,0))),4)","v":{"$error":"#N/A"}},0,{"$f":"-C61*ABS(D61-F61)*H61*I61*U61+'kompensacja międzyproduktowa'!X61*U61","v":{"$error":"#N/A"}},{"$f":"ROUND(IF((B61-A61+1)>2,IF(C61=75,AVERAGE(INDIRECT(\"krzywa!D\"&MATCH(K61-6,krzywa!A:A,0)&\":D\"&MATCH(K61-2,krzywa!A:A,0))),AVERAGE(INDIRECT(\"krzywa!D\"&MATCH(A61-$A$2+BQ61,krzywa!A:A,0)&\":D\"&MATCH(B61-$A$2-AY61,krzywa!A:A,0)))),INDIRECT(\"krzywa!D\"&MATCH(K61,krzywa!A:A,0))),4)","v":{"$error":"#N/A"}},{"$f":"VLOOKUP(A61,krzywa!L:N,3,1)","v":0},{"$f":"VLOOKUP(B61,krzywa!L:N,3,1)","v":0},{"$f":"IF('Kalkulator Depozytów'!$B$35=TRUE,1,(1+S61/100)*W61+(1+T61/100)*(1-W61))","v":1},{"$f":"IF(S61<>T61,VLOOKUP(A61,krzywa!L:M,2,1))","v":false},{"$f":"IF(V61<>FALSE,IF(L61=\"BASE\",(V61-A61+1)*24+J61,IF(L61=\"OFFPEAK\",NETWORKDAYS(A61,V61,koszyki!$M$20:$M$898)*9+(N61)*24+J61,IF(L61=\"L-PEAK5\",NETWORKDAYS(A61,V61,koszyki!$M$20:$M$898)*10,IF(L61=\"H-PEAK5\",NETWORKDAYS(A61,V61,koszyki!$M$20:$M$898)*5,NETWORKDAYS(A61,V61,koszyki!$M$20:$M$898)*15))))/C61,1)","v":1},null,null,null,null,null,null,null,null,null,null,null,null,"2026-03-31","2026-03-30","2026-03-29","2026-03-28",null,{"$f":"NETWORKDAYS(AJ61,AJ61,koszyki!$M$20:$M$89)","v":1},{"$f":"NETWORKDAYS(AK61,AK61,koszyki!$M$20:$M$89)","v":1},{"$f":"NETWORKDAYS(AL61,AL61,koszyki!$M$20:$M$89)","v":0},{"$f":"NETWORKDAYS(AM61,AM61,koszyki!$M$20:$M$89)","v":0},null,1,2,2,2,null,0,null,null,"2026-01-01","2026-01-02","2026-01-03","2026-01-04",null,{"$f":"NETWORKDAYS(BB61,BB61,koszyki!$M$20:$M$89)","v":1},{"$f":"NETWORKDAYS(BC61,BC61,koszyki!$M$20:$M$89)","v":1},{"$f":"NETWORKDAYS(BD61,BD61,koszyki!$M$20:$M$89)","v":0},{"$f":"NETWORKDAYS(BE61,BE61,koszyki!$M$20:$M$89)","v":0},null,1,2,2,2,null,0]
["2026-04-01","2026-06-30",930,{"$f":"'Kalkulator Depozytów'!M67","v":0},{"$f":"'Kalkulator Depozytów'!N67","v":0},{"$f":"'Kalkulator Depozytów'!O67","v":0},{"$f":"'Kalkulator Depozytów'!P67","v":0},{"$f":"'Kalkulator Depozytów'!Q67","v":0},{"$f":"ROUND(IF(OR(AND(K62>0,L62=\"L-PEAK5\"),AND(K62>0,L62=\"H-PEAK5\")),R62,IF(AND(K62>0,L62=\"PEAK5\"),O62,IF(K62>0,IF(OR(L62=\"BASE\"),AVERAGE(INDIRECT(\"krzywa!B\"&MATCH(A62-$A$2,krzywa!A:A,0)&\":B\"&MATCH(B62-$A$2,krzywa!A:A,0),TRUE)),IF(OR(L62=\"OFFPEAK\"),AVERAGE(INDIRECT(\"krzywa!F\"&MATCH(A62-$A$2,krzywa!A:A,0)&\":F\"&MATCH(B62-$A$2,krzywa!A:A,0)))))))),4)","v":{"$error":"#N/A"}},0,46203,"PEAK5",{"$f":"NETWORKDAYS(A62,B62,koszyki!$M$20:$M$898)","v":62},{"$f":"B62-A62+1- NETWORKDAYS(A62,B62,koszyki!$M$20:$M$898)","v":29},{"$f":"ROUND(IF((B62-A62+1)>2,IF(C62=75,AVERAGE(INDIRECT(\"krzywa!C\"&MATCH(K62-6,krzywa!A:A,0)&\":C\"&MATCH(K62-2,krzywa!A:A,0))),AVERAGE(INDIRECT(\"krzywa!C\"&MATCH(A62-$A$2+BQ62,krzywa!A:A,0)&\":C\"&MATCH(B62-$A$2-AY62,krzywa!A:A,0)))),INDIRECT(\"krzywa!C\"&MATCH(K62,krzywa!A:A,0))),4)","v":{"$error":"#N/A"}},0,{"$f":"-C62*ABS(D62-F62)*H62*I62*U62+'kompensacja międzyproduktowa'!X62*U62","v":{"$error":"#N/A"}},{"$f":"ROUND(IF((B62-A62+1)>2,IF(C62=75,AVERAGE(INDIRECT(\"krzywa!D\"&MATCH(K62-6,krzywa!A:A,0)&\":D\"&MATCH(K62-2,krzywa!A:A,0))),AVERAGE(INDIRECT(\"krzywa!D\"&MATCH(A62-$A$2+BQ62,krzywa!A:A,0)&\":D\"&MATCH(B62-$A$2-AY62,krzywa!A:A,0)))),INDIRECT(\"krzywa!D\"&MATCH(K62,krzywa!A:A,0))),4)","v":{"$error":"#N/A"}},{"$f":"VLOOKUP(A62,krzywa!L:N,3,1)","v":0},{"$f":"VLOOKUP(B62,krzywa!L:N,3,1)","v":0},{"$f":"IF('Kalkulator Depozytów'!$B$35=TRUE,1,(1+S62/100)*W62+(1+T62/100)*(1-W62))","v":1},{"$f":"IF(S62<>T62,VLOOKUP(A62,krzywa!L:M,2,1))","v":false},{"$f":"IF(V62<>FALSE,IF(L62=\"BASE\",(V62-A62+1)*24+J62,IF(L62=\"OFFPEAK\",NETWORKDAYS(A62,V62,koszyki!$M$20:$M$898)*9+(N62)*24+J62,IF(L62=\"L-PEAK5\",NETWORKDAYS(A62,V62,koszyki!$M$20:$M$898)*10,IF(L62=\"H-PEAK5\",NETWORKDAYS(A62,V62,koszyki!$M$20:$M$898)*5,NETWORKDAYS(A62,V62,koszyki!$M$20:$M$898)*15))))/C62,1)","v":1},null,null,null,null,null,null,null,null,null,null,null,null,"2026-06-30","2026-06-29","2026-06-28","2026-06-27",null,{"$f":"NETWORKDAYS(AJ62,AJ62,koszyki!$M$20:$M$89)","v":1},{"$f":"NETWORKDAYS(AK62,AK62,koszyki!$M$20:$M$89)","v":1},{"$f":"NETWORKDAYS(AL62,AL62,koszyki!$M$20:$M$89)","v":0},{"$f":"NETWORKDAYS(AM62,AM62,koszyki!$M$20:$M$89)","v":0},null,1,2,2,2,null,0,null,null,"2026-04-01","2026-04-02","2026-04-03","2026-04-04",null,{"$f":"NETWORKDAYS(BB62,BB62,koszyki!$M$20:$M$89)","v":1},{"$f":"NETWORKDAYS(BC62,BC62,koszyki!$M$20:$M$89)","v":1},{"$f":"NETWORKDAYS(BD62,BD62,koszyki!$M$20:$M$89)","v":1},{"$f":"NETWORKDAYS(BE62,BE62,koszyki!$M$20:$M$89)","v":0},null,1,2,3,3,null,0]
["2026-07-01","2026-12-31",1950,{"$f":"'Kalkulator Depozytów'!M68","v":0},{"$f":"'Kalkulator Depozytów'!N68","v":0},{"$f":"'Kalkulator Depozytów'!O68","v":0},{"$f":"'Kalkulator Depozytów'!P68","v":0},{"$f":"'Kalkulator Depozytów'!Q68","v":0},{"$f":"ROUND(IF(OR(AND(K63>0,L63=\"L-PEAK5\"),AND(K63>0,L63=\"H-PEAK5\")),R63,IF(AND(K63>0,L63=\"PEAK5\"),O63,IF(K63>0,IF(OR(L63=\"BASE\"),AVERAGE(INDIRECT(\"krzywa!B\"&MATCH(A63-$A$2,krzywa!A:A,0)&\":B\"&MATCH(B63-$A$2,krzywa!A:A,0),TRUE)),IF(OR(L63=\"OFFPEAK\"),AVERAGE(INDIRECT(\"krzywa!F\"&MATCH(A63-$A$2,krzywa!A:A,0)&\":F\"&MATCH(B63-$A$2,krzywa!A:A,0)))))))),4)","v":{"$error":"#N/A"}},1,46387,"PEAK5",{"$f":"NETWORKDAYS(A63,B63,koszyki!$M$20:$M$898)","v":130},{"$f":"B63-A63+1- NETWORKDAYS(A63,B63,koszyki!$M$20:$M$898)","v":54},{"$f":"ROUND(IF((B63-A63+1)>2,IF(C63=75,AVERAGE(INDIRECT(\"krzywa!C\"&MATCH(K63-6,krzywa!A:A,0)&\":C\"&MATCH(K63-2,krzywa!A:A,0))),AVERAGE(INDIRECT(\"krzywa!C\"&MATCH(A63-$A$2+BQ63,krzywa!A:A,0)&\":C\"&MATCH(B63-$A$2-AY63,krzywa!A:A,0)))),INDIRECT(\"krzywa!C\"&MATCH(K63,krzywa!A:A,0))),4)","v":{"$error":"#N/A"}},0,{"$f":"-C63*ABS(D63-F63)*H63*I63*U63+'kompensacja międzyproduktowa'!X63*U63","v":{"$error":"#N/A"}},{"$f":"ROUND(IF((B63-A63+1)>2,IF(C63=75,AVERAGE(INDIRECT(\"krzywa!D\"&MATCH(K63-6,krzywa!A:A,0)&\":D\"&MATCH(K63-2,krzywa!A:A,0))),AVERAGE(INDIRECT(\"krzywa!D\"&MATCH(A63-$A$2+BQ63,krzywa!A:A,0)&\":D\"&MATCH(B63-$A$2-AY63,krzywa!A:A,0)))),INDIRECT(\"krzywa!D\"&MATCH(K63,krzywa!A:A,0))),4)","v":{"$error":"#N/A"}},{"$f":"VLOOKUP(A63,krzywa!L:N,3,1)","v":0},{"$f":"VLOOKUP(B63,krzywa!L:N,3,1)","v":0},{"$f":"IF('Kalkulator Depozytów'!$B$35=TRUE,1,(1+S63/100)*W63+(1+T63/100)*(1-W63))","v":1},{"$f":"IF(S63<>T63,VLOOKUP(A63,krzywa!L:M,2,1))","v":false},{"$f":"IF(V63<>FALSE,IF(L63=\"BASE\",(V63-A63+1)*24+J63,IF(L63=\"OFFPEAK\",NETWORKDAYS(A63,V63,koszyki!$M$20:$M$898)*9+(N63)*24+J63,IF(L63=\"L-PEAK5\",NETWORKDAYS(A63,V63,koszyki!$M$20:$M$898)*10,IF(L63=\"H-PEAK5\",NETWORKDAYS(A63,V63,koszyki!$M$20:$M$898)*5,NETWORKDAYS(A63,V63,koszyki!$M$20:$M$898)*15))))/C63,1)","v":1},null,null,null,null,null,null,null,null,null,null,null,null,"2026-12-31","2026-12-30","2026-12-29","2026-12-28",null,{"$f":"NETWORKDAYS(AJ63,AJ63,koszyki!$M$20:$M$89)","v":1},{"$f":"NETWORKDAYS(AK63,AK63,koszyki!$M$20:$M$89)","v":1},{"$f":"NETWORKDAYS(AL63,AL63,koszyki!$M$20:$M$89)","v":1},{"$f":"NETWORKDAYS(AM63,AM63,koszyki!$M$20:$M$89)","v":1},null,1,2,3,4,null,0,null,null,"2026-07-01","2026-07-02","2026-07-03","2026-07-04",null,{"$f":"NETWORKDAYS(BB63,BB63,koszyki!$M$20:$M$89)","v":1},{"$f":"NETWORKDAYS(BC63,BC63,koszyki!$M$20:$M$89)","v":1},{"$f":"NETWORKDAYS(BD63,BD63,koszyki!$M$20:$M$89)","v":1},{"$f":"NETWORKDAYS(BE63,BE63,koszyki!$M$20:$M$89)","v":0},null,1,2,3,3,null,0]
["2027-01-01","2027-12-31",3795,{"$f":"'Kalkulator Depozytów'!M69","v":0},{"$f":"'Kalkulator Depozytów'!N69","v":0},{"$f":"'Kalkulator Depozytów'!O69","v":0},{"$f":"'Kalkulator Depozytów'!P69","v":0},{"$f":"'Kalkulator Depozytów'!Q69","v":0},{"$f":"ROUND(IF(OR(AND(K64>0,L64=\"L-PEAK5\"),AND(K64>0,L64=\"H-PEAK5\")),R64,IF(AND(K64>0,L64=\"PEAK5\"),O64,IF(K64>0,IF(OR(L64=\"BASE\"),AVERAGE(INDIRECT(\"krzywa!B\"&MATCH(A64-$A$2,krzywa!A:A,0)&\":B\"&MATCH(B64-$A$2,krzywa!A:A,0),TRUE)),IF(OR(L64=\"OFFPEAK\"),AVERAGE(INDIRECT(\"krzywa!F\"&MATCH(A64-$A$2,krzywa!A:A,0)&\":F\"&MATCH(B64-$A$2,krzywa!A:A,0)))))))),4)","v":{"$error":"#N/A"}},0,46752,"PEAK5",{"$f":"NETWORKDAYS(A64,B64,koszyki!$M$20:$M$898)","v":253},{"$f":"B64-A64+1- NETWORKDAYS(A64,B64,koszyki!$M$20:$M$898)","v":112},{"$f":"ROUND(IF((B64-A64+1)>2,IF(C64=75,AVERAGE(INDIRECT(\"krzywa!C\"&MATCH(K64-6,krzywa!A:A,0)&\":C\"&MATCH(K64-2,krzywa!A:A,0))),AVERAGE(INDIRECT(\"krzywa!C\"&MATCH(A64-$A$2+BQ64,krzywa!A:A,0)&\":C\"&MATCH(B64-$A$2-AY64,krzywa!A:A,0)))),INDIRECT(\"krzywa!C\"&MATCH(K64,krzywa!A:A,0))),4)","v":{"$error":"#N/A"}},0,{"$f":"-C64*ABS(D64-F64)*H64*I64*U64+'kompensacja międzyproduktowa'!X64*U64","v":{"$error":"#N/A"}},{"$f":"ROUND(IF((B64-A64+1)>2,IF(C64=75,AVERAGE(INDIRECT(\"krzywa!D\"&MATCH(K64-6,krzywa!A:A,0)&\":D\"&MATCH(K64-2,krzywa!A:A,0))),AVERAGE(INDIRECT(\"krzywa!D\"&MATCH(A64-$A$2+BQ64,krzywa!A:A,0)&\":D\"&MATCH(B64-$A$2-AY64,krzywa!A:A,0)))),INDIRECT(\"krzywa!D\"&MATCH(K64,krzywa!A:A,0))),4)","v":{"$error":"#N/A"}},{"$f":"VLOOKUP(A64,krzywa!L:N,3,1)","v":23},{"$f":"VLOOKUP(B64,krzywa!L:N,3,1)","v":23},{"$f":"IF('Kalkulator Depozytów'!$B$35=TRUE,1,(1+S64/100)*W64+(1+T64/100)*(1-W64))","v":1.23},{"$f":"IF(S64<>T64,VLOOKUP(A64,krzywa!L:M,2,1))","v":false},{"$f":"IF(V64<>FALSE,IF(L64=\"BASE\",(V64-A64+1)*24+J64,IF(L64=\"OFFPEAK\",NETWORKDAYS(A64,V64,koszyki!$M$20:$M$898)*9+(N64)*24+J64,IF(L64=\"L-PEAK5\",NETWORKDAYS(A64,V64,koszyki!$M$20:$M$898)*10,IF(L64=\"H-PEAK5\",NETWORKDAYS(A64,V64,koszyki!$M$20:$M$898)*5,NETWORKDAYS(A64,V64,koszyki!$M$20:$M$898)*15))))/C64,1)","v":1},null,null,null,null,null,null,null,null,null,null,null,null,"2027-12-31","2027-12-30","2027-12-29","2027-12-28",null,{"$f":"NETWORKDAYS(AJ64,AJ64,koszyki!$M$20:$M$89)","v":1},{"$f":"NETWORKDAYS(AK64,AK64,koszyki!$M$20:$M$89)","v":1},{"$f":"NETWORKDAYS(AL64,AL64,koszyki!$M$20:$M$89)","v":1},{"$f":"NETWORKDAYS(AM64,AM64,koszyki!$M$20:$M$89)","v":1},null,1,2,3,4,null,0,null,null,"2027-01-01","2027-01-02","2027-01-03","2027-01-04",null,{"$f":"NETWORKDAYS(BB64,BB64,koszyki!$M$20:$M$89)","v":1},{"$f":"NETWORKDAYS(BC64,BC64,koszyki!$M$20:$M$89)","v":0},{"$f":"NETWORKDAYS(BD64,BD64,koszyki!$M$20:$M$89)","v":0},{"$f":"NETWORKDAYS(BE64,BE64,koszyki!$M$20:$M$89)","v":1},null,1,1,1,2,null,0]
["2028-01-01","2028-12-31",3765,{"$f":"'Kalkulator Depozytów'!M70","v":0},{"$f":"'Kalkulator Depozytów'!N70","v":0},{"$f":"'Kalkulator Depozytów'!O70","v":0},{"$f":"'Kalkulator Depozytów'!P70","v":0},{"$f":"'Kalkulator Depozytów'!Q70","v":0},{"$f":"ROUND(IF(OR(AND(K65>0,L65=\"L-PEAK5\"),AND(K65>0,L65=\"H-PEAK5\")),R65,IF(AND(K65>0,L65=\"PEAK5\"),O65,IF(K65>0,IF(OR(L65=\"BASE\"),AVERAGE(INDIRECT(\"krzywa!B\"&MATCH(A65-$A$2,krzywa!A:A,0)&\":B\"&MATCH(B65-$A$2,krzywa!A:A,0),TRUE)),IF(OR(L65=\"OFFPEAK\"),AVERAGE(INDIRECT(\"krzywa!F\"&MATCH(A65-$A$2,krzywa!A:A,0)&\":F\"&MATCH(B65-$A$2,krzywa!A:A,0)))))))),4)","v":{"$error":"#N/A"}},0,47118,"PEAK5",{"$f":"NETWORKDAYS(A65,B65,koszyki!$M$20:$M$898)","v":251},{"$f":"B65-A65+1- NETWORKDAYS(A65,B65,koszyki!$M$20:$M$898)","v":115},{"$f":"ROUND(IF((B65-A65+1)>2,IF(C65=75,AVERAGE(INDIRECT(\"krzywa!C\"&MATCH(K65-6,krzywa!A:A,0)&\":C\"&MATCH(K65-2,krzywa!A:A,0))),AVERAGE(INDIRECT(\"krzywa!C\"&MATCH(A65-$A$2+BQ65,krzywa!A:A,0)&\":C\"&MATCH(B65-$A$2-AY65,krzywa!A:A,0)))),INDIRECT(\"krzywa!C\"&MATCH(K65,krzywa!A:A,0))),4)","v":{"$error":"#N/A"}},0,{"$f":"-C65*ABS(D65-F65)*H65*I65*U65+'kompensacja międzyproduktowa'!X65*U65","v":{"$error":"#N/A"}},{"$f":"ROUND(IF((B65-A65+1)>2,IF(C65=75,AVERAGE(INDIRECT(\"krzywa!D\"&MATCH(K65-6,krzywa!A:A,0)&\":D\"&MATCH(K65-2,krzywa!A:A,0))),AVERAGE(INDIRECT(\"krzywa!D\"&MATCH(A65-$A$2+BQ65,krzywa!A:A,0)&\":D\"&MATCH(B65-$A$2-AY65,krzywa!A:A,0)))),INDIRECT(\"krzywa!D\"&MATCH(K65,krzywa!A:A,0))),4)","v":{"$error":"#N/A"}},{"$f":"VLOOKUP(A65,krzywa!L:N,3,1)","v":23},{"$f":"VLOOKUP(B65,krzywa!L:N,3,1)","v":23},{"$f":"IF('Kalkulator Depozytów'!$B$35=TRUE,1,(1+S65/100)*W65+(1+T65/100)*(1-W65))","v":1.23},{"$f":"IF(S65<>T65,VLOOKUP(A65,krzywa!L:M,2,1))","v":false},{"$f":"IF(V65<>FALSE,IF(L65=\"BASE\",(V65-A65+1)*24+J65,IF(L65=\"OFFPEAK\",NETWORKDAYS(A65,V65,koszyki!$M$20:$M$898)*9+(N65)*24+J65,IF(L65=\"L-PEAK5\",NETWORKDAYS(A65,V65,koszyki!$M$20:$M$898)*10,IF(L65=\"H-PEAK5\",NETWORKDAYS(A65,V65,koszyki!$M$20:$M$898)*5,NETWORKDAYS(A65,V65,koszyki!$M$20:$M$898)*15))))/C65,1)","v":1},null,null,null,null,null,null,null,null,null,null,null,null,"2028-12-31","2028-12-30","2028-12-29","2028-12-28",null,{"$f":"NETWORKDAYS(AJ65,AJ65,koszyki!$M$20:$M$89)","v":0},{"$f":"NETWORKDAYS(AK65,AK65,koszyki!$M$20:$M$89)","v":0},{"$f":"NETWORKDAYS(AL65,AL65,koszyki!$M$20:$M$89)","v":1},{"$f":"NETWORKDAYS(AM65,AM65,koszyki!$M$20:$M$89)","v":1},null,0,0,1,2,null,2,null,null,"2028-01-01","2028-01-02","2028-01-03","2028-01-04",null,{"$f":"NETWORKDAYS(BB65,BB65,koszyki!$M$20:$M$89)","v":0},{"$f":"NETWORKDAYS(BC65,BC65,koszyki!$M$20:$M$89)","v":0},{"$f":"NETWORKDAYS(BD65,BD65,koszyki!$M$20:$M$89)","v":1},{"$f":"NETWORKDAYS(BE65,BE65,koszyki!$M$20:$M$89)","v":1},null,0,0,1,2,null,2]
["2024-11-28","2024-11-28",9,{"$f":"'Kalkulator Depozytów'!M71","v":0},{"$f":"'Kalkulator Depozytów'!N71","v":0},{"$f":"'Kalkulator Depozytów'!O71","v":0},{"$f":"'Kalkulator Depozytów'!P71","v":0},{"$f":"'Kalkulator Depozytów'!Q71","v":0},{"$f":"ROUND(IF(OR(AND(K66>0,L66=\"L-PEAK5\"),AND(K66>0,L66=\"H-PEAK5\")),R66,IF(AND(K66>0,L66=\"PEAK5\"),O66,IF(K66>0,IF(OR(L66=\"BASE\"),AVERAGE(INDIRECT(\"krzywa!B\"&MATCH(A66-$A$2,krzywa!A:A,0)&\":B\"&MATCH(B66-$A$2,krzywa!A:A,0),TRUE)),IF(OR(L66=\"OFFPEAK\"),AVERAGE(INDIRECT(\"krzywa!F\"&MATCH(A66-$A$2,krzywa!A:A,0)&\":F\"&MATCH(B66-$A$2,krzywa!A:A,0)))))))),4)","v":{"$error":"#N/A"}},0,45624,"OFFPEAK",{"$f":"NETWORKDAYS(A66,B66,koszyki!$M$20:$M$898)","v":1},{"$f":"B66-A66+1- NETWORKDAYS(A66,B66,koszyki!$M$20:$M$898)","v":0},{"$f":"ROUND(IF((B66-A66+1)>2,IF(C66=75,AVERAGE(INDIRECT(\"krzywa!C\"&MATCH(K66-6,krzywa!A:A,0)&\":C\"&MATCH(K66-2,krzywa!A:A,0))),AVERAGE(INDIRECT(\"krzywa!C\"&MATCH(A66-$A$2+BQ66,krzywa!A:A,0)&\":C\"&MATCH(B66-$A$2-AY66,krzywa!A:A,0)))),INDIRECT(\"krzywa!C\"&MATCH(K66,krzywa!A:A,0))),4)","v":{"$error":"#N/A"}},0,{"$f":"-C66*ABS(D66-F66)*H66*I66*U66+'kompensacja międzyproduktowa'!X66*U66","v":{"$error":"#N/A"}},{"$f":"ROUND(IF((B66-A66+1)>2,IF(C66=75,AVERAGE(INDIRECT(\"krzywa!D\"&MATCH(K66-6,krzywa!A:A,0)&\":D\"&MATCH(K66-2,krzywa!A:A,0))),AVERAGE(INDIRECT(\"krzywa!D\"&MATCH(A66-$A$2+BQ66,krzywa!A:A,0)&\":D\"&MATCH(B66-$A$2-AY66,krzywa!A:A,0)))),INDIRECT(\"krzywa!D\"&MATCH(K66,krzywa!A:A,0))),4)","v":{"$error":"#N/A"}},{"$f":"VLOOKUP(A66,krzywa!L:N,3,1)","v":0},{"$f":"VLOOKUP(B66,krzywa!L:N,3,1)","v":0},{"$f":"IF('Kalkulator Depozytów'!$B$35=TRUE,1,(1+S66/100)*W66+(1+T66/100)*(1-W66))","v":1},{"$f":"IF(S66<>T66,VLOOKUP(A66,krzywa!L:M,2,1))","v":false},{"$f":"IF(V66<>FALSE,IF(L66=\"BASE\",(V66-A66+1)*24+J66,IF(L66=\"OFFPEAK\",NETWORKDAYS(A66,V66,koszyki!$M$20:$M$898)*9+(N66)*24+J66,IF(L66=\"L-PEAK5\",NETWORKDAYS(A66,V66,koszyki!$M$20:$M$898)*10,IF(L66=\"H-PEAK5\",NETWORKDAYS(A66,V66,koszyki!$M$20:$M$898)*5,NETWORKDAYS(A66,V66,koszyki!$M$20:$M$898)*15))))/C66,1)","v":1},null,null,null,null,null,null,null,null,null,null,null,null,"2024-11-28","2024-11-27","2024-11-26","2024-11-25",null,{"$f":"NETWORKDAYS(AJ66,AJ66,koszyki!$M$20:$M$89)","v":1},{"$f":"NETWORKDAYS(AK66,AK66,koszyki!$M$20:$M$89)","v":1},{"$f":"NETWORKDAYS(AL66,AL66,koszyki!$M$20:$M$89)","v":1},{"$f":"NETWORKDAYS(AM66,AM66,koszyki!$M$20:$M$89)","v":1},null,1,2,3,4,null,0,null,null,"2024-11-28","2024-11-29","2024-11-30","2024-12-01",null,{"$f":"NETWORKDAYS(BB66,BB66,koszyki!$M$20:$M$89)","v":1},{"$f":"NETWORKDAYS(BC66,BC66,koszyki!$M$20:$M$89)","v":1},{"$f":"NETWORKDAYS(BD66,BD66,koszyki!$M$20:$M$89)","v":0},{"$f":"NETWORKDAYS(BE66,BE66,koszyki!$M$20:$M$89)","v":0},null,1,2,2,2,null,0]
["2024-11-29","2024-11-29",9,{"$f":"'Kalkulator Depozytów'!M72","v":0},{"$f":"'Kalkulator Depozytów'!N72","v":0},{"$f":"'Kalkulator Depozytów'!O72","v":0},{"$f":"'Kalkulator Depozytów'!P72","v":0},{"$f":"'Kalkulator Depozytów'!Q72","v":0},{"$f":"ROUND(IF(OR(AND(K67>0,L67=\"L-PEAK5\"),AND(K67>0,L67=\"H-PEAK5\")),R67,IF(AND(K67>0,L67=\"PEAK5\"),O67,IF(K67>0,IF(OR(L67=\"BASE\"),AVERAGE(INDIRECT(\"krzywa!B\"&MATCH(A67-$A$2,krzywa!A:A,0)&\":B\"&MATCH(B67-$A$2,krzywa!A:A,0),TRUE)),IF(OR(L67=\"OFFPEAK\"),AVERAGE(INDIRECT(\"krzywa!F\"&MATCH(A67-$A$2,krzywa!A:A,0)&\":F\"&MATCH(B67-$A$2,krzywa!A:A,0)))))))),4)","v":{"$error":"#N/A"}},0,45625,"OFFPEAK",{"$f":"NETWORKDAYS(A67,B67,koszyki!$M$20:$M$898)","v":1},{"$f":"B67-A67+1- NETWORKDAYS(A67,B67,koszyki!$M$20:$M$898)","v":0},{"$f":"ROUND(IF((B67-A67+1)>2,IF(C67=75,AVERAGE(INDIRECT(\"krzywa!C\"&MATCH(K67-6,krzywa!A:A,0)&\":C\"&MATCH(K67-2,krzywa!A:A,0))),AVERAGE(INDIRECT(\"krzywa!C\"&MATCH(A67-$A$2+BQ67,krzywa!A:A,0)&\":C\"&MATCH(B67-$A$2-AY67,krzywa!A:A,0)))),INDIRECT(\"krzywa!C\"&MATCH(K67,krzywa!A:A,0))),4)","v":{"$error":"#N/A"}},0,{"$f":"-C67*ABS(D67-F67)*H67*I67*U67+'kompensacja międzyproduktowa'!X67*U67","v":{"$error":"#N/A"}},{"$f":"ROUND(IF((B67-A67+1)>2,IF(C67=75,AVERAGE(INDIRECT(\"krzywa!D\"&MATCH(K67-6,krzywa!A:A,0)&\":D\"&MATCH(K67-2,krzywa!A:A,0))),AVERAGE(INDIRECT(\"krzywa!D\"&MATCH(A67-$A$2+BQ67,krzywa!A:A,0)&\":D\"&MATCH(B67-$A$2-AY67,krzywa!A:A,0)))),INDIRECT(\"krzywa!D\"&MATCH(K67,krzywa!A:A,0))),4)","v":{"$error":"#N/A"}},{"$f":"VLOOKUP(A67,krzywa!L:N,3,1)","v":0},{"$f":"VLOOKUP(B67,krzywa!L:N,3,1)","v":0},{"$f":"IF('Kalkulator Depozytów'!$B$35=TRUE,1,(1+S67/100)*W67+(1+T67/100)*(1-W67))","v":1},{"$f":"IF(S67<>T67,VLOOKUP(A67,krzywa!L:M,2,1))","v":false},{"$f":"IF(V67<>FALSE,IF(L67=\"BASE\",(V67-A67+1)*24+J67,IF(L67=\"OFFPEAK\",NETWORKDAYS(A67,V67,koszyki!$M$20:$M$898)*9+(N67)*24+J67,IF(L67=\"L-PEAK5\",NETWORKDAYS(A67,V67,koszyki!$M$20:$M$898)*10,IF(L67=\"H-PEAK5\",NETWORKDAYS(A67,V67,koszyki!$M$20:$M$898)*5,NETWORKDAYS(A67,V67,koszyki!$M$20:$M$898)*15))))/C67,1)","v":1},null,null,null,null,null,null,null,null,null,null,null,null,"2024-11-29","2024-11-28","2024-11-27","2024-11-26",null,{"$f":"NETWORKDAYS(AJ67,AJ67,koszyki!$M$20:$M$89)","v":1},{"$f":"NETWORKDAYS(AK67,AK67,koszyki!$M$20:$M$89)","v":1},{"$f":"NETWORKDAYS(AL67,AL67,koszyki!$M$20:$M$89)","v":1},{"$f":"NETWORKDAYS(AM67,AM67,koszyki!$M$20:$M$89)","v":1},null,1,2,3,4,null,0,null,null,"2024-11-29","2024-11-30","2024-12-01","2024-12-02",null,{"$f":"NETWORKDAYS(BB67,BB67,koszyki!$M$20:$M$89)","v":1},{"$f":"NETWORKDAYS(BC67,BC67,koszyki!$M$20:$M$89)","v":0},{"$f":"NETWORKDAYS(BD67,BD67,koszyki!$M$20:$M$89)","v":0},{"$f":"NETWORKDAYS(BE67,BE67,koszyki!$M$20:$M$89)","v":1},null,1,1,1,2,null,0]
["2024-11-30","2024-11-30",24,{"$f":"'Kalkulator Depozytów'!M73","v":0},{"$f":"'Kalkulator Depozytów'!N73","v":0},{"$f":"'Kalkulator Depozytów'!O73","v":0},{"$f":"'Kalkulator Depozytów'!P73","v":0},{"$f":"'Kalkulator Depozytów'!Q73","v":0},{"$f":"ROUND(IF(OR(AND(K68>0,L68=\"L-PEAK5\"),AND(K68>0,L68=\"H-PEAK5\")),R68,IF(AND(K68>0,L68=\"PEAK5\"),O68,IF(K68>0,IF(OR(L68=\"BASE\"),AVERAGE(INDIRECT(\"krzywa!B\"&MATCH(A68-$A$2,krzywa!A:A,0)&\":B\"&MATCH(B68-$A$2,krzywa!A:A,0),TRUE)),IF(OR(L68=\"OFFPEAK\"),AVERAGE(INDIRECT(\"krzywa!F\"&MATCH(A68-$A$2,krzywa!A:A,0)&\":F\"&MATCH(B68-$A$2,krzywa!A:A,0)))))))),4)","v":{"$error":"#N/A"}},0,45626,"OFFPEAK",{"$f":"NETWORKDAYS(A68,B68,koszyki!$M$20:$M$898)","v":0},{"$f":"B68-A68+1- NETWORKDAYS(A68,B68,koszyki!$M$20:$M$898)","v":1},{"$f":"ROUND(IF((B68-A68+1)>2,IF(C68=75,AVERAGE(INDIRECT(\"krzywa!C\"&MATCH(K68-6,krzywa!A:A,0)&\":C\"&MATCH(K68-2,krzywa!A:A,0))),AVERAGE(INDIRECT(\"krzywa!C\"&MATCH(A68-$A$2+BQ68,krzywa!A:A,0)&\":C\"&MATCH(B68-$A$2-AY68,krzywa!A:A,0)))),INDIRECT(\"krzywa!C\"&MATCH(K68,krzywa!A:A,0))),4)","v":{"$error":"#N/A"}},0,{"$f":"-C68*ABS(D68-F68)*H68*I68*U68+'kompensacja międzyproduktowa'!X68*U68","v":{"$error":"#N/A"}},{"$f":"ROUND(IF((B68-A68+1)>2,IF(C68=75,AVERAGE(INDIRECT(\"krzywa!D\"&MATCH(K68-6,krzywa!A:A,0)&\":D\"&MATCH(K68-2,krzywa!A:A,0))),AVERAGE(INDIRECT(\"krzywa!D\"&MATCH(A68-$A$2+BQ68,krzywa!A:A,0)&\":D\"&MATCH(B68-$A$2-AY68,krzywa!A:A,0)))),INDIRECT(\"krzywa!D\"&MATCH(K68,krzywa!A:A,0))),4)","v":{"$error":"#N/A"}},{"$f":"VLOOKUP(A68,krzywa!L:N,3,1)","v":0},{"$f":"VLOOKUP(B68,krzywa!L:N,3,1)","v":0},{"$f":"IF('Kalkulator Depozytów'!$B$35=TRUE,1,(1+S68/100)*W68+(1+T68/100)*(1-W68))","v":1},{"$f":"IF(S68<>T68,VLOOKUP(A68,krzywa!L:M,2,1))","v":false},{"$f":"IF(V68<>FALSE,IF(L68=\"BASE\",(V68-A68+1)*24+J68,IF(L68=\"OFFPEAK\",NETWORKDAYS(A68,V68,koszyki!$M$20:$M$898)*9+(N68)*24+J68,IF(L68=\"L-PEAK5\",NETWORKDAYS(A68,V68,koszyki!$M$20:$M$898)*10,IF(L68=\"H-PEAK5\",NETWORKDAYS(A68,V68,koszyki!$M$20:$M$898)*5,NETWORKDAYS(A68,V68,koszyki!$M$20:$M$898)*15))))/C68,1)","v":1},null,null,null,null,null,null,null,null,null,null,null,null,"2024-11-30",{"$f":"AJ68-1","v":"2024-11-29"},"2024-11-28","2024-11-27",null,{"$f":"NETWORKDAYS(AJ68,AJ68,koszyki!$M$20:$M$89)","v":0},{"$f":"NETWORKDAYS(AK68,AK68,koszyki!$M$20:$M$89)","v":1},{"$f":"NETWORKDAYS(AL68,AL68,koszyki!$M$20:$M$89)","v":1},{"$f":"NETWORKDAYS(AM68,AM68,koszyki!$M$20:$M$89)","v":1},null,0,1,2,3,null,1,null,null,"2024-11-30","2024-12-01","2024-12-02","2024-12-03",null,{"$f":"NETWORKDAYS(BB68,BB68,koszyki!$M$20:$M$89)","v":0},{"$f":"NETWORKDAYS(BC68,BC68,koszyki!$M$20:$M$89)","v":0},{"$f":"NETWORKDAYS(BD68,BD68,koszyki!$M$20:$M$89)","v":1},{"$f":"NETWORKDAYS(BE68,BE68,koszyki!$M$20:$M$89)","v":1},null,0,0,1,2,null,2]
["2024-12-01","2024-12-01",24,{"$f":"'Kalkulator Depozytów'!M74","v":0},{"$f":"'Kalkulator Depozytów'!N74","v":0},{"$f":"'Kalkulator Depozytów'!O74","v":0},{"$f":"'Kalkulator Depozytów'!P74","v":0},{"$f":"'Kalkulator Depozytów'!Q74","v":0},{"$f":"ROUND(IF(OR(AND(K69>0,L69=\"L-PEAK5\"),AND(K69>0,L69=\"H-PEAK5\")),R69,IF(AND(K69>0,L69=\"PEAK5\"),O69,IF(K69>0,IF(OR(L69=\"BASE\"),AVERAGE(INDIRECT(\"krzywa!B\"&MATCH(A69-$A$2,krzywa!A:A,0)&\":B\"&MATCH(B69-$A$2,krzywa!A:A,0),TRUE)),IF(OR(L69=\"OFFPEAK\"),AVERAGE(INDIRECT(\"krzywa!F\"&MATCH(A69-$A$2,krzywa!A:A,0)&\":F\"&MATCH(B69-$A$2,krzywa!A:A,0)))))))),4)","v":{"$error":"#N/A"}},0,45627,"OFFPEAK",{"$f":"NETWORKDAYS(A69,B69,koszyki!$M$20:$M$898)","v":0},{"$f":"B69-A69+1- NETWORKDAYS(A69,B69,koszyki!$M$20:$M$898)","v":1},{"$f":"ROUND(IF((B69-A69+1)>2,IF(C69=75,AVERAGE(INDIRECT(\"krzywa!C\"&MATCH(K69-6,krzywa!A:A,0)&\":C\"&MATCH(K69-2,krzywa!A:A,0))),AVERAGE(INDIRECT(\"krzywa!C\"&MATCH(A69-$A$2+BQ69,krzywa!A:A,0)&\":C\"&MATCH(B69-$A$2-AY69,krzywa!A:A,0)))),INDIRECT(\"krzywa!C\"&MATCH(K69,krzywa!A:A,0))),4)","v":{"$error":"#N/A"}},0,{"$f":"-C69*ABS(D69-F69)*H69*I69*U69+'kompensacja międzyproduktowa'!X69*U69","v":{"$error":"#N/A"}},{"$f":"ROUND(IF((B69-A69+1)>2,IF(C69=75,AVERAGE(INDIRECT(\"krzywa!D\"&MATCH(K69-6,krzywa!A:A,0)&\":D\"&MATCH(K69-2,krzywa!A:A,0))),AVERAGE(INDIRECT(\"krzywa!D\"&MATCH(A69-$A$2+BQ69,krzywa!A:A,0)&\":D\"&MATCH(B69-$A$2-AY69,krzywa!A:A,0)))),INDIRECT(\"krzywa!D\"&MATCH(K69,krzywa!A:A,0))),4)","v":{"$error":"#N/A"}},{"$f":"VLOOKUP(A69,krzywa!L:N,3,1)","v":0},{"$f":"VLOOKUP(B69,krzywa!L:N,3,1)","v":0},{"$f":"IF('Kalkulator Depozytów'!$B$35=TRUE,1,(1+S69/100)*W69+(1+T69/100)*(1-W69))","v":1},{"$f":"IF(S69<>T69,VLOOKUP(A69,krzywa!L:M,2,1))","v":false},{"$f":"IF(V69<>FALSE,IF(L69=\"BASE\",(V69-A69+1)*24+J69,IF(L69=\"OFFPEAK\",NETWORKDAYS(A69,V69,koszyki!$M$20:$M$898)*9+(N69)*24+J69,IF(L69=\"L-PEAK5\",NETWORKDAYS(A69,V69,koszyki!$M$20:$M$898)*10,IF(L69=\"H-PEAK5\",NETWORKDAYS(A69,V69,koszyki!$M$20:$M$898)*5,NETWORKDAYS(A69,V69,koszyki!$M$20:$M$898)*15))))/C69,1)","v":1},null,null,null,null,null,null,null,null,null,null,null,null,"2024-12-01","2024-11-30","2024-11-29","2024-11-28",null,{"$f":"NETWORKDAYS(AJ69,AJ69,koszyki!$M$20:$M$89)","v":0},{"$f":"NETWORKDAYS(AK69,AK69,koszyki!$M$20:$M$89)","v":0},{"$f":"NETWORKDAYS(AL69,AL69,koszyki!$M$20:$M$89)","v":1},{"$f":"NETWORKDAYS(AM69,AM69,koszyki!$M$20:$M$89)","v":1},null,0,0,1,2,null,2,null,null,"2024-12-01","2024-12-02","2024-12-03","2024-12-04",null,{"$f":"NETWORKDAYS(BB69,BB69,koszyki!$M$20:$M$89)","v":0},{"$f":"NETWORKDAYS(BC69,BC69,koszyki!$M$20:$M$89)","v":1},{"$f":"NETWORKDAYS(BD69,BD69,koszyki!$M$20:$M$89)","v":1},{"$f":"NETWORKDAYS(BE69,BE69,koszyki!$M$20:$M$89)","v":1},null,0,1,2,3,null,1]
["2024-12-02","2024-12-02",9,{"$f":"'Kalkulator Depozytów'!M75","v":0},{"$f":"'Kalkulator Depozytów'!N75","v":0},{"$f":"'Kalkulator Depozytów'!O75","v":0},{"$f":"'Kalkulator Depozytów'!P75","v":0},{"$f":"'Kalkulator Depozytów'!Q75","v":0},{"$f":"ROUND(IF(OR(AND(K70>0,L70=\"L-PEAK5\"),AND(K70>0,L70=\"H-PEAK5\")),R70,IF(AND(K70>0,L70=\"PEAK5\"),O70,IF(K70>0,IF(OR(L70=\"BASE\"),AVERAGE(INDIRECT(\"krzywa!B\"&MATCH(A70-$A$2,krzywa!A:A,0)&\":B\"&MATCH(B70-$A$2,krzywa!A:A,0),TRUE)),IF(OR(L70=\"OFFPEAK\"),AVERAGE(INDIRECT(\"krzywa!F\"&MATCH(A70-$A$2,krzywa!A:A,0)&\":F\"&MATCH(B70-$A$2,krzywa!A:A,0)))))))),4)","v":{"$error":"#N/A"}},0,45628,"OFFPEAK",{"$f":"NETWORKDAYS(A70,B70,koszyki!$M$20:$M$898)","v":1},{"$f":"B70-A70+1- NETWORKDAYS(A70,B70,koszyki!$M$20:$M$898)","v":0},{"$f":"ROUND(IF((B70-A70+1)>2,IF(C70=75,AVERAGE(INDIRECT(\"krzywa!C\"&MATCH(K70-6,krzywa!A:A,0)&\":C\"&MATCH(K70-2,krzywa!A:A,0))),AVERAGE(INDIRECT(\"krzywa!C\"&MATCH(A70-$A$2+BQ70,krzywa!A:A,0)&\":C\"&MATCH(B70-$A$2-AY70,krzywa!A:A,0)))),INDIRECT(\"krzywa!C\"&MATCH(K70,krzywa!A:A,0))),4)","v":{"$error":"#N/A"}},0,{"$f":"-C70*ABS(D70-F70)*H70*I70*U70+'kompensacja międzyproduktowa'!X70*U70","v":{"$error":"#N/A"}},{"$f":"ROUND(IF((B70-A70+1)>2,IF(C70=75,AVERAGE(INDIRECT(\"krzywa!D\"&MATCH(K70-6,krzywa!A:A,0)&\":D\"&MATCH(K70-2,krzywa!A:A,0))),AVERAGE(INDIRECT(\"krzywa!D\"&MATCH(A70-$A$2+BQ70,krzywa!A:A,0)&\":D\"&MATCH(B70-$A$2-AY70,krzywa!A:A,0)))),INDIRECT(\"krzywa!D\"&MATCH(K70,krzywa!A:A,0))),4)","v":{"$error":"#N/A"}},{"$f":"VLOOKUP(A70,krzywa!L:N,3,1)","v":0},{"$f":"VLOOKUP(B70,krzywa!L:N,3,1)","v":0},{"$f":"IF('Kalkulator Depozytów'!$B$35=TRUE,1,(1+S70/100)*W70+(1+T70/100)*(1-W70))","v":1},{"$f":"IF(S70<>T70,VLOOKUP(A70,krzywa!L:M,2,1))","v":false},{"$f":"IF(V70<>FALSE,IF(L70=\"BASE\",(V70-A70+1)*24+J70,IF(L70=\"OFFPEAK\",NETWORKDAYS(A70,V70,koszyki!$M$20:$M$898)*9+(N70)*24+J70,IF(L70=\"L-PEAK5\",NETWORKDAYS(A70,V70,koszyki!$M$20:$M$898)*10,IF(L70=\"H-PEAK5\",NETWORKDAYS(A70,V70,koszyki!$M$20:$M$898)*5,NETWORKDAYS(A70,V70,koszyki!$M$20:$M$898)*15))))/C70,1)","v":1},null,null,null,null,null,null,null,null,null,null,null,null,"2024-12-02","2024-12-01","2024-11-30","2024-11-29",null,{"$f":"NETWORKDAYS(AJ70,AJ70,koszyki!$M$20:$M$89)","v":1},{"$f":"NETWORKDAYS(AK70,AK70,koszyki!$M$20:$M$89)","v":0},{"$f":"NETWORKDAYS(AL70,AL70,koszyki!$M$20:$M$89)","v":0},{"$f":"NETWORKDAYS(AM70,AM70,koszyki!$M$20:$M$89)","v":1},null,1,1,1,2,null,0,null,null,"2024-12-02","2024-12-03","2024-12-04","2024-12-05",null,{"$f":"NETWORKDAYS(BB70,BB70,koszyki!$M$20:$M$89)","v":1},{"$f":"NETWORKDAYS(BC70,BC70,koszyki!$M$20:$M$89)","v":1},{"$f":"NETWORKDAYS(BD70,BD70,koszyki!$M$20:$M$89)","v":1},{"$f":"NETWORKDAYS(BE70,BE70,koszyki!$M$20:$M$89)","v":1},null,1,2,3,4,null,0]
["2024-12-03","2024-12-03",9,{"$f":"'Kalkulator Depozytów'!M76","v":0},{"$f":"'Kalkulator Depozytów'!N76","v":0},{"$f":"'Kalkulator Depozytów'!O76","v":0},{"$f":"'Kalkulator Depozytów'!P76","v":0},{"$f":"'Kalkulator Depozytów'!Q76","v":0},{"$f":"ROUND(IF(OR(AND(K71>0,L71=\"L-PEAK5\"),AND(K71>0,L71=\"H-PEAK5\")),R71,IF(AND(K71>0,L71=\"PEAK5\"),O71,IF(K71>0,IF(OR(L71=\"BASE\"),AVERAGE(INDIRECT(\"krzywa!B\"&MATCH(A71-$A$2,krzywa!A:A,0)&\":B\"&MATCH(B71-$A$2,krzywa!A:A,0),TRUE)),IF(OR(L71=\"OFFPEAK\"),AVERAGE(INDIRECT(\"krzywa!F\"&MATCH(A71-$A$2,krzywa!A:A,0)&\":F\"&MATCH(B71-$A$2,krzywa!A:A,0)))))))),4)","v":{"$error":"#N/A"}},0,45629,"OFFPEAK",{"$f":"NETWORKDAYS(A71,B71,koszyki!$M$20:$M$898)","v":1},{"$f":"B71-A71+1- NETWORKDAYS(A71,B71,koszyki!$M$20:$M$898)","v":0},{"$f":"ROUND(IF((B71-A71+1)>2,IF(C71=75,AVERAGE(INDIRECT(\"krzywa!C\"&MATCH(K71-6,krzywa!A:A,0)&\":C\"&MATCH(K71-2,krzywa!A:A,0))),AVERAGE(INDIRECT(\"krzywa!C\"&MATCH(A71-$A$2+BQ71,krzywa!A:A,0)&\":C\"&MATCH(B71-$A$2-AY71,krzywa!A:A,0)))),INDIRECT(\"krzywa!C\"&MATCH(K71,krzywa!A:A,0))),4)","v":{"$error":"#N/A"}},0,{"$f":"-C71*ABS(D71-F71)*H71*I71*U71+'kompensacja międzyproduktowa'!X71*U71","v":{"$error":"#N/A"}},{"$f":"ROUND(IF((B71-A71+1)>2,IF(C71=75,AVERAGE(INDIRECT(\"krzywa!D\"&MATCH(K71-6,krzywa!A:A,0)&\":D\"&MATCH(K71-2,krzywa!A:A,0))),AVERAGE(INDIRECT(\"krzywa!D\"&MATCH(A71-$A$2+BQ71,krzywa!A:A,0)&\":D\"&MATCH(B71-$A$2-AY71,krzywa!A:A,0)))),INDIRECT(\"krzywa!D\"&MATCH(K71,krzywa!A:A,0))),4)","v":{"$error":"#N/A"}},{"$f":"VLOOKUP(A71,krzywa!L:N,3,1)","v":0},{"$f":"VLOOKUP(B71,krzywa!L:N,3,1)","v":0},{"$f":"IF('Kalkulator Depozytów'!$B$35=TRUE,1,(1+S71/100)*W71+(1+T71/100)*(1-W71))","v":1},{"$f":"IF(S71<>T71,VLOOKUP(A71,krzywa!L:M,2,1))","v":false},{"$f":"IF(V71<>FALSE,IF(L71=\"BASE\",(V71-A71+1)*24+J71,IF(L71=\"OFFPEAK\",NETWORKDAYS(A71,V71,koszyki!$M$20:$M$898)*9+(N71)*24+J71,IF(L71=\"L-PEAK5\",NETWORKDAYS(A71,V71,koszyki!$M$20:$M$898)*10,IF(L71=\"H-PEAK5\",NETWORKDAYS(A71,V71,koszyki!$M$20:$M$898)*5,NETWORKDAYS(A71,V71,koszyki!$M$20:$M$898)*15))))/C71,1)","v":1},null,null,null,null,null,null,null,null,null,null,null,null,"2024-12-03","2024-12-02","2024-12-01","2024-11-30",null,{"$f":"NETWORKDAYS(AJ71,AJ71,koszyki!$M$20:$M$89)","v":1},{"$f":"NETWORKDAYS(AK71,AK71,koszyki!$M$20:$M$89)","v":1},{"$f":"NETWORKDAYS(AL71,AL71,koszyki!$M$20:$M$89)","v":0},{"$f":"NETWORKDAYS(AM71,AM71,koszyki!$M$20:$M$89)","v":0},null,1,2,2,2,null,0,null,null,"2024-12-03","2024-12-04","2024-12-05","2024-12-06",null,{"$f":"NETWORKDAYS(BB71,BB71,koszyki!$M$20:$M$89)","v":1},{"$f":"NETWORKDAYS(BC71,BC71,koszyki!$M$20:$M$89)","v":1},{"$f":"NETWORKDAYS(BD71,BD71,koszyki!$M$20:$M$89)","v":1},{"$f":"NETWORKDAYS(BE71,BE71,koszyki!$M$20:$M$89)","v":1},null,1,2,3,4,null,0]
["2024-12-04","2024-12-04",9,{"$f":"'Kalkulator Depozytów'!M77","v":0},{"$f":"'Kalkulator Depozytów'!N77","v":0},{"$f":"'Kalkulator Depozytów'!O77","v":0},{"$f":"'Kalkulator Depozytów'!P77","v":0},{"$f":"'Kalkulator Depozytów'!Q77","v":0},{"$f":"ROUND(IF(OR(AND(K72>0,L72=\"L-PEAK5\"),AND(K72>0,L72=\"H-PEAK5\")),R72,IF(AND(K72>0,L72=\"PEAK5\"),O72,IF(K72>0,IF(OR(L72=\"BASE\"),AVERAGE(INDIRECT(\"krzywa!B\"&MATCH(A72-$A$2,krzywa!A:A,0)&\":B\"&MATCH(B72-$A$2,krzywa!A:A,0),TRUE)),IF(OR(L72=\"OFFPEAK\"),AVERAGE(INDIRECT(\"krzywa!F\"&MATCH(A72-$A$2,krzywa!A:A,0)&\":F\"&MATCH(B72-$A$2,krzywa!A:A,0)))))))),4)","v":{"$error":"#N/A"}},0,45630,"OFFPEAK",{"$f":"NETWORKDAYS(A72,B72,koszyki!$M$20:$M$898)","v":1},{"$f":"B72-A72+1- NETWORKDAYS(A72,B72,koszyki!$M$20:$M$898)","v":0},{"$f":"ROUND(IF((B72-A72+1)>2,IF(C72=75,AVERAGE(INDIRECT(\"krzywa!C\"&MATCH(K72-6,krzywa!A:A,0)&\":C\"&MATCH(K72-2,krzywa!A:A,0))),AVERAGE(INDIRECT(\"krzywa!C\"&MATCH(A72-$A$2+BQ72,krzywa!A:A,0)&\":C\"&MATCH(B72-$A$2-AY72,krzywa!A:A,0)))),INDIRECT(\"krzywa!C\"&MATCH(K72,krzywa!A:A,0))),4)","v":{"$error":"#N/A"}},0,{"$f":"-C72*ABS(D72-F72)*H72*I72*U72+'kompensacja międzyproduktowa'!X72*U72","v":{"$error":"#N/A"}},{"$f":"ROUND(IF((B72-A72+1)>2,IF(C72=75,AVERAGE(INDIRECT(\"krzywa!D\"&MATCH(K72-6,krzywa!A:A,0)&\":D\"&MATCH(K72-2,krzywa!A:A,0))),AVERAGE(INDIRECT(\"krzywa!D\"&MATCH(A72-$A$2+BQ72,krzywa!A:A,0)&\":D\"&MATCH(B72-$A$2-AY72,krzywa!A:A,0)))),INDIRECT(\"krzywa!D\"&MATCH(K72,krzywa!A:A,0))),4)","v":{"$error":"#N/A"}},{"$f":"VLOOKUP(A72,krzywa!L:N,3,1)","v":0},{"$f":"VLOOKUP(B72,krzywa!L:N,3,1)","v":0},{"$f":"IF('Kalkulator Depozytów'!$B$35=TRUE,1,(1+S72/100)*W72+(1+T72/100)*(1-W72))","v":1},{"$f":"IF(S72<>T72,VLOOKUP(A72,krzywa!L:M,2,1))","v":false},{"$f":"IF(V72<>FALSE,IF(L72=\"BASE\",(V72-A72+1)*24+J72,IF(L72=\"OFFPEAK\",NETWORKDAYS(A72,V72,koszyki!$M$20:$M$898)*9+(N72)*24+J72,IF(L72=\"L-PEAK5\",NETWORKDAYS(A72,V72,koszyki!$M$20:$M$898)*10,IF(L72=\"H-PEAK5\",NETWORKDAYS(A72,V72,koszyki!$M$20:$M$898)*5,NETWORKDAYS(A72,V72,koszyki!$M$20:$M$898)*15))))/C72,1)","v":1},null,null,null,null,null,null,null,null,null,null,null,null,{"$f":"B72","v":"2024-12-04"},"2024-12-03","2024-12-02","2024-12-01",null,{"$f":"NETWORKDAYS(AJ72,AJ72,koszyki!$M$20:$M$89)","v":1},{"$f":"NETWORKDAYS(AK72,AK72,koszyki!$M$20:$M$89)","v":1},{"$f":"NETWORKDAYS(AL72,AL72,koszyki!$M$20:$M$89)","v":1},{"$f":"NETWORKDAYS(AM72,AM72,koszyki!$M$20:$M$89)","v":0},null,1,2,3,3,null,0,null,null,{"$f":"A72","v":"2024-12-04"},"2024-12-05","2024-12-06","2024-12-07",null,{"$f":"NETWORKDAYS(BB72,BB72,koszyki!$M$20:$M$89)","v":1},{"$f":"NETWORKDAYS(BC72,BC72,koszyki!$M$20:$M$89)","v":1},{"$f":"NETWORKDAYS(BD72,BD72,koszyki!$M$20:$M$89)","v":1},{"$f":"NETWORKDAYS(BE72,BE72,koszyki!$M$20:$M$89)","v":0},null,1,2,3,3,null,0]
["2024-12-05","2024-12-05",{"$f":"IF(L73=\"BASE\",(B73-A73+1)*24+J73,IF(L73=\"OFFPEAK\",M73*9+(N73)*24+J73,IF(L73=\"L-PEAK5\",M73*10,IF(L73=\"H-PEAK5\",M73*5,M73*15))))","v":9},{"$f":"'Kalkulator Depozytów'!M78","v":0},{"$f":"'Kalkulator Depozytów'!N78","v":0},{"$f":"'Kalkulator Depozytów'!O78","v":0},{"$f":"'Kalkulator Depozytów'!P78","v":0},{"$f":"'Kalkulator Depozytów'!Q78","v":0},{"$f":"ROUND(IF(OR(AND(K73>0,L73=\"L-PEAK5\"),AND(K73>0,L73=\"H-PEAK5\")),R73,IF(AND(K73>0,L73=\"PEAK5\"),O73,IF(K73>0,IF(OR(L73=\"BASE\"),AVERAGE(INDIRECT(\"krzywa!B\"&MATCH(A73-$A$2,krzywa!A:A,0)&\":B\"&MATCH(B73-$A$2,krzywa!A:A,0),TRUE)),IF(OR(L73=\"OFFPEAK\"),AVERAGE(INDIRECT(\"krzywa!F\"&MATCH(A73-$A$2,krzywa!A:A,0)&\":F\"&MATCH(B73-$A$2,krzywa!A:A,0)))))))),4)","v":{"$error":"#N/A"}},0,{"$f":"B73-$A$2","v":45631},"OFFPEAK",{"$f":"NETWORKDAYS(A73,B73,koszyki!$M$20:$M$898)","v":1},{"$f":"B73-A73+1- NETWORKDAYS(A73,B73,koszyki!$M$20:$M$898)","v":0},{"$f":"ROUND(IF((B73-A73+1)>2,IF(C73=75,AVERAGE(INDIRECT(\"krzywa!C\"&MATCH(K73-6,krzywa!A:A,0)&\":C\"&MATCH(K73-2,krzywa!A:A,0))),AVERAGE(INDIRECT(\"krzywa!C\"&MATCH(A73-$A$2+BQ73,krzywa!A:A,0)&\":C\"&MATCH(B73-$A$2-AY73,krzywa!A:A,0)))),INDIRECT(\"krzywa!C\"&MATCH(K73,krzywa!A:A,0))),4)","v":{"$error":"#N/A"}},{"$f":"C73*(D73*(H73-E73)-F73*(H73-G73))*U73","v":0},{"$f":"-C73*ABS(D73-F73)*H73*I73*U73+'kompensacja międzyproduktowa'!X73*U73","v":{"$error":"#N/A"}},{"$f":"ROUND(IF((B73-A73+1)>2,IF(C73=75,AVERAGE(INDIRECT(\"krzywa!D\"&MATCH(K73-6,krzywa!A:A,0)&\":D\"&MATCH(K73-2,krzywa!A:A,0))),AVERAGE(INDIRECT(\"krzywa!D\"&MATCH(A73-$A$2+BQ73,krzywa!A:A,0)&\":D\"&MATCH(B73-$A$2-AY73,krzywa!A:A,0)))),INDIRECT(\"krzywa!D\"&MATCH(K73,krzywa!A:A,0))),4)","v":{"$error":"#N/A"}},{"$f":"VLOOKUP(A73,krzywa!L:N,3,1)","v":0},{"$f":"VLOOKUP(B73,krzywa!L:N,3,1)","v":0},{"$f":"IF('Kalkulator Depozytów'!$B$35=TRUE,1,(1+S73/100)*W73+(1+T73/100)*(1-W73))","v":1},{"$f":"IF(S73<>T73,VLOOKUP(A73,krzywa!L:M,2,1))","v":false},{"$f":"IF(V73<>FALSE,IF(L73=\"BASE\",(V73-A73+1)*24+J73,IF(L73=\"OFFPEAK\",NETWORKDAYS(A73,V73,koszyki!$M$20:$M$898)*9+(N73)*24+J73,IF(L73=\"L-PEAK5\",NETWORKDAYS(A73,V73,koszyki!$M$20:$M$898)*10,IF(L73=\"H-PEAK5\",NETWORKDAYS(A73,V73,koszyki!$M$20:$M$898)*5,NETWORKDAYS(A73,V73,koszyki!$M$20:$M$898)*15))))/C73,1)","v":1},null,null,null,null,null,null,null,null,null,null,null,null,"2024-12-05","2024-12-04","2024-12-03","2024-12-02",null,{"$f":"NETWORKDAYS(AJ73,AJ73,koszyki!$M$20:$M$89)","v":1},{"$f":"NETWORKDAYS(AK73,AK73,koszyki!$M$20:$M$89)","v":1},{"$f":"NETWORKDAYS(AL73,AL73,koszyki!$M$20:$M$89)","v":1},{"$f":"NETWORKDAYS(AM73,AM73,koszyki!$M$20:$M$89)","v":1},null,{"$f":"SUM(AO73)","v":1},{"$f":"SUM(AO73:AP73)","v":2},{"$f":"SUM(AO73:AQ73)","v":3},{"$f":"SUM(AO73:AR73)","v":4},null,{"$f":"COUNTIF(AT73:AW73,\"=0\")","v":0},null,null,"2024-12-05",{"$f":"BB73+1","v":"2024-12-06"},"2024-12-07",{"$f":"BD73+1","v":"2024-12-08"},null,{"$f":"NETWORKDAYS(BB73,BB73,koszyki!$M$20:$M$89)","v":1},{"$f":"NETWORKDAYS(BC73,BC73,koszyki!$M$20:$M$89)","v":1},{"$f":"NETWORKDAYS(BD73,BD73,koszyki!$M$20:$M$89)","v":0},{"$f":"NETWORKDAYS(BE73,BE73,koszyki!$M$20:$M$89)","v":0},null,{"$f":"SUM(BG73)","v":1},{"$f":"SUM(BG73:BH73)","v":2},{"$f":"SUM(BG73:BI73)","v":2},{"$f":"SUM(BG73:BJ73)","v":2},null,{"$f":"COUNTIF(BL73:BO73,\"=0\")","v":0}]
["2024-12-06","2024-12-06",9,{"$f":"'Kalkulator Depozytów'!M79","v":0},{"$f":"'Kalkulator Depozytów'!N79","v":0},{"$f":"'Kalkulator Depozytów'!O79","v":0},{"$f":"'Kalkulator Depozytów'!P79","v":0},{"$f":"'Kalkulator Depozytów'!Q79","v":0},{"$f":"ROUND(IF(OR(AND(K74>0,L74=\"L-PEAK5\"),AND(K74>0,L74=\"H-PEAK5\")),R74,IF(AND(K74>0,L74=\"PEAK5\"),O74,IF(K74>0,IF(OR(L74=\"BASE\"),AVERAGE(INDIRECT(\"krzywa!B\"&MATCH(A74-$A$2,krzywa!A:A,0)&\":B\"&MATCH(B74-$A$2,krzywa!A:A,0),TRUE)),IF(OR(L74=\"OFFPEAK\"),AVERAGE(INDIRECT(\"krzywa!F\"&MATCH(A74-$A$2,krzywa!A:A,0)&\":F\"&MATCH(B74-$A$2,krzywa!A:A,0)))))))),4)","v":{"$error":"#N/A"}},0,45632,"OFFPEAK",{"$f":"NETWORKDAYS(A74,B74,koszyki!$M$20:$M$898)","v":1},{"$f":"B74-A74+1- NETWORKDAYS(A74,B74,koszyki!$M$20:$M$898)","v":0},{"$f":"ROUND(IF((B74-A74+1)>2,IF(C74=75,AVERAGE(INDIRECT(\"krzywa!C\"&MATCH(K74-6,krzywa!A:A,0)&\":C\"&MATCH(K74-2,krzywa!A:A,0))),AVERAGE(INDIRECT(\"krzywa!C\"&MATCH(A74-$A$2+BQ74,krzywa!A:A,0)&\":C\"&MATCH(B74-$A$2-AY74,krzywa!A:A,0)))),INDIRECT(\"krzywa!C\"&MATCH(K74,krzywa!A:A,0))),4)","v":{"$error":"#N/A"}},0,{"$f":"-C74*ABS(D74-F74)*H74*I74*U74+'kompensacja międzyproduktowa'!X74*U74","v":{"$error":"#N/A"}},{"$f":"ROUND(IF((B74-A74+1)>2,IF(C74=75,AVERAGE(INDIRECT(\"krzywa!D\"&MATCH(K74-6,krzywa!A:A,0)&\":D\"&MATCH(K74-2,krzywa!A:A,0))),AVERAGE(INDIRECT(\"krzywa!D\"&MATCH(A74-$A$2+BQ74,krzywa!A:A,0)&\":D\"&MATCH(B74-$A$2-AY74,krzywa!A:A,0)))),INDIRECT(\"krzywa!D\"&MATCH(K74,krzywa!A:A,0))),4)","v":{"$error":"#N/A"}},{"$f":"VLOOKUP(A74,krzywa!L:N,3,1)","v":0},{"$f":"VLOOKUP(B74,krzywa!L:N,3,1)","v":0},{"$f":"IF('Kalkulator Depozytów'!$B$35=TRUE,1,(1+S74/100)*W74+(1+T74/100)*(1-W74))","v":1},{"$f":"IF(S74<>T74,VLOOKUP(A74,krzywa!L:M,2,1))","v":false},{"$f":"IF(V74<>FALSE,IF(L74=\"BASE\",(V74-A74+1)*24+J74,IF(L74=\"OFFPEAK\",NETWORKDAYS(A74,V74,koszyki!$M$20:$M$898)*9+(N74)*24+J74,IF(L74=\"L-PEAK5\",NETWORKDAYS(A74,V74,koszyki!$M$20:$M$898)*10,IF(L74=\"H-PEAK5\",NETWORKDAYS(A74,V74,koszyki!$M$20:$M$898)*5,NETWORKDAYS(A74,V74,koszyki!$M$20:$M$898)*15))))/C74,1)","v":1},null,null,null,null,null,null,null,null,null,null,null,null,"2024-12-06","2024-12-05","2024-12-04","2024-12-03",null,{"$f":"NETWORKDAYS(AJ74,AJ74,koszyki!$M$20:$M$89)","v":1},{"$f":"NETWORKDAYS(AK74,AK74,koszyki!$M$20:$M$89)","v":1},{"$f":"NETWORKDAYS(AL74,AL74,koszyki!$M$20:$M$89)","v":1},{"$f":"NETWORKDAYS(AM74,AM74,koszyki!$M$20:$M$89)","v":1},null,1,2,3,4,null,0,null,null,"2024-12-06","2024-12-07","2024-12-08","2024-12-09",null,{"$f":"NETWORKDAYS(BB74,BB74,koszyki!$M$20:$M$89)","v":1},{"$f":"NETWORKDAYS(BC74,BC74,koszyki!$M$20:$M$89)","v":0},{"$f":"NETWORKDAYS(BD74,BD74,koszyki!$M$20:$M$89)","v":0},{"$f":"NETWORKDAYS(BE74,BE74,koszyki!$M$20:$M$89)","v":1},null,1,1,1,2,null,0]
["2024-12-07","2024-12-07",24,{"$f":"'Kalkulator Depozytów'!M80","v":0},{"$f":"'Kalkulator Depozytów'!N80","v":0},{"$f":"'Kalkulator Depozytów'!O80","v":0},{"$f":"'Kalkulator Depozytów'!P80","v":0},{"$f":"'Kalkulator Depozytów'!Q80","v":0},{"$f":"ROUND(IF(OR(AND(K75>0,L75=\"L-PEAK5\"),AND(K75>0,L75=\"H-PEAK5\")),R75,IF(AND(K75>0,L75=\"PEAK5\"),O75,IF(K75>0,IF(OR(L75=\"BASE\"),AVERAGE(INDIRECT(\"krzywa!B\"&MATCH(A75-$A$2,krzywa!A:A,0)&\":B\"&MATCH(B75-$A$2,krzywa!A:A,0),TRUE)),IF(OR(L75=\"OFFPEAK\"),AVERAGE(INDIRECT(\"krzywa!F\"&MATCH(A75-$A$2,krzywa!A:A,0)&\":F\"&MATCH(B75-$A$2,krzywa!A:A,0)))))))),4)","v":{"$error":"#N/A"}},0,45633,"OFFPEAK",{"$f":"NETWORKDAYS(A75,B75,koszyki!$M$20:$M$898)","v":0},{"$f":"B75-A75+1- NETWORKDAYS(A75,B75,koszyki!$M$20:$M$898)","v":1},{"$f":"ROUND(IF((B75-A75+1)>2,IF(C75=75,AVERAGE(INDIRECT(\"krzywa!C\"&MATCH(K75-6,krzywa!A:A,0)&\":C\"&MATCH(K75-2,krzywa!A:A,0))),AVERAGE(INDIRECT(\"krzywa!C\"&MATCH(A75-$A$2+BQ75,krzywa!A:A,0)&\":C\"&MATCH(B75-$A$2-AY75,krzywa!A:A,0)))),INDIRECT(\"krzywa!C\"&MATCH(K75,krzywa!A:A,0))),4)","v":{"$error":"#N/A"}},0,{"$f":"-C75*ABS(D75-F75)*H75*I75*U75+'kompensacja międzyproduktowa'!X75*U75","v":{"$error":"#N/A"}},{"$f":"ROUND(IF((B75-A75+1)>2,IF(C75=75,AVERAGE(INDIRECT(\"krzywa!D\"&MATCH(K75-6,krzywa!A:A,0)&\":D\"&MATCH(K75-2,krzywa!A:A,0))),AVERAGE(INDIRECT(\"krzywa!D\"&MATCH(A75-$A$2+BQ75,krzywa!A:A,0)&\":D\"&MATCH(B75-$A$2-AY75,krzywa!A:A,0)))),INDIRECT(\"krzywa!D\"&MATCH(K75,krzywa!A:A,0))),4)","v":{"$error":"#N/A"}},{"$f":"VLOOKUP(A75,krzywa!L:N,3,1)","v":0},{"$f":"VLOOKUP(B75,krzywa!L:N,3,1)","v":0},{"$f":"IF('Kalkulator Depozytów'!$B$35=TRUE,1,(1+S75/100)*W75+(1+T75/100)*(1-W75))","v":1},{"$f":"IF(S75<>T75,VLOOKUP(A75,krzywa!L:M,2,1))","v":false},{"$f":"IF(V75<>FALSE,IF(L75=\"BASE\",(V75-A75+1)*24+J75,IF(L75=\"OFFPEAK\",NETWORKDAYS(A75,V75,koszyki!$M$20:$M$898)*9+(N75)*24+J75,IF(L75=\"L-PEAK5\",NETWORKDAYS(A75,V75,koszyki!$M$20:$M$898)*10,IF(L75=\"H-PEAK5\",NETWORKDAYS(A75,V75,koszyki!$M$20:$M$898)*5,NETWORKDAYS(A75,V75,koszyki!$M$20:$M$898)*15))))/C75,1)","v":1},null,null,null,null,null,null,null,null,null,null,null,null,"2024-12-07","2024-12-06","2024-12-05","2024-12-04",null,{"$f":"NETWORKDAYS(AJ75,AJ75,koszyki!$M$20:$M$89)","v":0},{"$f":"NETWORKDAYS(AK75,AK75,koszyki!$M$20:$M$89)","v":1},{"$f":"NETWORKDAYS(AL75,AL75,koszyki!$M$20:$M$89)","v":1},{"$f":"NETWORKDAYS(AM75,AM75,koszyki!$M$20:$M$89)","v":1},null,0,1,2,3,null,1,null,null,"2024-12-07","2024-12-08","2024-12-09","2024-12-10",null,{"$f":"NETWORKDAYS(BB75,BB75,koszyki!$M$20:$M$89)","v":0},{"$f":"NETWORKDAYS(BC75,BC75,koszyki!$M$20:$M$89)","v":0},{"$f":"NETWORKDAYS(BD75,BD75,koszyki!$M$20:$M$89)","v":1},{"$f":"NETWORKDAYS(BE75,BE75,koszyki!$M$20:$M$89)","v":1},null,0,0,1,2,null,2]
["2024-12-08","2024-12-08",24,{"$f":"'Kalkulator Depozytów'!M81","v":0},{"$f":"'Kalkulator Depozytów'!N81","v":0},{"$f":"'Kalkulator Depozytów'!O81","v":0},{"$f":"'Kalkulator Depozytów'!P81","v":0},{"$f":"'Kalkulator Depozytów'!Q81","v":0},{"$f":"ROUND(IF(OR(AND(K76>0,L76=\"L-PEAK5\"),AND(K76>0,L76=\"H-PEAK5\")),R76,IF(AND(K76>0,L76=\"PEAK5\"),O76,IF(K76>0,IF(OR(L76=\"BASE\"),AVERAGE(INDIRECT(\"krzywa!B\"&MATCH(A76-$A$2,krzywa!A:A,0)&\":B\"&MATCH(B76-$A$2,krzywa!A:A,0),TRUE)),IF(OR(L76=\"OFFPEAK\"),AVERAGE(INDIRECT(\"krzywa!F\"&MATCH(A76-$A$2,krzywa!A:A,0)&\":F\"&MATCH(B76-$A$2,krzywa!A:A,0)))))))),4)","v":{"$error":"#N/A"}},0,45634,"OFFPEAK",{"$f":"NETWORKDAYS(A76,B76,koszyki!$M$20:$M$898)","v":0},{"$f":"B76-A76+1- NETWORKDAYS(A76,B76,koszyki!$M$20:$M$898)","v":1},{"$f":"ROUND(IF((B76-A76+1)>2,IF(C76=75,AVERAGE(INDIRECT(\"krzywa!C\"&MATCH(K76-6,krzywa!A:A,0)&\":C\"&MATCH(K76-2,krzywa!A:A,0))),AVERAGE(INDIRECT(\"krzywa!C\"&MATCH(A76-$A$2+BQ76,krzywa!A:A,0)&\":C\"&MATCH(B76-$A$2-AY76,krzywa!A:A,0)))),INDIRECT(\"krzywa!C\"&MATCH(K76,krzywa!A:A,0))),4)","v":{"$error":"#N/A"}},0,{"$f":"-C76*ABS(D76-F76)*H76*I76*U76+'kompensacja międzyproduktowa'!X76*U76","v":{"$error":"#N/A"}},{"$f":"ROUND(IF((B76-A76+1)>2,IF(C76=75,AVERAGE(INDIRECT(\"krzywa!D\"&MATCH(K76-6,krzywa!A:A,0)&\":D\"&MATCH(K76-2,krzywa!A:A,0))),AVERAGE(INDIRECT(\"krzywa!D\"&MATCH(A76-$A$2+BQ76,krzywa!A:A,0)&\":D\"&MATCH(B76-$A$2-AY76,krzywa!A:A,0)))),INDIRECT(\"krzywa!D\"&MATCH(K76,krzywa!A:A,0))),4)","v":{"$error":"#N/A"}},{"$f":"VLOOKUP(A76,krzywa!L:N,3,1)","v":0},{"$f":"VLOOKUP(B76,krzywa!L:N,3,1)","v":0},{"$f":"IF('Kalkulator Depozytów'!$B$35=TRUE,1,(1+S76/100)*W76+(1+T76/100)*(1-W76))","v":1},{"$f":"IF(S76<>T76,VLOOKUP(A76,krzywa!L:M,2,1))","v":false},{"$f":"IF(V76<>FALSE,IF(L76=\"BASE\",(V76-A76+1)*24+J76,IF(L76=\"OFFPEAK\",NETWORKDAYS(A76,V76,koszyki!$M$20:$M$898)*9+(N76)*24+J76,IF(L76=\"L-PEAK5\",NETWORKDAYS(A76,V76,koszyki!$M$20:$M$898)*10,IF(L76=\"H-PEAK5\",NETWORKDAYS(A76,V76,koszyki!$M$20:$M$898)*5,NETWORKDAYS(A76,V76,koszyki!$M$20:$M$898)*15))))/C76,1)","v":1},null,null,null,null,null,null,null,null,null,null,null,null,"2024-12-08","2024-12-07","2024-12-06","2024-12-05",null,{"$f":"NETWORKDAYS(AJ76,AJ76,koszyki!$M$20:$M$89)","v":0},{"$f":"NETWORKDAYS(AK76,AK76,koszyki!$M$20:$M$89)","v":0},{"$f":"NETWORKDAYS(AL76,AL76,koszyki!$M$20:$M$89)","v":1},{"$f":"NETWORKDAYS(AM76,AM76,koszyki!$M$20:$M$89)","v":1},null,0,0,1,2,null,2,null,null,"2024-12-08","2024-12-09","2024-12-10","2024-12-11",null,{"$f":"NETWORKDAYS(BB76,BB76,koszyki!$M$20:$M$89)","v":0},{"$f":"NETWORKDAYS(BC76,BC76,koszyki!$M$20:$M$89)","v":1},{"$f":"NETWORKDAYS(BD76,BD76,koszyki!$M$20:$M$89)","v":1},{"$f":"NETWORKDAYS(BE76,BE76,koszyki!$M$20:$M$89)","v":1},null,0,1,2,3,null,1]
["2024-12-09","2024-12-15",93,{"$f":"'Kalkulator Depozytów'!M82","v":0},{"$f":"'Kalkulator Depozytów'!N82","v":0},{"$f":"'Kalkulator Depozytów'!O82","v":0},{"$f":"'Kalkulator Depozytów'!P82","v":0},{"$f":"'Kalkulator Depozytów'!Q82","v":0},{"$f":"ROUND(IF(OR(AND(K77>0,L77=\"L-PEAK5\"),AND(K77>0,L77=\"H-PEAK5\")),R77,IF(AND(K77>0,L77=\"PEAK5\"),O77,IF(K77>0,IF(OR(L77=\"BASE\"),AVERAGE(INDIRECT(\"krzywa!B\"&MATCH(A77-$A$2,krzywa!A:A,0)&\":B\"&MATCH(B77-$A$2,krzywa!A:A,0),TRUE)),IF(OR(L77=\"OFFPEAK\"),AVERAGE(INDIRECT(\"krzywa!F\"&MATCH(A77-$A$2,krzywa!A:A,0)&\":F\"&MATCH(B77-$A$2,krzywa!A:A,0)))))))),4)","v":{"$error":"#N/A"}},0,45641,"OFFPEAK",{"$f":"NETWORKDAYS(A77,B77,koszyki!$M$20:$M$898)","v":5},{"$f":"B77-A77+1- NETWORKDAYS(A77,B77,koszyki!$M$20:$M$898)","v":2},{"$f":"ROUND(IF((B77-A77+1)>2,IF(C77=75,AVERAGE(INDIRECT(\"krzywa!C\"&MATCH(K77-6,krzywa!A:A,0)&\":C\"&MATCH(K77-2,krzywa!A:A,0))),AVERAGE(INDIRECT(\"krzywa!C\"&MATCH(A77-$A$2+BQ77,krzywa!A:A,0)&\":C\"&MATCH(B77-$A$2-AY77,krzywa!A:A,0)))),INDIRECT(\"krzywa!C\"&MATCH(K77,krzywa!A:A,0))),4)","v":{"$error":"#N/A"}},0,{"$f":"-C77*ABS(D77-F77)*H77*I77*U77+'kompensacja międzyproduktowa'!X77*U77","v":{"$error":"#N/A"}},{"$f":"ROUND(IF((B77-A77+1)>2,IF(C77=75,AVERAGE(INDIRECT(\"krzywa!D\"&MATCH(K77-6,krzywa!A:A,0)&\":D\"&MATCH(K77-2,krzywa!A:A,0))),AVERAGE(INDIRECT(\"krzywa!D\"&MATCH(A77-$A$2+BQ77,krzywa!A:A,0)&\":D\"&MATCH(B77-$A$2-AY77,krzywa!A:A,0)))),INDIRECT(\"krzywa!D\"&MATCH(K77,krzywa!A:A,0))),4)","v":{"$error":"#N/A"}},{"$f":"VLOOKUP(A77,krzywa!L:N,3,1)","v":0},{"$f":"VLOOKUP(B77,krzywa!L:N,3,1)","v":0},{"$f":"IF('Kalkulator Depozytów'!$B$35=TRUE,1,(1+S77/100)*W77+(1+T77/100)*(1-W77))","v":1},{"$f":"IF(S77<>T77,VLOOKUP(A77,krzywa!L:M,2,1))","v":false},{"$f":"IF(V77<>FALSE,IF(L77=\"BASE\",(V77-A77+1)*24+J77,IF(L77=\"OFFPEAK\",NETWORKDAYS(A77,V77,koszyki!$M$20:$M$898)*9+(N77)*24+J77,IF(L77=\"L-PEAK5\",NETWORKDAYS(A77,V77,koszyki!$M$20:$M$898)*10,IF(L77=\"H-PEAK5\",NETWORKDAYS(A77,V77,koszyki!$M$20:$M$898)*5,NETWORKDAYS(A77,V77,koszyki!$M$20:$M$898)*15))))/C77,1)","v":1},null,null,null,null,null,null,null,null,null,null,null,null,"2024-12-15","2024-12-14","2024-12-13","2024-12-12",null,{"$f":"NETWORKDAYS(AJ77,AJ77,koszyki!$M$20:$M$89)","v":0},{"$f":"NETWORKDAYS(AK77,AK77,koszyki!$M$20:$M$89)","v":0},{"$f":"NETWORKDAYS(AL77,AL77,koszyki!$M$20:$M$89)","v":1},{"$f":"NETWORKDAYS(AM77,AM77,koszyki!$M$20:$M$89)","v":1},null,0,0,1,2,null,2,null,null,"2024-12-09","2024-12-10","2024-12-11","2024-12-12",null,{"$f":"NETWORKDAYS(BB77,BB77,koszyki!$M$20:$M$89)","v":1},{"$f":"NETWORKDAYS(BC77,BC77,koszyki!$M$20:$M$89)","v":1},{"$f":"NETWORKDAYS(BD77,BD77,koszyki!$M$20:$M$89)","v":1},{"$f":"NETWORKDAYS(BE77,BE77,koszyki!$M$20:$M$89)","v":1},null,1,2,3,4,null,0]
["2024-12-16","2024-12-22",93,{"$f":"'Kalkulator Depozytów'!M83","v":0},{"$f":"'Kalkulator Depozytów'!N83","v":0},{"$f":"'Kalkulator Depozytów'!O83","v":0},{"$f":"'Kalkulator Depozytów'!P83","v":0},{"$f":"'Kalkulator Depozytów'!Q83","v":0},{"$f":"ROUND(IF(OR(AND(K78>0,L78=\"L-PEAK5\"),AND(K78>0,L78=\"H-PEAK5\")),R78,IF(AND(K78>0,L78=\"PEAK5\"),O78,IF(K78>0,IF(OR(L78=\"BASE\"),AVERAGE(INDIRECT(\"krzywa!B\"&MATCH(A78-$A$2,krzywa!A:A,0)&\":B\"&MATCH(B78-$A$2,krzywa!A:A,0),TRUE)),IF(OR(L78=\"OFFPEAK\"),AVERAGE(INDIRECT(\"krzywa!F\"&MATCH(A78-$A$2,krzywa!A:A,0)&\":F\"&MATCH(B78-$A$2,krzywa!A:A,0)))))))),4)","v":{"$error":"#N/A"}},0,45648,"OFFPEAK",{"$f":"NETWORKDAYS(A78,B78,koszyki!$M$20:$M$898)","v":5},{"$f":"B78-A78+1- NETWORKDAYS(A78,B78,koszyki!$M$20:$M$898)","v":2},{"$f":"ROUND(IF((B78-A78+1)>2,IF(C78=75,AVERAGE(INDIRECT(\"krzywa!C\"&MATCH(K78-6,krzywa!A:A,0)&\":C\"&MATCH(K78-2,krzywa!A:A,0))),AVERAGE(INDIRECT(\"krzywa!C\"&MATCH(A78-$A$2+BQ78,krzywa!A:A,0)&\":C\"&MATCH(B78-$A$2-AY78,krzywa!A:A,0)))),INDIRECT(\"krzywa!C\"&MATCH(K78,krzywa!A:A,0))),4)","v":{"$error":"#N/A"}},0,{"$f":"-C78*ABS(D78-F78)*H78*I78*U78+'kompensacja międzyproduktowa'!X78*U78","v":{"$error":"#N/A"}},{"$f":"ROUND(IF((B78-A78+1)>2,IF(C78=75,AVERAGE(INDIRECT(\"krzywa!D\"&MATCH(K78-6,krzywa!A:A,0)&\":D\"&MATCH(K78-2,krzywa!A:A,0))),AVERAGE(INDIRECT(\"krzywa!D\"&MATCH(A78-$A$2+BQ78,krzywa!A:A,0)&\":D\"&MATCH(B78-$A$2-AY78,krzywa!A:A,0)))),INDIRECT(\"krzywa!D\"&MATCH(K78,krzywa!A:A,0))),4)","v":{"$error":"#N/A"}},{"$f":"VLOOKUP(A78,krzywa!L:N,3,1)","v":0},{"$f":"VLOOKUP(B78,krzywa!L:N,3,1)","v":0},{"$f":"IF('Kalkulator Depozytów'!$B$35=TRUE,1,(1+S78/100)*W78+(1+T78/100)*(1-W78))","v":1},{"$f":"IF(S78<>T78,VLOOKUP(A78,krzywa!L:M,2,1))","v":false},{"$f":"IF(V78<>FALSE,IF(L78=\"BASE\",(V78-A78+1)*24+J78,IF(L78=\"OFFPEAK\",NETWORKDAYS(A78,V78,koszyki!$M$20:$M$898)*9+(N78)*24+J78,IF(L78=\"L-PEAK5\",NETWORKDAYS(A78,V78,koszyki!$M$20:$M$898)*10,IF(L78=\"H-PEAK5\",NETWORKDAYS(A78,V78,koszyki!$M$20:$M$898)*5,NETWORKDAYS(A78,V78,koszyki!$M$20:$M$898)*15))))/C78,1)","v":1},null,null,null,null,null,null,null,null,null,null,null,null,"2024-12-22","2024-12-21","2024-12-20","2024-12-19",null,{"$f":"NETWORKDAYS(AJ78,AJ78,koszyki!$M$20:$M$89)","v":0},{"$f":"NETWORKDAYS(AK78,AK78,koszyki!$M$20:$M$89)","v":0},{"$f":"NETWORKDAYS(AL78,AL78,koszyki!$M$20:$M$89)","v":1},{"$f":"NETWORKDAYS(AM78,AM78,koszyki!$M$20:$M$89)","v":1},null,0,0,1,2,null,2,null,null,"2024-12-16","2024-12-17","2024-12-18","2024-12-19",null,{"$f":"NETWORKDAYS(BB78,BB78,koszyki!$M$20:$M$89)","v":1},{"$f":"NETWORKDAYS(BC78,BC78,koszyki!$M$20:$M$89)","v":1},{"$f":"NETWORKDAYS(BD78,BD78,koszyki!$M$20:$M$89)","v":1},{"$f":"NETWORKDAYS(BE78,BE78,koszyki!$M$20:$M$89)","v":1},null,1,2,3,4,null,0]
["2024-12-23","2024-12-29",123,{"$f":"'Kalkulator Depozytów'!M84","v":0},{"$f":"'Kalkulator Depozytów'!N84","v":0},{"$f":"'Kalkulator Depozytów'!O84","v":0},{"$f":"'Kalkulator Depozytów'!P84","v":0},{"$f":"'Kalkulator Depozytów'!Q84","v":0},{"$f":"ROUND(IF(OR(AND(K79>0,L79=\"L-PEAK5\"),AND(K79>0,L79=\"H-PEAK5\")),R79,IF(AND(K79>0,L79=\"PEAK5\"),O79,IF(K79>0,IF(OR(L79=\"BASE\"),AVERAGE(INDIRECT(\"krzywa!B\"&MATCH(A79-$A$2,krzywa!A:A,0)&\":B\"&MATCH(B79-$A$2,krzywa!A:A,0),TRUE)),IF(OR(L79=\"OFFPEAK\"),AVERAGE(INDIRECT(\"krzywa!F\"&MATCH(A79-$A$2,krzywa!A:A,0)&\":F\"&MATCH(B79-$A$2,krzywa!A:A,0)))))))),4)","v":{"$error":"#N/A"}},0,45655,"OFFPEAK",{"$f":"NETWORKDAYS(A79,B79,koszyki!$M$20:$M$898)","v":3},{"$f":"B79-A79+1- NETWORKDAYS(A79,B79,koszyki!$M$20:$M$898)","v":4},{"$f":"ROUND(IF((B79-A79+1)>2,IF(C79=75,AVERAGE(INDIRECT(\"krzywa!C\"&MATCH(K79-6,krzywa!A:A,0)&\":C\"&MATCH(K79-2,krzywa!A:A,0))),AVERAGE(INDIRECT(\"krzywa!C\"&MATCH(A79-$A$2+BQ79,krzywa!A:A,0)&\":C\"&MATCH(B79-$A$2-AY79,krzywa!A:A,0)))),INDIRECT(\"krzywa!C\"&MATCH(K79,krzywa!A:A,0))),4)","v":{"$error":"#N/A"}},0,{"$f":"-C79*ABS(D79-F79)*H79*I79*U79+'kompensacja międzyproduktowa'!X79*U79","v":{"$error":"#N/A"}},{"$f":"ROUND(IF((B79-A79+1)>2,IF(C79=75,AVERAGE(INDIRECT(\"krzywa!D\"&MATCH(K79-6,krzywa!A:A,0)&\":D\"&MATCH(K79-2,krzywa!A:A,0))),AVERAGE(INDIRECT(\"krzywa!D\"&MATCH(A79-$A$2+BQ79,krzywa!A:A,0)&\":D\"&MATCH(B79-$A$2-AY79,krzywa!A:A,0)))),INDIRECT(\"krzywa!D\"&MATCH(K79,krzywa!A:A,0))),4)","v":{"$error":"#N/A"}},{"$f":"VLOOKUP(A79,krzywa!L:N,3,1)","v":0},{"$f":"VLOOKUP(B79,krzywa!L:N,3,1)","v":0},{"$f":"IF('Kalkulator Depozytów'!$B$35=TRUE,1,(1+S79/100)*W79+(1+T79/100)*(1-W79))","v":1},{"$f":"IF(S79<>T79,VLOOKUP(A79,krzywa!L:M,2,1))","v":false},{"$f":"IF(V79<>FALSE,IF(L79=\"BASE\",(V79-A79+1)*24+J79,IF(L79=\"OFFPEAK\",NETWORKDAYS(A79,V79,koszyki!$M$20:$M$898)*9+(N79)*24+J79,IF(L79=\"L-PEAK5\",NETWORKDAYS(A79,V79,koszyki!$M$20:$M$898)*10,IF(L79=\"H-PEAK5\",NETWORKDAYS(A79,V79,koszyki!$M$20:$M$898)*5,NETWORKDAYS(A79,V79,koszyki!$M$20:$M$898)*15))))/C79,1)","v":1},null,null,null,null,null,null,null,null,null,null,null,null,"2024-12-29","2024-12-28","2024-12-27","2024-12-26",null,{"$f":"NETWORKDAYS(AJ79,AJ79,koszyki!$M$20:$M$89)","v":0},{"$f":"NETWORKDAYS(AK79,AK79,koszyki!$M$20:$M$89)","v":0},{"$f":"NETWORKDAYS(AL79,AL79,koszyki!$M$20:$M$89)","v":1},{"$f":"NETWORKDAYS(AM79,AM79,koszyki!$M$20:$M$89)","v":1},null,0,0,1,2,null,2,null,null,"2024-12-23","2024-12-24","2024-12-25","2024-12-26",null,{"$f":"NETWORKDAYS(BB79,BB79,koszyki!$M$20:$M$89)","v":1},{"$f":"NETWORKDAYS(BC79,BC79,koszyki!$M$20:$M$89)","v":1},{"$f":"NETWORKDAYS(BD79,BD79,koszyki!$M$20:$M$89)","v":1},{"$f":"NETWORKDAYS(BE79,BE79,koszyki!$M$20:$M$89)","v":1},null,1,2,3,4,null,0]
["2024-12-30","2024-12-31",18,{"$f":"'Kalkulator Depozytów'!M85","v":0},{"$f":"'Kalkulator Depozytów'!N85","v":0},{"$f":"'Kalkulator Depozytów'!O85","v":0},{"$f":"'Kalkulator Depozytów'!P85","v":0},{"$f":"'Kalkulator Depozytów'!Q85","v":0},{"$f":"ROUND(IF(OR(AND(K80>0,L80=\"L-PEAK5\"),AND(K80>0,L80=\"H-PEAK5\")),R80,IF(AND(K80>0,L80=\"PEAK5\"),O80,IF(K80>0,IF(OR(L80=\"BASE\"),AVERAGE(INDIRECT(\"krzywa!B\"&MATCH(A80-$A$2,krzywa!A:A,0)&\":B\"&MATCH(B80-$A$2,krzywa!A:A,0),TRUE)),IF(OR(L80=\"OFFPEAK\"),AVERAGE(INDIRECT(\"krzywa!F\"&MATCH(A80-$A$2,krzywa!A:A,0)&\":F\"&MATCH(B80-$A$2,krzywa!A:A,0)))))))),4)","v":{"$error":"#N/A"}},0,45657,"OFFPEAK",{"$f":"NETWORKDAYS(A80,B80,koszyki!$M$20:$M$898)","v":2},{"$f":"B80-A80+1- NETWORKDAYS(A80,B80,koszyki!$M$20:$M$898)","v":0},{"$f":"ROUND(IF((B80-A80+1)>2,IF(C80=75,AVERAGE(INDIRECT(\"krzywa!C\"&MATCH(K80-6,krzywa!A:A,0)&\":C\"&MATCH(K80-2,krzywa!A:A,0))),AVERAGE(INDIRECT(\"krzywa!C\"&MATCH(A80-$A$2+BQ80,krzywa!A:A,0)&\":C\"&MATCH(B80-$A$2-AY80,krzywa!A:A,0)))),INDIRECT(\"krzywa!C\"&MATCH(K80,krzywa!A:A,0))),4)","v":{"$error":"#N/A"}},0,{"$f":"-C80*ABS(D80-F80)*H80*I80*U80+'kompensacja międzyproduktowa'!X80*U80","v":{"$error":"#N/A"}},{"$f":"ROUND(IF((B80-A80+1)>2,IF(C80=75,AVERAGE(INDIRECT(\"krzywa!D\"&MATCH(K80-6,krzywa!A:A,0)&\":D\"&MATCH(K80-2,krzywa!A:A,0))),AVERAGE(INDIRECT(\"krzywa!D\"&MATCH(A80-$A$2+BQ80,krzywa!A:A,0)&\":D\"&MATCH(B80-$A$2-AY80,krzywa!A:A,0)))),INDIRECT(\"krzywa!D\"&MATCH(K80,krzywa!A:A,0))),4)","v":{"$error":"#N/A"}},{"$f":"VLOOKUP(A80,krzywa!L:N,3,1)","v":0},{"$f":"VLOOKUP(B80,krzywa!L:N,3,1)","v":0},{"$f":"IF('Kalkulator Depozytów'!$B$35=TRUE,1,(1+S80/100)*W80+(1+T80/100)*(1-W80))","v":1},{"$f":"IF(S80<>T80,VLOOKUP(A80,krzywa!L:M,2,1))","v":false},{"$f":"IF(V80<>FALSE,IF(L80=\"BASE\",(V80-A80+1)*24+J80,IF(L80=\"OFFPEAK\",NETWORKDAYS(A80,V80,koszyki!$M$20:$M$898)*9+(N80)*24+J80,IF(L80=\"L-PEAK5\",NETWORKDAYS(A80,V80,koszyki!$M$20:$M$898)*10,IF(L80=\"H-PEAK5\",NETWORKDAYS(A80,V80,koszyki!$M$20:$M$898)*5,NETWORKDAYS(A80,V80,koszyki!$M$20:$M$898)*15))))/C80,1)","v":1},null,null,null,null,null,null,null,null,null,null,null,null,"2024-12-31","2024-12-30","2024-12-29","2024-12-28",null,{"$f":"NETWORKDAYS(AJ80,AJ80,koszyki!$M$20:$M$89)","v":1},{"$f":"NETWORKDAYS(AK80,AK80,koszyki!$M$20:$M$89)","v":1},{"$f":"NETWORKDAYS(AL80,AL80,koszyki!$M$20:$M$89)","v":0},{"$f":"NETWORKDAYS(AM80,AM80,koszyki!$M$20:$M$89)","v":0},null,1,2,2,2,null,0,null,null,"2024-12-30","2024-12-31","2025-01-01","2025-01-02",null,{"$f":"NETWORKDAYS(BB80,BB80,koszyki!$M$20:$M$89)","v":1},{"$f":"NETWORKDAYS(BC80,BC80,koszyki!$M$20:$M$89)","v":1},{"$f":"NETWORKDAYS(BD80,BD80,koszyki!$M$20:$M$89)","v":1},{"$f":"NETWORKDAYS(BE80,BE80,koszyki!$M$20:$M$89)","v":1},null,1,2,3,4,null,0]
["2025-01-01","2025-01-05",90,{"$f":"'Kalkulator Depozytów'!M86","v":0},{"$f":"'Kalkulator Depozytów'!N86","v":0},{"$f":"'Kalkulator Depozytów'!O86","v":0},{"$f":"'Kalkulator Depozytów'!P86","v":0},{"$f":"'Kalkulator Depozytów'!Q86","v":0},{"$f":"ROUND(IF(OR(AND(K81>0,L81=\"L-PEAK5\"),AND(K81>0,L81=\"H-PEAK5\")),R81,IF(AND(K81>0,L81=\"PEAK5\"),O81,IF(K81>0,IF(OR(L81=\"BASE\"),AVERAGE(INDIRECT(\"krzywa!B\"&MATCH(A81-$A$2,krzywa!A:A,0)&\":B\"&MATCH(B81-$A$2,krzywa!A:A,0),TRUE)),IF(OR(L81=\"OFFPEAK\"),AVERAGE(INDIRECT(\"krzywa!F\"&MATCH(A81-$A$2,krzywa!A:A,0)&\":F\"&MATCH(B81-$A$2,krzywa!A:A,0)))))))),4)","v":{"$error":"#N/A"}},0,45662,"OFFPEAK",{"$f":"NETWORKDAYS(A81,B81,koszyki!$M$20:$M$898)","v":2},{"$f":"B81-A81+1- NETWORKDAYS(A81,B81,koszyki!$M$20:$M$898)","v":3},{"$f":"ROUND(IF((B81-A81+1)>2,IF(C81=75,AVERAGE(INDIRECT(\"krzywa!C\"&MATCH(K81-6,krzywa!A:A,0)&\":C\"&MATCH(K81-2,krzywa!A:A,0))),AVERAGE(INDIRECT(\"krzywa!C\"&MATCH(A81-$A$2+BQ81,krzywa!A:A,0)&\":C\"&MATCH(B81-$A$2-AY81,krzywa!A:A,0)))),INDIRECT(\"krzywa!C\"&MATCH(K81,krzywa!A:A,0))),4)","v":{"$error":"#N/A"}},0,{"$f":"-C81*ABS(D81-F81)*H81*I81*U81+'kompensacja międzyproduktowa'!X81*U81","v":{"$error":"#N/A"}},{"$f":"ROUND(IF((B81-A81+1)>2,IF(C81=75,AVERAGE(INDIRECT(\"krzywa!D\"&MATCH(K81-6,krzywa!A:A,0)&\":D\"&MATCH(K81-2,krzywa!A:A,0))),AVERAGE(INDIRECT(\"krzywa!D\"&MATCH(A81-$A$2+BQ81,krzywa!A:A,0)&\":D\"&MATCH(B81-$A$2-AY81,krzywa!A:A,0)))),INDIRECT(\"krzywa!D\"&MATCH(K81,krzywa!A:A,0))),4)","v":{"$error":"#N/A"}},{"$f":"VLOOKUP(A81,krzywa!L:N,3,1)","v":0},{"$f":"VLOOKUP(B81,krzywa!L:N,3,1)","v":0},{"$f":"IF('Kalkulator Depozytów'!$B$35=TRUE,1,(1+S81/100)*W81+(1+T81/100)*(1-W81))","v":1},{"$f":"IF(S81<>T81,VLOOKUP(A81,krzywa!L:M,2,1))","v":false},{"$f":"IF(V81<>FALSE,IF(L81=\"BASE\",(V81-A81+1)*24+J81,IF(L81=\"OFFPEAK\",NETWORKDAYS(A81,V81,koszyki!$M$20:$M$898)*9+(N81)*24+J81,IF(L81=\"L-PEAK5\",NETWORKDAYS(A81,V81,koszyki!$M$20:$M$898)*10,IF(L81=\"H-PEAK5\",NETWORKDAYS(A81,V81,koszyki!$M$20:$M$898)*5,NETWORKDAYS(A81,V81,koszyki!$M$20:$M$898)*15))))/C81,1)","v":1},null,null,null,null,null,null,null,null,null,null,null,null,"2025-01-05","2025-01-04","2025-01-03","2025-01-02",null,{"$f":"NETWORKDAYS(AJ81,AJ81,koszyki!$M$20:$M$89)","v":0},{"$f":"NETWORKDAYS(AK81,AK81,koszyki!$M$20:$M$89)","v":0},{"$f":"NETWORKDAYS(AL81,AL81,koszyki!$M$20:$M$89)","v":1},{"$f":"NETWORKDAYS(AM81,AM81,koszyki!$M$20:$M$89)","v":1},null,0,0,1,2,null,2,null,null,"2025-01-01","2025-01-02","2025-01-03","2025-01-04",null,{"$f":"NETWORKDAYS(BB81,BB81,koszyki!$M$20:$M$89)","v":1},{"$f":"NETWORKDAYS(BC81,BC81,koszyki!$M$20:$M$89)","v":1},{"$f":"NETWORKDAYS(BD81,BD81,koszyki!$M$20:$M$89)","v":1},{"$f":"NETWORKDAYS(BE81,BE81,koszyki!$M$20:$M$89)","v":0},null,1,2,3,3,null,0]
["2025-01-06","2025-01-31",339,{"$f":"'Kalkulator Depozytów'!M87","v":0},{"$f":"'Kalkulator Depozytów'!N87","v":0},{"$f":"'Kalkulator Depozytów'!O87","v":0},{"$f":"'Kalkulator Depozytów'!P87","v":0},{"$f":"'Kalkulator Depozytów'!Q87","v":0},{"$f":"ROUND(IF(OR(AND(K82>0,L82=\"L-PEAK5\"),AND(K82>0,L82=\"H-PEAK5\")),R82,IF(AND(K82>0,L82=\"PEAK5\"),O82,IF(K82>0,IF(OR(L82=\"BASE\"),AVERAGE(INDIRECT(\"krzywa!B\"&MATCH(A82-$A$2,krzywa!A:A,0)&\":B\"&MATCH(B82-$A$2,krzywa!A:A,0),TRUE)),IF(OR(L82=\"OFFPEAK\"),AVERAGE(INDIRECT(\"krzywa!F\"&MATCH(A82-$A$2,krzywa!A:A,0)&\":F\"&MATCH(B82-$A$2,krzywa!A:A,0)))))))),4)","v":{"$error":"#N/A"}},0,45688,"OFFPEAK",{"$f":"NETWORKDAYS(A82,B82,koszyki!$M$20:$M$898)","v":19},{"$f":"B82-A82+1- NETWORKDAYS(A82,B82,koszyki!$M$20:$M$898)","v":7},{"$f":"ROUND(IF((B82-A82+1)>2,IF(C82=75,AVERAGE(INDIRECT(\"krzywa!C\"&MATCH(K82-6,krzywa!A:A,0)&\":C\"&MATCH(K82-2,krzywa!A:A,0))),AVERAGE(INDIRECT(\"krzywa!C\"&MATCH(A82-$A$2+BQ82,krzywa!A:A,0)&\":C\"&MATCH(B82-$A$2-AY82,krzywa!A:A,0)))),INDIRECT(\"krzywa!C\"&MATCH(K82,krzywa!A:A,0))),4)","v":{"$error":"#N/A"}},0,{"$f":"-C82*ABS(D82-F82)*H82*I82*U82+'kompensacja międzyproduktowa'!X82*U82","v":{"$error":"#N/A"}},{"$f":"ROUND(IF((B82-A82+1)>2,IF(C82=75,AVERAGE(INDIRECT(\"krzywa!D\"&MATCH(K82-6,krzywa!A:A,0)&\":D\"&MATCH(K82-2,krzywa!A:A,0))),AVERAGE(INDIRECT(\"krzywa!D\"&MATCH(A82-$A$2+BQ82,krzywa!A:A,0)&\":D\"&MATCH(B82-$A$2-AY82,krzywa!A:A,0)))),INDIRECT(\"krzywa!D\"&MATCH(K82,krzywa!A:A,0))),4)","v":{"$error":"#N/A"}},{"$f":"VLOOKUP(A82,krzywa!L:N,3,1)","v":0},{"$f":"VLOOKUP(B82,krzywa!L:N,3,1)","v":0},{"$f":"IF('Kalkulator Depozytów'!$B$35=TRUE,1,(1+S82/100)*W82+(1+T82/100)*(1-W82))","v":1},{"$f":"IF(S82<>T82,VLOOKUP(A82,krzywa!L:M,2,1))","v":false},{"$f":"IF(V82<>FALSE,IF(L82=\"BASE\",(V82-A82+1)*24+J82,IF(L82=\"OFFPEAK\",NETWORKDAYS(A82,V82,koszyki!$M$20:$M$898)*9+(N82)*24+J82,IF(L82=\"L-PEAK5\",NETWORKDAYS(A82,V82,koszyki!$M$20:$M$898)*10,IF(L82=\"H-PEAK5\",NETWORKDAYS(A82,V82,koszyki!$M$20:$M$898)*5,NETWORKDAYS(A82,V82,koszyki!$M$20:$M$898)*15))))/C82,1)","v":1},null,null,null,null,null,null,null,null,null,null,null,null,"2025-01-31","2025-01-30","2025-01-29","2025-01-28",null,{"$f":"NETWORKDAYS(AJ82,AJ82,koszyki!$M$20:$M$89)","v":1},{"$f":"NETWORKDAYS(AK82,AK82,koszyki!$M$20:$M$89)","v":1},{"$f":"NETWORKDAYS(AL82,AL82,koszyki!$M$20:$M$89)","v":1},{"$f":"NETWORKDAYS(AM82,AM82,koszyki!$M$20:$M$89)","v":1},null,1,2,3,4,null,0,null,null,"2025-01-06","2025-01-07","2025-01-08","2025-01-09",null,{"$f":"NETWORKDAYS(BB82,BB82,koszyki!$M$20:$M$89)","v":1},{"$f":"NETWORKDAYS(BC82,BC82,koszyki!$M$20:$M$89)","v":1},{"$f":"NETWORKDAYS(BD82,BD82,koszyki!$M$20:$M$89)","v":1},{"$f":"NETWORKDAYS(BE82,BE82,koszyki!$M$20:$M$89)","v":1},null,1,2,3,4,null,0]
["2025-02-01","2025-02-28",372,{"$f":"'Kalkulator Depozytów'!M88","v":0},{"$f":"'Kalkulator Depozytów'!N88","v":0},{"$f":"'Kalkulator Depozytów'!O88","v":0},{"$f":"'Kalkulator Depozytów'!P88","v":0},{"$f":"'Kalkulator Depozytów'!Q88","v":0},{"$f":"ROUND(IF(OR(AND(K83>0,L83=\"L-PEAK5\"),AND(K83>0,L83=\"H-PEAK5\")),R83,IF(AND(K83>0,L83=\"PEAK5\"),O83,IF(K83>0,IF(OR(L83=\"BASE\"),AVERAGE(INDIRECT(\"krzywa!B\"&MATCH(A83-$A$2,krzywa!A:A,0)&\":B\"&MATCH(B83-$A$2,krzywa!A:A,0),TRUE)),IF(OR(L83=\"OFFPEAK\"),AVERAGE(INDIRECT(\"krzywa!F\"&MATCH(A83-$A$2,krzywa!A:A,0)&\":F\"&MATCH(B83-$A$2,krzywa!A:A,0)))))))),4)","v":{"$error":"#N/A"}},0,45716,"OFFPEAK",{"$f":"NETWORKDAYS(A83,B83,koszyki!$M$20:$M$898)","v":20},{"$f":"B83-A83+1- NETWORKDAYS(A83,B83,koszyki!$M$20:$M$898)","v":8},{"$f":"ROUND(IF((B83-A83+1)>2,IF(C83=75,AVERAGE(INDIRECT(\"krzywa!C\"&MATCH(K83-6,krzywa!A:A,0)&\":C\"&MATCH(K83-2,krzywa!A:A,0))),AVERAGE(INDIRECT(\"krzywa!C\"&MATCH(A83-$A$2+BQ83,krzywa!A:A,0)&\":C\"&MATCH(B83-$A$2-AY83,krzywa!A:A,0)))),INDIRECT(\"krzywa!C\"&MATCH(K83,krzywa!A:A,0))),4)","v":{"$error":"#N/A"}},0,{"$f":"-C83*ABS(D83-F83)*H83*I83*U83+'kompensacja międzyproduktowa'!X83*U83","v":{"$error":"#N/A"}},{"$f":"ROUND(IF((B83-A83+1)>2,IF(C83=75,AVERAGE(INDIRECT(\"krzywa!D\"&MATCH(K83-6,krzywa!A:A,0)&\":D\"&MATCH(K83-2,krzywa!A:A,0))),AVERAGE(INDIRECT(\"krzywa!D\"&MATCH(A83-$A$2+BQ83,krzywa!A:A,0)&\":D\"&MATCH(B83-$A$2-AY83,krzywa!A:A,0)))),INDIRECT(\"krzywa!D\"&MATCH(K83,krzywa!A:A,0))),4)","v":{"$error":"#N/A"}},{"$f":"VLOOKUP(A83,krzywa!L:N,3,1)","v":0},{"$f":"VLOOKUP(B83,krzywa!L:N,3,1)","v":0},{"$f":"IF('Kalkulator Depozytów'!$B$35=TRUE,1,(1+S83/100)*W83+(1+T83/100)*(1-W83))","v":1},{"$f":"IF(S83<>T83,VLOOKUP(A83,krzywa!L:M,2,1))","v":false},{"$f":"IF(V83<>FALSE,IF(L83=\"BASE\",(V83-A83+1)*24+J83,IF(L83=\"OFFPEAK\",NETWORKDAYS(A83,V83,koszyki!$M$20:$M$898)*9+(N83)*24+J83,IF(L83=\"L-PEAK5\",NETWORKDAYS(A83,V83,koszyki!$M$20:$M$898)*10,IF(L83=\"H-PEAK5\",NETWORKDAYS(A83,V83,koszyki!$M$20:$M$898)*5,NETWORKDAYS(A83,V83,koszyki!$M$20:$M$898)*15))))/C83,1)","v":1},null,null,null,null,null,null,null,null,null,null,null,null,"2025-02-28","2025-02-27","2025-02-26","2025-02-25",null,{"$f":"NETWORKDAYS(AJ83,AJ83,koszyki!$M$20:$M$89)","v":1},{"$f":"NETWORKDAYS(AK83,AK83,koszyki!$M$20:$M$89)","v":1},{"$f":"NETWORKDAYS(AL83,AL83,koszyki!$M$20:$M$89)","v":1},{"$f":"NETWORKDAYS(AM83,AM83,koszyki!$M$20:$M$89)","v":1},null,1,2,3,4,null,0,null,null,"2025-02-01","2025-02-02","2025-02-03","2025-02-04",null,{"$f":"NETWORKDAYS(BB83,BB83,koszyki!$M$20:$M$89)","v":0},{"$f":"NETWORKDAYS(BC83,BC83,koszyki!$M$20:$M$89)","v":0},{"$f":"NETWORKDAYS(BD83,BD83,koszyki!$M$20:$M$89)","v":1},{"$f":"NETWORKDAYS(BE83,BE83,koszyki!$M$20:$M$89)","v":1},null,0,0,1,2,null,2]
["2025-03-01","2025-03-31",428,{"$f":"'Kalkulator Depozytów'!M89","v":0},{"$f":"'Kalkulator Depozytów'!N89","v":0},{"$f":"'Kalkulator Depozytów'!O89","v":0},{"$f":"'Kalkulator Depozytów'!P89","v":0},{"$f":"'Kalkulator Depozytów'!Q89","v":0},{"$f":"ROUND(IF(OR(AND(K84>0,L84=\"L-PEAK5\"),AND(K84>0,L84=\"H-PEAK5\")),R84,IF(AND(K84>0,L84=\"PEAK5\"),O84,IF(K84>0,IF(OR(L84=\"BASE\"),AVERAGE(INDIRECT(\"krzywa!B\"&MATCH(A84-$A$2,krzywa!A:A,0)&\":B\"&MATCH(B84-$A$2,krzywa!A:A,0),TRUE)),IF(OR(L84=\"OFFPEAK\"),AVERAGE(INDIRECT(\"krzywa!F\"&MATCH(A84-$A$2,krzywa!A:A,0)&\":F\"&MATCH(B84-$A$2,krzywa!A:A,0)))))))),4)","v":{"$error":"#N/A"}},-1,45747,"OFFPEAK",{"$f":"NETWORKDAYS(A84,B84,koszyki!$M$20:$M$898)","v":21},{"$f":"B84-A84+1- NETWORKDAYS(A84,B84,koszyki!$M$20:$M$898)","v":10},{"$f":"ROUND(IF((B84-A84+1)>2,IF(C84=75,AVERAGE(INDIRECT(\"krzywa!C\"&MATCH(K84-6,krzywa!A:A,0)&\":C\"&MATCH(K84-2,krzywa!A:A,0))),AVERAGE(INDIRECT(\"krzywa!C\"&MATCH(A84-$A$2+BQ84,krzywa!A:A,0)&\":C\"&MATCH(B84-$A$2-AY84,krzywa!A:A,0)))),INDIRECT(\"krzywa!C\"&MATCH(K84,krzywa!A:A,0))),4)","v":{"$error":"#N/A"}},0,{"$f":"-C84*ABS(D84-F84)*H84*I84*U84+'kompensacja międzyproduktowa'!X84*U84","v":{"$error":"#N/A"}},{"$f":"ROUND(IF((B84-A84+1)>2,IF(C84=75,AVERAGE(INDIRECT(\"krzywa!D\"&MATCH(K84-6,krzywa!A:A,0)&\":D\"&MATCH(K84-2,krzywa!A:A,0))),AVERAGE(INDIRECT(\"krzywa!D\"&MATCH(A84-$A$2+BQ84,krzywa!A:A,0)&\":D\"&MATCH(B84-$A$2-AY84,krzywa!A:A,0)))),INDIRECT(\"krzywa!D\"&MATCH(K84,krzywa!A:A,0))),4)","v":{"$error":"#N/A"}},{"$f":"VLOOKUP(A84,krzywa!L:N,3,1)","v":0},{"$f":"VLOOKUP(B84,krzywa!L:N,3,1)","v":0},{"$f":"IF('Kalkulator Depozytów'!$B$35=TRUE,1,(1+S84/100)*W84+(1+T84/100)*(1-W84))","v":1},{"$f":"IF(S84<>T84,VLOOKUP(A84,krzywa!L:M,2,1))","v":false},{"$f":"IF(V84<>FALSE,IF(L84=\"BASE\",(V84-A84+1)*24+J84,IF(L84=\"OFFPEAK\",NETWORKDAYS(A84,V84,koszyki!$M$20:$M$898)*9+(N84)*24+J84,IF(L84=\"L-PEAK5\",NETWORKDAYS(A84,V84,koszyki!$M$20:$M$898)*10,IF(L84=\"H-PEAK5\",NETWORKDAYS(A84,V84,koszyki!$M$20:$M$898)*5,NETWORKDAYS(A84,V84,koszyki!$M$20:$M$898)*15))))/C84,1)","v":1},null,null,null,null,null,null,null,null,null,null,null,null,"2025-03-31","2025-03-30","2025-03-29","2025-03-28",null,{"$f":"NETWORKDAYS(AJ84,AJ84,koszyki!$M$20:$M$89)","v":1},{"$f":"NETWORKDAYS(AK84,AK84,koszyki!$M$20:$M$89)","v":0},{"$f":"NETWORKDAYS(AL84,AL84,koszyki!$M$20:$M$89)","v":0},{"$f":"NETWORKDAYS(AM84,AM84,koszyki!$M$20:$M$89)","v":1},null,1,1,1,2,null,0,null,null,"2025-03-01","2025-03-02","2025-03-03","2025-03-04",null,{"$f":"NETWORKDAYS(BB84,BB84,koszyki!$M$20:$M$89)","v":0},{"$f":"NETWORKDAYS(BC84,BC84,koszyki!$M$20:$M$89)","v":0},{"$f":"NETWORKDAYS(BD84,BD84,koszyki!$M$20:$M$89)","v":1},{"$f":"NETWORKDAYS(BE84,BE84,koszyki!$M$20:$M$89)","v":1},null,0,0,1,2,null,2]
["2025-04-01","2025-04-30",405,{"$f":"'Kalkulator Depozytów'!M90","v":0},{"$f":"'Kalkulator Depozytów'!N90","v":0},{"$f":"'Kalkulator Depozytów'!O90","v":0},{"$f":"'Kalkulator Depozytów'!P90","v":0},{"$f":"'Kalkulator Depozytów'!Q90","v":0},{"$f":"ROUND(IF(OR(AND(K85>0,L85=\"L-PEAK5\"),AND(K85>0,L85=\"H-PEAK5\")),R85,IF(AND(K85>0,L85=\"PEAK5\"),O85,IF(K85>0,IF(OR(L85=\"BASE\"),AVERAGE(INDIRECT(\"krzywa!B\"&MATCH(A85-$A$2,krzywa!A:A,0)&\":B\"&MATCH(B85-$A$2,krzywa!A:A,0),TRUE)),IF(OR(L85=\"OFFPEAK\"),AVERAGE(INDIRECT(\"krzywa!F\"&MATCH(A85-$A$2,krzywa!A:A,0)&\":F\"&MATCH(B85-$A$2,krzywa!A:A,0)))))))),4)","v":{"$error":"#N/A"}},0,45777,"OFFPEAK",{"$f":"NETWORKDAYS(A85,B85,koszyki!$M$20:$M$898)","v":21},{"$f":"B85-A85+1- NETWORKDAYS(A85,B85,koszyki!$M$20:$M$898)","v":9},{"$f":"ROUND(IF((B85-A85+1)>2,IF(C85=75,AVERAGE(INDIRECT(\"krzywa!C\"&MATCH(K85-6,krzywa!A:A,0)&\":C\"&MATCH(K85-2,krzywa!A:A,0))),AVERAGE(INDIRECT(\"krzywa!C\"&MATCH(A85-$A$2+BQ85,krzywa!A:A,0)&\":C\"&MATCH(B85-$A$2-AY85,krzywa!A:A,0)))),INDIRECT(\"krzywa!C\"&MATCH(K85,krzywa!A:A,0))),4)","v":{"$error":"#N/A"}},0,{"$f":"-C85*ABS(D85-F85)*H85*I85*U85+'kompensacja międzyproduktowa'!X85*U85","v":{"$error":"#N/A"}},{"$f":"ROUND(IF((B85-A85+1)>2,IF(C85=75,AVERAGE(INDIRECT(\"krzywa!D\"&MATCH(K85-6,krzywa!A:A,0)&\":D\"&MATCH(K85-2,krzywa!A:A,0))),AVERAGE(INDIRECT(\"krzywa!D\"&MATCH(A85-$A$2+BQ85,krzywa!A:A,0)&\":D\"&MATCH(B85-$A$2-AY85,krzywa!A:A,0)))),INDIRECT(\"krzywa!D\"&MATCH(K85,krzywa!A:A,0))),4)","v":{"$error":"#N/A"}},{"$f":"VLOOKUP(A85,krzywa!L:N,3,1)","v":0},{"$f":"VLOOKUP(B85,krzywa!L:N,3,1)","v":0},{"$f":"IF('Kalkulator Depozytów'!$B$35=TRUE,1,(1+S85/100)*W85+(1+T85/100)*(1-W85))","v":1},{"$f":"IF(S85<>T85,VLOOKUP(A85,krzywa!L:M,2,1))","v":false},{"$f":"IF(V85<>FALSE,IF(L85=\"BASE\",(V85-A85+1)*24+J85,IF(L85=\"OFFPEAK\",NETWORKDAYS(A85,V85,koszyki!$M$20:$M$898)*9+(N85)*24+J85,IF(L85=\"L-PEAK5\",NETWORKDAYS(A85,V85,koszyki!$M$20:$M$898)*10,IF(L85=\"H-PEAK5\",NETWORKDAYS(A85,V85,koszyki!$M$20:$M$898)*5,NETWORKDAYS(A85,V85,koszyki!$M$20:$M$898)*15))))/C85,1)","v":1},null,null,null,null,null,null,null,null,null,null,null,null,"2025-04-30","2025-04-29","2025-04-28","2025-04-27",null,{"$f":"NETWORKDAYS(AJ85,AJ85,koszyki!$M$20:$M$89)","v":1},{"$f":"NETWORKDAYS(AK85,AK85,koszyki!$M$20:$M$89)","v":1},{"$f":"NETWORKDAYS(AL85,AL85,koszyki!$M$20:$M$89)","v":1},{"$f":"NETWORKDAYS(AM85,AM85,koszyki!$M$20:$M$89)","v":0},null,1,2,3,3,null,0,null,null,"2025-04-01","2025-04-02","2025-04-03","2025-04-04",null,{"$f":"NETWORKDAYS(BB85,BB85,koszyki!$M$20:$M$89)","v":1},{"$f":"NETWORKDAYS(BC85,BC85,koszyki!$M$20:$M$89)","v":1},{"$f":"NETWORKDAYS(BD85,BD85,koszyki!$M$20:$M$89)","v":1},{"$f":"NETWORKDAYS(BE85,BE85,koszyki!$M$20:$M$89)","v":1},null,1,2,3,4,null,0]
["2025-05-01","2025-05-31",429,{"$f":"'Kalkulator Depozytów'!M91","v":0},{"$f":"'Kalkulator Depozytów'!N91","v":0},{"$f":"'Kalkulator Depozytów'!O91","v":0},{"$f":"'Kalkulator Depozytów'!P91","v":0},{"$f":"'Kalkulator Depozytów'!Q91","v":0},{"$f":"ROUND(IF(OR(AND(K86>0,L86=\"L-PEAK5\"),AND(K86>0,L86=\"H-PEAK5\")),R86,IF(AND(K86>0,L86=\"PEAK5\"),O86,IF(K86>0,IF(OR(L86=\"BASE\"),AVERAGE(INDIRECT(\"krzywa!B\"&MATCH(A86-$A$2,krzywa!A:A,0)&\":B\"&MATCH(B86-$A$2,krzywa!A:A,0),TRUE)),IF(OR(L86=\"OFFPEAK\"),AVERAGE(INDIRECT(\"krzywa!F\"&MATCH(A86-$A$2,krzywa!A:A,0)&\":F\"&MATCH(B86-$A$2,krzywa!A:A,0)))))))),4)","v":{"$error":"#N/A"}},0,45808,"OFFPEAK",{"$f":"NETWORKDAYS(A86,B86,koszyki!$M$20:$M$898)","v":21},{"$f":"B86-A86+1- NETWORKDAYS(A86,B86,koszyki!$M$20:$M$898)","v":10},{"$f":"ROUND(IF((B86-A86+1)>2,IF(C86=75,AVERAGE(INDIRECT(\"krzywa!C\"&MATCH(K86-6,krzywa!A:A,0)&\":C\"&MATCH(K86-2,krzywa!A:A,0))),AVERAGE(INDIRECT(\"krzywa!C\"&MATCH(A86-$A$2+BQ86,krzywa!A:A,0)&\":C\"&MATCH(B86-$A$2-AY86,krzywa!A:A,0)))),INDIRECT(\"krzywa!C\"&MATCH(K86,krzywa!A:A,0))),4)","v":{"$error":"#N/A"}},0,{"$f":"-C86*ABS(D86-F86)*H86*I86*U86+'kompensacja międzyproduktowa'!X86*U86","v":{"$error":"#N/A"}},{"$f":"ROUND(IF((B86-A86+1)>2,IF(C86=75,AVERAGE(INDIRECT(\"krzywa!D\"&MATCH(K86-6,krzywa!A:A,0)&\":D\"&MATCH(K86-2,krzywa!A:A,0))),AVERAGE(INDIRECT(\"krzywa!D\"&MATCH(A86-$A$2+BQ86,krzywa!A:A,0)&\":D\"&MATCH(B86-$A$2-AY86,krzywa!A:A,0)))),INDIRECT(\"krzywa!D\"&MATCH(K86,krzywa!A:A,0))),4)","v":{"$error":"#N/A"}},{"$f":"VLOOKUP(A86,krzywa!L:N,3,1)","v":0},{"$f":"VLOOKUP(B86,krzywa!L:N,3,1)","v":0},{"$f":"IF('Kalkulator Depozytów'!$B$35=TRUE,1,(1+S86/100)*W86+(1+T86/100)*(1-W86))","v":1},{"$f":"IF(S86<>T86,VLOOKUP(A86,krzywa!L:M,2,1))","v":false},{"$f":"IF(V86<>FALSE,IF(L86=\"BASE\",(V86-A86+1)*24+J86,IF(L86=\"OFFPEAK\",NETWORKDAYS(A86,V86,koszyki!$M$20:$M$898)*9+(N86)*24+J86,IF(L86=\"L-PEAK5\",NETWORKDAYS(A86,V86,koszyki!$M$20:$M$898)*10,IF(L86=\"H-PEAK5\",NETWORKDAYS(A86,V86,koszyki!$M$20:$M$898)*5,NETWORKDAYS(A86,V86,koszyki!$M$20:$M$898)*15))))/C86,1)","v":1},null,null,null,null,null,null,null,null,null,null,null,null,"2025-05-31","2025-05-30","2025-05-29","2025-05-28",null,{"$f":"NETWORKDAYS(AJ86,AJ86,koszyki!$M$20:$M$89)","v":0},{"$f":"NETWORKDAYS(AK86,AK86,koszyki!$M$20:$M$89)","v":1},{"$f":"NETWORKDAYS(AL86,AL86,koszyki!$M$20:$M$89)","v":1},{"$f":"NETWORKDAYS(AM86,AM86,koszyki!$M$20:$M$89)","v":1},null,0,1,2,3,null,1,null,null,"2025-05-01","2025-05-02","2025-05-03","2025-05-04",null,{"$f":"NETWORKDAYS(BB86,BB86,koszyki!$M$20:$M$89)","v":1},{"$f":"NETWORKDAYS(BC86,BC86,koszyki!$M$20:$M$89)","v":1},{"$f":"NETWORKDAYS(BD86,BD86,koszyki!$M$20:$M$89)","v":0},{"$f":"NETWORKDAYS(BE86,BE86,koszyki!$M$20:$M$89)","v":0},null,1,2,2,2,null,0]
["2025-06-01","2025-06-30",420,{"$f":"'Kalkulator Depozytów'!M92","v":0},{"$f":"'Kalkulator Depozytów'!N92","v":0},{"$f":"'Kalkulator Depozytów'!O92","v":0},{"$f":"'Kalkulator Depozytów'!P92","v":0},{"$f":"'Kalkulator Depozytów'!Q92","v":0},{"$f":"ROUND(IF(OR(AND(K87>0,L87=\"L-PEAK5\"),AND(K87>0,L87=\"H-PEAK5\")),R87,IF(AND(K87>0,L87=\"PEAK5\"),O87,IF(K87>0,IF(OR(L87=\"BASE\"),AVERAGE(INDIRECT(\"krzywa!B\"&MATCH(A87-$A$2,krzywa!A:A,0)&\":B\"&MATCH(B87-$A$2,krzywa!A:A,0),TRUE)),IF(OR(L87=\"OFFPEAK\"),AVERAGE(INDIRECT(\"krzywa!F\"&MATCH(A87-$A$2,krzywa!A:A,0)&\":F\"&MATCH(B87-$A$2,krzywa!A:A,0)))))))),4)","v":{"$error":"#N/A"}},0,45838,"OFFPEAK",{"$f":"NETWORKDAYS(A87,B87,koszyki!$M$20:$M$898)","v":20},{"$f":"B87-A87+1- NETWORKDAYS(A87,B87,koszyki!$M$20:$M$898)","v":10},{"$f":"ROUND(IF((B87-A87+1)>2,IF(C87=75,AVERAGE(INDIRECT(\"krzywa!C\"&MATCH(K87-6,krzywa!A:A,0)&\":C\"&MATCH(K87-2,krzywa!A:A,0))),AVERAGE(INDIRECT(\"krzywa!C\"&MATCH(A87-$A$2+BQ87,krzywa!A:A,0)&\":C\"&MATCH(B87-$A$2-AY87,krzywa!A:A,0)))),INDIRECT(\"krzywa!C\"&MATCH(K87,krzywa!A:A,0))),4)","v":{"$error":"#N/A"}},0,{"$f":"-C87*ABS(D87-F87)*H87*I87*U87+'kompensacja międzyproduktowa'!X87*U87","v":{"$error":"#N/A"}},{"$f":"ROUND(IF((B87-A87+1)>2,IF(C87=75,AVERAGE(INDIRECT(\"krzywa!D\"&MATCH(K87-6,krzywa!A:A,0)&\":D\"&MATCH(K87-2,krzywa!A:A,0))),AVERAGE(INDIRECT(\"krzywa!D\"&MATCH(A87-$A$2+BQ87,krzywa!A:A,0)&\":D\"&MATCH(B87-$A$2-AY87,krzywa!A:A,0)))),INDIRECT(\"krzywa!D\"&MATCH(K87,krzywa!A:A,0))),4)","v":{"$error":"#N/A"}},{"$f":"VLOOKUP(A87,krzywa!L:N,3,1)","v":0},{"$f":"VLOOKUP(B87,krzywa!L:N,3,1)","v":0},{"$f":"IF('Kalkulator Depozytów'!$B$35=TRUE,1,(1+S87/100)*W87+(1+T87/100)*(1-W87))","v":1},{"$f":"IF(S87<>T87,VLOOKUP(A87,krzywa!L:M,2,1))","v":false},{"$f":"IF(V87<>FALSE,IF(L87=\"BASE\",(V87-A87+1)*24+J87,IF(L87=\"OFFPEAK\",NETWORKDAYS(A87,V87,koszyki!$M$20:$M$898)*9+(N87)*24+J87,IF(L87=\"L-PEAK5\",NETWORKDAYS(A87,V87,koszyki!$M$20:$M$898)*10,IF(L87=\"H-PEAK5\",NETWORKDAYS(A87,V87,koszyki!$M$20:$M$898)*5,NETWORKDAYS(A87,V87,koszyki!$M$20:$M$898)*15))))/C87,1)","v":1},null,null,null,null,null,null,null,null,null,null,null,null,"2025-06-30","2025-06-29","2025-06-28","2025-06-27",null,{"$f":"NETWORKDAYS(AJ87,AJ87,koszyki!$M$20:$M$89)","v":1},{"$f":"NETWORKDAYS(AK87,AK87,koszyki!$M$20:$M$89)","v":0},{"$f":"NETWORKDAYS(AL87,AL87,koszyki!$M$20:$M$89)","v":0},{"$f":"NETWORKDAYS(AM87,AM87,koszyki!$M$20:$M$89)","v":1},null,1,1,1,2,null,0,null,null,"2025-06-01","2025-06-02","2025-06-03","2025-06-04",null,{"$f":"NETWORKDAYS(BB87,BB87,koszyki!$M$20:$M$89)","v":0},{"$f":"NETWORKDAYS(BC87,BC87,koszyki!$M$20:$M$89)","v":1},{"$f":"NETWORKDAYS(BD87,BD87,koszyki!$M$20:$M$89)","v":1},{"$f":"NETWORKDAYS(BE87,BE87,koszyki!$M$20:$M$89)","v":1},null,0,1,2,3,null,1]
["2025-07-01","2025-09-30",1233,{"$f":"'Kalkulator Depozytów'!M93","v":0},{"$f":"'Kalkulator Depozytów'!N93","v":0},{"$f":"'Kalkulator Depozytów'!O93","v":0},{"$f":"'Kalkulator Depozytów'!P93","v":0},{"$f":"'Kalkulator Depozytów'!Q93","v":0},{"$f":"ROUND(IF(OR(AND(K88>0,L88=\"L-PEAK5\"),AND(K88>0,L88=\"H-PEAK5\")),R88,IF(AND(K88>0,L88=\"PEAK5\"),O88,IF(K88>0,IF(OR(L88=\"BASE\"),AVERAGE(INDIRECT(\"krzywa!B\"&MATCH(A88-$A$2,krzywa!A:A,0)&\":B\"&MATCH(B88-$A$2,krzywa!A:A,0),TRUE)),IF(OR(L88=\"OFFPEAK\"),AVERAGE(INDIRECT(\"krzywa!F\"&MATCH(A88-$A$2,krzywa!A:A,0)&\":F\"&MATCH(B88-$A$2,krzywa!A:A,0)))))))),4)","v":{"$error":"#N/A"}},0,45930,"OFFPEAK",{"$f":"NETWORKDAYS(A88,B88,koszyki!$M$20:$M$898)","v":65},{"$f":"B88-A88+1- NETWORKDAYS(A88,B88,koszyki!$M$20:$M$898)","v":27},{"$f":"ROUND(IF((B88-A88+1)>2,IF(C88=75,AVERAGE(INDIRECT(\"krzywa!C\"&MATCH(K88-6,krzywa!A:A,0)&\":C\"&MATCH(K88-2,krzywa!A:A,0))),AVERAGE(INDIRECT(\"krzywa!C\"&MATCH(A88-$A$2+BQ88,krzywa!A:A,0)&\":C\"&MATCH(B88-$A$2-AY88,krzywa!A:A,0)))),INDIRECT(\"krzywa!C\"&MATCH(K88,krzywa!A:A,0))),4)","v":{"$error":"#N/A"}},0,{"$f":"-C88*ABS(D88-F88)*H88*I88*U88+'kompensacja międzyproduktowa'!X88*U88","v":{"$error":"#N/A"}},{"$f":"ROUND(IF((B88-A88+1)>2,IF(C88=75,AVERAGE(INDIRECT(\"krzywa!D\"&MATCH(K88-6,krzywa!A:A,0)&\":D\"&MATCH(K88-2,krzywa!A:A,0))),AVERAGE(INDIRECT(\"krzywa!D\"&MATCH(A88-$A$2+BQ88,krzywa!A:A,0)&\":D\"&MATCH(B88-$A$2-AY88,krzywa!A:A,0)))),INDIRECT(\"krzywa!D\"&MATCH(K88,krzywa!A:A,0))),4)","v":{"$error":"#N/A"}},{"$f":"VLOOKUP(A88,krzywa!L:N,3,1)","v":0},{"$f":"VLOOKUP(B88,krzywa!L:N,3,1)","v":0},{"$f":"IF('Kalkulator Depozytów'!$B$35=TRUE,1,(1+S88/100)*W88+(1+T88/100)*(1-W88))","v":1},{"$f":"IF(S88<>T88,VLOOKUP(A88,krzywa!L:M,2,1))","v":false},{"$f":"IF(V88<>FALSE,IF(L88=\"BASE\",(V88-A88+1)*24+J88,IF(L88=\"OFFPEAK\",NETWORKDAYS(A88,V88,koszyki!$M$20:$M$898)*9+(N88)*24+J88,IF(L88=\"L-PEAK5\",NETWORKDAYS(A88,V88,koszyki!$M$20:$M$898)*10,IF(L88=\"H-PEAK5\",NETWORKDAYS(A88,V88,koszyki!$M$20:$M$898)*5,NETWORKDAYS(A88,V88,koszyki!$M$20:$M$898)*15))))/C88,1)","v":1},null,null,null,null,null,null,null,null,null,null,null,null,"2025-09-30",{"$f":"AJ88-1","v":"2025-09-29"},"2025-09-28","2025-09-27",null,{"$f":"NETWORKDAYS(AJ88,AJ88,koszyki!$M$20:$M$89)","v":1},{"$f":"NETWORKDAYS(AK88,AK88,koszyki!$M$20:$M$89)","v":1},{"$f":"NETWORKDAYS(AL88,AL88,koszyki!$M$20:$M$89)","v":0},{"$f":"NETWORKDAYS(AM88,AM88,koszyki!$M$20:$M$89)","v":0},null,1,2,2,2,null,0,null,null,"2025-07-01","2025-07-02","2025-07-03","2025-07-04",null,{"$f":"NETWORKDAYS(BB88,BB88,koszyki!$M$20:$M$89)","v":1},{"$f":"NETWORKDAYS(BC88,BC88,koszyki!$M$20:$M$89)","v":1},{"$f":"NETWORKDAYS(BD88,BD88,koszyki!$M$20:$M$89)","v":1},{"$f":"NETWORKDAYS(BE88,BE88,koszyki!$M$20:$M$89)","v":1},null,1,2,3,4,null,0]
["2025-10-01","2025-12-31",1264,{"$f":"'Kalkulator Depozytów'!M94","v":0},{"$f":"'Kalkulator Depozytów'!N94","v":0},{"$f":"'Kalkulator Depozytów'!O94","v":0},{"$f":"'Kalkulator Depozytów'!P94","v":0},{"$f":"'Kalkulator Depozytów'!Q94","v":0},{"$f":"ROUND(IF(OR(AND(K89>0,L89=\"L-PEAK5\"),AND(K89>0,L89=\"H-PEAK5\")),R89,IF(AND(K89>0,L89=\"PEAK5\"),O89,IF(K89>0,IF(OR(L89=\"BASE\"),AVERAGE(INDIRECT(\"krzywa!B\"&MATCH(A89-$A$2,krzywa!A:A,0)&\":B\"&MATCH(B89-$A$2,krzywa!A:A,0),TRUE)),IF(OR(L89=\"OFFPEAK\"),AVERAGE(INDIRECT(\"krzywa!F\"&MATCH(A89-$A$2,krzywa!A:A,0)&\":F\"&MATCH(B89-$A$2,krzywa!A:A,0)))))))),4)","v":{"$error":"#N/A"}},1,46022,"OFFPEAK",{"$f":"NETWORKDAYS(A89,B89,koszyki!$M$20:$M$898)","v":63},{"$f":"B89-A89+1- NETWORKDAYS(A89,B89,koszyki!$M$20:$M$898)","v":29},{"$f":"ROUND(IF((B89-A89+1)>2,IF(C89=75,AVERAGE(INDIRECT(\"krzywa!C\"&MATCH(K89-6,krzywa!A:A,0)&\":C\"&MATCH(K89-2,krzywa!A:A,0))),AVERAGE(INDIRECT(\"krzywa!C\"&MATCH(A89-$A$2+BQ89,krzywa!A:A,0)&\":C\"&MATCH(B89-$A$2-AY89,krzywa!A:A,0)))),INDIRECT(\"krzywa!C\"&MATCH(K89,krzywa!A:A,0))),4)","v":{"$error":"#N/A"}},0,{"$f":"-C89*ABS(D89-F89)*H89*I89*U89+'kompensacja międzyproduktowa'!X89*U89","v":{"$error":"#N/A"}},{"$f":"ROUND(IF((B89-A89+1)>2,IF(C89=75,AVERAGE(INDIRECT(\"krzywa!D\"&MATCH(K89-6,krzywa!A:A,0)&\":D\"&MATCH(K89-2,krzywa!A:A,0))),AVERAGE(INDIRECT(\"krzywa!D\"&MATCH(A89-$A$2+BQ89,krzywa!A:A,0)&\":D\"&MATCH(B89-$A$2-AY89,krzywa!A:A,0)))),INDIRECT(\"krzywa!D\"&MATCH(K89,krzywa!A:A,0))),4)","v":{"$error":"#N/A"}},{"$f":"VLOOKUP(A89,krzywa!L:N,3,1)","v":0},{"$f":"VLOOKUP(B89,krzywa!L:N,3,1)","v":0},{"$f":"IF('Kalkulator Depozytów'!$B$35=TRUE,1,(1+S89/100)*W89+(1+T89/100)*(1-W89))","v":1},{"$f":"IF(S89<>T89,VLOOKUP(A89,krzywa!L:M,2,1))","v":false},{"$f":"IF(V89<>FALSE,IF(L89=\"BASE\",(V89-A89+1)*24+J89,IF(L89=\"OFFPEAK\",NETWORKDAYS(A89,V89,koszyki!$M$20:$M$898)*9+(N89)*24+J89,IF(L89=\"L-PEAK5\",NETWORKDAYS(A89,V89,koszyki!$M$20:$M$898)*10,IF(L89=\"H-PEAK5\",NETWORKDAYS(A89,V89,koszyki!$M$20:$M$898)*5,NETWORKDAYS(A89,V89,koszyki!$M$20:$M$898)*15))))/C89,1)","v":1}]
["2026-01-01","2026-03-31",1229,{"$f":"'Kalkulator Depozytów'!M95","v":0},{"$f":"'Kalkulator Depozytów'!N95","v":0},{"$f":"'Kalkulator Depozytów'!O95","v":0},{"$f":"'Kalkulator Depozytów'!P95","v":0},{"$f":"'Kalkulator Depozytów'!Q95","v":0},{"$f":"ROUND(IF(OR(AND(K90>0,L90=\"L-PEAK5\"),AND(K90>0,L90=\"H-PEAK5\")),R90,IF(AND(K90>0,L90=\"PEAK5\"),O90,IF(K90>0,IF(OR(L90=\"BASE\"),AVERAGE(INDIRECT(\"krzywa!B\"&MATCH(A90-$A$2,krzywa!A:A,0)&\":B\"&MATCH(B90-$A$2,krzywa!A:A,0),TRUE)),IF(OR(L90=\"OFFPEAK\"),AVERAGE(INDIRECT(\"krzywa!F\"&MATCH(A90-$A$2,krzywa!A:A,0)&\":F\"&MATCH(B90-$A$2,krzywa!A:A,0)))))))),4)","v":{"$error":"#N/A"}},-1,46112,"OFFPEAK",{"$f":"NETWORKDAYS(A90,B90,koszyki!$M$20:$M$898)","v":62},{"$f":"B90-A90+1- NETWORKDAYS(A90,B90,koszyki!$M$20:$M$898)","v":28},{"$f":"ROUND(IF((B90-A90+1)>2,IF(C90=75,AVERAGE(INDIRECT(\"krzywa!C\"&MATCH(K90-6,krzywa!A:A,0)&\":C\"&MATCH(K90-2,krzywa!A:A,0))),AVERAGE(INDIRECT(\"krzywa!C\"&MATCH(A90-$A$2+BQ90,krzywa!A:A,0)&\":C\"&MATCH(B90-$A$2-AY90,krzywa!A:A,0)))),INDIRECT(\"krzywa!C\"&MATCH(K90,krzywa!A:A,0))),4)","v":{"$error":"#N/A"}},0,{"$f":"-C90*ABS(D90-F90)*H90*I90*U90+'kompensacja międzyproduktowa'!X90*U90","v":{"$error":"#N/A"}},{"$f":"ROUND(IF((B90-A90+1)>2,IF(C90=75,AVERAGE(INDIRECT(\"krzywa!D\"&MATCH(K90-6,krzywa!A:A,0)&\":D\"&MATCH(K90-2,krzywa!A:A,0))),AVERAGE(INDIRECT(\"krzywa!D\"&MATCH(A90-$A$2+BQ90,krzywa!A:A,0)&\":D\"&MATCH(B90-$A$2-AY90,krzywa!A:A,0)))),INDIRECT(\"krzywa!D\"&MATCH(K90,krzywa!A:A,0))),4)","v":{"$error":"#N/A"}},{"$f":"VLOOKUP(A90,krzywa!L:N,3,1)","v":0},{"$f":"VLOOKUP(B90,krzywa!L:N,3,1)","v":0},{"$f":"IF('Kalkulator Depozytów'!$B$35=TRUE,1,(1+S90/100)*W90+(1+T90/100)*(1-W90))","v":1},{"$f":"IF(S90<>T90,VLOOKUP(A90,krzywa!L:M,2,1))","v":false},{"$f":"IF(V90<>FALSE,IF(L90=\"BASE\",(V90-A90+1)*24+J90,IF(L90=\"OFFPEAK\",NETWORKDAYS(A90,V90,koszyki!$M$20:$M$898)*9+(N90)*24+J90,IF(L90=\"L-PEAK5\",NETWORKDAYS(A90,V90,koszyki!$M$20:$M$898)*10,IF(L90=\"H-PEAK5\",NETWORKDAYS(A90,V90,koszyki!$M$20:$M$898)*5,NETWORKDAYS(A90,V90,koszyki!$M$20:$M$898)*15))))/C90,1)","v":1}]
["2026-04-01","2026-06-30",1254,{"$f":"'Kalkulator Depozytów'!M96","v":0},{"$f":"'Kalkulator Depozytów'!N96","v":0},{"$f":"'Kalkulator Depozytów'!O96","v":0},{"$f":"'Kalkulator Depozytów'!P96","v":0},{"$f":"'Kalkulator Depozytów'!Q96","v":0},{"$f":"ROUND(IF(OR(AND(K91>0,L91=\"L-PEAK5\"),AND(K91>0,L91=\"H-PEAK5\")),R91,IF(AND(K91>0,L91=\"PEAK5\"),O91,IF(K91>0,IF(OR(L91=\"BASE\"),AVERAGE(INDIRECT(\"krzywa!B\"&MATCH(A91-$A$2,krzywa!A:A,0)&\":B\"&MATCH(B91-$A$2,krzywa!A:A,0),TRUE)),IF(OR(L91=\"OFFPEAK\"),AVERAGE(INDIRECT(\"krzywa!F\"&MATCH(A91-$A$2,krzywa!A:A,0)&\":F\"&MATCH(B91-$A$2,krzywa!A:A,0)))))))),4)","v":{"$error":"#N/A"}},0,46203,"OFFPEAK",{"$f":"NETWORKDAYS(A91,B91,koszyki!$M$20:$M$898)","v":62},{"$f":"B91-A91+1- NETWORKDAYS(A91,B91,koszyki!$M$20:$M$898)","v":29},{"$f":"ROUND(IF((B91-A91+1)>2,IF(C91=75,AVERAGE(INDIRECT(\"krzywa!C\"&MATCH(K91-6,krzywa!A:A,0)&\":C\"&MATCH(K91-2,krzywa!A:A,0))),AVERAGE(INDIRECT(\"krzywa!C\"&MATCH(A91-$A$2+BQ91,krzywa!A:A,0)&\":C\"&MATCH(B91-$A$2-AY91,krzywa!A:A,0)))),INDIRECT(\"krzywa!C\"&MATCH(K91,krzywa!A:A,0))),4)","v":{"$error":"#N/A"}},0,{"$f":"-C91*ABS(D91-F91)*H91*I91*U91+'kompensacja międzyproduktowa'!X91*U91","v":{"$error":"#N/A"}},{"$f":"ROUND(IF((B91-A91+1)>2,IF(C91=75,AVERAGE(INDIRECT(\"krzywa!D\"&MATCH(K91-6,krzywa!A:A,0)&\":D\"&MATCH(K91-2,krzywa!A:A,0))),AVERAGE(INDIRECT(\"krzywa!D\"&MATCH(A91-$A$2+BQ91,krzywa!A:A,0)&\":D\"&MATCH(B91-$A$2-AY91,krzywa!A:A,0)))),INDIRECT(\"krzywa!D\"&MATCH(K91,krzywa!A:A,0))),4)","v":{"$error":"#N/A"}},{"$f":"VLOOKUP(A91,krzywa!L:N,3,1)","v":0},{"$f":"VLOOKUP(B91,krzywa!L:N,3,1)","v":0},{"$f":"IF('Kalkulator Depozytów'!$B$35=TRUE,1,(1+S91/100)*W91+(1+T91/100)*(1-W91))","v":1},{"$f":"IF(S91<>T91,VLOOKUP(A91,krzywa!L:M,2,1))","v":false},{"$f":"IF(V91<>FALSE,IF(L91=\"BASE\",(V91-A91+1)*24+J91,IF(L91=\"OFFPEAK\",NETWORKDAYS(A91,V91,koszyki!$M$20:$M$898)*9+(N91)*24+J91,IF(L91=\"L-PEAK5\",NETWORKDAYS(A91,V91,koszyki!$M$20:$M$898)*10,IF(L91=\"H-PEAK5\",NETWORKDAYS(A91,V91,koszyki!$M$20:$M$898)*5,NETWORKDAYS(A91,V91,koszyki!$M$20:$M$898)*15))))/C91,1)","v":1}]
["2026-07-01","2026-12-31",2467,{"$f":"'Kalkulator Depozytów'!M97","v":0},{"$f":"'Kalkulator Depozytów'!N97","v":0},{"$f":"'Kalkulator Depozytów'!O97","v":0},{"$f":"'Kalkulator Depozytów'!P97","v":0},{"$f":"'Kalkulator Depozytów'!Q97","v":0},{"$f":"ROUND(IF(OR(AND(K92>0,L92=\"L-PEAK5\"),AND(K92>0,L92=\"H-PEAK5\")),R92,IF(AND(K92>0,L92=\"PEAK5\"),O92,IF(K92>0,IF(OR(L92=\"BASE\"),AVERAGE(INDIRECT(\"krzywa!B\"&MATCH(A92-$A$2,krzywa!A:A,0)&\":B\"&MATCH(B92-$A$2,krzywa!A:A,0),TRUE)),IF(OR(L92=\"OFFPEAK\"),AVERAGE(INDIRECT(\"krzywa!F\"&MATCH(A92-$A$2,krzywa!A:A,0)&\":F\"&MATCH(B92-$A$2,krzywa!A:A,0)))))))),4)","v":{"$error":"#N/A"}},1,46387,"OFFPEAK",{"$f":"NETWORKDAYS(A92,B92,koszyki!$M$20:$M$898)","v":130},{"$f":"B92-A92+1- NETWORKDAYS(A92,B92,koszyki!$M$20:$M$898)","v":54},{"$f":"ROUND(IF((B92-A92+1)>2,IF(C92=75,AVERAGE(INDIRECT(\"krzywa!C\"&MATCH(K92-6,krzywa!A:A,0)&\":C\"&MATCH(K92-2,krzywa!A:A,0))),AVERAGE(INDIRECT(\"krzywa!C\"&MATCH(A92-$A$2+BQ92,krzywa!A:A,0)&\":C\"&MATCH(B92-$A$2-AY92,krzywa!A:A,0)))),INDIRECT(\"krzywa!C\"&MATCH(K92,krzywa!A:A,0))),4)","v":{"$error":"#N/A"}},0,{"$f":"-C92*ABS(D92-F92)*H92*I92*U92+'kompensacja międzyproduktowa'!X92*U92","v":{"$error":"#N/A"}},{"$f":"ROUND(IF((B92-A92+1)>2,IF(C92=75,AVERAGE(INDIRECT(\"krzywa!D\"&MATCH(K92-6,krzywa!A:A,0)&\":D\"&MATCH(K92-2,krzywa!A:A,0))),AVERAGE(INDIRECT(\"krzywa!D\"&MATCH(A92-$A$2+BQ92,krzywa!A:A,0)&\":D\"&MATCH(B92-$A$2-AY92,krzywa!A:A,0)))),INDIRECT(\"krzywa!D\"&MATCH(K92,krzywa!A:A,0))),4)","v":{"$error":"#N/A"}},{"$f":"VLOOKUP(A92,krzywa!L:N,3,1)","v":0},{"$f":"VLOOKUP(B92,krzywa!L:N,3,1)","v":0},{"$f":"IF('Kalkulator Depozytów'!$B$35=TRUE,1,(1+S92/100)*W92+(1+T92/100)*(1-W92))","v":1},{"$f":"IF(S92<>T92,VLOOKUP(A92,krzywa!L:M,2,1))","v":false},{"$f":"IF(V92<>FALSE,IF(L92=\"BASE\",(V92-A92+1)*24+J92,IF(L92=\"OFFPEAK\",NETWORKDAYS(A92,V92,koszyki!$M$20:$M$898)*9+(N92)*24+J92,IF(L92=\"L-PEAK5\",NETWORKDAYS(A92,V92,koszyki!$M$20:$M$898)*10,IF(L92=\"H-PEAK5\",NETWORKDAYS(A92,V92,koszyki!$M$20:$M$898)*5,NETWORKDAYS(A92,V92,koszyki!$M$20:$M$898)*15))))/C92,1)","v":1}]
["2027-01-01","2027-12-31",4965,{"$f":"'Kalkulator Depozytów'!M98","v":0},{"$f":"'Kalkulator Depozytów'!N98","v":0},{"$f":"'Kalkulator Depozytów'!O98","v":0},{"$f":"'Kalkulator Depozytów'!P98","v":0},{"$f":"'Kalkulator Depozytów'!Q98","v":0},{"$f":"ROUND(IF(OR(AND(K93>0,L93=\"L-PEAK5\"),AND(K93>0,L93=\"H-PEAK5\")),R93,IF(AND(K93>0,L93=\"PEAK5\"),O93,IF(K93>0,IF(OR(L93=\"BASE\"),AVERAGE(INDIRECT(\"krzywa!B\"&MATCH(A93-$A$2,krzywa!A:A,0)&\":B\"&MATCH(B93-$A$2,krzywa!A:A,0),TRUE)),IF(OR(L93=\"OFFPEAK\"),AVERAGE(INDIRECT(\"krzywa!F\"&MATCH(A93-$A$2,krzywa!A:A,0)&\":F\"&MATCH(B93-$A$2,krzywa!A:A,0)))))))),4)","v":{"$error":"#N/A"}},0,46752,"OFFPEAK",{"$f":"NETWORKDAYS(A93,B93,koszyki!$M$20:$M$898)","v":253},{"$f":"B93-A93+1- NETWORKDAYS(A93,B93,koszyki!$M$20:$M$898)","v":112},{"$f":"ROUND(IF((B93-A93+1)>2,IF(C93=75,AVERAGE(INDIRECT(\"krzywa!C\"&MATCH(K93-6,krzywa!A:A,0)&\":C\"&MATCH(K93-2,krzywa!A:A,0))),AVERAGE(INDIRECT(\"krzywa!C\"&MATCH(A93-$A$2+BQ93,krzywa!A:A,0)&\":C\"&MATCH(B93-$A$2-AY93,krzywa!A:A,0)))),INDIRECT(\"krzywa!C\"&MATCH(K93,krzywa!A:A,0))),4)","v":{"$error":"#N/A"}},0,{"$f":"-C93*ABS(D93-F93)*H93*I93*U93+'kompensacja międzyproduktowa'!X93*U93","v":{"$error":"#N/A"}},{"$f":"ROUND(IF((B93-A93+1)>2,IF(C93=75,AVERAGE(INDIRECT(\"krzywa!D\"&MATCH(K93-6,krzywa!A:A,0)&\":D\"&MATCH(K93-2,krzywa!A:A,0))),AVERAGE(INDIRECT(\"krzywa!D\"&MATCH(A93-$A$2+BQ93,krzywa!A:A,0)&\":D\"&MATCH(B93-$A$2-AY93,krzywa!A:A,0)))),INDIRECT(\"krzywa!D\"&MATCH(K93,krzywa!A:A,0))),4)","v":{"$error":"#N/A"}},{"$f":"VLOOKUP(A93,krzywa!L:N,3,1)","v":23},{"$f":"VLOOKUP(B93,krzywa!L:N,3,1)","v":23},{"$f":"IF('Kalkulator Depozytów'!$B$35=TRUE,1,(1+S93/100)*W93+(1+T93/100)*(1-W93))","v":1.23},{"$f":"IF(S93<>T93,VLOOKUP(A93,krzywa!L:M,2,1))","v":false},{"$f":"IF(V93<>FALSE,IF(L93=\"BASE\",(V93-A93+1)*24+J93,IF(L93=\"OFFPEAK\",NETWORKDAYS(A93,V93,koszyki!$M$20:$M$898)*9+(N93)*24+J93,IF(L93=\"L-PEAK5\",NETWORKDAYS(A93,V93,koszyki!$M$20:$M$898)*10,IF(L93=\"H-PEAK5\",NETWORKDAYS(A93,V93,koszyki!$M$20:$M$898)*5,NETWORKDAYS(A93,V93,koszyki!$M$20:$M$898)*15))))/C93,1)","v":1}]
["2028-01-01","2028-12-31",5019,{"$f":"'Kalkulator Depozytów'!M99","v":0},{"$f":"'Kalkulator Depozytów'!N99","v":0},{"$f":"'Kalkulator Depozytów'!O99","v":0},{"$f":"'Kalkulator Depozytów'!P99","v":0},{"$f":"'Kalkulator Depozytów'!Q99","v":0},{"$f":"ROUND(IF(OR(AND(K94>0,L94=\"L-PEAK5\"),AND(K94>0,L94=\"H-PEAK5\")),R94,IF(AND(K94>0,L94=\"PEAK5\"),O94,IF(K94>0,IF(OR(L94=\"BASE\"),AVERAGE(INDIRECT(\"krzywa!B\"&MATCH(A94-$A$2,krzywa!A:A,0)&\":B\"&MATCH(B94-$A$2,krzywa!A:A,0),TRUE)),IF(OR(L94=\"OFFPEAK\"),AVERAGE(INDIRECT(\"krzywa!F\"&MATCH(A94-$A$2,krzywa!A:A,0)&\":F\"&MATCH(B94-$A$2,krzywa!A:A,0)))))))),4)","v":{"$error":"#N/A"}},0,47118,"OFFPEAK",{"$f":"NETWORKDAYS(A94,B94,koszyki!$M$20:$M$898)","v":251},{"$f":"B94-A94+1- NETWORKDAYS(A94,B94,koszyki!$M$20:$M$898)","v":115},{"$f":"ROUND(IF((B94-A94+1)>2,IF(C94=75,AVERAGE(INDIRECT(\"krzywa!C\"&MATCH(K94-6,krzywa!A:A,0)&\":C\"&MATCH(K94-2,krzywa!A:A,0))),AVERAGE(INDIRECT(\"krzywa!C\"&MATCH(A94-$A$2+BQ94,krzywa!A:A,0)&\":C\"&MATCH(B94-$A$2-AY94,krzywa!A:A,0)))),INDIRECT(\"krzywa!C\"&MATCH(K94,krzywa!A:A,0))),4)","v":{"$error":"#N/A"}},0,{"$f":"-C94*ABS(D94-F94)*H94*I94*U94+'kompensacja międzyproduktowa'!X94*U94","v":{"$error":"#N/A"}},{"$f":"ROUND(IF((B94-A94+1)>2,IF(C94=75,AVERAGE(INDIRECT(\"krzywa!D\"&MATCH(K94-6,krzywa!A:A,0)&\":D\"&MATCH(K94-2,krzywa!A:A,0))),AVERAGE(INDIRECT(\"krzywa!D\"&MATCH(A94-$A$2+BQ94,krzywa!A:A,0)&\":D\"&MATCH(B94-$A$2-AY94,krzywa!A:A,0)))),INDIRECT(\"krzywa!D\"&MATCH(K94,krzywa!A:A,0))),4)","v":{"$error":"#N/A"}},{"$f":"VLOOKUP(A94,krzywa!L:N,3,1)","v":23},{"$f":"VLOOKUP(B94,krzywa!L:N,3,1)","v":23},{"$f":"IF('Kalkulator Depozytów'!$B$35=TRUE,1,(1+S94/100)*W94+(1+T94/100)*(1-W94))","v":1.23},{"$f":"IF(S94<>T94,VLOOKUP(A94,krzywa!L:M,2,1))","v":false},{"$f":"IF(V94<>FALSE,IF(L94=\"BASE\",(V94-A94+1)*24+J94,IF(L94=\"OFFPEAK\",NETWORKDAYS(A94,V94,koszyki!$M$20:$M$898)*9+(N94)*24+J94,IF(L94=\"L-PEAK5\",NETWORKDAYS(A94,V94,koszyki!$M$20:$M$898)*10,IF(L94=\"H-PEAK5\",NETWORKDAYS(A94,V94,koszyki!$M$20:$M$898)*5,NETWORKDAYS(A94,V94,koszyki!$M$20:$M$898)*15))))/C94,1)","v":1}]
["2024-11-28","2024-11-28",10,{"$f":"'Kalkulator Depozytów'!M100","v":0},{"$f":"'Kalkulator Depozytów'!N100","v":0},{"$f":"'Kalkulator Depozytów'!O100","v":0},{"$f":"'Kalkulator Depozytów'!P100","v":0},{"$f":"'Kalkulator Depozytów'!Q100","v":0},{"$f":"ROUND(IF(OR(AND(K95>0,L95=\"L-PEAK5\"),AND(K95>0,L95=\"H-PEAK5\")),R95,IF(AND(K95>0,L95=\"PEAK5\"),O95,IF(K95>0,IF(OR(L95=\"BASE\"),AVERAGE(INDIRECT(\"krzywa!B\"&MATCH(A95-$A$2,krzywa!A:A,0)&\":B\"&MATCH(B95-$A$2,krzywa!A:A,0),TRUE)),IF(OR(L95=\"OFFPEAK\"),AVERAGE(INDIRECT(\"krzywa!F\"&MATCH(A95-$A$2,krzywa!A:A,0)&\":F\"&MATCH(B95-$A$2,krzywa!A:A,0)))))))),4)","v":{"$error":"#N/A"}},null,45624,"L-PEAK5",{"$f":"NETWORKDAYS(A95,B95,koszyki!$M$20:$M$898)","v":1},{"$f":"B95-A95+1- NETWORKDAYS(A95,B95,koszyki!$M$20:$M$898)","v":0},{"$f":"ROUND(IF((B95-A95+1)>2,IF(C95=75,AVERAGE(INDIRECT(\"krzywa!C\"&MATCH(K95-6,krzywa!A:A,0)&\":C\"&MATCH(K95-2,krzywa!A:A,0))),AVERAGE(INDIRECT(\"krzywa!C\"&MATCH(A95-$A$2+BQ95,krzywa!A:A,0)&\":C\"&MATCH(B95-$A$2-AY95,krzywa!A:A,0)))),INDIRECT(\"krzywa!C\"&MATCH(K95,krzywa!A:A,0))),4)","v":{"$error":"#N/A"}},0,{"$f":"-C95*ABS(D95-F95)*H95*I95*U95+'kompensacja międzyproduktowa'!X95*U95","v":{"$error":"#N/A"}},{"$f":"ROUND(IF((B95-A95+1)>2,IF(C95=75,AVERAGE(INDIRECT(\"krzywa!D\"&MATCH(K95-6,krzywa!A:A,0)&\":D\"&MATCH(K95-2,krzywa!A:A,0))),AVERAGE(INDIRECT(\"krzywa!D\"&MATCH(A95-$A$2+BQ95,krzywa!A:A,0)&\":D\"&MATCH(B95-$A$2-AY95,krzywa!A:A,0)))),INDIRECT(\"krzywa!D\"&MATCH(K95,krzywa!A:A,0))),4)","v":{"$error":"#N/A"}},{"$f":"VLOOKUP(A95,krzywa!L:N,3,1)","v":0},{"$f":"VLOOKUP(B95,krzywa!L:N,3,1)","v":0},{"$f":"IF('Kalkulator Depozytów'!$B$35=TRUE,1,(1+S95/100)*W95+(1+T95/100)*(1-W95))","v":1},{"$f":"IF(S95<>T95,VLOOKUP(A95,krzywa!L:M,2,1))","v":false},{"$f":"IF(V95<>FALSE,IF(L95=\"BASE\",(V95-A95+1)*24+J95,IF(L95=\"OFFPEAK\",NETWORKDAYS(A95,V95,koszyki!$M$20:$M$898)*9+(N95)*24+J95,IF(L95=\"L-PEAK5\",NETWORKDAYS(A95,V95,koszyki!$M$20:$M$898)*10,IF(L95=\"H-PEAK5\",NETWORKDAYS(A95,V95,koszyki!$M$20:$M$898)*5,NETWORKDAYS(A95,V95,koszyki!$M$20:$M$898)*15))))/C95,1)","v":1}]
["2024-11-29","2024-11-29",10,{"$f":"'Kalkulator Depozytów'!M101","v":0},{"$f":"'Kalkulator Depozytów'!N101","v":0},{"$f":"'Kalkulator Depozytów'!O101","v":0},{"$f":"'Kalkulator Depozytów'!P101","v":0},{"$f":"'Kalkulator Depozytów'!Q101","v":0},{"$f":"ROUND(IF(OR(AND(K96>0,L96=\"L-PEAK5\"),AND(K96>0,L96=\"H-PEAK5\")),R96,IF(AND(K96>0,L96=\"PEAK5\"),O96,IF(K96>0,IF(OR(L96=\"BASE\"),AVERAGE(INDIRECT(\"krzywa!B\"&MATCH(A96-$A$2,krzywa!A:A,0)&\":B\"&MATCH(B96-$A$2,krzywa!A:A,0),TRUE)),IF(OR(L96=\"OFFPEAK\"),AVERAGE(INDIRECT(\"krzywa!F\"&MATCH(A96-$A$2,krzywa!A:A,0)&\":F\"&MATCH(B96-$A$2,krzywa!A:A,0)))))))),4)","v":{"$error":"#N/A"}},null,45625,"L-PEAK5",{"$f":"NETWORKDAYS(A96,B96,koszyki!$M$20:$M$898)","v":1},{"$f":"B96-A96+1- NETWORKDAYS(A96,B96,koszyki!$M$20:$M$898)","v":0},{"$f":"ROUND(IF((B96-A96+1)>2,IF(C96=75,AVERAGE(INDIRECT(\"krzywa!C\"&MATCH(K96-6,krzywa!A:A,0)&\":C\"&MATCH(K96-2,krzywa!A:A,0))),AVERAGE(INDIRECT(\"krzywa!C\"&MATCH(A96-$A$2+BQ96,krzywa!A:A,0)&\":C\"&MATCH(B96-$A$2-AY96,krzywa!A:A,0)))),INDIRECT(\"krzywa!C\"&MATCH(K96,krzywa!A:A,0))),4)","v":{"$error":"#N/A"}},0,{"$f":"-C96*ABS(D96-F96)*H96*I96*U96+'kompensacja międzyproduktowa'!X96*U96","v":{"$error":"#N/A"}},{"$f":"ROUND(IF((B96-A96+1)>2,IF(C96=75,AVERAGE(INDIRECT(\"krzywa!D\"&MATCH(K96-6,krzywa!A:A,0)&\":D\"&MATCH(K96-2,krzywa!A:A,0))),AVERAGE(INDIRECT(\"krzywa!D\"&MATCH(A96-$A$2+BQ96,krzywa!A:A,0)&\":D\"&MATCH(B96-$A$2-AY96,krzywa!A:A,0)))),INDIRECT(\"krzywa!D\"&MATCH(K96,krzywa!A:A,0))),4)","v":{"$error":"#N/A"}},{"$f":"VLOOKUP(A96,krzywa!L:N,3,1)","v":0},{"$f":"VLOOKUP(B96,krzywa!L:N,3,1)","v":0},{"$f":"IF('Kalkulator Depozytów'!$B$35=TRUE,1,(1+S96/100)*W96+(1+T96/100)*(1-W96))","v":1},{"$f":"IF(S96<>T96,VLOOKUP(A96,krzywa!L:M,2,1))","v":false},{"$f":"IF(V96<>FALSE,IF(L96=\"BASE\",(V96-A96+1)*24+J96,IF(L96=\"OFFPEAK\",NETWORKDAYS(A96,V96,koszyki!$M$20:$M$898)*9+(N96)*24+J96,IF(L96=\"L-PEAK5\",NETWORKDAYS(A96,V96,koszyki!$M$20:$M$898)*10,IF(L96=\"H-PEAK5\",NETWORKDAYS(A96,V96,koszyki!$M$20:$M$898)*5,NETWORKDAYS(A96,V96,koszyki!$M$20:$M$898)*15))))/C96,1)","v":1}]
["2024-11-30","2024-11-30",0,{"$f":"'Kalkulator Depozytów'!M102","v":0},{"$f":"'Kalkulator Depozytów'!N102","v":0},{"$f":"'Kalkulator Depozytów'!O102","v":0},{"$f":"'Kalkulator Depozytów'!P102","v":0},{"$f":"'Kalkulator Depozytów'!Q102","v":0},{"$f":"ROUND(IF(OR(AND(K97>0,L97=\"L-PEAK5\"),AND(K97>0,L97=\"H-PEAK5\")),R97,IF(AND(K97>0,L97=\"PEAK5\"),O97,IF(K97>0,IF(OR(L97=\"BASE\"),AVERAGE(INDIRECT(\"krzywa!B\"&MATCH(A97-$A$2,krzywa!A:A,0)&\":B\"&MATCH(B97-$A$2,krzywa!A:A,0),TRUE)),IF(OR(L97=\"OFFPEAK\"),AVERAGE(INDIRECT(\"krzywa!F\"&MATCH(A97-$A$2,krzywa!A:A,0)&\":F\"&MATCH(B97-$A$2,krzywa!A:A,0)))))))),4)","v":{"$error":"#N/A"}},null,45626,"L-PEAK5",{"$f":"NETWORKDAYS(A97,B97,koszyki!$M$20:$M$898)","v":0},{"$f":"B97-A97+1- NETWORKDAYS(A97,B97,koszyki!$M$20:$M$898)","v":1},{"$f":"ROUND(IF((B97-A97+1)>2,IF(C97=75,AVERAGE(INDIRECT(\"krzywa!C\"&MATCH(K97-6,krzywa!A:A,0)&\":C\"&MATCH(K97-2,krzywa!A:A,0))),AVERAGE(INDIRECT(\"krzywa!C\"&MATCH(A97-$A$2+BQ97,krzywa!A:A,0)&\":C\"&MATCH(B97-$A$2-AY97,krzywa!A:A,0)))),INDIRECT(\"krzywa!C\"&MATCH(K97,krzywa!A:A,0))),4)","v":{"$error":"#N/A"}},0,{"$f":"-C97*ABS(D97-F97)*H97*I97*U97+'kompensacja międzyproduktowa'!X97*U97","v":{"$error":"#N/A"}},{"$f":"ROUND(IF((B97-A97+1)>2,IF(C97=75,AVERAGE(INDIRECT(\"krzywa!D\"&MATCH(K97-6,krzywa!A:A,0)&\":D\"&MATCH(K97-2,krzywa!A:A,0))),AVERAGE(INDIRECT(\"krzywa!D\"&MATCH(A97-$A$2+BQ97,krzywa!A:A,0)&\":D\"&MATCH(B97-$A$2-AY97,krzywa!A:A,0)))),INDIRECT(\"krzywa!D\"&MATCH(K97,krzywa!A:A,0))),4)","v":{"$error":"#N/A"}},{"$f":"VLOOKUP(A97,krzywa!L:N,3,1)","v":0},{"$f":"VLOOKUP(B97,krzywa!L:N,3,1)","v":0},{"$f":"IF('Kalkulator Depozytów'!$B$35=TRUE,1,(1+S97/100)*W97+(1+T97/100)*(1-W97))","v":1},{"$f":"IF(S97<>T97,VLOOKUP(A97,krzywa!L:M,2,1))","v":false},{"$f":"IF(V97<>FALSE,IF(L97=\"BASE\",(V97-A97+1)*24+J97,IF(L97=\"OFFPEAK\",NETWORKDAYS(A97,V97,koszyki!$M$20:$M$898)*9+(N97)*24+J97,IF(L97=\"L-PEAK5\",NETWORKDAYS(A97,V97,koszyki!$M$20:$M$898)*10,IF(L97=\"H-PEAK5\",NETWORKDAYS(A97,V97,koszyki!$M$20:$M$898)*5,NETWORKDAYS(A97,V97,koszyki!$M$20:$M$898)*15))))/C97,1)","v":1}]
["2024-12-01","2024-12-01",0,{"$f":"'Kalkulator Depozytów'!M103","v":0},{"$f":"'Kalkulator Depozytów'!N103","v":0},{"$f":"'Kalkulator Depozytów'!O103","v":0},{"$f":"'Kalkulator Depozytów'!P103","v":0},{"$f":"'Kalkulator Depozytów'!Q103","v":0},{"$f":"ROUND(IF(OR(AND(K98>0,L98=\"L-PEAK5\"),AND(K98>0,L98=\"H-PEAK5\")),R98,IF(AND(K98>0,L98=\"PEAK5\"),O98,IF(K98>0,IF(OR(L98=\"BASE\"),AVERAGE(INDIRECT(\"krzywa!B\"&MATCH(A98-$A$2,krzywa!A:A,0)&\":B\"&MATCH(B98-$A$2,krzywa!A:A,0),TRUE)),IF(OR(L98=\"OFFPEAK\"),AVERAGE(INDIRECT(\"krzywa!F\"&MATCH(A98-$A$2,krzywa!A:A,0)&\":F\"&MATCH(B98-$A$2,krzywa!A:A,0)))))))),4)","v":{"$error":"#N/A"}},null,45627,"L-PEAK5",{"$f":"NETWORKDAYS(A98,B98,koszyki!$M$20:$M$898)","v":0},{"$f":"B98-A98+1- NETWORKDAYS(A98,B98,koszyki!$M$20:$M$898)","v":1},{"$f":"ROUND(IF((B98-A98+1)>2,IF(C98=75,AVERAGE(INDIRECT(\"krzywa!C\"&MATCH(K98-6,krzywa!A:A,0)&\":C\"&MATCH(K98-2,krzywa!A:A,0))),AVERAGE(INDIRECT(\"krzywa!C\"&MATCH(A98-$A$2+BQ98,krzywa!A:A,0)&\":C\"&MATCH(B98-$A$2-AY98,krzywa!A:A,0)))),INDIRECT(\"krzywa!C\"&MATCH(K98,krzywa!A:A,0))),4)","v":{"$error":"#N/A"}},0,{"$f":"-C98*ABS(D98-F98)*H98*I98*U98+'kompensacja międzyproduktowa'!X98*U98","v":{"$error":"#N/A"}},{"$f":"ROUND(IF((B98-A98+1)>2,IF(C98=75,AVERAGE(INDIRECT(\"krzywa!D\"&MATCH(K98-6,krzywa!A:A,0)&\":D\"&MATCH(K98-2,krzywa!A:A,0))),AVERAGE(INDIRECT(\"krzywa!D\"&MATCH(A98-$A$2+BQ98,krzywa!A:A,0)&\":D\"&MATCH(B98-$A$2-AY98,krzywa!A:A,0)))),INDIRECT(\"krzywa!D\"&MATCH(K98,krzywa!A:A,0))),4)","v":{"$error":"#N/A"}},{"$f":"VLOOKUP(A98,krzywa!L:N,3,1)","v":0},{"$f":"VLOOKUP(B98,krzywa!L:N,3,1)","v":0},{"$f":"IF('Kalkulator Depozytów'!$B$35=TRUE,1,(1+S98/100)*W98+(1+T98/100)*(1-W98))","v":1},{"$f":"IF(S98<>T98,VLOOKUP(A98,krzywa!L:M,2,1))","v":false},{"$f":"IF(V98<>FALSE,IF(L98=\"BASE\",(V98-A98+1)*24+J98,IF(L98=\"OFFPEAK\",NETWORKDAYS(A98,V98,koszyki!$M$20:$M$898)*9+(N98)*24+J98,IF(L98=\"L-PEAK5\",NETWORKDAYS(A98,V98,koszyki!$M$20:$M$898)*10,IF(L98=\"H-PEAK5\",NETWORKDAYS(A98,V98,koszyki!$M$20:$M$898)*5,NETWORKDAYS(A98,V98,koszyki!$M$20:$M$898)*15))))/C98,1)","v":1}]
["2024-12-02","2024-12-02",10,{"$f":"'Kalkulator Depozytów'!M104","v":0},{"$f":"'Kalkulator Depozytów'!N104","v":0},{"$f":"'Kalkulator Depozytów'!O104","v":0},{"$f":"'Kalkulator Depozytów'!P104","v":0},{"$f":"'Kalkulator Depozytów'!Q104","v":0},{"$f":"ROUND(IF(OR(AND(K99>0,L99=\"L-PEAK5\"),AND(K99>0,L99=\"H-PEAK5\")),R99,IF(AND(K99>0,L99=\"PEAK5\"),O99,IF(K99>0,IF(OR(L99=\"BASE\"),AVERAGE(INDIRECT(\"krzywa!B\"&MATCH(A99-$A$2,krzywa!A:A,0)&\":B\"&MATCH(B99-$A$2,krzywa!A:A,0),TRUE)),IF(OR(L99=\"OFFPEAK\"),AVERAGE(INDIRECT(\"krzywa!F\"&MATCH(A99-$A$2,krzywa!A:A,0)&\":F\"&MATCH(B99-$A$2,krzywa!A:A,0)))))))),4)","v":{"$error":"#N/A"}},null,45628,"L-PEAK5",{"$f":"NETWORKDAYS(A99,B99,koszyki!$M$20:$M$898)","v":1},{"$f":"B99-A99+1- NETWORKDAYS(A99,B99,koszyki!$M$20:$M$898)","v":0},{"$f":"ROUND(IF((B99-A99+1)>2,IF(C99=75,AVERAGE(INDIRECT(\"krzywa!C\"&MATCH(K99-6,krzywa!A:A,0)&\":C\"&MATCH(K99-2,krzywa!A:A,0))),AVERAGE(INDIRECT(\"krzywa!C\"&MATCH(A99-$A$2+BQ99,krzywa!A:A,0)&\":C\"&MATCH(B99-$A$2-AY99,krzywa!A:A,0)))),INDIRECT(\"krzywa!C\"&MATCH(K99,krzywa!A:A,0))),4)","v":{"$error":"#N/A"}},0,{"$f":"-C99*ABS(D99-F99)*H99*I99*U99+'kompensacja międzyproduktowa'!X99*U99","v":{"$error":"#N/A"}},{"$f":"ROUND(IF((B99-A99+1)>2,IF(C99=75,AVERAGE(INDIRECT(\"krzywa!D\"&MATCH(K99-6,krzywa!A:A,0)&\":D\"&MATCH(K99-2,krzywa!A:A,0))),AVERAGE(INDIRECT(\"krzywa!D\"&MATCH(A99-$A$2+BQ99,krzywa!A:A,0)&\":D\"&MATCH(B99-$A$2-AY99,krzywa!A:A,0)))),INDIRECT(\"krzywa!D\"&MATCH(K99,krzywa!A:A,0))),4)","v":{"$error":"#N/A"}},{"$f":"VLOOKUP(A99,krzywa!L:N,3,1)","v":0},{"$f":"VLOOKUP(B99,krzywa!L:N,3,1)","v":0},{"$f":"IF('Kalkulator Depozytów'!$B$35=TRUE,1,(1+S99/100)*W99+(1+T99/100)*(1-W99))","v":1},{"$f":"IF(S99<>T99,VLOOKUP(A99,krzywa!L:M,2,1))","v":false},{"$f":"IF(V99<>FALSE,IF(L99=\"BASE\",(V99-A99+1)*24+J99,IF(L99=\"OFFPEAK\",NETWORKDAYS(A99,V99,koszyki!$M$20:$M$898)*9+(N99)*24+J99,IF(L99=\"L-PEAK5\",NETWORKDAYS(A99,V99,koszyki!$M$20:$M$898)*10,IF(L99=\"H-PEAK5\",NETWORKDAYS(A99,V99,koszyki!$M$20:$M$898)*5,NETWORKDAYS(A99,V99,koszyki!$M$20:$M$898)*15))))/C99,1)","v":1}]
["2024-12-03","2024-12-03",10,{"$f":"'Kalkulator Depozytów'!M105","v":0},{"$f":"'Kalkulator Depozytów'!N105","v":0},{"$f":"'Kalkulator Depozytów'!O105","v":0},{"$f":"'Kalkulator Depozytów'!P105","v":0},{"$f":"'Kalkulator Depozytów'!Q105","v":0},{"$f":"ROUND(IF(OR(AND(K100>0,L100=\"L-PEAK5\"),AND(K100>0,L100=\"H-PEAK5\")),R100,IF(AND(K100>0,L100=\"PEAK5\"),O100,IF(K100>0,IF(OR(L100=\"BASE\"),AVERAGE(INDIRECT(\"krzywa!B\"&MATCH(A100-$A$2,krzywa!A:A,0)&\":B\"&MATCH(B100-$A$2,krzywa!A:A,0),TRUE)),IF(OR(L100=\"OFFPEAK\"),AVERAGE(INDIRECT(\"krzywa!F\"&MATCH(A100-$A$2,krzywa!A:A,0)&\":F\"&MATCH(B100-$A$2,krzywa!A:A,0)))))))),4)","v":{"$error":"#N/A"}},null,45629,"L-PEAK5",{"$f":"NETWORKDAYS(A100,B100,koszyki!$M$20:$M$898)","v":1},{"$f":"B100-A100+1- NETWORKDAYS(A100,B100,koszyki!$M$20:$M$898)","v":0},{"$f":"ROUND(IF((B100-A100+1)>2,IF(C100=75,AVERAGE(INDIRECT(\"krzywa!C\"&MATCH(K100-6,krzywa!A:A,0)&\":C\"&MATCH(K100-2,krzywa!A:A,0))),AVERAGE(INDIRECT(\"krzywa!C\"&MATCH(A100-$A$2+BQ100,krzywa!A:A,0)&\":C\"&MATCH(B100-$A$2-AY100,krzywa!A:A,0)))),INDIRECT(\"krzywa!C\"&MATCH(K100,krzywa!A:A,0))),4)","v":{"$error":"#N/A"}},0,{"$f":"-C100*ABS(D100-F100)*H100*I100*U100+'kompensacja międzyproduktowa'!X100*U100","v":{"$error":"#N/A"}},{"$f":"ROUND(IF((B100-A100+1)>2,IF(C100=75,AVERAGE(INDIRECT(\"krzywa!D\"&MATCH(K100-6,krzywa!A:A,0)&\":D\"&MATCH(K100-2,krzywa!A:A,0))),AVERAGE(INDIRECT(\"krzywa!D\"&MATCH(A100-$A$2+BQ100,krzywa!A:A,0)&\":D\"&MATCH(B100-$A$2-AY100,krzywa!A:A,0)))),INDIRECT(\"krzywa!D\"&MATCH(K100,krzywa!A:A,0))),4)","v":{"$error":"#N/A"}},{"$f":"VLOOKUP(A100,krzywa!L:N,3,1)","v":0},{"$f":"VLOOKUP(B100,krzywa!L:N,3,1)","v":0},{"$f":"IF('Kalkulator Depozytów'!$B$35=TRUE,1,(1+S100/100)*W100+(1+T100/100)*(1-W100))","v":1},{"$f":"IF(S100<>T100,VLOOKUP(A100,krzywa!L:M,2,1))","v":false},{"$f":"IF(V100<>FALSE,IF(L100=\"BASE\",(V100-A100+1)*24+J100,IF(L100=\"OFFPEAK\",NETWORKDAYS(A100,V100,koszyki!$M$20:$M$898)*9+(N100)*24+J100,IF(L100=\"L-PEAK5\",NETWORKDAYS(A100,V100,koszyki!$M$20:$M$898)*10,IF(L100=\"H-PEAK5\",NETWORKDAYS(A100,V100,koszyki!$M$20:$M$898)*5,NETWORKDAYS(A100,V100,koszyki!$M$20:$M$898)*15))))/C100,1)","v":1}]
["2024-12-04","2024-12-04",10,{"$f":"'Kalkulator Depozytów'!M106","v":0},{"$f":"'Kalkulator Depozytów'!N106","v":0},{"$f":"'Kalkulator Depozytów'!O106","v":0},{"$f":"'Kalkulator Depozytów'!P106","v":0},{"$f":"'Kalkulator Depozytów'!Q106","v":0},{"$f":"ROUND(IF(OR(AND(K101>0,L101=\"L-PEAK5\"),AND(K101>0,L101=\"H-PEAK5\")),R101,IF(AND(K101>0,L101=\"PEAK5\"),O101,IF(K101>0,IF(OR(L101=\"BASE\"),AVERAGE(INDIRECT(\"krzywa!B\"&MATCH(A101-$A$2,krzywa!A:A,0)&\":B\"&MATCH(B101-$A$2,krzywa!A:A,0),TRUE)),IF(OR(L101=\"OFFPEAK\"),AVERAGE(INDIRECT(\"krzywa!F\"&MATCH(A101-$A$2,krzywa!A:A,0)&\":F\"&MATCH(B101-$A$2,krzywa!A:A,0)))))))),4)","v":{"$error":"#N/A"}},null,45630,"L-PEAK5",{"$f":"NETWORKDAYS(A101,B101,koszyki!$M$20:$M$898)","v":1},{"$f":"B101-A101+1- NETWORKDAYS(A101,B101,koszyki!$M$20:$M$898)","v":0},{"$f":"ROUND(IF((B101-A101+1)>2,IF(C101=75,AVERAGE(INDIRECT(\"krzywa!C\"&MATCH(K101-6,krzywa!A:A,0)&\":C\"&MATCH(K101-2,krzywa!A:A,0))),AVERAGE(INDIRECT(\"krzywa!C\"&MATCH(A101-$A$2+BQ101,krzywa!A:A,0)&\":C\"&MATCH(B101-$A$2-AY101,krzywa!A:A,0)))),INDIRECT(\"krzywa!C\"&MATCH(K101,krzywa!A:A,0))),4)","v":{"$error":"#N/A"}},0,{"$f":"-C101*ABS(D101-F101)*H101*I101*U101+'kompensacja międzyproduktowa'!X101*U101","v":{"$error":"#N/A"}},{"$f":"ROUND(IF((B101-A101+1)>2,IF(C101=75,AVERAGE(INDIRECT(\"krzywa!D\"&MATCH(K101-6,krzywa!A:A,0)&\":D\"&MATCH(K101-2,krzywa!A:A,0))),AVERAGE(INDIRECT(\"krzywa!D\"&MATCH(A101-$A$2+BQ101,krzywa!A:A,0)&\":D\"&MATCH(B101-$A$2-AY101,krzywa!A:A,0)))),INDIRECT(\"krzywa!D\"&MATCH(K101,krzywa!A:A,0))),4)","v":{"$error":"#N/A"}},{"$f":"VLOOKUP(A101,krzywa!L:N,3,1)","v":0},{"$f":"VLOOKUP(B101,krzywa!L:N,3,1)","v":0},{"$f":"IF('Kalkulator Depozytów'!$B$35=TRUE,1,(1+S101/100)*W101+(1+T101/100)*(1-W101))","v":1},{"$f":"IF(S101<>T101,VLOOKUP(A101,krzywa!L:M,2,1))","v":false},{"$f":"IF(V101<>FALSE,IF(L101=\"BASE\",(V101-A101+1)*24+J101,IF(L101=\"OFFPEAK\",NETWORKDAYS(A101,V101,koszyki!$M$20:$M$898)*9+(N101)*24+J101,IF(L101=\"L-PEAK5\",NETWORKDAYS(A101,V101,koszyki!$M$20:$M$898)*10,IF(L101=\"H-PEAK5\",NETWORKDAYS(A101,V101,koszyki!$M$20:$M$898)*5,NETWORKDAYS(A101,V101,koszyki!$M$20:$M$898)*15))))/C101,1)","v":1}]
["2024-12-05","2024-12-05",10,{"$f":"'Kalkulator Depozytów'!M107","v":0},{"$f":"'Kalkulator Depozytów'!N107","v":0},{"$f":"'Kalkulator Depozytów'!O107","v":0},{"$f":"'Kalkulator Depozytów'!P107","v":0},{"$f":"'Kalkulator Depozytów'!Q107","v":0},{"$f":"ROUND(IF(OR(AND(K102>0,L102=\"L-PEAK5\"),AND(K102>0,L102=\"H-PEAK5\")),R102,IF(AND(K102>0,L102=\"PEAK5\"),O102,IF(K102>0,IF(OR(L102=\"BASE\"),AVERAGE(INDIRECT(\"krzywa!B\"&MATCH(A102-$A$2,krzywa!A:A,0)&\":B\"&MATCH(B102-$A$2,krzywa!A:A,0),TRUE)),IF(OR(L102=\"OFFPEAK\"),AVERAGE(INDIRECT(\"krzywa!F\"&MATCH(A102-$A$2,krzywa!A:A,0)&\":F\"&MATCH(B102-$A$2,krzywa!A:A,0)))))))),4)","v":{"$error":"#N/A"}},null,45631,"L-PEAK5",{"$f":"NETWORKDAYS(A102,B102,koszyki!$M$20:$M$898)","v":1},{"$f":"B102-A102+1- NETWORKDAYS(A102,B102,koszyki!$M$20:$M$898)","v":0},{"$f":"ROUND(IF((B102-A102+1)>2,IF(C102=75,AVERAGE(INDIRECT(\"krzywa!C\"&MATCH(K102-6,krzywa!A:A,0)&\":C\"&MATCH(K102-2,krzywa!A:A,0))),AVERAGE(INDIRECT(\"krzywa!C\"&MATCH(A102-$A$2+BQ102,krzywa!A:A,0)&\":C\"&MATCH(B102-$A$2-AY102,krzywa!A:A,0)))),INDIRECT(\"krzywa!C\"&MATCH(K102,krzywa!A:A,0))),4)","v":{"$error":"#N/A"}},0,{"$f":"-C102*ABS(D102-F102)*H102*I102*U102+'kompensacja międzyproduktowa'!X102*U102","v":{"$error":"#N/A"}},{"$f":"ROUND(IF((B102-A102+1)>2,IF(C102=75,AVERAGE(INDIRECT(\"krzywa!D\"&MATCH(K102-6,krzywa!A:A,0)&\":D\"&MATCH(K102-2,krzywa!A:A,0))),AVERAGE(INDIRECT(\"krzywa!D\"&MATCH(A102-$A$2+BQ102,krzywa!A:A,0)&\":D\"&MATCH(B102-$A$2-AY102,krzywa!A:A,0)))),INDIRECT(\"krzywa!D\"&MATCH(K102,krzywa!A:A,0))),4)","v":{"$error":"#N/A"}},{"$f":"VLOOKUP(A102,krzywa!L:N,3,1)","v":0},{"$f":"VLOOKUP(B102,krzywa!L:N,3,1)","v":0},{"$f":"IF('Kalkulator Depozytów'!$B$35=TRUE,1,(1+S102/100)*W102+(1+T102/100)*(1-W102))","v":1},{"$f":"IF(S102<>T102,VLOOKUP(A102,krzywa!L:M,2,1))","v":false},{"$f":"IF(V102<>FALSE,IF(L102=\"BASE\",(V102-A102+1)*24+J102,IF(L102=\"OFFPEAK\",NETWORKDAYS(A102,V102,koszyki!$M$20:$M$898)*9+(N102)*24+J102,IF(L102=\"L-PEAK5\",NETWORKDAYS(A102,V102,koszyki!$M$20:$M$898)*10,IF(L102=\"H-PEAK5\",NETWORKDAYS(A102,V102,koszyki!$M$20:$M$898)*5,NETWORKDAYS(A102,V102,koszyki!$M$20:$M$898)*15))))/C102,1)","v":1}]
["2024-12-06","2024-12-06",10,{"$f":"'Kalkulator Depozytów'!M108","v":0},{"$f":"'Kalkulator Depozytów'!N108","v":0},{"$f":"'Kalkulator Depozytów'!O108","v":0},{"$f":"'Kalkulator Depozytów'!P108","v":0},{"$f":"'Kalkulator Depozytów'!Q108","v":0},{"$f":"ROUND(IF(OR(AND(K103>0,L103=\"L-PEAK5\"),AND(K103>0,L103=\"H-PEAK5\")),R103,IF(AND(K103>0,L103=\"PEAK5\"),O103,IF(K103>0,IF(OR(L103=\"BASE\"),AVERAGE(INDIRECT(\"krzywa!B\"&MATCH(A103-$A$2,krzywa!A:A,0)&\":B\"&MATCH(B103-$A$2,krzywa!A:A,0),TRUE)),IF(OR(L103=\"OFFPEAK\"),AVERAGE(INDIRECT(\"krzywa!F\"&MATCH(A103-$A$2,krzywa!A:A,0)&\":F\"&MATCH(B103-$A$2,krzywa!A:A,0)))))))),4)","v":{"$error":"#N/A"}},null,45632,"L-PEAK5",{"$f":"NETWORKDAYS(A103,B103,koszyki!$M$20:$M$898)","v":1},{"$f":"B103-A103+1- NETWORKDAYS(A103,B103,koszyki!$M$20:$M$898)","v":0},{"$f":"ROUND(IF((B103-A103+1)>2,IF(C103=75,AVERAGE(INDIRECT(\"krzywa!C\"&MATCH(K103-6,krzywa!A:A,0)&\":C\"&MATCH(K103-2,krzywa!A:A,0))),AVERAGE(INDIRECT(\"krzywa!C\"&MATCH(A103-$A$2+BQ103,krzywa!A:A,0)&\":C\"&MATCH(B103-$A$2-AY103,krzywa!A:A,0)))),INDIRECT(\"krzywa!C\"&MATCH(K103,krzywa!A:A,0))),4)","v":{"$error":"#N/A"}},0,{"$f":"-C103*ABS(D103-F103)*H103*I103*U103+'kompensacja międzyproduktowa'!X103*U103","v":{"$error":"#N/A"}},{"$f":"ROUND(IF((B103-A103+1)>2,IF(C103=75,AVERAGE(INDIRECT(\"krzywa!D\"&MATCH(K103-6,krzywa!A:A,0)&\":D\"&MATCH(K103-2,krzywa!A:A,0))),AVERAGE(INDIRECT(\"krzywa!D\"&MATCH(A103-$A$2+BQ103,krzywa!A:A,0)&\":D\"&MATCH(B103-$A$2-AY103,krzywa!A:A,0)))),INDIRECT(\"krzywa!D\"&MATCH(K103,krzywa!A:A,0))),4)","v":{"$error":"#N/A"}},{"$f":"VLOOKUP(A103,krzywa!L:N,3,1)","v":0},{"$f":"VLOOKUP(B103,krzywa!L:N,3,1)","v":0},{"$f":"IF('Kalkulator Depozytów'!$B$35=TRUE,1,(1+S103/100)*W103+(1+T103/100)*(1-W103))","v":1},{"$f":"IF(S103<>T103,VLOOKUP(A103,krzywa!L:M,2,1))","v":false},{"$f":"IF(V103<>FALSE,IF(L103=\"BASE\",(V103-A103+1)*24+J103,IF(L103=\"OFFPEAK\",NETWORKDAYS(A103,V103,koszyki!$M$20:$M$898)*9+(N103)*24+J103,IF(L103=\"L-PEAK5\",NETWORKDAYS(A103,V103,koszyki!$M$20:$M$898)*10,IF(L103=\"H-PEAK5\",NETWORKDAYS(A103,V103,koszyki!$M$20:$M$898)*5,NETWORKDAYS(A103,V103,koszyki!$M$20:$M$898)*15))))/C103,1)","v":1}]
["2024-12-07","2024-12-07",0,{"$f":"'Kalkulator Depozytów'!M109","v":0},{"$f":"'Kalkulator Depozytów'!N109","v":0},{"$f":"'Kalkulator Depozytów'!O109","v":0},{"$f":"'Kalkulator Depozytów'!P109","v":0},{"$f":"'Kalkulator Depozytów'!Q109","v":0},{"$f":"ROUND(IF(OR(AND(K104>0,L104=\"L-PEAK5\"),AND(K104>0,L104=\"H-PEAK5\")),R104,IF(AND(K104>0,L104=\"PEAK5\"),O104,IF(K104>0,IF(OR(L104=\"BASE\"),AVERAGE(INDIRECT(\"krzywa!B\"&MATCH(A104-$A$2,krzywa!A:A,0)&\":B\"&MATCH(B104-$A$2,krzywa!A:A,0),TRUE)),IF(OR(L104=\"OFFPEAK\"),AVERAGE(INDIRECT(\"krzywa!F\"&MATCH(A104-$A$2,krzywa!A:A,0)&\":F\"&MATCH(B104-$A$2,krzywa!A:A,0)))))))),4)","v":{"$error":"#N/A"}},null,45633,"L-PEAK5",{"$f":"NETWORKDAYS(A104,B104,koszyki!$M$20:$M$898)","v":0},{"$f":"B104-A104+1- NETWORKDAYS(A104,B104,koszyki!$M$20:$M$898)","v":1},{"$f":"ROUND(IF((B104-A104+1)>2,IF(C104=75,AVERAGE(INDIRECT(\"krzywa!C\"&MATCH(K104-6,krzywa!A:A,0)&\":C\"&MATCH(K104-2,krzywa!A:A,0))),AVERAGE(INDIRECT(\"krzywa!C\"&MATCH(A104-$A$2+BQ104,krzywa!A:A,0)&\":C\"&MATCH(B104-$A$2-AY104,krzywa!A:A,0)))),INDIRECT(\"krzywa!C\"&MATCH(K104,krzywa!A:A,0))),4)","v":{"$error":"#N/A"}},0,{"$f":"-C104*ABS(D104-F104)*H104*I104*U104+'kompensacja międzyproduktowa'!X104*U104","v":{"$error":"#N/A"}},{"$f":"ROUND(IF((B104-A104+1)>2,IF(C104=75,AVERAGE(INDIRECT(\"krzywa!D\"&MATCH(K104-6,krzywa!A:A,0)&\":D\"&MATCH(K104-2,krzywa!A:A,0))),AVERAGE(INDIRECT(\"krzywa!D\"&MATCH(A104-$A$2+BQ104,krzywa!A:A,0)&\":D\"&MATCH(B104-$A$2-AY104,krzywa!A:A,0)))),INDIRECT(\"krzywa!D\"&MATCH(K104,krzywa!A:A,0))),4)","v":{"$error":"#N/A"}},{"$f":"VLOOKUP(A104,krzywa!L:N,3,1)","v":0},{"$f":"VLOOKUP(B104,krzywa!L:N,3,1)","v":0},{"$f":"IF('Kalkulator Depozytów'!$B$35=TRUE,1,(1+S104/100)*W104+(1+T104/100)*(1-W104))","v":1},{"$f":"IF(S104<>T104,VLOOKUP(A104,krzywa!L:M,2,1))","v":false},{"$f":"IF(V104<>FALSE,IF(L104=\"BASE\",(V104-A104+1)*24+J104,IF(L104=\"OFFPEAK\",NETWORKDAYS(A104,V104,koszyki!$M$20:$M$898)*9+(N104)*24+J104,IF(L104=\"L-PEAK5\",NETWORKDAYS(A104,V104,koszyki!$M$20:$M$898)*10,IF(L104=\"H-PEAK5\",NETWORKDAYS(A104,V104,koszyki!$M$20:$M$898)*5,NETWORKDAYS(A104,V104,koszyki!$M$20:$M$898)*15))))/C104,1)","v":1}]
["2024-12-08","2024-12-08",0,{"$f":"'Kalkulator Depozytów'!M110","v":0},{"$f":"'Kalkulator Depozytów'!N110","v":0},{"$f":"'Kalkulator Depozytów'!O110","v":0},{"$f":"'Kalkulator Depozytów'!P110","v":0},{"$f":"'Kalkulator Depozytów'!Q110","v":0},{"$f":"ROUND(IF(OR(AND(K105>0,L105=\"L-PEAK5\"),AND(K105>0,L105=\"H-PEAK5\")),R105,IF(AND(K105>0,L105=\"PEAK5\"),O105,IF(K105>0,IF(OR(L105=\"BASE\"),AVERAGE(INDIRECT(\"krzywa!B\"&MATCH(A105-$A$2,krzywa!A:A,0)&\":B\"&MATCH(B105-$A$2,krzywa!A:A,0),TRUE)),IF(OR(L105=\"OFFPEAK\"),AVERAGE(INDIRECT(\"krzywa!F\"&MATCH(A105-$A$2,krzywa!A:A,0)&\":F\"&MATCH(B105-$A$2,krzywa!A:A,0)))))))),4)","v":{"$error":"#N/A"}},null,45634,"L-PEAK5",{"$f":"NETWORKDAYS(A105,B105,koszyki!$M$20:$M$898)","v":0},{"$f":"B105-A105+1- NETWORKDAYS(A105,B105,koszyki!$M$20:$M$898)","v":1},{"$f":"ROUND(IF((B105-A105+1)>2,IF(C105=75,AVERAGE(INDIRECT(\"krzywa!C\"&MATCH(K105-6,krzywa!A:A,0)&\":C\"&MATCH(K105-2,krzywa!A:A,0))),AVERAGE(INDIRECT(\"krzywa!C\"&MATCH(A105-$A$2+BQ105,krzywa!A:A,0)&\":C\"&MATCH(B105-$A$2-AY105,krzywa!A:A,0)))),INDIRECT(\"krzywa!C\"&MATCH(K105,krzywa!A:A,0))),4)","v":{"$error":"#N/A"}},0,{"$f":"-C105*ABS(D105-F105)*H105*I105*U105+'kompensacja międzyproduktowa'!X105*U105","v":{"$error":"#N/A"}},{"$f":"ROUND(IF((B105-A105+1)>2,IF(C105=75,AVERAGE(INDIRECT(\"krzywa!D\"&MATCH(K105-6,krzywa!A:A,0)&\":D\"&MATCH(K105-2,krzywa!A:A,0))),AVERAGE(INDIRECT(\"krzywa!D\"&MATCH(A105-$A$2+BQ105,krzywa!A:A,0)&\":D\"&MATCH(B105-$A$2-AY105,krzywa!A:A,0)))),INDIRECT(\"krzywa!D\"&MATCH(K105,krzywa!A:A,0))),4)","v":{"$error":"#N/A"}},{"$f":"VLOOKUP(A105,krzywa!L:N,3,1)","v":0},{"$f":"VLOOKUP(B105,krzywa!L:N,3,1)","v":0},{"$f":"IF('Kalkulator Depozytów'!$B$35=TRUE,1,(1+S105/100)*W105+(1+T105/100)*(1-W105))","v":1},{"$f":"IF(S105<>T105,VLOOKUP(A105,krzywa!L:M,2,1))","v":false},{"$f":"IF(V105<>FALSE,IF(L105=\"BASE\",(V105-A105+1)*24+J105,IF(L105=\"OFFPEAK\",NETWORKDAYS(A105,V105,koszyki!$M$20:$M$898)*9+(N105)*24+J105,IF(L105=\"L-PEAK5\",NETWORKDAYS(A105,V105,koszyki!$M$20:$M$898)*10,IF(L105=\"H-PEAK5\",NETWORKDAYS(A105,V105,koszyki!$M$20:$M$898)*5,NETWORKDAYS(A105,V105,koszyki!$M$20:$M$898)*15))))/C105,1)","v":1}]
["2024-12-09","2024-12-15",50,{"$f":"'Kalkulator Depozytów'!M111","v":0},{"$f":"'Kalkulator Depozytów'!N111","v":0},{"$f":"'Kalkulator Depozytów'!O111","v":0},{"$f":"'Kalkulator Depozytów'!P111","v":0},{"$f":"'Kalkulator Depozytów'!Q111","v":0},{"$f":"ROUND(IF(OR(AND(K106>0,L106=\"L-PEAK5\"),AND(K106>0,L106=\"H-PEAK5\")),R106,IF(AND(K106>0,L106=\"PEAK5\"),O106,IF(K106>0,IF(OR(L106=\"BASE\"),AVERAGE(INDIRECT(\"krzywa!B\"&MATCH(A106-$A$2,krzywa!A:A,0)&\":B\"&MATCH(B106-$A$2,krzywa!A:A,0),TRUE)),IF(OR(L106=\"OFFPEAK\"),AVERAGE(INDIRECT(\"krzywa!F\"&MATCH(A106-$A$2,krzywa!A:A,0)&\":F\"&MATCH(B106-$A$2,krzywa!A:A,0)))))))),4)","v":{"$error":"#N/A"}},null,45641,"L-PEAK5",{"$f":"NETWORKDAYS(A106,B106,koszyki!$M$20:$M$898)","v":5},{"$f":"B106-A106+1- NETWORKDAYS(A106,B106,koszyki!$M$20:$M$898)","v":2},{"$f":"ROUND(IF((B106-A106+1)>2,IF(C106=75,AVERAGE(INDIRECT(\"krzywa!C\"&MATCH(K106-6,krzywa!A:A,0)&\":C\"&MATCH(K106-2,krzywa!A:A,0))),AVERAGE(INDIRECT(\"krzywa!C\"&MATCH(A106-$A$2+BQ106,krzywa!A:A,0)&\":C\"&MATCH(B106-$A$2-AY106,krzywa!A:A,0)))),INDIRECT(\"krzywa!C\"&MATCH(K106,krzywa!A:A,0))),4)","v":{"$error":"#N/A"}},0,{"$f":"-C106*ABS(D106-F106)*H106*I106*U106+'kompensacja międzyproduktowa'!X106*U106","v":{"$error":"#N/A"}},{"$f":"ROUND(IF((B106-A106+1)>2,IF(C106=75,AVERAGE(INDIRECT(\"krzywa!D\"&MATCH(K106-6,krzywa!A:A,0)&\":D\"&MATCH(K106-2,krzywa!A:A,0))),AVERAGE(INDIRECT(\"krzywa!D\"&MATCH(A106-$A$2+BQ106,krzywa!A:A,0)&\":D\"&MATCH(B106-$A$2-AY106,krzywa!A:A,0)))),INDIRECT(\"krzywa!D\"&MATCH(K106,krzywa!A:A,0))),4)","v":{"$error":"#N/A"}},{"$f":"VLOOKUP(A106,krzywa!L:N,3,1)","v":0},{"$f":"VLOOKUP(B106,krzywa!L:N,3,1)","v":0},{"$f":"IF('Kalkulator Depozytów'!$B$35=TRUE,1,(1+S106/100)*W106+(1+T106/100)*(1-W106))","v":1},{"$f":"IF(S106<>T106,VLOOKUP(A106,krzywa!L:M,2,1))","v":false},{"$f":"IF(V106<>FALSE,IF(L106=\"BASE\",(V106-A106+1)*24+J106,IF(L106=\"OFFPEAK\",NETWORKDAYS(A106,V106,koszyki!$M$20:$M$898)*9+(N106)*24+J106,IF(L106=\"L-PEAK5\",NETWORKDAYS(A106,V106,koszyki!$M$20:$M$898)*10,IF(L106=\"H-PEAK5\",NETWORKDAYS(A106,V106,koszyki!$M$20:$M$898)*5,NETWORKDAYS(A106,V106,koszyki!$M$20:$M$898)*15))))/C106,1)","v":1}]
["2024-12-16","2024-12-22",50,{"$f":"'Kalkulator Depozytów'!M112","v":0},{"$f":"'Kalkulator Depozytów'!N112","v":0},{"$f":"'Kalkulator Depozytów'!O112","v":0},{"$f":"'Kalkulator Depozytów'!P112","v":0},{"$f":"'Kalkulator Depozytów'!Q112","v":0},{"$f":"ROUND(IF(OR(AND(K107>0,L107=\"L-PEAK5\"),AND(K107>0,L107=\"H-PEAK5\")),R107,IF(AND(K107>0,L107=\"PEAK5\"),O107,IF(K107>0,IF(OR(L107=\"BASE\"),AVERAGE(INDIRECT(\"krzywa!B\"&MATCH(A107-$A$2,krzywa!A:A,0)&\":B\"&MATCH(B107-$A$2,krzywa!A:A,0),TRUE)),IF(OR(L107=\"OFFPEAK\"),AVERAGE(INDIRECT(\"krzywa!F\"&MATCH(A107-$A$2,krzywa!A:A,0)&\":F\"&MATCH(B107-$A$2,krzywa!A:A,0)))))))),4)","v":{"$error":"#N/A"}},null,45648,"L-PEAK5",{"$f":"NETWORKDAYS(A107,B107,koszyki!$M$20:$M$898)","v":5},{"$f":"B107-A107+1- NETWORKDAYS(A107,B107,koszyki!$M$20:$M$898)","v":2},{"$f":"ROUND(IF((B107-A107+1)>2,IF(C107=75,AVERAGE(INDIRECT(\"krzywa!C\"&MATCH(K107-6,krzywa!A:A,0)&\":C\"&MATCH(K107-2,krzywa!A:A,0))),AVERAGE(INDIRECT(\"krzywa!C\"&MATCH(A107-$A$2+BQ107,krzywa!A:A,0)&\":C\"&MATCH(B107-$A$2-AY107,krzywa!A:A,0)))),INDIRECT(\"krzywa!C\"&MATCH(K107,krzywa!A:A,0))),4)","v":{"$error":"#N/A"}},0,{"$f":"-C107*ABS(D107-F107)*H107*I107*U107+'kompensacja międzyproduktowa'!X107*U107","v":{"$error":"#N/A"}},{"$f":"ROUND(IF((B107-A107+1)>2,IF(C107=75,AVERAGE(INDIRECT(\"krzywa!D\"&MATCH(K107-6,krzywa!A:A,0)&\":D\"&MATCH(K107-2,krzywa!A:A,0))),AVERAGE(INDIRECT(\"krzywa!D\"&MATCH(A107-$A$2+BQ107,krzywa!A:A,0)&\":D\"&MATCH(B107-$A$2-AY107,krzywa!A:A,0)))),INDIRECT(\"krzywa!D\"&MATCH(K107,krzywa!A:A,0))),4)","v":{"$error":"#N/A"}},{"$f":"VLOOKUP(A107,krzywa!L:N,3,1)","v":0},{"$f":"VLOOKUP(B107,krzywa!L:N,3,1)","v":0},{"$f":"IF('Kalkulator Depozytów'!$B$35=TRUE,1,(1+S107/100)*W107+(1+T107/100)*(1-W107))","v":1},{"$f":"IF(S107<>T107,VLOOKUP(A107,krzywa!L:M,2,1))","v":false},{"$f":"IF(V107<>FALSE,IF(L107=\"BASE\",(V107-A107+1)*24+J107,IF(L107=\"OFFPEAK\",NETWORKDAYS(A107,V107,koszyki!$M$20:$M$898)*9+(N107)*24+J107,IF(L107=\"L-PEAK5\",NETWORKDAYS(A107,V107,koszyki!$M$20:$M$898)*10,IF(L107=\"H-PEAK5\",NETWORKDAYS(A107,V107,koszyki!$M$20:$M$898)*5,NETWORKDAYS(A107,V107,koszyki!$M$20:$M$898)*15))))/C107,1)","v":1}]
["2024-12-23","2024-12-29",30,{"$f":"'Kalkulator Depozytów'!M113","v":0},{"$f":"'Kalkulator Depozytów'!N113","v":0},{"$f":"'Kalkulator Depozytów'!O113","v":0},{"$f":"'Kalkulator Depozytów'!P113","v":0},{"$f":"'Kalkulator Depozytów'!Q113","v":0},{"$f":"ROUND(IF(OR(AND(K108>0,L108=\"L-PEAK5\"),AND(K108>0,L108=\"H-PEAK5\")),R108,IF(AND(K108>0,L108=\"PEAK5\"),O108,IF(K108>0,IF(OR(L108=\"BASE\"),AVERAGE(INDIRECT(\"krzywa!B\"&MATCH(A108-$A$2,krzywa!A:A,0)&\":B\"&MATCH(B108-$A$2,krzywa!A:A,0),TRUE)),IF(OR(L108=\"OFFPEAK\"),AVERAGE(INDIRECT(\"krzywa!F\"&MATCH(A108-$A$2,krzywa!A:A,0)&\":F\"&MATCH(B108-$A$2,krzywa!A:A,0)))))))),4)","v":{"$error":"#N/A"}},null,45655,"L-PEAK5",{"$f":"NETWORKDAYS(A108,B108,koszyki!$M$20:$M$898)","v":3},{"$f":"B108-A108+1- NETWORKDAYS(A108,B108,koszyki!$M$20:$M$898)","v":4},{"$f":"ROUND(IF((B108-A108+1)>2,IF(C108=75,AVERAGE(INDIRECT(\"krzywa!C\"&MATCH(K108-6,krzywa!A:A,0)&\":C\"&MATCH(K108-2,krzywa!A:A,0))),AVERAGE(INDIRECT(\"krzywa!C\"&MATCH(A108-$A$2+BQ108,krzywa!A:A,0)&\":C\"&MATCH(B108-$A$2-AY108,krzywa!A:A,0)))),INDIRECT(\"krzywa!C\"&MATCH(K108,krzywa!A:A,0))),4)","v":{"$error":"#N/A"}},0,{"$f":"-C108*ABS(D108-F108)*H108*I108*U108+'kompensacja międzyproduktowa'!X108*U108","v":{"$error":"#N/A"}},{"$f":"ROUND(IF((B108-A108+1)>2,IF(C108=75,AVERAGE(INDIRECT(\"krzywa!D\"&MATCH(K108-6,krzywa!A:A,0)&\":D\"&MATCH(K108-2,krzywa!A:A,0))),AVERAGE(INDIRECT(\"krzywa!D\"&MATCH(A108-$A$2+BQ108,krzywa!A:A,0)&\":D\"&MATCH(B108-$A$2-AY108,krzywa!A:A,0)))),INDIRECT(\"krzywa!D\"&MATCH(K108,krzywa!A:A,0))),4)","v":{"$error":"#N/A"}},{"$f":"VLOOKUP(A108,krzywa!L:N,3,1)","v":0},{"$f":"VLOOKUP(B108,krzywa!L:N,3,1)","v":0},{"$f":"IF('Kalkulator Depozytów'!$B$35=TRUE,1,(1+S108/100)*W108+(1+T108/100)*(1-W108))","v":1},{"$f":"IF(S108<>T108,VLOOKUP(A108,krzywa!L:M,2,1))","v":false},{"$f":"IF(V108<>FALSE,IF(L108=\"BASE\",(V108-A108+1)*24+J108,IF(L108=\"OFFPEAK\",NETWORKDAYS(A108,V108,koszyki!$M$20:$M$898)*9+(N108)*24+J108,IF(L108=\"L-PEAK5\",NETWORKDAYS(A108,V108,koszyki!$M$20:$M$898)*10,IF(L108=\"H-PEAK5\",NETWORKDAYS(A108,V108,koszyki!$M$20:$M$898)*5,NETWORKDAYS(A108,V108,koszyki!$M$20:$M$898)*15))))/C108,1)","v":1}]
["2024-12-30","2024-12-31",20,{"$f":"'Kalkulator Depozytów'!M114","v":0},{"$f":"'Kalkulator Depozytów'!N114","v":0},{"$f":"'Kalkulator Depozytów'!O114","v":0},{"$f":"'Kalkulator Depozytów'!P114","v":0},{"$f":"'Kalkulator Depozytów'!Q114","v":0},{"$f":"ROUND(IF(OR(AND(K109>0,L109=\"L-PEAK5\"),AND(K109>0,L109=\"H-PEAK5\")),R109,IF(AND(K109>0,L109=\"PEAK5\"),O109,IF(K109>0,IF(OR(L109=\"BASE\"),AVERAGE(INDIRECT(\"krzywa!B\"&MATCH(A109-$A$2,krzywa!A:A,0)&\":B\"&MATCH(B109-$A$2,krzywa!A:A,0),TRUE)),IF(OR(L109=\"OFFPEAK\"),AVERAGE(INDIRECT(\"krzywa!F\"&MATCH(A109-$A$2,krzywa!A:A,0)&\":F\"&MATCH(B109-$A$2,krzywa!A:A,0)))))))),4)","v":{"$error":"#N/A"}},null,45657,"L-PEAK5",{"$f":"NETWORKDAYS(A109,B109,koszyki!$M$20:$M$898)","v":2},{"$f":"B109-A109+1- NETWORKDAYS(A109,B109,koszyki!$M$20:$M$898)","v":0},{"$f":"ROUND(IF((B109-A109+1)>2,IF(C109=75,AVERAGE(INDIRECT(\"krzywa!C\"&MATCH(K109-6,krzywa!A:A,0)&\":C\"&MATCH(K109-2,krzywa!A:A,0))),AVERAGE(INDIRECT(\"krzywa!C\"&MATCH(A109-$A$2+BQ109,krzywa!A:A,0)&\":C\"&MATCH(B109-$A$2-AY109,krzywa!A:A,0)))),INDIRECT(\"krzywa!C\"&MATCH(K109,krzywa!A:A,0))),4)","v":{"$error":"#N/A"}},0,{"$f":"-C109*ABS(D109-F109)*H109*I109*U109+'kompensacja międzyproduktowa'!X109*U109","v":{"$error":"#N/A"}},{"$f":"ROUND(IF((B109-A109+1)>2,IF(C109=75,AVERAGE(INDIRECT(\"krzywa!D\"&MATCH(K109-6,krzywa!A:A,0)&\":D\"&MATCH(K109-2,krzywa!A:A,0))),AVERAGE(INDIRECT(\"krzywa!D\"&MATCH(A109-$A$2+BQ109,krzywa!A:A,0)&\":D\"&MATCH(B109-$A$2-AY109,krzywa!A:A,0)))),INDIRECT(\"krzywa!D\"&MATCH(K109,krzywa!A:A,0))),4)","v":{"$error":"#N/A"}},{"$f":"VLOOKUP(A109,krzywa!L:N,3,1)","v":0},{"$f":"VLOOKUP(B109,krzywa!L:N,3,1)","v":0},{"$f":"IF('Kalkulator Depozytów'!$B$35=TRUE,1,(1+S109/100)*W109+(1+T109/100)*(1-W109))","v":1},{"$f":"IF(S109<>T109,VLOOKUP(A109,krzywa!L:M,2,1))","v":false},{"$f":"IF(V109<>FALSE,IF(L109=\"BASE\",(V109-A109+1)*24+J109,IF(L109=\"OFFPEAK\",NETWORKDAYS(A109,V109,koszyki!$M$20:$M$898)*9+(N109)*24+J109,IF(L109=\"L-PEAK5\",NETWORKDAYS(A109,V109,koszyki!$M$20:$M$898)*10,IF(L109=\"H-PEAK5\",NETWORKDAYS(A109,V109,koszyki!$M$20:$M$898)*5,NETWORKDAYS(A109,V109,koszyki!$M$20:$M$898)*15))))/C109,1)","v":1}]
["2025-01-01","2025-01-31",210,{"$f":"'Kalkulator Depozytów'!M115","v":0},{"$f":"'Kalkulator Depozytów'!N115","v":0},{"$f":"'Kalkulator Depozytów'!O115","v":0},{"$f":"'Kalkulator Depozytów'!P115","v":0},{"$f":"'Kalkulator Depozytów'!Q115","v":0},{"$f":"ROUND(IF(OR(AND(K110>0,L110=\"L-PEAK5\"),AND(K110>0,L110=\"H-PEAK5\")),R110,IF(AND(K110>0,L110=\"PEAK5\"),O110,IF(K110>0,IF(OR(L110=\"BASE\"),AVERAGE(INDIRECT(\"krzywa!B\"&MATCH(A110-$A$2,krzywa!A:A,0)&\":B\"&MATCH(B110-$A$2,krzywa!A:A,0),TRUE)),IF(OR(L110=\"OFFPEAK\"),AVERAGE(INDIRECT(\"krzywa!F\"&MATCH(A110-$A$2,krzywa!A:A,0)&\":F\"&MATCH(B110-$A$2,krzywa!A:A,0)))))))),4)","v":{"$error":"#N/A"}},null,45688,"L-PEAK5",{"$f":"NETWORKDAYS(A110,B110,koszyki!$M$20:$M$898)","v":21},{"$f":"B110-A110+1- NETWORKDAYS(A110,B110,koszyki!$M$20:$M$898)","v":10},{"$f":"ROUND(IF((B110-A110+1)>2,IF(C110=75,AVERAGE(INDIRECT(\"krzywa!C\"&MATCH(K110-6,krzywa!A:A,0)&\":C\"&MATCH(K110-2,krzywa!A:A,0))),AVERAGE(INDIRECT(\"krzywa!C\"&MATCH(A110-$A$2+BQ110,krzywa!A:A,0)&\":C\"&MATCH(B110-$A$2-AY110,krzywa!A:A,0)))),INDIRECT(\"krzywa!C\"&MATCH(K110,krzywa!A:A,0))),4)","v":{"$error":"#N/A"}},0,{"$f":"-C110*ABS(D110-F110)*H110*I110*U110+'kompensacja międzyproduktowa'!X110*U110","v":{"$error":"#N/A"}},{"$f":"ROUND(IF((B110-A110+1)>2,IF(C110=75,AVERAGE(INDIRECT(\"krzywa!D\"&MATCH(K110-6,krzywa!A:A,0)&\":D\"&MATCH(K110-2,krzywa!A:A,0))),AVERAGE(INDIRECT(\"krzywa!D\"&MATCH(A110-$A$2+BQ110,krzywa!A:A,0)&\":D\"&MATCH(B110-$A$2-AY110,krzywa!A:A,0)))),INDIRECT(\"krzywa!D\"&MATCH(K110,krzywa!A:A,0))),4)","v":{"$error":"#N/A"}},{"$f":"VLOOKUP(A110,krzywa!L:N,3,1)","v":0},{"$f":"VLOOKUP(B110,krzywa!L:N,3,1)","v":0},{"$f":"IF('Kalkulator Depozytów'!$B$35=TRUE,1,(1+S110/100)*W110+(1+T110/100)*(1-W110))","v":1},{"$f":"IF(S110<>T110,VLOOKUP(A110,krzywa!L:M,2,1))","v":false},{"$f":"IF(V110<>FALSE,IF(L110=\"BASE\",(V110-A110+1)*24+J110,IF(L110=\"OFFPEAK\",NETWORKDAYS(A110,V110,koszyki!$M$20:$M$898)*9+(N110)*24+J110,IF(L110=\"L-PEAK5\",NETWORKDAYS(A110,V110,koszyki!$M$20:$M$898)*10,IF(L110=\"H-PEAK5\",NETWORKDAYS(A110,V110,koszyki!$M$20:$M$898)*5,NETWORKDAYS(A110,V110,koszyki!$M$20:$M$898)*15))))/C110,1)","v":1}]
["2025-02-01","2025-03-31",410,{"$f":"'Kalkulator Depozytów'!M116","v":0},{"$f":"'Kalkulator Depozytów'!N116","v":0},{"$f":"'Kalkulator Depozytów'!O116","v":0},{"$f":"'Kalkulator Depozytów'!P116","v":0},{"$f":"'Kalkulator Depozytów'!Q116","v":0},{"$f":"ROUND(IF(OR(AND(K111>0,L111=\"L-PEAK5\"),AND(K111>0,L111=\"H-PEAK5\")),R111,IF(AND(K111>0,L111=\"PEAK5\"),O111,IF(K111>0,IF(OR(L111=\"BASE\"),AVERAGE(INDIRECT(\"krzywa!B\"&MATCH(A111-$A$2,krzywa!A:A,0)&\":B\"&MATCH(B111-$A$2,krzywa!A:A,0),TRUE)),IF(OR(L111=\"OFFPEAK\"),AVERAGE(INDIRECT(\"krzywa!F\"&MATCH(A111-$A$2,krzywa!A:A,0)&\":F\"&MATCH(B111-$A$2,krzywa!A:A,0)))))))),4)","v":{"$error":"#N/A"}},null,45747,"L-PEAK5",{"$f":"NETWORKDAYS(A111,B111,koszyki!$M$20:$M$898)","v":41},{"$f":"B111-A111+1- NETWORKDAYS(A111,B111,koszyki!$M$20:$M$898)","v":18},{"$f":"ROUND(IF((B111-A111+1)>2,IF(C111=75,AVERAGE(INDIRECT(\"krzywa!C\"&MATCH(K111-6,krzywa!A:A,0)&\":C\"&MATCH(K111-2,krzywa!A:A,0))),AVERAGE(INDIRECT(\"krzywa!C\"&MATCH(A111-$A$2+BQ111,krzywa!A:A,0)&\":C\"&MATCH(B111-$A$2-AY111,krzywa!A:A,0)))),INDIRECT(\"krzywa!C\"&MATCH(K111,krzywa!A:A,0))),4)","v":{"$error":"#N/A"}},0,{"$f":"-C111*ABS(D111-F111)*H111*I111*U111+'kompensacja międzyproduktowa'!X111*U111","v":{"$error":"#N/A"}},{"$f":"ROUND(IF((B111-A111+1)>2,IF(C111=75,AVERAGE(INDIRECT(\"krzywa!D\"&MATCH(K111-6,krzywa!A:A,0)&\":D\"&MATCH(K111-2,krzywa!A:A,0))),AVERAGE(INDIRECT(\"krzywa!D\"&MATCH(A111-$A$2+BQ111,krzywa!A:A,0)&\":D\"&MATCH(B111-$A$2-AY111,krzywa!A:A,0)))),INDIRECT(\"krzywa!D\"&MATCH(K111,krzywa!A:A,0))),4)","v":{"$error":"#N/A"}},{"$f":"VLOOKUP(A111,krzywa!L:N,3,1)","v":0},{"$f":"VLOOKUP(B111,krzywa!L:N,3,1)","v":0},{"$f":"IF('Kalkulator Depozytów'!$B$35=TRUE,1,(1+S111/100)*W111+(1+T111/100)*(1-W111))","v":1},{"$f":"IF(S111<>T111,VLOOKUP(A111,krzywa!L:M,2,1))","v":false},{"$f":"IF(V111<>FALSE,IF(L111=\"BASE\",(V111-A111+1)*24+J111,IF(L111=\"OFFPEAK\",NETWORKDAYS(A111,V111,koszyki!$M$20:$M$898)*9+(N111)*24+J111,IF(L111=\"L-PEAK5\",NETWORKDAYS(A111,V111,koszyki!$M$20:$M$898)*10,IF(L111=\"H-PEAK5\",NETWORKDAYS(A111,V111,koszyki!$M$20:$M$898)*5,NETWORKDAYS(A111,V111,koszyki!$M$20:$M$898)*15))))/C111,1)","v":1}]
["2025-04-01","2025-06-30",620,{"$f":"'Kalkulator Depozytów'!M117","v":0},{"$f":"'Kalkulator Depozytów'!N117","v":0},{"$f":"'Kalkulator Depozytów'!O117","v":0},{"$f":"'Kalkulator Depozytów'!P117","v":0},{"$f":"'Kalkulator Depozytów'!Q117","v":0},{"$f":"ROUND(IF(OR(AND(K112>0,L112=\"L-PEAK5\"),AND(K112>0,L112=\"H-PEAK5\")),R112,IF(AND(K112>0,L112=\"PEAK5\"),O112,IF(K112>0,IF(OR(L112=\"BASE\"),AVERAGE(INDIRECT(\"krzywa!B\"&MATCH(A112-$A$2,krzywa!A:A,0)&\":B\"&MATCH(B112-$A$2,krzywa!A:A,0),TRUE)),IF(OR(L112=\"OFFPEAK\"),AVERAGE(INDIRECT(\"krzywa!F\"&MATCH(A112-$A$2,krzywa!A:A,0)&\":F\"&MATCH(B112-$A$2,krzywa!A:A,0)))))))),4)","v":{"$error":"#N/A"}},null,45838,"L-PEAK5",{"$f":"NETWORKDAYS(A112,B112,koszyki!$M$20:$M$898)","v":62},{"$f":"B112-A112+1- NETWORKDAYS(A112,B112,koszyki!$M$20:$M$898)","v":29},{"$f":"ROUND(IF((B112-A112+1)>2,IF(C112=75,AVERAGE(INDIRECT(\"krzywa!C\"&MATCH(K112-6,krzywa!A:A,0)&\":C\"&MATCH(K112-2,krzywa!A:A,0))),AVERAGE(INDIRECT(\"krzywa!C\"&MATCH(A112-$A$2+BQ112,krzywa!A:A,0)&\":C\"&MATCH(B112-$A$2-AY112,krzywa!A:A,0)))),INDIRECT(\"krzywa!C\"&MATCH(K112,krzywa!A:A,0))),4)","v":{"$error":"#N/A"}},0,{"$f":"-C112*ABS(D112-F112)*H112*I112*U112+'kompensacja międzyproduktowa'!X112*U112","v":{"$error":"#N/A"}},{"$f":"ROUND(IF((B112-A112+1)>2,IF(C112=75,AVERAGE(INDIRECT(\"krzywa!D\"&MATCH(K112-6,krzywa!A:A,0)&\":D\"&MATCH(K112-2,krzywa!A:A,0))),AVERAGE(INDIRECT(\"krzywa!D\"&MATCH(A112-$A$2+BQ112,krzywa!A:A,0)&\":D\"&MATCH(B112-$A$2-AY112,krzywa!A:A,0)))),INDIRECT(\"krzywa!D\"&MATCH(K112,krzywa!A:A,0))),4)","v":{"$error":"#N/A"}},{"$f":"VLOOKUP(A112,krzywa!L:N,3,1)","v":0},{"$f":"VLOOKUP(B112,krzywa!L:N,3,1)","v":0},{"$f":"IF('Kalkulator Depozytów'!$B$35=TRUE,1,(1+S112/100)*W112+(1+T112/100)*(1-W112))","v":1},{"$f":"IF(S112<>T112,VLOOKUP(A112,krzywa!L:M,2,1))","v":false},{"$f":"IF(V112<>FALSE,IF(L112=\"BASE\",(V112-A112+1)*24+J112,IF(L112=\"OFFPEAK\",NETWORKDAYS(A112,V112,koszyki!$M$20:$M$898)*9+(N112)*24+J112,IF(L112=\"L-PEAK5\",NETWORKDAYS(A112,V112,koszyki!$M$20:$M$898)*10,IF(L112=\"H-PEAK5\",NETWORKDAYS(A112,V112,koszyki!$M$20:$M$898)*5,NETWORKDAYS(A112,V112,koszyki!$M$20:$M$898)*15))))/C112,1)","v":1}]
["2024-11-28","2024-11-28",5,{"$f":"'Kalkulator Depozytów'!M118","v":0},{"$f":"'Kalkulator Depozytów'!N118","v":0},{"$f":"'Kalkulator Depozytów'!O118","v":0},{"$f":"'Kalkulator Depozytów'!P118","v":0},{"$f":"'Kalkulator Depozytów'!Q118","v":0},{"$f":"ROUND(IF(OR(AND(K113>0,L113=\"L-PEAK5\"),AND(K113>0,L113=\"H-PEAK5\")),R113,IF(AND(K113>0,L113=\"PEAK5\"),O113,IF(K113>0,IF(OR(L113=\"BASE\"),AVERAGE(INDIRECT(\"krzywa!B\"&MATCH(A113-$A$2,krzywa!A:A,0)&\":B\"&MATCH(B113-$A$2,krzywa!A:A,0),TRUE)),IF(OR(L113=\"OFFPEAK\"),AVERAGE(INDIRECT(\"krzywa!F\"&MATCH(A113-$A$2,krzywa!A:A,0)&\":F\"&MATCH(B113-$A$2,krzywa!A:A,0)))))))),4)","v":{"$error":"#N/A"}},null,45624,"H-PEAK5",{"$f":"NETWORKDAYS(A113,B113,koszyki!$M$20:$M$898)","v":1},{"$f":"B113-A113+1- NETWORKDAYS(A113,B113,koszyki!$M$20:$M$898)","v":0},{"$f":"ROUND(IF((B113-A113+1)>2,IF(C113=75,AVERAGE(INDIRECT(\"krzywa!C\"&MATCH(K113-6,krzywa!A:A,0)&\":C\"&MATCH(K113-2,krzywa!A:A,0))),AVERAGE(INDIRECT(\"krzywa!C\"&MATCH(A113-$A$2+BQ113,krzywa!A:A,0)&\":C\"&MATCH(B113-$A$2-AY113,krzywa!A:A,0)))),INDIRECT(\"krzywa!C\"&MATCH(K113,krzywa!A:A,0))),4)","v":{"$error":"#N/A"}},0,{"$f":"-C113*ABS(D113-F113)*H113*I113*U113+'kompensacja międzyproduktowa'!X113*U113","v":{"$error":"#N/A"}},{"$f":"ROUND(IF((B113-A113+1)>2,IF(C113=75,AVERAGE(INDIRECT(\"krzywa!D\"&MATCH(K113-6,krzywa!A:A,0)&\":D\"&MATCH(K113-2,krzywa!A:A,0))),AVERAGE(INDIRECT(\"krzywa!D\"&MATCH(A113-$A$2+BQ113,krzywa!A:A,0)&\":D\"&MATCH(B113-$A$2-AY113,krzywa!A:A,0)))),INDIRECT(\"krzywa!D\"&MATCH(K113,krzywa!A:A,0))),4)","v":{"$error":"#N/A"}},{"$f":"VLOOKUP(A113,krzywa!L:N,3,1)","v":0},{"$f":"VLOOKUP(B113,krzywa!L:N,3,1)","v":0},{"$f":"IF('Kalkulator Depozytów'!$B$35=TRUE,1,(1+S113/100)*W113+(1+T113/100)*(1-W113))","v":1},{"$f":"IF(S113<>T113,VLOOKUP(A113,krzywa!L:M,2,1))","v":false},{"$f":"IF(V113<>FALSE,IF(L113=\"BASE\",(V113-A113+1)*24+J113,IF(L113=\"OFFPEAK\",NETWORKDAYS(A113,V113,koszyki!$M$20:$M$898)*9+(N113)*24+J113,IF(L113=\"L-PEAK5\",NETWORKDAYS(A113,V113,koszyki!$M$20:$M$898)*10,IF(L113=\"H-PEAK5\",NETWORKDAYS(A113,V113,koszyki!$M$20:$M$898)*5,NETWORKDAYS(A113,V113,koszyki!$M$20:$M$898)*15))))/C113,1)","v":1}]
["2024-11-29","2024-11-29",5,{"$f":"'Kalkulator Depozytów'!M119","v":0},{"$f":"'Kalkulator Depozytów'!N119","v":0},{"$f":"'Kalkulator Depozytów'!O119","v":0},{"$f":"'Kalkulator Depozytów'!P119","v":0},{"$f":"'Kalkulator Depozytów'!Q119","v":0},{"$f":"ROUND(IF(OR(AND(K114>0,L114=\"L-PEAK5\"),AND(K114>0,L114=\"H-PEAK5\")),R114,IF(AND(K114>0,L114=\"PEAK5\"),O114,IF(K114>0,IF(OR(L114=\"BASE\"),AVERAGE(INDIRECT(\"krzywa!B\"&MATCH(A114-$A$2,krzywa!A:A,0)&\":B\"&MATCH(B114-$A$2,krzywa!A:A,0),TRUE)),IF(OR(L114=\"OFFPEAK\"),AVERAGE(INDIRECT(\"krzywa!F\"&MATCH(A114-$A$2,krzywa!A:A,0)&\":F\"&MATCH(B114-$A$2,krzywa!A:A,0)))))))),4)","v":{"$error":"#N/A"}},null,45625,"H-PEAK5",{"$f":"NETWORKDAYS(A114,B114,koszyki!$M$20:$M$898)","v":1},{"$f":"B114-A114+1- NETWORKDAYS(A114,B114,koszyki!$M$20:$M$898)","v":0},{"$f":"ROUND(IF((B114-A114+1)>2,IF(C114=75,AVERAGE(INDIRECT(\"krzywa!C\"&MATCH(K114-6,krzywa!A:A,0)&\":C\"&MATCH(K114-2,krzywa!A:A,0))),AVERAGE(INDIRECT(\"krzywa!C\"&MATCH(A114-$A$2+BQ114,krzywa!A:A,0)&\":C\"&MATCH(B114-$A$2-AY114,krzywa!A:A,0)))),INDIRECT(\"krzywa!C\"&MATCH(K114,krzywa!A:A,0))),4)","v":{"$error":"#N/A"}},0,{"$f":"-C114*ABS(D114-F114)*H114*I114*U114+'kompensacja międzyproduktowa'!X114*U114","v":{"$error":"#N/A"}},{"$f":"ROUND(IF((B114-A114+1)>2,IF(C114=75,AVERAGE(INDIRECT(\"krzywa!D\"&MATCH(K114-6,krzywa!A:A,0)&\":D\"&MATCH(K114-2,krzywa!A:A,0))),AVERAGE(INDIRECT(\"krzywa!D\"&MATCH(A114-$A$2+BQ114,krzywa!A:A,0)&\":D\"&MATCH(B114-$A$2-AY114,krzywa!A:A,0)))),INDIRECT(\"krzywa!D\"&MATCH(K114,krzywa!A:A,0))),4)","v":{"$error":"#N/A"}},{"$f":"VLOOKUP(A114,krzywa!L:N,3,1)","v":0},{"$f":"VLOOKUP(B114,krzywa!L:N,3,1)","v":0},{"$f":"IF('Kalkulator Depozytów'!$B$35=TRUE,1,(1+S114/100)*W114+(1+T114/100)*(1-W114))","v":1},{"$f":"IF(S114<>T114,VLOOKUP(A114,krzywa!L:M,2,1))","v":false},{"$f":"IF(V114<>FALSE,IF(L114=\"BASE\",(V114-A114+1)*24+J114,IF(L114=\"OFFPEAK\",NETWORKDAYS(A114,V114,koszyki!$M$20:$M$898)*9+(N114)*24+J114,IF(L114=\"L-PEAK5\",NETWORKDAYS(A114,V114,koszyki!$M$20:$M$898)*10,IF(L114=\"H-PEAK5\",NETWORKDAYS(A114,V114,koszyki!$M$20:$M$898)*5,NETWORKDAYS(A114,V114,koszyki!$M$20:$M$898)*15))))/C114,1)","v":1}]
["2024-11-30","2024-11-30",0,{"$f":"'Kalkulator Depozytów'!M120","v":0},{"$f":"'Kalkulator Depozytów'!N120","v":0},{"$f":"'Kalkulator Depozytów'!O120","v":0},{"$f":"'Kalkulator Depozytów'!P120","v":0},{"$f":"'Kalkulator Depozytów'!Q120","v":0},{"$f":"ROUND(IF(OR(AND(K115>0,L115=\"L-PEAK5\"),AND(K115>0,L115=\"H-PEAK5\")),R115,IF(AND(K115>0,L115=\"PEAK5\"),O115,IF(K115>0,IF(OR(L115=\"BASE\"),AVERAGE(INDIRECT(\"krzywa!B\"&MATCH(A115-$A$2,krzywa!A:A,0)&\":B\"&MATCH(B115-$A$2,krzywa!A:A,0),TRUE)),IF(OR(L115=\"OFFPEAK\"),AVERAGE(INDIRECT(\"krzywa!F\"&MATCH(A115-$A$2,krzywa!A:A,0)&\":F\"&MATCH(B115-$A$2,krzywa!A:A,0)))))))),4)","v":{"$error":"#N/A"}},null,45626,"H-PEAK5",{"$f":"NETWORKDAYS(A115,B115,koszyki!$M$20:$M$898)","v":0},{"$f":"B115-A115+1- NETWORKDAYS(A115,B115,koszyki!$M$20:$M$898)","v":1},{"$f":"ROUND(IF((B115-A115+1)>2,IF(C115=75,AVERAGE(INDIRECT(\"krzywa!C\"&MATCH(K115-6,krzywa!A:A,0)&\":C\"&MATCH(K115-2,krzywa!A:A,0))),AVERAGE(INDIRECT(\"krzywa!C\"&MATCH(A115-$A$2+BQ115,krzywa!A:A,0)&\":C\"&MATCH(B115-$A$2-AY115,krzywa!A:A,0)))),INDIRECT(\"krzywa!C\"&MATCH(K115,krzywa!A:A,0))),4)","v":{"$error":"#N/A"}},0,{"$f":"-C115*ABS(D115-F115)*H115*I115*U115+'kompensacja międzyproduktowa'!X115*U115","v":{"$error":"#N/A"}},{"$f":"ROUND(IF((B115-A115+1)>2,IF(C115=75,AVERAGE(INDIRECT(\"krzywa!D\"&MATCH(K115-6,krzywa!A:A,0)&\":D\"&MATCH(K115-2,krzywa!A:A,0))),AVERAGE(INDIRECT(\"krzywa!D\"&MATCH(A115-$A$2+BQ115,krzywa!A:A,0)&\":D\"&MATCH(B115-$A$2-AY115,krzywa!A:A,0)))),INDIRECT(\"krzywa!D\"&MATCH(K115,krzywa!A:A,0))),4)","v":{"$error":"#N/A"}},{"$f":"VLOOKUP(A115,krzywa!L:N,3,1)","v":0},{"$f":"VLOOKUP(B115,krzywa!L:N,3,1)","v":0},{"$f":"IF('Kalkulator Depozytów'!$B$35=TRUE,1,(1+S115/100)*W115+(1+T115/100)*(1-W115))","v":1},{"$f":"IF(S115<>T115,VLOOKUP(A115,krzywa!L:M,2,1))","v":false},{"$f":"IF(V115<>FALSE,IF(L115=\"BASE\",(V115-A115+1)*24+J115,IF(L115=\"OFFPEAK\",NETWORKDAYS(A115,V115,koszyki!$M$20:$M$898)*9+(N115)*24+J115,IF(L115=\"L-PEAK5\",NETWORKDAYS(A115,V115,koszyki!$M$20:$M$898)*10,IF(L115=\"H-PEAK5\",NETWORKDAYS(A115,V115,koszyki!$M$20:$M$898)*5,NETWORKDAYS(A115,V115,koszyki!$M$20:$M$898)*15))))/C115,1)","v":1}]
["2024-12-01","2024-12-01",0,{"$f":"'Kalkulator Depozytów'!M121","v":0},{"$f":"'Kalkulator Depozytów'!N121","v":0},{"$f":"'Kalkulator Depozytów'!O121","v":0},{"$f":"'Kalkulator Depozytów'!P121","v":0},{"$f":"'Kalkulator Depozytów'!Q121","v":0},{"$f":"ROUND(IF(OR(AND(K116>0,L116=\"L-PEAK5\"),AND(K116>0,L116=\"H-PEAK5\")),R116,IF(AND(K116>0,L116=\"PEAK5\"),O116,IF(K116>0,IF(OR(L116=\"BASE\"),AVERAGE(INDIRECT(\"krzywa!B\"&MATCH(A116-$A$2,krzywa!A:A,0)&\":B\"&MATCH(B116-$A$2,krzywa!A:A,0),TRUE)),IF(OR(L116=\"OFFPEAK\"),AVERAGE(INDIRECT(\"krzywa!F\"&MATCH(A116-$A$2,krzywa!A:A,0)&\":F\"&MATCH(B116-$A$2,krzywa!A:A,0)))))))),4)","v":{"$error":"#N/A"}},null,45627,"H-PEAK5",{"$f":"NETWORKDAYS(A116,B116,koszyki!$M$20:$M$898)","v":0},{"$f":"B116-A116+1- NETWORKDAYS(A116,B116,koszyki!$M$20:$M$898)","v":1},{"$f":"ROUND(IF((B116-A116+1)>2,IF(C116=75,AVERAGE(INDIRECT(\"krzywa!C\"&MATCH(K116-6,krzywa!A:A,0)&\":C\"&MATCH(K116-2,krzywa!A:A,0))),AVERAGE(INDIRECT(\"krzywa!C\"&MATCH(A116-$A$2+BQ116,krzywa!A:A,0)&\":C\"&MATCH(B116-$A$2-AY116,krzywa!A:A,0)))),INDIRECT(\"krzywa!C\"&MATCH(K116,krzywa!A:A,0))),4)","v":{"$error":"#N/A"}},0,{"$f":"-C116*ABS(D116-F116)*H116*I116*U116+'kompensacja międzyproduktowa'!X116*U116","v":{"$error":"#N/A"}},{"$f":"ROUND(IF((B116-A116+1)>2,IF(C116=75,AVERAGE(INDIRECT(\"krzywa!D\"&MATCH(K116-6,krzywa!A:A,0)&\":D\"&MATCH(K116-2,krzywa!A:A,0))),AVERAGE(INDIRECT(\"krzywa!D\"&MATCH(A116-$A$2+BQ116,krzywa!A:A,0)&\":D\"&MATCH(B116-$A$2-AY116,krzywa!A:A,0)))),INDIRECT(\"krzywa!D\"&MATCH(K116,krzywa!A:A,0))),4)","v":{"$error":"#N/A"}},{"$f":"VLOOKUP(A116,krzywa!L:N,3,1)","v":0},{"$f":"VLOOKUP(B116,krzywa!L:N,3,1)","v":0},{"$f":"IF('Kalkulator Depozytów'!$B$35=TRUE,1,(1+S116/100)*W116+(1+T116/100)*(1-W116))","v":1},{"$f":"IF(S116<>T116,VLOOKUP(A116,krzywa!L:M,2,1))","v":false},{"$f":"IF(V116<>FALSE,IF(L116=\"BASE\",(V116-A116+1)*24+J116,IF(L116=\"OFFPEAK\",NETWORKDAYS(A116,V116,koszyki!$M$20:$M$898)*9+(N116)*24+J116,IF(L116=\"L-PEAK5\",NETWORKDAYS(A116,V116,koszyki!$M$20:$M$898)*10,IF(L116=\"H-PEAK5\",NETWORKDAYS(A116,V116,koszyki!$M$20:$M$898)*5,NETWORKDAYS(A116,V116,koszyki!$M$20:$M$898)*15))))/C116,1)","v":1}]
["2024-12-02","2024-12-02",5,{"$f":"'Kalkulator Depozytów'!M122","v":0},{"$f":"'Kalkulator Depozytów'!N122","v":0},{"$f":"'Kalkulator Depozytów'!O122","v":0},{"$f":"'Kalkulator Depozytów'!P122","v":0},{"$f":"'Kalkulator Depozytów'!Q122","v":0},{"$f":"ROUND(IF(OR(AND(K117>0,L117=\"L-PEAK5\"),AND(K117>0,L117=\"H-PEAK5\")),R117,IF(AND(K117>0,L117=\"PEAK5\"),O117,IF(K117>0,IF(OR(L117=\"BASE\"),AVERAGE(INDIRECT(\"krzywa!B\"&MATCH(A117-$A$2,krzywa!A:A,0)&\":B\"&MATCH(B117-$A$2,krzywa!A:A,0),TRUE)),IF(OR(L117=\"OFFPEAK\"),AVERAGE(INDIRECT(\"krzywa!F\"&MATCH(A117-$A$2,krzywa!A:A,0)&\":F\"&MATCH(B117-$A$2,krzywa!A:A,0)))))))),4)","v":{"$error":"#N/A"}},null,45628,"H-PEAK5",{"$f":"NETWORKDAYS(A117,B117,koszyki!$M$20:$M$898)","v":1},{"$f":"B117-A117+1- NETWORKDAYS(A117,B117,koszyki!$M$20:$M$898)","v":0},{"$f":"ROUND(IF((B117-A117+1)>2,IF(C117=75,AVERAGE(INDIRECT(\"krzywa!C\"&MATCH(K117-6,krzywa!A:A,0)&\":C\"&MATCH(K117-2,krzywa!A:A,0))),AVERAGE(INDIRECT(\"krzywa!C\"&MATCH(A117-$A$2+BQ117,krzywa!A:A,0)&\":C\"&MATCH(B117-$A$2-AY117,krzywa!A:A,0)))),INDIRECT(\"krzywa!C\"&MATCH(K117,krzywa!A:A,0))),4)","v":{"$error":"#N/A"}},0,{"$f":"-C117*ABS(D117-F117)*H117*I117*U117+'kompensacja międzyproduktowa'!X117*U117","v":{"$error":"#N/A"}},{"$f":"ROUND(IF((B117-A117+1)>2,IF(C117=75,AVERAGE(INDIRECT(\"krzywa!D\"&MATCH(K117-6,krzywa!A:A,0)&\":D\"&MATCH(K117-2,krzywa!A:A,0))),AVERAGE(INDIRECT(\"krzywa!D\"&MATCH(A117-$A$2+BQ117,krzywa!A:A,0)&\":D\"&MATCH(B117-$A$2-AY117,krzywa!A:A,0)))),INDIRECT(\"krzywa!D\"&MATCH(K117,krzywa!A:A,0))),4)","v":{"$error":"#N/A"}},{"$f":"VLOOKUP(A117,krzywa!L:N,3,1)","v":0},{"$f":"VLOOKUP(B117,krzywa!L:N,3,1)","v":0},{"$f":"IF('Kalkulator Depozytów'!$B$35=TRUE,1,(1+S117/100)*W117+(1+T117/100)*(1-W117))","v":1},{"$f":"IF(S117<>T117,VLOOKUP(A117,krzywa!L:M,2,1))","v":false},{"$f":"IF(V117<>FALSE,IF(L117=\"BASE\",(V117-A117+1)*24+J117,IF(L117=\"OFFPEAK\",NETWORKDAYS(A117,V117,koszyki!$M$20:$M$898)*9+(N117)*24+J117,IF(L117=\"L-PEAK5\",NETWORKDAYS(A117,V117,koszyki!$M$20:$M$898)*10,IF(L117=\"H-PEAK5\",NETWORKDAYS(A117,V117,koszyki!$M$20:$M$898)*5,NETWORKDAYS(A117,V117,koszyki!$M$20:$M$898)*15))))/C117,1)","v":1}]
["2024-12-03","2024-12-03",5,{"$f":"'Kalkulator Depozytów'!M123","v":0},{"$f":"'Kalkulator Depozytów'!N123","v":0},{"$f":"'Kalkulator Depozytów'!O123","v":0},{"$f":"'Kalkulator Depozytów'!P123","v":0},{"$f":"'Kalkulator Depozytów'!Q123","v":0},{"$f":"ROUND(IF(OR(AND(K118>0,L118=\"L-PEAK5\"),AND(K118>0,L118=\"H-PEAK5\")),R118,IF(AND(K118>0,L118=\"PEAK5\"),O118,IF(K118>0,IF(OR(L118=\"BASE\"),AVERAGE(INDIRECT(\"krzywa!B\"&MATCH(A118-$A$2,krzywa!A:A,0)&\":B\"&MATCH(B118-$A$2,krzywa!A:A,0),TRUE)),IF(OR(L118=\"OFFPEAK\"),AVERAGE(INDIRECT(\"krzywa!F\"&MATCH(A118-$A$2,krzywa!A:A,0)&\":F\"&MATCH(B118-$A$2,krzywa!A:A,0)))))))),4)","v":{"$error":"#N/A"}},null,45629,"H-PEAK5",{"$f":"NETWORKDAYS(A118,B118,koszyki!$M$20:$M$898)","v":1},{"$f":"B118-A118+1- NETWORKDAYS(A118,B118,koszyki!$M$20:$M$898)","v":0},{"$f":"ROUND(IF((B118-A118+1)>2,IF(C118=75,AVERAGE(INDIRECT(\"krzywa!C\"&MATCH(K118-6,krzywa!A:A,0)&\":C\"&MATCH(K118-2,krzywa!A:A,0))),AVERAGE(INDIRECT(\"krzywa!C\"&MATCH(A118-$A$2+BQ118,krzywa!A:A,0)&\":C\"&MATCH(B118-$A$2-AY118,krzywa!A:A,0)))),INDIRECT(\"krzywa!C\"&MATCH(K118,krzywa!A:A,0))),4)","v":{"$error":"#N/A"}},0,{"$f":"-C118*ABS(D118-F118)*H118*I118*U118+'kompensacja międzyproduktowa'!X118*U118","v":{"$error":"#N/A"}},{"$f":"ROUND(IF((B118-A118+1)>2,IF(C118=75,AVERAGE(INDIRECT(\"krzywa!D\"&MATCH(K118-6,krzywa!A:A,0)&\":D\"&MATCH(K118-2,krzywa!A:A,0))),AVERAGE(INDIRECT(\"krzywa!D\"&MATCH(A118-$A$2+BQ118,krzywa!A:A,0)&\":D\"&MATCH(B118-$A$2-AY118,krzywa!A:A,0)))),INDIRECT(\"krzywa!D\"&MATCH(K118,krzywa!A:A,0))),4)","v":{"$error":"#N/A"}},{"$f":"VLOOKUP(A118,krzywa!L:N,3,1)","v":0},{"$f":"VLOOKUP(B118,krzywa!L:N,3,1)","v":0},{"$f":"IF('Kalkulator Depozytów'!$B$35=TRUE,1,(1+S118/100)*W118+(1+T118/100)*(1-W118))","v":1},{"$f":"IF(S118<>T118,VLOOKUP(A118,krzywa!L:M,2,1))","v":false},{"$f":"IF(V118<>FALSE,IF(L118=\"BASE\",(V118-A118+1)*24+J118,IF(L118=\"OFFPEAK\",NETWORKDAYS(A118,V118,koszyki!$M$20:$M$898)*9+(N118)*24+J118,IF(L118=\"L-PEAK5\",NETWORKDAYS(A118,V118,koszyki!$M$20:$M$898)*10,IF(L118=\"H-PEAK5\",NETWORKDAYS(A118,V118,koszyki!$M$20:$M$898)*5,NETWORKDAYS(A118,V118,koszyki!$M$20:$M$898)*15))))/C118,1)","v":1}]
["2024-12-04","2024-12-04",5,{"$f":"'Kalkulator Depozytów'!M124","v":0},{"$f":"'Kalkulator Depozytów'!N124","v":0},{"$f":"'Kalkulator Depozytów'!O124","v":0},{"$f":"'Kalkulator Depozytów'!P124","v":0},{"$f":"'Kalkulator Depozytów'!Q124","v":0},{"$f":"ROUND(IF(OR(AND(K119>0,L119=\"L-PEAK5\"),AND(K119>0,L119=\"H-PEAK5\")),R119,IF(AND(K119>0,L119=\"PEAK5\"),O119,IF(K119>0,IF(OR(L119=\"BASE\"),AVERAGE(INDIRECT(\"krzywa!B\"&MATCH(A119-$A$2,krzywa!A:A,0)&\":B\"&MATCH(B119-$A$2,krzywa!A:A,0),TRUE)),IF(OR(L119=\"OFFPEAK\"),AVERAGE(INDIRECT(\"krzywa!F\"&MATCH(A119-$A$2,krzywa!A:A,0)&\":F\"&MATCH(B119-$A$2,krzywa!A:A,0)))))))),4)","v":{"$error":"#N/A"}},null,45630,"H-PEAK5",{"$f":"NETWORKDAYS(A119,B119,koszyki!$M$20:$M$898)","v":1},{"$f":"B119-A119+1- NETWORKDAYS(A119,B119,koszyki!$M$20:$M$898)","v":0},{"$f":"ROUND(IF((B119-A119+1)>2,IF(C119=75,AVERAGE(INDIRECT(\"krzywa!C\"&MATCH(K119-6,krzywa!A:A,0)&\":C\"&MATCH(K119-2,krzywa!A:A,0))),AVERAGE(INDIRECT(\"krzywa!C\"&MATCH(A119-$A$2+BQ119,krzywa!A:A,0)&\":C\"&MATCH(B119-$A$2-AY119,krzywa!A:A,0)))),INDIRECT(\"krzywa!C\"&MATCH(K119,krzywa!A:A,0))),4)","v":{"$error":"#N/A"}},0,{"$f":"-C119*ABS(D119-F119)*H119*I119*U119+'kompensacja międzyproduktowa'!X119*U119","v":{"$error":"#N/A"}},{"$f":"ROUND(IF((B119-A119+1)>2,IF(C119=75,AVERAGE(INDIRECT(\"krzywa!D\"&MATCH(K119-6,krzywa!A:A,0)&\":D\"&MATCH(K119-2,krzywa!A:A,0))),AVERAGE(INDIRECT(\"krzywa!D\"&MATCH(A119-$A$2+BQ119,krzywa!A:A,0)&\":D\"&MATCH(B119-$A$2-AY119,krzywa!A:A,0)))),INDIRECT(\"krzywa!D\"&MATCH(K119,krzywa!A:A,0))),4)","v":{"$error":"#N/A"}},{"$f":"VLOOKUP(A119,krzywa!L:N,3,1)","v":0},{"$f":"VLOOKUP(B119,krzywa!L:N,3,1)","v":0},{"$f":"IF('Kalkulator Depozytów'!$B$35=TRUE,1,(1+S119/100)*W119+(1+T119/100)*(1-W119))","v":1},{"$f":"IF(S119<>T119,VLOOKUP(A119,krzywa!L:M,2,1))","v":false},{"$f":"IF(V119<>FALSE,IF(L119=\"BASE\",(V119-A119+1)*24+J119,IF(L119=\"OFFPEAK\",NETWORKDAYS(A119,V119,koszyki!$M$20:$M$898)*9+(N119)*24+J119,IF(L119=\"L-PEAK5\",NETWORKDAYS(A119,V119,koszyki!$M$20:$M$898)*10,IF(L119=\"H-PEAK5\",NETWORKDAYS(A119,V119,koszyki!$M$20:$M$898)*5,NETWORKDAYS(A119,V119,koszyki!$M$20:$M$898)*15))))/C119,1)","v":1}]
["2024-12-05","2024-12-05",5,{"$f":"'Kalkulator Depozytów'!M125","v":0},{"$f":"'Kalkulator Depozytów'!N125","v":0},{"$f":"'Kalkulator Depozytów'!O125","v":0},{"$f":"'Kalkulator Depozytów'!P125","v":0},{"$f":"'Kalkulator Depozytów'!Q125","v":0},{"$f":"ROUND(IF(OR(AND(K120>0,L120=\"L-PEAK5\"),AND(K120>0,L120=\"H-PEAK5\")),R120,IF(AND(K120>0,L120=\"PEAK5\"),O120,IF(K120>0,IF(OR(L120=\"BASE\"),AVERAGE(INDIRECT(\"krzywa!B\"&MATCH(A120-$A$2,krzywa!A:A,0)&\":B\"&MATCH(B120-$A$2,krzywa!A:A,0),TRUE)),IF(OR(L120=\"OFFPEAK\"),AVERAGE(INDIRECT(\"krzywa!F\"&MATCH(A120-$A$2,krzywa!A:A,0)&\":F\"&MATCH(B120-$A$2,krzywa!A:A,0)))))))),4)","v":{"$error":"#N/A"}},null,45631,"H-PEAK5",{"$f":"NETWORKDAYS(A120,B120,koszyki!$M$20:$M$898)","v":1},{"$f":"B120-A120+1- NETWORKDAYS(A120,B120,koszyki!$M$20:$M$898)","v":0},{"$f":"ROUND(IF((B120-A120+1)>2,IF(C120=75,AVERAGE(INDIRECT(\"krzywa!C\"&MATCH(K120-6,krzywa!A:A,0)&\":C\"&MATCH(K120-2,krzywa!A:A,0))),AVERAGE(INDIRECT(\"krzywa!C\"&MATCH(A120-$A$2+BQ120,krzywa!A:A,0)&\":C\"&MATCH(B120-$A$2-AY120,krzywa!A:A,0)))),INDIRECT(\"krzywa!C\"&MATCH(K120,krzywa!A:A,0))),4)","v":{"$error":"#N/A"}},0,{"$f":"-C120*ABS(D120-F120)*H120*I120*U120+'kompensacja międzyproduktowa'!X120*U120","v":{"$error":"#N/A"}},{"$f":"ROUND(IF((B120-A120+1)>2,IF(C120=75,AVERAGE(INDIRECT(\"krzywa!D\"&MATCH(K120-6,krzywa!A:A,0)&\":D\"&MATCH(K120-2,krzywa!A:A,0))),AVERAGE(INDIRECT(\"krzywa!D\"&MATCH(A120-$A$2+BQ120,krzywa!A:A,0)&\":D\"&MATCH(B120-$A$2-AY120,krzywa!A:A,0)))),INDIRECT(\"krzywa!D\"&MATCH(K120,krzywa!A:A,0))),4)","v":{"$error":"#N/A"}},{"$f":"VLOOKUP(A120,krzywa!L:N,3,1)","v":0},{"$f":"VLOOKUP(B120,krzywa!L:N,3,1)","v":0},{"$f":"IF('Kalkulator Depozytów'!$B$35=TRUE,1,(1+S120/100)*W120+(1+T120/100)*(1-W120))","v":1},{"$f":"IF(S120<>T120,VLOOKUP(A120,krzywa!L:M,2,1))","v":false},{"$f":"IF(V120<>FALSE,IF(L120=\"BASE\",(V120-A120+1)*24+J120,IF(L120=\"OFFPEAK\",NETWORKDAYS(A120,V120,koszyki!$M$20:$M$898)*9+(N120)*24+J120,IF(L120=\"L-PEAK5\",NETWORKDAYS(A120,V120,koszyki!$M$20:$M$898)*10,IF(L120=\"H-PEAK5\",NETWORKDAYS(A120,V120,koszyki!$M$20:$M$898)*5,NETWORKDAYS(A120,V120,koszyki!$M$20:$M$898)*15))))/C120,1)","v":1}]
["2024-12-06","2024-12-06",5,{"$f":"'Kalkulator Depozytów'!M126","v":0},{"$f":"'Kalkulator Depozytów'!N126","v":0},{"$f":"'Kalkulator Depozytów'!O126","v":0},{"$f":"'Kalkulator Depozytów'!P126","v":0},{"$f":"'Kalkulator Depozytów'!Q126","v":0},{"$f":"ROUND(IF(OR(AND(K121>0,L121=\"L-PEAK5\"),AND(K121>0,L121=\"H-PEAK5\")),R121,IF(AND(K121>0,L121=\"PEAK5\"),O121,IF(K121>0,IF(OR(L121=\"BASE\"),AVERAGE(INDIRECT(\"krzywa!B\"&MATCH(A121-$A$2,krzywa!A:A,0)&\":B\"&MATCH(B121-$A$2,krzywa!A:A,0),TRUE)),IF(OR(L121=\"OFFPEAK\"),AVERAGE(INDIRECT(\"krzywa!F\"&MATCH(A121-$A$2,krzywa!A:A,0)&\":F\"&MATCH(B121-$A$2,krzywa!A:A,0)))))))),4)","v":{"$error":"#N/A"}},null,45632,"H-PEAK5",{"$f":"NETWORKDAYS(A121,B121,koszyki!$M$20:$M$898)","v":1},{"$f":"B121-A121+1- NETWORKDAYS(A121,B121,koszyki!$M$20:$M$898)","v":0},{"$f":"ROUND(IF((B121-A121+1)>2,IF(C121=75,AVERAGE(INDIRECT(\"krzywa!C\"&MATCH(K121-6,krzywa!A:A,0)&\":C\"&MATCH(K121-2,krzywa!A:A,0))),AVERAGE(INDIRECT(\"krzywa!C\"&MATCH(A121-$A$2+BQ121,krzywa!A:A,0)&\":C\"&MATCH(B121-$A$2-AY121,krzywa!A:A,0)))),INDIRECT(\"krzywa!C\"&MATCH(K121,krzywa!A:A,0))),4)","v":{"$error":"#N/A"}},0,{"$f":"-C121*ABS(D121-F121)*H121*I121*U121+'kompensacja międzyproduktowa'!X121*U121","v":{"$error":"#N/A"}},{"$f":"ROUND(IF((B121-A121+1)>2,IF(C121=75,AVERAGE(INDIRECT(\"krzywa!D\"&MATCH(K121-6,krzywa!A:A,0)&\":D\"&MATCH(K121-2,krzywa!A:A,0))),AVERAGE(INDIRECT(\"krzywa!D\"&MATCH(A121-$A$2+BQ121,krzywa!A:A,0)&\":D\"&MATCH(B121-$A$2-AY121,krzywa!A:A,0)))),INDIRECT(\"krzywa!D\"&MATCH(K121,krzywa!A:A,0))),4)","v":{"$error":"#N/A"}},{"$f":"VLOOKUP(A121,krzywa!L:N,3,1)","v":0},{"$f":"VLOOKUP(B121,krzywa!L:N,3,1)","v":0},{"$f":"IF('Kalkulator Depozytów'!$B$35=TRUE,1,(1+S121/100)*W121+(1+T121/100)*(1-W121))","v":1},{"$f":"IF(S121<>T121,VLOOKUP(A121,krzywa!L:M,2,1))","v":false},{"$f":"IF(V121<>FALSE,IF(L121=\"BASE\",(V121-A121+1)*24+J121,IF(L121=\"OFFPEAK\",NETWORKDAYS(A121,V121,koszyki!$M$20:$M$898)*9+(N121)*24+J121,IF(L121=\"L-PEAK5\",NETWORKDAYS(A121,V121,koszyki!$M$20:$M$898)*10,IF(L121=\"H-PEAK5\",NETWORKDAYS(A121,V121,koszyki!$M$20:$M$898)*5,NETWORKDAYS(A121,V121,koszyki!$M$20:$M$898)*15))))/C121,1)","v":1}]
["2024-12-07","2024-12-07",0,{"$f":"'Kalkulator Depozytów'!M127","v":0},{"$f":"'Kalkulator Depozytów'!N127","v":0},{"$f":"'Kalkulator Depozytów'!O127","v":0},{"$f":"'Kalkulator Depozytów'!P127","v":0},{"$f":"'Kalkulator Depozytów'!Q127","v":0},{"$f":"ROUND(IF(OR(AND(K122>0,L122=\"L-PEAK5\"),AND(K122>0,L122=\"H-PEAK5\")),R122,IF(AND(K122>0,L122=\"PEAK5\"),O122,IF(K122>0,IF(OR(L122=\"BASE\"),AVERAGE(INDIRECT(\"krzywa!B\"&MATCH(A122-$A$2,krzywa!A:A,0)&\":B\"&MATCH(B122-$A$2,krzywa!A:A,0),TRUE)),IF(OR(L122=\"OFFPEAK\"),AVERAGE(INDIRECT(\"krzywa!F\"&MATCH(A122-$A$2,krzywa!A:A,0)&\":F\"&MATCH(B122-$A$2,krzywa!A:A,0)))))))),4)","v":{"$error":"#N/A"}},null,45633,"H-PEAK5",{"$f":"NETWORKDAYS(A122,B122,koszyki!$M$20:$M$898)","v":0},{"$f":"B122-A122+1- NETWORKDAYS(A122,B122,koszyki!$M$20:$M$898)","v":1},{"$f":"ROUND(IF((B122-A122+1)>2,IF(C122=75,AVERAGE(INDIRECT(\"krzywa!C\"&MATCH(K122-6,krzywa!A:A,0)&\":C\"&MATCH(K122-2,krzywa!A:A,0))),AVERAGE(INDIRECT(\"krzywa!C\"&MATCH(A122-$A$2+BQ122,krzywa!A:A,0)&\":C\"&MATCH(B122-$A$2-AY122,krzywa!A:A,0)))),INDIRECT(\"krzywa!C\"&MATCH(K122,krzywa!A:A,0))),4)","v":{"$error":"#N/A"}},0,{"$f":"-C122*ABS(D122-F122)*H122*I122*U122+'kompensacja międzyproduktowa'!X122*U122","v":{"$error":"#N/A"}},{"$f":"ROUND(IF((B122-A122+1)>2,IF(C122=75,AVERAGE(INDIRECT(\"krzywa!D\"&MATCH(K122-6,krzywa!A:A,0)&\":D\"&MATCH(K122-2,krzywa!A:A,0))),AVERAGE(INDIRECT(\"krzywa!D\"&MATCH(A122-$A$2+BQ122,krzywa!A:A,0)&\":D\"&MATCH(B122-$A$2-AY122,krzywa!A:A,0)))),INDIRECT(\"krzywa!D\"&MATCH(K122,krzywa!A:A,0))),4)","v":{"$error":"#N/A"}},{"$f":"VLOOKUP(A122,krzywa!L:N,3,1)","v":0},{"$f":"VLOOKUP(B122,krzywa!L:N,3,1)","v":0},{"$f":"IF('Kalkulator Depozytów'!$B$35=TRUE,1,(1+S122/100)*W122+(1+T122/100)*(1-W122))","v":1},{"$f":"IF(S122<>T122,VLOOKUP(A122,krzywa!L:M,2,1))","v":false},{"$f":"IF(V122<>FALSE,IF(L122=\"BASE\",(V122-A122+1)*24+J122,IF(L122=\"OFFPEAK\",NETWORKDAYS(A122,V122,koszyki!$M$20:$M$898)*9+(N122)*24+J122,IF(L122=\"L-PEAK5\",NETWORKDAYS(A122,V122,koszyki!$M$20:$M$898)*10,IF(L122=\"H-PEAK5\",NETWORKDAYS(A122,V122,koszyki!$M$20:$M$898)*5,NETWORKDAYS(A122,V122,koszyki!$M$20:$M$898)*15))))/C122,1)","v":1}]
["2024-12-08","2024-12-08",0,{"$f":"'Kalkulator Depozytów'!M128","v":0},{"$f":"'Kalkulator Depozytów'!N128","v":0},{"$f":"'Kalkulator Depozytów'!O128","v":0},{"$f":"'Kalkulator Depozytów'!P128","v":0},{"$f":"'Kalkulator Depozytów'!Q128","v":0},{"$f":"ROUND(IF(OR(AND(K123>0,L123=\"L-PEAK5\"),AND(K123>0,L123=\"H-PEAK5\")),R123,IF(AND(K123>0,L123=\"PEAK5\"),O123,IF(K123>0,IF(OR(L123=\"BASE\"),AVERAGE(INDIRECT(\"krzywa!B\"&MATCH(A123-$A$2,krzywa!A:A,0)&\":B\"&MATCH(B123-$A$2,krzywa!A:A,0),TRUE)),IF(OR(L123=\"OFFPEAK\"),AVERAGE(INDIRECT(\"krzywa!F\"&MATCH(A123-$A$2,krzywa!A:A,0)&\":F\"&MATCH(B123-$A$2,krzywa!A:A,0)))))))),4)","v":{"$error":"#N/A"}},null,45634,"H-PEAK5",{"$f":"NETWORKDAYS(A123,B123,koszyki!$M$20:$M$898)","v":0},{"$f":"B123-A123+1- NETWORKDAYS(A123,B123,koszyki!$M$20:$M$898)","v":1},{"$f":"ROUND(IF((B123-A123+1)>2,IF(C123=75,AVERAGE(INDIRECT(\"krzywa!C\"&MATCH(K123-6,krzywa!A:A,0)&\":C\"&MATCH(K123-2,krzywa!A:A,0))),AVERAGE(INDIRECT(\"krzywa!C\"&MATCH(A123-$A$2+BQ123,krzywa!A:A,0)&\":C\"&MATCH(B123-$A$2-AY123,krzywa!A:A,0)))),INDIRECT(\"krzywa!C\"&MATCH(K123,krzywa!A:A,0))),4)","v":{"$error":"#N/A"}},0,{"$f":"-C123*ABS(D123-F123)*H123*I123*U123+'kompensacja międzyproduktowa'!X123*U123","v":{"$error":"#N/A"}},{"$f":"ROUND(IF((B123-A123+1)>2,IF(C123=75,AVERAGE(INDIRECT(\"krzywa!D\"&MATCH(K123-6,krzywa!A:A,0)&\":D\"&MATCH(K123-2,krzywa!A:A,0))),AVERAGE(INDIRECT(\"krzywa!D\"&MATCH(A123-$A$2+BQ123,krzywa!A:A,0)&\":D\"&MATCH(B123-$A$2-AY123,krzywa!A:A,0)))),INDIRECT(\"krzywa!D\"&MATCH(K123,krzywa!A:A,0))),4)","v":{"$error":"#N/A"}},{"$f":"VLOOKUP(A123,krzywa!L:N,3,1)","v":0},{"$f":"VLOOKUP(B123,krzywa!L:N,3,1)","v":0},{"$f":"IF('Kalkulator Depozytów'!$B$35=TRUE,1,(1+S123/100)*W123+(1+T123/100)*(1-W123))","v":1},{"$f":"IF(S123<>T123,VLOOKUP(A123,krzywa!L:M,2,1))","v":false},{"$f":"IF(V123<>FALSE,IF(L123=\"BASE\",(V123-A123+1)*24+J123,IF(L123=\"OFFPEAK\",NETWORKDAYS(A123,V123,koszyki!$M$20:$M$898)*9+(N123)*24+J123,IF(L123=\"L-PEAK5\",NETWORKDAYS(A123,V123,koszyki!$M$20:$M$898)*10,IF(L123=\"H-PEAK5\",NETWORKDAYS(A123,V123,koszyki!$M$20:$M$898)*5,NETWORKDAYS(A123,V123,koszyki!$M$20:$M$898)*15))))/C123,1)","v":1}]
["2024-12-09","2024-12-15",25,{"$f":"'Kalkulator Depozytów'!M129","v":0},{"$f":"'Kalkulator Depozytów'!N129","v":0},{"$f":"'Kalkulator Depozytów'!O129","v":0},{"$f":"'Kalkulator Depozytów'!P129","v":0},{"$f":"'Kalkulator Depozytów'!Q129","v":0},{"$f":"ROUND(IF(OR(AND(K124>0,L124=\"L-PEAK5\"),AND(K124>0,L124=\"H-PEAK5\")),R124,IF(AND(K124>0,L124=\"PEAK5\"),O124,IF(K124>0,IF(OR(L124=\"BASE\"),AVERAGE(INDIRECT(\"krzywa!B\"&MATCH(A124-$A$2,krzywa!A:A,0)&\":B\"&MATCH(B124-$A$2,krzywa!A:A,0),TRUE)),IF(OR(L124=\"OFFPEAK\"),AVERAGE(INDIRECT(\"krzywa!F\"&MATCH(A124-$A$2,krzywa!A:A,0)&\":F\"&MATCH(B124-$A$2,krzywa!A:A,0)))))))),4)","v":{"$error":"#N/A"}},null,45641,"H-PEAK5",{"$f":"NETWORKDAYS(A124,B124,koszyki!$M$20:$M$898)","v":5},{"$f":"B124-A124+1- NETWORKDAYS(A124,B124,koszyki!$M$20:$M$898)","v":2},{"$f":"ROUND(IF((B124-A124+1)>2,IF(C124=75,AVERAGE(INDIRECT(\"krzywa!C\"&MATCH(K124-6,krzywa!A:A,0)&\":C\"&MATCH(K124-2,krzywa!A:A,0))),AVERAGE(INDIRECT(\"krzywa!C\"&MATCH(A124-$A$2+BQ124,krzywa!A:A,0)&\":C\"&MATCH(B124-$A$2-AY124,krzywa!A:A,0)))),INDIRECT(\"krzywa!C\"&MATCH(K124,krzywa!A:A,0))),4)","v":{"$error":"#N/A"}},0,{"$f":"-C124*ABS(D124-F124)*H124*I124*U124+'kompensacja międzyproduktowa'!X124*U124","v":{"$error":"#N/A"}},{"$f":"ROUND(IF((B124-A124+1)>2,IF(C124=75,AVERAGE(INDIRECT(\"krzywa!D\"&MATCH(K124-6,krzywa!A:A,0)&\":D\"&MATCH(K124-2,krzywa!A:A,0))),AVERAGE(INDIRECT(\"krzywa!D\"&MATCH(A124-$A$2+BQ124,krzywa!A:A,0)&\":D\"&MATCH(B124-$A$2-AY124,krzywa!A:A,0)))),INDIRECT(\"krzywa!D\"&MATCH(K124,krzywa!A:A,0))),4)","v":{"$error":"#N/A"}},{"$f":"VLOOKUP(A124,krzywa!L:N,3,1)","v":0},{"$f":"VLOOKUP(B124,krzywa!L:N,3,1)","v":0},{"$f":"IF('Kalkulator Depozytów'!$B$35=TRUE,1,(1+S124/100)*W124+(1+T124/100)*(1-W124))","v":1},{"$f":"IF(S124<>T124,VLOOKUP(A124,krzywa!L:M,2,1))","v":false},{"$f":"IF(V124<>FALSE,IF(L124=\"BASE\",(V124-A124+1)*24+J124,IF(L124=\"OFFPEAK\",NETWORKDAYS(A124,V124,koszyki!$M$20:$M$898)*9+(N124)*24+J124,IF(L124=\"L-PEAK5\",NETWORKDAYS(A124,V124,koszyki!$M$20:$M$898)*10,IF(L124=\"H-PEAK5\",NETWORKDAYS(A124,V124,koszyki!$M$20:$M$898)*5,NETWORKDAYS(A124,V124,koszyki!$M$20:$M$898)*15))))/C124,1)","v":1}]
["2024-12-16","2024-12-22",25,{"$f":"'Kalkulator Depozytów'!M130","v":0},{"$f":"'Kalkulator Depozytów'!N130","v":0},{"$f":"'Kalkulator Depozytów'!O130","v":0},{"$f":"'Kalkulator Depozytów'!P130","v":0},{"$f":"'Kalkulator Depozytów'!Q130","v":0},{"$f":"ROUND(IF(OR(AND(K125>0,L125=\"L-PEAK5\"),AND(K125>0,L125=\"H-PEAK5\")),R125,IF(AND(K125>0,L125=\"PEAK5\"),O125,IF(K125>0,IF(OR(L125=\"BASE\"),AVERAGE(INDIRECT(\"krzywa!B\"&MATCH(A125-$A$2,krzywa!A:A,0)&\":B\"&MATCH(B125-$A$2,krzywa!A:A,0),TRUE)),IF(OR(L125=\"OFFPEAK\"),AVERAGE(INDIRECT(\"krzywa!F\"&MATCH(A125-$A$2,krzywa!A:A,0)&\":F\"&MATCH(B125-$A$2,krzywa!A:A,0)))))))),4)","v":{"$error":"#N/A"}},null,45648,"H-PEAK5",{"$f":"NETWORKDAYS(A125,B125,koszyki!$M$20:$M$898)","v":5},{"$f":"B125-A125+1- NETWORKDAYS(A125,B125,koszyki!$M$20:$M$898)","v":2},{"$f":"ROUND(IF((B125-A125+1)>2,IF(C125=75,AVERAGE(INDIRECT(\"krzywa!C\"&MATCH(K125-6,krzywa!A:A,0)&\":C\"&MATCH(K125-2,krzywa!A:A,0))),AVERAGE(INDIRECT(\"krzywa!C\"&MATCH(A125-$A$2+BQ125,krzywa!A:A,0)&\":C\"&MATCH(B125-$A$2-AY125,krzywa!A:A,0)))),INDIRECT(\"krzywa!C\"&MATCH(K125,krzywa!A:A,0))),4)","v":{"$error":"#N/A"}},0,{"$f":"-C125*ABS(D125-F125)*H125*I125*U125+'kompensacja międzyproduktowa'!X125*U125","v":{"$error":"#N/A"}},{"$f":"ROUND(IF((B125-A125+1)>2,IF(C125=75,AVERAGE(INDIRECT(\"krzywa!D\"&MATCH(K125-6,krzywa!A:A,0)&\":D\"&MATCH(K125-2,krzywa!A:A,0))),AVERAGE(INDIRECT(\"krzywa!D\"&MATCH(A125-$A$2+BQ125,krzywa!A:A,0)&\":D\"&MATCH(B125-$A$2-AY125,krzywa!A:A,0)))),INDIRECT(\"krzywa!D\"&MATCH(K125,krzywa!A:A,0))),4)","v":{"$error":"#N/A"}},{"$f":"VLOOKUP(A125,krzywa!L:N,3,1)","v":0},{"$f":"VLOOKUP(B125,krzywa!L:N,3,1)","v":0},{"$f":"IF('Kalkulator Depozytów'!$B$35=TRUE,1,(1+S125/100)*W125+(1+T125/100)*(1-W125))","v":1},{"$f":"IF(S125<>T125,VLOOKUP(A125,krzywa!L:M,2,1))","v":false},{"$f":"IF(V125<>FALSE,IF(L125=\"BASE\",(V125-A125+1)*24+J125,IF(L125=\"OFFPEAK\",NETWORKDAYS(A125,V125,koszyki!$M$20:$M$898)*9+(N125)*24+J125,IF(L125=\"L-PEAK5\",NETWORKDAYS(A125,V125,koszyki!$M$20:$M$898)*10,IF(L125=\"H-PEAK5\",NETWORKDAYS(A125,V125,koszyki!$M$20:$M$898)*5,NETWORKDAYS(A125,V125,koszyki!$M$20:$M$898)*15))))/C125,1)","v":1}]
["2024-12-23","2024-12-29",15,{"$f":"'Kalkulator Depozytów'!M131","v":0},{"$f":"'Kalkulator Depozytów'!N131","v":0},{"$f":"'Kalkulator Depozytów'!O131","v":0},{"$f":"'Kalkulator Depozytów'!P131","v":0},{"$f":"'Kalkulator Depozytów'!Q131","v":0},{"$f":"ROUND(IF(OR(AND(K126>0,L126=\"L-PEAK5\"),AND(K126>0,L126=\"H-PEAK5\")),R126,IF(AND(K126>0,L126=\"PEAK5\"),O126,IF(K126>0,IF(OR(L126=\"BASE\"),AVERAGE(INDIRECT(\"krzywa!B\"&MATCH(A126-$A$2,krzywa!A:A,0)&\":B\"&MATCH(B126-$A$2,krzywa!A:A,0),TRUE)),IF(OR(L126=\"OFFPEAK\"),AVERAGE(INDIRECT(\"krzywa!F\"&MATCH(A126-$A$2,krzywa!A:A,0)&\":F\"&MATCH(B126-$A$2,krzywa!A:A,0)))))))),4)","v":{"$error":"#N/A"}},null,45655,"H-PEAK5",{"$f":"NETWORKDAYS(A126,B126,koszyki!$M$20:$M$898)","v":3},{"$f":"B126-A126+1- NETWORKDAYS(A126,B126,koszyki!$M$20:$M$898)","v":4},{"$f":"ROUND(IF((B126-A126+1)>2,IF(C126=75,AVERAGE(INDIRECT(\"krzywa!C\"&MATCH(K126-6,krzywa!A:A,0)&\":C\"&MATCH(K126-2,krzywa!A:A,0))),AVERAGE(INDIRECT(\"krzywa!C\"&MATCH(A126-$A$2+BQ126,krzywa!A:A,0)&\":C\"&MATCH(B126-$A$2-AY126,krzywa!A:A,0)))),INDIRECT(\"krzywa!C\"&MATCH(K126,krzywa!A:A,0))),4)","v":{"$error":"#N/A"}},0,{"$f":"-C126*ABS(D126-F126)*H126*I126*U126+'kompensacja międzyproduktowa'!X126*U126","v":{"$error":"#N/A"}},{"$f":"ROUND(IF((B126-A126+1)>2,IF(C126=75,AVERAGE(INDIRECT(\"krzywa!D\"&MATCH(K126-6,krzywa!A:A,0)&\":D\"&MATCH(K126-2,krzywa!A:A,0))),AVERAGE(INDIRECT(\"krzywa!D\"&MATCH(A126-$A$2+BQ126,krzywa!A:A,0)&\":D\"&MATCH(B126-$A$2-AY126,krzywa!A:A,0)))),INDIRECT(\"krzywa!D\"&MATCH(K126,krzywa!A:A,0))),4)","v":{"$error":"#N/A"}},{"$f":"VLOOKUP(A126,krzywa!L:N,3,1)","v":0},{"$f":"VLOOKUP(B126,krzywa!L:N,3,1)","v":0},{"$f":"IF('Kalkulator Depozytów'!$B$35=TRUE,1,(1+S126/100)*W126+(1+T126/100)*(1-W126))","v":1},{"$f":"IF(S126<>T126,VLOOKUP(A126,krzywa!L:M,2,1))","v":false},{"$f":"IF(V126<>FALSE,IF(L126=\"BASE\",(V126-A126+1)*24+J126,IF(L126=\"OFFPEAK\",NETWORKDAYS(A126,V126,koszyki!$M$20:$M$898)*9+(N126)*24+J126,IF(L126=\"L-PEAK5\",NETWORKDAYS(A126,V126,koszyki!$M$20:$M$898)*10,IF(L126=\"H-PEAK5\",NETWORKDAYS(A126,V126,koszyki!$M$20:$M$898)*5,NETWORKDAYS(A126,V126,koszyki!$M$20:$M$898)*15))))/C126,1)","v":1}]
["2024-12-30","2024-12-31",10,{"$f":"'Kalkulator Depozytów'!M132","v":0},{"$f":"'Kalkulator Depozytów'!N132","v":0},{"$f":"'Kalkulator Depozytów'!O132","v":0},{"$f":"'Kalkulator Depozytów'!P132","v":0},{"$f":"'Kalkulator Depozytów'!Q132","v":0},{"$f":"ROUND(IF(OR(AND(K127>0,L127=\"L-PEAK5\"),AND(K127>0,L127=\"H-PEAK5\")),R127,IF(AND(K127>0,L127=\"PEAK5\"),O127,IF(K127>0,IF(OR(L127=\"BASE\"),AVERAGE(INDIRECT(\"krzywa!B\"&MATCH(A127-$A$2,krzywa!A:A,0)&\":B\"&MATCH(B127-$A$2,krzywa!A:A,0),TRUE)),IF(OR(L127=\"OFFPEAK\"),AVERAGE(INDIRECT(\"krzywa!F\"&MATCH(A127-$A$2,krzywa!A:A,0)&\":F\"&MATCH(B127-$A$2,krzywa!A:A,0)))))))),4)","v":{"$error":"#N/A"}},null,45657,"H-PEAK5",{"$f":"NETWORKDAYS(A127,B127,koszyki!$M$20:$M$898)","v":2},{"$f":"B127-A127+1- NETWORKDAYS(A127,B127,koszyki!$M$20:$M$898)","v":0},{"$f":"ROUND(IF((B127-A127+1)>2,IF(C127=75,AVERAGE(INDIRECT(\"krzywa!C\"&MATCH(K127-6,krzywa!A:A,0)&\":C\"&MATCH(K127-2,krzywa!A:A,0))),AVERAGE(INDIRECT(\"krzywa!C\"&MATCH(A127-$A$2+BQ127,krzywa!A:A,0)&\":C\"&MATCH(B127-$A$2-AY127,krzywa!A:A,0)))),INDIRECT(\"krzywa!C\"&MATCH(K127,krzywa!A:A,0))),4)","v":{"$error":"#N/A"}},0,{"$f":"-C127*ABS(D127-F127)*H127*I127*U127+'kompensacja międzyproduktowa'!X127*U127","v":{"$error":"#N/A"}},{"$f":"ROUND(IF((B127-A127+1)>2,IF(C127=75,AVERAGE(INDIRECT(\"krzywa!D\"&MATCH(K127-6,krzywa!A:A,0)&\":D\"&MATCH(K127-2,krzywa!A:A,0))),AVERAGE(INDIRECT(\"krzywa!D\"&MATCH(A127-$A$2+BQ127,krzywa!A:A,0)&\":D\"&MATCH(B127-$A$2-AY127,krzywa!A:A,0)))),INDIRECT(\"krzywa!D\"&MATCH(K127,krzywa!A:A,0))),4)","v":{"$error":"#N/A"}},{"$f":"VLOOKUP(A127,krzywa!L:N,3,1)","v":0},{"$f":"VLOOKUP(B127,krzywa!L:N,3,1)","v":0},{"$f":"IF('Kalkulator Depozytów'!$B$35=TRUE,1,(1+S127/100)*W127+(1+T127/100)*(1-W127))","v":1},{"$f":"IF(S127<>T127,VLOOKUP(A127,krzywa!L:M,2,1))","v":false},{"$f":"IF(V127<>FALSE,IF(L127=\"BASE\",(V127-A127+1)*24+J127,IF(L127=\"OFFPEAK\",NETWORKDAYS(A127,V127,koszyki!$M$20:$M$898)*9+(N127)*24+J127,IF(L127=\"L-PEAK5\",NETWORKDAYS(A127,V127,koszyki!$M$20:$M$898)*10,IF(L127=\"H-PEAK5\",NETWORKDAYS(A127,V127,koszyki!$M$20:$M$898)*5,NETWORKDAYS(A127,V127,koszyki!$M$20:$M$898)*15))))/C127,1)","v":1}]
["2025-01-01","2025-01-31",105,{"$f":"'Kalkulator Depozytów'!M133","v":0},{"$f":"'Kalkulator Depozytów'!N133","v":0},{"$f":"'Kalkulator Depozytów'!O133","v":0},{"$f":"'Kalkulator Depozytów'!P133","v":0},{"$f":"'Kalkulator Depozytów'!Q133","v":0},{"$f":"ROUND(IF(OR(AND(K128>0,L128=\"L-PEAK5\"),AND(K128>0,L128=\"H-PEAK5\")),R128,IF(AND(K128>0,L128=\"PEAK5\"),O128,IF(K128>0,IF(OR(L128=\"BASE\"),AVERAGE(INDIRECT(\"krzywa!B\"&MATCH(A128-$A$2,krzywa!A:A,0)&\":B\"&MATCH(B128-$A$2,krzywa!A:A,0),TRUE)),IF(OR(L128=\"OFFPEAK\"),AVERAGE(INDIRECT(\"krzywa!F\"&MATCH(A128-$A$2,krzywa!A:A,0)&\":F\"&MATCH(B128-$A$2,krzywa!A:A,0)))))))),4)","v":{"$error":"#N/A"}},null,45688,"H-PEAK5",{"$f":"NETWORKDAYS(A128,B128,koszyki!$M$20:$M$898)","v":21},{"$f":"B128-A128+1- NETWORKDAYS(A128,B128,koszyki!$M$20:$M$898)","v":10},{"$f":"ROUND(IF((B128-A128+1)>2,IF(C128=75,AVERAGE(INDIRECT(\"krzywa!C\"&MATCH(K128-6,krzywa!A:A,0)&\":C\"&MATCH(K128-2,krzywa!A:A,0))),AVERAGE(INDIRECT(\"krzywa!C\"&MATCH(A128-$A$2+BQ128,krzywa!A:A,0)&\":C\"&MATCH(B128-$A$2-AY128,krzywa!A:A,0)))),INDIRECT(\"krzywa!C\"&MATCH(K128,krzywa!A:A,0))),4)","v":{"$error":"#N/A"}},0,{"$f":"-C128*ABS(D128-F128)*H128*I128*U128+'kompensacja międzyproduktowa'!X128*U128","v":{"$error":"#N/A"}},{"$f":"ROUND(IF((B128-A128+1)>2,IF(C128=75,AVERAGE(INDIRECT(\"krzywa!D\"&MATCH(K128-6,krzywa!A:A,0)&\":D\"&MATCH(K128-2,krzywa!A:A,0))),AVERAGE(INDIRECT(\"krzywa!D\"&MATCH(A128-$A$2+BQ128,krzywa!A:A,0)&\":D\"&MATCH(B128-$A$2-AY128,krzywa!A:A,0)))),INDIRECT(\"krzywa!D\"&MATCH(K128,krzywa!A:A,0))),4)","v":{"$error":"#N/A"}},{"$f":"VLOOKUP(A128,krzywa!L:N,3,1)","v":0},{"$f":"VLOOKUP(B128,krzywa!L:N,3,1)","v":0},{"$f":"IF('Kalkulator Depozytów'!$B$35=TRUE,1,(1+S128/100)*W128+(1+T128/100)*(1-W128))","v":1},{"$f":"IF(S128<>T128,VLOOKUP(A128,krzywa!L:M,2,1))","v":false},{"$f":"IF(V128<>FALSE,IF(L128=\"BASE\",(V128-A128+1)*24+J128,IF(L128=\"OFFPEAK\",NETWORKDAYS(A128,V128,koszyki!$M$20:$M$898)*9+(N128)*24+J128,IF(L128=\"L-PEAK5\",NETWORKDAYS(A128,V128,koszyki!$M$20:$M$898)*10,IF(L128=\"H-PEAK5\",NETWORKDAYS(A128,V128,koszyki!$M$20:$M$898)*5,NETWORKDAYS(A128,V128,koszyki!$M$20:$M$898)*15))))/C128,1)","v":1}]
["2025-02-01","2025-03-31",205,{"$f":"'Kalkulator Depozytów'!M134","v":0},{"$f":"'Kalkulator Depozytów'!N134","v":0},{"$f":"'Kalkulator Depozytów'!O134","v":0},{"$f":"'Kalkulator Depozytów'!P134","v":0},{"$f":"'Kalkulator Depozytów'!Q134","v":0},{"$f":"ROUND(IF(OR(AND(K129>0,L129=\"L-PEAK5\"),AND(K129>0,L129=\"H-PEAK5\")),R129,IF(AND(K129>0,L129=\"PEAK5\"),O129,IF(K129>0,IF(OR(L129=\"BASE\"),AVERAGE(INDIRECT(\"krzywa!B\"&MATCH(A129-$A$2,krzywa!A:A,0)&\":B\"&MATCH(B129-$A$2,krzywa!A:A,0),TRUE)),IF(OR(L129=\"OFFPEAK\"),AVERAGE(INDIRECT(\"krzywa!F\"&MATCH(A129-$A$2,krzywa!A:A,0)&\":F\"&MATCH(B129-$A$2,krzywa!A:A,0)))))))),4)","v":{"$error":"#N/A"}},null,45747,"H-PEAK5",{"$f":"NETWORKDAYS(A129,B129,koszyki!$M$20:$M$898)","v":41},{"$f":"B129-A129+1- NETWORKDAYS(A129,B129,koszyki!$M$20:$M$898)","v":18},{"$f":"ROUND(IF((B129-A129+1)>2,IF(C129=75,AVERAGE(INDIRECT(\"krzywa!C\"&MATCH(K129-6,krzywa!A:A,0)&\":C\"&MATCH(K129-2,krzywa!A:A,0))),AVERAGE(INDIRECT(\"krzywa!C\"&MATCH(A129-$A$2+BQ129,krzywa!A:A,0)&\":C\"&MATCH(B129-$A$2-AY129,krzywa!A:A,0)))),INDIRECT(\"krzywa!C\"&MATCH(K129,krzywa!A:A,0))),4)","v":{"$error":"#N/A"}},0,{"$f":"-C129*ABS(D129-F129)*H129*I129*U129+'kompensacja międzyproduktowa'!X129*U129","v":{"$error":"#N/A"}},{"$f":"ROUND(IF((B129-A129+1)>2,IF(C129=75,AVERAGE(INDIRECT(\"krzywa!D\"&MATCH(K129-6,krzywa!A:A,0)&\":D\"&MATCH(K129-2,krzywa!A:A,0))),AVERAGE(INDIRECT(\"krzywa!D\"&MATCH(A129-$A$2+BQ129,krzywa!A:A,0)&\":D\"&MATCH(B129-$A$2-AY129,krzywa!A:A,0)))),INDIRECT(\"krzywa!D\"&MATCH(K129,krzywa!A:A,0))),4)","v":{"$error":"#N/A"}},{"$f":"VLOOKUP(A129,krzywa!L:N,3,1)","v":0},{"$f":"VLOOKUP(B129,krzywa!L:N,3,1)","v":0},{"$f":"IF('Kalkulator Depozytów'!$B$35=TRUE,1,(1+S129/100)*W129+(1+T129/100)*(1-W129))","v":1},{"$f":"IF(S129<>T129,VLOOKUP(A129,krzywa!L:M,2,1))","v":false},{"$f":"IF(V129<>FALSE,IF(L129=\"BASE\",(V129-A129+1)*24+J129,IF(L129=\"OFFPEAK\",NETWORKDAYS(A129,V129,koszyki!$M$20:$M$898)*9+(N129)*24+J129,IF(L129=\"L-PEAK5\",NETWORKDAYS(A129,V129,koszyki!$M$20:$M$898)*10,IF(L129=\"H-PEAK5\",NETWORKDAYS(A129,V129,koszyki!$M$20:$M$898)*5,NETWORKDAYS(A129,V129,koszyki!$M$20:$M$898)*15))))/C129,1)","v":1}]
["2025-04-01","2025-06-30",310,{"$f":"'Kalkulator Depozytów'!M135","v":0},{"$f":"'Kalkulator Depozytów'!N135","v":0},{"$f":"'Kalkulator Depozytów'!O135","v":0},{"$f":"'Kalkulator Depozytów'!P135","v":0},{"$f":"'Kalkulator Depozytów'!Q135","v":0},{"$f":"ROUND(IF(OR(AND(K130>0,L130=\"L-PEAK5\"),AND(K130>0,L130=\"H-PEAK5\")),R130,IF(AND(K130>0,L130=\"PEAK5\"),O130,IF(K130>0,IF(OR(L130=\"BASE\"),AVERAGE(INDIRECT(\"krzywa!B\"&MATCH(A130-$A$2,krzywa!A:A,0)&\":B\"&MATCH(B130-$A$2,krzywa!A:A,0),TRUE)),IF(OR(L130=\"OFFPEAK\"),AVERAGE(INDIRECT(\"krzywa!F\"&MATCH(A130-$A$2,krzywa!A:A,0)&\":F\"&MATCH(B130-$A$2,krzywa!A:A,0)))))))),4)","v":{"$error":"#N/A"}},null,45838,"H-PEAK5",{"$f":"NETWORKDAYS(A130,B130,koszyki!$M$20:$M$898)","v":62},{"$f":"B130-A130+1- NETWORKDAYS(A130,B130,koszyki!$M$20:$M$898)","v":29},{"$f":"ROUND(IF((B130-A130+1)>2,IF(C130=75,AVERAGE(INDIRECT(\"krzywa!C\"&MATCH(K130-6,krzywa!A:A,0)&\":C\"&MATCH(K130-2,krzywa!A:A,0))),AVERAGE(INDIRECT(\"krzywa!C\"&MATCH(A130-$A$2+BQ130,krzywa!A:A,0)&\":C\"&MATCH(B130-$A$2-AY130,krzywa!A:A,0)))),INDIRECT(\"krzywa!C\"&MATCH(K130,krzywa!A:A,0))),4)","v":{"$error":"#N/A"}},0,{"$f":"-C130*ABS(D130-F130)*H130*I130*U130+'kompensacja międzyproduktowa'!X130*U130","v":{"$error":"#N/A"}},{"$f":"ROUND(IF((B130-A130+1)>2,IF(C130=75,AVERAGE(INDIRECT(\"krzywa!D\"&MATCH(K130-6,krzywa!A:A,0)&\":D\"&MATCH(K130-2,krzywa!A:A,0))),AVERAGE(INDIRECT(\"krzywa!D\"&MATCH(A130-$A$2+BQ130,krzywa!A:A,0)&\":D\"&MATCH(B130-$A$2-AY130,krzywa!A:A,0)))),INDIRECT(\"krzywa!D\"&MATCH(K130,krzywa!A:A,0))),4)","v":{"$error":"#N/A"}},{"$f":"VLOOKUP(A130,krzywa!L:N,3,1)","v":0},{"$f":"VLOOKUP(B130,krzywa!L:N,3,1)","v":0},{"$f":"IF('Kalkulator Depozytów'!$B$35=TRUE,1,(1+S130/100)*W130+(1+T130/100)*(1-W130))","v":1},{"$f":"IF(S130<>T130,VLOOKUP(A130,krzywa!L:M,2,1))","v":false},{"$f":"IF(V130<>FALSE,IF(L130=\"BASE\",(V130-A130+1)*24+J130,IF(L130=\"OFFPEAK\",NETWORKDAYS(A130,V130,koszyki!$M$20:$M$898)*9+(N130)*24+J130,IF(L130=\"L-PEAK5\",NETWORKDAYS(A130,V130,koszyki!$M$20:$M$898)*10,IF(L130=\"H-PEAK5\",NETWORKDAYS(A130,V130,koszyki!$M$20:$M$898)*5,NETWORKDAYS(A130,V130,koszyki!$M$20:$M$898)*15))))/C130,1)","v":1}]
[null,null,0,{"$f":"'Kalkulator Depozytów'!M136","v":0},{"$f":"'Kalkulator Depozytów'!N136","v":0},{"$f":"'Kalkulator Depozytów'!O136","v":0},{"$f":"'Kalkulator Depozytów'!P136","v":0},{"$f":"'Kalkulator Depozytów'!Q136","v":0},{"$f":"ROUND(IF(OR(AND(K131>0,L131=\"L-PEAK5\"),AND(K131>0,L131=\"H-PEAK5\")),R131,IF(AND(K131>0,L131=\"PEAK5\"),O131,IF(K131>0,IF(OR(L131=\"BASE\"),AVERAGE(INDIRECT(\"krzywa!B\"&MATCH(A131-$A$2,krzywa!A:A,0)&\":B\"&MATCH(B131-$A$2,krzywa!A:A,0),TRUE)),IF(OR(L131=\"OFFPEAK\"),AVERAGE(INDIRECT(\"krzywa!F\"&MATCH(A131-$A$2,krzywa!A:A,0)&\":F\"&MATCH(B131-$A$2,krzywa!A:A,0)))))))),4)","v":0},null,0,null,{"$f":"NETWORKDAYS(A131,B131,koszyki!$M$20:$M$898)","v":0},{"$f":"B131-A131+1- NETWORKDAYS(A131,B131,koszyki!$M$20:$M$898)","v":1},{"$f":"ROUND(IF((B131-A131+1)>2,IF(C131=75,AVERAGE(INDIRECT(\"krzywa!C\"&MATCH(K131-6,krzywa!A:A,0)&\":C\"&MATCH(K131-2,krzywa!A:A,0))),AVERAGE(INDIRECT(\"krzywa!C\"&MATCH(A131-$A$2+BQ131,krzywa!A:A,0)&\":C\"&MATCH(B131-$A$2-AY131,krzywa!A:A,0)))),INDIRECT(\"krzywa!C\"&MATCH(K131,krzywa!A:A,0))),4)","v":{"$error":"#N/A"}},{"$error":"#N/A"},{"$f":"-C131*ABS(D131-F131)*H131*I131*U131+'kompensacja międzyproduktowa'!X131*U131","v":{"$error":"#N/A"}},{"$f":"ROUND(IF((B131-A131+1)>2,IF(C131=75,AVERAGE(INDIRECT(\"krzywa!D\"&MATCH(K131-6,krzywa!A:A,0)&\":D\"&MATCH(K131-2,krzywa!A:A,0))),AVERAGE(INDIRECT(\"krzywa!D\"&MATCH(A131-$A$2+BQ131,krzywa!A:A,0)&\":D\"&MATCH(B131-$A$2-AY131,krzywa!A:A,0)))),INDIRECT(\"krzywa!D\"&MATCH(K131,krzywa!A:A,0))),4)","v":{"$error":"#N/A"}},{"$f":"VLOOKUP(A131,krzywa!L:N,3,1)","v":{"$error":"#N/A"}},{"$f":"VLOOKUP(B131,krzywa!L:N,3,1)","v":{"$error":"#N/A"}},{"$f":"IF('Kalkulator Depozytów'!$B$35=TRUE,1,(1+S131/100)*W131+(1+T131/100)*(1-W131))","v":{"$error":"#N/A"}},{"$f":"IF(S131<>T131,VLOOKUP(A131,krzywa!L:M,2,1))","v":{"$error":"#N/A"}},{"$f":"IF(V131<>FALSE,IF(L131=\"BASE\",(V131-A131+1)*24+J131,IF(L131=\"OFFPEAK\",NETWORKDAYS(A131,V131,koszyki!$M$20:$M$898)*9+(N131)*24+J131,IF(L131=\"L-PEAK5\",NETWORKDAYS(A131,V131,koszyki!$M$20:$M$898)*10,IF(L131=\"H-PEAK5\",NETWORKDAYS(A131,V131,koszyki!$M$20:$M$898)*5,NETWORKDAYS(A131,V131,koszyki!$M$20:$M$898)*15))))/C131,1)","v":{"$error":"#N/A"}}]
[null,null,0,{"$f":"'Kalkulator Depozytów'!M137","v":0},{"$f":"'Kalkulator Depozytów'!N137","v":0},{"$f":"'Kalkulator Depozytów'!O137","v":0},{"$f":"'Kalkulator Depozytów'!P137","v":0},{"$f":"'Kalkulator Depozytów'!Q137","v":0},{"$f":"ROUND(IF(OR(AND(K132>0,L132=\"L-PEAK5\"),AND(K132>0,L132=\"H-PEAK5\")),R132,IF(AND(K132>0,L132=\"PEAK5\"),O132,IF(K132>0,IF(OR(L132=\"BASE\"),AVERAGE(INDIRECT(\"krzywa!B\"&MATCH(A132-$A$2,krzywa!A:A,0)&\":B\"&MATCH(B132-$A$2,krzywa!A:A,0),TRUE)),IF(OR(L132=\"OFFPEAK\"),AVERAGE(INDIRECT(\"krzywa!F\"&MATCH(A132-$A$2,krzywa!A:A,0)&\":F\"&MATCH(B132-$A$2,krzywa!A:A,0)))))))),4)","v":0},null,0,null,{"$f":"NETWORKDAYS(A132,B132,koszyki!$M$20:$M$898)","v":0},{"$f":"B132-A132+1- NETWORKDAYS(A132,B132,koszyki!$M$20:$M$898)","v":1},{"$f":"ROUND(IF((B132-A132+1)>2,IF(C132=75,AVERAGE(INDIRECT(\"krzywa!C\"&MATCH(K132-6,krzywa!A:A,0)&\":C\"&MATCH(K132-2,krzywa!A:A,0))),AVERAGE(INDIRECT(\"krzywa!C\"&MATCH(A132-$A$2+BQ132,krzywa!A:A,0)&\":C\"&MATCH(B132-$A$2-AY132,krzywa!A:A,0)))),INDIRECT(\"krzywa!C\"&MATCH(K132,krzywa!A:A,0))),4)","v":{"$error":"#N/A"}},{"$error":"#N/A"},{"$f":"-C132*ABS(D132-F132)*H132*I132*U132+'kompensacja międzyproduktowa'!X132*U132","v":{"$error":"#N/A"}},{"$f":"ROUND(IF((B132-A132+1)>2,IF(C132=75,AVERAGE(INDIRECT(\"krzywa!D\"&MATCH(K132-6,krzywa!A:A,0)&\":D\"&MATCH(K132-2,krzywa!A:A,0))),AVERAGE(INDIRECT(\"krzywa!D\"&MATCH(A132-$A$2+BQ132,krzywa!A:A,0)&\":D\"&MATCH(B132-$A$2-AY132,krzywa!A:A,0)))),INDIRECT(\"krzywa!D\"&MATCH(K132,krzywa!A:A,0))),4)","v":{"$error":"#N/A"}},{"$f":"VLOOKUP(A132,krzywa!L:N,3,1)","v":{"$error":"#N/A"}},{"$f":"VLOOKUP(B132,krzywa!L:N,3,1)","v":{"$error":"#N/A"}},{"$f":"IF('Kalkulator Depozytów'!$B$35=TRUE,1,(1+S132/100)*W132+(1+T132/100)*(1-W132))","v":{"$error":"#N/A"}},{"$f":"IF(S132<>T132,VLOOKUP(A132,krzywa!L:M,2,1))","v":{"$error":"#N/A"}},{"$f":"IF(V132<>FALSE,IF(L132=\"BASE\",(V132-A132+1)*24+J132,IF(L132=\"OFFPEAK\",NETWORKDAYS(A132,V132,koszyki!$M$20:$M$898)*9+(N132)*24+J132,IF(L132=\"L-PEAK5\",NETWORKDAYS(A132,V132,koszyki!$M$20:$M$898)*10,IF(L132=\"H-PEAK5\",NETWORKDAYS(A132,V132,koszyki!$M$20:$M$898)*5,NETWORKDAYS(A132,V132,koszyki!$M$20:$M$898)*15))))/C132,1)","v":{"$error":"#N/A"}}]
[null,null,0,{"$f":"'Kalkulator Depozytów'!M138","v":0},{"$f":"'Kalkulator Depozytów'!N138","v":0},{"$f":"'Kalkulator Depozytów'!O138","v":0},{"$f":"'Kalkulator Depozytów'!P138","v":0},{"$f":"'Kalkulator Depozytów'!Q138","v":0},{"$f":"ROUND(IF(OR(AND(K133>0,L133=\"L-PEAK5\"),AND(K133>0,L133=\"H-PEAK5\")),R133,IF(AND(K133>0,L133=\"PEAK5\"),O133,IF(K133>0,IF(OR(L133=\"BASE\"),AVERAGE(INDIRECT(\"krzywa!B\"&MATCH(A133-$A$2,krzywa!A:A,0)&\":B\"&MATCH(B133-$A$2,krzywa!A:A,0),TRUE)),IF(OR(L133=\"OFFPEAK\"),AVERAGE(INDIRECT(\"krzywa!F\"&MATCH(A133-$A$2,krzywa!A:A,0)&\":F\"&MATCH(B133-$A$2,krzywa!A:A,0)))))))),4)","v":0},null,0,null,{"$f":"NETWORKDAYS(A133,B133,koszyki!$M$20:$M$898)","v":0},{"$f":"B133-A133+1- NETWORKDAYS(A133,B133,koszyki!$M$20:$M$898)","v":1},{"$f":"ROUND(IF((B133-A133+1)>2,IF(C133=75,AVERAGE(INDIRECT(\"krzywa!C\"&MATCH(K133-6,krzywa!A:A,0)&\":C\"&MATCH(K133-2,krzywa!A:A,0))),AVERAGE(INDIRECT(\"krzywa!C\"&MATCH(A133-$A$2+BQ133,krzywa!A:A,0)&\":C\"&MATCH(B133-$A$2-AY133,krzywa!A:A,0)))),INDIRECT(\"krzywa!C\"&MATCH(K133,krzywa!A:A,0))),4)","v":{"$error":"#N/A"}},{"$error":"#N/A"},{"$f":"-C133*ABS(D133-F133)*H133*I133*U133+'kompensacja międzyproduktowa'!X133*U133","v":{"$error":"#N/A"}},{"$f":"ROUND(IF((B133-A133+1)>2,IF(C133=75,AVERAGE(INDIRECT(\"krzywa!D\"&MATCH(K133-6,krzywa!A:A,0)&\":D\"&MATCH(K133-2,krzywa!A:A,0))),AVERAGE(INDIRECT(\"krzywa!D\"&MATCH(A133-$A$2+BQ133,krzywa!A:A,0)&\":D\"&MATCH(B133-$A$2-AY133,krzywa!A:A,0)))),INDIRECT(\"krzywa!D\"&MATCH(K133,krzywa!A:A,0))),4)","v":{"$error":"#N/A"}},{"$f":"VLOOKUP(A133,krzywa!L:N,3,1)","v":{"$error":"#N/A"}},{"$f":"VLOOKUP(B133,krzywa!L:N,3,1)","v":{"$error":"#N/A"}},{"$f":"IF('Kalkulator Depozytów'!$B$35=TRUE,1,(1+S133/100)*W133+(1+T133/100)*(1-W133))","v":{"$error":"#N/A"}},{"$f":"IF(S133<>T133,VLOOKUP(A133,krzywa!L:M,2,1))","v":{"$error":"#N/A"}},{"$f":"IF(V133<>FALSE,IF(L133=\"BASE\",(V133-A133+1)*24+J133,IF(L133=\"OFFPEAK\",NETWORKDAYS(A133,V133,koszyki!$M$20:$M$898)*9+(N133)*24+J133,IF(L133=\"L-PEAK5\",NETWORKDAYS(A133,V133,koszyki!$M$20:$M$898)*10,IF(L133=\"H-PEAK5\",NETWORKDAYS(A133,V133,koszyki!$M$20:$M$898)*5,NETWORKDAYS(A133,V133,koszyki!$M$20:$M$898)*15))))/C133,1)","v":{"$error":"#N/A"}}]
[null,null,0,{"$f":"'Kalkulator Depozytów'!M139","v":0},{"$f":"'Kalkulator Depozytów'!N139","v":0},{"$f":"'Kalkulator Depozytów'!O139","v":0},{"$f":"'Kalkulator Depozytów'!P139","v":0},{"$f":"'Kalkulator Depozytów'!Q139","v":0},{"$f":"ROUND(IF(OR(AND(K134>0,L134=\"L-PEAK5\"),AND(K134>0,L134=\"H-PEAK5\")),R134,IF(AND(K134>0,L134=\"PEAK5\"),O134,IF(K134>0,IF(OR(L134=\"BASE\"),AVERAGE(INDIRECT(\"krzywa!B\"&MATCH(A134-$A$2,krzywa!A:A,0)&\":B\"&MATCH(B134-$A$2,krzywa!A:A,0),TRUE)),IF(OR(L134=\"OFFPEAK\"),AVERAGE(INDIRECT(\"krzywa!F\"&MATCH(A134-$A$2,krzywa!A:A,0)&\":F\"&MATCH(B134-$A$2,krzywa!A:A,0)))))))),4)","v":0},null,0,null,{"$f":"NETWORKDAYS(A134,B134,koszyki!$M$20:$M$898)","v":0},{"$f":"B134-A134+1- NETWORKDAYS(A134,B134,koszyki!$M$20:$M$898)","v":1},{"$f":"ROUND(IF((B134-A134+1)>2,IF(C134=75,AVERAGE(INDIRECT(\"krzywa!C\"&MATCH(K134-6,krzywa!A:A,0)&\":C\"&MATCH(K134-2,krzywa!A:A,0))),AVERAGE(INDIRECT(\"krzywa!C\"&MATCH(A134-$A$2+BQ134,krzywa!A:A,0)&\":C\"&MATCH(B134-$A$2-AY134,krzywa!A:A,0)))),INDIRECT(\"krzywa!C\"&MATCH(K134,krzywa!A:A,0))),4)","v":{"$error":"#N/A"}},{"$error":"#N/A"},{"$f":"-C134*ABS(D134-F134)*H134*I134*U134+'kompensacja międzyproduktowa'!X134*U134","v":{"$error":"#N/A"}},{"$f":"ROUND(IF((B134-A134+1)>2,IF(C134=75,AVERAGE(INDIRECT(\"krzywa!D\"&MATCH(K134-6,krzywa!A:A,0)&\":D\"&MATCH(K134-2,krzywa!A:A,0))),AVERAGE(INDIRECT(\"krzywa!D\"&MATCH(A134-$A$2+BQ134,krzywa!A:A,0)&\":D\"&MATCH(B134-$A$2-AY134,krzywa!A:A,0)))),INDIRECT(\"krzywa!D\"&MATCH(K134,krzywa!A:A,0))),4)","v":{"$error":"#N/A"}},{"$f":"VLOOKUP(A134,krzywa!L:N,3,1)","v":{"$error":"#N/A"}},{"$f":"VLOOKUP(B134,krzywa!L:N,3,1)","v":{"$error":"#N/A"}},{"$f":"IF('Kalkulator Depozytów'!$B$35=TRUE,1,(1+S134/100)*W134+(1+T134/100)*(1-W134))","v":{"$error":"#N/A"}},{"$f":"IF(S134<>T134,VLOOKUP(A134,krzywa!L:M,2,1))","v":{"$error":"#N/A"}},{"$f":"IF(V134<>FALSE,IF(L134=\"BASE\",(V134-A134+1)*24+J134,IF(L134=\"OFFPEAK\",NETWORKDAYS(A134,V134,koszyki!$M$20:$M$898)*9+(N134)*24+J134,IF(L134=\"L-PEAK5\",NETWORKDAYS(A134,V134,koszyki!$M$20:$M$898)*10,IF(L134=\"H-PEAK5\",NETWORKDAYS(A134,V134,koszyki!$M$20:$M$898)*5,NETWORKDAYS(A134,V134,koszyki!$M$20:$M$898)*15))))/C134,1)","v":{"$error":"#N/A"}}]
[null,null,0,{"$f":"'Kalkulator Depozytów'!M140","v":0},{"$f":"'Kalkulator Depozytów'!N140","v":0},{"$f":"'Kalkulator Depozytów'!O140","v":0},{"$f":"'Kalkulator Depozytów'!P140","v":0},{"$f":"'Kalkulator Depozytów'!Q140","v":0},{"$f":"ROUND(IF(OR(AND(K135>0,L135=\"L-PEAK5\"),AND(K135>0,L135=\"H-PEAK5\")),R135,IF(AND(K135>0,L135=\"PEAK5\"),O135,IF(K135>0,IF(OR(L135=\"BASE\"),AVERAGE(INDIRECT(\"krzywa!B\"&MATCH(A135-$A$2,krzywa!A:A,0)&\":B\"&MATCH(B135-$A$2,krzywa!A:A,0),TRUE)),IF(OR(L135=\"OFFPEAK\"),AVERAGE(INDIRECT(\"krzywa!F\"&MATCH(A135-$A$2,krzywa!A:A,0)&\":F\"&MATCH(B135-$A$2,krzywa!A:A,0)))))))),4)","v":0},null,0,null,{"$f":"NETWORKDAYS(A135,B135,koszyki!$M$20:$M$898)","v":0},{"$f":"B135-A135+1- NETWORKDAYS(A135,B135,koszyki!$M$20:$M$898)","v":1},{"$f":"ROUND(IF((B135-A135+1)>2,IF(C135=75,AVERAGE(INDIRECT(\"krzywa!C\"&MATCH(K135-6,krzywa!A:A,0)&\":C\"&MATCH(K135-2,krzywa!A:A,0))),AVERAGE(INDIRECT(\"krzywa!C\"&MATCH(A135-$A$2+BQ135,krzywa!A:A,0)&\":C\"&MATCH(B135-$A$2-AY135,krzywa!A:A,0)))),INDIRECT(\"krzywa!C\"&MATCH(K135,krzywa!A:A,0))),4)","v":{"$error":"#N/A"}},{"$error":"#N/A"},{"$f":"-C135*ABS(D135-F135)*H135*I135*U135+'kompensacja międzyproduktowa'!X135*U135","v":{"$error":"#N/A"}},{"$f":"ROUND(IF((B135-A135+1)>2,IF(C135=75,AVERAGE(INDIRECT(\"krzywa!D\"&MATCH(K135-6,krzywa!A:A,0)&\":D\"&MATCH(K135-2,krzywa!A:A,0))),AVERAGE(INDIRECT(\"krzywa!D\"&MATCH(A135-$A$2+BQ135,krzywa!A:A,0)&\":D\"&MATCH(B135-$A$2-AY135,krzywa!A:A,0)))),INDIRECT(\"krzywa!D\"&MATCH(K135,krzywa!A:A,0))),4)","v":{"$error":"#N/A"}},{"$f":"VLOOKUP(A135,krzywa!L:N,3,1)","v":{"$error":"#N/A"}},{"$f":"VLOOKUP(B135,krzywa!L:N,3,1)","v":{"$error":"#N/A"}},{"$f":"IF('Kalkulator Depozytów'!$B$35=TRUE,1,(1+S135/100)*W135+(1+T135/100)*(1-W135))","v":{"$error":"#N/A"}},{"$f":"IF(S135<>T135,VLOOKUP(A135,krzywa!L:M,2,1))","v":{"$error":"#N/A"}},{"$f":"IF(V135<>FALSE,IF(L135=\"BASE\",(V135-A135+1)*24+J135,IF(L135=\"OFFPEAK\",NETWORKDAYS(A135,V135,koszyki!$M$20:$M$898)*9+(N135)*24+J135,IF(L135=\"L-PEAK5\",NETWORKDAYS(A135,V135,koszyki!$M$20:$M$898)*10,IF(L135=\"H-PEAK5\",NETWORKDAYS(A135,V135,koszyki!$M$20:$M$898)*5,NETWORKDAYS(A135,V135,koszyki!$M$20:$M$898)*15))))/C135,1)","v":{"$error":"#N/A"}}]
[null,null,0,{"$f":"'Kalkulator Depozytów'!M141","v":0},{"$f":"'Kalkulator Depozytów'!N141","v":0},{"$f":"'Kalkulator Depozytów'!O141","v":0},{"$f":"'Kalkulator Depozytów'!P141","v":0},{"$f":"'Kalkulator Depozytów'!Q141","v":0},{"$f":"ROUND(IF(OR(AND(K136>0,L136=\"L-PEAK5\"),AND(K136>0,L136=\"H-PEAK5\")),R136,IF(AND(K136>0,L136=\"PEAK5\"),O136,IF(K136>0,IF(OR(L136=\"BASE\"),AVERAGE(INDIRECT(\"krzywa!B\"&MATCH(A136-$A$2,krzywa!A:A,0)&\":B\"&MATCH(B136-$A$2,krzywa!A:A,0),TRUE)),IF(OR(L136=\"OFFPEAK\"),AVERAGE(INDIRECT(\"krzywa!F\"&MATCH(A136-$A$2,krzywa!A:A,0)&\":F\"&MATCH(B136-$A$2,krzywa!A:A,0)))))))),4)","v":0},null,0,null,{"$f":"NETWORKDAYS(A136,B136,koszyki!$M$20:$M$898)","v":0},{"$f":"B136-A136+1- NETWORKDAYS(A136,B136,koszyki!$M$20:$M$898)","v":1},{"$f":"ROUND(IF((B136-A136+1)>2,IF(C136=75,AVERAGE(INDIRECT(\"krzywa!C\"&MATCH(K136-6,krzywa!A:A,0)&\":C\"&MATCH(K136-2,krzywa!A:A,0))),AVERAGE(INDIRECT(\"krzywa!C\"&MATCH(A136-$A$2+BQ136,krzywa!A:A,0)&\":C\"&MATCH(B136-$A$2-AY136,krzywa!A:A,0)))),INDIRECT(\"krzywa!C\"&MATCH(K136,krzywa!A:A,0))),4)","v":{"$error":"#N/A"}},{"$error":"#N/A"},{"$f":"-C136*ABS(D136-F136)*H136*I136*U136+'kompensacja międzyproduktowa'!X136*U136","v":{"$error":"#N/A"}},{"$f":"ROUND(IF((B136-A136+1)>2,IF(C136=75,AVERAGE(INDIRECT(\"krzywa!D\"&MATCH(K136-6,krzywa!A:A,0)&\":D\"&MATCH(K136-2,krzywa!A:A,0))),AVERAGE(INDIRECT(\"krzywa!D\"&MATCH(A136-$A$2+BQ136,krzywa!A:A,0)&\":D\"&MATCH(B136-$A$2-AY136,krzywa!A:A,0)))),INDIRECT(\"krzywa!D\"&MATCH(K136,krzywa!A:A,0))),4)","v":{"$error":"#N/A"}},{"$f":"VLOOKUP(A136,krzywa!L:N,3,1)","v":{"$error":"#N/A"}},{"$f":"VLOOKUP(B136,krzywa!L:N,3,1)","v":{"$error":"#N/A"}},{"$f":"IF('Kalkulator Depozytów'!$B$35=TRUE,1,(1+S136/100)*W136+(1+T136/100)*(1-W136))","v":{"$error":"#N/A"}},{"$f":"IF(S136<>T136,VLOOKUP(A136,krzywa!L:M,2,1))","v":{"$error":"#N/A"}},{"$f":"IF(V136<>FALSE,IF(L136=\"BASE\",(V136-A136+1)*24+J136,IF(L136=\"OFFPEAK\",NETWORKDAYS(A136,V136,koszyki!$M$20:$M$898)*9+(N136)*24+J136,IF(L136=\"L-PEAK5\",NETWORKDAYS(A136,V136,koszyki!$M$20:$M$898)*10,IF(L136=\"H-PEAK5\",NETWORKDAYS(A136,V136,koszyki!$M$20:$M$898)*5,NETWORKDAYS(A136,V136,koszyki!$M$20:$M$898)*15))))/C136,1)","v":{"$error":"#N/A"}}]
[null,null,{"$f":"IF(L137=\"BASE\",(B137-A137+1)*24+J137,IF(L137=\"OFFPEAK\",M137*9+(N137)*24+J137,IF(L137=\"L-PEAK5\",M137*10,IF(L137=\"H-PEAK5\",M137*5,M137*15))))","v":0},{"$f":"'Kalkulator Depozytów'!M142","v":0},{"$f":"'Kalkulator Depozytów'!N142","v":0},{"$f":"'Kalkulator Depozytów'!O142","v":0},{"$f":"'Kalkulator Depozytów'!P142","v":0},{"$f":"'Kalkulator Depozytów'!Q142","v":0},{"$f":"ROUND(IF(OR(AND(K137>0,L137=\"L-PEAK5\"),AND(K137>0,L137=\"H-PEAK5\")),R137,IF(AND(K137>0,L137=\"PEAK5\"),O137,IF(K137>0,IF(OR(L137=\"BASE\"),AVERAGE(INDIRECT(\"krzywa!B\"&MATCH(A137-$A$2,krzywa!A:A,0)&\":B\"&MATCH(B137-$A$2,krzywa!A:A,0),TRUE)),IF(OR(L137=\"OFFPEAK\"),AVERAGE(INDIRECT(\"krzywa!F\"&MATCH(A137-$A$2,krzywa!A:A,0)&\":F\"&MATCH(B137-$A$2,krzywa!A:A,0)))))))),4)","v":0},null,{"$f":"B137-$A$2","v":0},null,{"$f":"NETWORKDAYS(A137,B137,koszyki!$M$20:$M$898)","v":0},{"$f":"B137-A137+1- NETWORKDAYS(A137,B137,koszyki!$M$20:$M$898)","v":1},{"$f":"ROUND(IF((B137-A137+1)>2,IF(C137=75,AVERAGE(INDIRECT(\"krzywa!C\"&MATCH(K137-6,krzywa!A:A,0)&\":C\"&MATCH(K137-2,krzywa!A:A,0))),AVERAGE(INDIRECT(\"krzywa!C\"&MATCH(A137-$A$2+BQ137,krzywa!A:A,0)&\":C\"&MATCH(B137-$A$2-AY137,krzywa!A:A,0)))),INDIRECT(\"krzywa!C\"&MATCH(K137,krzywa!A:A,0))),4)","v":{"$error":"#N/A"}},{"$f":"C137*(D137*(H137-E137)-F137*(H137-G137))*U137","v":{"$error":"#N/A"}},{"$f":"-C137*ABS(D137-F137)*H137*I137*U137+'kompensacja międzyproduktowa'!X137*U137","v":{"$error":"#N/A"}},{"$f":"ROUND(IF((B137-A137+1)>2,IF(C137=75,AVERAGE(INDIRECT(\"krzywa!D\"&MATCH(K137-6,krzywa!A:A,0)&\":D\"&MATCH(K137-2,krzywa!A:A,0))),AVERAGE(INDIRECT(\"krzywa!D\"&MATCH(A137-$A$2+BQ137,krzywa!A:A,0)&\":D\"&MATCH(B137-$A$2-AY137,krzywa!A:A,0)))),INDIRECT(\"krzywa!D\"&MATCH(K137,krzywa!A:A,0))),4)","v":{"$error":"#N/A"}},{"$f":"VLOOKUP(A137,krzywa!L:N,3,1)","v":{"$error":"#N/A"}},{"$f":"VLOOKUP(B137,krzywa!L:N,3,1)","v":{"$error":"#N/A"}},{"$f":"IF('Kalkulator Depozytów'!$B$35=TRUE,1,(1+S137/100)*W137+(1+T137/100)*(1-W137))","v":{"$error":"#N/A"}},{"$f":"IF(S137<>T137,VLOOKUP(A137,krzywa!L:M,2,1))","v":{"$error":"#N/A"}},{"$f":"IF(V137<>FALSE,IF(L137=\"BASE\",(V137-A137+1)*24+J137,IF(L137=\"OFFPEAK\",NETWORKDAYS(A137,V137,koszyki!$M$20:$M$898)*9+(N137)*24+J137,IF(L137=\"L-PEAK5\",NETWORKDAYS(A137,V137,koszyki!$M$20:$M$898)*10,IF(L137=\"H-PEAK5\",NETWORKDAYS(A137,V137,koszyki!$M$20:$M$898)*5,NETWORKDAYS(A137,V137,koszyki!$M$20:$M$898)*15))))/C137,1)","v":{"$error":"#N/A"}}]
[null,null,0,{"$f":"'Kalkulator Depozytów'!M143","v":0},{"$f":"'Kalkulator Depozytów'!N143","v":0},{"$f":"'Kalkulator Depozytów'!O143","v":0},{"$f":"'Kalkulator Depozytów'!P143","v":0},{"$f":"'Kalkulator Depozytów'!Q143","v":0},{"$f":"ROUND(IF(OR(AND(K138>0,L138=\"L-PEAK5\"),AND(K138>0,L138=\"H-PEAK5\")),R138,IF(AND(K138>0,L138=\"PEAK5\"),O138,IF(K138>0,IF(OR(L138=\"BASE\"),AVERAGE(INDIRECT(\"krzywa!B\"&MATCH(A138-$A$2,krzywa!A:A,0)&\":B\"&MATCH(B138-$A$2,krzywa!A:A,0),TRUE)),IF(OR(L138=\"OFFPEAK\"),AVERAGE(INDIRECT(\"krzywa!F\"&MATCH(A138-$A$2,krzywa!A:A,0)&\":F\"&MATCH(B138-$A$2,krzywa!A:A,0)))))))),4)","v":0},null,0,null,{"$f":"NETWORKDAYS(A138,B138,koszyki!$M$20:$M$898)","v":0},{"$f":"B138-A138+1- NETWORKDAYS(A138,B138,koszyki!$M$20:$M$898)","v":1},{"$f":"ROUND(IF((B138-A138+1)>2,IF(C138=75,AVERAGE(INDIRECT(\"krzywa!C\"&MATCH(K138-6,krzywa!A:A,0)&\":C\"&MATCH(K138-2,krzywa!A:A,0))),AVERAGE(INDIRECT(\"krzywa!C\"&MATCH(A138-$A$2+BQ138,krzywa!A:A,0)&\":C\"&MATCH(B138-$A$2-AY138,krzywa!A:A,0)))),INDIRECT(\"krzywa!C\"&MATCH(K138,krzywa!A:A,0))),4)","v":{"$error":"#N/A"}},{"$error":"#N/A"},{"$f":"-C138*ABS(D138-F138)*H138*I138*U138+'kompensacja międzyproduktowa'!X138*U138","v":{"$error":"#N/A"}},{"$f":"ROUND(IF((B138-A138+1)>2,IF(C138=75,AVERAGE(INDIRECT(\"krzywa!D\"&MATCH(K138-6,krzywa!A:A,0)&\":D\"&MATCH(K138-2,krzywa!A:A,0))),AVERAGE(INDIRECT(\"krzywa!D\"&MATCH(A138-$A$2+BQ138,krzywa!A:A,0)&\":D\"&MATCH(B138-$A$2-AY138,krzywa!A:A,0)))),INDIRECT(\"krzywa!D\"&MATCH(K138,krzywa!A:A,0))),4)","v":{"$error":"#N/A"}},{"$f":"VLOOKUP(A138,krzywa!L:N,3,1)","v":{"$error":"#N/A"}},{"$f":"VLOOKUP(B138,krzywa!L:N,3,1)","v":{"$error":"#N/A"}},{"$f":"IF('Kalkulator Depozytów'!$B$35=TRUE,1,(1+S138/100)*W138+(1+T138/100)*(1-W138))","v":{"$error":"#N/A"}},{"$f":"IF(S138<>T138,VLOOKUP(A138,krzywa!L:M,2,1))","v":{"$error":"#N/A"}},{"$f":"IF(V138<>FALSE,IF(L138=\"BASE\",(V138-A138+1)*24+J138,IF(L138=\"OFFPEAK\",NETWORKDAYS(A138,V138,koszyki!$M$20:$M$898)*9+(N138)*24+J138,IF(L138=\"L-PEAK5\",NETWORKDAYS(A138,V138,koszyki!$M$20:$M$898)*10,IF(L138=\"H-PEAK5\",NETWORKDAYS(A138,V138,koszyki!$M$20:$M$898)*5,NETWORKDAYS(A138,V138,koszyki!$M$20:$M$898)*15))))/C138,1)","v":{"$error":"#N/A"}}]
[null,null,0,{"$f":"'Kalkulator Depozytów'!M144","v":0},{"$f":"'Kalkulator Depozytów'!N144","v":0},{"$f":"'Kalkulator Depozytów'!O144","v":0},{"$f":"'Kalkulator Depozytów'!P144","v":0},{"$f":"'Kalkulator Depozytów'!Q144","v":0},{"$f":"ROUND(IF(OR(AND(K139>0,L139=\"L-PEAK5\"),AND(K139>0,L139=\"H-PEAK5\")),R139,IF(AND(K139>0,L139=\"PEAK5\"),O139,IF(K139>0,IF(OR(L139=\"BASE\"),AVERAGE(INDIRECT(\"krzywa!B\"&MATCH(A139-$A$2,krzywa!A:A,0)&\":B\"&MATCH(B139-$A$2,krzywa!A:A,0),TRUE)),IF(OR(L139=\"OFFPEAK\"),AVERAGE(INDIRECT(\"krzywa!F\"&MATCH(A139-$A$2,krzywa!A:A,0)&\":F\"&MATCH(B139-$A$2,krzywa!A:A,0)))))))),4)","v":0},null,0,null,{"$f":"NETWORKDAYS(A139,B139,koszyki!$M$20:$M$898)","v":0},{"$f":"B139-A139+1- NETWORKDAYS(A139,B139,koszyki!$M$20:$M$898)","v":1},{"$f":"ROUND(IF((B139-A139+1)>2,IF(C139=75,AVERAGE(INDIRECT(\"krzywa!C\"&MATCH(K139-6,krzywa!A:A,0)&\":C\"&MATCH(K139-2,krzywa!A:A,0))),AVERAGE(INDIRECT(\"krzywa!C\"&MATCH(A139-$A$2+BQ139,krzywa!A:A,0)&\":C\"&MATCH(B139-$A$2-AY139,krzywa!A:A,0)))),INDIRECT(\"krzywa!C\"&MATCH(K139,krzywa!A:A,0))),4)","v":{"$error":"#N/A"}},{"$error":"#N/A"},{"$f":"-C139*ABS(D139-F139)*H139*I139*U139+'kompensacja międzyproduktowa'!X139*U139","v":{"$error":"#N/A"}},{"$f":"ROUND(IF((B139-A139+1)>2,IF(C139=75,AVERAGE(INDIRECT(\"krzywa!D\"&MATCH(K139-6,krzywa!A:A,0)&\":D\"&MATCH(K139-2,krzywa!A:A,0))),AVERAGE(INDIRECT(\"krzywa!D\"&MATCH(A139-$A$2+BQ139,krzywa!A:A,0)&\":D\"&MATCH(B139-$A$2-AY139,krzywa!A:A,0)))),INDIRECT(\"krzywa!D\"&MATCH(K139,krzywa!A:A,0))),4)","v":{"$error":"#N/A"}},{"$f":"VLOOKUP(A139,krzywa!L:N,3,1)","v":{"$error":"#N/A"}},{"$f":"VLOOKUP(B139,krzywa!L:N,3,1)","v":{"$error":"#N/A"}},{"$f":"IF('Kalkulator Depozytów'!$B$35=TRUE,1,(1+S139/100)*W139+(1+T139/100)*(1-W139))","v":{"$error":"#N/A"}},{"$f":"IF(S139<>T139,VLOOKUP(A139,krzywa!L:M,2,1))","v":{"$error":"#N/A"}},{"$f":"IF(V139<>FALSE,IF(L139=\"BASE\",(V139-A139+1)*24+J139,IF(L139=\"OFFPEAK\",NETWORKDAYS(A139,V139,koszyki!$M$20:$M$898)*9+(N139)*24+J139,IF(L139=\"L-PEAK5\",NETWORKDAYS(A139,V139,koszyki!$M$20:$M$898)*10,IF(L139=\"H-PEAK5\",NETWORKDAYS(A139,V139,koszyki!$M$20:$M$898)*5,NETWORKDAYS(A139,V139,koszyki!$M$20:$M$898)*15))))/C139,1)","v":{"$error":"#N/A"}}]
[null,null,0,{"$f":"'Kalkulator Depozytów'!M145","v":0},{"$f":"'Kalkulator Depozytów'!N145","v":0},{"$f":"'Kalkulator Depozytów'!O145","v":0},{"$f":"'Kalkulator Depozytów'!P145","v":0},{"$f":"'Kalkulator Depozytów'!Q145","v":0},{"$f":"ROUND(IF(OR(AND(K140>0,L140=\"L-PEAK5\"),AND(K140>0,L140=\"H-PEAK5\")),R140,IF(AND(K140>0,L140=\"PEAK5\"),O140,IF(K140>0,IF(OR(L140=\"BASE\"),AVERAGE(INDIRECT(\"krzywa!B\"&MATCH(A140-$A$2,krzywa!A:A,0)&\":B\"&MATCH(B140-$A$2,krzywa!A:A,0),TRUE)),IF(OR(L140=\"OFFPEAK\"),AVERAGE(INDIRECT(\"krzywa!F\"&MATCH(A140-$A$2,krzywa!A:A,0)&\":F\"&MATCH(B140-$A$2,krzywa!A:A,0)))))))),4)","v":0},null,0,null,{"$f":"NETWORKDAYS(A140,B140,koszyki!$M$20:$M$898)","v":0},{"$f":"B140-A140+1- NETWORKDAYS(A140,B140,koszyki!$M$20:$M$898)","v":1},{"$f":"ROUND(IF((B140-A140+1)>2,IF(C140=75,AVERAGE(INDIRECT(\"krzywa!C\"&MATCH(K140-6,krzywa!A:A,0)&\":C\"&MATCH(K140-2,krzywa!A:A,0))),AVERAGE(INDIRECT(\"krzywa!C\"&MATCH(A140-$A$2+BQ140,krzywa!A:A,0)&\":C\"&MATCH(B140-$A$2-AY140,krzywa!A:A,0)))),INDIRECT(\"krzywa!C\"&MATCH(K140,krzywa!A:A,0))),4)","v":{"$error":"#N/A"}},{"$error":"#N/A"},{"$f":"-C140*ABS(D140-F140)*H140*I140*U140+'kompensacja międzyproduktowa'!X140*U140","v":{"$error":"#N/A"}},{"$f":"ROUND(IF((B140-A140+1)>2,IF(C140=75,AVERAGE(INDIRECT(\"krzywa!D\"&MATCH(K140-6,krzywa!A:A,0)&\":D\"&MATCH(K140-2,krzywa!A:A,0))),AVERAGE(INDIRECT(\"krzywa!D\"&MATCH(A140-$A$2+BQ140,krzywa!A:A,0)&\":D\"&MATCH(B140-$A$2-AY140,krzywa!A:A,0)))),INDIRECT(\"krzywa!D\"&MATCH(K140,krzywa!A:A,0))),4)","v":{"$error":"#N/A"}},{"$f":"VLOOKUP(A140,krzywa!L:N,3,1)","v":{"$error":"#N/A"}},{"$f":"VLOOKUP(B140,krzywa!L:N,3,1)","v":{"$error":"#N/A"}},{"$f":"IF('Kalkulator Depozytów'!$B$35=TRUE,1,(1+S140/100)*W140+(1+T140/100)*(1-W140))","v":{"$error":"#N/A"}},{"$f":"IF(S140<>T140,VLOOKUP(A140,krzywa!L:M,2,1))","v":{"$error":"#N/A"}},{"$f":"IF(V140<>FALSE,IF(L140=\"BASE\",(V140-A140+1)*24+J140,IF(L140=\"OFFPEAK\",NETWORKDAYS(A140,V140,koszyki!$M$20:$M$898)*9+(N140)*24+J140,IF(L140=\"L-PEAK5\",NETWORKDAYS(A140,V140,koszyki!$M$20:$M$898)*10,IF(L140=\"H-PEAK5\",NETWORKDAYS(A140,V140,koszyki!$M$20:$M$898)*5,NETWORKDAYS(A140,V140,koszyki!$M$20:$M$898)*15))))/C140,1)","v":{"$error":"#N/A"}}]
[null,null,0,{"$f":"'Kalkulator Depozytów'!M146","v":0},{"$f":"'Kalkulator Depozytów'!N146","v":0},{"$f":"'Kalkulator Depozytów'!O146","v":0},{"$f":"'Kalkulator Depozytów'!P146","v":0},{"$f":"'Kalkulator Depozytów'!Q146","v":0},{"$f":"ROUND(IF(OR(AND(K141>0,L141=\"L-PEAK5\"),AND(K141>0,L141=\"H-PEAK5\")),R141,IF(AND(K141>0,L141=\"PEAK5\"),O141,IF(K141>0,IF(OR(L141=\"BASE\"),AVERAGE(INDIRECT(\"krzywa!B\"&MATCH(A141-$A$2,krzywa!A:A,0)&\":B\"&MATCH(B141-$A$2,krzywa!A:A,0),TRUE)),IF(OR(L141=\"OFFPEAK\"),AVERAGE(INDIRECT(\"krzywa!F\"&MATCH(A141-$A$2,krzywa!A:A,0)&\":F\"&MATCH(B141-$A$2,krzywa!A:A,0)))))))),4)","v":0},null,0,null,{"$f":"NETWORKDAYS(A141,B141,koszyki!$M$20:$M$898)","v":0},{"$f":"B141-A141+1- NETWORKDAYS(A141,B141,koszyki!$M$20:$M$898)","v":1},{"$f":"ROUND(IF((B141-A141+1)>2,IF(C141=75,AVERAGE(INDIRECT(\"krzywa!C\"&MATCH(K141-6,krzywa!A:A,0)&\":C\"&MATCH(K141-2,krzywa!A:A,0))),AVERAGE(INDIRECT(\"krzywa!C\"&MATCH(A141-$A$2+BQ141,krzywa!A:A,0)&\":C\"&MATCH(B141-$A$2-AY141,krzywa!A:A,0)))),INDIRECT(\"krzywa!C\"&MATCH(K141,krzywa!A:A,0))),4)","v":{"$error":"#N/A"}},{"$error":"#N/A"},{"$f":"-C141*ABS(D141-F141)*H141*I141*U141+'kompensacja międzyproduktowa'!X141*U141","v":{"$error":"#N/A"}},{"$f":"ROUND(IF((B141-A141+1)>2,IF(C141=75,AVERAGE(INDIRECT(\"krzywa!D\"&MATCH(K141-6,krzywa!A:A,0)&\":D\"&MATCH(K141-2,krzywa!A:A,0))),AVERAGE(INDIRECT(\"krzywa!D\"&MATCH(A141-$A$2+BQ141,krzywa!A:A,0)&\":D\"&MATCH(B141-$A$2-AY141,krzywa!A:A,0)))),INDIRECT(\"krzywa!D\"&MATCH(K141,krzywa!A:A,0))),4)","v":{"$error":"#N/A"}},{"$f":"VLOOKUP(A141,krzywa!L:N,3,1)","v":{"$error":"#N/A"}},{"$f":"VLOOKUP(B141,krzywa!L:N,3,1)","v":{"$error":"#N/A"}},{"$f":"IF('Kalkulator Depozytów'!$B$35=TRUE,1,(1+S141/100)*W141+(1+T141/100)*(1-W141))","v":{"$error":"#N/A"}},{"$f":"IF(S141<>T141,VLOOKUP(A141,krzywa!L:M,2,1))","v":{"$error":"#N/A"}},{"$f":"IF(V141<>FALSE,IF(L141=\"BASE\",(V141-A141+1)*24+J141,IF(L141=\"OFFPEAK\",NETWORKDAYS(A141,V141,koszyki!$M$20:$M$898)*9+(N141)*24+J141,IF(L141=\"L-PEAK5\",NETWORKDAYS(A141,V141,koszyki!$M$20:$M$898)*10,IF(L141=\"H-PEAK5\",NETWORKDAYS(A141,V141,koszyki!$M$20:$M$898)*5,NETWORKDAYS(A141,V141,koszyki!$M$20:$M$898)*15))))/C141,1)","v":{"$error":"#N/A"}}]
[null,null,0,{"$f":"'Kalkulator Depozytów'!M147","v":0},{"$f":"'Kalkulator Depozytów'!N147","v":0},{"$f":"'Kalkulator Depozytów'!O147","v":0},{"$f":"'Kalkulator Depozytów'!P147","v":0},{"$f":"'Kalkulator Depozytów'!Q147","v":0},{"$f":"ROUND(IF(OR(AND(K142>0,L142=\"L-PEAK5\"),AND(K142>0,L142=\"H-PEAK5\")),R142,IF(AND(K142>0,L142=\"PEAK5\"),O142,IF(K142>0,IF(OR(L142=\"BASE\"),AVERAGE(INDIRECT(\"krzywa!B\"&MATCH(A142-$A$2,krzywa!A:A,0)&\":B\"&MATCH(B142-$A$2,krzywa!A:A,0),TRUE)),IF(OR(L142=\"OFFPEAK\"),AVERAGE(INDIRECT(\"krzywa!F\"&MATCH(A142-$A$2,krzywa!A:A,0)&\":F\"&MATCH(B142-$A$2,krzywa!A:A,0)))))))),4)","v":0},null,0,null,{"$f":"NETWORKDAYS(A142,B142,koszyki!$M$20:$M$898)","v":0},{"$f":"B142-A142+1- NETWORKDAYS(A142,B142,koszyki!$M$20:$M$898)","v":1},{"$f":"ROUND(IF((B142-A142+1)>2,IF(C142=75,AVERAGE(INDIRECT(\"krzywa!C\"&MATCH(K142-6,krzywa!A:A,0)&\":C\"&MATCH(K142-2,krzywa!A:A,0))),AVERAGE(INDIRECT(\"krzywa!C\"&MATCH(A142-$A$2+BQ142,krzywa!A:A,0)&\":C\"&MATCH(B142-$A$2-AY142,krzywa!A:A,0)))),INDIRECT(\"krzywa!C\"&MATCH(K142,krzywa!A:A,0))),4)","v":{"$error":"#N/A"}},{"$error":"#N/A"},{"$f":"-C142*ABS(D142-F142)*H142*I142*U142+'kompensacja międzyproduktowa'!X142*U142","v":{"$error":"#N/A"}},{"$f":"ROUND(IF((B142-A142+1)>2,IF(C142=75,AVERAGE(INDIRECT(\"krzywa!D\"&MATCH(K142-6,krzywa!A:A,0)&\":D\"&MATCH(K142-2,krzywa!A:A,0))),AVERAGE(INDIRECT(\"krzywa!D\"&MATCH(A142-$A$2+BQ142,krzywa!A:A,0)&\":D\"&MATCH(B142-$A$2-AY142,krzywa!A:A,0)))),INDIRECT(\"krzywa!D\"&MATCH(K142,krzywa!A:A,0))),4)","v":{"$error":"#N/A"}},{"$f":"VLOOKUP(A142,krzywa!L:N,3,1)","v":{"$error":"#N/A"}},{"$f":"VLOOKUP(B142,krzywa!L:N,3,1)","v":{"$error":"#N/A"}},{"$f":"IF('Kalkulator Depozytów'!$B$35=TRUE,1,(1+S142/100)*W142+(1+T142/100)*(1-W142))","v":{"$error":"#N/A"}},{"$f":"IF(S142<>T142,VLOOKUP(A142,krzywa!L:M,2,1))","v":{"$error":"#N/A"}},{"$f":"IF(V142<>FALSE,IF(L142=\"BASE\",(V142-A142+1)*24+J142,IF(L142=\"OFFPEAK\",NETWORKDAYS(A142,V142,koszyki!$M$20:$M$898)*9+(N142)*24+J142,IF(L142=\"L-PEAK5\",NETWORKDAYS(A142,V142,koszyki!$M$20:$M$898)*10,IF(L142=\"H-PEAK5\",NETWORKDAYS(A142,V142,koszyki!$M$20:$M$898)*5,NETWORKDAYS(A142,V142,koszyki!$M$20:$M$898)*15))))/C142,1)","v":{"$error":"#N/A"}}]
[null,null,0,{"$f":"'Kalkulator Depozytów'!M148","v":0},{"$f":"'Kalkulator Depozytów'!N148","v":0},{"$f":"'Kalkulator Depozytów'!O148","v":0},{"$f":"'Kalkulator Depozytów'!P148","v":0},{"$f":"'Kalkulator Depozytów'!Q148","v":0},{"$f":"ROUND(IF(OR(AND(K143>0,L143=\"L-PEAK5\"),AND(K143>0,L143=\"H-PEAK5\")),R143,IF(AND(K143>0,L143=\"PEAK5\"),O143,IF(K143>0,IF(OR(L143=\"BASE\"),AVERAGE(INDIRECT(\"krzywa!B\"&MATCH(A143-$A$2,krzywa!A:A,0)&\":B\"&MATCH(B143-$A$2,krzywa!A:A,0),TRUE)),IF(OR(L143=\"OFFPEAK\"),AVERAGE(INDIRECT(\"krzywa!F\"&MATCH(A143-$A$2,krzywa!A:A,0)&\":F\"&MATCH(B143-$A$2,krzywa!A:A,0)))))))),4)","v":0},null,0,null,{"$f":"NETWORKDAYS(A143,B143,koszyki!$M$20:$M$898)","v":0},{"$f":"B143-A143+1- NETWORKDAYS(A143,B143,koszyki!$M$20:$M$898)","v":1},{"$f":"ROUND(IF((B143-A143+1)>2,IF(C143=75,AVERAGE(INDIRECT(\"krzywa!C\"&MATCH(K143-6,krzywa!A:A,0)&\":C\"&MATCH(K143-2,krzywa!A:A,0))),AVERAGE(INDIRECT(\"krzywa!C\"&MATCH(A143-$A$2+BQ143,krzywa!A:A,0)&\":C\"&MATCH(B143-$A$2-AY143,krzywa!A:A,0)))),INDIRECT(\"krzywa!C\"&MATCH(K143,krzywa!A:A,0))),4)","v":{"$error":"#N/A"}},{"$error":"#N/A"},{"$f":"-C143*ABS(D143-F143)*H143*I143*U143+'kompensacja międzyproduktowa'!X143*U143","v":{"$error":"#N/A"}},{"$f":"ROUND(IF((B143-A143+1)>2,IF(C143=75,AVERAGE(INDIRECT(\"krzywa!D\"&MATCH(K143-6,krzywa!A:A,0)&\":D\"&MATCH(K143-2,krzywa!A:A,0))),AVERAGE(INDIRECT(\"krzywa!D\"&MATCH(A143-$A$2+BQ143,krzywa!A:A,0)&\":D\"&MATCH(B143-$A$2-AY143,krzywa!A:A,0)))),INDIRECT(\"krzywa!D\"&MATCH(K143,krzywa!A:A,0))),4)","v":{"$error":"#N/A"}},{"$f":"VLOOKUP(A143,krzywa!L:N,3,1)","v":{"$error":"#N/A"}},{"$f":"VLOOKUP(B143,krzywa!L:N,3,1)","v":{"$error":"#N/A"}},{"$f":"IF('Kalkulator Depozytów'!$B$35=TRUE,1,(1+S143/100)*W143+(1+T143/100)*(1-W143))","v":{"$error":"#N/A"}},{"$f":"IF(S143<>T143,VLOOKUP(A143,krzywa!L:M,2,1))","v":{"$error":"#N/A"}},{"$f":"IF(V143<>FALSE,IF(L143=\"BASE\",(V143-A143+1)*24+J143,IF(L143=\"OFFPEAK\",NETWORKDAYS(A143,V143,koszyki!$M$20:$M$898)*9+(N143)*24+J143,IF(L143=\"L-PEAK5\",NETWORKDAYS(A143,V143,koszyki!$M$20:$M$898)*10,IF(L143=\"H-PEAK5\",NETWORKDAYS(A143,V143,koszyki!$M$20:$M$898)*5,NETWORKDAYS(A143,V143,koszyki!$M$20:$M$898)*15))))/C143,1)","v":{"$error":"#N/A"}}]
[null,null,0,{"$f":"'Kalkulator Depozytów'!M149","v":0},{"$f":"'Kalkulator Depozytów'!N149","v":0},{"$f":"'Kalkulator Depozytów'!O149","v":0},{"$f":"'Kalkulator Depozytów'!P149","v":0},{"$f":"'Kalkulator Depozytów'!Q149","v":0},{"$f":"ROUND(IF(OR(AND(K144>0,L144=\"L-PEAK5\"),AND(K144>0,L144=\"H-PEAK5\")),R144,IF(AND(K144>0,L144=\"PEAK5\"),O144,IF(K144>0,IF(OR(L144=\"BASE\"),AVERAGE(INDIRECT(\"krzywa!B\"&MATCH(A144-$A$2,krzywa!A:A,0)&\":B\"&MATCH(B144-$A$2,krzywa!A:A,0),TRUE)),IF(OR(L144=\"OFFPEAK\"),AVERAGE(INDIRECT(\"krzywa!F\"&MATCH(A144-$A$2,krzywa!A:A,0)&\":F\"&MATCH(B144-$A$2,krzywa!A:A,0)))))))),4)","v":0},null,0,null,{"$f":"NETWORKDAYS(A144,B144,koszyki!$M$20:$M$898)","v":0},{"$f":"B144-A144+1- NETWORKDAYS(A144,B144,koszyki!$M$20:$M$898)","v":1},{"$f":"ROUND(IF((B144-A144+1)>2,IF(C144=75,AVERAGE(INDIRECT(\"krzywa!C\"&MATCH(K144-6,krzywa!A:A,0)&\":C\"&MATCH(K144-2,krzywa!A:A,0))),AVERAGE(INDIRECT(\"krzywa!C\"&MATCH(A144-$A$2+BQ144,krzywa!A:A,0)&\":C\"&MATCH(B144-$A$2-AY144,krzywa!A:A,0)))),INDIRECT(\"krzywa!C\"&MATCH(K144,krzywa!A:A,0))),4)","v":{"$error":"#N/A"}},{"$error":"#N/A"},{"$f":"-C144*ABS(D144-F144)*H144*I144*U144+'kompensacja międzyproduktowa'!X144*U144","v":{"$error":"#N/A"}},{"$f":"ROUND(IF((B144-A144+1)>2,IF(C144=75,AVERAGE(INDIRECT(\"krzywa!D\"&MATCH(K144-6,krzywa!A:A,0)&\":D\"&MATCH(K144-2,krzywa!A:A,0))),AVERAGE(INDIRECT(\"krzywa!D\"&MATCH(A144-$A$2+BQ144,krzywa!A:A,0)&\":D\"&MATCH(B144-$A$2-AY144,krzywa!A:A,0)))),INDIRECT(\"krzywa!D\"&MATCH(K144,krzywa!A:A,0))),4)","v":{"$error":"#N/A"}},{"$f":"VLOOKUP(A144,krzywa!L:N,3,1)","v":{"$error":"#N/A"}},{"$f":"VLOOKUP(B144,krzywa!L:N,3,1)","v":{"$error":"#N/A"}},{"$f":"IF('Kalkulator Depozytów'!$B$35=TRUE,1,(1+S144/100)*W144+(1+T144/100)*(1-W144))","v":{"$error":"#N/A"}},{"$f":"IF(S144<>T144,VLOOKUP(A144,krzywa!L:M,2,1))","v":{"$error":"#N/A"}},{"$f":"IF(V144<>FALSE,IF(L144=\"BASE\",(V144-A144+1)*24+J144,IF(L144=\"OFFPEAK\",NETWORKDAYS(A144,V144,koszyki!$M$20:$M$898)*9+(N144)*24+J144,IF(L144=\"L-PEAK5\",NETWORKDAYS(A144,V144,koszyki!$M$20:$M$898)*10,IF(L144=\"H-PEAK5\",NETWORKDAYS(A144,V144,koszyki!$M$20:$M$898)*5,NETWORKDAYS(A144,V144,koszyki!$M$20:$M$898)*15))))/C144,1)","v":{"$error":"#N/A"}}]
[null,null,0,{"$f":"'Kalkulator Depozytów'!M150","v":0},{"$f":"'Kalkulator Depozytów'!N150","v":0},{"$f":"'Kalkulator Depozytów'!O150","v":0},{"$f":"'Kalkulator Depozytów'!P150","v":0},{"$f":"'Kalkulator Depozytów'!Q150","v":0},{"$f":"ROUND(IF(OR(AND(K145>0,L145=\"L-PEAK5\"),AND(K145>0,L145=\"H-PEAK5\")),R145,IF(AND(K145>0,L145=\"PEAK5\"),O145,IF(K145>0,IF(OR(L145=\"BASE\"),AVERAGE(INDIRECT(\"krzywa!B\"&MATCH(A145-$A$2,krzywa!A:A,0)&\":B\"&MATCH(B145-$A$2,krzywa!A:A,0),TRUE)),IF(OR(L145=\"OFFPEAK\"),AVERAGE(INDIRECT(\"krzywa!F\"&MATCH(A145-$A$2,krzywa!A:A,0)&\":F\"&MATCH(B145-$A$2,krzywa!A:A,0)))))))),4)","v":0},null,0,null,{"$f":"NETWORKDAYS(A145,B145,koszyki!$M$20:$M$898)","v":0},{"$f":"B145-A145+1- NETWORKDAYS(A145,B145,koszyki!$M$20:$M$898)","v":1},{"$f":"ROUND(IF((B145-A145+1)>2,IF(C145=75,AVERAGE(INDIRECT(\"krzywa!C\"&MATCH(K145-6,krzywa!A:A,0)&\":C\"&MATCH(K145-2,krzywa!A:A,0))),AVERAGE(INDIRECT(\"krzywa!C\"&MATCH(A145-$A$2+BQ145,krzywa!A:A,0)&\":C\"&MATCH(B145-$A$2-AY145,krzywa!A:A,0)))),INDIRECT(\"krzywa!C\"&MATCH(K145,krzywa!A:A,0))),4)","v":{"$error":"#N/A"}},{"$error":"#N/A"},{"$f":"-C145*ABS(D145-F145)*H145*I145*U145+'kompensacja międzyproduktowa'!X145*U145","v":{"$error":"#N/A"}},{"$f":"ROUND(IF((B145-A145+1)>2,IF(C145=75,AVERAGE(INDIRECT(\"krzywa!D\"&MATCH(K145-6,krzywa!A:A,0)&\":D\"&MATCH(K145-2,krzywa!A:A,0))),AVERAGE(INDIRECT(\"krzywa!D\"&MATCH(A145-$A$2+BQ145,krzywa!A:A,0)&\":D\"&MATCH(B145-$A$2-AY145,krzywa!A:A,0)))),INDIRECT(\"krzywa!D\"&MATCH(K145,krzywa!A:A,0))),4)","v":{"$error":"#N/A"}},{"$f":"VLOOKUP(A145,krzywa!L:N,3,1)","v":{"$error":"#N/A"}},{"$f":"VLOOKUP(B145,krzywa!L:N,3,1)","v":{"$error":"#N/A"}},{"$f":"IF('Kalkulator Depozytów'!$B$35=TRUE,1,(1+S145/100)*W145+(1+T145/100)*(1-W145))","v":{"$error":"#N/A"}},{"$f":"IF(S145<>T145,VLOOKUP(A145,krzywa!L:M,2,1))","v":{"$error":"#N/A"}},{"$f":"IF(V145<>FALSE,IF(L145=\"BASE\",(V145-A145+1)*24+J145,IF(L145=\"OFFPEAK\",NETWORKDAYS(A145,V145,koszyki!$M$20:$M$898)*9+(N145)*24+J145,IF(L145=\"L-PEAK5\",NETWORKDAYS(A145,V145,koszyki!$M$20:$M$898)*10,IF(L145=\"H-PEAK5\",NETWORKDAYS(A145,V145,koszyki!$M$20:$M$898)*5,NETWORKDAYS(A145,V145,koszyki!$M$20:$M$898)*15))))/C145,1)","v":{"$error":"#N/A"}}]
[null,null,0,{"$f":"'Kalkulator Depozytów'!M151","v":0},{"$f":"'Kalkulator Depozytów'!N151","v":0},{"$f":"'Kalkulator Depozytów'!O151","v":0},{"$f":"'Kalkulator Depozytów'!P151","v":0},{"$f":"'Kalkulator Depozytów'!Q151","v":0},{"$f":"ROUND(IF(OR(AND(K146>0,L146=\"L-PEAK5\"),AND(K146>0,L146=\"H-PEAK5\")),R146,IF(AND(K146>0,L146=\"PEAK5\"),O146,IF(K146>0,IF(OR(L146=\"BASE\"),AVERAGE(INDIRECT(\"krzywa!B\"&MATCH(A146-$A$2,krzywa!A:A,0)&\":B\"&MATCH(B146-$A$2,krzywa!A:A,0),TRUE)),IF(OR(L146=\"OFFPEAK\"),AVERAGE(INDIRECT(\"krzywa!F\"&MATCH(A146-$A$2,krzywa!A:A,0)&\":F\"&MATCH(B146-$A$2,krzywa!A:A,0)))))))),4)","v":0},null,0,null,{"$f":"NETWORKDAYS(A146,B146,koszyki!$M$20:$M$898)","v":0},{"$f":"B146-A146+1- NETWORKDAYS(A146,B146,koszyki!$M$20:$M$898)","v":1},{"$f":"ROUND(IF((B146-A146+1)>2,IF(C146=75,AVERAGE(INDIRECT(\"krzywa!C\"&MATCH(K146-6,krzywa!A:A,0)&\":C\"&MATCH(K146-2,krzywa!A:A,0))),AVERAGE(INDIRECT(\"krzywa!C\"&MATCH(A146-$A$2+BQ146,krzywa!A:A,0)&\":C\"&MATCH(B146-$A$2-AY146,krzywa!A:A,0)))),INDIRECT(\"krzywa!C\"&MATCH(K146,krzywa!A:A,0))),4)","v":{"$error":"#N/A"}},{"$error":"#N/A"},{"$f":"-C146*ABS(D146-F146)*H146*I146*U146+'kompensacja międzyproduktowa'!X146*U146","v":{"$error":"#N/A"}},{"$f":"ROUND(IF((B146-A146+1)>2,IF(C146=75,AVERAGE(INDIRECT(\"krzywa!D\"&MATCH(K146-6,krzywa!A:A,0)&\":D\"&MATCH(K146-2,krzywa!A:A,0))),AVERAGE(INDIRECT(\"krzywa!D\"&MATCH(A146-$A$2+BQ146,krzywa!A:A,0)&\":D\"&MATCH(B146-$A$2-AY146,krzywa!A:A,0)))),INDIRECT(\"krzywa!D\"&MATCH(K146,krzywa!A:A,0))),4)","v":{"$error":"#N/A"}},{"$f":"VLOOKUP(A146,krzywa!L:N,3,1)","v":{"$error":"#N/A"}},{"$f":"VLOOKUP(B146,krzywa!L:N,3,1)","v":{"$error":"#N/A"}},{"$f":"IF('Kalkulator Depozytów'!$B$35=TRUE,1,(1+S146/100)*W146+(1+T146/100)*(1-W146))","v":{"$error":"#N/A"}},{"$f":"IF(S146<>T146,VLOOKUP(A146,krzywa!L:M,2,1))","v":{"$error":"#N/A"}},{"$f":"IF(V146<>FALSE,IF(L146=\"BASE\",(V146-A146+1)*24+J146,IF(L146=\"OFFPEAK\",NETWORKDAYS(A146,V146,koszyki!$M$20:$M$898)*9+(N146)*24+J146,IF(L146=\"L-PEAK5\",NETWORKDAYS(A146,V146,koszyki!$M$20:$M$898)*10,IF(L146=\"H-PEAK5\",NETWORKDAYS(A146,V146,koszyki!$M$20:$M$898)*5,NETWORKDAYS(A146,V146,koszyki!$M$20:$M$898)*15))))/C146,1)","v":{"$error":"#N/A"}}]
[null,null,0,{"$f":"'Kalkulator Depozytów'!M152","v":0},{"$f":"'Kalkulator Depozytów'!N152","v":0},{"$f":"'Kalkulator Depozytów'!O152","v":0},{"$f":"'Kalkulator Depozytów'!P152","v":0},{"$f":"'Kalkulator Depozytów'!Q152","v":0},{"$f":"ROUND(IF(OR(AND(K147>0,L147=\"L-PEAK5\"),AND(K147>0,L147=\"H-PEAK5\")),R147,IF(AND(K147>0,L147=\"PEAK5\"),O147,IF(K147>0,IF(OR(L147=\"BASE\"),AVERAGE(INDIRECT(\"krzywa!B\"&MATCH(A147-$A$2,krzywa!A:A,0)&\":B\"&MATCH(B147-$A$2,krzywa!A:A,0),TRUE)),IF(OR(L147=\"OFFPEAK\"),AVERAGE(INDIRECT(\"krzywa!F\"&MATCH(A147-$A$2,krzywa!A:A,0)&\":F\"&MATCH(B147-$A$2,krzywa!A:A,0)))))))),4)","v":0},null,0,null,{"$f":"NETWORKDAYS(A147,B147,koszyki!$M$20:$M$898)","v":0},{"$f":"B147-A147+1- NETWORKDAYS(A147,B147,koszyki!$M$20:$M$898)","v":1},{"$f":"ROUND(IF((B147-A147+1)>2,IF(C147=75,AVERAGE(INDIRECT(\"krzywa!C\"&MATCH(K147-6,krzywa!A:A,0)&\":C\"&MATCH(K147-2,krzywa!A:A,0))),AVERAGE(INDIRECT(\"krzywa!C\"&MATCH(A147-$A$2+BQ147,krzywa!A:A,0)&\":C\"&MATCH(B147-$A$2-AY147,krzywa!A:A,0)))),INDIRECT(\"krzywa!C\"&MATCH(K147,krzywa!A:A,0))),4)","v":{"$error":"#N/A"}},{"$error":"#N/A"},{"$f":"-C147*ABS(D147-F147)*H147*I147*U147+'kompensacja międzyproduktowa'!X147*U147","v":{"$error":"#N/A"}},{"$f":"ROUND(IF((B147-A147+1)>2,IF(C147=75,AVERAGE(INDIRECT(\"krzywa!D\"&MATCH(K147-6,krzywa!A:A,0)&\":D\"&MATCH(K147-2,krzywa!A:A,0))),AVERAGE(INDIRECT(\"krzywa!D\"&MATCH(A147-$A$2+BQ147,krzywa!A:A,0)&\":D\"&MATCH(B147-$A$2-AY147,krzywa!A:A,0)))),INDIRECT(\"krzywa!D\"&MATCH(K147,krzywa!A:A,0))),4)","v":{"$error":"#N/A"}},{"$f":"VLOOKUP(A147,krzywa!L:N,3,1)","v":{"$error":"#N/A"}},{"$f":"VLOOKUP(B147,krzywa!L:N,3,1)","v":{"$error":"#N/A"}},{"$f":"IF('Kalkulator Depozytów'!$B$35=TRUE,1,(1+S147/100)*W147+(1+T147/100)*(1-W147))","v":{"$error":"#N/A"}},{"$f":"IF(S147<>T147,VLOOKUP(A147,krzywa!L:M,2,1))","v":{"$error":"#N/A"}},{"$f":"IF(V147<>FALSE,IF(L147=\"BASE\",(V147-A147+1)*24+J147,IF(L147=\"OFFPEAK\",NETWORKDAYS(A147,V147,koszyki!$M$20:$M$898)*9+(N147)*24+J147,IF(L147=\"L-PEAK5\",NETWORKDAYS(A147,V147,koszyki!$M$20:$M$898)*10,IF(L147=\"H-PEAK5\",NETWORKDAYS(A147,V147,koszyki!$M$20:$M$898)*5,NETWORKDAYS(A147,V147,koszyki!$M$20:$M$898)*15))))/C147,1)","v":{"$error":"#N/A"}}]
[null,null,0,{"$f":"'Kalkulator Depozytów'!M153","v":0},{"$f":"'Kalkulator Depozytów'!N153","v":0},{"$f":"'Kalkulator Depozytów'!O153","v":0},{"$f":"'Kalkulator Depozytów'!P153","v":0},{"$f":"'Kalkulator Depozytów'!Q153","v":0},{"$f":"ROUND(IF(OR(AND(K148>0,L148=\"L-PEAK5\"),AND(K148>0,L148=\"H-PEAK5\")),R148,IF(AND(K148>0,L148=\"PEAK5\"),O148,IF(K148>0,IF(OR(L148=\"BASE\"),AVERAGE(INDIRECT(\"krzywa!B\"&MATCH(A148-$A$2,krzywa!A:A,0)&\":B\"&MATCH(B148-$A$2,krzywa!A:A,0),TRUE)),IF(OR(L148=\"OFFPEAK\"),AVERAGE(INDIRECT(\"krzywa!F\"&MATCH(A148-$A$2,krzywa!A:A,0)&\":F\"&MATCH(B148-$A$2,krzywa!A:A,0)))))))),4)","v":0},null,0,null,{"$f":"NETWORKDAYS(A148,B148,koszyki!$M$20:$M$898)","v":0},{"$f":"B148-A148+1- NETWORKDAYS(A148,B148,koszyki!$M$20:$M$898)","v":1},{"$f":"ROUND(IF((B148-A148+1)>2,IF(C148=75,AVERAGE(INDIRECT(\"krzywa!C\"&MATCH(K148-6,krzywa!A:A,0)&\":C\"&MATCH(K148-2,krzywa!A:A,0))),AVERAGE(INDIRECT(\"krzywa!C\"&MATCH(A148-$A$2+BQ148,krzywa!A:A,0)&\":C\"&MATCH(B148-$A$2-AY148,krzywa!A:A,0)))),INDIRECT(\"krzywa!C\"&MATCH(K148,krzywa!A:A,0))),4)","v":{"$error":"#N/A"}},{"$error":"#N/A"},{"$f":"-C148*ABS(D148-F148)*H148*I148*U148+'kompensacja międzyproduktowa'!X148*U148","v":{"$error":"#N/A"}},{"$f":"ROUND(IF((B148-A148+1)>2,IF(C148=75,AVERAGE(INDIRECT(\"krzywa!D\"&MATCH(K148-6,krzywa!A:A,0)&\":D\"&MATCH(K148-2,krzywa!A:A,0))),AVERAGE(INDIRECT(\"krzywa!D\"&MATCH(A148-$A$2+BQ148,krzywa!A:A,0)&\":D\"&MATCH(B148-$A$2-AY148,krzywa!A:A,0)))),INDIRECT(\"krzywa!D\"&MATCH(K148,krzywa!A:A,0))),4)","v":{"$error":"#N/A"}},{"$f":"VLOOKUP(A148,krzywa!L:N,3,1)","v":{"$error":"#N/A"}},{"$f":"VLOOKUP(B148,krzywa!L:N,3,1)","v":{"$error":"#N/A"}},{"$f":"IF('Kalkulator Depozytów'!$B$35=TRUE,1,(1+S148/100)*W148+(1+T148/100)*(1-W148))","v":{"$error":"#N/A"}},{"$f":"IF(S148<>T148,VLOOKUP(A148,krzywa!L:M,2,1))","v":{"$error":"#N/A"}},{"$f":"IF(V148<>FALSE,IF(L148=\"BASE\",(V148-A148+1)*24+J148,IF(L148=\"OFFPEAK\",NETWORKDAYS(A148,V148,koszyki!$M$20:$M$898)*9+(N148)*24+J148,IF(L148=\"L-PEAK5\",NETWORKDAYS(A148,V148,koszyki!$M$20:$M$898)*10,IF(L148=\"H-PEAK5\",NETWORKDAYS(A148,V148,koszyki!$M$20:$M$898)*5,NETWORKDAYS(A148,V148,koszyki!$M$20:$M$898)*15))))/C148,1)","v":{"$error":"#N/A"}}]
[null,null,0,{"$f":"'Kalkulator Depozytów'!M154","v":0},{"$f":"'Kalkulator Depozytów'!N154","v":0},{"$f":"'Kalkulator Depozytów'!O154","v":0},{"$f":"'Kalkulator Depozytów'!P154","v":0},{"$f":"'Kalkulator Depozytów'!Q154","v":0},{"$f":"ROUND(IF(OR(AND(K149>0,L149=\"L-PEAK5\"),AND(K149>0,L149=\"H-PEAK5\")),R149,IF(AND(K149>0,L149=\"PEAK5\"),O149,IF(K149>0,IF(OR(L149=\"BASE\"),AVERAGE(INDIRECT(\"krzywa!B\"&MATCH(A149-$A$2,krzywa!A:A,0)&\":B\"&MATCH(B149-$A$2,krzywa!A:A,0),TRUE)),IF(OR(L149=\"OFFPEAK\"),AVERAGE(INDIRECT(\"krzywa!F\"&MATCH(A149-$A$2,krzywa!A:A,0)&\":F\"&MATCH(B149-$A$2,krzywa!A:A,0)))))))),4)","v":0},null,0,null,{"$f":"NETWORKDAYS(A149,B149,koszyki!$M$20:$M$898)","v":0},{"$f":"B149-A149+1- NETWORKDAYS(A149,B149,koszyki!$M$20:$M$898)","v":1},{"$f":"ROUND(IF((B149-A149+1)>2,IF(C149=75,AVERAGE(INDIRECT(\"krzywa!C\"&MATCH(K149-6,krzywa!A:A,0)&\":C\"&MATCH(K149-2,krzywa!A:A,0))),AVERAGE(INDIRECT(\"krzywa!C\"&MATCH(A149-$A$2+BQ149,krzywa!A:A,0)&\":C\"&MATCH(B149-$A$2-AY149,krzywa!A:A,0)))),INDIRECT(\"krzywa!C\"&MATCH(K149,krzywa!A:A,0))),4)","v":{"$error":"#N/A"}},{"$error":"#N/A"},{"$f":"-C149*ABS(D149-F149)*H149*I149*U149+'kompensacja międzyproduktowa'!X149*U149","v":{"$error":"#N/A"}},{"$f":"ROUND(IF((B149-A149+1)>2,IF(C149=75,AVERAGE(INDIRECT(\"krzywa!D\"&MATCH(K149-6,krzywa!A:A,0)&\":D\"&MATCH(K149-2,krzywa!A:A,0))),AVERAGE(INDIRECT(\"krzywa!D\"&MATCH(A149-$A$2+BQ149,krzywa!A:A,0)&\":D\"&MATCH(B149-$A$2-AY149,krzywa!A:A,0)))),INDIRECT(\"krzywa!D\"&MATCH(K149,krzywa!A:A,0))),4)","v":{"$error":"#N/A"}},{"$f":"VLOOKUP(A149,krzywa!L:N,3,1)","v":{"$error":"#N/A"}},{"$f":"VLOOKUP(B149,krzywa!L:N,3,1)","v":{"$error":"#N/A"}},{"$f":"IF('Kalkulator Depozytów'!$B$35=TRUE,1,(1+S149/100)*W149+(1+T149/100)*(1-W149))","v":{"$error":"#N/A"}},{"$f":"IF(S149<>T149,VLOOKUP(A149,krzywa!L:M,2,1))","v":{"$error":"#N/A"}},{"$f":"IF(V149<>FALSE,IF(L149=\"BASE\",(V149-A149+1)*24+J149,IF(L149=\"OFFPEAK\",NETWORKDAYS(A149,V149,koszyki!$M$20:$M$898)*9+(N149)*24+J149,IF(L149=\"L-PEAK5\",NETWORKDAYS(A149,V149,koszyki!$M$20:$M$898)*10,IF(L149=\"H-PEAK5\",NETWORKDAYS(A149,V149,koszyki!$M$20:$M$898)*5,NETWORKDAYS(A149,V149,koszyki!$M$20:$M$898)*15))))/C149,1)","v":{"$error":"#N/A"}}]
[null,null,0,{"$f":"'Kalkulator Depozytów'!M155","v":0},{"$f":"'Kalkulator Depozytów'!N155","v":0},{"$f":"'Kalkulator Depozytów'!O155","v":0},{"$f":"'Kalkulator Depozytów'!P155","v":0},{"$f":"'Kalkulator Depozytów'!Q155","v":0},{"$f":"ROUND(IF(OR(AND(K150>0,L150=\"L-PEAK5\"),AND(K150>0,L150=\"H-PEAK5\")),R150,IF(AND(K150>0,L150=\"PEAK5\"),O150,IF(K150>0,IF(OR(L150=\"BASE\"),AVERAGE(INDIRECT(\"krzywa!B\"&MATCH(A150-$A$2,krzywa!A:A,0)&\":B\"&MATCH(B150-$A$2,krzywa!A:A,0),TRUE)),IF(OR(L150=\"OFFPEAK\"),AVERAGE(INDIRECT(\"krzywa!F\"&MATCH(A150-$A$2,krzywa!A:A,0)&\":F\"&MATCH(B150-$A$2,krzywa!A:A,0)))))))),4)","v":0},null,0,null,{"$f":"NETWORKDAYS(A150,B150,koszyki!$M$20:$M$898)","v":0},{"$f":"B150-A150+1- NETWORKDAYS(A150,B150,koszyki!$M$20:$M$898)","v":1},{"$f":"ROUND(IF((B150-A150+1)>2,IF(C150=75,AVERAGE(INDIRECT(\"krzywa!C\"&MATCH(K150-6,krzywa!A:A,0)&\":C\"&MATCH(K150-2,krzywa!A:A,0))),AVERAGE(INDIRECT(\"krzywa!C\"&MATCH(A150-$A$2+BQ150,krzywa!A:A,0)&\":C\"&MATCH(B150-$A$2-AY150,krzywa!A:A,0)))),INDIRECT(\"krzywa!C\"&MATCH(K150,krzywa!A:A,0))),4)","v":{"$error":"#N/A"}},{"$error":"#N/A"},{"$f":"-C150*ABS(D150-F150)*H150*I150*U150+'kompensacja międzyproduktowa'!X150*U150","v":{"$error":"#N/A"}},{"$f":"ROUND(IF((B150-A150+1)>2,IF(C150=75,AVERAGE(INDIRECT(\"krzywa!D\"&MATCH(K150-6,krzywa!A:A,0)&\":D\"&MATCH(K150-2,krzywa!A:A,0))),AVERAGE(INDIRECT(\"krzywa!D\"&MATCH(A150-$A$2+BQ150,krzywa!A:A,0)&\":D\"&MATCH(B150-$A$2-AY150,krzywa!A:A,0)))),INDIRECT(\"krzywa!D\"&MATCH(K150,krzywa!A:A,0))),4)","v":{"$error":"#N/A"}},{"$f":"VLOOKUP(A150,krzywa!L:N,3,1)","v":{"$error":"#N/A"}},{"$f":"VLOOKUP(B150,krzywa!L:N,3,1)","v":{"$error":"#N/A"}},{"$f":"IF('Kalkulator Depozytów'!$B$35=TRUE,1,(1+S150/100)*W150+(1+T150/100)*(1-W150))","v":{"$error":"#N/A"}},{"$f":"IF(S150<>T150,VLOOKUP(A150,krzywa!L:M,2,1))","v":{"$error":"#N/A"}},{"$f":"IF(V150<>FALSE,IF(L150=\"BASE\",(V150-A150+1)*24+J150,IF(L150=\"OFFPEAK\",NETWORKDAYS(A150,V150,koszyki!$M$20:$M$898)*9+(N150)*24+J150,IF(L150=\"L-PEAK5\",NETWORKDAYS(A150,V150,koszyki!$M$20:$M$898)*10,IF(L150=\"H-PEAK5\",NETWORKDAYS(A150,V150,koszyki!$M$20:$M$898)*5,NETWORKDAYS(A150,V150,koszyki!$M$20:$M$898)*15))))/C150,1)","v":{"$error":"#N/A"}}]
[null,null,0,{"$f":"'Kalkulator Depozytów'!M156","v":0},{"$f":"'Kalkulator Depozytów'!N156","v":0},{"$f":"'Kalkulator Depozytów'!O156","v":0},{"$f":"'Kalkulator Depozytów'!P156","v":0},{"$f":"'Kalkulator Depozytów'!Q156","v":0},{"$f":"ROUND(IF(OR(AND(K151>0,L151=\"L-PEAK5\"),AND(K151>0,L151=\"H-PEAK5\")),R151,IF(AND(K151>0,L151=\"PEAK5\"),O151,IF(K151>0,IF(OR(L151=\"BASE\"),AVERAGE(INDIRECT(\"krzywa!B\"&MATCH(A151-$A$2,krzywa!A:A,0)&\":B\"&MATCH(B151-$A$2,krzywa!A:A,0),TRUE)),IF(OR(L151=\"OFFPEAK\"),AVERAGE(INDIRECT(\"krzywa!F\"&MATCH(A151-$A$2,krzywa!A:A,0)&\":F\"&MATCH(B151-$A$2,krzywa!A:A,0)))))))),4)","v":0},null,0,null,{"$f":"NETWORKDAYS(A151,B151,koszyki!$M$20:$M$898)","v":0},{"$f":"B151-A151+1- NETWORKDAYS(A151,B151,koszyki!$M$20:$M$898)","v":1},{"$f":"ROUND(IF((B151-A151+1)>2,IF(C151=75,AVERAGE(INDIRECT(\"krzywa!C\"&MATCH(K151-6,krzywa!A:A,0)&\":C\"&MATCH(K151-2,krzywa!A:A,0))),AVERAGE(INDIRECT(\"krzywa!C\"&MATCH(A151-$A$2+BQ151,krzywa!A:A,0)&\":C\"&MATCH(B151-$A$2-AY151,krzywa!A:A,0)))),INDIRECT(\"krzywa!C\"&MATCH(K151,krzywa!A:A,0))),4)","v":{"$error":"#N/A"}},{"$error":"#N/A"},{"$f":"-C151*ABS(D151-F151)*H151*I151*U151+'kompensacja międzyproduktowa'!X151*U151","v":{"$error":"#N/A"}},{"$f":"ROUND(IF((B151-A151+1)>2,IF(C151=75,AVERAGE(INDIRECT(\"krzywa!D\"&MATCH(K151-6,krzywa!A:A,0)&\":D\"&MATCH(K151-2,krzywa!A:A,0))),AVERAGE(INDIRECT(\"krzywa!D\"&MATCH(A151-$A$2+BQ151,krzywa!A:A,0)&\":D\"&MATCH(B151-$A$2-AY151,krzywa!A:A,0)))),INDIRECT(\"krzywa!D\"&MATCH(K151,krzywa!A:A,0))),4)","v":{"$error":"#N/A"}},{"$f":"VLOOKUP(A151,krzywa!L:N,3,1)","v":{"$error":"#N/A"}},{"$f":"VLOOKUP(B151,krzywa!L:N,3,1)","v":{"$error":"#N/A"}},{"$f":"IF('Kalkulator Depozytów'!$B$35=TRUE,1,(1+S151/100)*W151+(1+T151/100)*(1-W151))","v":{"$error":"#N/A"}},{"$f":"IF(S151<>T151,VLOOKUP(A151,krzywa!L:M,2,1))","v":{"$error":"#N/A"}},{"$f":"IF(V151<>FALSE,IF(L151=\"BASE\",(V151-A151+1)*24+J151,IF(L151=\"OFFPEAK\",NETWORKDAYS(A151,V151,koszyki!$M$20:$M$898)*9+(N151)*24+J151,IF(L151=\"L-PEAK5\",NETWORKDAYS(A151,V151,koszyki!$M$20:$M$898)*10,IF(L151=\"H-PEAK5\",NETWORKDAYS(A151,V151,koszyki!$M$20:$M$898)*5,NETWORKDAYS(A151,V151,koszyki!$M$20:$M$898)*15))))/C151,1)","v":{"$error":"#N/A"}}]
[null,null,0,{"$f":"'Kalkulator Depozytów'!M157","v":0},{"$f":"'Kalkulator Depozytów'!N157","v":0},{"$f":"'Kalkulator Depozytów'!O157","v":0},{"$f":"'Kalkulator Depozytów'!P157","v":0},{"$f":"'Kalkulator Depozytów'!Q157","v":0},{"$f":"ROUND(IF(OR(AND(K152>0,L152=\"L-PEAK5\"),AND(K152>0,L152=\"H-PEAK5\")),R152,IF(AND(K152>0,L152=\"PEAK5\"),O152,IF(K152>0,IF(OR(L152=\"BASE\"),AVERAGE(INDIRECT(\"krzywa!B\"&MATCH(A152-$A$2,krzywa!A:A,0)&\":B\"&MATCH(B152-$A$2,krzywa!A:A,0),TRUE)),IF(OR(L152=\"OFFPEAK\"),AVERAGE(INDIRECT(\"krzywa!F\"&MATCH(A152-$A$2,krzywa!A:A,0)&\":F\"&MATCH(B152-$A$2,krzywa!A:A,0)))))))),4)","v":0},null,0,null,{"$f":"NETWORKDAYS(A152,B152,koszyki!$M$20:$M$898)","v":0},{"$f":"B152-A152+1- NETWORKDAYS(A152,B152,koszyki!$M$20:$M$898)","v":1},{"$f":"ROUND(IF((B152-A152+1)>2,IF(C152=75,AVERAGE(INDIRECT(\"krzywa!C\"&MATCH(K152-6,krzywa!A:A,0)&\":C\"&MATCH(K152-2,krzywa!A:A,0))),AVERAGE(INDIRECT(\"krzywa!C\"&MATCH(A152-$A$2+BQ152,krzywa!A:A,0)&\":C\"&MATCH(B152-$A$2-AY152,krzywa!A:A,0)))),INDIRECT(\"krzywa!C\"&MATCH(K152,krzywa!A:A,0))),4)","v":{"$error":"#N/A"}},{"$error":"#N/A"},{"$f":"-C152*ABS(D152-F152)*H152*I152*U152+'kompensacja międzyproduktowa'!X152*U152","v":{"$error":"#N/A"}},{"$f":"ROUND(IF((B152-A152+1)>2,IF(C152=75,AVERAGE(INDIRECT(\"krzywa!D\"&MATCH(K152-6,krzywa!A:A,0)&\":D\"&MATCH(K152-2,krzywa!A:A,0))),AVERAGE(INDIRECT(\"krzywa!D\"&MATCH(A152-$A$2+BQ152,krzywa!A:A,0)&\":D\"&MATCH(B152-$A$2-AY152,krzywa!A:A,0)))),INDIRECT(\"krzywa!D\"&MATCH(K152,krzywa!A:A,0))),4)","v":{"$error":"#N/A"}},{"$f":"VLOOKUP(A152,krzywa!L:N,3,1)","v":{"$error":"#N/A"}},{"$f":"VLOOKUP(B152,krzywa!L:N,3,1)","v":{"$error":"#N/A"}},{"$f":"IF('Kalkulator Depozytów'!$B$35=TRUE,1,(1+S152/100)*W152+(1+T152/100)*(1-W152))","v":{"$error":"#N/A"}},{"$f":"IF(S152<>T152,VLOOKUP(A152,krzywa!L:M,2,1))","v":{"$error":"#N/A"}},{"$f":"IF(V152<>FALSE,IF(L152=\"BASE\",(V152-A152+1)*24+J152,IF(L152=\"OFFPEAK\",NETWORKDAYS(A152,V152,koszyki!$M$20:$M$898)*9+(N152)*24+J152,IF(L152=\"L-PEAK5\",NETWORKDAYS(A152,V152,koszyki!$M$20:$M$898)*10,IF(L152=\"H-PEAK5\",NETWORKDAYS(A152,V152,koszyki!$M$20:$M$898)*5,NETWORKDAYS(A152,V152,koszyki!$M$20:$M$898)*15))))/C152,1)","v":{"$error":"#N/A"}}]
[null,null,0,{"$f":"'Kalkulator Depozytów'!M158","v":0},{"$f":"'Kalkulator Depozytów'!N158","v":0},{"$f":"'Kalkulator Depozytów'!O158","v":0},{"$f":"'Kalkulator Depozytów'!P158","v":0},{"$f":"'Kalkulator Depozytów'!Q158","v":0},{"$f":"ROUND(IF(OR(AND(K153>0,L153=\"L-PEAK5\"),AND(K153>0,L153=\"H-PEAK5\")),R153,IF(AND(K153>0,L153=\"PEAK5\"),O153,IF(K153>0,IF(OR(L153=\"BASE\"),AVERAGE(INDIRECT(\"krzywa!B\"&MATCH(A153-$A$2,krzywa!A:A,0)&\":B\"&MATCH(B153-$A$2,krzywa!A:A,0),TRUE)),IF(OR(L153=\"OFFPEAK\"),AVERAGE(INDIRECT(\"krzywa!F\"&MATCH(A153-$A$2,krzywa!A:A,0)&\":F\"&MATCH(B153-$A$2,krzywa!A:A,0)))))))),4)","v":0},null,0,null,{"$f":"NETWORKDAYS(A153,B153,koszyki!$M$20:$M$898)","v":0},{"$f":"B153-A153+1- NETWORKDAYS(A153,B153,koszyki!$M$20:$M$898)","v":1},{"$f":"ROUND(IF((B153-A153+1)>2,IF(C153=75,AVERAGE(INDIRECT(\"krzywa!C\"&MATCH(K153-6,krzywa!A:A,0)&\":C\"&MATCH(K153-2,krzywa!A:A,0))),AVERAGE(INDIRECT(\"krzywa!C\"&MATCH(A153-$A$2+BQ153,krzywa!A:A,0)&\":C\"&MATCH(B153-$A$2-AY153,krzywa!A:A,0)))),INDIRECT(\"krzywa!C\"&MATCH(K153,krzywa!A:A,0))),4)","v":{"$error":"#N/A"}},{"$error":"#N/A"},{"$f":"-C153*ABS(D153-F153)*H153*I153*U153+'kompensacja międzyproduktowa'!X153*U153","v":{"$error":"#N/A"}},{"$f":"ROUND(IF((B153-A153+1)>2,IF(C153=75,AVERAGE(INDIRECT(\"krzywa!D\"&MATCH(K153-6,krzywa!A:A,0)&\":D\"&MATCH(K153-2,krzywa!A:A,0))),AVERAGE(INDIRECT(\"krzywa!D\"&MATCH(A153-$A$2+BQ153,krzywa!A:A,0)&\":D\"&MATCH(B153-$A$2-AY153,krzywa!A:A,0)))),INDIRECT(\"krzywa!D\"&MATCH(K153,krzywa!A:A,0))),4)","v":{"$error":"#N/A"}},{"$f":"VLOOKUP(A153,krzywa!L:N,3,1)","v":{"$error":"#N/A"}},{"$f":"VLOOKUP(B153,krzywa!L:N,3,1)","v":{"$error":"#N/A"}},{"$f":"IF('Kalkulator Depozytów'!$B$35=TRUE,1,(1+S153/100)*W153+(1+T153/100)*(1-W153))","v":{"$error":"#N/A"}},{"$f":"IF(S153<>T153,VLOOKUP(A153,krzywa!L:M,2,1))","v":{"$error":"#N/A"}},{"$f":"IF(V153<>FALSE,IF(L153=\"BASE\",(V153-A153+1)*24+J153,IF(L153=\"OFFPEAK\",NETWORKDAYS(A153,V153,koszyki!$M$20:$M$898)*9+(N153)*24+J153,IF(L153=\"L-PEAK5\",NETWORKDAYS(A153,V153,koszyki!$M$20:$M$898)*10,IF(L153=\"H-PEAK5\",NETWORKDAYS(A153,V153,koszyki!$M$20:$M$898)*5,NETWORKDAYS(A153,V153,koszyki!$M$20:$M$898)*15))))/C153,1)","v":{"$error":"#N/A"}}]
[null,null,0,{"$f":"'Kalkulator Depozytów'!M159","v":0},{"$f":"'Kalkulator Depozytów'!N159","v":0},{"$f":"'Kalkulator Depozytów'!O159","v":0},{"$f":"'Kalkulator Depozytów'!P159","v":0},{"$f":"'Kalkulator Depozytów'!Q159","v":0},{"$f":"ROUND(IF(OR(AND(K154>0,L154=\"L-PEAK5\"),AND(K154>0,L154=\"H-PEAK5\")),R154,IF(AND(K154>0,L154=\"PEAK5\"),O154,IF(K154>0,IF(OR(L154=\"BASE\"),AVERAGE(INDIRECT(\"krzywa!B\"&MATCH(A154-$A$2,krzywa!A:A,0)&\":B\"&MATCH(B154-$A$2,krzywa!A:A,0),TRUE)),IF(OR(L154=\"OFFPEAK\"),AVERAGE(INDIRECT(\"krzywa!F\"&MATCH(A154-$A$2,krzywa!A:A,0)&\":F\"&MATCH(B154-$A$2,krzywa!A:A,0)))))))),4)","v":0},null,0,null,{"$f":"NETWORKDAYS(A154,B154,koszyki!$M$20:$M$898)","v":0},{"$f":"B154-A154+1- NETWORKDAYS(A154,B154,koszyki!$M$20:$M$898)","v":1},{"$f":"ROUND(IF((B154-A154+1)>2,IF(C154=75,AVERAGE(INDIRECT(\"krzywa!C\"&MATCH(K154-6,krzywa!A:A,0)&\":C\"&MATCH(K154-2,krzywa!A:A,0))),AVERAGE(INDIRECT(\"krzywa!C\"&MATCH(A154-$A$2+BQ154,krzywa!A:A,0)&\":C\"&MATCH(B154-$A$2-AY154,krzywa!A:A,0)))),INDIRECT(\"krzywa!C\"&MATCH(K154,krzywa!A:A,0))),4)","v":{"$error":"#N/A"}},{"$error":"#N/A"},{"$f":"-C154*ABS(D154-F154)*H154*I154*U154+'kompensacja międzyproduktowa'!X154*U154","v":{"$error":"#N/A"}},{"$f":"ROUND(IF((B154-A154+1)>2,IF(C154=75,AVERAGE(INDIRECT(\"krzywa!D\"&MATCH(K154-6,krzywa!A:A,0)&\":D\"&MATCH(K154-2,krzywa!A:A,0))),AVERAGE(INDIRECT(\"krzywa!D\"&MATCH(A154-$A$2+BQ154,krzywa!A:A,0)&\":D\"&MATCH(B154-$A$2-AY154,krzywa!A:A,0)))),INDIRECT(\"krzywa!D\"&MATCH(K154,krzywa!A:A,0))),4)","v":{"$error":"#N/A"}},{"$f":"VLOOKUP(A154,krzywa!L:N,3,1)","v":{"$error":"#N/A"}},{"$f":"VLOOKUP(B154,krzywa!L:N,3,1)","v":{"$error":"#N/A"}},{"$f":"IF('Kalkulator Depozytów'!$B$35=TRUE,1,(1+S154/100)*W154+(1+T154/100)*(1-W154))","v":{"$error":"#N/A"}},{"$f":"IF(S154<>T154,VLOOKUP(A154,krzywa!L:M,2,1))","v":{"$error":"#N/A"}},{"$f":"IF(V154<>FALSE,IF(L154=\"BASE\",(V154-A154+1)*24+J154,IF(L154=\"OFFPEAK\",NETWORKDAYS(A154,V154,koszyki!$M$20:$M$898)*9+(N154)*24+J154,IF(L154=\"L-PEAK5\",NETWORKDAYS(A154,V154,koszyki!$M$20:$M$898)*10,IF(L154=\"H-PEAK5\",NETWORKDAYS(A154,V154,koszyki!$M$20:$M$898)*5,NETWORKDAYS(A154,V154,koszyki!$M$20:$M$898)*15))))/C154,1)","v":{"$error":"#N/A"}}]
[null,null,0,{"$f":"'Kalkulator Depozytów'!M160","v":0},{"$f":"'Kalkulator Depozytów'!N160","v":0},{"$f":"'Kalkulator Depozytów'!O160","v":0},{"$f":"'Kalkulator Depozytów'!P160","v":0},{"$f":"'Kalkulator Depozytów'!Q160","v":0},{"$f":"ROUND(IF(OR(AND(K155>0,L155=\"L-PEAK5\"),AND(K155>0,L155=\"H-PEAK5\")),R155,IF(AND(K155>0,L155=\"PEAK5\"),O155,IF(K155>0,IF(OR(L155=\"BASE\"),AVERAGE(INDIRECT(\"krzywa!B\"&MATCH(A155-$A$2,krzywa!A:A,0)&\":B\"&MATCH(B155-$A$2,krzywa!A:A,0),TRUE)),IF(OR(L155=\"OFFPEAK\"),AVERAGE(INDIRECT(\"krzywa!F\"&MATCH(A155-$A$2,krzywa!A:A,0)&\":F\"&MATCH(B155-$A$2,krzywa!A:A,0)))))))),4)","v":0},null,0,null,{"$f":"NETWORKDAYS(A155,B155,koszyki!$M$20:$M$898)","v":0},{"$f":"B155-A155+1- NETWORKDAYS(A155,B155,koszyki!$M$20:$M$898)","v":1},{"$f":"ROUND(IF((B155-A155+1)>2,IF(C155=75,AVERAGE(INDIRECT(\"krzywa!C\"&MATCH(K155-6,krzywa!A:A,0)&\":C\"&MATCH(K155-2,krzywa!A:A,0))),AVERAGE(INDIRECT(\"krzywa!C\"&MATCH(A155-$A$2+BQ155,krzywa!A:A,0)&\":C\"&MATCH(B155-$A$2-AY155,krzywa!A:A,0)))),INDIRECT(\"krzywa!C\"&MATCH(K155,krzywa!A:A,0))),4)","v":{"$error":"#N/A"}},{"$error":"#N/A"},{"$f":"-C155*ABS(D155-F155)*H155*I155*U155+'kompensacja międzyproduktowa'!X155*U155","v":{"$error":"#N/A"}},{"$f":"ROUND(IF((B155-A155+1)>2,IF(C155=75,AVERAGE(INDIRECT(\"krzywa!D\"&MATCH(K155-6,krzywa!A:A,0)&\":D\"&MATCH(K155-2,krzywa!A:A,0))),AVERAGE(INDIRECT(\"krzywa!D\"&MATCH(A155-$A$2+BQ155,krzywa!A:A,0)&\":D\"&MATCH(B155-$A$2-AY155,krzywa!A:A,0)))),INDIRECT(\"krzywa!D\"&MATCH(K155,krzywa!A:A,0))),4)","v":{"$error":"#N/A"}},{"$f":"VLOOKUP(A155,krzywa!L:N,3,1)","v":{"$error":"#N/A"}},{"$f":"VLOOKUP(B155,krzywa!L:N,3,1)","v":{"$error":"#N/A"}},{"$f":"IF('Kalkulator Depozytów'!$B$35=TRUE,1,(1+S155/100)*W155+(1+T155/100)*(1-W155))","v":{"$error":"#N/A"}},{"$f":"IF(S155<>T155,VLOOKUP(A155,krzywa!L:M,2,1))","v":{"$error":"#N/A"}},{"$f":"IF(V155<>FALSE,IF(L155=\"BASE\",(V155-A155+1)*24+J155,IF(L155=\"OFFPEAK\",NETWORKDAYS(A155,V155,koszyki!$M$20:$M$898)*9+(N155)*24+J155,IF(L155=\"L-PEAK5\",NETWORKDAYS(A155,V155,koszyki!$M$20:$M$898)*10,IF(L155=\"H-PEAK5\",NETWORKDAYS(A155,V155,koszyki!$M$20:$M$898)*5,NETWORKDAYS(A155,V155,koszyki!$M$20:$M$898)*15))))/C155,1)","v":{"$error":"#N/A"}}]
[null,null,0,{"$f":"'Kalkulator Depozytów'!M161","v":0},{"$f":"'Kalkulator Depozytów'!N161","v":0},{"$f":"'Kalkulator Depozytów'!O161","v":0},{"$f":"'Kalkulator Depozytów'!P161","v":0},{"$f":"'Kalkulator Depozytów'!Q161","v":0},{"$f":"ROUND(IF(OR(AND(K156>0,L156=\"L-PEAK5\"),AND(K156>0,L156=\"H-PEAK5\")),R156,IF(AND(K156>0,L156=\"PEAK5\"),O156,IF(K156>0,IF(OR(L156=\"BASE\"),AVERAGE(INDIRECT(\"krzywa!B\"&MATCH(A156-$A$2,krzywa!A:A,0)&\":B\"&MATCH(B156-$A$2,krzywa!A:A,0),TRUE)),IF(OR(L156=\"OFFPEAK\"),AVERAGE(INDIRECT(\"krzywa!F\"&MATCH(A156-$A$2,krzywa!A:A,0)&\":F\"&MATCH(B156-$A$2,krzywa!A:A,0)))))))),4)","v":0},null,0,null,{"$f":"NETWORKDAYS(A156,B156,koszyki!$M$20:$M$898)","v":0},{"$f":"B156-A156+1- NETWORKDAYS(A156,B156,koszyki!$M$20:$M$898)","v":1},{"$f":"ROUND(IF((B156-A156+1)>2,IF(C156=75,AVERAGE(INDIRECT(\"krzywa!C\"&MATCH(K156-6,krzywa!A:A,0)&\":C\"&MATCH(K156-2,krzywa!A:A,0))),AVERAGE(INDIRECT(\"krzywa!C\"&MATCH(A156-$A$2+BQ156,krzywa!A:A,0)&\":C\"&MATCH(B156-$A$2-AY156,krzywa!A:A,0)))),INDIRECT(\"krzywa!C\"&MATCH(K156,krzywa!A:A,0))),4)","v":{"$error":"#N/A"}},{"$error":"#N/A"},{"$f":"-C156*ABS(D156-F156)*H156*I156*U156+'kompensacja międzyproduktowa'!X156*U156","v":{"$error":"#N/A"}},{"$f":"ROUND(IF((B156-A156+1)>2,IF(C156=75,AVERAGE(INDIRECT(\"krzywa!D\"&MATCH(K156-6,krzywa!A:A,0)&\":D\"&MATCH(K156-2,krzywa!A:A,0))),AVERAGE(INDIRECT(\"krzywa!D\"&MATCH(A156-$A$2+BQ156,krzywa!A:A,0)&\":D\"&MATCH(B156-$A$2-AY156,krzywa!A:A,0)))),INDIRECT(\"krzywa!D\"&MATCH(K156,krzywa!A:A,0))),4)","v":{"$error":"#N/A"}},{"$f":"VLOOKUP(A156,krzywa!L:N,3,1)","v":{"$error":"#N/A"}},{"$f":"VLOOKUP(B156,krzywa!L:N,3,1)","v":{"$error":"#N/A"}},{"$f":"IF('Kalkulator Depozytów'!$B$35=TRUE,1,(1+S156/100)*W156+(1+T156/100)*(1-W156))","v":{"$error":"#N/A"}},{"$f":"IF(S156<>T156,VLOOKUP(A156,krzywa!L:M,2,1))","v":{"$error":"#N/A"}},{"$f":"IF(V156<>FALSE,IF(L156=\"BASE\",(V156-A156+1)*24+J156,IF(L156=\"OFFPEAK\",NETWORKDAYS(A156,V156,koszyki!$M$20:$M$898)*9+(N156)*24+J156,IF(L156=\"L-PEAK5\",NETWORKDAYS(A156,V156,koszyki!$M$20:$M$898)*10,IF(L156=\"H-PEAK5\",NETWORKDAYS(A156,V156,koszyki!$M$20:$M$898)*5,NETWORKDAYS(A156,V156,koszyki!$M$20:$M$898)*15))))/C156,1)","v":{"$error":"#N/A"}}]
[null,null,0,{"$f":"'Kalkulator Depozytów'!M162","v":0},{"$f":"'Kalkulator Depozytów'!N162","v":0},{"$f":"'Kalkulator Depozytów'!O162","v":0},{"$f":"'Kalkulator Depozytów'!P162","v":0},{"$f":"'Kalkulator Depozytów'!Q162","v":0},{"$f":"ROUND(IF(OR(AND(K157>0,L157=\"L-PEAK5\"),AND(K157>0,L157=\"H-PEAK5\")),R157,IF(AND(K157>0,L157=\"PEAK5\"),O157,IF(K157>0,IF(OR(L157=\"BASE\"),AVERAGE(INDIRECT(\"krzywa!B\"&MATCH(A157-$A$2,krzywa!A:A,0)&\":B\"&MATCH(B157-$A$2,krzywa!A:A,0),TRUE)),IF(OR(L157=\"OFFPEAK\"),AVERAGE(INDIRECT(\"krzywa!F\"&MATCH(A157-$A$2,krzywa!A:A,0)&\":F\"&MATCH(B157-$A$2,krzywa!A:A,0)))))))),4)","v":0},null,0,null,{"$f":"NETWORKDAYS(A157,B157,koszyki!$M$20:$M$898)","v":0},{"$f":"B157-A157+1- NETWORKDAYS(A157,B157,koszyki!$M$20:$M$898)","v":1},{"$f":"ROUND(IF((B157-A157+1)>2,IF(C157=75,AVERAGE(INDIRECT(\"krzywa!C\"&MATCH(K157-6,krzywa!A:A,0)&\":C\"&MATCH(K157-2,krzywa!A:A,0))),AVERAGE(INDIRECT(\"krzywa!C\"&MATCH(A157-$A$2+BQ157,krzywa!A:A,0)&\":C\"&MATCH(B157-$A$2-AY157,krzywa!A:A,0)))),INDIRECT(\"krzywa!C\"&MATCH(K157,krzywa!A:A,0))),4)","v":{"$error":"#N/A"}},{"$error":"#N/A"},{"$f":"-C157*ABS(D157-F157)*H157*I157*U157+'kompensacja międzyproduktowa'!X157*U157","v":{"$error":"#N/A"}},{"$f":"ROUND(IF((B157-A157+1)>2,IF(C157=75,AVERAGE(INDIRECT(\"krzywa!D\"&MATCH(K157-6,krzywa!A:A,0)&\":D\"&MATCH(K157-2,krzywa!A:A,0))),AVERAGE(INDIRECT(\"krzywa!D\"&MATCH(A157-$A$2+BQ157,krzywa!A:A,0)&\":D\"&MATCH(B157-$A$2-AY157,krzywa!A:A,0)))),INDIRECT(\"krzywa!D\"&MATCH(K157,krzywa!A:A,0))),4)","v":{"$error":"#N/A"}},{"$f":"VLOOKUP(A157,krzywa!L:N,3,1)","v":{"$error":"#N/A"}},{"$f":"VLOOKUP(B157,krzywa!L:N,3,1)","v":{"$error":"#N/A"}},{"$f":"IF('Kalkulator Depozytów'!$B$35=TRUE,1,(1+S157/100)*W157+(1+T157/100)*(1-W157))","v":{"$error":"#N/A"}},{"$f":"IF(S157<>T157,VLOOKUP(A157,krzywa!L:M,2,1))","v":{"$error":"#N/A"}},{"$f":"IF(V157<>FALSE,IF(L157=\"BASE\",(V157-A157+1)*24+J157,IF(L157=\"OFFPEAK\",NETWORKDAYS(A157,V157,koszyki!$M$20:$M$898)*9+(N157)*24+J157,IF(L157=\"L-PEAK5\",NETWORKDAYS(A157,V157,koszyki!$M$20:$M$898)*10,IF(L157=\"H-PEAK5\",NETWORKDAYS(A157,V157,koszyki!$M$20:$M$898)*5,NETWORKDAYS(A157,V157,koszyki!$M$20:$M$898)*15))))/C157,1)","v":{"$error":"#N/A"}}]
[null,null,0,{"$f":"'Kalkulator Depozytów'!M163","v":0},{"$f":"'Kalkulator Depozytów'!N163","v":0},{"$f":"'Kalkulator Depozytów'!O163","v":0},{"$f":"'Kalkulator Depozytów'!P163","v":0},{"$f":"'Kalkulator Depozytów'!Q163","v":0},{"$f":"ROUND(IF(OR(AND(K158>0,L158=\"L-PEAK5\"),AND(K158>0,L158=\"H-PEAK5\")),R158,IF(AND(K158>0,L158=\"PEAK5\"),O158,IF(K158>0,IF(OR(L158=\"BASE\"),AVERAGE(INDIRECT(\"krzywa!B\"&MATCH(A158-$A$2,krzywa!A:A,0)&\":B\"&MATCH(B158-$A$2,krzywa!A:A,0),TRUE)),IF(OR(L158=\"OFFPEAK\"),AVERAGE(INDIRECT(\"krzywa!F\"&MATCH(A158-$A$2,krzywa!A:A,0)&\":F\"&MATCH(B158-$A$2,krzywa!A:A,0)))))))),4)","v":0},null,0,null,{"$f":"NETWORKDAYS(A158,B158,koszyki!$M$20:$M$898)","v":0},{"$f":"B158-A158+1- NETWORKDAYS(A158,B158,koszyki!$M$20:$M$898)","v":1},{"$f":"ROUND(IF((B158-A158+1)>2,IF(C158=75,AVERAGE(INDIRECT(\"krzywa!C\"&MATCH(K158-6,krzywa!A:A,0)&\":C\"&MATCH(K158-2,krzywa!A:A,0))),AVERAGE(INDIRECT(\"krzywa!C\"&MATCH(A158-$A$2+BQ158,krzywa!A:A,0)&\":C\"&MATCH(B158-$A$2-AY158,krzywa!A:A,0)))),INDIRECT(\"krzywa!C\"&MATCH(K158,krzywa!A:A,0))),4)","v":{"$error":"#N/A"}},{"$error":"#N/A"},{"$f":"-C158*ABS(D158-F158)*H158*I158*U158+'kompensacja międzyproduktowa'!X158*U158","v":{"$error":"#N/A"}},{"$f":"ROUND(IF((B158-A158+1)>2,IF(C158=75,AVERAGE(INDIRECT(\"krzywa!D\"&MATCH(K158-6,krzywa!A:A,0)&\":D\"&MATCH(K158-2,krzywa!A:A,0))),AVERAGE(INDIRECT(\"krzywa!D\"&MATCH(A158-$A$2+BQ158,krzywa!A:A,0)&\":D\"&MATCH(B158-$A$2-AY158,krzywa!A:A,0)))),INDIRECT(\"krzywa!D\"&MATCH(K158,krzywa!A:A,0))),4)","v":{"$error":"#N/A"}},{"$f":"VLOOKUP(A158,krzywa!L:N,3,1)","v":{"$error":"#N/A"}},{"$f":"VLOOKUP(B158,krzywa!L:N,3,1)","v":{"$error":"#N/A"}},{"$f":"IF('Kalkulator Depozytów'!$B$35=TRUE,1,(1+S158/100)*W158+(1+T158/100)*(1-W158))","v":{"$error":"#N/A"}},{"$f":"IF(S158<>T158,VLOOKUP(A158,krzywa!L:M,2,1))","v":{"$error":"#N/A"}},{"$f":"IF(V158<>FALSE,IF(L158=\"BASE\",(V158-A158+1)*24+J158,IF(L158=\"OFFPEAK\",NETWORKDAYS(A158,V158,koszyki!$M$20:$M$898)*9+(N158)*24+J158,IF(L158=\"L-PEAK5\",NETWORKDAYS(A158,V158,koszyki!$M$20:$M$898)*10,IF(L158=\"H-PEAK5\",NETWORKDAYS(A158,V158,koszyki!$M$20:$M$898)*5,NETWORKDAYS(A158,V158,koszyki!$M$20:$M$898)*15))))/C158,1)","v":{"$error":"#N/A"}}]
[null,null,0,{"$f":"'Kalkulator Depozytów'!M164","v":0},{"$f":"'Kalkulator Depozytów'!N164","v":0},{"$f":"'Kalkulator Depozytów'!O164","v":0},{"$f":"'Kalkulator Depozytów'!P164","v":0},{"$f":"'Kalkulator Depozytów'!Q164","v":0},{"$f":"ROUND(IF(OR(AND(K159>0,L159=\"L-PEAK5\"),AND(K159>0,L159=\"H-PEAK5\")),R159,IF(AND(K159>0,L159=\"PEAK5\"),O159,IF(K159>0,IF(OR(L159=\"BASE\"),AVERAGE(INDIRECT(\"krzywa!B\"&MATCH(A159-$A$2,krzywa!A:A,0)&\":B\"&MATCH(B159-$A$2,krzywa!A:A,0),TRUE)),IF(OR(L159=\"OFFPEAK\"),AVERAGE(INDIRECT(\"krzywa!F\"&MATCH(A159-$A$2,krzywa!A:A,0)&\":F\"&MATCH(B159-$A$2,krzywa!A:A,0)))))))),4)","v":0},null,0,null,{"$f":"NETWORKDAYS(A159,B159,koszyki!$M$20:$M$898)","v":0},{"$f":"B159-A159+1- NETWORKDAYS(A159,B159,koszyki!$M$20:$M$898)","v":1},{"$f":"ROUND(IF((B159-A159+1)>2,IF(C159=75,AVERAGE(INDIRECT(\"krzywa!C\"&MATCH(K159-6,krzywa!A:A,0)&\":C\"&MATCH(K159-2,krzywa!A:A,0))),AVERAGE(INDIRECT(\"krzywa!C\"&MATCH(A159-$A$2+BQ159,krzywa!A:A,0)&\":C\"&MATCH(B159-$A$2-AY159,krzywa!A:A,0)))),INDIRECT(\"krzywa!C\"&MATCH(K159,krzywa!A:A,0))),4)","v":{"$error":"#N/A"}},{"$error":"#N/A"},{"$f":"-C159*ABS(D159-F159)*H159*I159*U159+'kompensacja międzyproduktowa'!X159*U159","v":{"$error":"#N/A"}},{"$f":"ROUND(IF((B159-A159+1)>2,IF(C159=75,AVERAGE(INDIRECT(\"krzywa!D\"&MATCH(K159-6,krzywa!A:A,0)&\":D\"&MATCH(K159-2,krzywa!A:A,0))),AVERAGE(INDIRECT(\"krzywa!D\"&MATCH(A159-$A$2+BQ159,krzywa!A:A,0)&\":D\"&MATCH(B159-$A$2-AY159,krzywa!A:A,0)))),INDIRECT(\"krzywa!D\"&MATCH(K159,krzywa!A:A,0))),4)","v":{"$error":"#N/A"}},{"$f":"VLOOKUP(A159,krzywa!L:N,3,1)","v":{"$error":"#N/A"}},{"$f":"VLOOKUP(B159,krzywa!L:N,3,1)","v":{"$error":"#N/A"}},{"$f":"IF('Kalkulator Depozytów'!$B$35=TRUE,1,(1+S159/100)*W159+(1+T159/100)*(1-W159))","v":{"$error":"#N/A"}},{"$f":"IF(S159<>T159,VLOOKUP(A159,krzywa!L:M,2,1))","v":{"$error":"#N/A"}},{"$f":"IF(V159<>FALSE,IF(L159=\"BASE\",(V159-A159+1)*24+J159,IF(L159=\"OFFPEAK\",NETWORKDAYS(A159,V159,koszyki!$M$20:$M$898)*9+(N159)*24+J159,IF(L159=\"L-PEAK5\",NETWORKDAYS(A159,V159,koszyki!$M$20:$M$898)*10,IF(L159=\"H-PEAK5\",NETWORKDAYS(A159,V159,koszyki!$M$20:$M$898)*5,NETWORKDAYS(A159,V159,koszyki!$M$20:$M$898)*15))))/C159,1)","v":{"$error":"#N/A"}}]
[null,null,0,{"$f":"'Kalkulator Depozytów'!M165","v":0},{"$f":"'Kalkulator Depozytów'!N165","v":0},{"$f":"'Kalkulator Depozytów'!O165","v":0},{"$f":"'Kalkulator Depozytów'!P165","v":0},{"$f":"'Kalkulator Depozytów'!Q165","v":0},{"$f":"ROUND(IF(OR(AND(K160>0,L160=\"L-PEAK5\"),AND(K160>0,L160=\"H-PEAK5\")),R160,IF(AND(K160>0,L160=\"PEAK5\"),O160,IF(K160>0,IF(OR(L160=\"BASE\"),AVERAGE(INDIRECT(\"krzywa!B\"&MATCH(A160-$A$2,krzywa!A:A,0)&\":B\"&MATCH(B160-$A$2,krzywa!A:A,0),TRUE)),IF(OR(L160=\"OFFPEAK\"),AVERAGE(INDIRECT(\"krzywa!F\"&MATCH(A160-$A$2,krzywa!A:A,0)&\":F\"&MATCH(B160-$A$2,krzywa!A:A,0)))))))),4)","v":0},null,0,null,{"$f":"NETWORKDAYS(A160,B160,koszyki!$M$20:$M$898)","v":0},{"$f":"B160-A160+1- NETWORKDAYS(A160,B160,koszyki!$M$20:$M$898)","v":1},{"$f":"ROUND(IF((B160-A160+1)>2,IF(C160=75,AVERAGE(INDIRECT(\"krzywa!C\"&MATCH(K160-6,krzywa!A:A,0)&\":C\"&MATCH(K160-2,krzywa!A:A,0))),AVERAGE(INDIRECT(\"krzywa!C\"&MATCH(A160-$A$2+BQ160,krzywa!A:A,0)&\":C\"&MATCH(B160-$A$2-AY160,krzywa!A:A,0)))),INDIRECT(\"krzywa!C\"&MATCH(K160,krzywa!A:A,0))),4)","v":{"$error":"#N/A"}},{"$error":"#N/A"},{"$f":"-C160*ABS(D160-F160)*H160*I160*U160+'kompensacja międzyproduktowa'!X160*U160","v":{"$error":"#N/A"}},{"$f":"ROUND(IF((B160-A160+1)>2,IF(C160=75,AVERAGE(INDIRECT(\"krzywa!D\"&MATCH(K160-6,krzywa!A:A,0)&\":D\"&MATCH(K160-2,krzywa!A:A,0))),AVERAGE(INDIRECT(\"krzywa!D\"&MATCH(A160-$A$2+BQ160,krzywa!A:A,0)&\":D\"&MATCH(B160-$A$2-AY160,krzywa!A:A,0)))),INDIRECT(\"krzywa!D\"&MATCH(K160,krzywa!A:A,0))),4)","v":{"$error":"#N/A"}},{"$f":"VLOOKUP(A160,krzywa!L:N,3,1)","v":{"$error":"#N/A"}},{"$f":"VLOOKUP(B160,krzywa!L:N,3,1)","v":{"$error":"#N/A"}},{"$f":"IF('Kalkulator Depozytów'!$B$35=TRUE,1,(1+S160/100)*W160+(1+T160/100)*(1-W160))","v":{"$error":"#N/A"}},{"$f":"IF(S160<>T160,VLOOKUP(A160,krzywa!L:M,2,1))","v":{"$error":"#N/A"}},{"$f":"IF(V160<>FALSE,IF(L160=\"BASE\",(V160-A160+1)*24+J160,IF(L160=\"OFFPEAK\",NETWORKDAYS(A160,V160,koszyki!$M$20:$M$898)*9+(N160)*24+J160,IF(L160=\"L-PEAK5\",NETWORKDAYS(A160,V160,koszyki!$M$20:$M$898)*10,IF(L160=\"H-PEAK5\",NETWORKDAYS(A160,V160,koszyki!$M$20:$M$898)*5,NETWORKDAYS(A160,V160,koszyki!$M$20:$M$898)*15))))/C160,1)","v":{"$error":"#N/A"}}]
[null,null,0,{"$f":"'Kalkulator Depozytów'!M166","v":0},{"$f":"'Kalkulator Depozytów'!N166","v":0},{"$f":"'Kalkulator Depozytów'!O166","v":0},{"$f":"'Kalkulator Depozytów'!P166","v":0},{"$f":"'Kalkulator Depozytów'!Q166","v":0},{"$f":"ROUND(IF(OR(AND(K161>0,L161=\"L-PEAK5\"),AND(K161>0,L161=\"H-PEAK5\")),R161,IF(AND(K161>0,L161=\"PEAK5\"),O161,IF(K161>0,IF(OR(L161=\"BASE\"),AVERAGE(INDIRECT(\"krzywa!B\"&MATCH(A161-$A$2,krzywa!A:A,0)&\":B\"&MATCH(B161-$A$2,krzywa!A:A,0),TRUE)),IF(OR(L161=\"OFFPEAK\"),AVERAGE(INDIRECT(\"krzywa!F\"&MATCH(A161-$A$2,krzywa!A:A,0)&\":F\"&MATCH(B161-$A$2,krzywa!A:A,0)))))))),4)","v":0},null,0,null,{"$f":"NETWORKDAYS(A161,B161,koszyki!$M$20:$M$898)","v":0},{"$f":"B161-A161+1- NETWORKDAYS(A161,B161,koszyki!$M$20:$M$898)","v":1},{"$f":"ROUND(IF((B161-A161+1)>2,IF(C161=75,AVERAGE(INDIRECT(\"krzywa!C\"&MATCH(K161-6,krzywa!A:A,0)&\":C\"&MATCH(K161-2,krzywa!A:A,0))),AVERAGE(INDIRECT(\"krzywa!C\"&MATCH(A161-$A$2+BQ161,krzywa!A:A,0)&\":C\"&MATCH(B161-$A$2-AY161,krzywa!A:A,0)))),INDIRECT(\"krzywa!C\"&MATCH(K161,krzywa!A:A,0))),4)","v":{"$error":"#N/A"}},{"$error":"#N/A"},{"$f":"-C161*ABS(D161-F161)*H161*I161*U161+'kompensacja międzyproduktowa'!X161*U161","v":{"$error":"#N/A"}},{"$f":"ROUND(IF((B161-A161+1)>2,IF(C161=75,AVERAGE(INDIRECT(\"krzywa!D\"&MATCH(K161-6,krzywa!A:A,0)&\":D\"&MATCH(K161-2,krzywa!A:A,0))),AVERAGE(INDIRECT(\"krzywa!D\"&MATCH(A161-$A$2+BQ161,krzywa!A:A,0)&\":D\"&MATCH(B161-$A$2-AY161,krzywa!A:A,0)))),INDIRECT(\"krzywa!D\"&MATCH(K161,krzywa!A:A,0))),4)","v":{"$error":"#N/A"}},{"$f":"VLOOKUP(A161,krzywa!L:N,3,1)","v":{"$error":"#N/A"}},{"$f":"VLOOKUP(B161,krzywa!L:N,3,1)","v":{"$error":"#N/A"}},{"$f":"IF('Kalkulator Depozytów'!$B$35=TRUE,1,(1+S161/100)*W161+(1+T161/100)*(1-W161))","v":{"$error":"#N/A"}},{"$f":"IF(S161<>T161,VLOOKUP(A161,krzywa!L:M,2,1))","v":{"$error":"#N/A"}},{"$f":"IF(V161<>FALSE,IF(L161=\"BASE\",(V161-A161+1)*24+J161,IF(L161=\"OFFPEAK\",NETWORKDAYS(A161,V161,koszyki!$M$20:$M$898)*9+(N161)*24+J161,IF(L161=\"L-PEAK5\",NETWORKDAYS(A161,V161,koszyki!$M$20:$M$898)*10,IF(L161=\"H-PEAK5\",NETWORKDAYS(A161,V161,koszyki!$M$20:$M$898)*5,NETWORKDAYS(A161,V161,koszyki!$M$20:$M$898)*15))))/C161,1)","v":{"$error":"#N/A"}}]
[null,null,0,{"$f":"'Kalkulator Depozytów'!M167","v":0},{"$f":"'Kalkulator Depozytów'!N167","v":0},{"$f":"'Kalkulator Depozytów'!O167","v":0},{"$f":"'Kalkulator Depozytów'!P167","v":0},{"$f":"'Kalkulator Depozytów'!Q167","v":0},{"$f":"ROUND(IF(OR(AND(K162>0,L162=\"L-PEAK5\"),AND(K162>0,L162=\"H-PEAK5\")),R162,IF(AND(K162>0,L162=\"PEAK5\"),O162,IF(K162>0,IF(OR(L162=\"BASE\"),AVERAGE(INDIRECT(\"krzywa!B\"&MATCH(A162-$A$2,krzywa!A:A,0)&\":B\"&MATCH(B162-$A$2,krzywa!A:A,0),TRUE)),IF(OR(L162=\"OFFPEAK\"),AVERAGE(INDIRECT(\"krzywa!F\"&MATCH(A162-$A$2,krzywa!A:A,0)&\":F\"&MATCH(B162-$A$2,krzywa!A:A,0)))))))),4)","v":0},null,0,null,{"$f":"NETWORKDAYS(A162,B162,koszyki!$M$20:$M$898)","v":0},{"$f":"B162-A162+1- NETWORKDAYS(A162,B162,koszyki!$M$20:$M$898)","v":1},{"$f":"ROUND(IF((B162-A162+1)>2,IF(C162=75,AVERAGE(INDIRECT(\"krzywa!C\"&MATCH(K162-6,krzywa!A:A,0)&\":C\"&MATCH(K162-2,krzywa!A:A,0))),AVERAGE(INDIRECT(\"krzywa!C\"&MATCH(A162-$A$2+BQ162,krzywa!A:A,0)&\":C\"&MATCH(B162-$A$2-AY162,krzywa!A:A,0)))),INDIRECT(\"krzywa!C\"&MATCH(K162,krzywa!A:A,0))),4)","v":{"$error":"#N/A"}},{"$error":"#N/A"},{"$f":"-C162*ABS(D162-F162)*H162*I162*U162+'kompensacja międzyproduktowa'!X162*U162","v":{"$error":"#N/A"}},{"$f":"ROUND(IF((B162-A162+1)>2,IF(C162=75,AVERAGE(INDIRECT(\"krzywa!D\"&MATCH(K162-6,krzywa!A:A,0)&\":D\"&MATCH(K162-2,krzywa!A:A,0))),AVERAGE(INDIRECT(\"krzywa!D\"&MATCH(A162-$A$2+BQ162,krzywa!A:A,0)&\":D\"&MATCH(B162-$A$2-AY162,krzywa!A:A,0)))),INDIRECT(\"krzywa!D\"&MATCH(K162,krzywa!A:A,0))),4)","v":{"$error":"#N/A"}},{"$f":"VLOOKUP(A162,krzywa!L:N,3,1)","v":{"$error":"#N/A"}},{"$f":"VLOOKUP(B162,krzywa!L:N,3,1)","v":{"$error":"#N/A"}},{"$f":"IF('Kalkulator Depozytów'!$B$35=TRUE,1,(1+S162/100)*W162+(1+T162/100)*(1-W162))","v":{"$error":"#N/A"}},{"$f":"IF(S162<>T162,VLOOKUP(A162,krzywa!L:M,2,1))","v":{"$error":"#N/A"}},{"$f":"IF(V162<>FALSE,IF(L162=\"BASE\",(V162-A162+1)*24+J162,IF(L162=\"OFFPEAK\",NETWORKDAYS(A162,V162,koszyki!$M$20:$M$898)*9+(N162)*24+J162,IF(L162=\"L-PEAK5\",NETWORKDAYS(A162,V162,koszyki!$M$20:$M$898)*10,IF(L162=\"H-PEAK5\",NETWORKDAYS(A162,V162,koszyki!$M$20:$M$898)*5,NETWORKDAYS(A162,V162,koszyki!$M$20:$M$898)*15))))/C162,1)","v":{"$error":"#N/A"}}]
[null,null,0,{"$f":"'Kalkulator Depozytów'!M168","v":0},{"$f":"'Kalkulator Depozytów'!N168","v":0},{"$f":"'Kalkulator Depozytów'!O168","v":0},{"$f":"'Kalkulator Depozytów'!P168","v":0},{"$f":"'Kalkulator Depozytów'!Q168","v":0},{"$f":"ROUND(IF(OR(AND(K163>0,L163=\"L-PEAK5\"),AND(K163>0,L163=\"H-PEAK5\")),R163,IF(AND(K163>0,L163=\"PEAK5\"),O163,IF(K163>0,IF(OR(L163=\"BASE\"),AVERAGE(INDIRECT(\"krzywa!B\"&MATCH(A163-$A$2,krzywa!A:A,0)&\":B\"&MATCH(B163-$A$2,krzywa!A:A,0),TRUE)),IF(OR(L163=\"OFFPEAK\"),AVERAGE(INDIRECT(\"krzywa!F\"&MATCH(A163-$A$2,krzywa!A:A,0)&\":F\"&MATCH(B163-$A$2,krzywa!A:A,0)))))))),4)","v":0},null,0,null,{"$f":"NETWORKDAYS(A163,B163,koszyki!$M$20:$M$898)","v":0},{"$f":"B163-A163+1- NETWORKDAYS(A163,B163,koszyki!$M$20:$M$898)","v":1},{"$f":"ROUND(IF((B163-A163+1)>2,IF(C163=75,AVERAGE(INDIRECT(\"krzywa!C\"&MATCH(K163-6,krzywa!A:A,0)&\":C\"&MATCH(K163-2,krzywa!A:A,0))),AVERAGE(INDIRECT(\"krzywa!C\"&MATCH(A163-$A$2+BQ163,krzywa!A:A,0)&\":C\"&MATCH(B163-$A$2-AY163,krzywa!A:A,0)))),INDIRECT(\"krzywa!C\"&MATCH(K163,krzywa!A:A,0))),4)","v":{"$error":"#N/A"}},{"$error":"#N/A"},{"$f":"-C163*ABS(D163-F163)*H163*I163*U163+'kompensacja międzyproduktowa'!X163*U163","v":{"$error":"#N/A"}},{"$f":"ROUND(IF((B163-A163+1)>2,IF(C163=75,AVERAGE(INDIRECT(\"krzywa!D\"&MATCH(K163-6,krzywa!A:A,0)&\":D\"&MATCH(K163-2,krzywa!A:A,0))),AVERAGE(INDIRECT(\"krzywa!D\"&MATCH(A163-$A$2+BQ163,krzywa!A:A,0)&\":D\"&MATCH(B163-$A$2-AY163,krzywa!A:A,0)))),INDIRECT(\"krzywa!D\"&MATCH(K163,krzywa!A:A,0))),4)","v":{"$error":"#N/A"}},{"$f":"VLOOKUP(A163,krzywa!L:N,3,1)","v":{"$error":"#N/A"}},{"$f":"VLOOKUP(B163,krzywa!L:N,3,1)","v":{"$error":"#N/A"}},{"$f":"IF('Kalkulator Depozytów'!$B$35=TRUE,1,(1+S163/100)*W163+(1+T163/100)*(1-W163))","v":{"$error":"#N/A"}},{"$f":"IF(S163<>T163,VLOOKUP(A163,krzywa!L:M,2,1))","v":{"$error":"#N/A"}},{"$f":"IF(V163<>FALSE,IF(L163=\"BASE\",(V163-A163+1)*24+J163,IF(L163=\"OFFPEAK\",NETWORKDAYS(A163,V163,koszyki!$M$20:$M$898)*9+(N163)*24+J163,IF(L163=\"L-PEAK5\",NETWORKDAYS(A163,V163,koszyki!$M$20:$M$898)*10,IF(L163=\"H-PEAK5\",NETWORKDAYS(A163,V163,koszyki!$M$20:$M$898)*5,NETWORKDAYS(A163,V163,koszyki!$M$20:$M$898)*15))))/C163,1)","v":{"$error":"#N/A"}}]
[null,null,0,{"$f":"'Kalkulator Depozytów'!M169","v":0},{"$f":"'Kalkulator Depozytów'!N169","v":0},{"$f":"'Kalkulator Depozytów'!O169","v":0},{"$f":"'Kalkulator Depozytów'!P169","v":0},{"$f":"'Kalkulator Depozytów'!Q169","v":0},{"$f":"ROUND(IF(OR(AND(K164>0,L164=\"L-PEAK5\"),AND(K164>0,L164=\"H-PEAK5\")),R164,IF(AND(K164>0,L164=\"PEAK5\"),O164,IF(K164>0,IF(OR(L164=\"BASE\"),AVERAGE(INDIRECT(\"krzywa!B\"&MATCH(A164-$A$2,krzywa!A:A,0)&\":B\"&MATCH(B164-$A$2,krzywa!A:A,0),TRUE)),IF(OR(L164=\"OFFPEAK\"),AVERAGE(INDIRECT(\"krzywa!F\"&MATCH(A164-$A$2,krzywa!A:A,0)&\":F\"&MATCH(B164-$A$2,krzywa!A:A,0)))))))),4)","v":0},null,0,null,{"$f":"NETWORKDAYS(A164,B164,koszyki!$M$20:$M$898)","v":0},{"$f":"B164-A164+1- NETWORKDAYS(A164,B164,koszyki!$M$20:$M$898)","v":1},{"$f":"ROUND(IF((B164-A164+1)>2,IF(C164=75,AVERAGE(INDIRECT(\"krzywa!C\"&MATCH(K164-6,krzywa!A:A,0)&\":C\"&MATCH(K164-2,krzywa!A:A,0))),AVERAGE(INDIRECT(\"krzywa!C\"&MATCH(A164-$A$2+BQ164,krzywa!A:A,0)&\":C\"&MATCH(B164-$A$2-AY164,krzywa!A:A,0)))),INDIRECT(\"krzywa!C\"&MATCH(K164,krzywa!A:A,0))),4)","v":{"$error":"#N/A"}},{"$error":"#N/A"},{"$f":"-C164*ABS(D164-F164)*H164*I164*U164+'kompensacja międzyproduktowa'!X164*U164","v":{"$error":"#N/A"}},{"$f":"ROUND(IF((B164-A164+1)>2,IF(C164=75,AVERAGE(INDIRECT(\"krzywa!D\"&MATCH(K164-6,krzywa!A:A,0)&\":D\"&MATCH(K164-2,krzywa!A:A,0))),AVERAGE(INDIRECT(\"krzywa!D\"&MATCH(A164-$A$2+BQ164,krzywa!A:A,0)&\":D\"&MATCH(B164-$A$2-AY164,krzywa!A:A,0)))),INDIRECT(\"krzywa!D\"&MATCH(K164,krzywa!A:A,0))),4)","v":{"$error":"#N/A"}},{"$f":"VLOOKUP(A164,krzywa!L:N,3,1)","v":{"$error":"#N/A"}},{"$f":"VLOOKUP(B164,krzywa!L:N,3,1)","v":{"$error":"#N/A"}},{"$f":"IF('Kalkulator Depozytów'!$B$35=TRUE,1,(1+S164/100)*W164+(1+T164/100)*(1-W164))","v":{"$error":"#N/A"}},{"$f":"IF(S164<>T164,VLOOKUP(A164,krzywa!L:M,2,1))","v":{"$error":"#N/A"}},{"$f":"IF(V164<>FALSE,IF(L164=\"BASE\",(V164-A164+1)*24+J164,IF(L164=\"OFFPEAK\",NETWORKDAYS(A164,V164,koszyki!$M$20:$M$898)*9+(N164)*24+J164,IF(L164=\"L-PEAK5\",NETWORKDAYS(A164,V164,koszyki!$M$20:$M$898)*10,IF(L164=\"H-PEAK5\",NETWORKDAYS(A164,V164,koszyki!$M$20:$M$898)*5,NETWORKDAYS(A164,V164,koszyki!$M$20:$M$898)*15))))/C164,1)","v":{"$error":"#N/A"}}]
[null,null,0,{"$f":"'Kalkulator Depozytów'!M170","v":0},{"$f":"'Kalkulator Depozytów'!N170","v":0},{"$f":"'Kalkulator Depozytów'!O170","v":0},{"$f":"'Kalkulator Depozytów'!P170","v":0},{"$f":"'Kalkulator Depozytów'!Q170","v":0},{"$f":"ROUND(IF(OR(AND(K165>0,L165=\"L-PEAK5\"),AND(K165>0,L165=\"H-PEAK5\")),R165,IF(AND(K165>0,L165=\"PEAK5\"),O165,IF(K165>0,IF(OR(L165=\"BASE\"),AVERAGE(INDIRECT(\"krzywa!B\"&MATCH(A165-$A$2,krzywa!A:A,0)&\":B\"&MATCH(B165-$A$2,krzywa!A:A,0),TRUE)),IF(OR(L165=\"OFFPEAK\"),AVERAGE(INDIRECT(\"krzywa!F\"&MATCH(A165-$A$2,krzywa!A:A,0)&\":F\"&MATCH(B165-$A$2,krzywa!A:A,0)))))))),4)","v":0},null,0,null,{"$f":"NETWORKDAYS(A165,B165,koszyki!$M$20:$M$898)","v":0},{"$f":"B165-A165+1- NETWORKDAYS(A165,B165,koszyki!$M$20:$M$898)","v":1},{"$f":"ROUND(IF((B165-A165+1)>2,IF(C165=75,AVERAGE(INDIRECT(\"krzywa!C\"&MATCH(K165-6,krzywa!A:A,0)&\":C\"&MATCH(K165-2,krzywa!A:A,0))),AVERAGE(INDIRECT(\"krzywa!C\"&MATCH(A165-$A$2+BQ165,krzywa!A:A,0)&\":C\"&MATCH(B165-$A$2-AY165,krzywa!A:A,0)))),INDIRECT(\"krzywa!C\"&MATCH(K165,krzywa!A:A,0))),4)","v":{"$error":"#N/A"}},{"$error":"#N/A"},{"$f":"-C165*ABS(D165-F165)*H165*I165*U165+'kompensacja międzyproduktowa'!X165*U165","v":{"$error":"#N/A"}},{"$f":"ROUND(IF((B165-A165+1)>2,IF(C165=75,AVERAGE(INDIRECT(\"krzywa!D\"&MATCH(K165-6,krzywa!A:A,0)&\":D\"&MATCH(K165-2,krzywa!A:A,0))),AVERAGE(INDIRECT(\"krzywa!D\"&MATCH(A165-$A$2+BQ165,krzywa!A:A,0)&\":D\"&MATCH(B165-$A$2-AY165,krzywa!A:A,0)))),INDIRECT(\"krzywa!D\"&MATCH(K165,krzywa!A:A,0))),4)","v":{"$error":"#N/A"}},{"$f":"VLOOKUP(A165,krzywa!L:N,3,1)","v":{"$error":"#N/A"}},{"$f":"VLOOKUP(B165,krzywa!L:N,3,1)","v":{"$error":"#N/A"}},{"$f":"IF('Kalkulator Depozytów'!$B$35=TRUE,1,(1+S165/100)*W165+(1+T165/100)*(1-W165))","v":{"$error":"#N/A"}},{"$f":"IF(S165<>T165,VLOOKUP(A165,krzywa!L:M,2,1))","v":{"$error":"#N/A"}},{"$f":"IF(V165<>FALSE,IF(L165=\"BASE\",(V165-A165+1)*24+J165,IF(L165=\"OFFPEAK\",NETWORKDAYS(A165,V165,koszyki!$M$20:$M$898)*9+(N165)*24+J165,IF(L165=\"L-PEAK5\",NETWORKDAYS(A165,V165,koszyki!$M$20:$M$898)*10,IF(L165=\"H-PEAK5\",NETWORKDAYS(A165,V165,koszyki!$M$20:$M$898)*5,NETWORKDAYS(A165,V165,koszyki!$M$20:$M$898)*15))))/C165,1)","v":{"$error":"#N/A"}}]
[null,null,0,{"$f":"'Kalkulator Depozytów'!M171","v":0},{"$f":"'Kalkulator Depozytów'!N171","v":0},{"$f":"'Kalkulator Depozytów'!O171","v":0},{"$f":"'Kalkulator Depozytów'!P171","v":0},{"$f":"'Kalkulator Depozytów'!Q171","v":0},{"$f":"ROUND(IF(OR(AND(K166>0,L166=\"L-PEAK5\"),AND(K166>0,L166=\"H-PEAK5\")),R166,IF(AND(K166>0,L166=\"PEAK5\"),O166,IF(K166>0,IF(OR(L166=\"BASE\"),AVERAGE(INDIRECT(\"krzywa!B\"&MATCH(A166-$A$2,krzywa!A:A,0)&\":B\"&MATCH(B166-$A$2,krzywa!A:A,0),TRUE)),IF(OR(L166=\"OFFPEAK\"),AVERAGE(INDIRECT(\"krzywa!F\"&MATCH(A166-$A$2,krzywa!A:A,0)&\":F\"&MATCH(B166-$A$2,krzywa!A:A,0)))))))),4)","v":0},null,0,null,{"$f":"NETWORKDAYS(A166,B166,koszyki!$M$20:$M$898)","v":0},{"$f":"B166-A166+1- NETWORKDAYS(A166,B166,koszyki!$M$20:$M$898)","v":1},{"$f":"ROUND(IF((B166-A166+1)>2,IF(C166=75,AVERAGE(INDIRECT(\"krzywa!C\"&MATCH(K166-6,krzywa!A:A,0)&\":C\"&MATCH(K166-2,krzywa!A:A,0))),AVERAGE(INDIRECT(\"krzywa!C\"&MATCH(A166-$A$2+BQ166,krzywa!A:A,0)&\":C\"&MATCH(B166-$A$2-AY166,krzywa!A:A,0)))),INDIRECT(\"krzywa!C\"&MATCH(K166,krzywa!A:A,0))),4)","v":{"$error":"#N/A"}},{"$error":"#N/A"},{"$f":"-C166*ABS(D166-F166)*H166*I166*U166+'kompensacja międzyproduktowa'!X166*U166","v":{"$error":"#N/A"}},{"$f":"ROUND(IF((B166-A166+1)>2,IF(C166=75,AVERAGE(INDIRECT(\"krzywa!D\"&MATCH(K166-6,krzywa!A:A,0)&\":D\"&MATCH(K166-2,krzywa!A:A,0))),AVERAGE(INDIRECT(\"krzywa!D\"&MATCH(A166-$A$2+BQ166,krzywa!A:A,0)&\":D\"&MATCH(B166-$A$2-AY166,krzywa!A:A,0)))),INDIRECT(\"krzywa!D\"&MATCH(K166,krzywa!A:A,0))),4)","v":{"$error":"#N/A"}},{"$f":"VLOOKUP(A166,krzywa!L:N,3,1)","v":{"$error":"#N/A"}},{"$f":"VLOOKUP(B166,krzywa!L:N,3,1)","v":{"$error":"#N/A"}},{"$f":"IF('Kalkulator Depozytów'!$B$35=TRUE,1,(1+S166/100)*W166+(1+T166/100)*(1-W166))","v":{"$error":"#N/A"}},{"$f":"IF(S166<>T166,VLOOKUP(A166,krzywa!L:M,2,1))","v":{"$error":"#N/A"}},{"$f":"IF(V166<>FALSE,IF(L166=\"BASE\",(V166-A166+1)*24+J166,IF(L166=\"OFFPEAK\",NETWORKDAYS(A166,V166,koszyki!$M$20:$M$898)*9+(N166)*24+J166,IF(L166=\"L-PEAK5\",NETWORKDAYS(A166,V166,koszyki!$M$20:$M$898)*10,IF(L166=\"H-PEAK5\",NETWORKDAYS(A166,V166,koszyki!$M$20:$M$898)*5,NETWORKDAYS(A166,V166,koszyki!$M$20:$M$898)*15))))/C166,1)","v":{"$error":"#N/A"}}]
[null,null,0,{"$f":"'Kalkulator Depozytów'!M172","v":0},{"$f":"'Kalkulator Depozytów'!N172","v":0},{"$f":"'Kalkulator Depozytów'!O172","v":0},{"$f":"'Kalkulator Depozytów'!P172","v":0},{"$f":"'Kalkulator Depozytów'!Q172","v":0},{"$f":"ROUND(IF(OR(AND(K167>0,L167=\"L-PEAK5\"),AND(K167>0,L167=\"H-PEAK5\")),R167,IF(AND(K167>0,L167=\"PEAK5\"),O167,IF(K167>0,IF(OR(L167=\"BASE\"),AVERAGE(INDIRECT(\"krzywa!B\"&MATCH(A167-$A$2,krzywa!A:A,0)&\":B\"&MATCH(B167-$A$2,krzywa!A:A,0),TRUE)),IF(OR(L167=\"OFFPEAK\"),AVERAGE(INDIRECT(\"krzywa!F\"&MATCH(A167-$A$2,krzywa!A:A,0)&\":F\"&MATCH(B167-$A$2,krzywa!A:A,0)))))))),4)","v":0},null,0,null,{"$f":"NETWORKDAYS(A167,B167,koszyki!$M$20:$M$898)","v":0},{"$f":"B167-A167+1- NETWORKDAYS(A167,B167,koszyki!$M$20:$M$898)","v":1},{"$f":"ROUND(IF((B167-A167+1)>2,IF(C167=75,AVERAGE(INDIRECT(\"krzywa!C\"&MATCH(K167-6,krzywa!A:A,0)&\":C\"&MATCH(K167-2,krzywa!A:A,0))),AVERAGE(INDIRECT(\"krzywa!C\"&MATCH(A167-$A$2+BQ167,krzywa!A:A,0)&\":C\"&MATCH(B167-$A$2-AY167,krzywa!A:A,0)))),INDIRECT(\"krzywa!C\"&MATCH(K167,krzywa!A:A,0))),4)","v":{"$error":"#N/A"}},{"$error":"#N/A"},{"$f":"-C167*ABS(D167-F167)*H167*I167*U167+'kompensacja międzyproduktowa'!X167*U167","v":{"$error":"#N/A"}},{"$f":"ROUND(IF((B167-A167+1)>2,IF(C167=75,AVERAGE(INDIRECT(\"krzywa!D\"&MATCH(K167-6,krzywa!A:A,0)&\":D\"&MATCH(K167-2,krzywa!A:A,0))),AVERAGE(INDIRECT(\"krzywa!D\"&MATCH(A167-$A$2+BQ167,krzywa!A:A,0)&\":D\"&MATCH(B167-$A$2-AY167,krzywa!A:A,0)))),INDIRECT(\"krzywa!D\"&MATCH(K167,krzywa!A:A,0))),4)","v":{"$error":"#N/A"}},{"$f":"VLOOKUP(A167,krzywa!L:N,3,1)","v":{"$error":"#N/A"}},{"$f":"VLOOKUP(B167,krzywa!L:N,3,1)","v":{"$error":"#N/A"}},{"$f":"IF('Kalkulator Depozytów'!$B$35=TRUE,1,(1+S167/100)*W167+(1+T167/100)*(1-W167))","v":{"$error":"#N/A"}},{"$f":"IF(S167<>T167,VLOOKUP(A167,krzywa!L:M,2,1))","v":{"$error":"#N/A"}},{"$f":"IF(V167<>FALSE,IF(L167=\"BASE\",(V167-A167+1)*24+J167,IF(L167=\"OFFPEAK\",NETWORKDAYS(A167,V167,koszyki!$M$20:$M$898)*9+(N167)*24+J167,IF(L167=\"L-PEAK5\",NETWORKDAYS(A167,V167,koszyki!$M$20:$M$898)*10,IF(L167=\"H-PEAK5\",NETWORKDAYS(A167,V167,koszyki!$M$20:$M$898)*5,NETWORKDAYS(A167,V167,koszyki!$M$20:$M$898)*15))))/C167,1)","v":{"$error":"#N/A"}}]
[null,null,0,{"$f":"'Kalkulator Depozytów'!M173","v":0},{"$f":"'Kalkulator Depozytów'!N173","v":0},{"$f":"'Kalkulator Depozytów'!O173","v":0},{"$f":"'Kalkulator Depozytów'!P173","v":0},{"$f":"'Kalkulator Depozytów'!Q173","v":0},{"$f":"ROUND(IF(OR(AND(K168>0,L168=\"L-PEAK5\"),AND(K168>0,L168=\"H-PEAK5\")),R168,IF(AND(K168>0,L168=\"PEAK5\"),O168,IF(K168>0,IF(OR(L168=\"BASE\"),AVERAGE(INDIRECT(\"krzywa!B\"&MATCH(A168-$A$2,krzywa!A:A,0)&\":B\"&MATCH(B168-$A$2,krzywa!A:A,0),TRUE)),IF(OR(L168=\"OFFPEAK\"),AVERAGE(INDIRECT(\"krzywa!F\"&MATCH(A168-$A$2,krzywa!A:A,0)&\":F\"&MATCH(B168-$A$2,krzywa!A:A,0)))))))),4)","v":0},null,0,null,{"$f":"NETWORKDAYS(A168,B168,koszyki!$M$20:$M$898)","v":0},{"$f":"B168-A168+1- NETWORKDAYS(A168,B168,koszyki!$M$20:$M$898)","v":1},{"$f":"ROUND(IF((B168-A168+1)>2,IF(C168=75,AVERAGE(INDIRECT(\"krzywa!C\"&MATCH(K168-6,krzywa!A:A,0)&\":C\"&MATCH(K168-2,krzywa!A:A,0))),AVERAGE(INDIRECT(\"krzywa!C\"&MATCH(A168-$A$2+BQ168,krzywa!A:A,0)&\":C\"&MATCH(B168-$A$2-AY168,krzywa!A:A,0)))),INDIRECT(\"krzywa!C\"&MATCH(K168,krzywa!A:A,0))),4)","v":{"$error":"#N/A"}},{"$error":"#N/A"},{"$f":"-C168*ABS(D168-F168)*H168*I168*U168+'kompensacja międzyproduktowa'!X168*U168","v":{"$error":"#N/A"}},{"$f":"ROUND(IF((B168-A168+1)>2,IF(C168=75,AVERAGE(INDIRECT(\"krzywa!D\"&MATCH(K168-6,krzywa!A:A,0)&\":D\"&MATCH(K168-2,krzywa!A:A,0))),AVERAGE(INDIRECT(\"krzywa!D\"&MATCH(A168-$A$2+BQ168,krzywa!A:A,0)&\":D\"&MATCH(B168-$A$2-AY168,krzywa!A:A,0)))),INDIRECT(\"krzywa!D\"&MATCH(K168,krzywa!A:A,0))),4)","v":{"$error":"#N/A"}},{"$f":"VLOOKUP(A168,krzywa!L:N,3,1)","v":{"$error":"#N/A"}},{"$f":"VLOOKUP(B168,krzywa!L:N,3,1)","v":{"$error":"#N/A"}},{"$f":"IF('Kalkulator Depozytów'!$B$35=TRUE,1,(1+S168/100)*W168+(1+T168/100)*(1-W168))","v":{"$error":"#N/A"}},{"$f":"IF(S168<>T168,VLOOKUP(A168,krzywa!L:M,2,1))","v":{"$error":"#N/A"}},{"$f":"IF(V168<>FALSE,IF(L168=\"BASE\",(V168-A168+1)*24+J168,IF(L168=\"OFFPEAK\",NETWORKDAYS(A168,V168,koszyki!$M$20:$M$898)*9+(N168)*24+J168,IF(L168=\"L-PEAK5\",NETWORKDAYS(A168,V168,koszyki!$M$20:$M$898)*10,IF(L168=\"H-PEAK5\",NETWORKDAYS(A168,V168,koszyki!$M$20:$M$898)*5,NETWORKDAYS(A168,V168,koszyki!$M$20:$M$898)*15))))/C168,1)","v":{"$error":"#N/A"}}]
[null,null,0,{"$f":"'Kalkulator Depozytów'!M174","v":0},{"$f":"'Kalkulator Depozytów'!N174","v":0},{"$f":"'Kalkulator Depozytów'!O174","v":0},{"$f":"'Kalkulator Depozytów'!P174","v":0},{"$f":"'Kalkulator Depozytów'!Q174","v":0},{"$f":"ROUND(IF(OR(AND(K169>0,L169=\"L-PEAK5\"),AND(K169>0,L169=\"H-PEAK5\")),R169,IF(AND(K169>0,L169=\"PEAK5\"),O169,IF(K169>0,IF(OR(L169=\"BASE\"),AVERAGE(INDIRECT(\"krzywa!B\"&MATCH(A169-$A$2,krzywa!A:A,0)&\":B\"&MATCH(B169-$A$2,krzywa!A:A,0),TRUE)),IF(OR(L169=\"OFFPEAK\"),AVERAGE(INDIRECT(\"krzywa!F\"&MATCH(A169-$A$2,krzywa!A:A,0)&\":F\"&MATCH(B169-$A$2,krzywa!A:A,0)))))))),4)","v":0},null,0,null,{"$f":"NETWORKDAYS(A169,B169,koszyki!$M$20:$M$898)","v":0},{"$f":"B169-A169+1- NETWORKDAYS(A169,B169,koszyki!$M$20:$M$898)","v":1},{"$f":"ROUND(IF((B169-A169+1)>2,IF(C169=75,AVERAGE(INDIRECT(\"krzywa!C\"&MATCH(K169-6,krzywa!A:A,0)&\":C\"&MATCH(K169-2,krzywa!A:A,0))),AVERAGE(INDIRECT(\"krzywa!C\"&MATCH(A169-$A$2+BQ169,krzywa!A:A,0)&\":C\"&MATCH(B169-$A$2-AY169,krzywa!A:A,0)))),INDIRECT(\"krzywa!C\"&MATCH(K169,krzywa!A:A,0))),4)","v":{"$error":"#N/A"}},{"$error":"#N/A"},{"$f":"-C169*ABS(D169-F169)*H169*I169*U169+'kompensacja międzyproduktowa'!X169*U169","v":{"$error":"#N/A"}},{"$f":"ROUND(IF((B169-A169+1)>2,IF(C169=75,AVERAGE(INDIRECT(\"krzywa!D\"&MATCH(K169-6,krzywa!A:A,0)&\":D\"&MATCH(K169-2,krzywa!A:A,0))),AVERAGE(INDIRECT(\"krzywa!D\"&MATCH(A169-$A$2+BQ169,krzywa!A:A,0)&\":D\"&MATCH(B169-$A$2-AY169,krzywa!A:A,0)))),INDIRECT(\"krzywa!D\"&MATCH(K169,krzywa!A:A,0))),4)","v":{"$error":"#N/A"}},{"$f":"VLOOKUP(A169,krzywa!L:N,3,1)","v":{"$error":"#N/A"}},{"$f":"VLOOKUP(B169,krzywa!L:N,3,1)","v":{"$error":"#N/A"}},{"$f":"IF('Kalkulator Depozytów'!$B$35=TRUE,1,(1+S169/100)*W169+(1+T169/100)*(1-W169))","v":{"$error":"#N/A"}},{"$f":"IF(S169<>T169,VLOOKUP(A169,krzywa!L:M,2,1))","v":{"$error":"#N/A"}},{"$f":"IF(V169<>FALSE,IF(L169=\"BASE\",(V169-A169+1)*24+J169,IF(L169=\"OFFPEAK\",NETWORKDAYS(A169,V169,koszyki!$M$20:$M$898)*9+(N169)*24+J169,IF(L169=\"L-PEAK5\",NETWORKDAYS(A169,V169,koszyki!$M$20:$M$898)*10,IF(L169=\"H-PEAK5\",NETWORKDAYS(A169,V169,koszyki!$M$20:$M$898)*5,NETWORKDAYS(A169,V169,koszyki!$M$20:$M$898)*15))))/C169,1)","v":{"$error":"#N/A"}}]
[null,null,0,{"$f":"'Kalkulator Depozytów'!M175","v":0},{"$f":"'Kalkulator Depozytów'!N175","v":0},{"$f":"'Kalkulator Depozytów'!O175","v":0},{"$f":"'Kalkulator Depozytów'!P175","v":0},{"$f":"'Kalkulator Depozytów'!Q175","v":0},{"$f":"ROUND(IF(OR(AND(K170>0,L170=\"L-PEAK5\"),AND(K170>0,L170=\"H-PEAK5\")),R170,IF(AND(K170>0,L170=\"PEAK5\"),O170,IF(K170>0,IF(OR(L170=\"BASE\"),AVERAGE(INDIRECT(\"krzywa!B\"&MATCH(A170-$A$2,krzywa!A:A,0)&\":B\"&MATCH(B170-$A$2,krzywa!A:A,0),TRUE)),IF(OR(L170=\"OFFPEAK\"),AVERAGE(INDIRECT(\"krzywa!F\"&MATCH(A170-$A$2,krzywa!A:A,0)&\":F\"&MATCH(B170-$A$2,krzywa!A:A,0)))))))),4)","v":0},null,0,null,{"$f":"NETWORKDAYS(A170,B170,koszyki!$M$20:$M$898)","v":0},{"$f":"B170-A170+1- NETWORKDAYS(A170,B170,koszyki!$M$20:$M$898)","v":1},{"$f":"ROUND(IF((B170-A170+1)>2,IF(C170=75,AVERAGE(INDIRECT(\"krzywa!C\"&MATCH(K170-6,krzywa!A:A,0)&\":C\"&MATCH(K170-2,krzywa!A:A,0))),AVERAGE(INDIRECT(\"krzywa!C\"&MATCH(A170-$A$2+BQ170,krzywa!A:A,0)&\":C\"&MATCH(B170-$A$2-AY170,krzywa!A:A,0)))),INDIRECT(\"krzywa!C\"&MATCH(K170,krzywa!A:A,0))),4)","v":{"$error":"#N/A"}},{"$error":"#N/A"},{"$f":"-C170*ABS(D170-F170)*H170*I170*U170+'kompensacja międzyproduktowa'!X170*U170","v":{"$error":"#N/A"}},{"$f":"ROUND(IF((B170-A170+1)>2,IF(C170=75,AVERAGE(INDIRECT(\"krzywa!D\"&MATCH(K170-6,krzywa!A:A,0)&\":D\"&MATCH(K170-2,krzywa!A:A,0))),AVERAGE(INDIRECT(\"krzywa!D\"&MATCH(A170-$A$2+BQ170,krzywa!A:A,0)&\":D\"&MATCH(B170-$A$2-AY170,krzywa!A:A,0)))),INDIRECT(\"krzywa!D\"&MATCH(K170,krzywa!A:A,0))),4)","v":{"$error":"#N/A"}},{"$f":"VLOOKUP(A170,krzywa!L:N,3,1)","v":{"$error":"#N/A"}},{"$f":"VLOOKUP(B170,krzywa!L:N,3,1)","v":{"$error":"#N/A"}},{"$f":"IF('Kalkulator Depozytów'!$B$35=TRUE,1,(1+S170/100)*W170+(1+T170/100)*(1-W170))","v":{"$error":"#N/A"}},{"$f":"IF(S170<>T170,VLOOKUP(A170,krzywa!L:M,2,1))","v":{"$error":"#N/A"}},{"$f":"IF(V170<>FALSE,IF(L170=\"BASE\",(V170-A170+1)*24+J170,IF(L170=\"OFFPEAK\",NETWORKDAYS(A170,V170,koszyki!$M$20:$M$898)*9+(N170)*24+J170,IF(L170=\"L-PEAK5\",NETWORKDAYS(A170,V170,koszyki!$M$20:$M$898)*10,IF(L170=\"H-PEAK5\",NETWORKDAYS(A170,V170,koszyki!$M$20:$M$898)*5,NETWORKDAYS(A170,V170,koszyki!$M$20:$M$898)*15))))/C170,1)","v":{"$error":"#N/A"}}]
[null,null,0,{"$f":"'Kalkulator Depozytów'!M176","v":0},{"$f":"'Kalkulator Depozytów'!N176","v":0},{"$f":"'Kalkulator Depozytów'!O176","v":0},{"$f":"'Kalkulator Depozytów'!P176","v":0},{"$f":"'Kalkulator Depozytów'!Q176","v":0},{"$f":"ROUND(IF(OR(AND(K171>0,L171=\"L-PEAK5\"),AND(K171>0,L171=\"H-PEAK5\")),R171,IF(AND(K171>0,L171=\"PEAK5\"),O171,IF(K171>0,IF(OR(L171=\"BASE\"),AVERAGE(INDIRECT(\"krzywa!B\"&MATCH(A171-$A$2,krzywa!A:A,0)&\":B\"&MATCH(B171-$A$2,krzywa!A:A,0),TRUE)),IF(OR(L171=\"OFFPEAK\"),AVERAGE(INDIRECT(\"krzywa!F\"&MATCH(A171-$A$2,krzywa!A:A,0)&\":F\"&MATCH(B171-$A$2,krzywa!A:A,0)))))))),4)","v":0},null,0,null,{"$f":"NETWORKDAYS(A171,B171,koszyki!$M$20:$M$898)","v":0},{"$f":"B171-A171+1- NETWORKDAYS(A171,B171,koszyki!$M$20:$M$898)","v":1},{"$f":"ROUND(IF((B171-A171+1)>2,IF(C171=75,AVERAGE(INDIRECT(\"krzywa!C\"&MATCH(K171-6,krzywa!A:A,0)&\":C\"&MATCH(K171-2,krzywa!A:A,0))),AVERAGE(INDIRECT(\"krzywa!C\"&MATCH(A171-$A$2+BQ171,krzywa!A:A,0)&\":C\"&MATCH(B171-$A$2-AY171,krzywa!A:A,0)))),INDIRECT(\"krzywa!C\"&MATCH(K171,krzywa!A:A,0))),4)","v":{"$error":"#N/A"}},{"$error":"#N/A"},{"$f":"-C171*ABS(D171-F171)*H171*I171*U171+'kompensacja międzyproduktowa'!X171*U171","v":{"$error":"#N/A"}},{"$f":"ROUND(IF((B171-A171+1)>2,IF(C171=75,AVERAGE(INDIRECT(\"krzywa!D\"&MATCH(K171-6,krzywa!A:A,0)&\":D\"&MATCH(K171-2,krzywa!A:A,0))),AVERAGE(INDIRECT(\"krzywa!D\"&MATCH(A171-$A$2+BQ171,krzywa!A:A,0)&\":D\"&MATCH(B171-$A$2-AY171,krzywa!A:A,0)))),INDIRECT(\"krzywa!D\"&MATCH(K171,krzywa!A:A,0))),4)","v":{"$error":"#N/A"}},{"$f":"VLOOKUP(A171,krzywa!L:N,3,1)","v":{"$error":"#N/A"}},{"$f":"VLOOKUP(B171,krzywa!L:N,3,1)","v":{"$error":"#N/A"}},{"$f":"IF('Kalkulator Depozytów'!$B$35=TRUE,1,(1+S171/100)*W171+(1+T171/100)*(1-W171))","v":{"$error":"#N/A"}},{"$f":"IF(S171<>T171,VLOOKUP(A171,krzywa!L:M,2,1))","v":{"$error":"#N/A"}},{"$f":"IF(V171<>FALSE,IF(L171=\"BASE\",(V171-A171+1)*24+J171,IF(L171=\"OFFPEAK\",NETWORKDAYS(A171,V171,koszyki!$M$20:$M$898)*9+(N171)*24+J171,IF(L171=\"L-PEAK5\",NETWORKDAYS(A171,V171,koszyki!$M$20:$M$898)*10,IF(L171=\"H-PEAK5\",NETWORKDAYS(A171,V171,koszyki!$M$20:$M$898)*5,NETWORKDAYS(A171,V171,koszyki!$M$20:$M$898)*15))))/C171,1)","v":{"$error":"#N/A"}}]
[null,null,0,{"$f":"'Kalkulator Depozytów'!M177","v":0},{"$f":"'Kalkulator Depozytów'!N177","v":0},{"$f":"'Kalkulator Depozytów'!O177","v":0},{"$f":"'Kalkulator Depozytów'!P177","v":0},{"$f":"'Kalkulator Depozytów'!Q177","v":0},{"$f":"ROUND(IF(OR(AND(K172>0,L172=\"L-PEAK5\"),AND(K172>0,L172=\"H-PEAK5\")),R172,IF(AND(K172>0,L172=\"PEAK5\"),O172,IF(K172>0,IF(OR(L172=\"BASE\"),AVERAGE(INDIRECT(\"krzywa!B\"&MATCH(A172-$A$2,krzywa!A:A,0)&\":B\"&MATCH(B172-$A$2,krzywa!A:A,0),TRUE)),IF(OR(L172=\"OFFPEAK\"),AVERAGE(INDIRECT(\"krzywa!F\"&MATCH(A172-$A$2,krzywa!A:A,0)&\":F\"&MATCH(B172-$A$2,krzywa!A:A,0)))))))),4)","v":0},null,0,null,{"$f":"NETWORKDAYS(A172,B172,koszyki!$M$20:$M$898)","v":0},{"$f":"B172-A172+1- NETWORKDAYS(A172,B172,koszyki!$M$20:$M$898)","v":1},{"$f":"ROUND(IF((B172-A172+1)>2,IF(C172=75,AVERAGE(INDIRECT(\"krzywa!C\"&MATCH(K172-6,krzywa!A:A,0)&\":C\"&MATCH(K172-2,krzywa!A:A,0))),AVERAGE(INDIRECT(\"krzywa!C\"&MATCH(A172-$A$2+BQ172,krzywa!A:A,0)&\":C\"&MATCH(B172-$A$2-AY172,krzywa!A:A,0)))),INDIRECT(\"krzywa!C\"&MATCH(K172,krzywa!A:A,0))),4)","v":{"$error":"#N/A"}},{"$error":"#N/A"},{"$f":"-C172*ABS(D172-F172)*H172*I172*U172+'kompensacja międzyproduktowa'!X172*U172","v":{"$error":"#N/A"}},{"$f":"ROUND(IF((B172-A172+1)>2,IF(C172=75,AVERAGE(INDIRECT(\"krzywa!D\"&MATCH(K172-6,krzywa!A:A,0)&\":D\"&MATCH(K172-2,krzywa!A:A,0))),AVERAGE(INDIRECT(\"krzywa!D\"&MATCH(A172-$A$2+BQ172,krzywa!A:A,0)&\":D\"&MATCH(B172-$A$2-AY172,krzywa!A:A,0)))),INDIRECT(\"krzywa!D\"&MATCH(K172,krzywa!A:A,0))),4)","v":{"$error":"#N/A"}},{"$f":"VLOOKUP(A172,krzywa!L:N,3,1)","v":{"$error":"#N/A"}},{"$f":"VLOOKUP(B172,krzywa!L:N,3,1)","v":{"$error":"#N/A"}},{"$f":"IF('Kalkulator Depozytów'!$B$35=TRUE,1,(1+S172/100)*W172+(1+T172/100)*(1-W172))","v":{"$error":"#N/A"}},{"$f":"IF(S172<>T172,VLOOKUP(A172,krzywa!L:M,2,1))","v":{"$error":"#N/A"}},{"$f":"IF(V172<>FALSE,IF(L172=\"BASE\",(V172-A172+1)*24+J172,IF(L172=\"OFFPEAK\",NETWORKDAYS(A172,V172,koszyki!$M$20:$M$898)*9+(N172)*24+J172,IF(L172=\"L-PEAK5\",NETWORKDAYS(A172,V172,koszyki!$M$20:$M$898)*10,IF(L172=\"H-PEAK5\",NETWORKDAYS(A172,V172,koszyki!$M$20:$M$898)*5,NETWORKDAYS(A172,V172,koszyki!$M$20:$M$898)*15))))/C172,1)","v":{"$error":"#N/A"}}]
[null,null,0,{"$f":"'Kalkulator Depozytów'!M178","v":0},{"$f":"'Kalkulator Depozytów'!N178","v":0},{"$f":"'Kalkulator Depozytów'!O178","v":0},{"$f":"'Kalkulator Depozytów'!P178","v":0},{"$f":"'Kalkulator Depozytów'!Q178","v":0},{"$f":"ROUND(IF(OR(AND(K173>0,L173=\"L-PEAK5\"),AND(K173>0,L173=\"H-PEAK5\")),R173,IF(AND(K173>0,L173=\"PEAK5\"),O173,IF(K173>0,IF(OR(L173=\"BASE\"),AVERAGE(INDIRECT(\"krzywa!B\"&MATCH(A173-$A$2,krzywa!A:A,0)&\":B\"&MATCH(B173-$A$2,krzywa!A:A,0),TRUE)),IF(OR(L173=\"OFFPEAK\"),AVERAGE(INDIRECT(\"krzywa!F\"&MATCH(A173-$A$2,krzywa!A:A,0)&\":F\"&MATCH(B173-$A$2,krzywa!A:A,0)))))))),4)","v":0},null,0,null,{"$f":"NETWORKDAYS(A173,B173,koszyki!$M$20:$M$898)","v":0},{"$f":"B173-A173+1- NETWORKDAYS(A173,B173,koszyki!$M$20:$M$898)","v":1},{"$f":"ROUND(IF((B173-A173+1)>2,IF(C173=75,AVERAGE(INDIRECT(\"krzywa!C\"&MATCH(K173-6,krzywa!A:A,0)&\":C\"&MATCH(K173-2,krzywa!A:A,0))),AVERAGE(INDIRECT(\"krzywa!C\"&MATCH(A173-$A$2+BQ173,krzywa!A:A,0)&\":C\"&MATCH(B173-$A$2-AY173,krzywa!A:A,0)))),INDIRECT(\"krzywa!C\"&MATCH(K173,krzywa!A:A,0))),4)","v":{"$error":"#N/A"}},{"$error":"#N/A"},{"$f":"-C173*ABS(D173-F173)*H173*I173*U173+'kompensacja międzyproduktowa'!X173*U173","v":{"$error":"#N/A"}},{"$f":"ROUND(IF((B173-A173+1)>2,IF(C173=75,AVERAGE(INDIRECT(\"krzywa!D\"&MATCH(K173-6,krzywa!A:A,0)&\":D\"&MATCH(K173-2,krzywa!A:A,0))),AVERAGE(INDIRECT(\"krzywa!D\"&MATCH(A173-$A$2+BQ173,krzywa!A:A,0)&\":D\"&MATCH(B173-$A$2-AY173,krzywa!A:A,0)))),INDIRECT(\"krzywa!D\"&MATCH(K173,krzywa!A:A,0))),4)","v":{"$error":"#N/A"}},{"$f":"VLOOKUP(A173,krzywa!L:N,3,1)","v":{"$error":"#N/A"}},{"$f":"VLOOKUP(B173,krzywa!L:N,3,1)","v":{"$error":"#N/A"}},{"$f":"IF('Kalkulator Depozytów'!$B$35=TRUE,1,(1+S173/100)*W173+(1+T173/100)*(1-W173))","v":{"$error":"#N/A"}},{"$f":"IF(S173<>T173,VLOOKUP(A173,krzywa!L:M,2,1))","v":{"$error":"#N/A"}},{"$f":"IF(V173<>FALSE,IF(L173=\"BASE\",(V173-A173+1)*24+J173,IF(L173=\"OFFPEAK\",NETWORKDAYS(A173,V173,koszyki!$M$20:$M$898)*9+(N173)*24+J173,IF(L173=\"L-PEAK5\",NETWORKDAYS(A173,V173,koszyki!$M$20:$M$898)*10,IF(L173=\"H-PEAK5\",NETWORKDAYS(A173,V173,koszyki!$M$20:$M$898)*5,NETWORKDAYS(A173,V173,koszyki!$M$20:$M$898)*15))))/C173,1)","v":{"$error":"#N/A"}}]
[null,null,0,{"$f":"'Kalkulator Depozytów'!M179","v":0},{"$f":"'Kalkulator Depozytów'!N179","v":0},{"$f":"'Kalkulator Depozytów'!O179","v":0},{"$f":"'Kalkulator Depozytów'!P179","v":0},{"$f":"'Kalkulator Depozytów'!Q179","v":0},{"$f":"ROUND(IF(OR(AND(K174>0,L174=\"L-PEAK5\"),AND(K174>0,L174=\"H-PEAK5\")),R174,IF(AND(K174>0,L174=\"PEAK5\"),O174,IF(K174>0,IF(OR(L174=\"BASE\"),AVERAGE(INDIRECT(\"krzywa!B\"&MATCH(A174-$A$2,krzywa!A:A,0)&\":B\"&MATCH(B174-$A$2,krzywa!A:A,0),TRUE)),IF(OR(L174=\"OFFPEAK\"),AVERAGE(INDIRECT(\"krzywa!F\"&MATCH(A174-$A$2,krzywa!A:A,0)&\":F\"&MATCH(B174-$A$2,krzywa!A:A,0)))))))),4)","v":0},null,0,null,{"$f":"NETWORKDAYS(A174,B174,koszyki!$M$20:$M$898)","v":0},{"$f":"B174-A174+1- NETWORKDAYS(A174,B174,koszyki!$M$20:$M$898)","v":1},{"$f":"ROUND(IF((B174-A174+1)>2,IF(C174=75,AVERAGE(INDIRECT(\"krzywa!C\"&MATCH(K174-6,krzywa!A:A,0)&\":C\"&MATCH(K174-2,krzywa!A:A,0))),AVERAGE(INDIRECT(\"krzywa!C\"&MATCH(A174-$A$2+BQ174,krzywa!A:A,0)&\":C\"&MATCH(B174-$A$2-AY174,krzywa!A:A,0)))),INDIRECT(\"krzywa!C\"&MATCH(K174,krzywa!A:A,0))),4)","v":{"$error":"#N/A"}},{"$error":"#N/A"},{"$f":"-C174*ABS(D174-F174)*H174*I174*U174+'kompensacja międzyproduktowa'!X174*U174","v":{"$error":"#N/A"}},{"$f":"ROUND(IF((B174-A174+1)>2,IF(C174=75,AVERAGE(INDIRECT(\"krzywa!D\"&MATCH(K174-6,krzywa!A:A,0)&\":D\"&MATCH(K174-2,krzywa!A:A,0))),AVERAGE(INDIRECT(\"krzywa!D\"&MATCH(A174-$A$2+BQ174,krzywa!A:A,0)&\":D\"&MATCH(B174-$A$2-AY174,krzywa!A:A,0)))),INDIRECT(\"krzywa!D\"&MATCH(K174,krzywa!A:A,0))),4)","v":{"$error":"#N/A"}},{"$f":"VLOOKUP(A174,krzywa!L:N,3,1)","v":{"$error":"#N/A"}},{"$f":"VLOOKUP(B174,krzywa!L:N,3,1)","v":{"$error":"#N/A"}},{"$f":"IF('Kalkulator Depozytów'!$B$35=TRUE,1,(1+S174/100)*W174+(1+T174/100)*(1-W174))","v":{"$error":"#N/A"}},{"$f":"IF(S174<>T174,VLOOKUP(A174,krzywa!L:M,2,1))","v":{"$error":"#N/A"}},{"$f":"IF(V174<>FALSE,IF(L174=\"BASE\",(V174-A174+1)*24+J174,IF(L174=\"OFFPEAK\",NETWORKDAYS(A174,V174,koszyki!$M$20:$M$898)*9+(N174)*24+J174,IF(L174=\"L-PEAK5\",NETWORKDAYS(A174,V174,koszyki!$M$20:$M$898)*10,IF(L174=\"H-PEAK5\",NETWORKDAYS(A174,V174,koszyki!$M$20:$M$898)*5,NETWORKDAYS(A174,V174,koszyki!$M$20:$M$898)*15))))/C174,1)","v":{"$error":"#N/A"}}]
[null,null,0,{"$f":"'Kalkulator Depozytów'!M180","v":0},{"$f":"'Kalkulator Depozytów'!N180","v":0},{"$f":"'Kalkulator Depozytów'!O180","v":0},{"$f":"'Kalkulator Depozytów'!P180","v":0},{"$f":"'Kalkulator Depozytów'!Q180","v":0},{"$f":"ROUND(IF(OR(AND(K175>0,L175=\"L-PEAK5\"),AND(K175>0,L175=\"H-PEAK5\")),R175,IF(AND(K175>0,L175=\"PEAK5\"),O175,IF(K175>0,IF(OR(L175=\"BASE\"),AVERAGE(INDIRECT(\"krzywa!B\"&MATCH(A175-$A$2,krzywa!A:A,0)&\":B\"&MATCH(B175-$A$2,krzywa!A:A,0),TRUE)),IF(OR(L175=\"OFFPEAK\"),AVERAGE(INDIRECT(\"krzywa!F\"&MATCH(A175-$A$2,krzywa!A:A,0)&\":F\"&MATCH(B175-$A$2,krzywa!A:A,0)))))))),4)","v":0},null,0,null,{"$f":"NETWORKDAYS(A175,B175,koszyki!$M$20:$M$898)","v":0},{"$f":"B175-A175+1- NETWORKDAYS(A175,B175,koszyki!$M$20:$M$898)","v":1},{"$f":"ROUND(IF((B175-A175+1)>2,IF(C175=75,AVERAGE(INDIRECT(\"krzywa!C\"&MATCH(K175-6,krzywa!A:A,0)&\":C\"&MATCH(K175-2,krzywa!A:A,0))),AVERAGE(INDIRECT(\"krzywa!C\"&MATCH(A175-$A$2+BQ175,krzywa!A:A,0)&\":C\"&MATCH(B175-$A$2-AY175,krzywa!A:A,0)))),INDIRECT(\"krzywa!C\"&MATCH(K175,krzywa!A:A,0))),4)","v":{"$error":"#N/A"}},{"$error":"#N/A"},{"$f":"-C175*ABS(D175-F175)*H175*I175*U175+'kompensacja międzyproduktowa'!X175*U175","v":{"$error":"#N/A"}},{"$f":"ROUND(IF((B175-A175+1)>2,IF(C175=75,AVERAGE(INDIRECT(\"krzywa!D\"&MATCH(K175-6,krzywa!A:A,0)&\":D\"&MATCH(K175-2,krzywa!A:A,0))),AVERAGE(INDIRECT(\"krzywa!D\"&MATCH(A175-$A$2+BQ175,krzywa!A:A,0)&\":D\"&MATCH(B175-$A$2-AY175,krzywa!A:A,0)))),INDIRECT(\"krzywa!D\"&MATCH(K175,krzywa!A:A,0))),4)","v":{"$error":"#N/A"}},{"$f":"VLOOKUP(A175,krzywa!L:N,3,1)","v":{"$error":"#N/A"}},{"$f":"VLOOKUP(B175,krzywa!L:N,3,1)","v":{"$error":"#N/A"}},{"$f":"IF('Kalkulator Depozytów'!$B$35=TRUE,1,(1+S175/100)*W175+(1+T175/100)*(1-W175))","v":{"$error":"#N/A"}},{"$f":"IF(S175<>T175,VLOOKUP(A175,krzywa!L:M,2,1))","v":{"$error":"#N/A"}},{"$f":"IF(V175<>FALSE,IF(L175=\"BASE\",(V175-A175+1)*24+J175,IF(L175=\"OFFPEAK\",NETWORKDAYS(A175,V175,koszyki!$M$20:$M$898)*9+(N175)*24+J175,IF(L175=\"L-PEAK5\",NETWORKDAYS(A175,V175,koszyki!$M$20:$M$898)*10,IF(L175=\"H-PEAK5\",NETWORKDAYS(A175,V175,koszyki!$M$20:$M$898)*5,NETWORKDAYS(A175,V175,koszyki!$M$20:$M$898)*15))))/C175,1)","v":{"$error":"#N/A"}}]
[null,null,0,{"$f":"'Kalkulator Depozytów'!M181","v":0},{"$f":"'Kalkulator Depozytów'!N181","v":0},{"$f":"'Kalkulator Depozytów'!O181","v":0},{"$f":"'Kalkulator Depozytów'!P181","v":0},{"$f":"'Kalkulator Depozytów'!Q181","v":0},{"$f":"ROUND(IF(OR(AND(K176>0,L176=\"L-PEAK5\"),AND(K176>0,L176=\"H-PEAK5\")),R176,IF(AND(K176>0,L176=\"PEAK5\"),O176,IF(K176>0,IF(OR(L176=\"BASE\"),AVERAGE(INDIRECT(\"krzywa!B\"&MATCH(A176-$A$2,krzywa!A:A,0)&\":B\"&MATCH(B176-$A$2,krzywa!A:A,0),TRUE)),IF(OR(L176=\"OFFPEAK\"),AVERAGE(INDIRECT(\"krzywa!F\"&MATCH(A176-$A$2,krzywa!A:A,0)&\":F\"&MATCH(B176-$A$2,krzywa!A:A,0)))))))),4)","v":0},null,0,null,{"$f":"NETWORKDAYS(A176,B176,koszyki!$M$20:$M$898)","v":0},{"$f":"B176-A176+1- NETWORKDAYS(A176,B176,koszyki!$M$20:$M$898)","v":1},{"$f":"ROUND(IF((B176-A176+1)>2,IF(C176=75,AVERAGE(INDIRECT(\"krzywa!C\"&MATCH(K176-6,krzywa!A:A,0)&\":C\"&MATCH(K176-2,krzywa!A:A,0))),AVERAGE(INDIRECT(\"krzywa!C\"&MATCH(A176-$A$2+BQ176,krzywa!A:A,0)&\":C\"&MATCH(B176-$A$2-AY176,krzywa!A:A,0)))),INDIRECT(\"krzywa!C\"&MATCH(K176,krzywa!A:A,0))),4)","v":{"$error":"#N/A"}},{"$error":"#N/A"},{"$f":"-C176*ABS(D176-F176)*H176*I176*U176+'kompensacja międzyproduktowa'!X176*U176","v":{"$error":"#N/A"}},{"$f":"ROUND(IF((B176-A176+1)>2,IF(C176=75,AVERAGE(INDIRECT(\"krzywa!D\"&MATCH(K176-6,krzywa!A:A,0)&\":D\"&MATCH(K176-2,krzywa!A:A,0))),AVERAGE(INDIRECT(\"krzywa!D\"&MATCH(A176-$A$2+BQ176,krzywa!A:A,0)&\":D\"&MATCH(B176-$A$2-AY176,krzywa!A:A,0)))),INDIRECT(\"krzywa!D\"&MATCH(K176,krzywa!A:A,0))),4)","v":{"$error":"#N/A"}},{"$f":"VLOOKUP(A176,krzywa!L:N,3,1)","v":{"$error":"#N/A"}},{"$f":"VLOOKUP(B176,krzywa!L:N,3,1)","v":{"$error":"#N/A"}},{"$f":"IF('Kalkulator Depozytów'!$B$35=TRUE,1,(1+S176/100)*W176+(1+T176/100)*(1-W176))","v":{"$error":"#N/A"}},{"$f":"IF(S176<>T176,VLOOKUP(A176,krzywa!L:M,2,1))","v":{"$error":"#N/A"}},{"$f":"IF(V176<>FALSE,IF(L176=\"BASE\",(V176-A176+1)*24+J176,IF(L176=\"OFFPEAK\",NETWORKDAYS(A176,V176,koszyki!$M$20:$M$898)*9+(N176)*24+J176,IF(L176=\"L-PEAK5\",NETWORKDAYS(A176,V176,koszyki!$M$20:$M$898)*10,IF(L176=\"H-PEAK5\",NETWORKDAYS(A176,V176,koszyki!$M$20:$M$898)*5,NETWORKDAYS(A176,V176,koszyki!$M$20:$M$898)*15))))/C176,1)","v":{"$error":"#N/A"}}]
[null,null,0,{"$f":"'Kalkulator Depozytów'!M182","v":0},{"$f":"'Kalkulator Depozytów'!N182","v":0},{"$f":"'Kalkulator Depozytów'!O182","v":0},{"$f":"'Kalkulator Depozytów'!P182","v":0},{"$f":"'Kalkulator Depozytów'!Q182","v":0},{"$f":"ROUND(IF(OR(AND(K177>0,L177=\"L-PEAK5\"),AND(K177>0,L177=\"H-PEAK5\")),R177,IF(AND(K177>0,L177=\"PEAK5\"),O177,IF(K177>0,IF(OR(L177=\"BASE\"),AVERAGE(INDIRECT(\"krzywa!B\"&MATCH(A177-$A$2,krzywa!A:A,0)&\":B\"&MATCH(B177-$A$2,krzywa!A:A,0),TRUE)),IF(OR(L177=\"OFFPEAK\"),AVERAGE(INDIRECT(\"krzywa!F\"&MATCH(A177-$A$2,krzywa!A:A,0)&\":F\"&MATCH(B177-$A$2,krzywa!A:A,0)))))))),4)","v":0},null,0,null,{"$f":"NETWORKDAYS(A177,B177,koszyki!$M$20:$M$898)","v":0},{"$f":"B177-A177+1- NETWORKDAYS(A177,B177,koszyki!$M$20:$M$898)","v":1},{"$f":"ROUND(IF((B177-A177+1)>2,IF(C177=75,AVERAGE(INDIRECT(\"krzywa!C\"&MATCH(K177-6,krzywa!A:A,0)&\":C\"&MATCH(K177-2,krzywa!A:A,0))),AVERAGE(INDIRECT(\"krzywa!C\"&MATCH(A177-$A$2+BQ177,krzywa!A:A,0)&\":C\"&MATCH(B177-$A$2-AY177,krzywa!A:A,0)))),INDIRECT(\"krzywa!C\"&MATCH(K177,krzywa!A:A,0))),4)","v":{"$error":"#N/A"}},{"$error":"#N/A"},{"$f":"-C177*ABS(D177-F177)*H177*I177*U177+'kompensacja międzyproduktowa'!X177*U177","v":{"$error":"#N/A"}},{"$f":"ROUND(IF((B177-A177+1)>2,IF(C177=75,AVERAGE(INDIRECT(\"krzywa!D\"&MATCH(K177-6,krzywa!A:A,0)&\":D\"&MATCH(K177-2,krzywa!A:A,0))),AVERAGE(INDIRECT(\"krzywa!D\"&MATCH(A177-$A$2+BQ177,krzywa!A:A,0)&\":D\"&MATCH(B177-$A$2-AY177,krzywa!A:A,0)))),INDIRECT(\"krzywa!D\"&MATCH(K177,krzywa!A:A,0))),4)","v":{"$error":"#N/A"}},{"$f":"VLOOKUP(A177,krzywa!L:N,3,1)","v":{"$error":"#N/A"}},{"$f":"VLOOKUP(B177,krzywa!L:N,3,1)","v":{"$error":"#N/A"}},{"$f":"IF('Kalkulator Depozytów'!$B$35=TRUE,1,(1+S177/100)*W177+(1+T177/100)*(1-W177))","v":{"$error":"#N/A"}},{"$f":"IF(S177<>T177,VLOOKUP(A177,krzywa!L:M,2,1))","v":{"$error":"#N/A"}},{"$f":"IF(V177<>FALSE,IF(L177=\"BASE\",(V177-A177+1)*24+J177,IF(L177=\"OFFPEAK\",NETWORKDAYS(A177,V177,koszyki!$M$20:$M$898)*9+(N177)*24+J177,IF(L177=\"L-PEAK5\",NETWORKDAYS(A177,V177,koszyki!$M$20:$M$898)*10,IF(L177=\"H-PEAK5\",NETWORKDAYS(A177,V177,koszyki!$M$20:$M$898)*5,NETWORKDAYS(A177,V177,koszyki!$M$20:$M$898)*15))))/C177,1)","v":{"$error":"#N/A"}}]
[null,null,0,{"$f":"'Kalkulator Depozytów'!M183","v":0},{"$f":"'Kalkulator Depozytów'!N183","v":0},{"$f":"'Kalkulator Depozytów'!O183","v":0},{"$f":"'Kalkulator Depozytów'!P183","v":0},{"$f":"'Kalkulator Depozytów'!Q183","v":0},{"$f":"ROUND(IF(OR(AND(K178>0,L178=\"L-PEAK5\"),AND(K178>0,L178=\"H-PEAK5\")),R178,IF(AND(K178>0,L178=\"PEAK5\"),O178,IF(K178>0,IF(OR(L178=\"BASE\"),AVERAGE(INDIRECT(\"krzywa!B\"&MATCH(A178-$A$2,krzywa!A:A,0)&\":B\"&MATCH(B178-$A$2,krzywa!A:A,0),TRUE)),IF(OR(L178=\"OFFPEAK\"),AVERAGE(INDIRECT(\"krzywa!F\"&MATCH(A178-$A$2,krzywa!A:A,0)&\":F\"&MATCH(B178-$A$2,krzywa!A:A,0)))))))),4)","v":0},null,0,null,{"$f":"NETWORKDAYS(A178,B178,koszyki!$M$20:$M$898)","v":0},{"$f":"B178-A178+1- NETWORKDAYS(A178,B178,koszyki!$M$20:$M$898)","v":1},{"$f":"ROUND(IF((B178-A178+1)>2,IF(C178=75,AVERAGE(INDIRECT(\"krzywa!C\"&MATCH(K178-6,krzywa!A:A,0)&\":C\"&MATCH(K178-2,krzywa!A:A,0))),AVERAGE(INDIRECT(\"krzywa!C\"&MATCH(A178-$A$2+BQ178,krzywa!A:A,0)&\":C\"&MATCH(B178-$A$2-AY178,krzywa!A:A,0)))),INDIRECT(\"krzywa!C\"&MATCH(K178,krzywa!A:A,0))),4)","v":{"$error":"#N/A"}},{"$error":"#N/A"},{"$f":"-C178*ABS(D178-F178)*H178*I178*U178+'kompensacja międzyproduktowa'!X178*U178","v":{"$error":"#N/A"}},{"$f":"ROUND(IF((B178-A178+1)>2,IF(C178=75,AVERAGE(INDIRECT(\"krzywa!D\"&MATCH(K178-6,krzywa!A:A,0)&\":D\"&MATCH(K178-2,krzywa!A:A,0))),AVERAGE(INDIRECT(\"krzywa!D\"&MATCH(A178-$A$2+BQ178,krzywa!A:A,0)&\":D\"&MATCH(B178-$A$2-AY178,krzywa!A:A,0)))),INDIRECT(\"krzywa!D\"&MATCH(K178,krzywa!A:A,0))),4)","v":{"$error":"#N/A"}},{"$f":"VLOOKUP(A178,krzywa!L:N,3,1)","v":{"$error":"#N/A"}},{"$f":"VLOOKUP(B178,krzywa!L:N,3,1)","v":{"$error":"#N/A"}},{"$f":"IF('Kalkulator Depozytów'!$B$35=TRUE,1,(1+S178/100)*W178+(1+T178/100)*(1-W178))","v":{"$error":"#N/A"}},{"$f":"IF(S178<>T178,VLOOKUP(A178,krzywa!L:M,2,1))","v":{"$error":"#N/A"}},{"$f":"IF(V178<>FALSE,IF(L178=\"BASE\",(V178-A178+1)*24+J178,IF(L178=\"OFFPEAK\",NETWORKDAYS(A178,V178,koszyki!$M$20:$M$898)*9+(N178)*24+J178,IF(L178=\"L-PEAK5\",NETWORKDAYS(A178,V178,koszyki!$M$20:$M$898)*10,IF(L178=\"H-PEAK5\",NETWORKDAYS(A178,V178,koszyki!$M$20:$M$898)*5,NETWORKDAYS(A178,V178,koszyki!$M$20:$M$898)*15))))/C178,1)","v":{"$error":"#N/A"}}]
[null,null,0,{"$f":"'Kalkulator Depozytów'!M184","v":0},{"$f":"'Kalkulator Depozytów'!N184","v":0},{"$f":"'Kalkulator Depozytów'!O184","v":0},{"$f":"'Kalkulator Depozytów'!P184","v":0},{"$f":"'Kalkulator Depozytów'!Q184","v":0},{"$f":"ROUND(IF(OR(AND(K179>0,L179=\"L-PEAK5\"),AND(K179>0,L179=\"H-PEAK5\")),R179,IF(AND(K179>0,L179=\"PEAK5\"),O179,IF(K179>0,IF(OR(L179=\"BASE\"),AVERAGE(INDIRECT(\"krzywa!B\"&MATCH(A179-$A$2,krzywa!A:A,0)&\":B\"&MATCH(B179-$A$2,krzywa!A:A,0),TRUE)),IF(OR(L179=\"OFFPEAK\"),AVERAGE(INDIRECT(\"krzywa!F\"&MATCH(A179-$A$2,krzywa!A:A,0)&\":F\"&MATCH(B179-$A$2,krzywa!A:A,0)))))))),4)","v":0},null,0,null,{"$f":"NETWORKDAYS(A179,B179,koszyki!$M$20:$M$898)","v":0},{"$f":"B179-A179+1- NETWORKDAYS(A179,B179,koszyki!$M$20:$M$898)","v":1},{"$f":"ROUND(IF((B179-A179+1)>2,IF(C179=75,AVERAGE(INDIRECT(\"krzywa!C\"&MATCH(K179-6,krzywa!A:A,0)&\":C\"&MATCH(K179-2,krzywa!A:A,0))),AVERAGE(INDIRECT(\"krzywa!C\"&MATCH(A179-$A$2+BQ179,krzywa!A:A,0)&\":C\"&MATCH(B179-$A$2-AY179,krzywa!A:A,0)))),INDIRECT(\"krzywa!C\"&MATCH(K179,krzywa!A:A,0))),4)","v":{"$error":"#N/A"}},{"$error":"#N/A"},{"$f":"-C179*ABS(D179-F179)*H179*I179*U179+'kompensacja międzyproduktowa'!X179*U179","v":{"$error":"#N/A"}},{"$f":"ROUND(IF((B179-A179+1)>2,IF(C179=75,AVERAGE(INDIRECT(\"krzywa!D\"&MATCH(K179-6,krzywa!A:A,0)&\":D\"&MATCH(K179-2,krzywa!A:A,0))),AVERAGE(INDIRECT(\"krzywa!D\"&MATCH(A179-$A$2+BQ179,krzywa!A:A,0)&\":D\"&MATCH(B179-$A$2-AY179,krzywa!A:A,0)))),INDIRECT(\"krzywa!D\"&MATCH(K179,krzywa!A:A,0))),4)","v":{"$error":"#N/A"}},{"$f":"VLOOKUP(A179,krzywa!L:N,3,1)","v":{"$error":"#N/A"}},{"$f":"VLOOKUP(B179,krzywa!L:N,3,1)","v":{"$error":"#N/A"}},{"$f":"IF('Kalkulator Depozytów'!$B$35=TRUE,1,(1+S179/100)*W179+(1+T179/100)*(1-W179))","v":{"$error":"#N/A"}},{"$f":"IF(S179<>T179,VLOOKUP(A179,krzywa!L:M,2,1))","v":{"$error":"#N/A"}},{"$f":"IF(V179<>FALSE,IF(L179=\"BASE\",(V179-A179+1)*24+J179,IF(L179=\"OFFPEAK\",NETWORKDAYS(A179,V179,koszyki!$M$20:$M$898)*9+(N179)*24+J179,IF(L179=\"L-PEAK5\",NETWORKDAYS(A179,V179,koszyki!$M$20:$M$898)*10,IF(L179=\"H-PEAK5\",NETWORKDAYS(A179,V179,koszyki!$M$20:$M$898)*5,NETWORKDAYS(A179,V179,koszyki!$M$20:$M$898)*15))))/C179,1)","v":{"$error":"#N/A"}}]
[null,null,0,{"$f":"'Kalkulator Depozytów'!M185","v":0},{"$f":"'Kalkulator Depozytów'!N185","v":0},{"$f":"'Kalkulator Depozytów'!O185","v":0},{"$f":"'Kalkulator Depozytów'!P185","v":0},{"$f":"'Kalkulator Depozytów'!Q185","v":0},{"$f":"ROUND(IF(OR(AND(K180>0,L180=\"L-PEAK5\"),AND(K180>0,L180=\"H-PEAK5\")),R180,IF(AND(K180>0,L180=\"PEAK5\"),O180,IF(K180>0,IF(OR(L180=\"BASE\"),AVERAGE(INDIRECT(\"krzywa!B\"&MATCH(A180-$A$2,krzywa!A:A,0)&\":B\"&MATCH(B180-$A$2,krzywa!A:A,0),TRUE)),IF(OR(L180=\"OFFPEAK\"),AVERAGE(INDIRECT(\"krzywa!F\"&MATCH(A180-$A$2,krzywa!A:A,0)&\":F\"&MATCH(B180-$A$2,krzywa!A:A,0)))))))),4)","v":0},null,0,null,{"$f":"NETWORKDAYS(A180,B180,koszyki!$M$20:$M$898)","v":0},{"$f":"B180-A180+1- NETWORKDAYS(A180,B180,koszyki!$M$20:$M$898)","v":1},{"$f":"ROUND(IF((B180-A180+1)>2,IF(C180=75,AVERAGE(INDIRECT(\"krzywa!C\"&MATCH(K180-6,krzywa!A:A,0)&\":C\"&MATCH(K180-2,krzywa!A:A,0))),AVERAGE(INDIRECT(\"krzywa!C\"&MATCH(A180-$A$2+BQ180,krzywa!A:A,0)&\":C\"&MATCH(B180-$A$2-AY180,krzywa!A:A,0)))),INDIRECT(\"krzywa!C\"&MATCH(K180,krzywa!A:A,0))),4)","v":{"$error":"#N/A"}},{"$error":"#N/A"},{"$f":"-C180*ABS(D180-F180)*H180*I180*U180+'kompensacja międzyproduktowa'!X180*U180","v":{"$error":"#N/A"}},{"$f":"ROUND(IF((B180-A180+1)>2,IF(C180=75,AVERAGE(INDIRECT(\"krzywa!D\"&MATCH(K180-6,krzywa!A:A,0)&\":D\"&MATCH(K180-2,krzywa!A:A,0))),AVERAGE(INDIRECT(\"krzywa!D\"&MATCH(A180-$A$2+BQ180,krzywa!A:A,0)&\":D\"&MATCH(B180-$A$2-AY180,krzywa!A:A,0)))),INDIRECT(\"krzywa!D\"&MATCH(K180,krzywa!A:A,0))),4)","v":{"$error":"#N/A"}},{"$f":"VLOOKUP(A180,krzywa!L:N,3,1)","v":{"$error":"#N/A"}},{"$f":"VLOOKUP(B180,krzywa!L:N,3,1)","v":{"$error":"#N/A"}},{"$f":"IF('Kalkulator Depozytów'!$B$35=TRUE,1,(1+S180/100)*W180+(1+T180/100)*(1-W180))","v":{"$error":"#N/A"}},{"$f":"IF(S180<>T180,VLOOKUP(A180,krzywa!L:M,2,1))","v":{"$error":"#N/A"}},{"$f":"IF(V180<>FALSE,IF(L180=\"BASE\",(V180-A180+1)*24+J180,IF(L180=\"OFFPEAK\",NETWORKDAYS(A180,V180,koszyki!$M$20:$M$898)*9+(N180)*24+J180,IF(L180=\"L-PEAK5\",NETWORKDAYS(A180,V180,koszyki!$M$20:$M$898)*10,IF(L180=\"H-PEAK5\",NETWORKDAYS(A180,V180,koszyki!$M$20:$M$898)*5,NETWORKDAYS(A180,V180,koszyki!$M$20:$M$898)*15))))/C180,1)","v":{"$error":"#N/A"}}]
[null,null,0,{"$f":"'Kalkulator Depozytów'!M186","v":0},{"$f":"'Kalkulator Depozytów'!N186","v":0},{"$f":"'Kalkulator Depozytów'!O186","v":0},{"$f":"'Kalkulator Depozytów'!P186","v":0},{"$f":"'Kalkulator Depozytów'!Q186","v":0},{"$f":"ROUND(IF(OR(AND(K181>0,L181=\"L-PEAK5\"),AND(K181>0,L181=\"H-PEAK5\")),R181,IF(AND(K181>0,L181=\"PEAK5\"),O181,IF(K181>0,IF(OR(L181=\"BASE\"),AVERAGE(INDIRECT(\"krzywa!B\"&MATCH(A181-$A$2,krzywa!A:A,0)&\":B\"&MATCH(B181-$A$2,krzywa!A:A,0),TRUE)),IF(OR(L181=\"OFFPEAK\"),AVERAGE(INDIRECT(\"krzywa!F\"&MATCH(A181-$A$2,krzywa!A:A,0)&\":F\"&MATCH(B181-$A$2,krzywa!A:A,0)))))))),4)","v":0},null,0,null,{"$f":"NETWORKDAYS(A181,B181,koszyki!$M$20:$M$898)","v":0},{"$f":"B181-A181+1- NETWORKDAYS(A181,B181,koszyki!$M$20:$M$898)","v":1},{"$f":"ROUND(IF((B181-A181+1)>2,IF(C181=75,AVERAGE(INDIRECT(\"krzywa!C\"&MATCH(K181-6,krzywa!A:A,0)&\":C\"&MATCH(K181-2,krzywa!A:A,0))),AVERAGE(INDIRECT(\"krzywa!C\"&MATCH(A181-$A$2+BQ181,krzywa!A:A,0)&\":C\"&MATCH(B181-$A$2-AY181,krzywa!A:A,0)))),INDIRECT(\"krzywa!C\"&MATCH(K181,krzywa!A:A,0))),4)","v":{"$error":"#N/A"}},{"$error":"#N/A"},{"$f":"-C181*ABS(D181-F181)*H181*I181*U181+'kompensacja międzyproduktowa'!X181*U181","v":{"$error":"#N/A"}},{"$f":"ROUND(IF((B181-A181+1)>2,IF(C181=75,AVERAGE(INDIRECT(\"krzywa!D\"&MATCH(K181-6,krzywa!A:A,0)&\":D\"&MATCH(K181-2,krzywa!A:A,0))),AVERAGE(INDIRECT(\"krzywa!D\"&MATCH(A181-$A$2+BQ181,krzywa!A:A,0)&\":D\"&MATCH(B181-$A$2-AY181,krzywa!A:A,0)))),INDIRECT(\"krzywa!D\"&MATCH(K181,krzywa!A:A,0))),4)","v":{"$error":"#N/A"}},{"$f":"VLOOKUP(A181,krzywa!L:N,3,1)","v":{"$error":"#N/A"}},{"$f":"VLOOKUP(B181,krzywa!L:N,3,1)","v":{"$error":"#N/A"}},{"$f":"IF('Kalkulator Depozytów'!$B$35=TRUE,1,(1+S181/100)*W181+(1+T181/100)*(1-W181))","v":{"$error":"#N/A"}},{"$f":"IF(S181<>T181,VLOOKUP(A181,krzywa!L:M,2,1))","v":{"$error":"#N/A"}},{"$f":"IF(V181<>FALSE,IF(L181=\"BASE\",(V181-A181+1)*24+J181,IF(L181=\"OFFPEAK\",NETWORKDAYS(A181,V181,koszyki!$M$20:$M$898)*9+(N181)*24+J181,IF(L181=\"L-PEAK5\",NETWORKDAYS(A181,V181,koszyki!$M$20:$M$898)*10,IF(L181=\"H-PEAK5\",NETWORKDAYS(A181,V181,koszyki!$M$20:$M$898)*5,NETWORKDAYS(A181,V181,koszyki!$M$20:$M$898)*15))))/C181,1)","v":{"$error":"#N/A"}}]
[null,null,0,{"$f":"'Kalkulator Depozytów'!M187","v":0},{"$f":"'Kalkulator Depozytów'!N187","v":0},{"$f":"'Kalkulator Depozytów'!O187","v":0},{"$f":"'Kalkulator Depozytów'!P187","v":0},{"$f":"'Kalkulator Depozytów'!Q187","v":0},{"$f":"ROUND(IF(OR(AND(K182>0,L182=\"L-PEAK5\"),AND(K182>0,L182=\"H-PEAK5\")),R182,IF(AND(K182>0,L182=\"PEAK5\"),O182,IF(K182>0,IF(OR(L182=\"BASE\"),AVERAGE(INDIRECT(\"krzywa!B\"&MATCH(A182-$A$2,krzywa!A:A,0)&\":B\"&MATCH(B182-$A$2,krzywa!A:A,0),TRUE)),IF(OR(L182=\"OFFPEAK\"),AVERAGE(INDIRECT(\"krzywa!F\"&MATCH(A182-$A$2,krzywa!A:A,0)&\":F\"&MATCH(B182-$A$2,krzywa!A:A,0)))))))),4)","v":0},null,0,null,{"$f":"NETWORKDAYS(A182,B182,koszyki!$M$20:$M$898)","v":0},{"$f":"B182-A182+1- NETWORKDAYS(A182,B182,koszyki!$M$20:$M$898)","v":1},{"$f":"ROUND(IF((B182-A182+1)>2,IF(C182=75,AVERAGE(INDIRECT(\"krzywa!C\"&MATCH(K182-6,krzywa!A:A,0)&\":C\"&MATCH(K182-2,krzywa!A:A,0))),AVERAGE(INDIRECT(\"krzywa!C\"&MATCH(A182-$A$2+BQ182,krzywa!A:A,0)&\":C\"&MATCH(B182-$A$2-AY182,krzywa!A:A,0)))),INDIRECT(\"krzywa!C\"&MATCH(K182,krzywa!A:A,0))),4)","v":{"$error":"#N/A"}},{"$error":"#N/A"},{"$f":"-C182*ABS(D182-F182)*H182*I182*U182+'kompensacja międzyproduktowa'!X182*U182","v":{"$error":"#N/A"}},{"$f":"ROUND(IF((B182-A182+1)>2,IF(C182=75,AVERAGE(INDIRECT(\"krzywa!D\"&MATCH(K182-6,krzywa!A:A,0)&\":D\"&MATCH(K182-2,krzywa!A:A,0))),AVERAGE(INDIRECT(\"krzywa!D\"&MATCH(A182-$A$2+BQ182,krzywa!A:A,0)&\":D\"&MATCH(B182-$A$2-AY182,krzywa!A:A,0)))),INDIRECT(\"krzywa!D\"&MATCH(K182,krzywa!A:A,0))),4)","v":{"$error":"#N/A"}},{"$f":"VLOOKUP(A182,krzywa!L:N,3,1)","v":{"$error":"#N/A"}},{"$f":"VLOOKUP(B182,krzywa!L:N,3,1)","v":{"$error":"#N/A"}},{"$f":"IF('Kalkulator Depozytów'!$B$35=TRUE,1,(1+S182/100)*W182+(1+T182/100)*(1-W182))","v":{"$error":"#N/A"}},{"$f":"IF(S182<>T182,VLOOKUP(A182,krzywa!L:M,2,1))","v":{"$error":"#N/A"}},{"$f":"IF(V182<>FALSE,IF(L182=\"BASE\",(V182-A182+1)*24+J182,IF(L182=\"OFFPEAK\",NETWORKDAYS(A182,V182,koszyki!$M$20:$M$898)*9+(N182)*24+J182,IF(L182=\"L-PEAK5\",NETWORKDAYS(A182,V182,koszyki!$M$20:$M$898)*10,IF(L182=\"H-PEAK5\",NETWORKDAYS(A182,V182,koszyki!$M$20:$M$898)*5,NETWORKDAYS(A182,V182,koszyki!$M$20:$M$898)*15))))/C182,1)","v":{"$error":"#N/A"}}]
[null,null,0,{"$f":"'Kalkulator Depozytów'!M188","v":0},{"$f":"'Kalkulator Depozytów'!N188","v":0},{"$f":"'Kalkulator Depozytów'!O188","v":0},{"$f":"'Kalkulator Depozytów'!P188","v":0},{"$f":"'Kalkulator Depozytów'!Q188","v":0},{"$f":"ROUND(IF(OR(AND(K183>0,L183=\"L-PEAK5\"),AND(K183>0,L183=\"H-PEAK5\")),R183,IF(AND(K183>0,L183=\"PEAK5\"),O183,IF(K183>0,IF(OR(L183=\"BASE\"),AVERAGE(INDIRECT(\"krzywa!B\"&MATCH(A183-$A$2,krzywa!A:A,0)&\":B\"&MATCH(B183-$A$2,krzywa!A:A,0),TRUE)),IF(OR(L183=\"OFFPEAK\"),AVERAGE(INDIRECT(\"krzywa!F\"&MATCH(A183-$A$2,krzywa!A:A,0)&\":F\"&MATCH(B183-$A$2,krzywa!A:A,0)))))))),4)","v":0},null,0,null,{"$f":"NETWORKDAYS(A183,B183,koszyki!$M$20:$M$898)","v":0},{"$f":"B183-A183+1- NETWORKDAYS(A183,B183,koszyki!$M$20:$M$898)","v":1},{"$f":"ROUND(IF((B183-A183+1)>2,IF(C183=75,AVERAGE(INDIRECT(\"krzywa!C\"&MATCH(K183-6,krzywa!A:A,0)&\":C\"&MATCH(K183-2,krzywa!A:A,0))),AVERAGE(INDIRECT(\"krzywa!C\"&MATCH(A183-$A$2+BQ183,krzywa!A:A,0)&\":C\"&MATCH(B183-$A$2-AY183,krzywa!A:A,0)))),INDIRECT(\"krzywa!C\"&MATCH(K183,krzywa!A:A,0))),4)","v":{"$error":"#N/A"}},{"$error":"#N/A"},{"$f":"-C183*ABS(D183-F183)*H183*I183*U183+'kompensacja międzyproduktowa'!X183*U183","v":{"$error":"#N/A"}},{"$f":"ROUND(IF((B183-A183+1)>2,IF(C183=75,AVERAGE(INDIRECT(\"krzywa!D\"&MATCH(K183-6,krzywa!A:A,0)&\":D\"&MATCH(K183-2,krzywa!A:A,0))),AVERAGE(INDIRECT(\"krzywa!D\"&MATCH(A183-$A$2+BQ183,krzywa!A:A,0)&\":D\"&MATCH(B183-$A$2-AY183,krzywa!A:A,0)))),INDIRECT(\"krzywa!D\"&MATCH(K183,krzywa!A:A,0))),4)","v":{"$error":"#N/A"}},{"$f":"VLOOKUP(A183,krzywa!L:N,3,1)","v":{"$error":"#N/A"}},{"$f":"VLOOKUP(B183,krzywa!L:N,3,1)","v":{"$error":"#N/A"}},{"$f":"IF('Kalkulator Depozytów'!$B$35=TRUE,1,(1+S183/100)*W183+(1+T183/100)*(1-W183))","v":{"$error":"#N/A"}},{"$f":"IF(S183<>T183,VLOOKUP(A183,krzywa!L:M,2,1))","v":{"$error":"#N/A"}},{"$f":"IF(V183<>FALSE,IF(L183=\"BASE\",(V183-A183+1)*24+J183,IF(L183=\"OFFPEAK\",NETWORKDAYS(A183,V183,koszyki!$M$20:$M$898)*9+(N183)*24+J183,IF(L183=\"L-PEAK5\",NETWORKDAYS(A183,V183,koszyki!$M$20:$M$898)*10,IF(L183=\"H-PEAK5\",NETWORKDAYS(A183,V183,koszyki!$M$20:$M$898)*5,NETWORKDAYS(A183,V183,koszyki!$M$20:$M$898)*15))))/C183,1)","v":{"$error":"#N/A"}}]
[null,null,0,{"$f":"'Kalkulator Depozytów'!M189","v":0},{"$f":"'Kalkulator Depozytów'!N189","v":0},{"$f":"'Kalkulator Depozytów'!O189","v":0},{"$f":"'Kalkulator Depozytów'!P189","v":0},{"$f":"'Kalkulator Depozytów'!Q189","v":0},{"$f":"ROUND(IF(OR(AND(K184>0,L184=\"L-PEAK5\"),AND(K184>0,L184=\"H-PEAK5\")),R184,IF(AND(K184>0,L184=\"PEAK5\"),O184,IF(K184>0,IF(OR(L184=\"BASE\"),AVERAGE(INDIRECT(\"krzywa!B\"&MATCH(A184-$A$2,krzywa!A:A,0)&\":B\"&MATCH(B184-$A$2,krzywa!A:A,0),TRUE)),IF(OR(L184=\"OFFPEAK\"),AVERAGE(INDIRECT(\"krzywa!F\"&MATCH(A184-$A$2,krzywa!A:A,0)&\":F\"&MATCH(B184-$A$2,krzywa!A:A,0)))))))),4)","v":0},null,0,null,{"$f":"NETWORKDAYS(A184,B184,koszyki!$M$20:$M$898)","v":0},{"$f":"B184-A184+1- NETWORKDAYS(A184,B184,koszyki!$M$20:$M$898)","v":1},{"$f":"ROUND(IF((B184-A184+1)>2,IF(C184=75,AVERAGE(INDIRECT(\"krzywa!C\"&MATCH(K184-6,krzywa!A:A,0)&\":C\"&MATCH(K184-2,krzywa!A:A,0))),AVERAGE(INDIRECT(\"krzywa!C\"&MATCH(A184-$A$2+BQ184,krzywa!A:A,0)&\":C\"&MATCH(B184-$A$2-AY184,krzywa!A:A,0)))),INDIRECT(\"krzywa!C\"&MATCH(K184,krzywa!A:A,0))),4)","v":{"$error":"#N/A"}},{"$error":"#N/A"},{"$f":"-C184*ABS(D184-F184)*H184*I184*U184+'kompensacja międzyproduktowa'!X184*U184","v":{"$error":"#N/A"}},{"$f":"ROUND(IF((B184-A184+1)>2,IF(C184=75,AVERAGE(INDIRECT(\"krzywa!D\"&MATCH(K184-6,krzywa!A:A,0)&\":D\"&MATCH(K184-2,krzywa!A:A,0))),AVERAGE(INDIRECT(\"krzywa!D\"&MATCH(A184-$A$2+BQ184,krzywa!A:A,0)&\":D\"&MATCH(B184-$A$2-AY184,krzywa!A:A,0)))),INDIRECT(\"krzywa!D\"&MATCH(K184,krzywa!A:A,0))),4)","v":{"$error":"#N/A"}},{"$f":"VLOOKUP(A184,krzywa!L:N,3,1)","v":{"$error":"#N/A"}},{"$f":"VLOOKUP(B184,krzywa!L:N,3,1)","v":{"$error":"#N/A"}},{"$f":"IF('Kalkulator Depozytów'!$B$35=TRUE,1,(1+S184/100)*W184+(1+T184/100)*(1-W184))","v":{"$error":"#N/A"}},{"$f":"IF(S184<>T184,VLOOKUP(A184,krzywa!L:M,2,1))","v":{"$error":"#N/A"}},{"$f":"IF(V184<>FALSE,IF(L184=\"BASE\",(V184-A184+1)*24+J184,IF(L184=\"OFFPEAK\",NETWORKDAYS(A184,V184,koszyki!$M$20:$M$898)*9+(N184)*24+J184,IF(L184=\"L-PEAK5\",NETWORKDAYS(A184,V184,koszyki!$M$20:$M$898)*10,IF(L184=\"H-PEAK5\",NETWORKDAYS(A184,V184,koszyki!$M$20:$M$898)*5,NETWORKDAYS(A184,V184,koszyki!$M$20:$M$898)*15))))/C184,1)","v":{"$error":"#N/A"}}]
[null,null,0,{"$f":"'Kalkulator Depozytów'!M190","v":0},{"$f":"'Kalkulator Depozytów'!N190","v":0},{"$f":"'Kalkulator Depozytów'!O190","v":0},{"$f":"'Kalkulator Depozytów'!P190","v":0},{"$f":"'Kalkulator Depozytów'!Q190","v":0},{"$f":"ROUND(IF(OR(AND(K185>0,L185=\"L-PEAK5\"),AND(K185>0,L185=\"H-PEAK5\")),R185,IF(AND(K185>0,L185=\"PEAK5\"),O185,IF(K185>0,IF(OR(L185=\"BASE\"),AVERAGE(INDIRECT(\"krzywa!B\"&MATCH(A185-$A$2,krzywa!A:A,0)&\":B\"&MATCH(B185-$A$2,krzywa!A:A,0),TRUE)),IF(OR(L185=\"OFFPEAK\"),AVERAGE(INDIRECT(\"krzywa!F\"&MATCH(A185-$A$2,krzywa!A:A,0)&\":F\"&MATCH(B185-$A$2,krzywa!A:A,0)))))))),4)","v":0},null,0,null,{"$f":"NETWORKDAYS(A185,B185,koszyki!$M$20:$M$898)","v":0},{"$f":"B185-A185+1- NETWORKDAYS(A185,B185,koszyki!$M$20:$M$898)","v":1},{"$f":"ROUND(IF((B185-A185+1)>2,IF(C185=75,AVERAGE(INDIRECT(\"krzywa!C\"&MATCH(K185-6,krzywa!A:A,0)&\":C\"&MATCH(K185-2,krzywa!A:A,0))),AVERAGE(INDIRECT(\"krzywa!C\"&MATCH(A185-$A$2+BQ185,krzywa!A:A,0)&\":C\"&MATCH(B185-$A$2-AY185,krzywa!A:A,0)))),INDIRECT(\"krzywa!C\"&MATCH(K185,krzywa!A:A,0))),4)","v":{"$error":"#N/A"}},{"$error":"#N/A"},{"$f":"-C185*ABS(D185-F185)*H185*I185*U185+'kompensacja międzyproduktowa'!X185*U185","v":{"$error":"#N/A"}},{"$f":"ROUND(IF((B185-A185+1)>2,IF(C185=75,AVERAGE(INDIRECT(\"krzywa!D\"&MATCH(K185-6,krzywa!A:A,0)&\":D\"&MATCH(K185-2,krzywa!A:A,0))),AVERAGE(INDIRECT(\"krzywa!D\"&MATCH(A185-$A$2+BQ185,krzywa!A:A,0)&\":D\"&MATCH(B185-$A$2-AY185,krzywa!A:A,0)))),INDIRECT(\"krzywa!D\"&MATCH(K185,krzywa!A:A,0))),4)","v":{"$error":"#N/A"}},{"$f":"VLOOKUP(A185,krzywa!L:N,3,1)","v":{"$error":"#N/A"}},{"$f":"VLOOKUP(B185,krzywa!L:N,3,1)","v":{"$error":"#N/A"}},{"$f":"IF('Kalkulator Depozytów'!$B$35=TRUE,1,(1+S185/100)*W185+(1+T185/100)*(1-W185))","v":{"$error":"#N/A"}},{"$f":"IF(S185<>T185,VLOOKUP(A185,krzywa!L:M,2,1))","v":{"$error":"#N/A"}},{"$f":"IF(V185<>FALSE,IF(L185=\"BASE\",(V185-A185+1)*24+J185,IF(L185=\"OFFPEAK\",NETWORKDAYS(A185,V185,koszyki!$M$20:$M$898)*9+(N185)*24+J185,IF(L185=\"L-PEAK5\",NETWORKDAYS(A185,V185,koszyki!$M$20:$M$898)*10,IF(L185=\"H-PEAK5\",NETWORKDAYS(A185,V185,koszyki!$M$20:$M$898)*5,NETWORKDAYS(A185,V185,koszyki!$M$20:$M$898)*15))))/C185,1)","v":{"$error":"#N/A"}}]
[null,null,0,{"$f":"'Kalkulator Depozytów'!M191","v":0},{"$f":"'Kalkulator Depozytów'!N191","v":0},{"$f":"'Kalkulator Depozytów'!O191","v":0},{"$f":"'Kalkulator Depozytów'!P191","v":0},{"$f":"'Kalkulator Depozytów'!Q191","v":0},{"$f":"ROUND(IF(OR(AND(K186>0,L186=\"L-PEAK5\"),AND(K186>0,L186=\"H-PEAK5\")),R186,IF(AND(K186>0,L186=\"PEAK5\"),O186,IF(K186>0,IF(OR(L186=\"BASE\"),AVERAGE(INDIRECT(\"krzywa!B\"&MATCH(A186-$A$2,krzywa!A:A,0)&\":B\"&MATCH(B186-$A$2,krzywa!A:A,0),TRUE)),IF(OR(L186=\"OFFPEAK\"),AVERAGE(INDIRECT(\"krzywa!F\"&MATCH(A186-$A$2,krzywa!A:A,0)&\":F\"&MATCH(B186-$A$2,krzywa!A:A,0)))))))),4)","v":0},null,0,null,{"$f":"NETWORKDAYS(A186,B186,koszyki!$M$20:$M$898)","v":0},{"$f":"B186-A186+1- NETWORKDAYS(A186,B186,koszyki!$M$20:$M$898)","v":1},{"$f":"ROUND(IF((B186-A186+1)>2,IF(C186=75,AVERAGE(INDIRECT(\"krzywa!C\"&MATCH(K186-6,krzywa!A:A,0)&\":C\"&MATCH(K186-2,krzywa!A:A,0))),AVERAGE(INDIRECT(\"krzywa!C\"&MATCH(A186-$A$2+BQ186,krzywa!A:A,0)&\":C\"&MATCH(B186-$A$2-AY186,krzywa!A:A,0)))),INDIRECT(\"krzywa!C\"&MATCH(K186,krzywa!A:A,0))),4)","v":{"$error":"#N/A"}},{"$error":"#N/A"},{"$f":"-C186*ABS(D186-F186)*H186*I186*U186+'kompensacja międzyproduktowa'!X186*U186","v":{"$error":"#N/A"}},{"$f":"ROUND(IF((B186-A186+1)>2,IF(C186=75,AVERAGE(INDIRECT(\"krzywa!D\"&MATCH(K186-6,krzywa!A:A,0)&\":D\"&MATCH(K186-2,krzywa!A:A,0))),AVERAGE(INDIRECT(\"krzywa!D\"&MATCH(A186-$A$2+BQ186,krzywa!A:A,0)&\":D\"&MATCH(B186-$A$2-AY186,krzywa!A:A,0)))),INDIRECT(\"krzywa!D\"&MATCH(K186,krzywa!A:A,0))),4)","v":{"$error":"#N/A"}},{"$f":"VLOOKUP(A186,krzywa!L:N,3,1)","v":{"$error":"#N/A"}},{"$f":"VLOOKUP(B186,krzywa!L:N,3,1)","v":{"$error":"#N/A"}},{"$f":"IF('Kalkulator Depozytów'!$B$35=TRUE,1,(1+S186/100)*W186+(1+T186/100)*(1-W186))","v":{"$error":"#N/A"}},{"$f":"IF(S186<>T186,VLOOKUP(A186,krzywa!L:M,2,1))","v":{"$error":"#N/A"}},{"$f":"IF(V186<>FALSE,IF(L186=\"BASE\",(V186-A186+1)*24+J186,IF(L186=\"OFFPEAK\",NETWORKDAYS(A186,V186,koszyki!$M$20:$M$898)*9+(N186)*24+J186,IF(L186=\"L-PEAK5\",NETWORKDAYS(A186,V186,koszyki!$M$20:$M$898)*10,IF(L186=\"H-PEAK5\",NETWORKDAYS(A186,V186,koszyki!$M$20:$M$898)*5,NETWORKDAYS(A186,V186,koszyki!$M$20:$M$898)*15))))/C186,1)","v":{"$error":"#N/A"}}]
[null,null,0,{"$f":"'Kalkulator Depozytów'!M192","v":0},{"$f":"'Kalkulator Depozytów'!N192","v":0},{"$f":"'Kalkulator Depozytów'!O192","v":0},{"$f":"'Kalkulator Depozytów'!P192","v":0},{"$f":"'Kalkulator Depozytów'!Q192","v":0},{"$f":"ROUND(IF(OR(AND(K187>0,L187=\"L-PEAK5\"),AND(K187>0,L187=\"H-PEAK5\")),R187,IF(AND(K187>0,L187=\"PEAK5\"),O187,IF(K187>0,IF(OR(L187=\"BASE\"),AVERAGE(INDIRECT(\"krzywa!B\"&MATCH(A187-$A$2,krzywa!A:A,0)&\":B\"&MATCH(B187-$A$2,krzywa!A:A,0),TRUE)),IF(OR(L187=\"OFFPEAK\"),AVERAGE(INDIRECT(\"krzywa!F\"&MATCH(A187-$A$2,krzywa!A:A,0)&\":F\"&MATCH(B187-$A$2,krzywa!A:A,0)))))))),4)","v":0},null,0,null,{"$f":"NETWORKDAYS(A187,B187,koszyki!$M$20:$M$898)","v":0},{"$f":"B187-A187+1- NETWORKDAYS(A187,B187,koszyki!$M$20:$M$898)","v":1},{"$f":"ROUND(IF((B187-A187+1)>2,IF(C187=75,AVERAGE(INDIRECT(\"krzywa!C\"&MATCH(K187-6,krzywa!A:A,0)&\":C\"&MATCH(K187-2,krzywa!A:A,0))),AVERAGE(INDIRECT(\"krzywa!C\"&MATCH(A187-$A$2+BQ187,krzywa!A:A,0)&\":C\"&MATCH(B187-$A$2-AY187,krzywa!A:A,0)))),INDIRECT(\"krzywa!C\"&MATCH(K187,krzywa!A:A,0))),4)","v":{"$error":"#N/A"}},{"$error":"#N/A"},{"$f":"-C187*ABS(D187-F187)*H187*I187*U187+'kompensacja międzyproduktowa'!X187*U187","v":{"$error":"#N/A"}},{"$f":"ROUND(IF((B187-A187+1)>2,IF(C187=75,AVERAGE(INDIRECT(\"krzywa!D\"&MATCH(K187-6,krzywa!A:A,0)&\":D\"&MATCH(K187-2,krzywa!A:A,0))),AVERAGE(INDIRECT(\"krzywa!D\"&MATCH(A187-$A$2+BQ187,krzywa!A:A,0)&\":D\"&MATCH(B187-$A$2-AY187,krzywa!A:A,0)))),INDIRECT(\"krzywa!D\"&MATCH(K187,krzywa!A:A,0))),4)","v":{"$error":"#N/A"}},{"$f":"VLOOKUP(A187,krzywa!L:N,3,1)","v":{"$error":"#N/A"}},{"$f":"VLOOKUP(B187,krzywa!L:N,3,1)","v":{"$error":"#N/A"}},{"$f":"IF('Kalkulator Depozytów'!$B$35=TRUE,1,(1+S187/100)*W187+(1+T187/100)*(1-W187))","v":{"$error":"#N/A"}},{"$f":"IF(S187<>T187,VLOOKUP(A187,krzywa!L:M,2,1))","v":{"$error":"#N/A"}},{"$f":"IF(V187<>FALSE,IF(L187=\"BASE\",(V187-A187+1)*24+J187,IF(L187=\"OFFPEAK\",NETWORKDAYS(A187,V187,koszyki!$M$20:$M$898)*9+(N187)*24+J187,IF(L187=\"L-PEAK5\",NETWORKDAYS(A187,V187,koszyki!$M$20:$M$898)*10,IF(L187=\"H-PEAK5\",NETWORKDAYS(A187,V187,koszyki!$M$20:$M$898)*5,NETWORKDAYS(A187,V187,koszyki!$M$20:$M$898)*15))))/C187,1)","v":{"$error":"#N/A"}}]
[null,null,0,{"$f":"'Kalkulator Depozytów'!M193","v":0},{"$f":"'Kalkulator Depozytów'!N193","v":0},{"$f":"'Kalkulator Depozytów'!O193","v":0},{"$f":"'Kalkulator Depozytów'!P193","v":0},{"$f":"'Kalkulator Depozytów'!Q193","v":0},{"$f":"ROUND(IF(OR(AND(K188>0,L188=\"L-PEAK5\"),AND(K188>0,L188=\"H-PEAK5\")),R188,IF(AND(K188>0,L188=\"PEAK5\"),O188,IF(K188>0,IF(OR(L188=\"BASE\"),AVERAGE(INDIRECT(\"krzywa!B\"&MATCH(A188-$A$2,krzywa!A:A,0)&\":B\"&MATCH(B188-$A$2,krzywa!A:A,0),TRUE)),IF(OR(L188=\"OFFPEAK\"),AVERAGE(INDIRECT(\"krzywa!F\"&MATCH(A188-$A$2,krzywa!A:A,0)&\":F\"&MATCH(B188-$A$2,krzywa!A:A,0)))))))),4)","v":0},null,0,null,{"$f":"NETWORKDAYS(A188,B188,koszyki!$M$20:$M$898)","v":0},{"$f":"B188-A188+1- NETWORKDAYS(A188,B188,koszyki!$M$20:$M$898)","v":1},{"$f":"ROUND(IF((B188-A188+1)>2,IF(C188=75,AVERAGE(INDIRECT(\"krzywa!C\"&MATCH(K188-6,krzywa!A:A,0)&\":C\"&MATCH(K188-2,krzywa!A:A,0))),AVERAGE(INDIRECT(\"krzywa!C\"&MATCH(A188-$A$2+BQ188,krzywa!A:A,0)&\":C\"&MATCH(B188-$A$2-AY188,krzywa!A:A,0)))),INDIRECT(\"krzywa!C\"&MATCH(K188,krzywa!A:A,0))),4)","v":{"$error":"#N/A"}},{"$error":"#N/A"},{"$f":"-C188*ABS(D188-F188)*H188*I188*U188+'kompensacja międzyproduktowa'!X188*U188","v":{"$error":"#N/A"}},{"$f":"ROUND(IF((B188-A188+1)>2,IF(C188=75,AVERAGE(INDIRECT(\"krzywa!D\"&MATCH(K188-6,krzywa!A:A,0)&\":D\"&MATCH(K188-2,krzywa!A:A,0))),AVERAGE(INDIRECT(\"krzywa!D\"&MATCH(A188-$A$2+BQ188,krzywa!A:A,0)&\":D\"&MATCH(B188-$A$2-AY188,krzywa!A:A,0)))),INDIRECT(\"krzywa!D\"&MATCH(K188,krzywa!A:A,0))),4)","v":{"$error":"#N/A"}},{"$f":"VLOOKUP(A188,krzywa!L:N,3,1)","v":{"$error":"#N/A"}},{"$f":"VLOOKUP(B188,krzywa!L:N,3,1)","v":{"$error":"#N/A"}},{"$f":"IF('Kalkulator Depozytów'!$B$35=TRUE,1,(1+S188/100)*W188+(1+T188/100)*(1-W188))","v":{"$error":"#N/A"}},{"$f":"IF(S188<>T188,VLOOKUP(A188,krzywa!L:M,2,1))","v":{"$error":"#N/A"}},{"$f":"IF(V188<>FALSE,IF(L188=\"BASE\",(V188-A188+1)*24+J188,IF(L188=\"OFFPEAK\",NETWORKDAYS(A188,V188,koszyki!$M$20:$M$898)*9+(N188)*24+J188,IF(L188=\"L-PEAK5\",NETWORKDAYS(A188,V188,koszyki!$M$20:$M$898)*10,IF(L188=\"H-PEAK5\",NETWORKDAYS(A188,V188,koszyki!$M$20:$M$898)*5,NETWORKDAYS(A188,V188,koszyki!$M$20:$M$898)*15))))/C188,1)","v":{"$error":"#N/A"}}]
[null,null,0,{"$f":"'Kalkulator Depozytów'!M194","v":0},{"$f":"'Kalkulator Depozytów'!N194","v":0},{"$f":"'Kalkulator Depozytów'!O194","v":0},{"$f":"'Kalkulator Depozytów'!P194","v":0},{"$f":"'Kalkulator Depozytów'!Q194","v":0},{"$f":"ROUND(IF(OR(AND(K189>0,L189=\"L-PEAK5\"),AND(K189>0,L189=\"H-PEAK5\")),R189,IF(AND(K189>0,L189=\"PEAK5\"),O189,IF(K189>0,IF(OR(L189=\"BASE\"),AVERAGE(INDIRECT(\"krzywa!B\"&MATCH(A189-$A$2,krzywa!A:A,0)&\":B\"&MATCH(B189-$A$2,krzywa!A:A,0),TRUE)),IF(OR(L189=\"OFFPEAK\"),AVERAGE(INDIRECT(\"krzywa!F\"&MATCH(A189-$A$2,krzywa!A:A,0)&\":F\"&MATCH(B189-$A$2,krzywa!A:A,0)))))))),4)","v":0},null,0,null,{"$f":"NETWORKDAYS(A189,B189,koszyki!$M$20:$M$898)","v":0},{"$f":"B189-A189+1- NETWORKDAYS(A189,B189,koszyki!$M$20:$M$898)","v":1},{"$f":"ROUND(IF((B189-A189+1)>2,IF(C189=75,AVERAGE(INDIRECT(\"krzywa!C\"&MATCH(K189-6,krzywa!A:A,0)&\":C\"&MATCH(K189-2,krzywa!A:A,0))),AVERAGE(INDIRECT(\"krzywa!C\"&MATCH(A189-$A$2+BQ189,krzywa!A:A,0)&\":C\"&MATCH(B189-$A$2-AY189,krzywa!A:A,0)))),INDIRECT(\"krzywa!C\"&MATCH(K189,krzywa!A:A,0))),4)","v":{"$error":"#N/A"}},{"$error":"#N/A"},{"$f":"-C189*ABS(D189-F189)*H189*I189*U189+'kompensacja międzyproduktowa'!X189*U189","v":{"$error":"#N/A"}},{"$f":"ROUND(IF((B189-A189+1)>2,IF(C189=75,AVERAGE(INDIRECT(\"krzywa!D\"&MATCH(K189-6,krzywa!A:A,0)&\":D\"&MATCH(K189-2,krzywa!A:A,0))),AVERAGE(INDIRECT(\"krzywa!D\"&MATCH(A189-$A$2+BQ189,krzywa!A:A,0)&\":D\"&MATCH(B189-$A$2-AY189,krzywa!A:A,0)))),INDIRECT(\"krzywa!D\"&MATCH(K189,krzywa!A:A,0))),4)","v":{"$error":"#N/A"}},{"$f":"VLOOKUP(A189,krzywa!L:N,3,1)","v":{"$error":"#N/A"}},{"$f":"VLOOKUP(B189,krzywa!L:N,3,1)","v":{"$error":"#N/A"}},{"$f":"IF('Kalkulator Depozytów'!$B$35=TRUE,1,(1+S189/100)*W189+(1+T189/100)*(1-W189))","v":{"$error":"#N/A"}},{"$f":"IF(S189<>T189,VLOOKUP(A189,krzywa!L:M,2,1))","v":{"$error":"#N/A"}},{"$f":"IF(V189<>FALSE,IF(L189=\"BASE\",(V189-A189+1)*24+J189,IF(L189=\"OFFPEAK\",NETWORKDAYS(A189,V189,koszyki!$M$20:$M$898)*9+(N189)*24+J189,IF(L189=\"L-PEAK5\",NETWORKDAYS(A189,V189,koszyki!$M$20:$M$898)*10,IF(L189=\"H-PEAK5\",NETWORKDAYS(A189,V189,koszyki!$M$20:$M$898)*5,NETWORKDAYS(A189,V189,koszyki!$M$20:$M$898)*15))))/C189,1)","v":{"$error":"#N/A"}}]
[null,null,0,{"$f":"'Kalkulator Depozytów'!M195","v":0},{"$f":"'Kalkulator Depozytów'!N195","v":0},{"$f":"'Kalkulator Depozytów'!O195","v":0},{"$f":"'Kalkulator Depozytów'!P195","v":0},{"$f":"'Kalkulator Depozytów'!Q195","v":0},{"$f":"ROUND(IF(OR(AND(K190>0,L190=\"L-PEAK5\"),AND(K190>0,L190=\"H-PEAK5\")),R190,IF(AND(K190>0,L190=\"PEAK5\"),O190,IF(K190>0,IF(OR(L190=\"BASE\"),AVERAGE(INDIRECT(\"krzywa!B\"&MATCH(A190-$A$2,krzywa!A:A,0)&\":B\"&MATCH(B190-$A$2,krzywa!A:A,0),TRUE)),IF(OR(L190=\"OFFPEAK\"),AVERAGE(INDIRECT(\"krzywa!F\"&MATCH(A190-$A$2,krzywa!A:A,0)&\":F\"&MATCH(B190-$A$2,krzywa!A:A,0)))))))),4)","v":0},null,0,null,{"$f":"NETWORKDAYS(A190,B190,koszyki!$M$20:$M$898)","v":0},{"$f":"B190-A190+1- NETWORKDAYS(A190,B190,koszyki!$M$20:$M$898)","v":1},{"$f":"ROUND(IF((B190-A190+1)>2,IF(C190=75,AVERAGE(INDIRECT(\"krzywa!C\"&MATCH(K190-6,krzywa!A:A,0)&\":C\"&MATCH(K190-2,krzywa!A:A,0))),AVERAGE(INDIRECT(\"krzywa!C\"&MATCH(A190-$A$2+BQ190,krzywa!A:A,0)&\":C\"&MATCH(B190-$A$2-AY190,krzywa!A:A,0)))),INDIRECT(\"krzywa!C\"&MATCH(K190,krzywa!A:A,0))),4)","v":{"$error":"#N/A"}},{"$error":"#N/A"},{"$f":"-C190*ABS(D190-F190)*H190*I190*U190+'kompensacja międzyproduktowa'!X190*U190","v":{"$error":"#N/A"}},{"$f":"ROUND(IF((B190-A190+1)>2,IF(C190=75,AVERAGE(INDIRECT(\"krzywa!D\"&MATCH(K190-6,krzywa!A:A,0)&\":D\"&MATCH(K190-2,krzywa!A:A,0))),AVERAGE(INDIRECT(\"krzywa!D\"&MATCH(A190-$A$2+BQ190,krzywa!A:A,0)&\":D\"&MATCH(B190-$A$2-AY190,krzywa!A:A,0)))),INDIRECT(\"krzywa!D\"&MATCH(K190,krzywa!A:A,0))),4)","v":{"$error":"#N/A"}},{"$f":"VLOOKUP(A190,krzywa!L:N,3,1)","v":{"$error":"#N/A"}},{"$f":"VLOOKUP(B190,krzywa!L:N,3,1)","v":{"$error":"#N/A"}},{"$f":"IF('Kalkulator Depozytów'!$B$35=TRUE,1,(1+S190/100)*W190+(1+T190/100)*(1-W190))","v":{"$error":"#N/A"}},{"$f":"IF(S190<>T190,VLOOKUP(A190,krzywa!L:M,2,1))","v":{"$error":"#N/A"}},{"$f":"IF(V190<>FALSE,IF(L190=\"BASE\",(V190-A190+1)*24+J190,IF(L190=\"OFFPEAK\",NETWORKDAYS(A190,V190,koszyki!$M$20:$M$898)*9+(N190)*24+J190,IF(L190=\"L-PEAK5\",NETWORKDAYS(A190,V190,koszyki!$M$20:$M$898)*10,IF(L190=\"H-PEAK5\",NETWORKDAYS(A190,V190,koszyki!$M$20:$M$898)*5,NETWORKDAYS(A190,V190,koszyki!$M$20:$M$898)*15))))/C190,1)","v":{"$error":"#N/A"}}]
[null,null,0,{"$f":"'Kalkulator Depozytów'!M196","v":0},{"$f":"'Kalkulator Depozytów'!N196","v":0},{"$f":"'Kalkulator Depozytów'!O196","v":0},{"$f":"'Kalkulator Depozytów'!P196","v":0},{"$f":"'Kalkulator Depozytów'!Q196","v":0},{"$f":"ROUND(IF(OR(AND(K191>0,L191=\"L-PEAK5\"),AND(K191>0,L191=\"H-PEAK5\")),R191,IF(AND(K191>0,L191=\"PEAK5\"),O191,IF(K191>0,IF(OR(L191=\"BASE\"),AVERAGE(INDIRECT(\"krzywa!B\"&MATCH(A191-$A$2,krzywa!A:A,0)&\":B\"&MATCH(B191-$A$2,krzywa!A:A,0),TRUE)),IF(OR(L191=\"OFFPEAK\"),AVERAGE(INDIRECT(\"krzywa!F\"&MATCH(A191-$A$2,krzywa!A:A,0)&\":F\"&MATCH(B191-$A$2,krzywa!A:A,0)))))))),4)","v":0},null,0,null,{"$f":"NETWORKDAYS(A191,B191,koszyki!$M$20:$M$898)","v":0},{"$f":"B191-A191+1- NETWORKDAYS(A191,B191,koszyki!$M$20:$M$898)","v":1},{"$f":"ROUND(IF((B191-A191+1)>2,IF(C191=75,AVERAGE(INDIRECT(\"krzywa!C\"&MATCH(K191-6,krzywa!A:A,0)&\":C\"&MATCH(K191-2,krzywa!A:A,0))),AVERAGE(INDIRECT(\"krzywa!C\"&MATCH(A191-$A$2+BQ191,krzywa!A:A,0)&\":C\"&MATCH(B191-$A$2-AY191,krzywa!A:A,0)))),INDIRECT(\"krzywa!C\"&MATCH(K191,krzywa!A:A,0))),4)","v":{"$error":"#N/A"}},{"$error":"#N/A"},{"$f":"-C191*ABS(D191-F191)*H191*I191*U191+'kompensacja międzyproduktowa'!X191*U191","v":{"$error":"#N/A"}},{"$f":"ROUND(IF((B191-A191+1)>2,IF(C191=75,AVERAGE(INDIRECT(\"krzywa!D\"&MATCH(K191-6,krzywa!A:A,0)&\":D\"&MATCH(K191-2,krzywa!A:A,0))),AVERAGE(INDIRECT(\"krzywa!D\"&MATCH(A191-$A$2+BQ191,krzywa!A:A,0)&\":D\"&MATCH(B191-$A$2-AY191,krzywa!A:A,0)))),INDIRECT(\"krzywa!D\"&MATCH(K191,krzywa!A:A,0))),4)","v":{"$error":"#N/A"}},{"$f":"VLOOKUP(A191,krzywa!L:N,3,1)","v":{"$error":"#N/A"}},{"$f":"VLOOKUP(B191,krzywa!L:N,3,1)","v":{"$error":"#N/A"}},{"$f":"IF('Kalkulator Depozytów'!$B$35=TRUE,1,(1+S191/100)*W191+(1+T191/100)*(1-W191))","v":{"$error":"#N/A"}},{"$f":"IF(S191<>T191,VLOOKUP(A191,krzywa!L:M,2,1))","v":{"$error":"#N/A"}},{"$f":"IF(V191<>FALSE,IF(L191=\"BASE\",(V191-A191+1)*24+J191,IF(L191=\"OFFPEAK\",NETWORKDAYS(A191,V191,koszyki!$M$20:$M$898)*9+(N191)*24+J191,IF(L191=\"L-PEAK5\",NETWORKDAYS(A191,V191,koszyki!$M$20:$M$898)*10,IF(L191=\"H-PEAK5\",NETWORKDAYS(A191,V191,koszyki!$M$20:$M$898)*5,NETWORKDAYS(A191,V191,koszyki!$M$20:$M$898)*15))))/C191,1)","v":{"$error":"#N/A"}}]
[null,null,0,{"$f":"'Kalkulator Depozytów'!M197","v":0},{"$f":"'Kalkulator Depozytów'!N197","v":0},{"$f":"'Kalkulator Depozytów'!O197","v":0},{"$f":"'Kalkulator Depozytów'!P197","v":0},{"$f":"'Kalkulator Depozytów'!Q197","v":0},{"$f":"ROUND(IF(OR(AND(K192>0,L192=\"L-PEAK5\"),AND(K192>0,L192=\"H-PEAK5\")),R192,IF(AND(K192>0,L192=\"PEAK5\"),O192,IF(K192>0,IF(OR(L192=\"BASE\"),AVERAGE(INDIRECT(\"krzywa!B\"&MATCH(A192-$A$2,krzywa!A:A,0)&\":B\"&MATCH(B192-$A$2,krzywa!A:A,0),TRUE)),IF(OR(L192=\"OFFPEAK\"),AVERAGE(INDIRECT(\"krzywa!F\"&MATCH(A192-$A$2,krzywa!A:A,0)&\":F\"&MATCH(B192-$A$2,krzywa!A:A,0)))))))),4)","v":0},null,0,null,{"$f":"NETWORKDAYS(A192,B192,koszyki!$M$20:$M$898)","v":0},{"$f":"B192-A192+1- NETWORKDAYS(A192,B192,koszyki!$M$20:$M$898)","v":1},{"$f":"ROUND(IF((B192-A192+1)>2,IF(C192=75,AVERAGE(INDIRECT(\"krzywa!C\"&MATCH(K192-6,krzywa!A:A,0)&\":C\"&MATCH(K192-2,krzywa!A:A,0))),AVERAGE(INDIRECT(\"krzywa!C\"&MATCH(A192-$A$2+BQ192,krzywa!A:A,0)&\":C\"&MATCH(B192-$A$2-AY192,krzywa!A:A,0)))),INDIRECT(\"krzywa!C\"&MATCH(K192,krzywa!A:A,0))),4)","v":{"$error":"#N/A"}},{"$error":"#N/A"},{"$f":"-C192*ABS(D192-F192)*H192*I192*U192+'kompensacja międzyproduktowa'!X192*U192","v":{"$error":"#N/A"}},{"$f":"ROUND(IF((B192-A192+1)>2,IF(C192=75,AVERAGE(INDIRECT(\"krzywa!D\"&MATCH(K192-6,krzywa!A:A,0)&\":D\"&MATCH(K192-2,krzywa!A:A,0))),AVERAGE(INDIRECT(\"krzywa!D\"&MATCH(A192-$A$2+BQ192,krzywa!A:A,0)&\":D\"&MATCH(B192-$A$2-AY192,krzywa!A:A,0)))),INDIRECT(\"krzywa!D\"&MATCH(K192,krzywa!A:A,0))),4)","v":{"$error":"#N/A"}},{"$f":"VLOOKUP(A192,krzywa!L:N,3,1)","v":{"$error":"#N/A"}},{"$f":"VLOOKUP(B192,krzywa!L:N,3,1)","v":{"$error":"#N/A"}},{"$f":"IF('Kalkulator Depozytów'!$B$35=TRUE,1,(1+S192/100)*W192+(1+T192/100)*(1-W192))","v":{"$error":"#N/A"}},{"$f":"IF(S192<>T192,VLOOKUP(A192,krzywa!L:M,2,1))","v":{"$error":"#N/A"}},{"$f":"IF(V192<>FALSE,IF(L192=\"BASE\",(V192-A192+1)*24+J192,IF(L192=\"OFFPEAK\",NETWORKDAYS(A192,V192,koszyki!$M$20:$M$898)*9+(N192)*24+J192,IF(L192=\"L-PEAK5\",NETWORKDAYS(A192,V192,koszyki!$M$20:$M$898)*10,IF(L192=\"H-PEAK5\",NETWORKDAYS(A192,V192,koszyki!$M$20:$M$898)*5,NETWORKDAYS(A192,V192,koszyki!$M$20:$M$898)*15))))/C192,1)","v":{"$error":"#N/A"}}]
[null,null,0,{"$f":"'Kalkulator Depozytów'!M198","v":0},{"$f":"'Kalkulator Depozytów'!N198","v":0},{"$f":"'Kalkulator Depozytów'!O198","v":0},{"$f":"'Kalkulator Depozytów'!P198","v":0},{"$f":"'Kalkulator Depozytów'!Q198","v":0},{"$f":"ROUND(IF(OR(AND(K193>0,L193=\"L-PEAK5\"),AND(K193>0,L193=\"H-PEAK5\")),R193,IF(AND(K193>0,L193=\"PEAK5\"),O193,IF(K193>0,IF(OR(L193=\"BASE\"),AVERAGE(INDIRECT(\"krzywa!B\"&MATCH(A193-$A$2,krzywa!A:A,0)&\":B\"&MATCH(B193-$A$2,krzywa!A:A,0),TRUE)),IF(OR(L193=\"OFFPEAK\"),AVERAGE(INDIRECT(\"krzywa!F\"&MATCH(A193-$A$2,krzywa!A:A,0)&\":F\"&MATCH(B193-$A$2,krzywa!A:A,0)))))))),4)","v":0},null,0,null,{"$f":"NETWORKDAYS(A193,B193,koszyki!$M$20:$M$898)","v":0},{"$f":"B193-A193+1- NETWORKDAYS(A193,B193,koszyki!$M$20:$M$898)","v":1},{"$f":"ROUND(IF((B193-A193+1)>2,IF(C193=75,AVERAGE(INDIRECT(\"krzywa!C\"&MATCH(K193-6,krzywa!A:A,0)&\":C\"&MATCH(K193-2,krzywa!A:A,0))),AVERAGE(INDIRECT(\"krzywa!C\"&MATCH(A193-$A$2+BQ193,krzywa!A:A,0)&\":C\"&MATCH(B193-$A$2-AY193,krzywa!A:A,0)))),INDIRECT(\"krzywa!C\"&MATCH(K193,krzywa!A:A,0))),4)","v":{"$error":"#N/A"}},{"$error":"#N/A"},{"$f":"-C193*ABS(D193-F193)*H193*I193*U193+'kompensacja międzyproduktowa'!X193*U193","v":{"$error":"#N/A"}},{"$f":"ROUND(IF((B193-A193+1)>2,IF(C193=75,AVERAGE(INDIRECT(\"krzywa!D\"&MATCH(K193-6,krzywa!A:A,0)&\":D\"&MATCH(K193-2,krzywa!A:A,0))),AVERAGE(INDIRECT(\"krzywa!D\"&MATCH(A193-$A$2+BQ193,krzywa!A:A,0)&\":D\"&MATCH(B193-$A$2-AY193,krzywa!A:A,0)))),INDIRECT(\"krzywa!D\"&MATCH(K193,krzywa!A:A,0))),4)","v":{"$error":"#N/A"}},{"$f":"VLOOKUP(A193,krzywa!L:N,3,1)","v":{"$error":"#N/A"}},{"$f":"VLOOKUP(B193,krzywa!L:N,3,1)","v":{"$error":"#N/A"}},{"$f":"IF('Kalkulator Depozytów'!$B$35=TRUE,1,(1+S193/100)*W193+(1+T193/100)*(1-W193))","v":{"$error":"#N/A"}},{"$f":"IF(S193<>T193,VLOOKUP(A193,krzywa!L:M,2,1))","v":{"$error":"#N/A"}},{"$f":"IF(V193<>FALSE,IF(L193=\"BASE\",(V193-A193+1)*24+J193,IF(L193=\"OFFPEAK\",NETWORKDAYS(A193,V193,koszyki!$M$20:$M$898)*9+(N193)*24+J193,IF(L193=\"L-PEAK5\",NETWORKDAYS(A193,V193,koszyki!$M$20:$M$898)*10,IF(L193=\"H-PEAK5\",NETWORKDAYS(A193,V193,koszyki!$M$20:$M$898)*5,NETWORKDAYS(A193,V193,koszyki!$M$20:$M$898)*15))))/C193,1)","v":{"$error":"#N/A"}}]
[null,null,0,{"$f":"'Kalkulator Depozytów'!M199","v":0},{"$f":"'Kalkulator Depozytów'!N199","v":0},{"$f":"'Kalkulator Depozytów'!O199","v":0},{"$f":"'Kalkulator Depozytów'!P199","v":0},{"$f":"'Kalkulator Depozytów'!Q199","v":0},{"$f":"ROUND(IF(OR(AND(K194>0,L194=\"L-PEAK5\"),AND(K194>0,L194=\"H-PEAK5\")),R194,IF(AND(K194>0,L194=\"PEAK5\"),O194,IF(K194>0,IF(OR(L194=\"BASE\"),AVERAGE(INDIRECT(\"krzywa!B\"&MATCH(A194-$A$2,krzywa!A:A,0)&\":B\"&MATCH(B194-$A$2,krzywa!A:A,0),TRUE)),IF(OR(L194=\"OFFPEAK\"),AVERAGE(INDIRECT(\"krzywa!F\"&MATCH(A194-$A$2,krzywa!A:A,0)&\":F\"&MATCH(B194-$A$2,krzywa!A:A,0)))))))),4)","v":0},null,0,null,{"$f":"NETWORKDAYS(A194,B194,koszyki!$M$20:$M$898)","v":0},{"$f":"B194-A194+1- NETWORKDAYS(A194,B194,koszyki!$M$20:$M$898)","v":1},{"$f":"ROUND(IF((B194-A194+1)>2,IF(C194=75,AVERAGE(INDIRECT(\"krzywa!C\"&MATCH(K194-6,krzywa!A:A,0)&\":C\"&MATCH(K194-2,krzywa!A:A,0))),AVERAGE(INDIRECT(\"krzywa!C\"&MATCH(A194-$A$2+BQ194,krzywa!A:A,0)&\":C\"&MATCH(B194-$A$2-AY194,krzywa!A:A,0)))),INDIRECT(\"krzywa!C\"&MATCH(K194,krzywa!A:A,0))),4)","v":{"$error":"#N/A"}},{"$error":"#N/A"},{"$f":"-C194*ABS(D194-F194)*H194*I194*U194+'kompensacja międzyproduktowa'!X194*U194","v":{"$error":"#N/A"}},{"$f":"ROUND(IF((B194-A194+1)>2,IF(C194=75,AVERAGE(INDIRECT(\"krzywa!D\"&MATCH(K194-6,krzywa!A:A,0)&\":D\"&MATCH(K194-2,krzywa!A:A,0))),AVERAGE(INDIRECT(\"krzywa!D\"&MATCH(A194-$A$2+BQ194,krzywa!A:A,0)&\":D\"&MATCH(B194-$A$2-AY194,krzywa!A:A,0)))),INDIRECT(\"krzywa!D\"&MATCH(K194,krzywa!A:A,0))),4)","v":{"$error":"#N/A"}},{"$f":"VLOOKUP(A194,krzywa!L:N,3,1)","v":{"$error":"#N/A"}},{"$f":"VLOOKUP(B194,krzywa!L:N,3,1)","v":{"$error":"#N/A"}},{"$f":"IF('Kalkulator Depozytów'!$B$35=TRUE,1,(1+S194/100)*W194+(1+T194/100)*(1-W194))","v":{"$error":"#N/A"}},{"$f":"IF(S194<>T194,VLOOKUP(A194,krzywa!L:M,2,1))","v":{"$error":"#N/A"}},{"$f":"IF(V194<>FALSE,IF(L194=\"BASE\",(V194-A194+1)*24+J194,IF(L194=\"OFFPEAK\",NETWORKDAYS(A194,V194,koszyki!$M$20:$M$898)*9+(N194)*24+J194,IF(L194=\"L-PEAK5\",NETWORKDAYS(A194,V194,koszyki!$M$20:$M$898)*10,IF(L194=\"H-PEAK5\",NETWORKDAYS(A194,V194,koszyki!$M$20:$M$898)*5,NETWORKDAYS(A194,V194,koszyki!$M$20:$M$898)*15))))/C194,1)","v":{"$error":"#N/A"}}]
[null,null,0,{"$f":"'Kalkulator Depozytów'!M200","v":0},{"$f":"'Kalkulator Depozytów'!N200","v":0},{"$f":"'Kalkulator Depozytów'!O200","v":0},{"$f":"'Kalkulator Depozytów'!P200","v":0},{"$f":"'Kalkulator Depozytów'!Q200","v":0},{"$f":"ROUND(IF(OR(AND(K195>0,L195=\"L-PEAK5\"),AND(K195>0,L195=\"H-PEAK5\")),R195,IF(AND(K195>0,L195=\"PEAK5\"),O195,IF(K195>0,IF(OR(L195=\"BASE\"),AVERAGE(INDIRECT(\"krzywa!B\"&MATCH(A195-$A$2,krzywa!A:A,0)&\":B\"&MATCH(B195-$A$2,krzywa!A:A,0),TRUE)),IF(OR(L195=\"OFFPEAK\"),AVERAGE(INDIRECT(\"krzywa!F\"&MATCH(A195-$A$2,krzywa!A:A,0)&\":F\"&MATCH(B195-$A$2,krzywa!A:A,0)))))))),4)","v":0},null,0,null,{"$f":"NETWORKDAYS(A195,B195,koszyki!$M$20:$M$898)","v":0},{"$f":"B195-A195+1- NETWORKDAYS(A195,B195,koszyki!$M$20:$M$898)","v":1},{"$f":"ROUND(IF((B195-A195+1)>2,IF(C195=75,AVERAGE(INDIRECT(\"krzywa!C\"&MATCH(K195-6,krzywa!A:A,0)&\":C\"&MATCH(K195-2,krzywa!A:A,0))),AVERAGE(INDIRECT(\"krzywa!C\"&MATCH(A195-$A$2+BQ195,krzywa!A:A,0)&\":C\"&MATCH(B195-$A$2-AY195,krzywa!A:A,0)))),INDIRECT(\"krzywa!C\"&MATCH(K195,krzywa!A:A,0))),4)","v":{"$error":"#N/A"}},{"$error":"#N/A"},{"$f":"-C195*ABS(D195-F195)*H195*I195*U195+'kompensacja międzyproduktowa'!X195*U195","v":{"$error":"#N/A"}},{"$f":"ROUND(IF((B195-A195+1)>2,IF(C195=75,AVERAGE(INDIRECT(\"krzywa!D\"&MATCH(K195-6,krzywa!A:A,0)&\":D\"&MATCH(K195-2,krzywa!A:A,0))),AVERAGE(INDIRECT(\"krzywa!D\"&MATCH(A195-$A$2+BQ195,krzywa!A:A,0)&\":D\"&MATCH(B195-$A$2-AY195,krzywa!A:A,0)))),INDIRECT(\"krzywa!D\"&MATCH(K195,krzywa!A:A,0))),4)","v":{"$error":"#N/A"}},{"$f":"VLOOKUP(A195,krzywa!L:N,3,1)","v":{"$error":"#N/A"}},{"$f":"VLOOKUP(B195,krzywa!L:N,3,1)","v":{"$error":"#N/A"}},{"$f":"IF('Kalkulator Depozytów'!$B$35=TRUE,1,(1+S195/100)*W195+(1+T195/100)*(1-W195))","v":{"$error":"#N/A"}},{"$f":"IF(S195<>T195,VLOOKUP(A195,krzywa!L:M,2,1))","v":{"$error":"#N/A"}},{"$f":"IF(V195<>FALSE,IF(L195=\"BASE\",(V195-A195+1)*24+J195,IF(L195=\"OFFPEAK\",NETWORKDAYS(A195,V195,koszyki!$M$20:$M$898)*9+(N195)*24+J195,IF(L195=\"L-PEAK5\",NETWORKDAYS(A195,V195,koszyki!$M$20:$M$898)*10,IF(L195=\"H-PEAK5\",NETWORKDAYS(A195,V195,koszyki!$M$20:$M$898)*5,NETWORKDAYS(A195,V195,koszyki!$M$20:$M$898)*15))))/C195,1)","v":{"$error":"#N/A"}}]
[null,null,0,{"$f":"'Kalkulator Depozytów'!M201","v":0},{"$f":"'Kalkulator Depozytów'!N201","v":0},{"$f":"'Kalkulator Depozytów'!O201","v":0},{"$f":"'Kalkulator Depozytów'!P201","v":0},{"$f":"'Kalkulator Depozytów'!Q201","v":0},{"$f":"ROUND(IF(OR(AND(K196>0,L196=\"L-PEAK5\"),AND(K196>0,L196=\"H-PEAK5\")),R196,IF(AND(K196>0,L196=\"PEAK5\"),O196,IF(K196>0,IF(OR(L196=\"BASE\"),AVERAGE(INDIRECT(\"krzywa!B\"&MATCH(A196-$A$2,krzywa!A:A,0)&\":B\"&MATCH(B196-$A$2,krzywa!A:A,0),TRUE)),IF(OR(L196=\"OFFPEAK\"),AVERAGE(INDIRECT(\"krzywa!F\"&MATCH(A196-$A$2,krzywa!A:A,0)&\":F\"&MATCH(B196-$A$2,krzywa!A:A,0)))))))),4)","v":0},null,0,null,{"$f":"NETWORKDAYS(A196,B196,koszyki!$M$20:$M$898)","v":0},{"$f":"B196-A196+1- NETWORKDAYS(A196,B196,koszyki!$M$20:$M$898)","v":1},{"$f":"ROUND(IF((B196-A196+1)>2,IF(C196=75,AVERAGE(INDIRECT(\"krzywa!C\"&MATCH(K196-6,krzywa!A:A,0)&\":C\"&MATCH(K196-2,krzywa!A:A,0))),AVERAGE(INDIRECT(\"krzywa!C\"&MATCH(A196-$A$2+BQ196,krzywa!A:A,0)&\":C\"&MATCH(B196-$A$2-AY196,krzywa!A:A,0)))),INDIRECT(\"krzywa!C\"&MATCH(K196,krzywa!A:A,0))),4)","v":{"$error":"#N/A"}},{"$error":"#N/A"},{"$f":"-C196*ABS(D196-F196)*H196*I196*U196+'kompensacja międzyproduktowa'!X196*U196","v":{"$error":"#N/A"}},{"$f":"ROUND(IF((B196-A196+1)>2,IF(C196=75,AVERAGE(INDIRECT(\"krzywa!D\"&MATCH(K196-6,krzywa!A:A,0)&\":D\"&MATCH(K196-2,krzywa!A:A,0))),AVERAGE(INDIRECT(\"krzywa!D\"&MATCH(A196-$A$2+BQ196,krzywa!A:A,0)&\":D\"&MATCH(B196-$A$2-AY196,krzywa!A:A,0)))),INDIRECT(\"krzywa!D\"&MATCH(K196,krzywa!A:A,0))),4)","v":{"$error":"#N/A"}},{"$f":"VLOOKUP(A196,krzywa!L:N,3,1)","v":{"$error":"#N/A"}},{"$f":"VLOOKUP(B196,krzywa!L:N,3,1)","v":{"$error":"#N/A"}},{"$f":"IF('Kalkulator Depozytów'!$B$35=TRUE,1,(1+S196/100)*W196+(1+T196/100)*(1-W196))","v":{"$error":"#N/A"}},{"$f":"IF(S196<>T196,VLOOKUP(A196,krzywa!L:M,2,1))","v":{"$error":"#N/A"}},{"$f":"IF(V196<>FALSE,IF(L196=\"BASE\",(V196-A196+1)*24+J196,IF(L196=\"OFFPEAK\",NETWORKDAYS(A196,V196,koszyki!$M$20:$M$898)*9+(N196)*24+J196,IF(L196=\"L-PEAK5\",NETWORKDAYS(A196,V196,koszyki!$M$20:$M$898)*10,IF(L196=\"H-PEAK5\",NETWORKDAYS(A196,V196,koszyki!$M$20:$M$898)*5,NETWORKDAYS(A196,V196,koszyki!$M$20:$M$898)*15))))/C196,1)","v":{"$error":"#N/A"}}]
[null,null,0,{"$f":"'Kalkulator Depozytów'!M202","v":0},{"$f":"'Kalkulator Depozytów'!N202","v":0},{"$f":"'Kalkulator Depozytów'!O202","v":0},{"$f":"'Kalkulator Depozytów'!P202","v":0},{"$f":"'Kalkulator Depozytów'!Q202","v":0},{"$f":"ROUND(IF(OR(AND(K197>0,L197=\"L-PEAK5\"),AND(K197>0,L197=\"H-PEAK5\")),R197,IF(AND(K197>0,L197=\"PEAK5\"),O197,IF(K197>0,IF(OR(L197=\"BASE\"),AVERAGE(INDIRECT(\"krzywa!B\"&MATCH(A197-$A$2,krzywa!A:A,0)&\":B\"&MATCH(B197-$A$2,krzywa!A:A,0),TRUE)),IF(OR(L197=\"OFFPEAK\"),AVERAGE(INDIRECT(\"krzywa!F\"&MATCH(A197-$A$2,krzywa!A:A,0)&\":F\"&MATCH(B197-$A$2,krzywa!A:A,0)))))))),4)","v":0},null,0,null,{"$f":"NETWORKDAYS(A197,B197,koszyki!$M$20:$M$898)","v":0},{"$f":"B197-A197+1- NETWORKDAYS(A197,B197,koszyki!$M$20:$M$898)","v":1},{"$f":"ROUND(IF((B197-A197+1)>2,IF(C197=75,AVERAGE(INDIRECT(\"krzywa!C\"&MATCH(K197-6,krzywa!A:A,0)&\":C\"&MATCH(K197-2,krzywa!A:A,0))),AVERAGE(INDIRECT(\"krzywa!C\"&MATCH(A197-$A$2+BQ197,krzywa!A:A,0)&\":C\"&MATCH(B197-$A$2-AY197,krzywa!A:A,0)))),INDIRECT(\"krzywa!C\"&MATCH(K197,krzywa!A:A,0))),4)","v":{"$error":"#N/A"}},{"$error":"#N/A"},{"$f":"-C197*ABS(D197-F197)*H197*I197*U197+'kompensacja międzyproduktowa'!X197*U197","v":{"$error":"#N/A"}},{"$f":"ROUND(IF((B197-A197+1)>2,IF(C197=75,AVERAGE(INDIRECT(\"krzywa!D\"&MATCH(K197-6,krzywa!A:A,0)&\":D\"&MATCH(K197-2,krzywa!A:A,0))),AVERAGE(INDIRECT(\"krzywa!D\"&MATCH(A197-$A$2+BQ197,krzywa!A:A,0)&\":D\"&MATCH(B197-$A$2-AY197,krzywa!A:A,0)))),INDIRECT(\"krzywa!D\"&MATCH(K197,krzywa!A:A,0))),4)","v":{"$error":"#N/A"}},{"$f":"VLOOKUP(A197,krzywa!L:N,3,1)","v":{"$error":"#N/A"}},{"$f":"VLOOKUP(B197,krzywa!L:N,3,1)","v":{"$error":"#N/A"}},{"$f":"IF('Kalkulator Depozytów'!$B$35=TRUE,1,(1+S197/100)*W197+(1+T197/100)*(1-W197))","v":{"$error":"#N/A"}},{"$f":"IF(S197<>T197,VLOOKUP(A197,krzywa!L:M,2,1))","v":{"$error":"#N/A"}},{"$f":"IF(V197<>FALSE,IF(L197=\"BASE\",(V197-A197+1)*24+J197,IF(L197=\"OFFPEAK\",NETWORKDAYS(A197,V197,koszyki!$M$20:$M$898)*9+(N197)*24+J197,IF(L197=\"L-PEAK5\",NETWORKDAYS(A197,V197,koszyki!$M$20:$M$898)*10,IF(L197=\"H-PEAK5\",NETWORKDAYS(A197,V197,koszyki!$M$20:$M$898)*5,NETWORKDAYS(A197,V197,koszyki!$M$20:$M$898)*15))))/C197,1)","v":{"$error":"#N/A"}}]
[null,null,0,{"$f":"'Kalkulator Depozytów'!M203","v":0},{"$f":"'Kalkulator Depozytów'!N203","v":0},{"$f":"'Kalkulator Depozytów'!O203","v":0},{"$f":"'Kalkulator Depozytów'!P203","v":0},{"$f":"'Kalkulator Depozytów'!Q203","v":0},{"$f":"ROUND(IF(OR(AND(K198>0,L198=\"L-PEAK5\"),AND(K198>0,L198=\"H-PEAK5\")),R198,IF(AND(K198>0,L198=\"PEAK5\"),O198,IF(K198>0,IF(OR(L198=\"BASE\"),AVERAGE(INDIRECT(\"krzywa!B\"&MATCH(A198-$A$2,krzywa!A:A,0)&\":B\"&MATCH(B198-$A$2,krzywa!A:A,0),TRUE)),IF(OR(L198=\"OFFPEAK\"),AVERAGE(INDIRECT(\"krzywa!F\"&MATCH(A198-$A$2,krzywa!A:A,0)&\":F\"&MATCH(B198-$A$2,krzywa!A:A,0)))))))),4)","v":0},null,0,null,{"$f":"NETWORKDAYS(A198,B198,koszyki!$M$20:$M$898)","v":0},{"$f":"B198-A198+1- NETWORKDAYS(A198,B198,koszyki!$M$20:$M$898)","v":1},{"$f":"ROUND(IF((B198-A198+1)>2,IF(C198=75,AVERAGE(INDIRECT(\"krzywa!C\"&MATCH(K198-6,krzywa!A:A,0)&\":C\"&MATCH(K198-2,krzywa!A:A,0))),AVERAGE(INDIRECT(\"krzywa!C\"&MATCH(A198-$A$2+BQ198,krzywa!A:A,0)&\":C\"&MATCH(B198-$A$2-AY198,krzywa!A:A,0)))),INDIRECT(\"krzywa!C\"&MATCH(K198,krzywa!A:A,0))),4)","v":{"$error":"#N/A"}},{"$error":"#N/A"},{"$f":"-C198*ABS(D198-F198)*H198*I198*U198+'kompensacja międzyproduktowa'!X198*U198","v":{"$error":"#N/A"}},{"$f":"ROUND(IF((B198-A198+1)>2,IF(C198=75,AVERAGE(INDIRECT(\"krzywa!D\"&MATCH(K198-6,krzywa!A:A,0)&\":D\"&MATCH(K198-2,krzywa!A:A,0))),AVERAGE(INDIRECT(\"krzywa!D\"&MATCH(A198-$A$2+BQ198,krzywa!A:A,0)&\":D\"&MATCH(B198-$A$2-AY198,krzywa!A:A,0)))),INDIRECT(\"krzywa!D\"&MATCH(K198,krzywa!A:A,0))),4)","v":{"$error":"#N/A"}},{"$f":"VLOOKUP(A198,krzywa!L:N,3,1)","v":{"$error":"#N/A"}},{"$f":"VLOOKUP(B198,krzywa!L:N,3,1)","v":{"$error":"#N/A"}},{"$f":"IF('Kalkulator Depozytów'!$B$35=TRUE,1,(1+S198/100)*W198+(1+T198/100)*(1-W198))","v":{"$error":"#N/A"}},{"$f":"IF(S198<>T198,VLOOKUP(A198,krzywa!L:M,2,1))","v":{"$error":"#N/A"}},{"$f":"IF(V198<>FALSE,IF(L198=\"BASE\",(V198-A198+1)*24+J198,IF(L198=\"OFFPEAK\",NETWORKDAYS(A198,V198,koszyki!$M$20:$M$898)*9+(N198)*24+J198,IF(L198=\"L-PEAK5\",NETWORKDAYS(A198,V198,koszyki!$M$20:$M$898)*10,IF(L198=\"H-PEAK5\",NETWORKDAYS(A198,V198,koszyki!$M$20:$M$898)*5,NETWORKDAYS(A198,V198,koszyki!$M$20:$M$898)*15))))/C198,1)","v":{"$error":"#N/A"}}]
[null,null,0,{"$f":"'Kalkulator Depozytów'!M204","v":0},{"$f":"'Kalkulator Depozytów'!N204","v":0},{"$f":"'Kalkulator Depozytów'!O204","v":0},{"$f":"'Kalkulator Depozytów'!P204","v":0},{"$f":"'Kalkulator Depozytów'!Q204","v":0},{"$f":"ROUND(IF(OR(AND(K199>0,L199=\"L-PEAK5\"),AND(K199>0,L199=\"H-PEAK5\")),R199,IF(AND(K199>0,L199=\"PEAK5\"),O199,IF(K199>0,IF(OR(L199=\"BASE\"),AVERAGE(INDIRECT(\"krzywa!B\"&MATCH(A199-$A$2,krzywa!A:A,0)&\":B\"&MATCH(B199-$A$2,krzywa!A:A,0),TRUE)),IF(OR(L199=\"OFFPEAK\"),AVERAGE(INDIRECT(\"krzywa!F\"&MATCH(A199-$A$2,krzywa!A:A,0)&\":F\"&MATCH(B199-$A$2,krzywa!A:A,0)))))))),4)","v":0},null,0,null,{"$f":"NETWORKDAYS(A199,B199,koszyki!$M$20:$M$898)","v":0},{"$f":"B199-A199+1- NETWORKDAYS(A199,B199,koszyki!$M$20:$M$898)","v":1},{"$f":"ROUND(IF((B199-A199+1)>2,IF(C199=75,AVERAGE(INDIRECT(\"krzywa!C\"&MATCH(K199-6,krzywa!A:A,0)&\":C\"&MATCH(K199-2,krzywa!A:A,0))),AVERAGE(INDIRECT(\"krzywa!C\"&MATCH(A199-$A$2+BQ199,krzywa!A:A,0)&\":C\"&MATCH(B199-$A$2-AY199,krzywa!A:A,0)))),INDIRECT(\"krzywa!C\"&MATCH(K199,krzywa!A:A,0))),4)","v":{"$error":"#N/A"}},{"$error":"#N/A"},{"$f":"-C199*ABS(D199-F199)*H199*I199*U199+'kompensacja międzyproduktowa'!X199*U199","v":{"$error":"#N/A"}},{"$f":"ROUND(IF((B199-A199+1)>2,IF(C199=75,AVERAGE(INDIRECT(\"krzywa!D\"&MATCH(K199-6,krzywa!A:A,0)&\":D\"&MATCH(K199-2,krzywa!A:A,0))),AVERAGE(INDIRECT(\"krzywa!D\"&MATCH(A199-$A$2+BQ199,krzywa!A:A,0)&\":D\"&MATCH(B199-$A$2-AY199,krzywa!A:A,0)))),INDIRECT(\"krzywa!D\"&MATCH(K199,krzywa!A:A,0))),4)","v":{"$error":"#N/A"}},{"$f":"VLOOKUP(A199,krzywa!L:N,3,1)","v":{"$error":"#N/A"}},{"$f":"VLOOKUP(B199,krzywa!L:N,3,1)","v":{"$error":"#N/A"}},{"$f":"IF('Kalkulator Depozytów'!$B$35=TRUE,1,(1+S199/100)*W199+(1+T199/100)*(1-W199))","v":{"$error":"#N/A"}},{"$f":"IF(S199<>T199,VLOOKUP(A199,krzywa!L:M,2,1))","v":{"$error":"#N/A"}},{"$f":"IF(V199<>FALSE,IF(L199=\"BASE\",(V199-A199+1)*24+J199,IF(L199=\"OFFPEAK\",NETWORKDAYS(A199,V199,koszyki!$M$20:$M$898)*9+(N199)*24+J199,IF(L199=\"L-PEAK5\",NETWORKDAYS(A199,V199,koszyki!$M$20:$M$898)*10,IF(L199=\"H-PEAK5\",NETWORKDAYS(A199,V199,koszyki!$M$20:$M$898)*5,NETWORKDAYS(A199,V199,koszyki!$M$20:$M$898)*15))))/C199,1)","v":{"$error":"#N/A"}}]
[null,null,0,{"$f":"'Kalkulator Depozytów'!M205","v":0},{"$f":"'Kalkulator Depozytów'!N205","v":0},{"$f":"'Kalkulator Depozytów'!O205","v":0},{"$f":"'Kalkulator Depozytów'!P205","v":0},{"$f":"'Kalkulator Depozytów'!Q205","v":0},{"$f":"ROUND(IF(OR(AND(K200>0,L200=\"L-PEAK5\"),AND(K200>0,L200=\"H-PEAK5\")),R200,IF(AND(K200>0,L200=\"PEAK5\"),O200,IF(K200>0,IF(OR(L200=\"BASE\"),AVERAGE(INDIRECT(\"krzywa!B\"&MATCH(A200-$A$2,krzywa!A:A,0)&\":B\"&MATCH(B200-$A$2,krzywa!A:A,0),TRUE)),IF(OR(L200=\"OFFPEAK\"),AVERAGE(INDIRECT(\"krzywa!F\"&MATCH(A200-$A$2,krzywa!A:A,0)&\":F\"&MATCH(B200-$A$2,krzywa!A:A,0)))))))),4)","v":0},null,0,null,{"$f":"NETWORKDAYS(A200,B200,koszyki!$M$20:$M$898)","v":0},{"$f":"B200-A200+1- NETWORKDAYS(A200,B200,koszyki!$M$20:$M$898)","v":1},{"$f":"ROUND(IF((B200-A200+1)>2,IF(C200=75,AVERAGE(INDIRECT(\"krzywa!C\"&MATCH(K200-6,krzywa!A:A,0)&\":C\"&MATCH(K200-2,krzywa!A:A,0))),AVERAGE(INDIRECT(\"krzywa!C\"&MATCH(A200-$A$2+BQ200,krzywa!A:A,0)&\":C\"&MATCH(B200-$A$2-AY200,krzywa!A:A,0)))),INDIRECT(\"krzywa!C\"&MATCH(K200,krzywa!A:A,0))),4)","v":{"$error":"#N/A"}},{"$error":"#N/A"},{"$f":"-C200*ABS(D200-F200)*H200*I200*U200+'kompensacja międzyproduktowa'!X200*U200","v":{"$error":"#N/A"}},{"$f":"ROUND(IF((B200-A200+1)>2,IF(C200=75,AVERAGE(INDIRECT(\"krzywa!D\"&MATCH(K200-6,krzywa!A:A,0)&\":D\"&MATCH(K200-2,krzywa!A:A,0))),AVERAGE(INDIRECT(\"krzywa!D\"&MATCH(A200-$A$2+BQ200,krzywa!A:A,0)&\":D\"&MATCH(B200-$A$2-AY200,krzywa!A:A,0)))),INDIRECT(\"krzywa!D\"&MATCH(K200,krzywa!A:A,0))),4)","v":{"$error":"#N/A"}},{"$f":"VLOOKUP(A200,krzywa!L:N,3,1)","v":{"$error":"#N/A"}},{"$f":"VLOOKUP(B200,krzywa!L:N,3,1)","v":{"$error":"#N/A"}},{"$f":"IF('Kalkulator Depozytów'!$B$35=TRUE,1,(1+S200/100)*W200+(1+T200/100)*(1-W200))","v":{"$error":"#N/A"}},{"$f":"IF(S200<>T200,VLOOKUP(A200,krzywa!L:M,2,1))","v":{"$error":"#N/A"}},{"$f":"IF(V200<>FALSE,IF(L200=\"BASE\",(V200-A200+1)*24+J200,IF(L200=\"OFFPEAK\",NETWORKDAYS(A200,V200,koszyki!$M$20:$M$898)*9+(N200)*24+J200,IF(L200=\"L-PEAK5\",NETWORKDAYS(A200,V200,koszyki!$M$20:$M$898)*10,IF(L200=\"H-PEAK5\",NETWORKDAYS(A200,V200,koszyki!$M$20:$M$898)*5,NETWORKDAYS(A200,V200,koszyki!$M$20:$M$898)*15))))/C200,1)","v":{"$error":"#N/A"}}]
[null,null,{"$f":"IF(L201=\"BASE\",(B201-A201+1)*24+J201,IF(L201=\"OFFPEAK\",M201*9+(N201)*24+J201,IF(L201=\"L-PEAK5\",M201*10,IF(L201=\"H-PEAK5\",M201*5,M201*15))))","v":0},{"$f":"'Kalkulator Depozytów'!M206","v":0},{"$f":"'Kalkulator Depozytów'!N206","v":0},{"$f":"'Kalkulator Depozytów'!O206","v":0},{"$f":"'Kalkulator Depozytów'!P206","v":0},{"$f":"'Kalkulator Depozytów'!Q206","v":0},{"$f":"ROUND(IF(OR(AND(K201>0,L201=\"L-PEAK5\"),AND(K201>0,L201=\"H-PEAK5\")),R201,IF(AND(K201>0,L201=\"PEAK5\"),O201,IF(K201>0,IF(OR(L201=\"BASE\"),AVERAGE(INDIRECT(\"krzywa!B\"&MATCH(A201-$A$2,krzywa!A:A,0)&\":B\"&MATCH(B201-$A$2,krzywa!A:A,0),TRUE)),IF(OR(L201=\"OFFPEAK\"),AVERAGE(INDIRECT(\"krzywa!F\"&MATCH(A201-$A$2,krzywa!A:A,0)&\":F\"&MATCH(B201-$A$2,krzywa!A:A,0)))))))),4)","v":0},null,{"$f":"B201-$A$2","v":0},null,{"$f":"NETWORKDAYS(A201,B201,koszyki!$M$20:$M$898)","v":0},{"$f":"B201-A201+1- NETWORKDAYS(A201,B201,koszyki!$M$20:$M$898)","v":1},{"$f":"ROUND(IF((B201-A201+1)>2,IF(C201=75,AVERAGE(INDIRECT(\"krzywa!C\"&MATCH(K201-6,krzywa!A:A,0)&\":C\"&MATCH(K201-2,krzywa!A:A,0))),AVERAGE(INDIRECT(\"krzywa!C\"&MATCH(A201-$A$2+BQ201,krzywa!A:A,0)&\":C\"&MATCH(B201-$A$2-AY201,krzywa!A:A,0)))),INDIRECT(\"krzywa!C\"&MATCH(K201,krzywa!A:A,0))),4)","v":{"$error":"#N/A"}},{"$f":"C201*(D201*(H201-E201)-F201*(H201-G201))*U201","v":{"$error":"#N/A"}},{"$f":"-C201*ABS(D201-F201)*H201*I201*U201+'kompensacja międzyproduktowa'!X201*U201","v":{"$error":"#N/A"}},{"$f":"ROUND(IF((B201-A201+1)>2,IF(C201=75,AVERAGE(INDIRECT(\"krzywa!D\"&MATCH(K201-6,krzywa!A:A,0)&\":D\"&MATCH(K201-2,krzywa!A:A,0))),AVERAGE(INDIRECT(\"krzywa!D\"&MATCH(A201-$A$2+BQ201,krzywa!A:A,0)&\":D\"&MATCH(B201-$A$2-AY201,krzywa!A:A,0)))),INDIRECT(\"krzywa!D\"&MATCH(K201,krzywa!A:A,0))),4)","v":{"$error":"#N/A"}},{"$f":"VLOOKUP(A201,krzywa!L:N,3,1)","v":{"$error":"#N/A"}},{"$f":"VLOOKUP(B201,krzywa!L:N,3,1)","v":{"$error":"#N/A"}},{"$f":"IF('Kalkulator Depozytów'!$B$35=TRUE,1,(1+S201/100)*W201+(1+T201/100)*(1-W201))","v":{"$error":"#N/A"}},{"$f":"IF(S201<>T201,VLOOKUP(A201,krzywa!L:M,2,1))","v":{"$error":"#N/A"}},{"$f":"IF(V201<>FALSE,IF(L201=\"BASE\",(V201-A201+1)*24+J201,IF(L201=\"OFFPEAK\",NETWORKDAYS(A201,V201,koszyki!$M$20:$M$898)*9+(N201)*24+J201,IF(L201=\"L-PEAK5\",NETWORKDAYS(A201,V201,koszyki!$M$20:$M$898)*10,IF(L201=\"H-PEAK5\",NETWORKDAYS(A201,V201,koszyki!$M$20:$M$898)*5,NETWORKDAYS(A201,V201,koszyki!$M$20:$M$898)*15))))/C201,1)","v":{"$error":"#N/A"}}]
[null,null,0,{"$f":"'Kalkulator Depozytów'!M207","v":0},{"$f":"'Kalkulator Depozytów'!N207","v":0},{"$f":"'Kalkulator Depozytów'!O207","v":0},{"$f":"'Kalkulator Depozytów'!P207","v":0},{"$f":"'Kalkulator Depozytów'!Q207","v":0},{"$f":"ROUND(IF(OR(AND(K202>0,L202=\"L-PEAK5\"),AND(K202>0,L202=\"H-PEAK5\")),R202,IF(AND(K202>0,L202=\"PEAK5\"),O202,IF(K202>0,IF(OR(L202=\"BASE\"),AVERAGE(INDIRECT(\"krzywa!B\"&MATCH(A202-$A$2,krzywa!A:A,0)&\":B\"&MATCH(B202-$A$2,krzywa!A:A,0),TRUE)),IF(OR(L202=\"OFFPEAK\"),AVERAGE(INDIRECT(\"krzywa!F\"&MATCH(A202-$A$2,krzywa!A:A,0)&\":F\"&MATCH(B202-$A$2,krzywa!A:A,0)))))))),4)","v":0},null,0,null,{"$f":"NETWORKDAYS(A202,B202,koszyki!$M$20:$M$898)","v":0},{"$f":"B202-A202+1- NETWORKDAYS(A202,B202,koszyki!$M$20:$M$898)","v":1},{"$f":"ROUND(IF((B202-A202+1)>2,IF(C202=75,AVERAGE(INDIRECT(\"krzywa!C\"&MATCH(K202-6,krzywa!A:A,0)&\":C\"&MATCH(K202-2,krzywa!A:A,0))),AVERAGE(INDIRECT(\"krzywa!C\"&MATCH(A202-$A$2+BQ202,krzywa!A:A,0)&\":C\"&MATCH(B202-$A$2-AY202,krzywa!A:A,0)))),INDIRECT(\"krzywa!C\"&MATCH(K202,krzywa!A:A,0))),4)","v":{"$error":"#N/A"}},{"$error":"#N/A"},{"$f":"-C202*ABS(D202-F202)*H202*I202*U202+'kompensacja międzyproduktowa'!X202*U202","v":{"$error":"#N/A"}},{"$f":"ROUND(IF((B202-A202+1)>2,IF(C202=75,AVERAGE(INDIRECT(\"krzywa!D\"&MATCH(K202-6,krzywa!A:A,0)&\":D\"&MATCH(K202-2,krzywa!A:A,0))),AVERAGE(INDIRECT(\"krzywa!D\"&MATCH(A202-$A$2+BQ202,krzywa!A:A,0)&\":D\"&MATCH(B202-$A$2-AY202,krzywa!A:A,0)))),INDIRECT(\"krzywa!D\"&MATCH(K202,krzywa!A:A,0))),4)","v":{"$error":"#N/A"}},{"$f":"VLOOKUP(A202,krzywa!L:N,3,1)","v":{"$error":"#N/A"}},{"$f":"VLOOKUP(B202,krzywa!L:N,3,1)","v":{"$error":"#N/A"}},{"$f":"IF('Kalkulator Depozytów'!$B$35=TRUE,1,(1+S202/100)*W202+(1+T202/100)*(1-W202))","v":{"$error":"#N/A"}},{"$f":"IF(S202<>T202,VLOOKUP(A202,krzywa!L:M,2,1))","v":{"$error":"#N/A"}},{"$f":"IF(V202<>FALSE,IF(L202=\"BASE\",(V202-A202+1)*24+J202,IF(L202=\"OFFPEAK\",NETWORKDAYS(A202,V202,koszyki!$M$20:$M$898)*9+(N202)*24+J202,IF(L202=\"L-PEAK5\",NETWORKDAYS(A202,V202,koszyki!$M$20:$M$898)*10,IF(L202=\"H-PEAK5\",NETWORKDAYS(A202,V202,koszyki!$M$20:$M$898)*5,NETWORKDAYS(A202,V202,koszyki!$M$20:$M$898)*15))))/C202,1)","v":{"$error":"#N/A"}}]
[null,null,0,{"$f":"'Kalkulator Depozytów'!M208","v":0},{"$f":"'Kalkulator Depozytów'!N208","v":0},{"$f":"'Kalkulator Depozytów'!O208","v":0},{"$f":"'Kalkulator Depozytów'!P208","v":0},{"$f":"'Kalkulator Depozytów'!Q208","v":0},{"$f":"ROUND(IF(OR(AND(K203>0,L203=\"L-PEAK5\"),AND(K203>0,L203=\"H-PEAK5\")),R203,IF(AND(K203>0,L203=\"PEAK5\"),O203,IF(K203>0,IF(OR(L203=\"BASE\"),AVERAGE(INDIRECT(\"krzywa!B\"&MATCH(A203-$A$2,krzywa!A:A,0)&\":B\"&MATCH(B203-$A$2,krzywa!A:A,0),TRUE)),IF(OR(L203=\"OFFPEAK\"),AVERAGE(INDIRECT(\"krzywa!F\"&MATCH(A203-$A$2,krzywa!A:A,0)&\":F\"&MATCH(B203-$A$2,krzywa!A:A,0)))))))),4)","v":0},null,0,null,{"$f":"NETWORKDAYS(A203,B203,koszyki!$M$20:$M$898)","v":0},{"$f":"B203-A203+1- NETWORKDAYS(A203,B203,koszyki!$M$20:$M$898)","v":1},{"$f":"ROUND(IF((B203-A203+1)>2,IF(C203=75,AVERAGE(INDIRECT(\"krzywa!C\"&MATCH(K203-6,krzywa!A:A,0)&\":C\"&MATCH(K203-2,krzywa!A:A,0))),AVERAGE(INDIRECT(\"krzywa!C\"&MATCH(A203-$A$2+BQ203,krzywa!A:A,0)&\":C\"&MATCH(B203-$A$2-AY203,krzywa!A:A,0)))),INDIRECT(\"krzywa!C\"&MATCH(K203,krzywa!A:A,0))),4)","v":{"$error":"#N/A"}},{"$error":"#N/A"},{"$f":"-C203*ABS(D203-F203)*H203*I203*U203+'kompensacja międzyproduktowa'!X203*U203","v":{"$error":"#N/A"}},{"$f":"ROUND(IF((B203-A203+1)>2,IF(C203=75,AVERAGE(INDIRECT(\"krzywa!D\"&MATCH(K203-6,krzywa!A:A,0)&\":D\"&MATCH(K203-2,krzywa!A:A,0))),AVERAGE(INDIRECT(\"krzywa!D\"&MATCH(A203-$A$2+BQ203,krzywa!A:A,0)&\":D\"&MATCH(B203-$A$2-AY203,krzywa!A:A,0)))),INDIRECT(\"krzywa!D\"&MATCH(K203,krzywa!A:A,0))),4)","v":{"$error":"#N/A"}},{"$f":"VLOOKUP(A203,krzywa!L:N,3,1)","v":{"$error":"#N/A"}},{"$f":"VLOOKUP(B203,krzywa!L:N,3,1)","v":{"$error":"#N/A"}},{"$f":"IF('Kalkulator Depozytów'!$B$35=TRUE,1,(1+S203/100)*W203+(1+T203/100)*(1-W203))","v":{"$error":"#N/A"}},{"$f":"IF(S203<>T203,VLOOKUP(A203,krzywa!L:M,2,1))","v":{"$error":"#N/A"}},{"$f":"IF(V203<>FALSE,IF(L203=\"BASE\",(V203-A203+1)*24+J203,IF(L203=\"OFFPEAK\",NETWORKDAYS(A203,V203,koszyki!$M$20:$M$898)*9+(N203)*24+J203,IF(L203=\"L-PEAK5\",NETWORKDAYS(A203,V203,koszyki!$M$20:$M$898)*10,IF(L203=\"H-PEAK5\",NETWORKDAYS(A203,V203,koszyki!$M$20:$M$898)*5,NETWORKDAYS(A203,V203,koszyki!$M$20:$M$898)*15))))/C203,1)","v":{"$error":"#N/A"}}]
[null,null,0,{"$f":"'Kalkulator Depozytów'!M209","v":0},{"$f":"'Kalkulator Depozytów'!N209","v":0},{"$f":"'Kalkulator Depozytów'!O209","v":0},{"$f":"'Kalkulator Depozytów'!P209","v":0},{"$f":"'Kalkulator Depozytów'!Q209","v":0},{"$f":"ROUND(IF(OR(AND(K204>0,L204=\"L-PEAK5\"),AND(K204>0,L204=\"H-PEAK5\")),R204,IF(AND(K204>0,L204=\"PEAK5\"),O204,IF(K204>0,IF(OR(L204=\"BASE\"),AVERAGE(INDIRECT(\"krzywa!B\"&MATCH(A204-$A$2,krzywa!A:A,0)&\":B\"&MATCH(B204-$A$2,krzywa!A:A,0),TRUE)),IF(OR(L204=\"OFFPEAK\"),AVERAGE(INDIRECT(\"krzywa!F\"&MATCH(A204-$A$2,krzywa!A:A,0)&\":F\"&MATCH(B204-$A$2,krzywa!A:A,0)))))))),4)","v":0},null,0,null,{"$f":"NETWORKDAYS(A204,B204,koszyki!$M$20:$M$898)","v":0},{"$f":"B204-A204+1- NETWORKDAYS(A204,B204,koszyki!$M$20:$M$898)","v":1},{"$f":"ROUND(IF((B204-A204+1)>2,IF(C204=75,AVERAGE(INDIRECT(\"krzywa!C\"&MATCH(K204-6,krzywa!A:A,0)&\":C\"&MATCH(K204-2,krzywa!A:A,0))),AVERAGE(INDIRECT(\"krzywa!C\"&MATCH(A204-$A$2+BQ204,krzywa!A:A,0)&\":C\"&MATCH(B204-$A$2-AY204,krzywa!A:A,0)))),INDIRECT(\"krzywa!C\"&MATCH(K204,krzywa!A:A,0))),4)","v":{"$error":"#N/A"}},{"$error":"#N/A"},{"$f":"-C204*ABS(D204-F204)*H204*I204*U204+'kompensacja międzyproduktowa'!X204*U204","v":{"$error":"#N/A"}},{"$f":"ROUND(IF((B204-A204+1)>2,IF(C204=75,AVERAGE(INDIRECT(\"krzywa!D\"&MATCH(K204-6,krzywa!A:A,0)&\":D\"&MATCH(K204-2,krzywa!A:A,0))),AVERAGE(INDIRECT(\"krzywa!D\"&MATCH(A204-$A$2+BQ204,krzywa!A:A,0)&\":D\"&MATCH(B204-$A$2-AY204,krzywa!A:A,0)))),INDIRECT(\"krzywa!D\"&MATCH(K204,krzywa!A:A,0))),4)","v":{"$error":"#N/A"}},{"$f":"VLOOKUP(A204,krzywa!L:N,3,1)","v":{"$error":"#N/A"}},{"$f":"VLOOKUP(B204,krzywa!L:N,3,1)","v":{"$error":"#N/A"}},{"$f":"IF('Kalkulator Depozytów'!$B$35=TRUE,1,(1+S204/100)*W204+(1+T204/100)*(1-W204))","v":{"$error":"#N/A"}},{"$f":"IF(S204<>T204,VLOOKUP(A204,krzywa!L:M,2,1))","v":{"$error":"#N/A"}},{"$f":"IF(V204<>FALSE,IF(L204=\"BASE\",(V204-A204+1)*24+J204,IF(L204=\"OFFPEAK\",NETWORKDAYS(A204,V204,koszyki!$M$20:$M$898)*9+(N204)*24+J204,IF(L204=\"L-PEAK5\",NETWORKDAYS(A204,V204,koszyki!$M$20:$M$898)*10,IF(L204=\"H-PEAK5\",NETWORKDAYS(A204,V204,koszyki!$M$20:$M$898)*5,NETWORKDAYS(A204,V204,koszyki!$M$20:$M$898)*15))))/C204,1)","v":{"$error":"#N/A"}}]
[null,null,0,{"$f":"'Kalkulator Depozytów'!M210","v":0},{"$f":"'Kalkulator Depozytów'!N210","v":0},{"$f":"'Kalkulator Depozytów'!O210","v":0},{"$f":"'Kalkulator Depozytów'!P210","v":0},{"$f":"'Kalkulator Depozytów'!Q210","v":0},{"$f":"ROUND(IF(OR(AND(K205>0,L205=\"L-PEAK5\"),AND(K205>0,L205=\"H-PEAK5\")),R205,IF(AND(K205>0,L205=\"PEAK5\"),O205,IF(K205>0,IF(OR(L205=\"BASE\"),AVERAGE(INDIRECT(\"krzywa!B\"&MATCH(A205-$A$2,krzywa!A:A,0)&\":B\"&MATCH(B205-$A$2,krzywa!A:A,0),TRUE)),IF(OR(L205=\"OFFPEAK\"),AVERAGE(INDIRECT(\"krzywa!F\"&MATCH(A205-$A$2,krzywa!A:A,0)&\":F\"&MATCH(B205-$A$2,krzywa!A:A,0)))))))),4)","v":0},null,0,null,{"$f":"NETWORKDAYS(A205,B205,koszyki!$M$20:$M$898)","v":0},{"$f":"B205-A205+1- NETWORKDAYS(A205,B205,koszyki!$M$20:$M$898)","v":1},{"$f":"ROUND(IF((B205-A205+1)>2,IF(C205=75,AVERAGE(INDIRECT(\"krzywa!C\"&MATCH(K205-6,krzywa!A:A,0)&\":C\"&MATCH(K205-2,krzywa!A:A,0))),AVERAGE(INDIRECT(\"krzywa!C\"&MATCH(A205-$A$2+BQ205,krzywa!A:A,0)&\":C\"&MATCH(B205-$A$2-AY205,krzywa!A:A,0)))),INDIRECT(\"krzywa!C\"&MATCH(K205,krzywa!A:A,0))),4)","v":{"$error":"#N/A"}},{"$error":"#N/A"},{"$f":"-C205*ABS(D205-F205)*H205*I205*U205+'kompensacja międzyproduktowa'!X205*U205","v":{"$error":"#N/A"}},{"$f":"ROUND(IF((B205-A205+1)>2,IF(C205=75,AVERAGE(INDIRECT(\"krzywa!D\"&MATCH(K205-6,krzywa!A:A,0)&\":D\"&MATCH(K205-2,krzywa!A:A,0))),AVERAGE(INDIRECT(\"krzywa!D\"&MATCH(A205-$A$2+BQ205,krzywa!A:A,0)&\":D\"&MATCH(B205-$A$2-AY205,krzywa!A:A,0)))),INDIRECT(\"krzywa!D\"&MATCH(K205,krzywa!A:A,0))),4)","v":{"$error":"#N/A"}},{"$f":"VLOOKUP(A205,krzywa!L:N,3,1)","v":{"$error":"#N/A"}},{"$f":"VLOOKUP(B205,krzywa!L:N,3,1)","v":{"$error":"#N/A"}},{"$f":"IF('Kalkulator Depozytów'!$B$35=TRUE,1,(1+S205/100)*W205+(1+T205/100)*(1-W205))","v":{"$error":"#N/A"}},{"$f":"IF(S205<>T205,VLOOKUP(A205,krzywa!L:M,2,1))","v":{"$error":"#N/A"}},{"$f":"IF(V205<>FALSE,IF(L205=\"BASE\",(V205-A205+1)*24+J205,IF(L205=\"OFFPEAK\",NETWORKDAYS(A205,V205,koszyki!$M$20:$M$898)*9+(N205)*24+J205,IF(L205=\"L-PEAK5\",NETWORKDAYS(A205,V205,koszyki!$M$20:$M$898)*10,IF(L205=\"H-PEAK5\",NETWORKDAYS(A205,V205,koszyki!$M$20:$M$898)*5,NETWORKDAYS(A205,V205,koszyki!$M$20:$M$898)*15))))/C205,1)","v":{"$error":"#N/A"}}]
[null,null,0,{"$f":"'Kalkulator Depozytów'!M211","v":0},{"$f":"'Kalkulator Depozytów'!N211","v":0},{"$f":"'Kalkulator Depozytów'!O211","v":0},{"$f":"'Kalkulator Depozytów'!P211","v":0},{"$f":"'Kalkulator Depozytów'!Q211","v":0},{"$f":"ROUND(IF(OR(AND(K206>0,L206=\"L-PEAK5\"),AND(K206>0,L206=\"H-PEAK5\")),R206,IF(AND(K206>0,L206=\"PEAK5\"),O206,IF(K206>0,IF(OR(L206=\"BASE\"),AVERAGE(INDIRECT(\"krzywa!B\"&MATCH(A206-$A$2,krzywa!A:A,0)&\":B\"&MATCH(B206-$A$2,krzywa!A:A,0),TRUE)),IF(OR(L206=\"OFFPEAK\"),AVERAGE(INDIRECT(\"krzywa!F\"&MATCH(A206-$A$2,krzywa!A:A,0)&\":F\"&MATCH(B206-$A$2,krzywa!A:A,0)))))))),4)","v":0},null,0,null,{"$f":"NETWORKDAYS(A206,B206,koszyki!$M$20:$M$898)","v":0},{"$f":"B206-A206+1- NETWORKDAYS(A206,B206,koszyki!$M$20:$M$898)","v":1},{"$f":"ROUND(IF((B206-A206+1)>2,IF(C206=75,AVERAGE(INDIRECT(\"krzywa!C\"&MATCH(K206-6,krzywa!A:A,0)&\":C\"&MATCH(K206-2,krzywa!A:A,0))),AVERAGE(INDIRECT(\"krzywa!C\"&MATCH(A206-$A$2+BQ206,krzywa!A:A,0)&\":C\"&MATCH(B206-$A$2-AY206,krzywa!A:A,0)))),INDIRECT(\"krzywa!C\"&MATCH(K206,krzywa!A:A,0))),4)","v":{"$error":"#N/A"}},{"$error":"#N/A"},{"$f":"-C206*ABS(D206-F206)*H206*I206*U206+'kompensacja międzyproduktowa'!X206*U206","v":{"$error":"#N/A"}},{"$f":"ROUND(IF((B206-A206+1)>2,IF(C206=75,AVERAGE(INDIRECT(\"krzywa!D\"&MATCH(K206-6,krzywa!A:A,0)&\":D\"&MATCH(K206-2,krzywa!A:A,0))),AVERAGE(INDIRECT(\"krzywa!D\"&MATCH(A206-$A$2+BQ206,krzywa!A:A,0)&\":D\"&MATCH(B206-$A$2-AY206,krzywa!A:A,0)))),INDIRECT(\"krzywa!D\"&MATCH(K206,krzywa!A:A,0))),4)","v":{"$error":"#N/A"}},{"$f":"VLOOKUP(A206,krzywa!L:N,3,1)","v":{"$error":"#N/A"}},{"$f":"VLOOKUP(B206,krzywa!L:N,3,1)","v":{"$error":"#N/A"}},{"$f":"IF('Kalkulator Depozytów'!$B$35=TRUE,1,(1+S206/100)*W206+(1+T206/100)*(1-W206))","v":{"$error":"#N/A"}},{"$f":"IF(S206<>T206,VLOOKUP(A206,krzywa!L:M,2,1))","v":{"$error":"#N/A"}},{"$f":"IF(V206<>FALSE,IF(L206=\"BASE\",(V206-A206+1)*24+J206,IF(L206=\"OFFPEAK\",NETWORKDAYS(A206,V206,koszyki!$M$20:$M$898)*9+(N206)*24+J206,IF(L206=\"L-PEAK5\",NETWORKDAYS(A206,V206,koszyki!$M$20:$M$898)*10,IF(L206=\"H-PEAK5\",NETWORKDAYS(A206,V206,koszyki!$M$20:$M$898)*5,NETWORKDAYS(A206,V206,koszyki!$M$20:$M$898)*15))))/C206,1)","v":{"$error":"#N/A"}}]
[null,null,0,{"$f":"'Kalkulator Depozytów'!M212","v":0},{"$f":"'Kalkulator Depozytów'!N212","v":0},{"$f":"'Kalkulator Depozytów'!O212","v":0},{"$f":"'Kalkulator Depozytów'!P212","v":0},{"$f":"'Kalkulator Depozytów'!Q212","v":0},{"$f":"ROUND(IF(OR(AND(K207>0,L207=\"L-PEAK5\"),AND(K207>0,L207=\"H-PEAK5\")),R207,IF(AND(K207>0,L207=\"PEAK5\"),O207,IF(K207>0,IF(OR(L207=\"BASE\"),AVERAGE(INDIRECT(\"krzywa!B\"&MATCH(A207-$A$2,krzywa!A:A,0)&\":B\"&MATCH(B207-$A$2,krzywa!A:A,0),TRUE)),IF(OR(L207=\"OFFPEAK\"),AVERAGE(INDIRECT(\"krzywa!F\"&MATCH(A207-$A$2,krzywa!A:A,0)&\":F\"&MATCH(B207-$A$2,krzywa!A:A,0)))))))),4)","v":0},null,0,null,{"$f":"NETWORKDAYS(A207,B207,koszyki!$M$20:$M$898)","v":0},{"$f":"B207-A207+1- NETWORKDAYS(A207,B207,koszyki!$M$20:$M$898)","v":1},{"$f":"ROUND(IF((B207-A207+1)>2,IF(C207=75,AVERAGE(INDIRECT(\"krzywa!C\"&MATCH(K207-6,krzywa!A:A,0)&\":C\"&MATCH(K207-2,krzywa!A:A,0))),AVERAGE(INDIRECT(\"krzywa!C\"&MATCH(A207-$A$2+BQ207,krzywa!A:A,0)&\":C\"&MATCH(B207-$A$2-AY207,krzywa!A:A,0)))),INDIRECT(\"krzywa!C\"&MATCH(K207,krzywa!A:A,0))),4)","v":{"$error":"#N/A"}},{"$error":"#N/A"},{"$f":"-C207*ABS(D207-F207)*H207*I207*U207+'kompensacja międzyproduktowa'!X207*U207","v":{"$error":"#N/A"}},{"$f":"ROUND(IF((B207-A207+1)>2,IF(C207=75,AVERAGE(INDIRECT(\"krzywa!D\"&MATCH(K207-6,krzywa!A:A,0)&\":D\"&MATCH(K207-2,krzywa!A:A,0))),AVERAGE(INDIRECT(\"krzywa!D\"&MATCH(A207-$A$2+BQ207,krzywa!A:A,0)&\":D\"&MATCH(B207-$A$2-AY207,krzywa!A:A,0)))),INDIRECT(\"krzywa!D\"&MATCH(K207,krzywa!A:A,0))),4)","v":{"$error":"#N/A"}},{"$f":"VLOOKUP(A207,krzywa!L:N,3,1)","v":{"$error":"#N/A"}},{"$f":"VLOOKUP(B207,krzywa!L:N,3,1)","v":{"$error":"#N/A"}},{"$f":"IF('Kalkulator Depozytów'!$B$35=TRUE,1,(1+S207/100)*W207+(1+T207/100)*(1-W207))","v":{"$error":"#N/A"}},{"$f":"IF(S207<>T207,VLOOKUP(A207,krzywa!L:M,2,1))","v":{"$error":"#N/A"}},{"$f":"IF(V207<>FALSE,IF(L207=\"BASE\",(V207-A207+1)*24+J207,IF(L207=\"OFFPEAK\",NETWORKDAYS(A207,V207,koszyki!$M$20:$M$898)*9+(N207)*24+J207,IF(L207=\"L-PEAK5\",NETWORKDAYS(A207,V207,koszyki!$M$20:$M$898)*10,IF(L207=\"H-PEAK5\",NETWORKDAYS(A207,V207,koszyki!$M$20:$M$898)*5,NETWORKDAYS(A207,V207,koszyki!$M$20:$M$898)*15))))/C207,1)","v":{"$error":"#N/A"}}]
[null,null,0,{"$f":"'Kalkulator Depozytów'!M213","v":0},{"$f":"'Kalkulator Depozytów'!N213","v":0},{"$f":"'Kalkulator Depozytów'!O213","v":0},{"$f":"'Kalkulator Depozytów'!P213","v":0},{"$f":"'Kalkulator Depozytów'!Q213","v":0},{"$f":"ROUND(IF(OR(AND(K208>0,L208=\"L-PEAK5\"),AND(K208>0,L208=\"H-PEAK5\")),R208,IF(AND(K208>0,L208=\"PEAK5\"),O208,IF(K208>0,IF(OR(L208=\"BASE\"),AVERAGE(INDIRECT(\"krzywa!B\"&MATCH(A208-$A$2,krzywa!A:A,0)&\":B\"&MATCH(B208-$A$2,krzywa!A:A,0),TRUE)),IF(OR(L208=\"OFFPEAK\"),AVERAGE(INDIRECT(\"krzywa!F\"&MATCH(A208-$A$2,krzywa!A:A,0)&\":F\"&MATCH(B208-$A$2,krzywa!A:A,0)))))))),4)","v":0},null,0,null,{"$f":"NETWORKDAYS(A208,B208,koszyki!$M$20:$M$898)","v":0},{"$f":"B208-A208+1- NETWORKDAYS(A208,B208,koszyki!$M$20:$M$898)","v":1},{"$f":"ROUND(IF((B208-A208+1)>2,IF(C208=75,AVERAGE(INDIRECT(\"krzywa!C\"&MATCH(K208-6,krzywa!A:A,0)&\":C\"&MATCH(K208-2,krzywa!A:A,0))),AVERAGE(INDIRECT(\"krzywa!C\"&MATCH(A208-$A$2+BQ208,krzywa!A:A,0)&\":C\"&MATCH(B208-$A$2-AY208,krzywa!A:A,0)))),INDIRECT(\"krzywa!C\"&MATCH(K208,krzywa!A:A,0))),4)","v":{"$error":"#N/A"}},{"$error":"#N/A"},{"$f":"-C208*ABS(D208-F208)*H208*I208*U208+'kompensacja międzyproduktowa'!X208*U208","v":{"$error":"#N/A"}},{"$f":"ROUND(IF((B208-A208+1)>2,IF(C208=75,AVERAGE(INDIRECT(\"krzywa!D\"&MATCH(K208-6,krzywa!A:A,0)&\":D\"&MATCH(K208-2,krzywa!A:A,0))),AVERAGE(INDIRECT(\"krzywa!D\"&MATCH(A208-$A$2+BQ208,krzywa!A:A,0)&\":D\"&MATCH(B208-$A$2-AY208,krzywa!A:A,0)))),INDIRECT(\"krzywa!D\"&MATCH(K208,krzywa!A:A,0))),4)","v":{"$error":"#N/A"}},{"$f":"VLOOKUP(A208,krzywa!L:N,3,1)","v":{"$error":"#N/A"}},{"$f":"VLOOKUP(B208,krzywa!L:N,3,1)","v":{"$error":"#N/A"}},{"$f":"IF('Kalkulator Depozytów'!$B$35=TRUE,1,(1+S208/100)*W208+(1+T208/100)*(1-W208))","v":{"$error":"#N/A"}},{"$f":"IF(S208<>T208,VLOOKUP(A208,krzywa!L:M,2,1))","v":{"$error":"#N/A"}},{"$f":"IF(V208<>FALSE,IF(L208=\"BASE\",(V208-A208+1)*24+J208,IF(L208=\"OFFPEAK\",NETWORKDAYS(A208,V208,koszyki!$M$20:$M$898)*9+(N208)*24+J208,IF(L208=\"L-PEAK5\",NETWORKDAYS(A208,V208,koszyki!$M$20:$M$898)*10,IF(L208=\"H-PEAK5\",NETWORKDAYS(A208,V208,koszyki!$M$20:$M$898)*5,NETWORKDAYS(A208,V208,koszyki!$M$20:$M$898)*15))))/C208,1)","v":{"$error":"#N/A"}}]
[null,null,0,{"$f":"'Kalkulator Depozytów'!M214","v":0},{"$f":"'Kalkulator Depozytów'!N214","v":0},{"$f":"'Kalkulator Depozytów'!O214","v":0},{"$f":"'Kalkulator Depozytów'!P214","v":0},{"$f":"'Kalkulator Depozytów'!Q214","v":0},{"$f":"ROUND(IF(OR(AND(K209>0,L209=\"L-PEAK5\"),AND(K209>0,L209=\"H-PEAK5\")),R209,IF(AND(K209>0,L209=\"PEAK5\"),O209,IF(K209>0,IF(OR(L209=\"BASE\"),AVERAGE(INDIRECT(\"krzywa!B\"&MATCH(A209-$A$2,krzywa!A:A,0)&\":B\"&MATCH(B209-$A$2,krzywa!A:A,0),TRUE)),IF(OR(L209=\"OFFPEAK\"),AVERAGE(INDIRECT(\"krzywa!F\"&MATCH(A209-$A$2,krzywa!A:A,0)&\":F\"&MATCH(B209-$A$2,krzywa!A:A,0)))))))),4)","v":0},null,0,null,{"$f":"NETWORKDAYS(A209,B209,koszyki!$M$20:$M$898)","v":0},{"$f":"B209-A209+1- NETWORKDAYS(A209,B209,koszyki!$M$20:$M$898)","v":1},{"$f":"ROUND(IF((B209-A209+1)>2,IF(C209=75,AVERAGE(INDIRECT(\"krzywa!C\"&MATCH(K209-6,krzywa!A:A,0)&\":C\"&MATCH(K209-2,krzywa!A:A,0))),AVERAGE(INDIRECT(\"krzywa!C\"&MATCH(A209-$A$2+BQ209,krzywa!A:A,0)&\":C\"&MATCH(B209-$A$2-AY209,krzywa!A:A,0)))),INDIRECT(\"krzywa!C\"&MATCH(K209,krzywa!A:A,0))),4)","v":{"$error":"#N/A"}},{"$error":"#N/A"},{"$f":"-C209*ABS(D209-F209)*H209*I209*U209+'kompensacja międzyproduktowa'!X209*U209","v":{"$error":"#N/A"}},{"$f":"ROUND(IF((B209-A209+1)>2,IF(C209=75,AVERAGE(INDIRECT(\"krzywa!D\"&MATCH(K209-6,krzywa!A:A,0)&\":D\"&MATCH(K209-2,krzywa!A:A,0))),AVERAGE(INDIRECT(\"krzywa!D\"&MATCH(A209-$A$2+BQ209,krzywa!A:A,0)&\":D\"&MATCH(B209-$A$2-AY209,krzywa!A:A,0)))),INDIRECT(\"krzywa!D\"&MATCH(K209,krzywa!A:A,0))),4)","v":{"$error":"#N/A"}},{"$f":"VLOOKUP(A209,krzywa!L:N,3,1)","v":{"$error":"#N/A"}},{"$f":"VLOOKUP(B209,krzywa!L:N,3,1)","v":{"$error":"#N/A"}},{"$f":"IF('Kalkulator Depozytów'!$B$35=TRUE,1,(1+S209/100)*W209+(1+T209/100)*(1-W209))","v":{"$error":"#N/A"}},{"$f":"IF(S209<>T209,VLOOKUP(A209,krzywa!L:M,2,1))","v":{"$error":"#N/A"}},{"$f":"IF(V209<>FALSE,IF(L209=\"BASE\",(V209-A209+1)*24+J209,IF(L209=\"OFFPEAK\",NETWORKDAYS(A209,V209,koszyki!$M$20:$M$898)*9+(N209)*24+J209,IF(L209=\"L-PEAK5\",NETWORKDAYS(A209,V209,koszyki!$M$20:$M$898)*10,IF(L209=\"H-PEAK5\",NETWORKDAYS(A209,V209,koszyki!$M$20:$M$898)*5,NETWORKDAYS(A209,V209,koszyki!$M$20:$M$898)*15))))/C209,1)","v":{"$error":"#N/A"}}]
[null,null,0,{"$f":"'Kalkulator Depozytów'!M215","v":0},{"$f":"'Kalkulator Depozytów'!N215","v":0},{"$f":"'Kalkulator Depozytów'!O215","v":0},{"$f":"'Kalkulator Depozytów'!P215","v":0},{"$f":"'Kalkulator Depozytów'!Q215","v":0},{"$f":"ROUND(IF(OR(AND(K210>0,L210=\"L-PEAK5\"),AND(K210>0,L210=\"H-PEAK5\")),R210,IF(AND(K210>0,L210=\"PEAK5\"),O210,IF(K210>0,IF(OR(L210=\"BASE\"),AVERAGE(INDIRECT(\"krzywa!B\"&MATCH(A210-$A$2,krzywa!A:A,0)&\":B\"&MATCH(B210-$A$2,krzywa!A:A,0),TRUE)),IF(OR(L210=\"OFFPEAK\"),AVERAGE(INDIRECT(\"krzywa!F\"&MATCH(A210-$A$2,krzywa!A:A,0)&\":F\"&MATCH(B210-$A$2,krzywa!A:A,0)))))))),4)","v":0},null,0,null,{"$f":"NETWORKDAYS(A210,B210,koszyki!$M$20:$M$898)","v":0},{"$f":"B210-A210+1- NETWORKDAYS(A210,B210,koszyki!$M$20:$M$898)","v":1},{"$f":"ROUND(IF((B210-A210+1)>2,IF(C210=75,AVERAGE(INDIRECT(\"krzywa!C\"&MATCH(K210-6,krzywa!A:A,0)&\":C\"&MATCH(K210-2,krzywa!A:A,0))),AVERAGE(INDIRECT(\"krzywa!C\"&MATCH(A210-$A$2+BQ210,krzywa!A:A,0)&\":C\"&MATCH(B210-$A$2-AY210,krzywa!A:A,0)))),INDIRECT(\"krzywa!C\"&MATCH(K210,krzywa!A:A,0))),4)","v":{"$error":"#N/A"}},{"$error":"#N/A"},{"$f":"-C210*ABS(D210-F210)*H210*I210*U210+'kompensacja międzyproduktowa'!X210*U210","v":{"$error":"#N/A"}},{"$f":"ROUND(IF((B210-A210+1)>2,IF(C210=75,AVERAGE(INDIRECT(\"krzywa!D\"&MATCH(K210-6,krzywa!A:A,0)&\":D\"&MATCH(K210-2,krzywa!A:A,0))),AVERAGE(INDIRECT(\"krzywa!D\"&MATCH(A210-$A$2+BQ210,krzywa!A:A,0)&\":D\"&MATCH(B210-$A$2-AY210,krzywa!A:A,0)))),INDIRECT(\"krzywa!D\"&MATCH(K210,krzywa!A:A,0))),4)","v":{"$error":"#N/A"}},{"$f":"VLOOKUP(A210,krzywa!L:N,3,1)","v":{"$error":"#N/A"}},{"$f":"VLOOKUP(B210,krzywa!L:N,3,1)","v":{"$error":"#N/A"}},{"$f":"IF('Kalkulator Depozytów'!$B$35=TRUE,1,(1+S210/100)*W210+(1+T210/100)*(1-W210))","v":{"$error":"#N/A"}},{"$f":"IF(S210<>T210,VLOOKUP(A210,krzywa!L:M,2,1))","v":{"$error":"#N/A"}},{"$f":"IF(V210<>FALSE,IF(L210=\"BASE\",(V210-A210+1)*24+J210,IF(L210=\"OFFPEAK\",NETWORKDAYS(A210,V210,koszyki!$M$20:$M$898)*9+(N210)*24+J210,IF(L210=\"L-PEAK5\",NETWORKDAYS(A210,V210,koszyki!$M$20:$M$898)*10,IF(L210=\"H-PEAK5\",NETWORKDAYS(A210,V210,koszyki!$M$20:$M$898)*5,NETWORKDAYS(A210,V210,koszyki!$M$20:$M$898)*15))))/C210,1)","v":{"$error":"#N/A"}}]
[null,null,0,{"$f":"'Kalkulator Depozytów'!M216","v":0},{"$f":"'Kalkulator Depozytów'!N216","v":0},{"$f":"'Kalkulator Depozytów'!O216","v":0},{"$f":"'Kalkulator Depozytów'!P216","v":0},{"$f":"'Kalkulator Depozytów'!Q216","v":0},{"$f":"ROUND(IF(OR(AND(K211>0,L211=\"L-PEAK5\"),AND(K211>0,L211=\"H-PEAK5\")),R211,IF(AND(K211>0,L211=\"PEAK5\"),O211,IF(K211>0,IF(OR(L211=\"BASE\"),AVERAGE(INDIRECT(\"krzywa!B\"&MATCH(A211-$A$2,krzywa!A:A,0)&\":B\"&MATCH(B211-$A$2,krzywa!A:A,0),TRUE)),IF(OR(L211=\"OFFPEAK\"),AVERAGE(INDIRECT(\"krzywa!F\"&MATCH(A211-$A$2,krzywa!A:A,0)&\":F\"&MATCH(B211-$A$2,krzywa!A:A,0)))))))),4)","v":0},null,0,null,{"$f":"NETWORKDAYS(A211,B211,koszyki!$M$20:$M$898)","v":0},{"$f":"B211-A211+1- NETWORKDAYS(A211,B211,koszyki!$M$20:$M$898)","v":1},{"$f":"ROUND(IF((B211-A211+1)>2,IF(C211=75,AVERAGE(INDIRECT(\"krzywa!C\"&MATCH(K211-6,krzywa!A:A,0)&\":C\"&MATCH(K211-2,krzywa!A:A,0))),AVERAGE(INDIRECT(\"krzywa!C\"&MATCH(A211-$A$2+BQ211,krzywa!A:A,0)&\":C\"&MATCH(B211-$A$2-AY211,krzywa!A:A,0)))),INDIRECT(\"krzywa!C\"&MATCH(K211,krzywa!A:A,0))),4)","v":{"$error":"#N/A"}},{"$error":"#N/A"},{"$f":"-C211*ABS(D211-F211)*H211*I211*U211+'kompensacja międzyproduktowa'!X211*U211","v":{"$error":"#N/A"}},{"$f":"ROUND(IF((B211-A211+1)>2,IF(C211=75,AVERAGE(INDIRECT(\"krzywa!D\"&MATCH(K211-6,krzywa!A:A,0)&\":D\"&MATCH(K211-2,krzywa!A:A,0))),AVERAGE(INDIRECT(\"krzywa!D\"&MATCH(A211-$A$2+BQ211,krzywa!A:A,0)&\":D\"&MATCH(B211-$A$2-AY211,krzywa!A:A,0)))),INDIRECT(\"krzywa!D\"&MATCH(K211,krzywa!A:A,0))),4)","v":{"$error":"#N/A"}},{"$f":"VLOOKUP(A211,krzywa!L:N,3,1)","v":{"$error":"#N/A"}},{"$f":"VLOOKUP(B211,krzywa!L:N,3,1)","v":{"$error":"#N/A"}},{"$f":"IF('Kalkulator Depozytów'!$B$35=TRUE,1,(1+S211/100)*W211+(1+T211/100)*(1-W211))","v":{"$error":"#N/A"}},{"$f":"IF(S211<>T211,VLOOKUP(A211,krzywa!L:M,2,1))","v":{"$error":"#N/A"}},{"$f":"IF(V211<>FALSE,IF(L211=\"BASE\",(V211-A211+1)*24+J211,IF(L211=\"OFFPEAK\",NETWORKDAYS(A211,V211,koszyki!$M$20:$M$898)*9+(N211)*24+J211,IF(L211=\"L-PEAK5\",NETWORKDAYS(A211,V211,koszyki!$M$20:$M$898)*10,IF(L211=\"H-PEAK5\",NETWORKDAYS(A211,V211,koszyki!$M$20:$M$898)*5,NETWORKDAYS(A211,V211,koszyki!$M$20:$M$898)*15))))/C211,1)","v":{"$error":"#N/A"}}]
[null,null,0,{"$f":"'Kalkulator Depozytów'!M217","v":0},{"$f":"'Kalkulator Depozytów'!N217","v":0},{"$f":"'Kalkulator Depozytów'!O217","v":0},{"$f":"'Kalkulator Depozytów'!P217","v":0},{"$f":"'Kalkulator Depozytów'!Q217","v":0},{"$f":"ROUND(IF(OR(AND(K212>0,L212=\"L-PEAK5\"),AND(K212>0,L212=\"H-PEAK5\")),R212,IF(AND(K212>0,L212=\"PEAK5\"),O212,IF(K212>0,IF(OR(L212=\"BASE\"),AVERAGE(INDIRECT(\"krzywa!B\"&MATCH(A212-$A$2,krzywa!A:A,0)&\":B\"&MATCH(B212-$A$2,krzywa!A:A,0),TRUE)),IF(OR(L212=\"OFFPEAK\"),AVERAGE(INDIRECT(\"krzywa!F\"&MATCH(A212-$A$2,krzywa!A:A,0)&\":F\"&MATCH(B212-$A$2,krzywa!A:A,0)))))))),4)","v":0},null,0,null,{"$f":"NETWORKDAYS(A212,B212,koszyki!$M$20:$M$898)","v":0},{"$f":"B212-A212+1- NETWORKDAYS(A212,B212,koszyki!$M$20:$M$898)","v":1},{"$f":"ROUND(IF((B212-A212+1)>2,IF(C212=75,AVERAGE(INDIRECT(\"krzywa!C\"&MATCH(K212-6,krzywa!A:A,0)&\":C\"&MATCH(K212-2,krzywa!A:A,0))),AVERAGE(INDIRECT(\"krzywa!C\"&MATCH(A212-$A$2+BQ212,krzywa!A:A,0)&\":C\"&MATCH(B212-$A$2-AY212,krzywa!A:A,0)))),INDIRECT(\"krzywa!C\"&MATCH(K212,krzywa!A:A,0))),4)","v":{"$error":"#N/A"}},{"$error":"#N/A"},{"$f":"-C212*ABS(D212-F212)*H212*I212*U212+'kompensacja międzyproduktowa'!X212*U212","v":{"$error":"#N/A"}},{"$f":"ROUND(IF((B212-A212+1)>2,IF(C212=75,AVERAGE(INDIRECT(\"krzywa!D\"&MATCH(K212-6,krzywa!A:A,0)&\":D\"&MATCH(K212-2,krzywa!A:A,0))),AVERAGE(INDIRECT(\"krzywa!D\"&MATCH(A212-$A$2+BQ212,krzywa!A:A,0)&\":D\"&MATCH(B212-$A$2-AY212,krzywa!A:A,0)))),INDIRECT(\"krzywa!D\"&MATCH(K212,krzywa!A:A,0))),4)","v":{"$error":"#N/A"}},{"$f":"VLOOKUP(A212,krzywa!L:N,3,1)","v":{"$error":"#N/A"}},{"$f":"VLOOKUP(B212,krzywa!L:N,3,1)","v":{"$error":"#N/A"}},{"$f":"IF('Kalkulator Depozytów'!$B$35=TRUE,1,(1+S212/100)*W212+(1+T212/100)*(1-W212))","v":{"$error":"#N/A"}},{"$f":"IF(S212<>T212,VLOOKUP(A212,krzywa!L:M,2,1))","v":{"$error":"#N/A"}},{"$f":"IF(V212<>FALSE,IF(L212=\"BASE\",(V212-A212+1)*24+J212,IF(L212=\"OFFPEAK\",NETWORKDAYS(A212,V212,koszyki!$M$20:$M$898)*9+(N212)*24+J212,IF(L212=\"L-PEAK5\",NETWORKDAYS(A212,V212,koszyki!$M$20:$M$898)*10,IF(L212=\"H-PEAK5\",NETWORKDAYS(A212,V212,koszyki!$M$20:$M$898)*5,NETWORKDAYS(A212,V212,koszyki!$M$20:$M$898)*15))))/C212,1)","v":{"$error":"#N/A"}}]
[null,null,0,{"$f":"'Kalkulator Depozytów'!M218","v":0},{"$f":"'Kalkulator Depozytów'!N218","v":0},{"$f":"'Kalkulator Depozytów'!O218","v":0},{"$f":"'Kalkulator Depozytów'!P218","v":0},{"$f":"'Kalkulator Depozytów'!Q218","v":0},{"$f":"ROUND(IF(OR(AND(K213>0,L213=\"L-PEAK5\"),AND(K213>0,L213=\"H-PEAK5\")),R213,IF(AND(K213>0,L213=\"PEAK5\"),O213,IF(K213>0,IF(OR(L213=\"BASE\"),AVERAGE(INDIRECT(\"krzywa!B\"&MATCH(A213-$A$2,krzywa!A:A,0)&\":B\"&MATCH(B213-$A$2,krzywa!A:A,0),TRUE)),IF(OR(L213=\"OFFPEAK\"),AVERAGE(INDIRECT(\"krzywa!F\"&MATCH(A213-$A$2,krzywa!A:A,0)&\":F\"&MATCH(B213-$A$2,krzywa!A:A,0)))))))),4)","v":0},null,0,null,{"$f":"NETWORKDAYS(A213,B213,koszyki!$M$20:$M$898)","v":0},{"$f":"B213-A213+1- NETWORKDAYS(A213,B213,koszyki!$M$20:$M$898)","v":1},{"$f":"ROUND(IF((B213-A213+1)>2,IF(C213=75,AVERAGE(INDIRECT(\"krzywa!C\"&MATCH(K213-6,krzywa!A:A,0)&\":C\"&MATCH(K213-2,krzywa!A:A,0))),AVERAGE(INDIRECT(\"krzywa!C\"&MATCH(A213-$A$2+BQ213,krzywa!A:A,0)&\":C\"&MATCH(B213-$A$2-AY213,krzywa!A:A,0)))),INDIRECT(\"krzywa!C\"&MATCH(K213,krzywa!A:A,0))),4)","v":{"$error":"#N/A"}},{"$error":"#N/A"},{"$f":"-C213*ABS(D213-F213)*H213*I213*U213+'kompensacja międzyproduktowa'!X213*U213","v":{"$error":"#N/A"}},{"$f":"ROUND(IF((B213-A213+1)>2,IF(C213=75,AVERAGE(INDIRECT(\"krzywa!D\"&MATCH(K213-6,krzywa!A:A,0)&\":D\"&MATCH(K213-2,krzywa!A:A,0))),AVERAGE(INDIRECT(\"krzywa!D\"&MATCH(A213-$A$2+BQ213,krzywa!A:A,0)&\":D\"&MATCH(B213-$A$2-AY213,krzywa!A:A,0)))),INDIRECT(\"krzywa!D\"&MATCH(K213,krzywa!A:A,0))),4)","v":{"$error":"#N/A"}},{"$f":"VLOOKUP(A213,krzywa!L:N,3,1)","v":{"$error":"#N/A"}},{"$f":"VLOOKUP(B213,krzywa!L:N,3,1)","v":{"$error":"#N/A"}},{"$f":"IF('Kalkulator Depozytów'!$B$35=TRUE,1,(1+S213/100)*W213+(1+T213/100)*(1-W213))","v":{"$error":"#N/A"}},{"$f":"IF(S213<>T213,VLOOKUP(A213,krzywa!L:M,2,1))","v":{"$error":"#N/A"}},{"$f":"IF(V213<>FALSE,IF(L213=\"BASE\",(V213-A213+1)*24+J213,IF(L213=\"OFFPEAK\",NETWORKDAYS(A213,V213,koszyki!$M$20:$M$898)*9+(N213)*24+J213,IF(L213=\"L-PEAK5\",NETWORKDAYS(A213,V213,koszyki!$M$20:$M$898)*10,IF(L213=\"H-PEAK5\",NETWORKDAYS(A213,V213,koszyki!$M$20:$M$898)*5,NETWORKDAYS(A213,V213,koszyki!$M$20:$M$898)*15))))/C213,1)","v":{"$error":"#N/A"}}]
[null,null,0,{"$f":"'Kalkulator Depozytów'!M219","v":0},{"$f":"'Kalkulator Depozytów'!N219","v":0},{"$f":"'Kalkulator Depozytów'!O219","v":0},{"$f":"'Kalkulator Depozytów'!P219","v":0},{"$f":"'Kalkulator Depozytów'!Q219","v":0},{"$f":"ROUND(IF(OR(AND(K214>0,L214=\"L-PEAK5\"),AND(K214>0,L214=\"H-PEAK5\")),R214,IF(AND(K214>0,L214=\"PEAK5\"),O214,IF(K214>0,IF(OR(L214=\"BASE\"),AVERAGE(INDIRECT(\"krzywa!B\"&MATCH(A214-$A$2,krzywa!A:A,0)&\":B\"&MATCH(B214-$A$2,krzywa!A:A,0),TRUE)),IF(OR(L214=\"OFFPEAK\"),AVERAGE(INDIRECT(\"krzywa!F\"&MATCH(A214-$A$2,krzywa!A:A,0)&\":F\"&MATCH(B214-$A$2,krzywa!A:A,0)))))))),4)","v":0},null,0,null,{"$f":"NETWORKDAYS(A214,B214,koszyki!$M$20:$M$898)","v":0},{"$f":"B214-A214+1- NETWORKDAYS(A214,B214,koszyki!$M$20:$M$898)","v":1},{"$f":"ROUND(IF((B214-A214+1)>2,IF(C214=75,AVERAGE(INDIRECT(\"krzywa!C\"&MATCH(K214-6,krzywa!A:A,0)&\":C\"&MATCH(K214-2,krzywa!A:A,0))),AVERAGE(INDIRECT(\"krzywa!C\"&MATCH(A214-$A$2+BQ214,krzywa!A:A,0)&\":C\"&MATCH(B214-$A$2-AY214,krzywa!A:A,0)))),INDIRECT(\"krzywa!C\"&MATCH(K214,krzywa!A:A,0))),4)","v":{"$error":"#N/A"}},{"$error":"#N/A"},{"$f":"-C214*ABS(D214-F214)*H214*I214*U214+'kompensacja międzyproduktowa'!X214*U214","v":{"$error":"#N/A"}},{"$f":"ROUND(IF((B214-A214+1)>2,IF(C214=75,AVERAGE(INDIRECT(\"krzywa!D\"&MATCH(K214-6,krzywa!A:A,0)&\":D\"&MATCH(K214-2,krzywa!A:A,0))),AVERAGE(INDIRECT(\"krzywa!D\"&MATCH(A214-$A$2+BQ214,krzywa!A:A,0)&\":D\"&MATCH(B214-$A$2-AY214,krzywa!A:A,0)))),INDIRECT(\"krzywa!D\"&MATCH(K214,krzywa!A:A,0))),4)","v":{"$error":"#N/A"}},{"$f":"VLOOKUP(A214,krzywa!L:N,3,1)","v":{"$error":"#N/A"}},{"$f":"VLOOKUP(B214,krzywa!L:N,3,1)","v":{"$error":"#N/A"}},{"$f":"IF('Kalkulator Depozytów'!$B$35=TRUE,1,(1+S214/100)*W214+(1+T214/100)*(1-W214))","v":{"$error":"#N/A"}},{"$f":"IF(S214<>T214,VLOOKUP(A214,krzywa!L:M,2,1))","v":{"$error":"#N/A"}},{"$f":"IF(V214<>FALSE,IF(L214=\"BASE\",(V214-A214+1)*24+J214,IF(L214=\"OFFPEAK\",NETWORKDAYS(A214,V214,koszyki!$M$20:$M$898)*9+(N214)*24+J214,IF(L214=\"L-PEAK5\",NETWORKDAYS(A214,V214,koszyki!$M$20:$M$898)*10,IF(L214=\"H-PEAK5\",NETWORKDAYS(A214,V214,koszyki!$M$20:$M$898)*5,NETWORKDAYS(A214,V214,koszyki!$M$20:$M$898)*15))))/C214,1)","v":{"$error":"#N/A"}}]
[null,null,0,{"$f":"'Kalkulator Depozytów'!M220","v":0},{"$f":"'Kalkulator Depozytów'!N220","v":0},{"$f":"'Kalkulator Depozytów'!O220","v":0},{"$f":"'Kalkulator Depozytów'!P220","v":0},{"$f":"'Kalkulator Depozytów'!Q220","v":0},{"$f":"ROUND(IF(OR(AND(K215>0,L215=\"L-PEAK5\"),AND(K215>0,L215=\"H-PEAK5\")),R215,IF(AND(K215>0,L215=\"PEAK5\"),O215,IF(K215>0,IF(OR(L215=\"BASE\"),AVERAGE(INDIRECT(\"krzywa!B\"&MATCH(A215-$A$2,krzywa!A:A,0)&\":B\"&MATCH(B215-$A$2,krzywa!A:A,0),TRUE)),IF(OR(L215=\"OFFPEAK\"),AVERAGE(INDIRECT(\"krzywa!F\"&MATCH(A215-$A$2,krzywa!A:A,0)&\":F\"&MATCH(B215-$A$2,krzywa!A:A,0)))))))),4)","v":0},null,0,null,{"$f":"NETWORKDAYS(A215,B215,koszyki!$M$20:$M$898)","v":0},{"$f":"B215-A215+1- NETWORKDAYS(A215,B215,koszyki!$M$20:$M$898)","v":1},{"$f":"ROUND(IF((B215-A215+1)>2,IF(C215=75,AVERAGE(INDIRECT(\"krzywa!C\"&MATCH(K215-6,krzywa!A:A,0)&\":C\"&MATCH(K215-2,krzywa!A:A,0))),AVERAGE(INDIRECT(\"krzywa!C\"&MATCH(A215-$A$2+BQ215,krzywa!A:A,0)&\":C\"&MATCH(B215-$A$2-AY215,krzywa!A:A,0)))),INDIRECT(\"krzywa!C\"&MATCH(K215,krzywa!A:A,0))),4)","v":{"$error":"#N/A"}},{"$error":"#N/A"},{"$f":"-C215*ABS(D215-F215)*H215*I215*U215+'kompensacja międzyproduktowa'!X215*U215","v":{"$error":"#N/A"}},{"$f":"ROUND(IF((B215-A215+1)>2,IF(C215=75,AVERAGE(INDIRECT(\"krzywa!D\"&MATCH(K215-6,krzywa!A:A,0)&\":D\"&MATCH(K215-2,krzywa!A:A,0))),AVERAGE(INDIRECT(\"krzywa!D\"&MATCH(A215-$A$2+BQ215,krzywa!A:A,0)&\":D\"&MATCH(B215-$A$2-AY215,krzywa!A:A,0)))),INDIRECT(\"krzywa!D\"&MATCH(K215,krzywa!A:A,0))),4)","v":{"$error":"#N/A"}},{"$f":"VLOOKUP(A215,krzywa!L:N,3,1)","v":{"$error":"#N/A"}},{"$f":"VLOOKUP(B215,krzywa!L:N,3,1)","v":{"$error":"#N/A"}},{"$f":"IF('Kalkulator Depozytów'!$B$35=TRUE,1,(1+S215/100)*W215+(1+T215/100)*(1-W215))","v":{"$error":"#N/A"}},{"$f":"IF(S215<>T215,VLOOKUP(A215,krzywa!L:M,2,1))","v":{"$error":"#N/A"}},{"$f":"IF(V215<>FALSE,IF(L215=\"BASE\",(V215-A215+1)*24+J215,IF(L215=\"OFFPEAK\",NETWORKDAYS(A215,V215,koszyki!$M$20:$M$898)*9+(N215)*24+J215,IF(L215=\"L-PEAK5\",NETWORKDAYS(A215,V215,koszyki!$M$20:$M$898)*10,IF(L215=\"H-PEAK5\",NETWORKDAYS(A215,V215,koszyki!$M$20:$M$898)*5,NETWORKDAYS(A215,V215,koszyki!$M$20:$M$898)*15))))/C215,1)","v":{"$error":"#N/A"}}]
[null,null,0,{"$f":"'Kalkulator Depozytów'!M221","v":0},{"$f":"'Kalkulator Depozytów'!N221","v":0},{"$f":"'Kalkulator Depozytów'!O221","v":0},{"$f":"'Kalkulator Depozytów'!P221","v":0},{"$f":"'Kalkulator Depozytów'!Q221","v":0},{"$f":"ROUND(IF(OR(AND(K216>0,L216=\"L-PEAK5\"),AND(K216>0,L216=\"H-PEAK5\")),R216,IF(AND(K216>0,L216=\"PEAK5\"),O216,IF(K216>0,IF(OR(L216=\"BASE\"),AVERAGE(INDIRECT(\"krzywa!B\"&MATCH(A216-$A$2,krzywa!A:A,0)&\":B\"&MATCH(B216-$A$2,krzywa!A:A,0),TRUE)),IF(OR(L216=\"OFFPEAK\"),AVERAGE(INDIRECT(\"krzywa!F\"&MATCH(A216-$A$2,krzywa!A:A,0)&\":F\"&MATCH(B216-$A$2,krzywa!A:A,0)))))))),4)","v":0},null,0,null,{"$f":"NETWORKDAYS(A216,B216,koszyki!$M$20:$M$898)","v":0},{"$f":"B216-A216+1- NETWORKDAYS(A216,B216,koszyki!$M$20:$M$898)","v":1},{"$f":"ROUND(IF((B216-A216+1)>2,IF(C216=75,AVERAGE(INDIRECT(\"krzywa!C\"&MATCH(K216-6,krzywa!A:A,0)&\":C\"&MATCH(K216-2,krzywa!A:A,0))),AVERAGE(INDIRECT(\"krzywa!C\"&MATCH(A216-$A$2+BQ216,krzywa!A:A,0)&\":C\"&MATCH(B216-$A$2-AY216,krzywa!A:A,0)))),INDIRECT(\"krzywa!C\"&MATCH(K216,krzywa!A:A,0))),4)","v":{"$error":"#N/A"}},{"$error":"#N/A"},{"$f":"-C216*ABS(D216-F216)*H216*I216*U216+'kompensacja międzyproduktowa'!X216*U216","v":{"$error":"#N/A"}},{"$f":"ROUND(IF((B216-A216+1)>2,IF(C216=75,AVERAGE(INDIRECT(\"krzywa!D\"&MATCH(K216-6,krzywa!A:A,0)&\":D\"&MATCH(K216-2,krzywa!A:A,0))),AVERAGE(INDIRECT(\"krzywa!D\"&MATCH(A216-$A$2+BQ216,krzywa!A:A,0)&\":D\"&MATCH(B216-$A$2-AY216,krzywa!A:A,0)))),INDIRECT(\"krzywa!D\"&MATCH(K216,krzywa!A:A,0))),4)","v":{"$error":"#N/A"}},{"$f":"VLOOKUP(A216,krzywa!L:N,3,1)","v":{"$error":"#N/A"}},{"$f":"VLOOKUP(B216,krzywa!L:N,3,1)","v":{"$error":"#N/A"}},{"$f":"IF('Kalkulator Depozytów'!$B$35=TRUE,1,(1+S216/100)*W216+(1+T216/100)*(1-W216))","v":{"$error":"#N/A"}},{"$f":"IF(S216<>T216,VLOOKUP(A216,krzywa!L:M,2,1))","v":{"$error":"#N/A"}},{"$f":"IF(V216<>FALSE,IF(L216=\"BASE\",(V216-A216+1)*24+J216,IF(L216=\"OFFPEAK\",NETWORKDAYS(A216,V216,koszyki!$M$20:$M$898)*9+(N216)*24+J216,IF(L216=\"L-PEAK5\",NETWORKDAYS(A216,V216,koszyki!$M$20:$M$898)*10,IF(L216=\"H-PEAK5\",NETWORKDAYS(A216,V216,koszyki!$M$20:$M$898)*5,NETWORKDAYS(A216,V216,koszyki!$M$20:$M$898)*15))))/C216,1)","v":{"$error":"#N/A"}}]
[null,null,0,{"$f":"'Kalkulator Depozytów'!M222","v":0},{"$f":"'Kalkulator Depozytów'!N222","v":0},{"$f":"'Kalkulator Depozytów'!O222","v":0},{"$f":"'Kalkulator Depozytów'!P222","v":0},{"$f":"'Kalkulator Depozytów'!Q222","v":0},{"$f":"ROUND(IF(OR(AND(K217>0,L217=\"L-PEAK5\"),AND(K217>0,L217=\"H-PEAK5\")),R217,IF(AND(K217>0,L217=\"PEAK5\"),O217,IF(K217>0,IF(OR(L217=\"BASE\"),AVERAGE(INDIRECT(\"krzywa!B\"&MATCH(A217-$A$2,krzywa!A:A,0)&\":B\"&MATCH(B217-$A$2,krzywa!A:A,0),TRUE)),IF(OR(L217=\"OFFPEAK\"),AVERAGE(INDIRECT(\"krzywa!F\"&MATCH(A217-$A$2,krzywa!A:A,0)&\":F\"&MATCH(B217-$A$2,krzywa!A:A,0)))))))),4)","v":0},null,0,null,{"$f":"NETWORKDAYS(A217,B217,koszyki!$M$20:$M$898)","v":0},{"$f":"B217-A217+1- NETWORKDAYS(A217,B217,koszyki!$M$20:$M$898)","v":1},{"$f":"ROUND(IF((B217-A217+1)>2,IF(C217=75,AVERAGE(INDIRECT(\"krzywa!C\"&MATCH(K217-6,krzywa!A:A,0)&\":C\"&MATCH(K217-2,krzywa!A:A,0))),AVERAGE(INDIRECT(\"krzywa!C\"&MATCH(A217-$A$2+BQ217,krzywa!A:A,0)&\":C\"&MATCH(B217-$A$2-AY217,krzywa!A:A,0)))),INDIRECT(\"krzywa!C\"&MATCH(K217,krzywa!A:A,0))),4)","v":{"$error":"#N/A"}},{"$error":"#N/A"},{"$f":"-C217*ABS(D217-F217)*H217*I217*U217+'kompensacja międzyproduktowa'!X217*U217","v":{"$error":"#N/A"}},{"$f":"ROUND(IF((B217-A217+1)>2,IF(C217=75,AVERAGE(INDIRECT(\"krzywa!D\"&MATCH(K217-6,krzywa!A:A,0)&\":D\"&MATCH(K217-2,krzywa!A:A,0))),AVERAGE(INDIRECT(\"krzywa!D\"&MATCH(A217-$A$2+BQ217,krzywa!A:A,0)&\":D\"&MATCH(B217-$A$2-AY217,krzywa!A:A,0)))),INDIRECT(\"krzywa!D\"&MATCH(K217,krzywa!A:A,0))),4)","v":{"$error":"#N/A"}},{"$f":"VLOOKUP(A217,krzywa!L:N,3,1)","v":{"$error":"#N/A"}},{"$f":"VLOOKUP(B217,krzywa!L:N,3,1)","v":{"$error":"#N/A"}},{"$f":"IF('Kalkulator Depozytów'!$B$35=TRUE,1,(1+S217/100)*W217+(1+T217/100)*(1-W217))","v":{"$error":"#N/A"}},{"$f":"IF(S217<>T217,VLOOKUP(A217,krzywa!L:M,2,1))","v":{"$error":"#N/A"}},{"$f":"IF(V217<>FALSE,IF(L217=\"BASE\",(V217-A217+1)*24+J217,IF(L217=\"OFFPEAK\",NETWORKDAYS(A217,V217,koszyki!$M$20:$M$898)*9+(N217)*24+J217,IF(L217=\"L-PEAK5\",NETWORKDAYS(A217,V217,koszyki!$M$20:$M$898)*10,IF(L217=\"H-PEAK5\",NETWORKDAYS(A217,V217,koszyki!$M$20:$M$898)*5,NETWORKDAYS(A217,V217,koszyki!$M$20:$M$898)*15))))/C217,1)","v":{"$error":"#N/A"}}]
[null,null,0,{"$f":"'Kalkulator Depozytów'!M223","v":0},{"$f":"'Kalkulator Depozytów'!N223","v":0},{"$f":"'Kalkulator Depozytów'!O223","v":0},{"$f":"'Kalkulator Depozytów'!P223","v":0},{"$f":"'Kalkulator Depozytów'!Q223","v":0},{"$f":"ROUND(IF(OR(AND(K218>0,L218=\"L-PEAK5\"),AND(K218>0,L218=\"H-PEAK5\")),R218,IF(AND(K218>0,L218=\"PEAK5\"),O218,IF(K218>0,IF(OR(L218=\"BASE\"),AVERAGE(INDIRECT(\"krzywa!B\"&MATCH(A218-$A$2,krzywa!A:A,0)&\":B\"&MATCH(B218-$A$2,krzywa!A:A,0),TRUE)),IF(OR(L218=\"OFFPEAK\"),AVERAGE(INDIRECT(\"krzywa!F\"&MATCH(A218-$A$2,krzywa!A:A,0)&\":F\"&MATCH(B218-$A$2,krzywa!A:A,0)))))))),4)","v":0},null,0,null,{"$f":"NETWORKDAYS(A218,B218,koszyki!$M$20:$M$898)","v":0},{"$f":"B218-A218+1- NETWORKDAYS(A218,B218,koszyki!$M$20:$M$898)","v":1},{"$f":"ROUND(IF((B218-A218+1)>2,IF(C218=75,AVERAGE(INDIRECT(\"krzywa!C\"&MATCH(K218-6,krzywa!A:A,0)&\":C\"&MATCH(K218-2,krzywa!A:A,0))),AVERAGE(INDIRECT(\"krzywa!C\"&MATCH(A218-$A$2+BQ218,krzywa!A:A,0)&\":C\"&MATCH(B218-$A$2-AY218,krzywa!A:A,0)))),INDIRECT(\"krzywa!C\"&MATCH(K218,krzywa!A:A,0))),4)","v":{"$error":"#N/A"}},{"$error":"#N/A"},{"$f":"-C218*ABS(D218-F218)*H218*I218*U218+'kompensacja międzyproduktowa'!X218*U218","v":{"$error":"#N/A"}},{"$f":"ROUND(IF((B218-A218+1)>2,IF(C218=75,AVERAGE(INDIRECT(\"krzywa!D\"&MATCH(K218-6,krzywa!A:A,0)&\":D\"&MATCH(K218-2,krzywa!A:A,0))),AVERAGE(INDIRECT(\"krzywa!D\"&MATCH(A218-$A$2+BQ218,krzywa!A:A,0)&\":D\"&MATCH(B218-$A$2-AY218,krzywa!A:A,0)))),INDIRECT(\"krzywa!D\"&MATCH(K218,krzywa!A:A,0))),4)","v":{"$error":"#N/A"}},{"$f":"VLOOKUP(A218,krzywa!L:N,3,1)","v":{"$error":"#N/A"}},{"$f":"VLOOKUP(B218,krzywa!L:N,3,1)","v":{"$error":"#N/A"}},{"$f":"IF('Kalkulator Depozytów'!$B$35=TRUE,1,(1+S218/100)*W218+(1+T218/100)*(1-W218))","v":{"$error":"#N/A"}},{"$f":"IF(S218<>T218,VLOOKUP(A218,krzywa!L:M,2,1))","v":{"$error":"#N/A"}},{"$f":"IF(V218<>FALSE,IF(L218=\"BASE\",(V218-A218+1)*24+J218,IF(L218=\"OFFPEAK\",NETWORKDAYS(A218,V218,koszyki!$M$20:$M$898)*9+(N218)*24+J218,IF(L218=\"L-PEAK5\",NETWORKDAYS(A218,V218,koszyki!$M$20:$M$898)*10,IF(L218=\"H-PEAK5\",NETWORKDAYS(A218,V218,koszyki!$M$20:$M$898)*5,NETWORKDAYS(A218,V218,koszyki!$M$20:$M$898)*15))))/C218,1)","v":{"$error":"#N/A"}}]
[null,null,0,{"$f":"'Kalkulator Depozytów'!M224","v":0},{"$f":"'Kalkulator Depozytów'!N224","v":0},{"$f":"'Kalkulator Depozytów'!O224","v":0},{"$f":"'Kalkulator Depozytów'!P224","v":0},{"$f":"'Kalkulator Depozytów'!Q224","v":0},{"$f":"ROUND(IF(OR(AND(K219>0,L219=\"L-PEAK5\"),AND(K219>0,L219=\"H-PEAK5\")),R219,IF(AND(K219>0,L219=\"PEAK5\"),O219,IF(K219>0,IF(OR(L219=\"BASE\"),AVERAGE(INDIRECT(\"krzywa!B\"&MATCH(A219-$A$2,krzywa!A:A,0)&\":B\"&MATCH(B219-$A$2,krzywa!A:A,0),TRUE)),IF(OR(L219=\"OFFPEAK\"),AVERAGE(INDIRECT(\"krzywa!F\"&MATCH(A219-$A$2,krzywa!A:A,0)&\":F\"&MATCH(B219-$A$2,krzywa!A:A,0)))))))),4)","v":0},null,0,null,{"$f":"NETWORKDAYS(A219,B219,koszyki!$M$20:$M$898)","v":0},{"$f":"B219-A219+1- NETWORKDAYS(A219,B219,koszyki!$M$20:$M$898)","v":1},{"$f":"ROUND(IF((B219-A219+1)>2,IF(C219=75,AVERAGE(INDIRECT(\"krzywa!C\"&MATCH(K219-6,krzywa!A:A,0)&\":C\"&MATCH(K219-2,krzywa!A:A,0))),AVERAGE(INDIRECT(\"krzywa!C\"&MATCH(A219-$A$2+BQ219,krzywa!A:A,0)&\":C\"&MATCH(B219-$A$2-AY219,krzywa!A:A,0)))),INDIRECT(\"krzywa!C\"&MATCH(K219,krzywa!A:A,0))),4)","v":{"$error":"#N/A"}},{"$error":"#N/A"},{"$f":"-C219*ABS(D219-F219)*H219*I219*U219+'kompensacja międzyproduktowa'!X219*U219","v":{"$error":"#N/A"}},{"$f":"ROUND(IF((B219-A219+1)>2,IF(C219=75,AVERAGE(INDIRECT(\"krzywa!D\"&MATCH(K219-6,krzywa!A:A,0)&\":D\"&MATCH(K219-2,krzywa!A:A,0))),AVERAGE(INDIRECT(\"krzywa!D\"&MATCH(A219-$A$2+BQ219,krzywa!A:A,0)&\":D\"&MATCH(B219-$A$2-AY219,krzywa!A:A,0)))),INDIRECT(\"krzywa!D\"&MATCH(K219,krzywa!A:A,0))),4)","v":{"$error":"#N/A"}},{"$f":"VLOOKUP(A219,krzywa!L:N,3,1)","v":{"$error":"#N/A"}},{"$f":"VLOOKUP(B219,krzywa!L:N,3,1)","v":{"$error":"#N/A"}},{"$f":"IF('Kalkulator Depozytów'!$B$35=TRUE,1,(1+S219/100)*W219+(1+T219/100)*(1-W219))","v":{"$error":"#N/A"}},{"$f":"IF(S219<>T219,VLOOKUP(A219,krzywa!L:M,2,1))","v":{"$error":"#N/A"}},{"$f":"IF(V219<>FALSE,IF(L219=\"BASE\",(V219-A219+1)*24+J219,IF(L219=\"OFFPEAK\",NETWORKDAYS(A219,V219,koszyki!$M$20:$M$898)*9+(N219)*24+J219,IF(L219=\"L-PEAK5\",NETWORKDAYS(A219,V219,koszyki!$M$20:$M$898)*10,IF(L219=\"H-PEAK5\",NETWORKDAYS(A219,V219,koszyki!$M$20:$M$898)*5,NETWORKDAYS(A219,V219,koszyki!$M$20:$M$898)*15))))/C219,1)","v":{"$error":"#N/A"}}]
[null,null,0,{"$f":"'Kalkulator Depozytów'!M225","v":0},{"$f":"'Kalkulator Depozytów'!N225","v":0},{"$f":"'Kalkulator Depozytów'!O225","v":0},{"$f":"'Kalkulator Depozytów'!P225","v":0},{"$f":"'Kalkulator Depozytów'!Q225","v":0},{"$f":"ROUND(IF(OR(AND(K220>0,L220=\"L-PEAK5\"),AND(K220>0,L220=\"H-PEAK5\")),R220,IF(AND(K220>0,L220=\"PEAK5\"),O220,IF(K220>0,IF(OR(L220=\"BASE\"),AVERAGE(INDIRECT(\"krzywa!B\"&MATCH(A220-$A$2,krzywa!A:A,0)&\":B\"&MATCH(B220-$A$2,krzywa!A:A,0),TRUE)),IF(OR(L220=\"OFFPEAK\"),AVERAGE(INDIRECT(\"krzywa!F\"&MATCH(A220-$A$2,krzywa!A:A,0)&\":F\"&MATCH(B220-$A$2,krzywa!A:A,0)))))))),4)","v":0},null,0,null,{"$f":"NETWORKDAYS(A220,B220,koszyki!$M$20:$M$898)","v":0},{"$f":"B220-A220+1- NETWORKDAYS(A220,B220,koszyki!$M$20:$M$898)","v":1},{"$f":"ROUND(IF((B220-A220+1)>2,IF(C220=75,AVERAGE(INDIRECT(\"krzywa!C\"&MATCH(K220-6,krzywa!A:A,0)&\":C\"&MATCH(K220-2,krzywa!A:A,0))),AVERAGE(INDIRECT(\"krzywa!C\"&MATCH(A220-$A$2+BQ220,krzywa!A:A,0)&\":C\"&MATCH(B220-$A$2-AY220,krzywa!A:A,0)))),INDIRECT(\"krzywa!C\"&MATCH(K220,krzywa!A:A,0))),4)","v":{"$error":"#N/A"}},{"$error":"#N/A"},{"$f":"-C220*ABS(D220-F220)*H220*I220*U220+'kompensacja międzyproduktowa'!X220*U220","v":{"$error":"#N/A"}},{"$f":"ROUND(IF((B220-A220+1)>2,IF(C220=75,AVERAGE(INDIRECT(\"krzywa!D\"&MATCH(K220-6,krzywa!A:A,0)&\":D\"&MATCH(K220-2,krzywa!A:A,0))),AVERAGE(INDIRECT(\"krzywa!D\"&MATCH(A220-$A$2+BQ220,krzywa!A:A,0)&\":D\"&MATCH(B220-$A$2-AY220,krzywa!A:A,0)))),INDIRECT(\"krzywa!D\"&MATCH(K220,krzywa!A:A,0))),4)","v":{"$error":"#N/A"}},{"$f":"VLOOKUP(A220,krzywa!L:N,3,1)","v":{"$error":"#N/A"}},{"$f":"VLOOKUP(B220,krzywa!L:N,3,1)","v":{"$error":"#N/A"}},{"$f":"IF('Kalkulator Depozytów'!$B$35=TRUE,1,(1+S220/100)*W220+(1+T220/100)*(1-W220))","v":{"$error":"#N/A"}},{"$f":"IF(S220<>T220,VLOOKUP(A220,krzywa!L:M,2,1))","v":{"$error":"#N/A"}},{"$f":"IF(V220<>FALSE,IF(L220=\"BASE\",(V220-A220+1)*24+J220,IF(L220=\"OFFPEAK\",NETWORKDAYS(A220,V220,koszyki!$M$20:$M$898)*9+(N220)*24+J220,IF(L220=\"L-PEAK5\",NETWORKDAYS(A220,V220,koszyki!$M$20:$M$898)*10,IF(L220=\"H-PEAK5\",NETWORKDAYS(A220,V220,koszyki!$M$20:$M$898)*5,NETWORKDAYS(A220,V220,koszyki!$M$20:$M$898)*15))))/C220,1)","v":{"$error":"#N/A"}}]
[null,null,0,{"$f":"'Kalkulator Depozytów'!M226","v":0},{"$f":"'Kalkulator Depozytów'!N226","v":0},{"$f":"'Kalkulator Depozytów'!O226","v":0},{"$f":"'Kalkulator Depozytów'!P226","v":0},{"$f":"'Kalkulator Depozytów'!Q226","v":0},{"$f":"ROUND(IF(OR(AND(K221>0,L221=\"L-PEAK5\"),AND(K221>0,L221=\"H-PEAK5\")),R221,IF(AND(K221>0,L221=\"PEAK5\"),O221,IF(K221>0,IF(OR(L221=\"BASE\"),AVERAGE(INDIRECT(\"krzywa!B\"&MATCH(A221-$A$2,krzywa!A:A,0)&\":B\"&MATCH(B221-$A$2,krzywa!A:A,0),TRUE)),IF(OR(L221=\"OFFPEAK\"),AVERAGE(INDIRECT(\"krzywa!F\"&MATCH(A221-$A$2,krzywa!A:A,0)&\":F\"&MATCH(B221-$A$2,krzywa!A:A,0)))))))),4)","v":0},null,0,null,{"$f":"NETWORKDAYS(A221,B221,koszyki!$M$20:$M$898)","v":0},{"$f":"B221-A221+1- NETWORKDAYS(A221,B221,koszyki!$M$20:$M$898)","v":1},{"$f":"ROUND(IF((B221-A221+1)>2,IF(C221=75,AVERAGE(INDIRECT(\"krzywa!C\"&MATCH(K221-6,krzywa!A:A,0)&\":C\"&MATCH(K221-2,krzywa!A:A,0))),AVERAGE(INDIRECT(\"krzywa!C\"&MATCH(A221-$A$2+BQ221,krzywa!A:A,0)&\":C\"&MATCH(B221-$A$2-AY221,krzywa!A:A,0)))),INDIRECT(\"krzywa!C\"&MATCH(K221,krzywa!A:A,0))),4)","v":{"$error":"#N/A"}},{"$error":"#N/A"},{"$f":"-C221*ABS(D221-F221)*H221*I221*U221+'kompensacja międzyproduktowa'!X221*U221","v":{"$error":"#N/A"}},{"$f":"ROUND(IF((B221-A221+1)>2,IF(C221=75,AVERAGE(INDIRECT(\"krzywa!D\"&MATCH(K221-6,krzywa!A:A,0)&\":D\"&MATCH(K221-2,krzywa!A:A,0))),AVERAGE(INDIRECT(\"krzywa!D\"&MATCH(A221-$A$2+BQ221,krzywa!A:A,0)&\":D\"&MATCH(B221-$A$2-AY221,krzywa!A:A,0)))),INDIRECT(\"krzywa!D\"&MATCH(K221,krzywa!A:A,0))),4)","v":{"$error":"#N/A"}},{"$f":"VLOOKUP(A221,krzywa!L:N,3,1)","v":{"$error":"#N/A"}},{"$f":"VLOOKUP(B221,krzywa!L:N,3,1)","v":{"$error":"#N/A"}},{"$f":"IF('Kalkulator Depozytów'!$B$35=TRUE,1,(1+S221/100)*W221+(1+T221/100)*(1-W221))","v":{"$error":"#N/A"}},{"$f":"IF(S221<>T221,VLOOKUP(A221,krzywa!L:M,2,1))","v":{"$error":"#N/A"}},{"$f":"IF(V221<>FALSE,IF(L221=\"BASE\",(V221-A221+1)*24+J221,IF(L221=\"OFFPEAK\",NETWORKDAYS(A221,V221,koszyki!$M$20:$M$898)*9+(N221)*24+J221,IF(L221=\"L-PEAK5\",NETWORKDAYS(A221,V221,koszyki!$M$20:$M$898)*10,IF(L221=\"H-PEAK5\",NETWORKDAYS(A221,V221,koszyki!$M$20:$M$898)*5,NETWORKDAYS(A221,V221,koszyki!$M$20:$M$898)*15))))/C221,1)","v":{"$error":"#N/A"}}]
[null,null,0,{"$f":"'Kalkulator Depozytów'!M227","v":0},{"$f":"'Kalkulator Depozytów'!N227","v":0},{"$f":"'Kalkulator Depozytów'!O227","v":0},{"$f":"'Kalkulator Depozytów'!P227","v":0},{"$f":"'Kalkulator Depozytów'!Q227","v":0},{"$f":"ROUND(IF(OR(AND(K222>0,L222=\"L-PEAK5\"),AND(K222>0,L222=\"H-PEAK5\")),R222,IF(AND(K222>0,L222=\"PEAK5\"),O222,IF(K222>0,IF(OR(L222=\"BASE\"),AVERAGE(INDIRECT(\"krzywa!B\"&MATCH(A222-$A$2,krzywa!A:A,0)&\":B\"&MATCH(B222-$A$2,krzywa!A:A,0),TRUE)),IF(OR(L222=\"OFFPEAK\"),AVERAGE(INDIRECT(\"krzywa!F\"&MATCH(A222-$A$2,krzywa!A:A,0)&\":F\"&MATCH(B222-$A$2,krzywa!A:A,0)))))))),4)","v":0},null,0,null,{"$f":"NETWORKDAYS(A222,B222,koszyki!$M$20:$M$898)","v":0},{"$f":"B222-A222+1- NETWORKDAYS(A222,B222,koszyki!$M$20:$M$898)","v":1},{"$f":"ROUND(IF((B222-A222+1)>2,IF(C222=75,AVERAGE(INDIRECT(\"krzywa!C\"&MATCH(K222-6,krzywa!A:A,0)&\":C\"&MATCH(K222-2,krzywa!A:A,0))),AVERAGE(INDIRECT(\"krzywa!C\"&MATCH(A222-$A$2+BQ222,krzywa!A:A,0)&\":C\"&MATCH(B222-$A$2-AY222,krzywa!A:A,0)))),INDIRECT(\"krzywa!C\"&MATCH(K222,krzywa!A:A,0))),4)","v":{"$error":"#N/A"}},{"$error":"#N/A"},{"$f":"-C222*ABS(D222-F222)*H222*I222*U222+'kompensacja międzyproduktowa'!X222*U222","v":{"$error":"#N/A"}},{"$f":"ROUND(IF((B222-A222+1)>2,IF(C222=75,AVERAGE(INDIRECT(\"krzywa!D\"&MATCH(K222-6,krzywa!A:A,0)&\":D\"&MATCH(K222-2,krzywa!A:A,0))),AVERAGE(INDIRECT(\"krzywa!D\"&MATCH(A222-$A$2+BQ222,krzywa!A:A,0)&\":D\"&MATCH(B222-$A$2-AY222,krzywa!A:A,0)))),INDIRECT(\"krzywa!D\"&MATCH(K222,krzywa!A:A,0))),4)","v":{"$error":"#N/A"}},{"$f":"VLOOKUP(A222,krzywa!L:N,3,1)","v":{"$error":"#N/A"}},{"$f":"VLOOKUP(B222,krzywa!L:N,3,1)","v":{"$error":"#N/A"}},{"$f":"IF('Kalkulator Depozytów'!$B$35=TRUE,1,(1+S222/100)*W222+(1+T222/100)*(1-W222))","v":{"$error":"#N/A"}},{"$f":"IF(S222<>T222,VLOOKUP(A222,krzywa!L:M,2,1))","v":{"$error":"#N/A"}},{"$f":"IF(V222<>FALSE,IF(L222=\"BASE\",(V222-A222+1)*24+J222,IF(L222=\"OFFPEAK\",NETWORKDAYS(A222,V222,koszyki!$M$20:$M$898)*9+(N222)*24+J222,IF(L222=\"L-PEAK5\",NETWORKDAYS(A222,V222,koszyki!$M$20:$M$898)*10,IF(L222=\"H-PEAK5\",NETWORKDAYS(A222,V222,koszyki!$M$20:$M$898)*5,NETWORKDAYS(A222,V222,koszyki!$M$20:$M$898)*15))))/C222,1)","v":{"$error":"#N/A"}}]
[null,null,0,{"$f":"'Kalkulator Depozytów'!M228","v":0},{"$f":"'Kalkulator Depozytów'!N228","v":0},{"$f":"'Kalkulator Depozytów'!O228","v":0},{"$f":"'Kalkulator Depozytów'!P228","v":0},{"$f":"'Kalkulator Depozytów'!Q228","v":0},{"$f":"ROUND(IF(OR(AND(K223>0,L223=\"L-PEAK5\"),AND(K223>0,L223=\"H-PEAK5\")),R223,IF(AND(K223>0,L223=\"PEAK5\"),O223,IF(K223>0,IF(OR(L223=\"BASE\"),AVERAGE(INDIRECT(\"krzywa!B\"&MATCH(A223-$A$2,krzywa!A:A,0)&\":B\"&MATCH(B223-$A$2,krzywa!A:A,0),TRUE)),IF(OR(L223=\"OFFPEAK\"),AVERAGE(INDIRECT(\"krzywa!F\"&MATCH(A223-$A$2,krzywa!A:A,0)&\":F\"&MATCH(B223-$A$2,krzywa!A:A,0)))))))),4)","v":0},null,0,null,{"$f":"NETWORKDAYS(A223,B223,koszyki!$M$20:$M$898)","v":0},{"$f":"B223-A223+1- NETWORKDAYS(A223,B223,koszyki!$M$20:$M$898)","v":1},{"$f":"ROUND(IF((B223-A223+1)>2,IF(C223=75,AVERAGE(INDIRECT(\"krzywa!C\"&MATCH(K223-6,krzywa!A:A,0)&\":C\"&MATCH(K223-2,krzywa!A:A,0))),AVERAGE(INDIRECT(\"krzywa!C\"&MATCH(A223-$A$2+BQ223,krzywa!A:A,0)&\":C\"&MATCH(B223-$A$2-AY223,krzywa!A:A,0)))),INDIRECT(\"krzywa!C\"&MATCH(K223,krzywa!A:A,0))),4)","v":{"$error":"#N/A"}},{"$error":"#N/A"},{"$f":"-C223*ABS(D223-F223)*H223*I223*U223+'kompensacja międzyproduktowa'!X223*U223","v":{"$error":"#N/A"}},{"$f":"ROUND(IF((B223-A223+1)>2,IF(C223=75,AVERAGE(INDIRECT(\"krzywa!D\"&MATCH(K223-6,krzywa!A:A,0)&\":D\"&MATCH(K223-2,krzywa!A:A,0))),AVERAGE(INDIRECT(\"krzywa!D\"&MATCH(A223-$A$2+BQ223,krzywa!A:A,0)&\":D\"&MATCH(B223-$A$2-AY223,krzywa!A:A,0)))),INDIRECT(\"krzywa!D\"&MATCH(K223,krzywa!A:A,0))),4)","v":{"$error":"#N/A"}},{"$f":"VLOOKUP(A223,krzywa!L:N,3,1)","v":{"$error":"#N/A"}},{"$f":"VLOOKUP(B223,krzywa!L:N,3,1)","v":{"$error":"#N/A"}},{"$f":"IF('Kalkulator Depozytów'!$B$35=TRUE,1,(1+S223/100)*W223+(1+T223/100)*(1-W223))","v":{"$error":"#N/A"}},{"$f":"IF(S223<>T223,VLOOKUP(A223,krzywa!L:M,2,1))","v":{"$error":"#N/A"}},{"$f":"IF(V223<>FALSE,IF(L223=\"BASE\",(V223-A223+1)*24+J223,IF(L223=\"OFFPEAK\",NETWORKDAYS(A223,V223,koszyki!$M$20:$M$898)*9+(N223)*24+J223,IF(L223=\"L-PEAK5\",NETWORKDAYS(A223,V223,koszyki!$M$20:$M$898)*10,IF(L223=\"H-PEAK5\",NETWORKDAYS(A223,V223,koszyki!$M$20:$M$898)*5,NETWORKDAYS(A223,V223,koszyki!$M$20:$M$898)*15))))/C223,1)","v":{"$error":"#N/A"}}]
[null,null,0,{"$f":"'Kalkulator Depozytów'!M229","v":0},{"$f":"'Kalkulator Depozytów'!N229","v":0},{"$f":"'Kalkulator Depozytów'!O229","v":0},{"$f":"'Kalkulator Depozytów'!P229","v":0},{"$f":"'Kalkulator Depozytów'!Q229","v":0},{"$f":"ROUND(IF(OR(AND(K224>0,L224=\"L-PEAK5\"),AND(K224>0,L224=\"H-PEAK5\")),R224,IF(AND(K224>0,L224=\"PEAK5\"),O224,IF(K224>0,IF(OR(L224=\"BASE\"),AVERAGE(INDIRECT(\"krzywa!B\"&MATCH(A224-$A$2,krzywa!A:A,0)&\":B\"&MATCH(B224-$A$2,krzywa!A:A,0),TRUE)),IF(OR(L224=\"OFFPEAK\"),AVERAGE(INDIRECT(\"krzywa!F\"&MATCH(A224-$A$2,krzywa!A:A,0)&\":F\"&MATCH(B224-$A$2,krzywa!A:A,0)))))))),4)","v":0},null,0,null,{"$f":"NETWORKDAYS(A224,B224,koszyki!$M$20:$M$898)","v":0},{"$f":"B224-A224+1- NETWORKDAYS(A224,B224,koszyki!$M$20:$M$898)","v":1},{"$f":"ROUND(IF((B224-A224+1)>2,IF(C224=75,AVERAGE(INDIRECT(\"krzywa!C\"&MATCH(K224-6,krzywa!A:A,0)&\":C\"&MATCH(K224-2,krzywa!A:A,0))),AVERAGE(INDIRECT(\"krzywa!C\"&MATCH(A224-$A$2+BQ224,krzywa!A:A,0)&\":C\"&MATCH(B224-$A$2-AY224,krzywa!A:A,0)))),INDIRECT(\"krzywa!C\"&MATCH(K224,krzywa!A:A,0))),4)","v":{"$error":"#N/A"}},{"$error":"#N/A"},{"$f":"-C224*ABS(D224-F224)*H224*I224*U224+'kompensacja międzyproduktowa'!X224*U224","v":{"$error":"#N/A"}},{"$f":"ROUND(IF((B224-A224+1)>2,IF(C224=75,AVERAGE(INDIRECT(\"krzywa!D\"&MATCH(K224-6,krzywa!A:A,0)&\":D\"&MATCH(K224-2,krzywa!A:A,0))),AVERAGE(INDIRECT(\"krzywa!D\"&MATCH(A224-$A$2+BQ224,krzywa!A:A,0)&\":D\"&MATCH(B224-$A$2-AY224,krzywa!A:A,0)))),INDIRECT(\"krzywa!D\"&MATCH(K224,krzywa!A:A,0))),4)","v":{"$error":"#N/A"}},{"$f":"VLOOKUP(A224,krzywa!L:N,3,1)","v":{"$error":"#N/A"}},{"$f":"VLOOKUP(B224,krzywa!L:N,3,1)","v":{"$error":"#N/A"}},{"$f":"IF('Kalkulator Depozytów'!$B$35=TRUE,1,(1+S224/100)*W224+(1+T224/100)*(1-W224))","v":{"$error":"#N/A"}},{"$f":"IF(S224<>T224,VLOOKUP(A224,krzywa!L:M,2,1))","v":{"$error":"#N/A"}},{"$f":"IF(V224<>FALSE,IF(L224=\"BASE\",(V224-A224+1)*24+J224,IF(L224=\"OFFPEAK\",NETWORKDAYS(A224,V224,koszyki!$M$20:$M$898)*9+(N224)*24+J224,IF(L224=\"L-PEAK5\",NETWORKDAYS(A224,V224,koszyki!$M$20:$M$898)*10,IF(L224=\"H-PEAK5\",NETWORKDAYS(A224,V224,koszyki!$M$20:$M$898)*5,NETWORKDAYS(A224,V224,koszyki!$M$20:$M$898)*15))))/C224,1)","v":{"$error":"#N/A"}}]
[null,null,0,{"$f":"'Kalkulator Depozytów'!M230","v":0},{"$f":"'Kalkulator Depozytów'!N230","v":0},{"$f":"'Kalkulator Depozytów'!O230","v":0},{"$f":"'Kalkulator Depozytów'!P230","v":0},{"$f":"'Kalkulator Depozytów'!Q230","v":0},{"$f":"ROUND(IF(OR(AND(K225>0,L225=\"L-PEAK5\"),AND(K225>0,L225=\"H-PEAK5\")),R225,IF(AND(K225>0,L225=\"PEAK5\"),O225,IF(K225>0,IF(OR(L225=\"BASE\"),AVERAGE(INDIRECT(\"krzywa!B\"&MATCH(A225-$A$2,krzywa!A:A,0)&\":B\"&MATCH(B225-$A$2,krzywa!A:A,0),TRUE)),IF(OR(L225=\"OFFPEAK\"),AVERAGE(INDIRECT(\"krzywa!F\"&MATCH(A225-$A$2,krzywa!A:A,0)&\":F\"&MATCH(B225-$A$2,krzywa!A:A,0)))))))),4)","v":0},null,0,null,{"$f":"NETWORKDAYS(A225,B225,koszyki!$M$20:$M$898)","v":0},{"$f":"B225-A225+1- NETWORKDAYS(A225,B225,koszyki!$M$20:$M$898)","v":1},{"$f":"ROUND(IF((B225-A225+1)>2,IF(C225=75,AVERAGE(INDIRECT(\"krzywa!C\"&MATCH(K225-6,krzywa!A:A,0)&\":C\"&MATCH(K225-2,krzywa!A:A,0))),AVERAGE(INDIRECT(\"krzywa!C\"&MATCH(A225-$A$2+BQ225,krzywa!A:A,0)&\":C\"&MATCH(B225-$A$2-AY225,krzywa!A:A,0)))),INDIRECT(\"krzywa!C\"&MATCH(K225,krzywa!A:A,0))),4)","v":{"$error":"#N/A"}},{"$error":"#N/A"},{"$f":"-C225*ABS(D225-F225)*H225*I225*U225+'kompensacja międzyproduktowa'!X225*U225","v":{"$error":"#N/A"}},{"$f":"ROUND(IF((B225-A225+1)>2,IF(C225=75,AVERAGE(INDIRECT(\"krzywa!D\"&MATCH(K225-6,krzywa!A:A,0)&\":D\"&MATCH(K225-2,krzywa!A:A,0))),AVERAGE(INDIRECT(\"krzywa!D\"&MATCH(A225-$A$2+BQ225,krzywa!A:A,0)&\":D\"&MATCH(B225-$A$2-AY225,krzywa!A:A,0)))),INDIRECT(\"krzywa!D\"&MATCH(K225,krzywa!A:A,0))),4)","v":{"$error":"#N/A"}},{"$f":"VLOOKUP(A225,krzywa!L:N,3,1)","v":{"$error":"#N/A"}},{"$f":"VLOOKUP(B225,krzywa!L:N,3,1)","v":{"$error":"#N/A"}},{"$f":"IF('Kalkulator Depozytów'!$B$35=TRUE,1,(1+S225/100)*W225+(1+T225/100)*(1-W225))","v":{"$error":"#N/A"}},{"$f":"IF(S225<>T225,VLOOKUP(A225,krzywa!L:M,2,1))","v":{"$error":"#N/A"}},{"$f":"IF(V225<>FALSE,IF(L225=\"BASE\",(V225-A225+1)*24+J225,IF(L225=\"OFFPEAK\",NETWORKDAYS(A225,V225,koszyki!$M$20:$M$898)*9+(N225)*24+J225,IF(L225=\"L-PEAK5\",NETWORKDAYS(A225,V225,koszyki!$M$20:$M$898)*10,IF(L225=\"H-PEAK5\",NETWORKDAYS(A225,V225,koszyki!$M$20:$M$898)*5,NETWORKDAYS(A225,V225,koszyki!$M$20:$M$898)*15))))/C225,1)","v":{"$error":"#N/A"}}]
[null,null,0,{"$f":"'Kalkulator Depozytów'!M231","v":0},{"$f":"'Kalkulator Depozytów'!N231","v":0},{"$f":"'Kalkulator Depozytów'!O231","v":0},{"$f":"'Kalkulator Depozytów'!P231","v":0},{"$f":"'Kalkulator Depozytów'!Q231","v":0},{"$f":"ROUND(IF(OR(AND(K226>0,L226=\"L-PEAK5\"),AND(K226>0,L226=\"H-PEAK5\")),R226,IF(AND(K226>0,L226=\"PEAK5\"),O226,IF(K226>0,IF(OR(L226=\"BASE\"),AVERAGE(INDIRECT(\"krzywa!B\"&MATCH(A226-$A$2,krzywa!A:A,0)&\":B\"&MATCH(B226-$A$2,krzywa!A:A,0),TRUE)),IF(OR(L226=\"OFFPEAK\"),AVERAGE(INDIRECT(\"krzywa!F\"&MATCH(A226-$A$2,krzywa!A:A,0)&\":F\"&MATCH(B226-$A$2,krzywa!A:A,0)))))))),4)","v":0},null,0,null,{"$f":"NETWORKDAYS(A226,B226,koszyki!$M$20:$M$898)","v":0},{"$f":"B226-A226+1- NETWORKDAYS(A226,B226,koszyki!$M$20:$M$898)","v":1},{"$f":"ROUND(IF((B226-A226+1)>2,IF(C226=75,AVERAGE(INDIRECT(\"krzywa!C\"&MATCH(K226-6,krzywa!A:A,0)&\":C\"&MATCH(K226-2,krzywa!A:A,0))),AVERAGE(INDIRECT(\"krzywa!C\"&MATCH(A226-$A$2+BQ226,krzywa!A:A,0)&\":C\"&MATCH(B226-$A$2-AY226,krzywa!A:A,0)))),INDIRECT(\"krzywa!C\"&MATCH(K226,krzywa!A:A,0))),4)","v":{"$error":"#N/A"}},{"$error":"#N/A"},{"$f":"-C226*ABS(D226-F226)*H226*I226*U226+'kompensacja międzyproduktowa'!X226*U226","v":{"$error":"#N/A"}},{"$f":"ROUND(IF((B226-A226+1)>2,IF(C226=75,AVERAGE(INDIRECT(\"krzywa!D\"&MATCH(K226-6,krzywa!A:A,0)&\":D\"&MATCH(K226-2,krzywa!A:A,0))),AVERAGE(INDIRECT(\"krzywa!D\"&MATCH(A226-$A$2+BQ226,krzywa!A:A,0)&\":D\"&MATCH(B226-$A$2-AY226,krzywa!A:A,0)))),INDIRECT(\"krzywa!D\"&MATCH(K226,krzywa!A:A,0))),4)","v":{"$error":"#N/A"}},{"$f":"VLOOKUP(A226,krzywa!L:N,3,1)","v":{"$error":"#N/A"}},{"$f":"VLOOKUP(B226,krzywa!L:N,3,1)","v":{"$error":"#N/A"}},{"$f":"IF('Kalkulator Depozytów'!$B$35=TRUE,1,(1+S226/100)*W226+(1+T226/100)*(1-W226))","v":{"$error":"#N/A"}},{"$f":"IF(S226<>T226,VLOOKUP(A226,krzywa!L:M,2,1))","v":{"$error":"#N/A"}},{"$f":"IF(V226<>FALSE,IF(L226=\"BASE\",(V226-A226+1)*24+J226,IF(L226=\"OFFPEAK\",NETWORKDAYS(A226,V226,koszyki!$M$20:$M$898)*9+(N226)*24+J226,IF(L226=\"L-PEAK5\",NETWORKDAYS(A226,V226,koszyki!$M$20:$M$898)*10,IF(L226=\"H-PEAK5\",NETWORKDAYS(A226,V226,koszyki!$M$20:$M$898)*5,NETWORKDAYS(A226,V226,koszyki!$M$20:$M$898)*15))))/C226,1)","v":{"$error":"#N/A"}}]
[null,null,0,{"$f":"'Kalkulator Depozytów'!M232","v":0},{"$f":"'Kalkulator Depozytów'!N232","v":0},{"$f":"'Kalkulator Depozytów'!O232","v":0},{"$f":"'Kalkulator Depozytów'!P232","v":0},{"$f":"'Kalkulator Depozytów'!Q232","v":0},{"$f":"ROUND(IF(OR(AND(K227>0,L227=\"L-PEAK5\"),AND(K227>0,L227=\"H-PEAK5\")),R227,IF(AND(K227>0,L227=\"PEAK5\"),O227,IF(K227>0,IF(OR(L227=\"BASE\"),AVERAGE(INDIRECT(\"krzywa!B\"&MATCH(A227-$A$2,krzywa!A:A,0)&\":B\"&MATCH(B227-$A$2,krzywa!A:A,0),TRUE)),IF(OR(L227=\"OFFPEAK\"),AVERAGE(INDIRECT(\"krzywa!F\"&MATCH(A227-$A$2,krzywa!A:A,0)&\":F\"&MATCH(B227-$A$2,krzywa!A:A,0)))))))),4)","v":0},null,0,null,{"$f":"NETWORKDAYS(A227,B227,koszyki!$M$20:$M$898)","v":0},{"$f":"B227-A227+1- NETWORKDAYS(A227,B227,koszyki!$M$20:$M$898)","v":1},{"$f":"ROUND(IF((B227-A227+1)>2,IF(C227=75,AVERAGE(INDIRECT(\"krzywa!C\"&MATCH(K227-6,krzywa!A:A,0)&\":C\"&MATCH(K227-2,krzywa!A:A,0))),AVERAGE(INDIRECT(\"krzywa!C\"&MATCH(A227-$A$2+BQ227,krzywa!A:A,0)&\":C\"&MATCH(B227-$A$2-AY227,krzywa!A:A,0)))),INDIRECT(\"krzywa!C\"&MATCH(K227,krzywa!A:A,0))),4)","v":{"$error":"#N/A"}},{"$error":"#N/A"},{"$f":"-C227*ABS(D227-F227)*H227*I227*U227+'kompensacja międzyproduktowa'!X227*U227","v":{"$error":"#N/A"}},{"$f":"ROUND(IF((B227-A227+1)>2,IF(C227=75,AVERAGE(INDIRECT(\"krzywa!D\"&MATCH(K227-6,krzywa!A:A,0)&\":D\"&MATCH(K227-2,krzywa!A:A,0))),AVERAGE(INDIRECT(\"krzywa!D\"&MATCH(A227-$A$2+BQ227,krzywa!A:A,0)&\":D\"&MATCH(B227-$A$2-AY227,krzywa!A:A,0)))),INDIRECT(\"krzywa!D\"&MATCH(K227,krzywa!A:A,0))),4)","v":{"$error":"#N/A"}},{"$f":"VLOOKUP(A227,krzywa!L:N,3,1)","v":{"$error":"#N/A"}},{"$f":"VLOOKUP(B227,krzywa!L:N,3,1)","v":{"$error":"#N/A"}},{"$f":"IF('Kalkulator Depozytów'!$B$35=TRUE,1,(1+S227/100)*W227+(1+T227/100)*(1-W227))","v":{"$error":"#N/A"}},{"$f":"IF(S227<>T227,VLOOKUP(A227,krzywa!L:M,2,1))","v":{"$error":"#N/A"}},{"$f":"IF(V227<>FALSE,IF(L227=\"BASE\",(V227-A227+1)*24+J227,IF(L227=\"OFFPEAK\",NETWORKDAYS(A227,V227,koszyki!$M$20:$M$898)*9+(N227)*24+J227,IF(L227=\"L-PEAK5\",NETWORKDAYS(A227,V227,koszyki!$M$20:$M$898)*10,IF(L227=\"H-PEAK5\",NETWORKDAYS(A227,V227,koszyki!$M$20:$M$898)*5,NETWORKDAYS(A227,V227,koszyki!$M$20:$M$898)*15))))/C227,1)","v":{"$error":"#N/A"}}]
[null,null,0,{"$f":"'Kalkulator Depozytów'!M233","v":0},{"$f":"'Kalkulator Depozytów'!N233","v":0},{"$f":"'Kalkulator Depozytów'!O233","v":0},{"$f":"'Kalkulator Depozytów'!P233","v":0},{"$f":"'Kalkulator Depozytów'!Q233","v":0},{"$f":"ROUND(IF(OR(AND(K228>0,L228=\"L-PEAK5\"),AND(K228>0,L228=\"H-PEAK5\")),R228,IF(AND(K228>0,L228=\"PEAK5\"),O228,IF(K228>0,IF(OR(L228=\"BASE\"),AVERAGE(INDIRECT(\"krzywa!B\"&MATCH(A228-$A$2,krzywa!A:A,0)&\":B\"&MATCH(B228-$A$2,krzywa!A:A,0),TRUE)),IF(OR(L228=\"OFFPEAK\"),AVERAGE(INDIRECT(\"krzywa!F\"&MATCH(A228-$A$2,krzywa!A:A,0)&\":F\"&MATCH(B228-$A$2,krzywa!A:A,0)))))))),4)","v":0},null,0,null,{"$f":"NETWORKDAYS(A228,B228,koszyki!$M$20:$M$898)","v":0},{"$f":"B228-A228+1- NETWORKDAYS(A228,B228,koszyki!$M$20:$M$898)","v":1},{"$f":"ROUND(IF((B228-A228+1)>2,IF(C228=75,AVERAGE(INDIRECT(\"krzywa!C\"&MATCH(K228-6,krzywa!A:A,0)&\":C\"&MATCH(K228-2,krzywa!A:A,0))),AVERAGE(INDIRECT(\"krzywa!C\"&MATCH(A228-$A$2+BQ228,krzywa!A:A,0)&\":C\"&MATCH(B228-$A$2-AY228,krzywa!A:A,0)))),INDIRECT(\"krzywa!C\"&MATCH(K228,krzywa!A:A,0))),4)","v":{"$error":"#N/A"}},{"$error":"#N/A"},{"$f":"-C228*ABS(D228-F228)*H228*I228*U228+'kompensacja międzyproduktowa'!X228*U228","v":{"$error":"#N/A"}},{"$f":"ROUND(IF((B228-A228+1)>2,IF(C228=75,AVERAGE(INDIRECT(\"krzywa!D\"&MATCH(K228-6,krzywa!A:A,0)&\":D\"&MATCH(K228-2,krzywa!A:A,0))),AVERAGE(INDIRECT(\"krzywa!D\"&MATCH(A228-$A$2+BQ228,krzywa!A:A,0)&\":D\"&MATCH(B228-$A$2-AY228,krzywa!A:A,0)))),INDIRECT(\"krzywa!D\"&MATCH(K228,krzywa!A:A,0))),4)","v":{"$error":"#N/A"}},{"$f":"VLOOKUP(A228,krzywa!L:N,3,1)","v":{"$error":"#N/A"}},{"$f":"VLOOKUP(B228,krzywa!L:N,3,1)","v":{"$error":"#N/A"}},{"$f":"IF('Kalkulator Depozytów'!$B$35=TRUE,1,(1+S228/100)*W228+(1+T228/100)*(1-W228))","v":{"$error":"#N/A"}},{"$f":"IF(S228<>T228,VLOOKUP(A228,krzywa!L:M,2,1))","v":{"$error":"#N/A"}},{"$f":"IF(V228<>FALSE,IF(L228=\"BASE\",(V228-A228+1)*24+J228,IF(L228=\"OFFPEAK\",NETWORKDAYS(A228,V228,koszyki!$M$20:$M$898)*9+(N228)*24+J228,IF(L228=\"L-PEAK5\",NETWORKDAYS(A228,V228,koszyki!$M$20:$M$898)*10,IF(L228=\"H-PEAK5\",NETWORKDAYS(A228,V228,koszyki!$M$20:$M$898)*5,NETWORKDAYS(A228,V228,koszyki!$M$20:$M$898)*15))))/C228,1)","v":{"$error":"#N/A"}}]
[null,null,0,{"$f":"'Kalkulator Depozytów'!M234","v":0},{"$f":"'Kalkulator Depozytów'!N234","v":0},{"$f":"'Kalkulator Depozytów'!O234","v":0},{"$f":"'Kalkulator Depozytów'!P234","v":0},{"$f":"'Kalkulator Depozytów'!Q234","v":0},{"$f":"ROUND(IF(OR(AND(K229>0,L229=\"L-PEAK5\"),AND(K229>0,L229=\"H-PEAK5\")),R229,IF(AND(K229>0,L229=\"PEAK5\"),O229,IF(K229>0,IF(OR(L229=\"BASE\"),AVERAGE(INDIRECT(\"krzywa!B\"&MATCH(A229-$A$2,krzywa!A:A,0)&\":B\"&MATCH(B229-$A$2,krzywa!A:A,0),TRUE)),IF(OR(L229=\"OFFPEAK\"),AVERAGE(INDIRECT(\"krzywa!F\"&MATCH(A229-$A$2,krzywa!A:A,0)&\":F\"&MATCH(B229-$A$2,krzywa!A:A,0)))))))),4)","v":0},null,0,null,{"$f":"NETWORKDAYS(A229,B229,koszyki!$M$20:$M$898)","v":0},{"$f":"B229-A229+1- NETWORKDAYS(A229,B229,koszyki!$M$20:$M$898)","v":1},{"$f":"ROUND(IF((B229-A229+1)>2,IF(C229=75,AVERAGE(INDIRECT(\"krzywa!C\"&MATCH(K229-6,krzywa!A:A,0)&\":C\"&MATCH(K229-2,krzywa!A:A,0))),AVERAGE(INDIRECT(\"krzywa!C\"&MATCH(A229-$A$2+BQ229,krzywa!A:A,0)&\":C\"&MATCH(B229-$A$2-AY229,krzywa!A:A,0)))),INDIRECT(\"krzywa!C\"&MATCH(K229,krzywa!A:A,0))),4)","v":{"$error":"#N/A"}},{"$error":"#N/A"},{"$f":"-C229*ABS(D229-F229)*H229*I229*U229+'kompensacja międzyproduktowa'!X229*U229","v":{"$error":"#N/A"}},{"$f":"ROUND(IF((B229-A229+1)>2,IF(C229=75,AVERAGE(INDIRECT(\"krzywa!D\"&MATCH(K229-6,krzywa!A:A,0)&\":D\"&MATCH(K229-2,krzywa!A:A,0))),AVERAGE(INDIRECT(\"krzywa!D\"&MATCH(A229-$A$2+BQ229,krzywa!A:A,0)&\":D\"&MATCH(B229-$A$2-AY229,krzywa!A:A,0)))),INDIRECT(\"krzywa!D\"&MATCH(K229,krzywa!A:A,0))),4)","v":{"$error":"#N/A"}},{"$f":"VLOOKUP(A229,krzywa!L:N,3,1)","v":{"$error":"#N/A"}},{"$f":"VLOOKUP(B229,krzywa!L:N,3,1)","v":{"$error":"#N/A"}},{"$f":"IF('Kalkulator Depozytów'!$B$35=TRUE,1,(1+S229/100)*W229+(1+T229/100)*(1-W229))","v":{"$error":"#N/A"}},{"$f":"IF(S229<>T229,VLOOKUP(A229,krzywa!L:M,2,1))","v":{"$error":"#N/A"}},{"$f":"IF(V229<>FALSE,IF(L229=\"BASE\",(V229-A229+1)*24+J229,IF(L229=\"OFFPEAK\",NETWORKDAYS(A229,V229,koszyki!$M$20:$M$898)*9+(N229)*24+J229,IF(L229=\"L-PEAK5\",NETWORKDAYS(A229,V229,koszyki!$M$20:$M$898)*10,IF(L229=\"H-PEAK5\",NETWORKDAYS(A229,V229,koszyki!$M$20:$M$898)*5,NETWORKDAYS(A229,V229,koszyki!$M$20:$M$898)*15))))/C229,1)","v":{"$error":"#N/A"}}]
[null,null,0,{"$f":"'Kalkulator Depozytów'!M235","v":0},{"$f":"'Kalkulator Depozytów'!N235","v":0},{"$f":"'Kalkulator Depozytów'!O235","v":0},{"$f":"'Kalkulator Depozytów'!P235","v":0},{"$f":"'Kalkulator Depozytów'!Q235","v":0},{"$f":"ROUND(IF(OR(AND(K230>0,L230=\"L-PEAK5\"),AND(K230>0,L230=\"H-PEAK5\")),R230,IF(AND(K230>0,L230=\"PEAK5\"),O230,IF(K230>0,IF(OR(L230=\"BASE\"),AVERAGE(INDIRECT(\"krzywa!B\"&MATCH(A230-$A$2,krzywa!A:A,0)&\":B\"&MATCH(B230-$A$2,krzywa!A:A,0),TRUE)),IF(OR(L230=\"OFFPEAK\"),AVERAGE(INDIRECT(\"krzywa!F\"&MATCH(A230-$A$2,krzywa!A:A,0)&\":F\"&MATCH(B230-$A$2,krzywa!A:A,0)))))))),4)","v":0},null,0,null,{"$f":"NETWORKDAYS(A230,B230,koszyki!$M$20:$M$898)","v":0},{"$f":"B230-A230+1- NETWORKDAYS(A230,B230,koszyki!$M$20:$M$898)","v":1},{"$f":"ROUND(IF((B230-A230+1)>2,IF(C230=75,AVERAGE(INDIRECT(\"krzywa!C\"&MATCH(K230-6,krzywa!A:A,0)&\":C\"&MATCH(K230-2,krzywa!A:A,0))),AVERAGE(INDIRECT(\"krzywa!C\"&MATCH(A230-$A$2+BQ230,krzywa!A:A,0)&\":C\"&MATCH(B230-$A$2-AY230,krzywa!A:A,0)))),INDIRECT(\"krzywa!C\"&MATCH(K230,krzywa!A:A,0))),4)","v":{"$error":"#N/A"}},{"$error":"#N/A"},{"$f":"-C230*ABS(D230-F230)*H230*I230*U230+'kompensacja międzyproduktowa'!X230*U230","v":{"$error":"#N/A"}},{"$f":"ROUND(IF((B230-A230+1)>2,IF(C230=75,AVERAGE(INDIRECT(\"krzywa!D\"&MATCH(K230-6,krzywa!A:A,0)&\":D\"&MATCH(K230-2,krzywa!A:A,0))),AVERAGE(INDIRECT(\"krzywa!D\"&MATCH(A230-$A$2+BQ230,krzywa!A:A,0)&\":D\"&MATCH(B230-$A$2-AY230,krzywa!A:A,0)))),INDIRECT(\"krzywa!D\"&MATCH(K230,krzywa!A:A,0))),4)","v":{"$error":"#N/A"}},{"$f":"VLOOKUP(A230,krzywa!L:N,3,1)","v":{"$error":"#N/A"}},{"$f":"VLOOKUP(B230,krzywa!L:N,3,1)","v":{"$error":"#N/A"}},{"$f":"IF('Kalkulator Depozytów'!$B$35=TRUE,1,(1+S230/100)*W230+(1+T230/100)*(1-W230))","v":{"$error":"#N/A"}},{"$f":"IF(S230<>T230,VLOOKUP(A230,krzywa!L:M,2,1))","v":{"$error":"#N/A"}},{"$f":"IF(V230<>FALSE,IF(L230=\"BASE\",(V230-A230+1)*24+J230,IF(L230=\"OFFPEAK\",NETWORKDAYS(A230,V230,koszyki!$M$20:$M$898)*9+(N230)*24+J230,IF(L230=\"L-PEAK5\",NETWORKDAYS(A230,V230,koszyki!$M$20:$M$898)*10,IF(L230=\"H-PEAK5\",NETWORKDAYS(A230,V230,koszyki!$M$20:$M$898)*5,NETWORKDAYS(A230,V230,koszyki!$M$20:$M$898)*15))))/C230,1)","v":{"$error":"#N/A"}}]
[null,null,0,{"$f":"'Kalkulator Depozytów'!M236","v":0},{"$f":"'Kalkulator Depozytów'!N236","v":0},{"$f":"'Kalkulator Depozytów'!O236","v":0},{"$f":"'Kalkulator Depozytów'!P236","v":0},{"$f":"'Kalkulator Depozytów'!Q236","v":0},{"$f":"ROUND(IF(OR(AND(K231>0,L231=\"L-PEAK5\"),AND(K231>0,L231=\"H-PEAK5\")),R231,IF(AND(K231>0,L231=\"PEAK5\"),O231,IF(K231>0,IF(OR(L231=\"BASE\"),AVERAGE(INDIRECT(\"krzywa!B\"&MATCH(A231-$A$2,krzywa!A:A,0)&\":B\"&MATCH(B231-$A$2,krzywa!A:A,0),TRUE)),IF(OR(L231=\"OFFPEAK\"),AVERAGE(INDIRECT(\"krzywa!F\"&MATCH(A231-$A$2,krzywa!A:A,0)&\":F\"&MATCH(B231-$A$2,krzywa!A:A,0)))))))),4)","v":0},null,0,null,{"$f":"NETWORKDAYS(A231,B231,koszyki!$M$20:$M$898)","v":0},{"$f":"B231-A231+1- NETWORKDAYS(A231,B231,koszyki!$M$20:$M$898)","v":1},{"$f":"ROUND(IF((B231-A231+1)>2,IF(C231=75,AVERAGE(INDIRECT(\"krzywa!C\"&MATCH(K231-6,krzywa!A:A,0)&\":C\"&MATCH(K231-2,krzywa!A:A,0))),AVERAGE(INDIRECT(\"krzywa!C\"&MATCH(A231-$A$2+BQ231,krzywa!A:A,0)&\":C\"&MATCH(B231-$A$2-AY231,krzywa!A:A,0)))),INDIRECT(\"krzywa!C\"&MATCH(K231,krzywa!A:A,0))),4)","v":{"$error":"#N/A"}},{"$error":"#N/A"},{"$f":"-C231*ABS(D231-F231)*H231*I231*U231+'kompensacja międzyproduktowa'!X231*U231","v":{"$error":"#N/A"}},{"$f":"ROUND(IF((B231-A231+1)>2,IF(C231=75,AVERAGE(INDIRECT(\"krzywa!D\"&MATCH(K231-6,krzywa!A:A,0)&\":D\"&MATCH(K231-2,krzywa!A:A,0))),AVERAGE(INDIRECT(\"krzywa!D\"&MATCH(A231-$A$2+BQ231,krzywa!A:A,0)&\":D\"&MATCH(B231-$A$2-AY231,krzywa!A:A,0)))),INDIRECT(\"krzywa!D\"&MATCH(K231,krzywa!A:A,0))),4)","v":{"$error":"#N/A"}},{"$f":"VLOOKUP(A231,krzywa!L:N,3,1)","v":{"$error":"#N/A"}},{"$f":"VLOOKUP(B231,krzywa!L:N,3,1)","v":{"$error":"#N/A"}},{"$f":"IF('Kalkulator Depozytów'!$B$35=TRUE,1,(1+S231/100)*W231+(1+T231/100)*(1-W231))","v":{"$error":"#N/A"}},{"$f":"IF(S231<>T231,VLOOKUP(A231,krzywa!L:M,2,1))","v":{"$error":"#N/A"}},{"$f":"IF(V231<>FALSE,IF(L231=\"BASE\",(V231-A231+1)*24+J231,IF(L231=\"OFFPEAK\",NETWORKDAYS(A231,V231,koszyki!$M$20:$M$898)*9+(N231)*24+J231,IF(L231=\"L-PEAK5\",NETWORKDAYS(A231,V231,koszyki!$M$20:$M$898)*10,IF(L231=\"H-PEAK5\",NETWORKDAYS(A231,V231,koszyki!$M$20:$M$898)*5,NETWORKDAYS(A231,V231,koszyki!$M$20:$M$898)*15))))/C231,1)","v":{"$error":"#N/A"}}]
[null,null,0,{"$f":"'Kalkulator Depozytów'!M237","v":0},{"$f":"'Kalkulator Depozytów'!N237","v":0},{"$f":"'Kalkulator Depozytów'!O237","v":0},{"$f":"'Kalkulator Depozytów'!P237","v":0},{"$f":"'Kalkulator Depozytów'!Q237","v":0},{"$f":"ROUND(IF(OR(AND(K232>0,L232=\"L-PEAK5\"),AND(K232>0,L232=\"H-PEAK5\")),R232,IF(AND(K232>0,L232=\"PEAK5\"),O232,IF(K232>0,IF(OR(L232=\"BASE\"),AVERAGE(INDIRECT(\"krzywa!B\"&MATCH(A232-$A$2,krzywa!A:A,0)&\":B\"&MATCH(B232-$A$2,krzywa!A:A,0),TRUE)),IF(OR(L232=\"OFFPEAK\"),AVERAGE(INDIRECT(\"krzywa!F\"&MATCH(A232-$A$2,krzywa!A:A,0)&\":F\"&MATCH(B232-$A$2,krzywa!A:A,0)))))))),4)","v":0},null,0,null,{"$f":"NETWORKDAYS(A232,B232,koszyki!$M$20:$M$898)","v":0},{"$f":"B232-A232+1- NETWORKDAYS(A232,B232,koszyki!$M$20:$M$898)","v":1},{"$f":"ROUND(IF((B232-A232+1)>2,IF(C232=75,AVERAGE(INDIRECT(\"krzywa!C\"&MATCH(K232-6,krzywa!A:A,0)&\":C\"&MATCH(K232-2,krzywa!A:A,0))),AVERAGE(INDIRECT(\"krzywa!C\"&MATCH(A232-$A$2+BQ232,krzywa!A:A,0)&\":C\"&MATCH(B232-$A$2-AY232,krzywa!A:A,0)))),INDIRECT(\"krzywa!C\"&MATCH(K232,krzywa!A:A,0))),4)","v":{"$error":"#N/A"}},{"$error":"#N/A"},{"$f":"-C232*ABS(D232-F232)*H232*I232*U232+'kompensacja międzyproduktowa'!X232*U232","v":{"$error":"#N/A"}},{"$f":"ROUND(IF((B232-A232+1)>2,IF(C232=75,AVERAGE(INDIRECT(\"krzywa!D\"&MATCH(K232-6,krzywa!A:A,0)&\":D\"&MATCH(K232-2,krzywa!A:A,0))),AVERAGE(INDIRECT(\"krzywa!D\"&MATCH(A232-$A$2+BQ232,krzywa!A:A,0)&\":D\"&MATCH(B232-$A$2-AY232,krzywa!A:A,0)))),INDIRECT(\"krzywa!D\"&MATCH(K232,krzywa!A:A,0))),4)","v":{"$error":"#N/A"}},{"$f":"VLOOKUP(A232,krzywa!L:N,3,1)","v":{"$error":"#N/A"}},{"$f":"VLOOKUP(B232,krzywa!L:N,3,1)","v":{"$error":"#N/A"}},{"$f":"IF('Kalkulator Depozytów'!$B$35=TRUE,1,(1+S232/100)*W232+(1+T232/100)*(1-W232))","v":{"$error":"#N/A"}},{"$f":"IF(S232<>T232,VLOOKUP(A232,krzywa!L:M,2,1))","v":{"$error":"#N/A"}},{"$f":"IF(V232<>FALSE,IF(L232=\"BASE\",(V232-A232+1)*24+J232,IF(L232=\"OFFPEAK\",NETWORKDAYS(A232,V232,koszyki!$M$20:$M$898)*9+(N232)*24+J232,IF(L232=\"L-PEAK5\",NETWORKDAYS(A232,V232,koszyki!$M$20:$M$898)*10,IF(L232=\"H-PEAK5\",NETWORKDAYS(A232,V232,koszyki!$M$20:$M$898)*5,NETWORKDAYS(A232,V232,koszyki!$M$20:$M$898)*15))))/C232,1)","v":{"$error":"#N/A"}}]
[null,null,0,{"$f":"'Kalkulator Depozytów'!M238","v":0},{"$f":"'Kalkulator Depozytów'!N238","v":0},{"$f":"'Kalkulator Depozytów'!O238","v":0},{"$f":"'Kalkulator Depozytów'!P238","v":0},{"$f":"'Kalkulator Depozytów'!Q238","v":0},{"$f":"ROUND(IF(OR(AND(K233>0,L233=\"L-PEAK5\"),AND(K233>0,L233=\"H-PEAK5\")),R233,IF(AND(K233>0,L233=\"PEAK5\"),O233,IF(K233>0,IF(OR(L233=\"BASE\"),AVERAGE(INDIRECT(\"krzywa!B\"&MATCH(A233-$A$2,krzywa!A:A,0)&\":B\"&MATCH(B233-$A$2,krzywa!A:A,0),TRUE)),IF(OR(L233=\"OFFPEAK\"),AVERAGE(INDIRECT(\"krzywa!F\"&MATCH(A233-$A$2,krzywa!A:A,0)&\":F\"&MATCH(B233-$A$2,krzywa!A:A,0)))))))),4)","v":0},null,0,null,{"$f":"NETWORKDAYS(A233,B233,koszyki!$M$20:$M$898)","v":0},{"$f":"B233-A233+1- NETWORKDAYS(A233,B233,koszyki!$M$20:$M$898)","v":1},{"$f":"ROUND(IF((B233-A233+1)>2,IF(C233=75,AVERAGE(INDIRECT(\"krzywa!C\"&MATCH(K233-6,krzywa!A:A,0)&\":C\"&MATCH(K233-2,krzywa!A:A,0))),AVERAGE(INDIRECT(\"krzywa!C\"&MATCH(A233-$A$2+BQ233,krzywa!A:A,0)&\":C\"&MATCH(B233-$A$2-AY233,krzywa!A:A,0)))),INDIRECT(\"krzywa!C\"&MATCH(K233,krzywa!A:A,0))),4)","v":{"$error":"#N/A"}},{"$error":"#N/A"},{"$f":"-C233*ABS(D233-F233)*H233*I233*U233+'kompensacja międzyproduktowa'!X233*U233","v":{"$error":"#N/A"}},{"$f":"ROUND(IF((B233-A233+1)>2,IF(C233=75,AVERAGE(INDIRECT(\"krzywa!D\"&MATCH(K233-6,krzywa!A:A,0)&\":D\"&MATCH(K233-2,krzywa!A:A,0))),AVERAGE(INDIRECT(\"krzywa!D\"&MATCH(A233-$A$2+BQ233,krzywa!A:A,0)&\":D\"&MATCH(B233-$A$2-AY233,krzywa!A:A,0)))),INDIRECT(\"krzywa!D\"&MATCH(K233,krzywa!A:A,0))),4)","v":{"$error":"#N/A"}},{"$f":"VLOOKUP(A233,krzywa!L:N,3,1)","v":{"$error":"#N/A"}},{"$f":"VLOOKUP(B233,krzywa!L:N,3,1)","v":{"$error":"#N/A"}},{"$f":"IF('Kalkulator Depozytów'!$B$35=TRUE,1,(1+S233/100)*W233+(1+T233/100)*(1-W233))","v":{"$error":"#N/A"}},{"$f":"IF(S233<>T233,VLOOKUP(A233,krzywa!L:M,2,1))","v":{"$error":"#N/A"}},{"$f":"IF(V233<>FALSE,IF(L233=\"BASE\",(V233-A233+1)*24+J233,IF(L233=\"OFFPEAK\",NETWORKDAYS(A233,V233,koszyki!$M$20:$M$898)*9+(N233)*24+J233,IF(L233=\"L-PEAK5\",NETWORKDAYS(A233,V233,koszyki!$M$20:$M$898)*10,IF(L233=\"H-PEAK5\",NETWORKDAYS(A233,V233,koszyki!$M$20:$M$898)*5,NETWORKDAYS(A233,V233,koszyki!$M$20:$M$898)*15))))/C233,1)","v":{"$error":"#N/A"}}]
[null,null,0,{"$f":"'Kalkulator Depozytów'!M239","v":0},{"$f":"'Kalkulator Depozytów'!N239","v":0},{"$f":"'Kalkulator Depozytów'!O239","v":0},{"$f":"'Kalkulator Depozytów'!P239","v":0},{"$f":"'Kalkulator Depozytów'!Q239","v":0},{"$f":"ROUND(IF(OR(AND(K234>0,L234=\"L-PEAK5\"),AND(K234>0,L234=\"H-PEAK5\")),R234,IF(AND(K234>0,L234=\"PEAK5\"),O234,IF(K234>0,IF(OR(L234=\"BASE\"),AVERAGE(INDIRECT(\"krzywa!B\"&MATCH(A234-$A$2,krzywa!A:A,0)&\":B\"&MATCH(B234-$A$2,krzywa!A:A,0),TRUE)),IF(OR(L234=\"OFFPEAK\"),AVERAGE(INDIRECT(\"krzywa!F\"&MATCH(A234-$A$2,krzywa!A:A,0)&\":F\"&MATCH(B234-$A$2,krzywa!A:A,0)))))))),4)","v":0},null,0,null,{"$f":"NETWORKDAYS(A234,B234,koszyki!$M$20:$M$898)","v":0},{"$f":"B234-A234+1- NETWORKDAYS(A234,B234,koszyki!$M$20:$M$898)","v":1},{"$f":"ROUND(IF((B234-A234+1)>2,IF(C234=75,AVERAGE(INDIRECT(\"krzywa!C\"&MATCH(K234-6,krzywa!A:A,0)&\":C\"&MATCH(K234-2,krzywa!A:A,0))),AVERAGE(INDIRECT(\"krzywa!C\"&MATCH(A234-$A$2+BQ234,krzywa!A:A,0)&\":C\"&MATCH(B234-$A$2-AY234,krzywa!A:A,0)))),INDIRECT(\"krzywa!C\"&MATCH(K234,krzywa!A:A,0))),4)","v":{"$error":"#N/A"}},{"$error":"#N/A"},{"$f":"-C234*ABS(D234-F234)*H234*I234*U234+'kompensacja międzyproduktowa'!X234*U234","v":{"$error":"#N/A"}},{"$f":"ROUND(IF((B234-A234+1)>2,IF(C234=75,AVERAGE(INDIRECT(\"krzywa!D\"&MATCH(K234-6,krzywa!A:A,0)&\":D\"&MATCH(K234-2,krzywa!A:A,0))),AVERAGE(INDIRECT(\"krzywa!D\"&MATCH(A234-$A$2+BQ234,krzywa!A:A,0)&\":D\"&MATCH(B234-$A$2-AY234,krzywa!A:A,0)))),INDIRECT(\"krzywa!D\"&MATCH(K234,krzywa!A:A,0))),4)","v":{"$error":"#N/A"}},{"$f":"VLOOKUP(A234,krzywa!L:N,3,1)","v":{"$error":"#N/A"}},{"$f":"VLOOKUP(B234,krzywa!L:N,3,1)","v":{"$error":"#N/A"}},{"$f":"IF('Kalkulator Depozytów'!$B$35=TRUE,1,(1+S234/100)*W234+(1+T234/100)*(1-W234))","v":{"$error":"#N/A"}},{"$f":"IF(S234<>T234,VLOOKUP(A234,krzywa!L:M,2,1))","v":{"$error":"#N/A"}},{"$f":"IF(V234<>FALSE,IF(L234=\"BASE\",(V234-A234+1)*24+J234,IF(L234=\"OFFPEAK\",NETWORKDAYS(A234,V234,koszyki!$M$20:$M$898)*9+(N234)*24+J234,IF(L234=\"L-PEAK5\",NETWORKDAYS(A234,V234,koszyki!$M$20:$M$898)*10,IF(L234=\"H-PEAK5\",NETWORKDAYS(A234,V234,koszyki!$M$20:$M$898)*5,NETWORKDAYS(A234,V234,koszyki!$M$20:$M$898)*15))))/C234,1)","v":{"$error":"#N/A"}}]
[null,null,0,{"$f":"'Kalkulator Depozytów'!M240","v":0},{"$f":"'Kalkulator Depozytów'!N240","v":0},{"$f":"'Kalkulator Depozytów'!O240","v":0},{"$f":"'Kalkulator Depozytów'!P240","v":0},{"$f":"'Kalkulator Depozytów'!Q240","v":0},{"$f":"ROUND(IF(OR(AND(K235>0,L235=\"L-PEAK5\"),AND(K235>0,L235=\"H-PEAK5\")),R235,IF(AND(K235>0,L235=\"PEAK5\"),O235,IF(K235>0,IF(OR(L235=\"BASE\"),AVERAGE(INDIRECT(\"krzywa!B\"&MATCH(A235-$A$2,krzywa!A:A,0)&\":B\"&MATCH(B235-$A$2,krzywa!A:A,0),TRUE)),IF(OR(L235=\"OFFPEAK\"),AVERAGE(INDIRECT(\"krzywa!F\"&MATCH(A235-$A$2,krzywa!A:A,0)&\":F\"&MATCH(B235-$A$2,krzywa!A:A,0)))))))),4)","v":0},null,0,null,{"$f":"NETWORKDAYS(A235,B235,koszyki!$M$20:$M$898)","v":0},{"$f":"B235-A235+1- NETWORKDAYS(A235,B235,koszyki!$M$20:$M$898)","v":1},{"$f":"ROUND(IF((B235-A235+1)>2,IF(C235=75,AVERAGE(INDIRECT(\"krzywa!C\"&MATCH(K235-6,krzywa!A:A,0)&\":C\"&MATCH(K235-2,krzywa!A:A,0))),AVERAGE(INDIRECT(\"krzywa!C\"&MATCH(A235-$A$2+BQ235,krzywa!A:A,0)&\":C\"&MATCH(B235-$A$2-AY235,krzywa!A:A,0)))),INDIRECT(\"krzywa!C\"&MATCH(K235,krzywa!A:A,0))),4)","v":{"$error":"#N/A"}},{"$error":"#N/A"},{"$f":"-C235*ABS(D235-F235)*H235*I235*U235+'kompensacja międzyproduktowa'!X235*U235","v":{"$error":"#N/A"}},{"$f":"ROUND(IF((B235-A235+1)>2,IF(C235=75,AVERAGE(INDIRECT(\"krzywa!D\"&MATCH(K235-6,krzywa!A:A,0)&\":D\"&MATCH(K235-2,krzywa!A:A,0))),AVERAGE(INDIRECT(\"krzywa!D\"&MATCH(A235-$A$2+BQ235,krzywa!A:A,0)&\":D\"&MATCH(B235-$A$2-AY235,krzywa!A:A,0)))),INDIRECT(\"krzywa!D\"&MATCH(K235,krzywa!A:A,0))),4)","v":{"$error":"#N/A"}},{"$f":"VLOOKUP(A235,krzywa!L:N,3,1)","v":{"$error":"#N/A"}},{"$f":"VLOOKUP(B235,krzywa!L:N,3,1)","v":{"$error":"#N/A"}},{"$f":"IF('Kalkulator Depozytów'!$B$35=TRUE,1,(1+S235/100)*W235+(1+T235/100)*(1-W235))","v":{"$error":"#N/A"}},{"$f":"IF(S235<>T235,VLOOKUP(A235,krzywa!L:M,2,1))","v":{"$error":"#N/A"}},{"$f":"IF(V235<>FALSE,IF(L235=\"BASE\",(V235-A235+1)*24+J235,IF(L235=\"OFFPEAK\",NETWORKDAYS(A235,V235,koszyki!$M$20:$M$898)*9+(N235)*24+J235,IF(L235=\"L-PEAK5\",NETWORKDAYS(A235,V235,koszyki!$M$20:$M$898)*10,IF(L235=\"H-PEAK5\",NETWORKDAYS(A235,V235,koszyki!$M$20:$M$898)*5,NETWORKDAYS(A235,V235,koszyki!$M$20:$M$898)*15))))/C235,1)","v":{"$error":"#N/A"}}]
[null,null,0,{"$f":"'Kalkulator Depozytów'!M241","v":0},{"$f":"'Kalkulator Depozytów'!N241","v":0},{"$f":"'Kalkulator Depozytów'!O241","v":0},{"$f":"'Kalkulator Depozytów'!P241","v":0},{"$f":"'Kalkulator Depozytów'!Q241","v":0},{"$f":"ROUND(IF(OR(AND(K236>0,L236=\"L-PEAK5\"),AND(K236>0,L236=\"H-PEAK5\")),R236,IF(AND(K236>0,L236=\"PEAK5\"),O236,IF(K236>0,IF(OR(L236=\"BASE\"),AVERAGE(INDIRECT(\"krzywa!B\"&MATCH(A236-$A$2,krzywa!A:A,0)&\":B\"&MATCH(B236-$A$2,krzywa!A:A,0),TRUE)),IF(OR(L236=\"OFFPEAK\"),AVERAGE(INDIRECT(\"krzywa!F\"&MATCH(A236-$A$2,krzywa!A:A,0)&\":F\"&MATCH(B236-$A$2,krzywa!A:A,0)))))))),4)","v":0},null,0,null,{"$f":"NETWORKDAYS(A236,B236,koszyki!$M$20:$M$898)","v":0},{"$f":"B236-A236+1- NETWORKDAYS(A236,B236,koszyki!$M$20:$M$898)","v":1},{"$f":"ROUND(IF((B236-A236+1)>2,IF(C236=75,AVERAGE(INDIRECT(\"krzywa!C\"&MATCH(K236-6,krzywa!A:A,0)&\":C\"&MATCH(K236-2,krzywa!A:A,0))),AVERAGE(INDIRECT(\"krzywa!C\"&MATCH(A236-$A$2+BQ236,krzywa!A:A,0)&\":C\"&MATCH(B236-$A$2-AY236,krzywa!A:A,0)))),INDIRECT(\"krzywa!C\"&MATCH(K236,krzywa!A:A,0))),4)","v":{"$error":"#N/A"}},{"$error":"#N/A"},{"$f":"-C236*ABS(D236-F236)*H236*I236*U236+'kompensacja międzyproduktowa'!X236*U236","v":{"$error":"#N/A"}},{"$f":"ROUND(IF((B236-A236+1)>2,IF(C236=75,AVERAGE(INDIRECT(\"krzywa!D\"&MATCH(K236-6,krzywa!A:A,0)&\":D\"&MATCH(K236-2,krzywa!A:A,0))),AVERAGE(INDIRECT(\"krzywa!D\"&MATCH(A236-$A$2+BQ236,krzywa!A:A,0)&\":D\"&MATCH(B236-$A$2-AY236,krzywa!A:A,0)))),INDIRECT(\"krzywa!D\"&MATCH(K236,krzywa!A:A,0))),4)","v":{"$error":"#N/A"}},{"$f":"VLOOKUP(A236,krzywa!L:N,3,1)","v":{"$error":"#N/A"}},{"$f":"VLOOKUP(B236,krzywa!L:N,3,1)","v":{"$error":"#N/A"}},{"$f":"IF('Kalkulator Depozytów'!$B$35=TRUE,1,(1+S236/100)*W236+(1+T236/100)*(1-W236))","v":{"$error":"#N/A"}},{"$f":"IF(S236<>T236,VLOOKUP(A236,krzywa!L:M,2,1))","v":{"$error":"#N/A"}},{"$f":"IF(V236<>FALSE,IF(L236=\"BASE\",(V236-A236+1)*24+J236,IF(L236=\"OFFPEAK\",NETWORKDAYS(A236,V236,koszyki!$M$20:$M$898)*9+(N236)*24+J236,IF(L236=\"L-PEAK5\",NETWORKDAYS(A236,V236,koszyki!$M$20:$M$898)*10,IF(L236=\"H-PEAK5\",NETWORKDAYS(A236,V236,koszyki!$M$20:$M$898)*5,NETWORKDAYS(A236,V236,koszyki!$M$20:$M$898)*15))))/C236,1)","v":{"$error":"#N/A"}}]
[null,null,0,{"$f":"'Kalkulator Depozytów'!M242","v":0},{"$f":"'Kalkulator Depozytów'!N242","v":0},{"$f":"'Kalkulator Depozytów'!O242","v":0},{"$f":"'Kalkulator Depozytów'!P242","v":0},{"$f":"'Kalkulator Depozytów'!Q242","v":0},{"$f":"ROUND(IF(OR(AND(K237>0,L237=\"L-PEAK5\"),AND(K237>0,L237=\"H-PEAK5\")),R237,IF(AND(K237>0,L237=\"PEAK5\"),O237,IF(K237>0,IF(OR(L237=\"BASE\"),AVERAGE(INDIRECT(\"krzywa!B\"&MATCH(A237-$A$2,krzywa!A:A,0)&\":B\"&MATCH(B237-$A$2,krzywa!A:A,0),TRUE)),IF(OR(L237=\"OFFPEAK\"),AVERAGE(INDIRECT(\"krzywa!F\"&MATCH(A237-$A$2,krzywa!A:A,0)&\":F\"&MATCH(B237-$A$2,krzywa!A:A,0)))))))),4)","v":0},null,0,null,{"$f":"NETWORKDAYS(A237,B237,koszyki!$M$20:$M$898)","v":0},{"$f":"B237-A237+1- NETWORKDAYS(A237,B237,koszyki!$M$20:$M$898)","v":1},{"$f":"ROUND(IF((B237-A237+1)>2,IF(C237=75,AVERAGE(INDIRECT(\"krzywa!C\"&MATCH(K237-6,krzywa!A:A,0)&\":C\"&MATCH(K237-2,krzywa!A:A,0))),AVERAGE(INDIRECT(\"krzywa!C\"&MATCH(A237-$A$2+BQ237,krzywa!A:A,0)&\":C\"&MATCH(B237-$A$2-AY237,krzywa!A:A,0)))),INDIRECT(\"krzywa!C\"&MATCH(K237,krzywa!A:A,0))),4)","v":{"$error":"#N/A"}},{"$error":"#N/A"},{"$f":"-C237*ABS(D237-F237)*H237*I237*U237+'kompensacja międzyproduktowa'!X237*U237","v":{"$error":"#N/A"}},{"$f":"ROUND(IF((B237-A237+1)>2,IF(C237=75,AVERAGE(INDIRECT(\"krzywa!D\"&MATCH(K237-6,krzywa!A:A,0)&\":D\"&MATCH(K237-2,krzywa!A:A,0))),AVERAGE(INDIRECT(\"krzywa!D\"&MATCH(A237-$A$2+BQ237,krzywa!A:A,0)&\":D\"&MATCH(B237-$A$2-AY237,krzywa!A:A,0)))),INDIRECT(\"krzywa!D\"&MATCH(K237,krzywa!A:A,0))),4)","v":{"$error":"#N/A"}},{"$f":"VLOOKUP(A237,krzywa!L:N,3,1)","v":{"$error":"#N/A"}},{"$f":"VLOOKUP(B237,krzywa!L:N,3,1)","v":{"$error":"#N/A"}},{"$f":"IF('Kalkulator Depozytów'!$B$35=TRUE,1,(1+S237/100)*W237+(1+T237/100)*(1-W237))","v":{"$error":"#N/A"}},{"$f":"IF(S237<>T237,VLOOKUP(A237,krzywa!L:M,2,1))","v":{"$error":"#N/A"}},{"$f":"IF(V237<>FALSE,IF(L237=\"BASE\",(V237-A237+1)*24+J237,IF(L237=\"OFFPEAK\",NETWORKDAYS(A237,V237,koszyki!$M$20:$M$898)*9+(N237)*24+J237,IF(L237=\"L-PEAK5\",NETWORKDAYS(A237,V237,koszyki!$M$20:$M$898)*10,IF(L237=\"H-PEAK5\",NETWORKDAYS(A237,V237,koszyki!$M$20:$M$898)*5,NETWORKDAYS(A237,V237,koszyki!$M$20:$M$898)*15))))/C237,1)","v":{"$error":"#N/A"}}]
[null,null,0,{"$f":"'Kalkulator Depozytów'!M243","v":0},{"$f":"'Kalkulator Depozytów'!N243","v":0},{"$f":"'Kalkulator Depozytów'!O243","v":0},{"$f":"'Kalkulator Depozytów'!P243","v":0},{"$f":"'Kalkulator Depozytów'!Q243","v":0},{"$f":"ROUND(IF(OR(AND(K238>0,L238=\"L-PEAK5\"),AND(K238>0,L238=\"H-PEAK5\")),R238,IF(AND(K238>0,L238=\"PEAK5\"),O238,IF(K238>0,IF(OR(L238=\"BASE\"),AVERAGE(INDIRECT(\"krzywa!B\"&MATCH(A238-$A$2,krzywa!A:A,0)&\":B\"&MATCH(B238-$A$2,krzywa!A:A,0),TRUE)),IF(OR(L238=\"OFFPEAK\"),AVERAGE(INDIRECT(\"krzywa!F\"&MATCH(A238-$A$2,krzywa!A:A,0)&\":F\"&MATCH(B238-$A$2,krzywa!A:A,0)))))))),4)","v":0},null,0,null,{"$f":"NETWORKDAYS(A238,B238,koszyki!$M$20:$M$898)","v":0},{"$f":"B238-A238+1- NETWORKDAYS(A238,B238,koszyki!$M$20:$M$898)","v":1},{"$f":"ROUND(IF((B238-A238+1)>2,IF(C238=75,AVERAGE(INDIRECT(\"krzywa!C\"&MATCH(K238-6,krzywa!A:A,0)&\":C\"&MATCH(K238-2,krzywa!A:A,0))),AVERAGE(INDIRECT(\"krzywa!C\"&MATCH(A238-$A$2+BQ238,krzywa!A:A,0)&\":C\"&MATCH(B238-$A$2-AY238,krzywa!A:A,0)))),INDIRECT(\"krzywa!C\"&MATCH(K238,krzywa!A:A,0))),4)","v":{"$error":"#N/A"}},{"$error":"#N/A"},{"$f":"-C238*ABS(D238-F238)*H238*I238*U238+'kompensacja międzyproduktowa'!X238*U238","v":{"$error":"#N/A"}},{"$f":"ROUND(IF((B238-A238+1)>2,IF(C238=75,AVERAGE(INDIRECT(\"krzywa!D\"&MATCH(K238-6,krzywa!A:A,0)&\":D\"&MATCH(K238-2,krzywa!A:A,0))),AVERAGE(INDIRECT(\"krzywa!D\"&MATCH(A238-$A$2+BQ238,krzywa!A:A,0)&\":D\"&MATCH(B238-$A$2-AY238,krzywa!A:A,0)))),INDIRECT(\"krzywa!D\"&MATCH(K238,krzywa!A:A,0))),4)","v":{"$error":"#N/A"}},{"$f":"VLOOKUP(A238,krzywa!L:N,3,1)","v":{"$error":"#N/A"}},{"$f":"VLOOKUP(B238,krzywa!L:N,3,1)","v":{"$error":"#N/A"}},{"$f":"IF('Kalkulator Depozytów'!$B$35=TRUE,1,(1+S238/100)*W238+(1+T238/100)*(1-W238))","v":{"$error":"#N/A"}},{"$f":"IF(S238<>T238,VLOOKUP(A238,krzywa!L:M,2,1))","v":{"$error":"#N/A"}},{"$f":"IF(V238<>FALSE,IF(L238=\"BASE\",(V238-A238+1)*24+J238,IF(L238=\"OFFPEAK\",NETWORKDAYS(A238,V238,koszyki!$M$20:$M$898)*9+(N238)*24+J238,IF(L238=\"L-PEAK5\",NETWORKDAYS(A238,V238,koszyki!$M$20:$M$898)*10,IF(L238=\"H-PEAK5\",NETWORKDAYS(A238,V238,koszyki!$M$20:$M$898)*5,NETWORKDAYS(A238,V238,koszyki!$M$20:$M$898)*15))))/C238,1)","v":{"$error":"#N/A"}}]
[null,null,0,{"$f":"'Kalkulator Depozytów'!M244","v":0},{"$f":"'Kalkulator Depozytów'!N244","v":0},{"$f":"'Kalkulator Depozytów'!O244","v":0},{"$f":"'Kalkulator Depozytów'!P244","v":0},{"$f":"'Kalkulator Depozytów'!Q244","v":0},{"$f":"ROUND(IF(OR(AND(K239>0,L239=\"L-PEAK5\"),AND(K239>0,L239=\"H-PEAK5\")),R239,IF(AND(K239>0,L239=\"PEAK5\"),O239,IF(K239>0,IF(OR(L239=\"BASE\"),AVERAGE(INDIRECT(\"krzywa!B\"&MATCH(A239-$A$2,krzywa!A:A,0)&\":B\"&MATCH(B239-$A$2,krzywa!A:A,0),TRUE)),IF(OR(L239=\"OFFPEAK\"),AVERAGE(INDIRECT(\"krzywa!F\"&MATCH(A239-$A$2,krzywa!A:A,0)&\":F\"&MATCH(B239-$A$2,krzywa!A:A,0)))))))),4)","v":0},null,0,null,{"$f":"NETWORKDAYS(A239,B239,koszyki!$M$20:$M$898)","v":0},{"$f":"B239-A239+1- NETWORKDAYS(A239,B239,koszyki!$M$20:$M$898)","v":1},{"$f":"ROUND(IF((B239-A239+1)>2,IF(C239=75,AVERAGE(INDIRECT(\"krzywa!C\"&MATCH(K239-6,krzywa!A:A,0)&\":C\"&MATCH(K239-2,krzywa!A:A,0))),AVERAGE(INDIRECT(\"krzywa!C\"&MATCH(A239-$A$2+BQ239,krzywa!A:A,0)&\":C\"&MATCH(B239-$A$2-AY239,krzywa!A:A,0)))),INDIRECT(\"krzywa!C\"&MATCH(K239,krzywa!A:A,0))),4)","v":{"$error":"#N/A"}},{"$error":"#N/A"},{"$f":"-C239*ABS(D239-F239)*H239*I239*U239+'kompensacja międzyproduktowa'!X239*U239","v":{"$error":"#N/A"}},{"$f":"ROUND(IF((B239-A239+1)>2,IF(C239=75,AVERAGE(INDIRECT(\"krzywa!D\"&MATCH(K239-6,krzywa!A:A,0)&\":D\"&MATCH(K239-2,krzywa!A:A,0))),AVERAGE(INDIRECT(\"krzywa!D\"&MATCH(A239-$A$2+BQ239,krzywa!A:A,0)&\":D\"&MATCH(B239-$A$2-AY239,krzywa!A:A,0)))),INDIRECT(\"krzywa!D\"&MATCH(K239,krzywa!A:A,0))),4)","v":{"$error":"#N/A"}},{"$f":"VLOOKUP(A239,krzywa!L:N,3,1)","v":{"$error":"#N/A"}},{"$f":"VLOOKUP(B239,krzywa!L:N,3,1)","v":{"$error":"#N/A"}},{"$f":"IF('Kalkulator Depozytów'!$B$35=TRUE,1,(1+S239/100)*W239+(1+T239/100)*(1-W239))","v":{"$error":"#N/A"}},{"$f":"IF(S239<>T239,VLOOKUP(A239,krzywa!L:M,2,1))","v":{"$error":"#N/A"}},{"$f":"IF(V239<>FALSE,IF(L239=\"BASE\",(V239-A239+1)*24+J239,IF(L239=\"OFFPEAK\",NETWORKDAYS(A239,V239,koszyki!$M$20:$M$898)*9+(N239)*24+J239,IF(L239=\"L-PEAK5\",NETWORKDAYS(A239,V239,koszyki!$M$20:$M$898)*10,IF(L239=\"H-PEAK5\",NETWORKDAYS(A239,V239,koszyki!$M$20:$M$898)*5,NETWORKDAYS(A239,V239,koszyki!$M$20:$M$898)*15))))/C239,1)","v":{"$error":"#N/A"}}]
[null,null,0,{"$f":"'Kalkulator Depozytów'!M245","v":0},{"$f":"'Kalkulator Depozytów'!N245","v":0},{"$f":"'Kalkulator Depozytów'!O245","v":0},{"$f":"'Kalkulator Depozytów'!P245","v":0},{"$f":"'Kalkulator Depozytów'!Q245","v":0},{"$f":"ROUND(IF(OR(AND(K240>0,L240=\"L-PEAK5\"),AND(K240>0,L240=\"H-PEAK5\")),R240,IF(AND(K240>0,L240=\"PEAK5\"),O240,IF(K240>0,IF(OR(L240=\"BASE\"),AVERAGE(INDIRECT(\"krzywa!B\"&MATCH(A240-$A$2,krzywa!A:A,0)&\":B\"&MATCH(B240-$A$2,krzywa!A:A,0),TRUE)),IF(OR(L240=\"OFFPEAK\"),AVERAGE(INDIRECT(\"krzywa!F\"&MATCH(A240-$A$2,krzywa!A:A,0)&\":F\"&MATCH(B240-$A$2,krzywa!A:A,0)))))))),4)","v":0},null,0,null,{"$f":"NETWORKDAYS(A240,B240,koszyki!$M$20:$M$898)","v":0},{"$f":"B240-A240+1- NETWORKDAYS(A240,B240,koszyki!$M$20:$M$898)","v":1},{"$f":"ROUND(IF((B240-A240+1)>2,IF(C240=75,AVERAGE(INDIRECT(\"krzywa!C\"&MATCH(K240-6,krzywa!A:A,0)&\":C\"&MATCH(K240-2,krzywa!A:A,0))),AVERAGE(INDIRECT(\"krzywa!C\"&MATCH(A240-$A$2+BQ240,krzywa!A:A,0)&\":C\"&MATCH(B240-$A$2-AY240,krzywa!A:A,0)))),INDIRECT(\"krzywa!C\"&MATCH(K240,krzywa!A:A,0))),4)","v":{"$error":"#N/A"}},{"$error":"#N/A"},{"$f":"-C240*ABS(D240-F240)*H240*I240*U240+'kompensacja międzyproduktowa'!X240*U240","v":{"$error":"#N/A"}},{"$f":"ROUND(IF((B240-A240+1)>2,IF(C240=75,AVERAGE(INDIRECT(\"krzywa!D\"&MATCH(K240-6,krzywa!A:A,0)&\":D\"&MATCH(K240-2,krzywa!A:A,0))),AVERAGE(INDIRECT(\"krzywa!D\"&MATCH(A240-$A$2+BQ240,krzywa!A:A,0)&\":D\"&MATCH(B240-$A$2-AY240,krzywa!A:A,0)))),INDIRECT(\"krzywa!D\"&MATCH(K240,krzywa!A:A,0))),4)","v":{"$error":"#N/A"}},{"$f":"VLOOKUP(A240,krzywa!L:N,3,1)","v":{"$error":"#N/A"}},{"$f":"VLOOKUP(B240,krzywa!L:N,3,1)","v":{"$error":"#N/A"}},{"$f":"IF('Kalkulator Depozytów'!$B$35=TRUE,1,(1+S240/100)*W240+(1+T240/100)*(1-W240))","v":{"$error":"#N/A"}},{"$f":"IF(S240<>T240,VLOOKUP(A240,krzywa!L:M,2,1))","v":{"$error":"#N/A"}},{"$f":"IF(V240<>FALSE,IF(L240=\"BASE\",(V240-A240+1)*24+J240,IF(L240=\"OFFPEAK\",NETWORKDAYS(A240,V240,koszyki!$M$20:$M$898)*9+(N240)*24+J240,IF(L240=\"L-PEAK5\",NETWORKDAYS(A240,V240,koszyki!$M$20:$M$898)*10,IF(L240=\"H-PEAK5\",NETWORKDAYS(A240,V240,koszyki!$M$20:$M$898)*5,NETWORKDAYS(A240,V240,koszyki!$M$20:$M$898)*15))))/C240,1)","v":{"$error":"#N/A"}}]
[null,null,0,{"$f":"'Kalkulator Depozytów'!M246","v":0},{"$f":"'Kalkulator Depozytów'!N246","v":0},{"$f":"'Kalkulator Depozytów'!O246","v":0},{"$f":"'Kalkulator Depozytów'!P246","v":0},{"$f":"'Kalkulator Depozytów'!Q246","v":0},{"$f":"ROUND(IF(OR(AND(K241>0,L241=\"L-PEAK5\"),AND(K241>0,L241=\"H-PEAK5\")),R241,IF(AND(K241>0,L241=\"PEAK5\"),O241,IF(K241>0,IF(OR(L241=\"BASE\"),AVERAGE(INDIRECT(\"krzywa!B\"&MATCH(A241-$A$2,krzywa!A:A,0)&\":B\"&MATCH(B241-$A$2,krzywa!A:A,0),TRUE)),IF(OR(L241=\"OFFPEAK\"),AVERAGE(INDIRECT(\"krzywa!F\"&MATCH(A241-$A$2,krzywa!A:A,0)&\":F\"&MATCH(B241-$A$2,krzywa!A:A,0)))))))),4)","v":0},null,0,null,{"$f":"NETWORKDAYS(A241,B241,koszyki!$M$20:$M$898)","v":0},{"$f":"B241-A241+1- NETWORKDAYS(A241,B241,koszyki!$M$20:$M$898)","v":1},{"$f":"ROUND(IF((B241-A241+1)>2,IF(C241=75,AVERAGE(INDIRECT(\"krzywa!C\"&MATCH(K241-6,krzywa!A:A,0)&\":C\"&MATCH(K241-2,krzywa!A:A,0))),AVERAGE(INDIRECT(\"krzywa!C\"&MATCH(A241-$A$2+BQ241,krzywa!A:A,0)&\":C\"&MATCH(B241-$A$2-AY241,krzywa!A:A,0)))),INDIRECT(\"krzywa!C\"&MATCH(K241,krzywa!A:A,0))),4)","v":{"$error":"#N/A"}},{"$error":"#N/A"},{"$f":"-C241*ABS(D241-F241)*H241*I241*U241+'kompensacja międzyproduktowa'!X241*U241","v":{"$error":"#N/A"}},{"$f":"ROUND(IF((B241-A241+1)>2,IF(C241=75,AVERAGE(INDIRECT(\"krzywa!D\"&MATCH(K241-6,krzywa!A:A,0)&\":D\"&MATCH(K241-2,krzywa!A:A,0))),AVERAGE(INDIRECT(\"krzywa!D\"&MATCH(A241-$A$2+BQ241,krzywa!A:A,0)&\":D\"&MATCH(B241-$A$2-AY241,krzywa!A:A,0)))),INDIRECT(\"krzywa!D\"&MATCH(K241,krzywa!A:A,0))),4)","v":{"$error":"#N/A"}},{"$f":"VLOOKUP(A241,krzywa!L:N,3,1)","v":{"$error":"#N/A"}},{"$f":"VLOOKUP(B241,krzywa!L:N,3,1)","v":{"$error":"#N/A"}},{"$f":"IF('Kalkulator Depozytów'!$B$35=TRUE,1,(1+S241/100)*W241+(1+T241/100)*(1-W241))","v":{"$error":"#N/A"}},{"$f":"IF(S241<>T241,VLOOKUP(A241,krzywa!L:M,2,1))","v":{"$error":"#N/A"}},{"$f":"IF(V241<>FALSE,IF(L241=\"BASE\",(V241-A241+1)*24+J241,IF(L241=\"OFFPEAK\",NETWORKDAYS(A241,V241,koszyki!$M$20:$M$898)*9+(N241)*24+J241,IF(L241=\"L-PEAK5\",NETWORKDAYS(A241,V241,koszyki!$M$20:$M$898)*10,IF(L241=\"H-PEAK5\",NETWORKDAYS(A241,V241,koszyki!$M$20:$M$898)*5,NETWORKDAYS(A241,V241,koszyki!$M$20:$M$898)*15))))/C241,1)","v":{"$error":"#N/A"}}]
[null,null,0,{"$f":"'Kalkulator Depozytów'!M247","v":0},{"$f":"'Kalkulator Depozytów'!N247","v":0},{"$f":"'Kalkulator Depozytów'!O247","v":0},{"$f":"'Kalkulator Depozytów'!P247","v":0},{"$f":"'Kalkulator Depozytów'!Q247","v":0},{"$f":"ROUND(IF(OR(AND(K242>0,L242=\"L-PEAK5\"),AND(K242>0,L242=\"H-PEAK5\")),R242,IF(AND(K242>0,L242=\"PEAK5\"),O242,IF(K242>0,IF(OR(L242=\"BASE\"),AVERAGE(INDIRECT(\"krzywa!B\"&MATCH(A242-$A$2,krzywa!A:A,0)&\":B\"&MATCH(B242-$A$2,krzywa!A:A,0),TRUE)),IF(OR(L242=\"OFFPEAK\"),AVERAGE(INDIRECT(\"krzywa!F\"&MATCH(A242-$A$2,krzywa!A:A,0)&\":F\"&MATCH(B242-$A$2,krzywa!A:A,0)))))))),4)","v":0},null,0,null,{"$f":"NETWORKDAYS(A242,B242,koszyki!$M$20:$M$898)","v":0},{"$f":"B242-A242+1- NETWORKDAYS(A242,B242,koszyki!$M$20:$M$898)","v":1},{"$f":"ROUND(IF((B242-A242+1)>2,IF(C242=75,AVERAGE(INDIRECT(\"krzywa!C\"&MATCH(K242-6,krzywa!A:A,0)&\":C\"&MATCH(K242-2,krzywa!A:A,0))),AVERAGE(INDIRECT(\"krzywa!C\"&MATCH(A242-$A$2+BQ242,krzywa!A:A,0)&\":C\"&MATCH(B242-$A$2-AY242,krzywa!A:A,0)))),INDIRECT(\"krzywa!C\"&MATCH(K242,krzywa!A:A,0))),4)","v":{"$error":"#N/A"}},{"$error":"#N/A"},{"$f":"-C242*ABS(D242-F242)*H242*I242*U242+'kompensacja międzyproduktowa'!X242*U242","v":{"$error":"#N/A"}},{"$f":"ROUND(IF((B242-A242+1)>2,IF(C242=75,AVERAGE(INDIRECT(\"krzywa!D\"&MATCH(K242-6,krzywa!A:A,0)&\":D\"&MATCH(K242-2,krzywa!A:A,0))),AVERAGE(INDIRECT(\"krzywa!D\"&MATCH(A242-$A$2+BQ242,krzywa!A:A,0)&\":D\"&MATCH(B242-$A$2-AY242,krzywa!A:A,0)))),INDIRECT(\"krzywa!D\"&MATCH(K242,krzywa!A:A,0))),4)","v":{"$error":"#N/A"}},{"$f":"VLOOKUP(A242,krzywa!L:N,3,1)","v":{"$error":"#N/A"}},{"$f":"VLOOKUP(B242,krzywa!L:N,3,1)","v":{"$error":"#N/A"}},{"$f":"IF('Kalkulator Depozytów'!$B$35=TRUE,1,(1+S242/100)*W242+(1+T242/100)*(1-W242))","v":{"$error":"#N/A"}},{"$f":"IF(S242<>T242,VLOOKUP(A242,krzywa!L:M,2,1))","v":{"$error":"#N/A"}},{"$f":"IF(V242<>FALSE,IF(L242=\"BASE\",(V242-A242+1)*24+J242,IF(L242=\"OFFPEAK\",NETWORKDAYS(A242,V242,koszyki!$M$20:$M$898)*9+(N242)*24+J242,IF(L242=\"L-PEAK5\",NETWORKDAYS(A242,V242,koszyki!$M$20:$M$898)*10,IF(L242=\"H-PEAK5\",NETWORKDAYS(A242,V242,koszyki!$M$20:$M$898)*5,NETWORKDAYS(A242,V242,koszyki!$M$20:$M$898)*15))))/C242,1)","v":{"$error":"#N/A"}}]
[null,null,0,{"$f":"'Kalkulator Depozytów'!M248","v":0},{"$f":"'Kalkulator Depozytów'!N248","v":0},{"$f":"'Kalkulator Depozytów'!O248","v":0},{"$f":"'Kalkulator Depozytów'!P248","v":0},{"$f":"'Kalkulator Depozytów'!Q248","v":0},{"$f":"ROUND(IF(OR(AND(K243>0,L243=\"L-PEAK5\"),AND(K243>0,L243=\"H-PEAK5\")),R243,IF(AND(K243>0,L243=\"PEAK5\"),O243,IF(K243>0,IF(OR(L243=\"BASE\"),AVERAGE(INDIRECT(\"krzywa!B\"&MATCH(A243-$A$2,krzywa!A:A,0)&\":B\"&MATCH(B243-$A$2,krzywa!A:A,0),TRUE)),IF(OR(L243=\"OFFPEAK\"),AVERAGE(INDIRECT(\"krzywa!F\"&MATCH(A243-$A$2,krzywa!A:A,0)&\":F\"&MATCH(B243-$A$2,krzywa!A:A,0)))))))),4)","v":0},null,0,null,{"$f":"NETWORKDAYS(A243,B243,koszyki!$M$20:$M$898)","v":0},{"$f":"B243-A243+1- NETWORKDAYS(A243,B243,koszyki!$M$20:$M$898)","v":1},{"$f":"ROUND(IF((B243-A243+1)>2,IF(C243=75,AVERAGE(INDIRECT(\"krzywa!C\"&MATCH(K243-6,krzywa!A:A,0)&\":C\"&MATCH(K243-2,krzywa!A:A,0))),AVERAGE(INDIRECT(\"krzywa!C\"&MATCH(A243-$A$2+BQ243,krzywa!A:A,0)&\":C\"&MATCH(B243-$A$2-AY243,krzywa!A:A,0)))),INDIRECT(\"krzywa!C\"&MATCH(K243,krzywa!A:A,0))),4)","v":{"$error":"#N/A"}},{"$error":"#N/A"},{"$f":"-C243*ABS(D243-F243)*H243*I243*U243+'kompensacja międzyproduktowa'!X243*U243","v":{"$error":"#N/A"}},{"$f":"ROUND(IF((B243-A243+1)>2,IF(C243=75,AVERAGE(INDIRECT(\"krzywa!D\"&MATCH(K243-6,krzywa!A:A,0)&\":D\"&MATCH(K243-2,krzywa!A:A,0))),AVERAGE(INDIRECT(\"krzywa!D\"&MATCH(A243-$A$2+BQ243,krzywa!A:A,0)&\":D\"&MATCH(B243-$A$2-AY243,krzywa!A:A,0)))),INDIRECT(\"krzywa!D\"&MATCH(K243,krzywa!A:A,0))),4)","v":{"$error":"#N/A"}},{"$f":"VLOOKUP(A243,krzywa!L:N,3,1)","v":{"$error":"#N/A"}},{"$f":"VLOOKUP(B243,krzywa!L:N,3,1)","v":{"$error":"#N/A"}},{"$f":"IF('Kalkulator Depozytów'!$B$35=TRUE,1,(1+S243/100)*W243+(1+T243/100)*(1-W243))","v":{"$error":"#N/A"}},{"$f":"IF(S243<>T243,VLOOKUP(A243,krzywa!L:M,2,1))","v":{"$error":"#N/A"}},{"$f":"IF(V243<>FALSE,IF(L243=\"BASE\",(V243-A243+1)*24+J243,IF(L243=\"OFFPEAK\",NETWORKDAYS(A243,V243,koszyki!$M$20:$M$898)*9+(N243)*24+J243,IF(L243=\"L-PEAK5\",NETWORKDAYS(A243,V243,koszyki!$M$20:$M$898)*10,IF(L243=\"H-PEAK5\",NETWORKDAYS(A243,V243,koszyki!$M$20:$M$898)*5,NETWORKDAYS(A243,V243,koszyki!$M$20:$M$898)*15))))/C243,1)","v":{"$error":"#N/A"}}]
[null,null,0,{"$f":"'Kalkulator Depozytów'!M249","v":0},{"$f":"'Kalkulator Depozytów'!N249","v":0},{"$f":"'Kalkulator Depozytów'!O249","v":0},{"$f":"'Kalkulator Depozytów'!P249","v":0},{"$f":"'Kalkulator Depozytów'!Q249","v":0},{"$f":"ROUND(IF(OR(AND(K244>0,L244=\"L-PEAK5\"),AND(K244>0,L244=\"H-PEAK5\")),R244,IF(AND(K244>0,L244=\"PEAK5\"),O244,IF(K244>0,IF(OR(L244=\"BASE\"),AVERAGE(INDIRECT(\"krzywa!B\"&MATCH(A244-$A$2,krzywa!A:A,0)&\":B\"&MATCH(B244-$A$2,krzywa!A:A,0),TRUE)),IF(OR(L244=\"OFFPEAK\"),AVERAGE(INDIRECT(\"krzywa!F\"&MATCH(A244-$A$2,krzywa!A:A,0)&\":F\"&MATCH(B244-$A$2,krzywa!A:A,0)))))))),4)","v":0},null,0,null,{"$f":"NETWORKDAYS(A244,B244,koszyki!$M$20:$M$898)","v":0},{"$f":"B244-A244+1- NETWORKDAYS(A244,B244,koszyki!$M$20:$M$898)","v":1},{"$f":"ROUND(IF((B244-A244+1)>2,IF(C244=75,AVERAGE(INDIRECT(\"krzywa!C\"&MATCH(K244-6,krzywa!A:A,0)&\":C\"&MATCH(K244-2,krzywa!A:A,0))),AVERAGE(INDIRECT(\"krzywa!C\"&MATCH(A244-$A$2+BQ244,krzywa!A:A,0)&\":C\"&MATCH(B244-$A$2-AY244,krzywa!A:A,0)))),INDIRECT(\"krzywa!C\"&MATCH(K244,krzywa!A:A,0))),4)","v":{"$error":"#N/A"}},{"$error":"#N/A"},{"$f":"-C244*ABS(D244-F244)*H244*I244*U244+'kompensacja międzyproduktowa'!X244*U244","v":{"$error":"#N/A"}},{"$f":"ROUND(IF((B244-A244+1)>2,IF(C244=75,AVERAGE(INDIRECT(\"krzywa!D\"&MATCH(K244-6,krzywa!A:A,0)&\":D\"&MATCH(K244-2,krzywa!A:A,0))),AVERAGE(INDIRECT(\"krzywa!D\"&MATCH(A244-$A$2+BQ244,krzywa!A:A,0)&\":D\"&MATCH(B244-$A$2-AY244,krzywa!A:A,0)))),INDIRECT(\"krzywa!D\"&MATCH(K244,krzywa!A:A,0))),4)","v":{"$error":"#N/A"}},{"$f":"VLOOKUP(A244,krzywa!L:N,3,1)","v":{"$error":"#N/A"}},{"$f":"VLOOKUP(B244,krzywa!L:N,3,1)","v":{"$error":"#N/A"}},{"$f":"IF('Kalkulator Depozytów'!$B$35=TRUE,1,(1+S244/100)*W244+(1+T244/100)*(1-W244))","v":{"$error":"#N/A"}},{"$f":"IF(S244<>T244,VLOOKUP(A244,krzywa!L:M,2,1))","v":{"$error":"#N/A"}},{"$f":"IF(V244<>FALSE,IF(L244=\"BASE\",(V244-A244+1)*24+J244,IF(L244=\"OFFPEAK\",NETWORKDAYS(A244,V244,koszyki!$M$20:$M$898)*9+(N244)*24+J244,IF(L244=\"L-PEAK5\",NETWORKDAYS(A244,V244,koszyki!$M$20:$M$898)*10,IF(L244=\"H-PEAK5\",NETWORKDAYS(A244,V244,koszyki!$M$20:$M$898)*5,NETWORKDAYS(A244,V244,koszyki!$M$20:$M$898)*15))))/C244,1)","v":{"$error":"#N/A"}}]
[null,null,0,{"$f":"'Kalkulator Depozytów'!M250","v":0},{"$f":"'Kalkulator Depozytów'!N250","v":0},{"$f":"'Kalkulator Depozytów'!O250","v":0},{"$f":"'Kalkulator Depozytów'!P250","v":0},{"$f":"'Kalkulator Depozytów'!Q250","v":0},{"$f":"ROUND(IF(OR(AND(K245>0,L245=\"L-PEAK5\"),AND(K245>0,L245=\"H-PEAK5\")),R245,IF(AND(K245>0,L245=\"PEAK5\"),O245,IF(K245>0,IF(OR(L245=\"BASE\"),AVERAGE(INDIRECT(\"krzywa!B\"&MATCH(A245-$A$2,krzywa!A:A,0)&\":B\"&MATCH(B245-$A$2,krzywa!A:A,0),TRUE)),IF(OR(L245=\"OFFPEAK\"),AVERAGE(INDIRECT(\"krzywa!F\"&MATCH(A245-$A$2,krzywa!A:A,0)&\":F\"&MATCH(B245-$A$2,krzywa!A:A,0)))))))),4)","v":0},null,0,null,{"$f":"NETWORKDAYS(A245,B245,koszyki!$M$20:$M$898)","v":0},{"$f":"B245-A245+1- NETWORKDAYS(A245,B245,koszyki!$M$20:$M$898)","v":1},{"$f":"ROUND(IF((B245-A245+1)>2,IF(C245=75,AVERAGE(INDIRECT(\"krzywa!C\"&MATCH(K245-6,krzywa!A:A,0)&\":C\"&MATCH(K245-2,krzywa!A:A,0))),AVERAGE(INDIRECT(\"krzywa!C\"&MATCH(A245-$A$2+BQ245,krzywa!A:A,0)&\":C\"&MATCH(B245-$A$2-AY245,krzywa!A:A,0)))),INDIRECT(\"krzywa!C\"&MATCH(K245,krzywa!A:A,0))),4)","v":{"$error":"#N/A"}},{"$error":"#N/A"},{"$f":"-C245*ABS(D245-F245)*H245*I245*U245+'kompensacja międzyproduktowa'!X245*U245","v":{"$error":"#N/A"}},{"$f":"ROUND(IF((B245-A245+1)>2,IF(C245=75,AVERAGE(INDIRECT(\"krzywa!D\"&MATCH(K245-6,krzywa!A:A,0)&\":D\"&MATCH(K245-2,krzywa!A:A,0))),AVERAGE(INDIRECT(\"krzywa!D\"&MATCH(A245-$A$2+BQ245,krzywa!A:A,0)&\":D\"&MATCH(B245-$A$2-AY245,krzywa!A:A,0)))),INDIRECT(\"krzywa!D\"&MATCH(K245,krzywa!A:A,0))),4)","v":{"$error":"#N/A"}},{"$f":"VLOOKUP(A245,krzywa!L:N,3,1)","v":{"$error":"#N/A"}},{"$f":"VLOOKUP(B245,krzywa!L:N,3,1)","v":{"$error":"#N/A"}},{"$f":"IF('Kalkulator Depozytów'!$B$35=TRUE,1,(1+S245/100)*W245+(1+T245/100)*(1-W245))","v":{"$error":"#N/A"}},{"$f":"IF(S245<>T245,VLOOKUP(A245,krzywa!L:M,2,1))","v":{"$error":"#N/A"}},{"$f":"IF(V245<>FALSE,IF(L245=\"BASE\",(V245-A245+1)*24+J245,IF(L245=\"OFFPEAK\",NETWORKDAYS(A245,V245,koszyki!$M$20:$M$898)*9+(N245)*24+J245,IF(L245=\"L-PEAK5\",NETWORKDAYS(A245,V245,koszyki!$M$20:$M$898)*10,IF(L245=\"H-PEAK5\",NETWORKDAYS(A245,V245,koszyki!$M$20:$M$898)*5,NETWORKDAYS(A245,V245,koszyki!$M$20:$M$898)*15))))/C245,1)","v":{"$error":"#N/A"}}]
[null,null,0,{"$f":"'Kalkulator Depozytów'!M251","v":0},{"$f":"'Kalkulator Depozytów'!N251","v":0},{"$f":"'Kalkulator Depozytów'!O251","v":0},{"$f":"'Kalkulator Depozytów'!P251","v":0},{"$f":"'Kalkulator Depozytów'!Q251","v":0},{"$f":"ROUND(IF(OR(AND(K246>0,L246=\"L-PEAK5\"),AND(K246>0,L246=\"H-PEAK5\")),R246,IF(AND(K246>0,L246=\"PEAK5\"),O246,IF(K246>0,IF(OR(L246=\"BASE\"),AVERAGE(INDIRECT(\"krzywa!B\"&MATCH(A246-$A$2,krzywa!A:A,0)&\":B\"&MATCH(B246-$A$2,krzywa!A:A,0),TRUE)),IF(OR(L246=\"OFFPEAK\"),AVERAGE(INDIRECT(\"krzywa!F\"&MATCH(A246-$A$2,krzywa!A:A,0)&\":F\"&MATCH(B246-$A$2,krzywa!A:A,0)))))))),4)","v":0},null,0,null,{"$f":"NETWORKDAYS(A246,B246,koszyki!$M$20:$M$898)","v":0},{"$f":"B246-A246+1- NETWORKDAYS(A246,B246,koszyki!$M$20:$M$898)","v":1},{"$f":"ROUND(IF((B246-A246+1)>2,IF(C246=75,AVERAGE(INDIRECT(\"krzywa!C\"&MATCH(K246-6,krzywa!A:A,0)&\":C\"&MATCH(K246-2,krzywa!A:A,0))),AVERAGE(INDIRECT(\"krzywa!C\"&MATCH(A246-$A$2+BQ246,krzywa!A:A,0)&\":C\"&MATCH(B246-$A$2-AY246,krzywa!A:A,0)))),INDIRECT(\"krzywa!C\"&MATCH(K246,krzywa!A:A,0))),4)","v":{"$error":"#N/A"}},{"$error":"#N/A"},{"$f":"-C246*ABS(D246-F246)*H246*I246*U246+'kompensacja międzyproduktowa'!X246*U246","v":{"$error":"#N/A"}},{"$f":"ROUND(IF((B246-A246+1)>2,IF(C246=75,AVERAGE(INDIRECT(\"krzywa!D\"&MATCH(K246-6,krzywa!A:A,0)&\":D\"&MATCH(K246-2,krzywa!A:A,0))),AVERAGE(INDIRECT(\"krzywa!D\"&MATCH(A246-$A$2+BQ246,krzywa!A:A,0)&\":D\"&MATCH(B246-$A$2-AY246,krzywa!A:A,0)))),INDIRECT(\"krzywa!D\"&MATCH(K246,krzywa!A:A,0))),4)","v":{"$error":"#N/A"}},{"$f":"VLOOKUP(A246,krzywa!L:N,3,1)","v":{"$error":"#N/A"}},{"$f":"VLOOKUP(B246,krzywa!L:N,3,1)","v":{"$error":"#N/A"}},{"$f":"IF('Kalkulator Depozytów'!$B$35=TRUE,1,(1+S246/100)*W246+(1+T246/100)*(1-W246))","v":{"$error":"#N/A"}},{"$f":"IF(S246<>T246,VLOOKUP(A246,krzywa!L:M,2,1))","v":{"$error":"#N/A"}},{"$f":"IF(V246<>FALSE,IF(L246=\"BASE\",(V246-A246+1)*24+J246,IF(L246=\"OFFPEAK\",NETWORKDAYS(A246,V246,koszyki!$M$20:$M$898)*9+(N246)*24+J246,IF(L246=\"L-PEAK5\",NETWORKDAYS(A246,V246,koszyki!$M$20:$M$898)*10,IF(L246=\"H-PEAK5\",NETWORKDAYS(A246,V246,koszyki!$M$20:$M$898)*5,NETWORKDAYS(A246,V246,koszyki!$M$20:$M$898)*15))))/C246,1)","v":{"$error":"#N/A"}}]
[null,null,0,{"$f":"'Kalkulator Depozytów'!M252","v":0},{"$f":"'Kalkulator Depozytów'!N252","v":0},{"$f":"'Kalkulator Depozytów'!O252","v":0},{"$f":"'Kalkulator Depozytów'!P252","v":0},{"$f":"'Kalkulator Depozytów'!Q252","v":0},{"$f":"ROUND(IF(OR(AND(K247>0,L247=\"L-PEAK5\"),AND(K247>0,L247=\"H-PEAK5\")),R247,IF(AND(K247>0,L247=\"PEAK5\"),O247,IF(K247>0,IF(OR(L247=\"BASE\"),AVERAGE(INDIRECT(\"krzywa!B\"&MATCH(A247-$A$2,krzywa!A:A,0)&\":B\"&MATCH(B247-$A$2,krzywa!A:A,0),TRUE)),IF(OR(L247=\"OFFPEAK\"),AVERAGE(INDIRECT(\"krzywa!F\"&MATCH(A247-$A$2,krzywa!A:A,0)&\":F\"&MATCH(B247-$A$2,krzywa!A:A,0)))))))),4)","v":0},null,0,null,{"$f":"NETWORKDAYS(A247,B247,koszyki!$M$20:$M$898)","v":0},{"$f":"B247-A247+1- NETWORKDAYS(A247,B247,koszyki!$M$20:$M$898)","v":1},{"$f":"ROUND(IF((B247-A247+1)>2,IF(C247=75,AVERAGE(INDIRECT(\"krzywa!C\"&MATCH(K247-6,krzywa!A:A,0)&\":C\"&MATCH(K247-2,krzywa!A:A,0))),AVERAGE(INDIRECT(\"krzywa!C\"&MATCH(A247-$A$2+BQ247,krzywa!A:A,0)&\":C\"&MATCH(B247-$A$2-AY247,krzywa!A:A,0)))),INDIRECT(\"krzywa!C\"&MATCH(K247,krzywa!A:A,0))),4)","v":{"$error":"#N/A"}},{"$error":"#N/A"},{"$f":"-C247*ABS(D247-F247)*H247*I247*U247+'kompensacja międzyproduktowa'!X247*U247","v":{"$error":"#N/A"}},{"$f":"ROUND(IF((B247-A247+1)>2,IF(C247=75,AVERAGE(INDIRECT(\"krzywa!D\"&MATCH(K247-6,krzywa!A:A,0)&\":D\"&MATCH(K247-2,krzywa!A:A,0))),AVERAGE(INDIRECT(\"krzywa!D\"&MATCH(A247-$A$2+BQ247,krzywa!A:A,0)&\":D\"&MATCH(B247-$A$2-AY247,krzywa!A:A,0)))),INDIRECT(\"krzywa!D\"&MATCH(K247,krzywa!A:A,0))),4)","v":{"$error":"#N/A"}},{"$f":"VLOOKUP(A247,krzywa!L:N,3,1)","v":{"$error":"#N/A"}},{"$f":"VLOOKUP(B247,krzywa!L:N,3,1)","v":{"$error":"#N/A"}},{"$f":"IF('Kalkulator Depozytów'!$B$35=TRUE,1,(1+S247/100)*W247+(1+T247/100)*(1-W247))","v":{"$error":"#N/A"}},{"$f":"IF(S247<>T247,VLOOKUP(A247,krzywa!L:M,2,1))","v":{"$error":"#N/A"}},{"$f":"IF(V247<>FALSE,IF(L247=\"BASE\",(V247-A247+1)*24+J247,IF(L247=\"OFFPEAK\",NETWORKDAYS(A247,V247,koszyki!$M$20:$M$898)*9+(N247)*24+J247,IF(L247=\"L-PEAK5\",NETWORKDAYS(A247,V247,koszyki!$M$20:$M$898)*10,IF(L247=\"H-PEAK5\",NETWORKDAYS(A247,V247,koszyki!$M$20:$M$898)*5,NETWORKDAYS(A247,V247,koszyki!$M$20:$M$898)*15))))/C247,1)","v":{"$error":"#N/A"}}]
[null,null,0,{"$f":"'Kalkulator Depozytów'!M253","v":0},{"$f":"'Kalkulator Depozytów'!N253","v":0},{"$f":"'Kalkulator Depozytów'!O253","v":0},{"$f":"'Kalkulator Depozytów'!P253","v":0},{"$f":"'Kalkulator Depozytów'!Q253","v":0},{"$f":"ROUND(IF(OR(AND(K248>0,L248=\"L-PEAK5\"),AND(K248>0,L248=\"H-PEAK5\")),R248,IF(AND(K248>0,L248=\"PEAK5\"),O248,IF(K248>0,IF(OR(L248=\"BASE\"),AVERAGE(INDIRECT(\"krzywa!B\"&MATCH(A248-$A$2,krzywa!A:A,0)&\":B\"&MATCH(B248-$A$2,krzywa!A:A,0),TRUE)),IF(OR(L248=\"OFFPEAK\"),AVERAGE(INDIRECT(\"krzywa!F\"&MATCH(A248-$A$2,krzywa!A:A,0)&\":F\"&MATCH(B248-$A$2,krzywa!A:A,0)))))))),4)","v":0},null,0,null,{"$f":"NETWORKDAYS(A248,B248,koszyki!$M$20:$M$898)","v":0},{"$f":"B248-A248+1- NETWORKDAYS(A248,B248,koszyki!$M$20:$M$898)","v":1},{"$f":"ROUND(IF((B248-A248+1)>2,IF(C248=75,AVERAGE(INDIRECT(\"krzywa!C\"&MATCH(K248-6,krzywa!A:A,0)&\":C\"&MATCH(K248-2,krzywa!A:A,0))),AVERAGE(INDIRECT(\"krzywa!C\"&MATCH(A248-$A$2+BQ248,krzywa!A:A,0)&\":C\"&MATCH(B248-$A$2-AY248,krzywa!A:A,0)))),INDIRECT(\"krzywa!C\"&MATCH(K248,krzywa!A:A,0))),4)","v":{"$error":"#N/A"}},{"$error":"#N/A"},{"$f":"-C248*ABS(D248-F248)*H248*I248*U248+'kompensacja międzyproduktowa'!X248*U248","v":{"$error":"#N/A"}},{"$f":"ROUND(IF((B248-A248+1)>2,IF(C248=75,AVERAGE(INDIRECT(\"krzywa!D\"&MATCH(K248-6,krzywa!A:A,0)&\":D\"&MATCH(K248-2,krzywa!A:A,0))),AVERAGE(INDIRECT(\"krzywa!D\"&MATCH(A248-$A$2+BQ248,krzywa!A:A,0)&\":D\"&MATCH(B248-$A$2-AY248,krzywa!A:A,0)))),INDIRECT(\"krzywa!D\"&MATCH(K248,krzywa!A:A,0))),4)","v":{"$error":"#N/A"}},{"$f":"VLOOKUP(A248,krzywa!L:N,3,1)","v":{"$error":"#N/A"}},{"$f":"VLOOKUP(B248,krzywa!L:N,3,1)","v":{"$error":"#N/A"}},{"$f":"IF('Kalkulator Depozytów'!$B$35=TRUE,1,(1+S248/100)*W248+(1+T248/100)*(1-W248))","v":{"$error":"#N/A"}},{"$f":"IF(S248<>T248,VLOOKUP(A248,krzywa!L:M,2,1))","v":{"$error":"#N/A"}},{"$f":"IF(V248<>FALSE,IF(L248=\"BASE\",(V248-A248+1)*24+J248,IF(L248=\"OFFPEAK\",NETWORKDAYS(A248,V248,koszyki!$M$20:$M$898)*9+(N248)*24+J248,IF(L248=\"L-PEAK5\",NETWORKDAYS(A248,V248,koszyki!$M$20:$M$898)*10,IF(L248=\"H-PEAK5\",NETWORKDAYS(A248,V248,koszyki!$M$20:$M$898)*5,NETWORKDAYS(A248,V248,koszyki!$M$20:$M$898)*15))))/C248,1)","v":{"$error":"#N/A"}}]
[null,null,0,{"$f":"'Kalkulator Depozytów'!M254","v":0},{"$f":"'Kalkulator Depozytów'!N254","v":0},{"$f":"'Kalkulator Depozytów'!O254","v":0},{"$f":"'Kalkulator Depozytów'!P254","v":0},{"$f":"'Kalkulator Depozytów'!Q254","v":0},{"$f":"ROUND(IF(OR(AND(K249>0,L249=\"L-PEAK5\"),AND(K249>0,L249=\"H-PEAK5\")),R249,IF(AND(K249>0,L249=\"PEAK5\"),O249,IF(K249>0,IF(OR(L249=\"BASE\"),AVERAGE(INDIRECT(\"krzywa!B\"&MATCH(A249-$A$2,krzywa!A:A,0)&\":B\"&MATCH(B249-$A$2,krzywa!A:A,0),TRUE)),IF(OR(L249=\"OFFPEAK\"),AVERAGE(INDIRECT(\"krzywa!F\"&MATCH(A249-$A$2,krzywa!A:A,0)&\":F\"&MATCH(B249-$A$2,krzywa!A:A,0)))))))),4)","v":0},null,0,null,{"$f":"NETWORKDAYS(A249,B249,koszyki!$M$20:$M$898)","v":0},{"$f":"B249-A249+1- NETWORKDAYS(A249,B249,koszyki!$M$20:$M$898)","v":1},{"$f":"ROUND(IF((B249-A249+1)>2,IF(C249=75,AVERAGE(INDIRECT(\"krzywa!C\"&MATCH(K249-6,krzywa!A:A,0)&\":C\"&MATCH(K249-2,krzywa!A:A,0))),AVERAGE(INDIRECT(\"krzywa!C\"&MATCH(A249-$A$2+BQ249,krzywa!A:A,0)&\":C\"&MATCH(B249-$A$2-AY249,krzywa!A:A,0)))),INDIRECT(\"krzywa!C\"&MATCH(K249,krzywa!A:A,0))),4)","v":{"$error":"#N/A"}},{"$error":"#N/A"},{"$f":"-C249*ABS(D249-F249)*H249*I249*U249+'kompensacja międzyproduktowa'!X249*U249","v":{"$error":"#N/A"}},{"$f":"ROUND(IF((B249-A249+1)>2,IF(C249=75,AVERAGE(INDIRECT(\"krzywa!D\"&MATCH(K249-6,krzywa!A:A,0)&\":D\"&MATCH(K249-2,krzywa!A:A,0))),AVERAGE(INDIRECT(\"krzywa!D\"&MATCH(A249-$A$2+BQ249,krzywa!A:A,0)&\":D\"&MATCH(B249-$A$2-AY249,krzywa!A:A,0)))),INDIRECT(\"krzywa!D\"&MATCH(K249,krzywa!A:A,0))),4)","v":{"$error":"#N/A"}},{"$f":"VLOOKUP(A249,krzywa!L:N,3,1)","v":{"$error":"#N/A"}},{"$f":"VLOOKUP(B249,krzywa!L:N,3,1)","v":{"$error":"#N/A"}},{"$f":"IF('Kalkulator Depozytów'!$B$35=TRUE,1,(1+S249/100)*W249+(1+T249/100)*(1-W249))","v":{"$error":"#N/A"}},{"$f":"IF(S249<>T249,VLOOKUP(A249,krzywa!L:M,2,1))","v":{"$error":"#N/A"}},{"$f":"IF(V249<>FALSE,IF(L249=\"BASE\",(V249-A249+1)*24+J249,IF(L249=\"OFFPEAK\",NETWORKDAYS(A249,V249,koszyki!$M$20:$M$898)*9+(N249)*24+J249,IF(L249=\"L-PEAK5\",NETWORKDAYS(A249,V249,koszyki!$M$20:$M$898)*10,IF(L249=\"H-PEAK5\",NETWORKDAYS(A249,V249,koszyki!$M$20:$M$898)*5,NETWORKDAYS(A249,V249,koszyki!$M$20:$M$898)*15))))/C249,1)","v":{"$error":"#N/A"}}]
[null,null,0,{"$f":"'Kalkulator Depozytów'!M255","v":0},{"$f":"'Kalkulator Depozytów'!N255","v":0},{"$f":"'Kalkulator Depozytów'!O255","v":0},{"$f":"'Kalkulator Depozytów'!P255","v":0},{"$f":"'Kalkulator Depozytów'!Q255","v":0},{"$f":"ROUND(IF(OR(AND(K250>0,L250=\"L-PEAK5\"),AND(K250>0,L250=\"H-PEAK5\")),R250,IF(AND(K250>0,L250=\"PEAK5\"),O250,IF(K250>0,IF(OR(L250=\"BASE\"),AVERAGE(INDIRECT(\"krzywa!B\"&MATCH(A250-$A$2,krzywa!A:A,0)&\":B\"&MATCH(B250-$A$2,krzywa!A:A,0),TRUE)),IF(OR(L250=\"OFFPEAK\"),AVERAGE(INDIRECT(\"krzywa!F\"&MATCH(A250-$A$2,krzywa!A:A,0)&\":F\"&MATCH(B250-$A$2,krzywa!A:A,0)))))))),4)","v":0},null,0,null,{"$f":"NETWORKDAYS(A250,B250,koszyki!$M$20:$M$898)","v":0},{"$f":"B250-A250+1- NETWORKDAYS(A250,B250,koszyki!$M$20:$M$898)","v":1},{"$f":"ROUND(IF((B250-A250+1)>2,IF(C250=75,AVERAGE(INDIRECT(\"krzywa!C\"&MATCH(K250-6,krzywa!A:A,0)&\":C\"&MATCH(K250-2,krzywa!A:A,0))),AVERAGE(INDIRECT(\"krzywa!C\"&MATCH(A250-$A$2+BQ250,krzywa!A:A,0)&\":C\"&MATCH(B250-$A$2-AY250,krzywa!A:A,0)))),INDIRECT(\"krzywa!C\"&MATCH(K250,krzywa!A:A,0))),4)","v":{"$error":"#N/A"}},{"$error":"#N/A"},{"$f":"-C250*ABS(D250-F250)*H250*I250*U250+'kompensacja międzyproduktowa'!X250*U250","v":{"$error":"#N/A"}},{"$f":"ROUND(IF((B250-A250+1)>2,IF(C250=75,AVERAGE(INDIRECT(\"krzywa!D\"&MATCH(K250-6,krzywa!A:A,0)&\":D\"&MATCH(K250-2,krzywa!A:A,0))),AVERAGE(INDIRECT(\"krzywa!D\"&MATCH(A250-$A$2+BQ250,krzywa!A:A,0)&\":D\"&MATCH(B250-$A$2-AY250,krzywa!A:A,0)))),INDIRECT(\"krzywa!D\"&MATCH(K250,krzywa!A:A,0))),4)","v":{"$error":"#N/A"}},{"$f":"VLOOKUP(A250,krzywa!L:N,3,1)","v":{"$error":"#N/A"}},{"$f":"VLOOKUP(B250,krzywa!L:N,3,1)","v":{"$error":"#N/A"}},{"$f":"IF('Kalkulator Depozytów'!$B$35=TRUE,1,(1+S250/100)*W250+(1+T250/100)*(1-W250))","v":{"$error":"#N/A"}},{"$f":"IF(S250<>T250,VLOOKUP(A250,krzywa!L:M,2,1))","v":{"$error":"#N/A"}},{"$f":"IF(V250<>FALSE,IF(L250=\"BASE\",(V250-A250+1)*24+J250,IF(L250=\"OFFPEAK\",NETWORKDAYS(A250,V250,koszyki!$M$20:$M$898)*9+(N250)*24+J250,IF(L250=\"L-PEAK5\",NETWORKDAYS(A250,V250,koszyki!$M$20:$M$898)*10,IF(L250=\"H-PEAK5\",NETWORKDAYS(A250,V250,koszyki!$M$20:$M$898)*5,NETWORKDAYS(A250,V250,koszyki!$M$20:$M$898)*15))))/C250,1)","v":{"$error":"#N/A"}}]
[null,null,0,{"$f":"'Kalkulator Depozytów'!M256","v":0},{"$f":"'Kalkulator Depozytów'!N256","v":0},{"$f":"'Kalkulator Depozytów'!O256","v":0},{"$f":"'Kalkulator Depozytów'!P256","v":0},{"$f":"'Kalkulator Depozytów'!Q256","v":0},{"$f":"ROUND(IF(OR(AND(K251>0,L251=\"L-PEAK5\"),AND(K251>0,L251=\"H-PEAK5\")),R251,IF(AND(K251>0,L251=\"PEAK5\"),O251,IF(K251>0,IF(OR(L251=\"BASE\"),AVERAGE(INDIRECT(\"krzywa!B\"&MATCH(A251-$A$2,krzywa!A:A,0)&\":B\"&MATCH(B251-$A$2,krzywa!A:A,0),TRUE)),IF(OR(L251=\"OFFPEAK\"),AVERAGE(INDIRECT(\"krzywa!F\"&MATCH(A251-$A$2,krzywa!A:A,0)&\":F\"&MATCH(B251-$A$2,krzywa!A:A,0)))))))),4)","v":0},null,0,null,{"$f":"NETWORKDAYS(A251,B251,koszyki!$M$20:$M$898)","v":0},{"$f":"B251-A251+1- NETWORKDAYS(A251,B251,koszyki!$M$20:$M$898)","v":1},{"$f":"ROUND(IF((B251-A251+1)>2,IF(C251=75,AVERAGE(INDIRECT(\"krzywa!C\"&MATCH(K251-6,krzywa!A:A,0)&\":C\"&MATCH(K251-2,krzywa!A:A,0))),AVERAGE(INDIRECT(\"krzywa!C\"&MATCH(A251-$A$2+BQ251,krzywa!A:A,0)&\":C\"&MATCH(B251-$A$2-AY251,krzywa!A:A,0)))),INDIRECT(\"krzywa!C\"&MATCH(K251,krzywa!A:A,0))),4)","v":{"$error":"#N/A"}},{"$error":"#N/A"},{"$f":"-C251*ABS(D251-F251)*H251*I251*U251+'kompensacja międzyproduktowa'!X251*U251","v":{"$error":"#N/A"}},{"$f":"ROUND(IF((B251-A251+1)>2,IF(C251=75,AVERAGE(INDIRECT(\"krzywa!D\"&MATCH(K251-6,krzywa!A:A,0)&\":D\"&MATCH(K251-2,krzywa!A:A,0))),AVERAGE(INDIRECT(\"krzywa!D\"&MATCH(A251-$A$2+BQ251,krzywa!A:A,0)&\":D\"&MATCH(B251-$A$2-AY251,krzywa!A:A,0)))),INDIRECT(\"krzywa!D\"&MATCH(K251,krzywa!A:A,0))),4)","v":{"$error":"#N/A"}},{"$f":"VLOOKUP(A251,krzywa!L:N,3,1)","v":{"$error":"#N/A"}},{"$f":"VLOOKUP(B251,krzywa!L:N,3,1)","v":{"$error":"#N/A"}},{"$f":"IF('Kalkulator Depozytów'!$B$35=TRUE,1,(1+S251/100)*W251+(1+T251/100)*(1-W251))","v":{"$error":"#N/A"}},{"$f":"IF(S251<>T251,VLOOKUP(A251,krzywa!L:M,2,1))","v":{"$error":"#N/A"}},{"$f":"IF(V251<>FALSE,IF(L251=\"BASE\",(V251-A251+1)*24+J251,IF(L251=\"OFFPEAK\",NETWORKDAYS(A251,V251,koszyki!$M$20:$M$898)*9+(N251)*24+J251,IF(L251=\"L-PEAK5\",NETWORKDAYS(A251,V251,koszyki!$M$20:$M$898)*10,IF(L251=\"H-PEAK5\",NETWORKDAYS(A251,V251,koszyki!$M$20:$M$898)*5,NETWORKDAYS(A251,V251,koszyki!$M$20:$M$898)*15))))/C251,1)","v":{"$error":"#N/A"}}]
[null,null,0,{"$f":"'Kalkulator Depozytów'!M257","v":0},{"$f":"'Kalkulator Depozytów'!N257","v":0},{"$f":"'Kalkulator Depozytów'!O257","v":0},{"$f":"'Kalkulator Depozytów'!P257","v":0},{"$f":"'Kalkulator Depozytów'!Q257","v":0},{"$f":"ROUND(IF(OR(AND(K252>0,L252=\"L-PEAK5\"),AND(K252>0,L252=\"H-PEAK5\")),R252,IF(AND(K252>0,L252=\"PEAK5\"),O252,IF(K252>0,IF(OR(L252=\"BASE\"),AVERAGE(INDIRECT(\"krzywa!B\"&MATCH(A252-$A$2,krzywa!A:A,0)&\":B\"&MATCH(B252-$A$2,krzywa!A:A,0),TRUE)),IF(OR(L252=\"OFFPEAK\"),AVERAGE(INDIRECT(\"krzywa!F\"&MATCH(A252-$A$2,krzywa!A:A,0)&\":F\"&MATCH(B252-$A$2,krzywa!A:A,0)))))))),4)","v":0},null,0,null,{"$f":"NETWORKDAYS(A252,B252,koszyki!$M$20:$M$898)","v":0},{"$f":"B252-A252+1- NETWORKDAYS(A252,B252,koszyki!$M$20:$M$898)","v":1},{"$f":"ROUND(IF((B252-A252+1)>2,IF(C252=75,AVERAGE(INDIRECT(\"krzywa!C\"&MATCH(K252-6,krzywa!A:A,0)&\":C\"&MATCH(K252-2,krzywa!A:A,0))),AVERAGE(INDIRECT(\"krzywa!C\"&MATCH(A252-$A$2+BQ252,krzywa!A:A,0)&\":C\"&MATCH(B252-$A$2-AY252,krzywa!A:A,0)))),INDIRECT(\"krzywa!C\"&MATCH(K252,krzywa!A:A,0))),4)","v":{"$error":"#N/A"}},{"$error":"#N/A"},{"$f":"-C252*ABS(D252-F252)*H252*I252*U252+'kompensacja międzyproduktowa'!X252*U252","v":{"$error":"#N/A"}},{"$f":"ROUND(IF((B252-A252+1)>2,IF(C252=75,AVERAGE(INDIRECT(\"krzywa!D\"&MATCH(K252-6,krzywa!A:A,0)&\":D\"&MATCH(K252-2,krzywa!A:A,0))),AVERAGE(INDIRECT(\"krzywa!D\"&MATCH(A252-$A$2+BQ252,krzywa!A:A,0)&\":D\"&MATCH(B252-$A$2-AY252,krzywa!A:A,0)))),INDIRECT(\"krzywa!D\"&MATCH(K252,krzywa!A:A,0))),4)","v":{"$error":"#N/A"}},{"$f":"VLOOKUP(A252,krzywa!L:N,3,1)","v":{"$error":"#N/A"}},{"$f":"VLOOKUP(B252,krzywa!L:N,3,1)","v":{"$error":"#N/A"}},{"$f":"IF('Kalkulator Depozytów'!$B$35=TRUE,1,(1+S252/100)*W252+(1+T252/100)*(1-W252))","v":{"$error":"#N/A"}},{"$f":"IF(S252<>T252,VLOOKUP(A252,krzywa!L:M,2,1))","v":{"$error":"#N/A"}},{"$f":"IF(V252<>FALSE,IF(L252=\"BASE\",(V252-A252+1)*24+J252,IF(L252=\"OFFPEAK\",NETWORKDAYS(A252,V252,koszyki!$M$20:$M$898)*9+(N252)*24+J252,IF(L252=\"L-PEAK5\",NETWORKDAYS(A252,V252,koszyki!$M$20:$M$898)*10,IF(L252=\"H-PEAK5\",NETWORKDAYS(A252,V252,koszyki!$M$20:$M$898)*5,NETWORKDAYS(A252,V252,koszyki!$M$20:$M$898)*15))))/C252,1)","v":{"$error":"#N/A"}}]
[null,null,0,{"$f":"'Kalkulator Depozytów'!M258","v":0},{"$f":"'Kalkulator Depozytów'!N258","v":0},{"$f":"'Kalkulator Depozytów'!O258","v":0},{"$f":"'Kalkulator Depozytów'!P258","v":0},{"$f":"'Kalkulator Depozytów'!Q258","v":0},{"$f":"ROUND(IF(OR(AND(K253>0,L253=\"L-PEAK5\"),AND(K253>0,L253=\"H-PEAK5\")),R253,IF(AND(K253>0,L253=\"PEAK5\"),O253,IF(K253>0,IF(OR(L253=\"BASE\"),AVERAGE(INDIRECT(\"krzywa!B\"&MATCH(A253-$A$2,krzywa!A:A,0)&\":B\"&MATCH(B253-$A$2,krzywa!A:A,0),TRUE)),IF(OR(L253=\"OFFPEAK\"),AVERAGE(INDIRECT(\"krzywa!F\"&MATCH(A253-$A$2,krzywa!A:A,0)&\":F\"&MATCH(B253-$A$2,krzywa!A:A,0)))))))),4)","v":0},null,0,null,{"$f":"NETWORKDAYS(A253,B253,koszyki!$M$20:$M$898)","v":0},{"$f":"B253-A253+1- NETWORKDAYS(A253,B253,koszyki!$M$20:$M$898)","v":1},{"$f":"ROUND(IF((B253-A253+1)>2,IF(C253=75,AVERAGE(INDIRECT(\"krzywa!C\"&MATCH(K253-6,krzywa!A:A,0)&\":C\"&MATCH(K253-2,krzywa!A:A,0))),AVERAGE(INDIRECT(\"krzywa!C\"&MATCH(A253-$A$2+BQ253,krzywa!A:A,0)&\":C\"&MATCH(B253-$A$2-AY253,krzywa!A:A,0)))),INDIRECT(\"krzywa!C\"&MATCH(K253,krzywa!A:A,0))),4)","v":{"$error":"#N/A"}},{"$error":"#N/A"},{"$f":"-C253*ABS(D253-F253)*H253*I253*U253+'kompensacja międzyproduktowa'!X253*U253","v":{"$error":"#N/A"}},{"$f":"ROUND(IF((B253-A253+1)>2,IF(C253=75,AVERAGE(INDIRECT(\"krzywa!D\"&MATCH(K253-6,krzywa!A:A,0)&\":D\"&MATCH(K253-2,krzywa!A:A,0))),AVERAGE(INDIRECT(\"krzywa!D\"&MATCH(A253-$A$2+BQ253,krzywa!A:A,0)&\":D\"&MATCH(B253-$A$2-AY253,krzywa!A:A,0)))),INDIRECT(\"krzywa!D\"&MATCH(K253,krzywa!A:A,0))),4)","v":{"$error":"#N/A"}},{"$f":"VLOOKUP(A253,krzywa!L:N,3,1)","v":{"$error":"#N/A"}},{"$f":"VLOOKUP(B253,krzywa!L:N,3,1)","v":{"$error":"#N/A"}},{"$f":"IF('Kalkulator Depozytów'!$B$35=TRUE,1,(1+S253/100)*W253+(1+T253/100)*(1-W253))","v":{"$error":"#N/A"}},{"$f":"IF(S253<>T253,VLOOKUP(A253,krzywa!L:M,2,1))","v":{"$error":"#N/A"}},{"$f":"IF(V253<>FALSE,IF(L253=\"BASE\",(V253-A253+1)*24+J253,IF(L253=\"OFFPEAK\",NETWORKDAYS(A253,V253,koszyki!$M$20:$M$898)*9+(N253)*24+J253,IF(L253=\"L-PEAK5\",NETWORKDAYS(A253,V253,koszyki!$M$20:$M$898)*10,IF(L253=\"H-PEAK5\",NETWORKDAYS(A253,V253,koszyki!$M$20:$M$898)*5,NETWORKDAYS(A253,V253,koszyki!$M$20:$M$898)*15))))/C253,1)","v":{"$error":"#N/A"}}]
[null,null,0,{"$f":"'Kalkulator Depozytów'!M259","v":0},{"$f":"'Kalkulator Depozytów'!N259","v":0},{"$f":"'Kalkulator Depozytów'!O259","v":0},{"$f":"'Kalkulator Depozytów'!P259","v":0},{"$f":"'Kalkulator Depozytów'!Q259","v":0},{"$f":"ROUND(IF(OR(AND(K254>0,L254=\"L-PEAK5\"),AND(K254>0,L254=\"H-PEAK5\")),R254,IF(AND(K254>0,L254=\"PEAK5\"),O254,IF(K254>0,IF(OR(L254=\"BASE\"),AVERAGE(INDIRECT(\"krzywa!B\"&MATCH(A254-$A$2,krzywa!A:A,0)&\":B\"&MATCH(B254-$A$2,krzywa!A:A,0),TRUE)),IF(OR(L254=\"OFFPEAK\"),AVERAGE(INDIRECT(\"krzywa!F\"&MATCH(A254-$A$2,krzywa!A:A,0)&\":F\"&MATCH(B254-$A$2,krzywa!A:A,0)))))))),4)","v":0},null,0,null,{"$f":"NETWORKDAYS(A254,B254,koszyki!$M$20:$M$898)","v":0},{"$f":"B254-A254+1- NETWORKDAYS(A254,B254,koszyki!$M$20:$M$898)","v":1},{"$f":"ROUND(IF((B254-A254+1)>2,IF(C254=75,AVERAGE(INDIRECT(\"krzywa!C\"&MATCH(K254-6,krzywa!A:A,0)&\":C\"&MATCH(K254-2,krzywa!A:A,0))),AVERAGE(INDIRECT(\"krzywa!C\"&MATCH(A254-$A$2+BQ254,krzywa!A:A,0)&\":C\"&MATCH(B254-$A$2-AY254,krzywa!A:A,0)))),INDIRECT(\"krzywa!C\"&MATCH(K254,krzywa!A:A,0))),4)","v":{"$error":"#N/A"}},{"$error":"#N/A"},{"$f":"-C254*ABS(D254-F254)*H254*I254*U254+'kompensacja międzyproduktowa'!X254*U254","v":{"$error":"#N/A"}},{"$f":"ROUND(IF((B254-A254+1)>2,IF(C254=75,AVERAGE(INDIRECT(\"krzywa!D\"&MATCH(K254-6,krzywa!A:A,0)&\":D\"&MATCH(K254-2,krzywa!A:A,0))),AVERAGE(INDIRECT(\"krzywa!D\"&MATCH(A254-$A$2+BQ254,krzywa!A:A,0)&\":D\"&MATCH(B254-$A$2-AY254,krzywa!A:A,0)))),INDIRECT(\"krzywa!D\"&MATCH(K254,krzywa!A:A,0))),4)","v":{"$error":"#N/A"}},{"$f":"VLOOKUP(A254,krzywa!L:N,3,1)","v":{"$error":"#N/A"}},{"$f":"VLOOKUP(B254,krzywa!L:N,3,1)","v":{"$error":"#N/A"}},{"$f":"IF('Kalkulator Depozytów'!$B$35=TRUE,1,(1+S254/100)*W254+(1+T254/100)*(1-W254))","v":{"$error":"#N/A"}},{"$f":"IF(S254<>T254,VLOOKUP(A254,krzywa!L:M,2,1))","v":{"$error":"#N/A"}},{"$f":"IF(V254<>FALSE,IF(L254=\"BASE\",(V254-A254+1)*24+J254,IF(L254=\"OFFPEAK\",NETWORKDAYS(A254,V254,koszyki!$M$20:$M$898)*9+(N254)*24+J254,IF(L254=\"L-PEAK5\",NETWORKDAYS(A254,V254,koszyki!$M$20:$M$898)*10,IF(L254=\"H-PEAK5\",NETWORKDAYS(A254,V254,koszyki!$M$20:$M$898)*5,NETWORKDAYS(A254,V254,koszyki!$M$20:$M$898)*15))))/C254,1)","v":{"$error":"#N/A"}}]
[null,null,0,{"$f":"'Kalkulator Depozytów'!M260","v":0},{"$f":"'Kalkulator Depozytów'!N260","v":0},{"$f":"'Kalkulator Depozytów'!O260","v":0},{"$f":"'Kalkulator Depozytów'!P260","v":0},{"$f":"'Kalkulator Depozytów'!Q260","v":0},{"$f":"ROUND(IF(OR(AND(K255>0,L255=\"L-PEAK5\"),AND(K255>0,L255=\"H-PEAK5\")),R255,IF(AND(K255>0,L255=\"PEAK5\"),O255,IF(K255>0,IF(OR(L255=\"BASE\"),AVERAGE(INDIRECT(\"krzywa!B\"&MATCH(A255-$A$2,krzywa!A:A,0)&\":B\"&MATCH(B255-$A$2,krzywa!A:A,0),TRUE)),IF(OR(L255=\"OFFPEAK\"),AVERAGE(INDIRECT(\"krzywa!F\"&MATCH(A255-$A$2,krzywa!A:A,0)&\":F\"&MATCH(B255-$A$2,krzywa!A:A,0)))))))),4)","v":0},null,0,null,{"$f":"NETWORKDAYS(A255,B255,koszyki!$M$20:$M$898)","v":0},{"$f":"B255-A255+1- NETWORKDAYS(A255,B255,koszyki!$M$20:$M$898)","v":1},{"$f":"ROUND(IF((B255-A255+1)>2,IF(C255=75,AVERAGE(INDIRECT(\"krzywa!C\"&MATCH(K255-6,krzywa!A:A,0)&\":C\"&MATCH(K255-2,krzywa!A:A,0))),AVERAGE(INDIRECT(\"krzywa!C\"&MATCH(A255-$A$2+BQ255,krzywa!A:A,0)&\":C\"&MATCH(B255-$A$2-AY255,krzywa!A:A,0)))),INDIRECT(\"krzywa!C\"&MATCH(K255,krzywa!A:A,0))),4)","v":{"$error":"#N/A"}},{"$error":"#N/A"},{"$f":"-C255*ABS(D255-F255)*H255*I255*U255+'kompensacja międzyproduktowa'!X255*U255","v":{"$error":"#N/A"}},{"$f":"ROUND(IF((B255-A255+1)>2,IF(C255=75,AVERAGE(INDIRECT(\"krzywa!D\"&MATCH(K255-6,krzywa!A:A,0)&\":D\"&MATCH(K255-2,krzywa!A:A,0))),AVERAGE(INDIRECT(\"krzywa!D\"&MATCH(A255-$A$2+BQ255,krzywa!A:A,0)&\":D\"&MATCH(B255-$A$2-AY255,krzywa!A:A,0)))),INDIRECT(\"krzywa!D\"&MATCH(K255,krzywa!A:A,0))),4)","v":{"$error":"#N/A"}},{"$f":"VLOOKUP(A255,krzywa!L:N,3,1)","v":{"$error":"#N/A"}},{"$f":"VLOOKUP(B255,krzywa!L:N,3,1)","v":{"$error":"#N/A"}},{"$f":"IF('Kalkulator Depozytów'!$B$35=TRUE,1,(1+S255/100)*W255+(1+T255/100)*(1-W255))","v":{"$error":"#N/A"}},{"$f":"IF(S255<>T255,VLOOKUP(A255,krzywa!L:M,2,1))","v":{"$error":"#N/A"}},{"$f":"IF(V255<>FALSE,IF(L255=\"BASE\",(V255-A255+1)*24+J255,IF(L255=\"OFFPEAK\",NETWORKDAYS(A255,V255,koszyki!$M$20:$M$898)*9+(N255)*24+J255,IF(L255=\"L-PEAK5\",NETWORKDAYS(A255,V255,koszyki!$M$20:$M$898)*10,IF(L255=\"H-PEAK5\",NETWORKDAYS(A255,V255,koszyki!$M$20:$M$898)*5,NETWORKDAYS(A255,V255,koszyki!$M$20:$M$898)*15))))/C255,1)","v":{"$error":"#N/A"}}]
[null,null,0,{"$f":"'Kalkulator Depozytów'!M261","v":0},{"$f":"'Kalkulator Depozytów'!N261","v":0},{"$f":"'Kalkulator Depozytów'!O261","v":0},{"$f":"'Kalkulator Depozytów'!P261","v":0},{"$f":"'Kalkulator Depozytów'!Q261","v":0},{"$f":"ROUND(IF(OR(AND(K256>0,L256=\"L-PEAK5\"),AND(K256>0,L256=\"H-PEAK5\")),R256,IF(AND(K256>0,L256=\"PEAK5\"),O256,IF(K256>0,IF(OR(L256=\"BASE\"),AVERAGE(INDIRECT(\"krzywa!B\"&MATCH(A256-$A$2,krzywa!A:A,0)&\":B\"&MATCH(B256-$A$2,krzywa!A:A,0),TRUE)),IF(OR(L256=\"OFFPEAK\"),AVERAGE(INDIRECT(\"krzywa!F\"&MATCH(A256-$A$2,krzywa!A:A,0)&\":F\"&MATCH(B256-$A$2,krzywa!A:A,0)))))))),4)","v":0},null,0,null,{"$f":"NETWORKDAYS(A256,B256,koszyki!$M$20:$M$898)","v":0},{"$f":"B256-A256+1- NETWORKDAYS(A256,B256,koszyki!$M$20:$M$898)","v":1},{"$f":"ROUND(IF((B256-A256+1)>2,IF(C256=75,AVERAGE(INDIRECT(\"krzywa!C\"&MATCH(K256-6,krzywa!A:A,0)&\":C\"&MATCH(K256-2,krzywa!A:A,0))),AVERAGE(INDIRECT(\"krzywa!C\"&MATCH(A256-$A$2+BQ256,krzywa!A:A,0)&\":C\"&MATCH(B256-$A$2-AY256,krzywa!A:A,0)))),INDIRECT(\"krzywa!C\"&MATCH(K256,krzywa!A:A,0))),4)","v":{"$error":"#N/A"}},{"$error":"#N/A"},{"$f":"-C256*ABS(D256-F256)*H256*I256*U256+'kompensacja międzyproduktowa'!X256*U256","v":{"$error":"#N/A"}},{"$f":"ROUND(IF((B256-A256+1)>2,IF(C256=75,AVERAGE(INDIRECT(\"krzywa!D\"&MATCH(K256-6,krzywa!A:A,0)&\":D\"&MATCH(K256-2,krzywa!A:A,0))),AVERAGE(INDIRECT(\"krzywa!D\"&MATCH(A256-$A$2+BQ256,krzywa!A:A,0)&\":D\"&MATCH(B256-$A$2-AY256,krzywa!A:A,0)))),INDIRECT(\"krzywa!D\"&MATCH(K256,krzywa!A:A,0))),4)","v":{"$error":"#N/A"}},{"$f":"VLOOKUP(A256,krzywa!L:N,3,1)","v":{"$error":"#N/A"}},{"$f":"VLOOKUP(B256,krzywa!L:N,3,1)","v":{"$error":"#N/A"}},{"$f":"IF('Kalkulator Depozytów'!$B$35=TRUE,1,(1+S256/100)*W256+(1+T256/100)*(1-W256))","v":{"$error":"#N/A"}},{"$f":"IF(S256<>T256,VLOOKUP(A256,krzywa!L:M,2,1))","v":{"$error":"#N/A"}},{"$f":"IF(V256<>FALSE,IF(L256=\"BASE\",(V256-A256+1)*24+J256,IF(L256=\"OFFPEAK\",NETWORKDAYS(A256,V256,koszyki!$M$20:$M$898)*9+(N256)*24+J256,IF(L256=\"L-PEAK5\",NETWORKDAYS(A256,V256,koszyki!$M$20:$M$898)*10,IF(L256=\"H-PEAK5\",NETWORKDAYS(A256,V256,koszyki!$M$20:$M$898)*5,NETWORKDAYS(A256,V256,koszyki!$M$20:$M$898)*15))))/C256,1)","v":{"$error":"#N/A"}}]
[null,null,0,{"$f":"'Kalkulator Depozytów'!M262","v":0},{"$f":"'Kalkulator Depozytów'!N262","v":0},{"$f":"'Kalkulator Depozytów'!O262","v":0},{"$f":"'Kalkulator Depozytów'!P262","v":0},{"$f":"'Kalkulator Depozytów'!Q262","v":0},{"$f":"ROUND(IF(OR(AND(K257>0,L257=\"L-PEAK5\"),AND(K257>0,L257=\"H-PEAK5\")),R257,IF(AND(K257>0,L257=\"PEAK5\"),O257,IF(K257>0,IF(OR(L257=\"BASE\"),AVERAGE(INDIRECT(\"krzywa!B\"&MATCH(A257-$A$2,krzywa!A:A,0)&\":B\"&MATCH(B257-$A$2,krzywa!A:A,0),TRUE)),IF(OR(L257=\"OFFPEAK\"),AVERAGE(INDIRECT(\"krzywa!F\"&MATCH(A257-$A$2,krzywa!A:A,0)&\":F\"&MATCH(B257-$A$2,krzywa!A:A,0)))))))),4)","v":0},null,0,null,{"$f":"NETWORKDAYS(A257,B257,koszyki!$M$20:$M$898)","v":0},{"$f":"B257-A257+1- NETWORKDAYS(A257,B257,koszyki!$M$20:$M$898)","v":1},{"$f":"ROUND(IF((B257-A257+1)>2,IF(C257=75,AVERAGE(INDIRECT(\"krzywa!C\"&MATCH(K257-6,krzywa!A:A,0)&\":C\"&MATCH(K257-2,krzywa!A:A,0))),AVERAGE(INDIRECT(\"krzywa!C\"&MATCH(A257-$A$2+BQ257,krzywa!A:A,0)&\":C\"&MATCH(B257-$A$2-AY257,krzywa!A:A,0)))),INDIRECT(\"krzywa!C\"&MATCH(K257,krzywa!A:A,0))),4)","v":{"$error":"#N/A"}},{"$error":"#N/A"},{"$f":"-C257*ABS(D257-F257)*H257*I257*U257+'kompensacja międzyproduktowa'!X257*U257","v":{"$error":"#N/A"}},{"$f":"ROUND(IF((B257-A257+1)>2,IF(C257=75,AVERAGE(INDIRECT(\"krzywa!D\"&MATCH(K257-6,krzywa!A:A,0)&\":D\"&MATCH(K257-2,krzywa!A:A,0))),AVERAGE(INDIRECT(\"krzywa!D\"&MATCH(A257-$A$2+BQ257,krzywa!A:A,0)&\":D\"&MATCH(B257-$A$2-AY257,krzywa!A:A,0)))),INDIRECT(\"krzywa!D\"&MATCH(K257,krzywa!A:A,0))),4)","v":{"$error":"#N/A"}},{"$f":"VLOOKUP(A257,krzywa!L:N,3,1)","v":{"$error":"#N/A"}},{"$f":"VLOOKUP(B257,krzywa!L:N,3,1)","v":{"$error":"#N/A"}},{"$f":"IF('Kalkulator Depozytów'!$B$35=TRUE,1,(1+S257/100)*W257+(1+T257/100)*(1-W257))","v":{"$error":"#N/A"}},{"$f":"IF(S257<>T257,VLOOKUP(A257,krzywa!L:M,2,1))","v":{"$error":"#N/A"}},{"$f":"IF(V257<>FALSE,IF(L257=\"BASE\",(V257-A257+1)*24+J257,IF(L257=\"OFFPEAK\",NETWORKDAYS(A257,V257,koszyki!$M$20:$M$898)*9+(N257)*24+J257,IF(L257=\"L-PEAK5\",NETWORKDAYS(A257,V257,koszyki!$M$20:$M$898)*10,IF(L257=\"H-PEAK5\",NETWORKDAYS(A257,V257,koszyki!$M$20:$M$898)*5,NETWORKDAYS(A257,V257,koszyki!$M$20:$M$898)*15))))/C257,1)","v":{"$error":"#N/A"}}]
[null,null,0,{"$f":"'Kalkulator Depozytów'!M263","v":0},{"$f":"'Kalkulator Depozytów'!N263","v":0},{"$f":"'Kalkulator Depozytów'!O263","v":0},{"$f":"'Kalkulator Depozytów'!P263","v":0},{"$f":"'Kalkulator Depozytów'!Q263","v":0},{"$f":"ROUND(IF(OR(AND(K258>0,L258=\"L-PEAK5\"),AND(K258>0,L258=\"H-PEAK5\")),R258,IF(AND(K258>0,L258=\"PEAK5\"),O258,IF(K258>0,IF(OR(L258=\"BASE\"),AVERAGE(INDIRECT(\"krzywa!B\"&MATCH(A258-$A$2,krzywa!A:A,0)&\":B\"&MATCH(B258-$A$2,krzywa!A:A,0),TRUE)),IF(OR(L258=\"OFFPEAK\"),AVERAGE(INDIRECT(\"krzywa!F\"&MATCH(A258-$A$2,krzywa!A:A,0)&\":F\"&MATCH(B258-$A$2,krzywa!A:A,0)))))))),4)","v":0},null,0,null,{"$f":"NETWORKDAYS(A258,B258,koszyki!$M$20:$M$898)","v":0},{"$f":"B258-A258+1- NETWORKDAYS(A258,B258,koszyki!$M$20:$M$898)","v":1},{"$f":"ROUND(IF((B258-A258+1)>2,IF(C258=75,AVERAGE(INDIRECT(\"krzywa!C\"&MATCH(K258-6,krzywa!A:A,0)&\":C\"&MATCH(K258-2,krzywa!A:A,0))),AVERAGE(INDIRECT(\"krzywa!C\"&MATCH(A258-$A$2+BQ258,krzywa!A:A,0)&\":C\"&MATCH(B258-$A$2-AY258,krzywa!A:A,0)))),INDIRECT(\"krzywa!C\"&MATCH(K258,krzywa!A:A,0))),4)","v":{"$error":"#N/A"}},{"$error":"#N/A"},{"$f":"-C258*ABS(D258-F258)*H258*I258*U258+'kompensacja międzyproduktowa'!X258*U258","v":{"$error":"#N/A"}},{"$f":"ROUND(IF((B258-A258+1)>2,IF(C258=75,AVERAGE(INDIRECT(\"krzywa!D\"&MATCH(K258-6,krzywa!A:A,0)&\":D\"&MATCH(K258-2,krzywa!A:A,0))),AVERAGE(INDIRECT(\"krzywa!D\"&MATCH(A258-$A$2+BQ258,krzywa!A:A,0)&\":D\"&MATCH(B258-$A$2-AY258,krzywa!A:A,0)))),INDIRECT(\"krzywa!D\"&MATCH(K258,krzywa!A:A,0))),4)","v":{"$error":"#N/A"}},{"$f":"VLOOKUP(A258,krzywa!L:N,3,1)","v":{"$error":"#N/A"}},{"$f":"VLOOKUP(B258,krzywa!L:N,3,1)","v":{"$error":"#N/A"}},{"$f":"IF('Kalkulator Depozytów'!$B$35=TRUE,1,(1+S258/100)*W258+(1+T258/100)*(1-W258))","v":{"$error":"#N/A"}},{"$f":"IF(S258<>T258,VLOOKUP(A258,krzywa!L:M,2,1))","v":{"$error":"#N/A"}},{"$f":"IF(V258<>FALSE,IF(L258=\"BASE\",(V258-A258+1)*24+J258,IF(L258=\"OFFPEAK\",NETWORKDAYS(A258,V258,koszyki!$M$20:$M$898)*9+(N258)*24+J258,IF(L258=\"L-PEAK5\",NETWORKDAYS(A258,V258,koszyki!$M$20:$M$898)*10,IF(L258=\"H-PEAK5\",NETWORKDAYS(A258,V258,koszyki!$M$20:$M$898)*5,NETWORKDAYS(A258,V258,koszyki!$M$20:$M$898)*15))))/C258,1)","v":{"$error":"#N/A"}}]
[null,null,0,{"$f":"'Kalkulator Depozytów'!M264","v":0},{"$f":"'Kalkulator Depozytów'!N264","v":0},{"$f":"'Kalkulator Depozytów'!O264","v":0},{"$f":"'Kalkulator Depozytów'!P264","v":0},{"$f":"'Kalkulator Depozytów'!Q264","v":0},{"$f":"ROUND(IF(OR(AND(K259>0,L259=\"L-PEAK5\"),AND(K259>0,L259=\"H-PEAK5\")),R259,IF(AND(K259>0,L259=\"PEAK5\"),O259,IF(K259>0,IF(OR(L259=\"BASE\"),AVERAGE(INDIRECT(\"krzywa!B\"&MATCH(A259-$A$2,krzywa!A:A,0)&\":B\"&MATCH(B259-$A$2,krzywa!A:A,0),TRUE)),IF(OR(L259=\"OFFPEAK\"),AVERAGE(INDIRECT(\"krzywa!F\"&MATCH(A259-$A$2,krzywa!A:A,0)&\":F\"&MATCH(B259-$A$2,krzywa!A:A,0)))))))),4)","v":0},null,0,null,{"$f":"NETWORKDAYS(A259,B259,koszyki!$M$20:$M$898)","v":0},{"$f":"B259-A259+1- NETWORKDAYS(A259,B259,koszyki!$M$20:$M$898)","v":1},{"$f":"ROUND(IF((B259-A259+1)>2,IF(C259=75,AVERAGE(INDIRECT(\"krzywa!C\"&MATCH(K259-6,krzywa!A:A,0)&\":C\"&MATCH(K259-2,krzywa!A:A,0))),AVERAGE(INDIRECT(\"krzywa!C\"&MATCH(A259-$A$2+BQ259,krzywa!A:A,0)&\":C\"&MATCH(B259-$A$2-AY259,krzywa!A:A,0)))),INDIRECT(\"krzywa!C\"&MATCH(K259,krzywa!A:A,0))),4)","v":{"$error":"#N/A"}},{"$error":"#N/A"},{"$f":"-C259*ABS(D259-F259)*H259*I259*U259+'kompensacja międzyproduktowa'!X259*U259","v":{"$error":"#N/A"}},{"$f":"ROUND(IF((B259-A259+1)>2,IF(C259=75,AVERAGE(INDIRECT(\"krzywa!D\"&MATCH(K259-6,krzywa!A:A,0)&\":D\"&MATCH(K259-2,krzywa!A:A,0))),AVERAGE(INDIRECT(\"krzywa!D\"&MATCH(A259-$A$2+BQ259,krzywa!A:A,0)&\":D\"&MATCH(B259-$A$2-AY259,krzywa!A:A,0)))),INDIRECT(\"krzywa!D\"&MATCH(K259,krzywa!A:A,0))),4)","v":{"$error":"#N/A"}},{"$f":"VLOOKUP(A259,krzywa!L:N,3,1)","v":{"$error":"#N/A"}},{"$f":"VLOOKUP(B259,krzywa!L:N,3,1)","v":{"$error":"#N/A"}},{"$f":"IF('Kalkulator Depozytów'!$B$35=TRUE,1,(1+S259/100)*W259+(1+T259/100)*(1-W259))","v":{"$error":"#N/A"}},{"$f":"IF(S259<>T259,VLOOKUP(A259,krzywa!L:M,2,1))","v":{"$error":"#N/A"}},{"$f":"IF(V259<>FALSE,IF(L259=\"BASE\",(V259-A259+1)*24+J259,IF(L259=\"OFFPEAK\",NETWORKDAYS(A259,V259,koszyki!$M$20:$M$898)*9+(N259)*24+J259,IF(L259=\"L-PEAK5\",NETWORKDAYS(A259,V259,koszyki!$M$20:$M$898)*10,IF(L259=\"H-PEAK5\",NETWORKDAYS(A259,V259,koszyki!$M$20:$M$898)*5,NETWORKDAYS(A259,V259,koszyki!$M$20:$M$898)*15))))/C259,1)","v":{"$error":"#N/A"}}]
[null,null,0,{"$f":"'Kalkulator Depozytów'!M265","v":0},{"$f":"'Kalkulator Depozytów'!N265","v":0},{"$f":"'Kalkulator Depozytów'!O265","v":0},{"$f":"'Kalkulator Depozytów'!P265","v":0},{"$f":"'Kalkulator Depozytów'!Q265","v":0},{"$f":"ROUND(IF(OR(AND(K260>0,L260=\"L-PEAK5\"),AND(K260>0,L260=\"H-PEAK5\")),R260,IF(AND(K260>0,L260=\"PEAK5\"),O260,IF(K260>0,IF(OR(L260=\"BASE\"),AVERAGE(INDIRECT(\"krzywa!B\"&MATCH(A260-$A$2,krzywa!A:A,0)&\":B\"&MATCH(B260-$A$2,krzywa!A:A,0),TRUE)),IF(OR(L260=\"OFFPEAK\"),AVERAGE(INDIRECT(\"krzywa!F\"&MATCH(A260-$A$2,krzywa!A:A,0)&\":F\"&MATCH(B260-$A$2,krzywa!A:A,0)))))))),4)","v":0},null,0,null,{"$f":"NETWORKDAYS(A260,B260,koszyki!$M$20:$M$898)","v":0},{"$f":"B260-A260+1- NETWORKDAYS(A260,B260,koszyki!$M$20:$M$898)","v":1},{"$f":"ROUND(IF((B260-A260+1)>2,IF(C260=75,AVERAGE(INDIRECT(\"krzywa!C\"&MATCH(K260-6,krzywa!A:A,0)&\":C\"&MATCH(K260-2,krzywa!A:A,0))),AVERAGE(INDIRECT(\"krzywa!C\"&MATCH(A260-$A$2+BQ260,krzywa!A:A,0)&\":C\"&MATCH(B260-$A$2-AY260,krzywa!A:A,0)))),INDIRECT(\"krzywa!C\"&MATCH(K260,krzywa!A:A,0))),4)","v":{"$error":"#N/A"}},{"$error":"#N/A"},{"$f":"-C260*ABS(D260-F260)*H260*I260*U260+'kompensacja międzyproduktowa'!X260*U260","v":{"$error":"#N/A"}},{"$f":"ROUND(IF((B260-A260+1)>2,IF(C260=75,AVERAGE(INDIRECT(\"krzywa!D\"&MATCH(K260-6,krzywa!A:A,0)&\":D\"&MATCH(K260-2,krzywa!A:A,0))),AVERAGE(INDIRECT(\"krzywa!D\"&MATCH(A260-$A$2+BQ260,krzywa!A:A,0)&\":D\"&MATCH(B260-$A$2-AY260,krzywa!A:A,0)))),INDIRECT(\"krzywa!D\"&MATCH(K260,krzywa!A:A,0))),4)","v":{"$error":"#N/A"}},{"$f":"VLOOKUP(A260,krzywa!L:N,3,1)","v":{"$error":"#N/A"}},{"$f":"VLOOKUP(B260,krzywa!L:N,3,1)","v":{"$error":"#N/A"}},{"$f":"IF('Kalkulator Depozytów'!$B$35=TRUE,1,(1+S260/100)*W260+(1+T260/100)*(1-W260))","v":{"$error":"#N/A"}},{"$f":"IF(S260<>T260,VLOOKUP(A260,krzywa!L:M,2,1))","v":{"$error":"#N/A"}},{"$f":"IF(V260<>FALSE,IF(L260=\"BASE\",(V260-A260+1)*24+J260,IF(L260=\"OFFPEAK\",NETWORKDAYS(A260,V260,koszyki!$M$20:$M$898)*9+(N260)*24+J260,IF(L260=\"L-PEAK5\",NETWORKDAYS(A260,V260,koszyki!$M$20:$M$898)*10,IF(L260=\"H-PEAK5\",NETWORKDAYS(A260,V260,koszyki!$M$20:$M$898)*5,NETWORKDAYS(A260,V260,koszyki!$M$20:$M$898)*15))))/C260,1)","v":{"$error":"#N/A"}}]
[null,null,0,{"$f":"'Kalkulator Depozytów'!M266","v":0},{"$f":"'Kalkulator Depozytów'!N266","v":0},{"$f":"'Kalkulator Depozytów'!O266","v":0},{"$f":"'Kalkulator Depozytów'!P266","v":0},{"$f":"'Kalkulator Depozytów'!Q266","v":0},{"$f":"ROUND(IF(OR(AND(K261>0,L261=\"L-PEAK5\"),AND(K261>0,L261=\"H-PEAK5\")),R261,IF(AND(K261>0,L261=\"PEAK5\"),O261,IF(K261>0,IF(OR(L261=\"BASE\"),AVERAGE(INDIRECT(\"krzywa!B\"&MATCH(A261-$A$2,krzywa!A:A,0)&\":B\"&MATCH(B261-$A$2,krzywa!A:A,0),TRUE)),IF(OR(L261=\"OFFPEAK\"),AVERAGE(INDIRECT(\"krzywa!F\"&MATCH(A261-$A$2,krzywa!A:A,0)&\":F\"&MATCH(B261-$A$2,krzywa!A:A,0)))))))),4)","v":0},null,0,null,{"$f":"NETWORKDAYS(A261,B261,koszyki!$M$20:$M$898)","v":0},{"$f":"B261-A261+1- NETWORKDAYS(A261,B261,koszyki!$M$20:$M$898)","v":1},{"$f":"ROUND(IF((B261-A261+1)>2,IF(C261=75,AVERAGE(INDIRECT(\"krzywa!C\"&MATCH(K261-6,krzywa!A:A,0)&\":C\"&MATCH(K261-2,krzywa!A:A,0))),AVERAGE(INDIRECT(\"krzywa!C\"&MATCH(A261-$A$2+BQ261,krzywa!A:A,0)&\":C\"&MATCH(B261-$A$2-AY261,krzywa!A:A,0)))),INDIRECT(\"krzywa!C\"&MATCH(K261,krzywa!A:A,0))),4)","v":{"$error":"#N/A"}},{"$error":"#N/A"},{"$f":"-C261*ABS(D261-F261)*H261*I261*U261+'kompensacja międzyproduktowa'!X261*U261","v":{"$error":"#N/A"}},{"$f":"ROUND(IF((B261-A261+1)>2,IF(C261=75,AVERAGE(INDIRECT(\"krzywa!D\"&MATCH(K261-6,krzywa!A:A,0)&\":D\"&MATCH(K261-2,krzywa!A:A,0))),AVERAGE(INDIRECT(\"krzywa!D\"&MATCH(A261-$A$2+BQ261,krzywa!A:A,0)&\":D\"&MATCH(B261-$A$2-AY261,krzywa!A:A,0)))),INDIRECT(\"krzywa!D\"&MATCH(K261,krzywa!A:A,0))),4)","v":{"$error":"#N/A"}},{"$f":"VLOOKUP(A261,krzywa!L:N,3,1)","v":{"$error":"#N/A"}},{"$f":"VLOOKUP(B261,krzywa!L:N,3,1)","v":{"$error":"#N/A"}},{"$f":"IF('Kalkulator Depozytów'!$B$35=TRUE,1,(1+S261/100)*W261+(1+T261/100)*(1-W261))","v":{"$error":"#N/A"}},{"$f":"IF(S261<>T261,VLOOKUP(A261,krzywa!L:M,2,1))","v":{"$error":"#N/A"}},{"$f":"IF(V261<>FALSE,IF(L261=\"BASE\",(V261-A261+1)*24+J261,IF(L261=\"OFFPEAK\",NETWORKDAYS(A261,V261,koszyki!$M$20:$M$898)*9+(N261)*24+J261,IF(L261=\"L-PEAK5\",NETWORKDAYS(A261,V261,koszyki!$M$20:$M$898)*10,IF(L261=\"H-PEAK5\",NETWORKDAYS(A261,V261,koszyki!$M$20:$M$898)*5,NETWORKDAYS(A261,V261,koszyki!$M$20:$M$898)*15))))/C261,1)","v":{"$error":"#N/A"}}]
[null,null,0,{"$f":"'Kalkulator Depozytów'!M267","v":0},{"$f":"'Kalkulator Depozytów'!N267","v":0},{"$f":"'Kalkulator Depozytów'!O267","v":0},{"$f":"'Kalkulator Depozytów'!P267","v":0},{"$f":"'Kalkulator Depozytów'!Q267","v":0},{"$f":"ROUND(IF(OR(AND(K262>0,L262=\"L-PEAK5\"),AND(K262>0,L262=\"H-PEAK5\")),R262,IF(AND(K262>0,L262=\"PEAK5\"),O262,IF(K262>0,IF(OR(L262=\"BASE\"),AVERAGE(INDIRECT(\"krzywa!B\"&MATCH(A262-$A$2,krzywa!A:A,0)&\":B\"&MATCH(B262-$A$2,krzywa!A:A,0),TRUE)),IF(OR(L262=\"OFFPEAK\"),AVERAGE(INDIRECT(\"krzywa!F\"&MATCH(A262-$A$2,krzywa!A:A,0)&\":F\"&MATCH(B262-$A$2,krzywa!A:A,0)))))))),4)","v":0},null,0,null,{"$f":"NETWORKDAYS(A262,B262,koszyki!$M$20:$M$898)","v":0},{"$f":"B262-A262+1- NETWORKDAYS(A262,B262,koszyki!$M$20:$M$898)","v":1},{"$f":"ROUND(IF((B262-A262+1)>2,IF(C262=75,AVERAGE(INDIRECT(\"krzywa!C\"&MATCH(K262-6,krzywa!A:A,0)&\":C\"&MATCH(K262-2,krzywa!A:A,0))),AVERAGE(INDIRECT(\"krzywa!C\"&MATCH(A262-$A$2+BQ262,krzywa!A:A,0)&\":C\"&MATCH(B262-$A$2-AY262,krzywa!A:A,0)))),INDIRECT(\"krzywa!C\"&MATCH(K262,krzywa!A:A,0))),4)","v":{"$error":"#N/A"}},{"$error":"#N/A"},{"$f":"-C262*ABS(D262-F262)*H262*I262*U262+'kompensacja międzyproduktowa'!X262*U262","v":{"$error":"#N/A"}},{"$f":"ROUND(IF((B262-A262+1)>2,IF(C262=75,AVERAGE(INDIRECT(\"krzywa!D\"&MATCH(K262-6,krzywa!A:A,0)&\":D\"&MATCH(K262-2,krzywa!A:A,0))),AVERAGE(INDIRECT(\"krzywa!D\"&MATCH(A262-$A$2+BQ262,krzywa!A:A,0)&\":D\"&MATCH(B262-$A$2-AY262,krzywa!A:A,0)))),INDIRECT(\"krzywa!D\"&MATCH(K262,krzywa!A:A,0))),4)","v":{"$error":"#N/A"}},{"$f":"VLOOKUP(A262,krzywa!L:N,3,1)","v":{"$error":"#N/A"}},{"$f":"VLOOKUP(B262,krzywa!L:N,3,1)","v":{"$error":"#N/A"}},{"$f":"IF('Kalkulator Depozytów'!$B$35=TRUE,1,(1+S262/100)*W262+(1+T262/100)*(1-W262))","v":{"$error":"#N/A"}},{"$f":"IF(S262<>T262,VLOOKUP(A262,krzywa!L:M,2,1))","v":{"$error":"#N/A"}},{"$f":"IF(V262<>FALSE,IF(L262=\"BASE\",(V262-A262+1)*24+J262,IF(L262=\"OFFPEAK\",NETWORKDAYS(A262,V262,koszyki!$M$20:$M$898)*9+(N262)*24+J262,IF(L262=\"L-PEAK5\",NETWORKDAYS(A262,V262,koszyki!$M$20:$M$898)*10,IF(L262=\"H-PEAK5\",NETWORKDAYS(A262,V262,koszyki!$M$20:$M$898)*5,NETWORKDAYS(A262,V262,koszyki!$M$20:$M$898)*15))))/C262,1)","v":{"$error":"#N/A"}}]
[null,null,0,{"$f":"'Kalkulator Depozytów'!M268","v":0},{"$f":"'Kalkulator Depozytów'!N268","v":0},{"$f":"'Kalkulator Depozytów'!O268","v":0},{"$f":"'Kalkulator Depozytów'!P268","v":0},{"$f":"'Kalkulator Depozytów'!Q268","v":0},{"$f":"ROUND(IF(OR(AND(K263>0,L263=\"L-PEAK5\"),AND(K263>0,L263=\"H-PEAK5\")),R263,IF(AND(K263>0,L263=\"PEAK5\"),O263,IF(K263>0,IF(OR(L263=\"BASE\"),AVERAGE(INDIRECT(\"krzywa!B\"&MATCH(A263-$A$2,krzywa!A:A,0)&\":B\"&MATCH(B263-$A$2,krzywa!A:A,0),TRUE)),IF(OR(L263=\"OFFPEAK\"),AVERAGE(INDIRECT(\"krzywa!F\"&MATCH(A263-$A$2,krzywa!A:A,0)&\":F\"&MATCH(B263-$A$2,krzywa!A:A,0)))))))),4)","v":0},null,0,null,{"$f":"NETWORKDAYS(A263,B263,koszyki!$M$20:$M$898)","v":0},{"$f":"B263-A263+1- NETWORKDAYS(A263,B263,koszyki!$M$20:$M$898)","v":1},{"$f":"ROUND(IF((B263-A263+1)>2,IF(C263=75,AVERAGE(INDIRECT(\"krzywa!C\"&MATCH(K263-6,krzywa!A:A,0)&\":C\"&MATCH(K263-2,krzywa!A:A,0))),AVERAGE(INDIRECT(\"krzywa!C\"&MATCH(A263-$A$2+BQ263,krzywa!A:A,0)&\":C\"&MATCH(B263-$A$2-AY263,krzywa!A:A,0)))),INDIRECT(\"krzywa!C\"&MATCH(K263,krzywa!A:A,0))),4)","v":{"$error":"#N/A"}},{"$error":"#N/A"},{"$f":"-C263*ABS(D263-F263)*H263*I263*U263+'kompensacja międzyproduktowa'!X263*U263","v":{"$error":"#N/A"}},{"$f":"ROUND(IF((B263-A263+1)>2,IF(C263=75,AVERAGE(INDIRECT(\"krzywa!D\"&MATCH(K263-6,krzywa!A:A,0)&\":D\"&MATCH(K263-2,krzywa!A:A,0))),AVERAGE(INDIRECT(\"krzywa!D\"&MATCH(A263-$A$2+BQ263,krzywa!A:A,0)&\":D\"&MATCH(B263-$A$2-AY263,krzywa!A:A,0)))),INDIRECT(\"krzywa!D\"&MATCH(K263,krzywa!A:A,0))),4)","v":{"$error":"#N/A"}},{"$f":"VLOOKUP(A263,krzywa!L:N,3,1)","v":{"$error":"#N/A"}},{"$f":"VLOOKUP(B263,krzywa!L:N,3,1)","v":{"$error":"#N/A"}},{"$f":"IF('Kalkulator Depozytów'!$B$35=TRUE,1,(1+S263/100)*W263+(1+T263/100)*(1-W263))","v":{"$error":"#N/A"}},{"$f":"IF(S263<>T263,VLOOKUP(A263,krzywa!L:M,2,1))","v":{"$error":"#N/A"}},{"$f":"IF(V263<>FALSE,IF(L263=\"BASE\",(V263-A263+1)*24+J263,IF(L263=\"OFFPEAK\",NETWORKDAYS(A263,V263,koszyki!$M$20:$M$898)*9+(N263)*24+J263,IF(L263=\"L-PEAK5\",NETWORKDAYS(A263,V263,koszyki!$M$20:$M$898)*10,IF(L263=\"H-PEAK5\",NETWORKDAYS(A263,V263,koszyki!$M$20:$M$898)*5,NETWORKDAYS(A263,V263,koszyki!$M$20:$M$898)*15))))/C263,1)","v":{"$error":"#N/A"}}]
[null,null,0,{"$f":"'Kalkulator Depozytów'!M269","v":0},{"$f":"'Kalkulator Depozytów'!N269","v":0},{"$f":"'Kalkulator Depozytów'!O269","v":0},{"$f":"'Kalkulator Depozytów'!P269","v":0},{"$f":"'Kalkulator Depozytów'!Q269","v":0},{"$f":"ROUND(IF(OR(AND(K264>0,L264=\"L-PEAK5\"),AND(K264>0,L264=\"H-PEAK5\")),R264,IF(AND(K264>0,L264=\"PEAK5\"),O264,IF(K264>0,IF(OR(L264=\"BASE\"),AVERAGE(INDIRECT(\"krzywa!B\"&MATCH(A264-$A$2,krzywa!A:A,0)&\":B\"&MATCH(B264-$A$2,krzywa!A:A,0),TRUE)),IF(OR(L264=\"OFFPEAK\"),AVERAGE(INDIRECT(\"krzywa!F\"&MATCH(A264-$A$2,krzywa!A:A,0)&\":F\"&MATCH(B264-$A$2,krzywa!A:A,0)))))))),4)","v":0},null,0,null,{"$f":"NETWORKDAYS(A264,B264,koszyki!$M$20:$M$898)","v":0},{"$f":"B264-A264+1- NETWORKDAYS(A264,B264,koszyki!$M$20:$M$898)","v":1},{"$f":"ROUND(IF((B264-A264+1)>2,IF(C264=75,AVERAGE(INDIRECT(\"krzywa!C\"&MATCH(K264-6,krzywa!A:A,0)&\":C\"&MATCH(K264-2,krzywa!A:A,0))),AVERAGE(INDIRECT(\"krzywa!C\"&MATCH(A264-$A$2+BQ264,krzywa!A:A,0)&\":C\"&MATCH(B264-$A$2-AY264,krzywa!A:A,0)))),INDIRECT(\"krzywa!C\"&MATCH(K264,krzywa!A:A,0))),4)","v":{"$error":"#N/A"}},{"$error":"#N/A"},{"$f":"-C264*ABS(D264-F264)*H264*I264*U264+'kompensacja międzyproduktowa'!X264*U264","v":{"$error":"#N/A"}},{"$f":"ROUND(IF((B264-A264+1)>2,IF(C264=75,AVERAGE(INDIRECT(\"krzywa!D\"&MATCH(K264-6,krzywa!A:A,0)&\":D\"&MATCH(K264-2,krzywa!A:A,0))),AVERAGE(INDIRECT(\"krzywa!D\"&MATCH(A264-$A$2+BQ264,krzywa!A:A,0)&\":D\"&MATCH(B264-$A$2-AY264,krzywa!A:A,0)))),INDIRECT(\"krzywa!D\"&MATCH(K264,krzywa!A:A,0))),4)","v":{"$error":"#N/A"}},{"$f":"VLOOKUP(A264,krzywa!L:N,3,1)","v":{"$error":"#N/A"}},{"$f":"VLOOKUP(B264,krzywa!L:N,3,1)","v":{"$error":"#N/A"}},{"$f":"IF('Kalkulator Depozytów'!$B$35=TRUE,1,(1+S264/100)*W264+(1+T264/100)*(1-W264))","v":{"$error":"#N/A"}},{"$f":"IF(S264<>T264,VLOOKUP(A264,krzywa!L:M,2,1))","v":{"$error":"#N/A"}},{"$f":"IF(V264<>FALSE,IF(L264=\"BASE\",(V264-A264+1)*24+J264,IF(L264=\"OFFPEAK\",NETWORKDAYS(A264,V264,koszyki!$M$20:$M$898)*9+(N264)*24+J264,IF(L264=\"L-PEAK5\",NETWORKDAYS(A264,V264,koszyki!$M$20:$M$898)*10,IF(L264=\"H-PEAK5\",NETWORKDAYS(A264,V264,koszyki!$M$20:$M$898)*5,NETWORKDAYS(A264,V264,koszyki!$M$20:$M$898)*15))))/C264,1)","v":{"$error":"#N/A"}}]
[null,null,{"$f":"IF(L265=\"BASE\",(B265-A265+1)*24+J265,IF(L265=\"OFFPEAK\",M265*9+(N265)*24+J265,IF(L265=\"L-PEAK5\",M265*10,IF(L265=\"H-PEAK5\",M265*5,M265*15))))","v":0},{"$f":"'Kalkulator Depozytów'!M270","v":0},{"$f":"'Kalkulator Depozytów'!N270","v":0},{"$f":"'Kalkulator Depozytów'!O270","v":0},{"$f":"'Kalkulator Depozytów'!P270","v":0},{"$f":"'Kalkulator Depozytów'!Q270","v":0},{"$f":"ROUND(IF(OR(AND(K265>0,L265=\"L-PEAK5\"),AND(K265>0,L265=\"H-PEAK5\")),R265,IF(AND(K265>0,L265=\"PEAK5\"),O265,IF(K265>0,IF(OR(L265=\"BASE\"),AVERAGE(INDIRECT(\"krzywa!B\"&MATCH(A265-$A$2,krzywa!A:A,0)&\":B\"&MATCH(B265-$A$2,krzywa!A:A,0),TRUE)),IF(OR(L265=\"OFFPEAK\"),AVERAGE(INDIRECT(\"krzywa!F\"&MATCH(A265-$A$2,krzywa!A:A,0)&\":F\"&MATCH(B265-$A$2,krzywa!A:A,0)))))))),4)","v":0},null,{"$f":"B265-$A$2","v":0},null,{"$f":"NETWORKDAYS(A265,B265,koszyki!$M$20:$M$898)","v":0},{"$f":"B265-A265+1- NETWORKDAYS(A265,B265,koszyki!$M$20:$M$898)","v":1},{"$f":"ROUND(IF((B265-A265+1)>2,IF(C265=75,AVERAGE(INDIRECT(\"krzywa!C\"&MATCH(K265-6,krzywa!A:A,0)&\":C\"&MATCH(K265-2,krzywa!A:A,0))),AVERAGE(INDIRECT(\"krzywa!C\"&MATCH(A265-$A$2+BQ265,krzywa!A:A,0)&\":C\"&MATCH(B265-$A$2-AY265,krzywa!A:A,0)))),INDIRECT(\"krzywa!C\"&MATCH(K265,krzywa!A:A,0))),4)","v":{"$error":"#N/A"}},{"$f":"C265*(D265*(H265-E265)-F265*(H265-G265))*U265","v":{"$error":"#N/A"}},{"$f":"-C265*ABS(D265-F265)*H265*I265*U265+'kompensacja międzyproduktowa'!X265*U265","v":{"$error":"#N/A"}},{"$f":"ROUND(IF((B265-A265+1)>2,IF(C265=75,AVERAGE(INDIRECT(\"krzywa!D\"&MATCH(K265-6,krzywa!A:A,0)&\":D\"&MATCH(K265-2,krzywa!A:A,0))),AVERAGE(INDIRECT(\"krzywa!D\"&MATCH(A265-$A$2+BQ265,krzywa!A:A,0)&\":D\"&MATCH(B265-$A$2-AY265,krzywa!A:A,0)))),INDIRECT(\"krzywa!D\"&MATCH(K265,krzywa!A:A,0))),4)","v":{"$error":"#N/A"}},{"$f":"VLOOKUP(A265,krzywa!L:N,3,1)","v":{"$error":"#N/A"}},{"$f":"VLOOKUP(B265,krzywa!L:N,3,1)","v":{"$error":"#N/A"}},{"$f":"IF('Kalkulator Depozytów'!$B$35=TRUE,1,(1+S265/100)*W265+(1+T265/100)*(1-W265))","v":{"$error":"#N/A"}},{"$f":"IF(S265<>T265,VLOOKUP(A265,krzywa!L:M,2,1))","v":{"$error":"#N/A"}},{"$f":"IF(V265<>FALSE,IF(L265=\"BASE\",(V265-A265+1)*24+J265,IF(L265=\"OFFPEAK\",NETWORKDAYS(A265,V265,koszyki!$M$20:$M$898)*9+(N265)*24+J265,IF(L265=\"L-PEAK5\",NETWORKDAYS(A265,V265,koszyki!$M$20:$M$898)*10,IF(L265=\"H-PEAK5\",NETWORKDAYS(A265,V265,koszyki!$M$20:$M$898)*5,NETWORKDAYS(A265,V265,koszyki!$M$20:$M$898)*15))))/C265,1)","v":{"$error":"#N/A"}}]
[null,null,0,{"$f":"'Kalkulator Depozytów'!M271","v":0},{"$f":"'Kalkulator Depozytów'!N271","v":0},{"$f":"'Kalkulator Depozytów'!O271","v":0},{"$f":"'Kalkulator Depozytów'!P271","v":0},{"$f":"'Kalkulator Depozytów'!Q271","v":0},{"$f":"ROUND(IF(OR(AND(K266>0,L266=\"L-PEAK5\"),AND(K266>0,L266=\"H-PEAK5\")),R266,IF(AND(K266>0,L266=\"PEAK5\"),O266,IF(K266>0,IF(OR(L266=\"BASE\"),AVERAGE(INDIRECT(\"krzywa!B\"&MATCH(A266-$A$2,krzywa!A:A,0)&\":B\"&MATCH(B266-$A$2,krzywa!A:A,0),TRUE)),IF(OR(L266=\"OFFPEAK\"),AVERAGE(INDIRECT(\"krzywa!F\"&MATCH(A266-$A$2,krzywa!A:A,0)&\":F\"&MATCH(B266-$A$2,krzywa!A:A,0)))))))),4)","v":0},null,{"$f":"B266-$A$2","v":0},null,{"$f":"NETWORKDAYS(A266,B266,koszyki!$M$20:$M$898)","v":0},{"$f":"B266-A266+1- NETWORKDAYS(A266,B266,koszyki!$M$20:$M$898)","v":1},{"$f":"ROUND(IF((B266-A266+1)>2,IF(C266=75,AVERAGE(INDIRECT(\"krzywa!C\"&MATCH(K266-6,krzywa!A:A,0)&\":C\"&MATCH(K266-2,krzywa!A:A,0))),AVERAGE(INDIRECT(\"krzywa!C\"&MATCH(A266-$A$2+BQ266,krzywa!A:A,0)&\":C\"&MATCH(B266-$A$2-AY266,krzywa!A:A,0)))),INDIRECT(\"krzywa!C\"&MATCH(K266,krzywa!A:A,0))),4)","v":{"$error":"#N/A"}},{"$error":"#N/A"},{"$f":"-C266*ABS(D266-F266)*H266*I266*U266+'kompensacja międzyproduktowa'!X266*U266","v":{"$error":"#N/A"}},{"$f":"ROUND(IF((B266-A266+1)>2,IF(C266=75,AVERAGE(INDIRECT(\"krzywa!D\"&MATCH(K266-6,krzywa!A:A,0)&\":D\"&MATCH(K266-2,krzywa!A:A,0))),AVERAGE(INDIRECT(\"krzywa!D\"&MATCH(A266-$A$2+BQ266,krzywa!A:A,0)&\":D\"&MATCH(B266-$A$2-AY266,krzywa!A:A,0)))),INDIRECT(\"krzywa!D\"&MATCH(K266,krzywa!A:A,0))),4)","v":{"$error":"#N/A"}},{"$f":"VLOOKUP(A266,krzywa!L:N,3,1)","v":{"$error":"#N/A"}},{"$f":"VLOOKUP(B266,krzywa!L:N,3,1)","v":{"$error":"#N/A"}},{"$f":"IF('Kalkulator Depozytów'!$B$35=TRUE,1,(1+S266/100)*W266+(1+T266/100)*(1-W266))","v":{"$error":"#N/A"}},{"$f":"IF(S266<>T266,VLOOKUP(A266,krzywa!L:M,2,1))","v":{"$error":"#N/A"}},{"$f":"IF(V266<>FALSE,IF(L266=\"BASE\",(V266-A266+1)*24+J266,IF(L266=\"OFFPEAK\",NETWORKDAYS(A266,V266,koszyki!$M$20:$M$898)*9+(N266)*24+J266,IF(L266=\"L-PEAK5\",NETWORKDAYS(A266,V266,koszyki!$M$20:$M$898)*10,IF(L266=\"H-PEAK5\",NETWORKDAYS(A266,V266,koszyki!$M$20:$M$898)*5,NETWORKDAYS(A266,V266,koszyki!$M$20:$M$898)*15))))/C266,1)","v":{"$error":"#N/A"}}]
[null,null,0,{"$f":"'Kalkulator Depozytów'!M272","v":0},{"$f":"'Kalkulator Depozytów'!N272","v":0},{"$f":"'Kalkulator Depozytów'!O272","v":0},{"$f":"'Kalkulator Depozytów'!P272","v":0},{"$f":"'Kalkulator Depozytów'!Q272","v":0},{"$f":"ROUND(IF(OR(AND(K267>0,L267=\"L-PEAK5\"),AND(K267>0,L267=\"H-PEAK5\")),R267,IF(AND(K267>0,L267=\"PEAK5\"),O267,IF(K267>0,IF(OR(L267=\"BASE\"),AVERAGE(INDIRECT(\"krzywa!B\"&MATCH(A267-$A$2,krzywa!A:A,0)&\":B\"&MATCH(B267-$A$2,krzywa!A:A,0),TRUE)),IF(OR(L267=\"OFFPEAK\"),AVERAGE(INDIRECT(\"krzywa!F\"&MATCH(A267-$A$2,krzywa!A:A,0)&\":F\"&MATCH(B267-$A$2,krzywa!A:A,0)))))))),4)","v":0},null,{"$f":"B267-$A$2","v":0},null,{"$f":"NETWORKDAYS(A267,B267,koszyki!$M$20:$M$898)","v":0},{"$f":"B267-A267+1- NETWORKDAYS(A267,B267,koszyki!$M$20:$M$898)","v":1},{"$f":"ROUND(IF((B267-A267+1)>2,IF(C267=75,AVERAGE(INDIRECT(\"krzywa!C\"&MATCH(K267-6,krzywa!A:A,0)&\":C\"&MATCH(K267-2,krzywa!A:A,0))),AVERAGE(INDIRECT(\"krzywa!C\"&MATCH(A267-$A$2+BQ267,krzywa!A:A,0)&\":C\"&MATCH(B267-$A$2-AY267,krzywa!A:A,0)))),INDIRECT(\"krzywa!C\"&MATCH(K267,krzywa!A:A,0))),4)","v":{"$error":"#N/A"}},{"$error":"#N/A"},{"$f":"-C267*ABS(D267-F267)*H267*I267*U267+'kompensacja międzyproduktowa'!X267*U267","v":{"$error":"#N/A"}},{"$f":"ROUND(IF((B267-A267+1)>2,IF(C267=75,AVERAGE(INDIRECT(\"krzywa!D\"&MATCH(K267-6,krzywa!A:A,0)&\":D\"&MATCH(K267-2,krzywa!A:A,0))),AVERAGE(INDIRECT(\"krzywa!D\"&MATCH(A267-$A$2+BQ267,krzywa!A:A,0)&\":D\"&MATCH(B267-$A$2-AY267,krzywa!A:A,0)))),INDIRECT(\"krzywa!D\"&MATCH(K267,krzywa!A:A,0))),4)","v":{"$error":"#N/A"}},{"$f":"VLOOKUP(A267,krzywa!L:N,3,1)","v":{"$error":"#N/A"}},{"$f":"VLOOKUP(B267,krzywa!L:N,3,1)","v":{"$error":"#N/A"}},{"$f":"IF('Kalkulator Depozytów'!$B$35=TRUE,1,(1+S267/100)*W267+(1+T267/100)*(1-W267))","v":{"$error":"#N/A"}},{"$f":"IF(S267<>T267,VLOOKUP(A267,krzywa!L:M,2,1))","v":{"$error":"#N/A"}},{"$f":"IF(V267<>FALSE,IF(L267=\"BASE\",(V267-A267+1)*24+J267,IF(L267=\"OFFPEAK\",NETWORKDAYS(A267,V267,koszyki!$M$20:$M$898)*9+(N267)*24+J267,IF(L267=\"L-PEAK5\",NETWORKDAYS(A267,V267,koszyki!$M$20:$M$898)*10,IF(L267=\"H-PEAK5\",NETWORKDAYS(A267,V267,koszyki!$M$20:$M$898)*5,NETWORKDAYS(A267,V267,koszyki!$M$20:$M$898)*15))))/C267,1)","v":{"$error":"#N/A"}}]
[null,null,0,{"$f":"'Kalkulator Depozytów'!M273","v":0},{"$f":"'Kalkulator Depozytów'!N273","v":0},{"$f":"'Kalkulator Depozytów'!O273","v":0},{"$f":"'Kalkulator Depozytów'!P273","v":0},{"$f":"'Kalkulator Depozytów'!Q273","v":0},{"$f":"ROUND(IF(OR(AND(K268>0,L268=\"L-PEAK5\"),AND(K268>0,L268=\"H-PEAK5\")),R268,IF(AND(K268>0,L268=\"PEAK5\"),O268,IF(K268>0,IF(OR(L268=\"BASE\"),AVERAGE(INDIRECT(\"krzywa!B\"&MATCH(A268-$A$2,krzywa!A:A,0)&\":B\"&MATCH(B268-$A$2,krzywa!A:A,0),TRUE)),IF(OR(L268=\"OFFPEAK\"),AVERAGE(INDIRECT(\"krzywa!F\"&MATCH(A268-$A$2,krzywa!A:A,0)&\":F\"&MATCH(B268-$A$2,krzywa!A:A,0)))))))),4)","v":0},null,{"$f":"B268-$A$2","v":0},null,{"$f":"NETWORKDAYS(A268,B268,koszyki!$M$20:$M$898)","v":0},{"$f":"B268-A268+1- NETWORKDAYS(A268,B268,koszyki!$M$20:$M$898)","v":1},{"$f":"ROUND(IF((B268-A268+1)>2,IF(C268=75,AVERAGE(INDIRECT(\"krzywa!C\"&MATCH(K268-6,krzywa!A:A,0)&\":C\"&MATCH(K268-2,krzywa!A:A,0))),AVERAGE(INDIRECT(\"krzywa!C\"&MATCH(A268-$A$2+BQ268,krzywa!A:A,0)&\":C\"&MATCH(B268-$A$2-AY268,krzywa!A:A,0)))),INDIRECT(\"krzywa!C\"&MATCH(K268,krzywa!A:A,0))),4)","v":{"$error":"#N/A"}},{"$error":"#N/A"},{"$f":"-C268*ABS(D268-F268)*H268*I268*U268+'kompensacja międzyproduktowa'!X268*U268","v":{"$error":"#N/A"}},{"$f":"ROUND(IF((B268-A268+1)>2,IF(C268=75,AVERAGE(INDIRECT(\"krzywa!D\"&MATCH(K268-6,krzywa!A:A,0)&\":D\"&MATCH(K268-2,krzywa!A:A,0))),AVERAGE(INDIRECT(\"krzywa!D\"&MATCH(A268-$A$2+BQ268,krzywa!A:A,0)&\":D\"&MATCH(B268-$A$2-AY268,krzywa!A:A,0)))),INDIRECT(\"krzywa!D\"&MATCH(K268,krzywa!A:A,0))),4)","v":{"$error":"#N/A"}},{"$f":"VLOOKUP(A268,krzywa!L:N,3,1)","v":{"$error":"#N/A"}},{"$f":"VLOOKUP(B268,krzywa!L:N,3,1)","v":{"$error":"#N/A"}},{"$f":"IF('Kalkulator Depozytów'!$B$35=TRUE,1,(1+S268/100)*W268+(1+T268/100)*(1-W268))","v":{"$error":"#N/A"}},{"$f":"IF(S268<>T268,VLOOKUP(A268,krzywa!L:M,2,1))","v":{"$error":"#N/A"}},{"$f":"IF(V268<>FALSE,IF(L268=\"BASE\",(V268-A268+1)*24+J268,IF(L268=\"OFFPEAK\",NETWORKDAYS(A268,V268,koszyki!$M$20:$M$898)*9+(N268)*24+J268,IF(L268=\"L-PEAK5\",NETWORKDAYS(A268,V268,koszyki!$M$20:$M$898)*10,IF(L268=\"H-PEAK5\",NETWORKDAYS(A268,V268,koszyki!$M$20:$M$898)*5,NETWORKDAYS(A268,V268,koszyki!$M$20:$M$898)*15))))/C268,1)","v":{"$error":"#N/A"}}]

{"sheet":"kompensacja międzyproduktowa","index":1,"n_rows":268,"n_cols":24,"rows_kept":268,"cut":false,"hidden":true,"merged":[[4,17,4,22]]}
["Podaj Datę",null,"Typ kontraktu",null,null,"typ",null,"Parametr uznania kompensacji międzyproduktowej, publikowany przez IRGiT"]
[{"$f":"'Kalkulator Depozytów'!F12","v":"00:00:00"},null,{"$f":"'Kalkulator Depozytów'!J13","v":0},null,null,null,null,null,"UMP=",1]
[]
[]
[null,null,null,null,null,null,null,null,null,null,null,null,null,null,null,"Suma Depozytów",null,"Punkty z Załącznika do SZR"]
[null,null,null,null,null,null,null,null,null,null,null,null,null,null,null,{"$f":"SUM(P8:P29)","v":0},{"$f":"SUM(Q8:Q29)*'Kalkulator Depozytów'!F14","v":{"$error":"#N/A"}},null,null,null,null,null,null,"KOMPENSACJA"]
[{"$f":"IF(Kalkulator!A7=\"\",\"\",Kalkulator!A7)","v":"Początek"},{"$f":"IF(Kalkulator!B7=\"\",\"\",Kalkulator!B7)","v":"Koniec"},{"$f":"IF(Kalkulator!C7=\"\",\"\",Kalkulator!C7)","v":"Nominał"},{"$f":"IF(Kalkulator!D7=\"\",\"\",Kalkulator!D7)","v":"Wolumen Kupna"},{"$f":"IF(Kalkulator!E7=\"\",\"\",Kalkulator!E7)","v":"ŚWKK"},{"$f":"IF(Kalkulator!F7=\"\",\"\",Kalkulator!F7)","v":"Wolumen Sprzedaży"},{"$f":"IF(Kalkulator!G7=\"\",\"\",Kalkulator!G7)","v":"ŚWWS"},{"$f":"IF(Kalkulator!H7=\"\",\"\",Kalkulator!H7)","v":"Kurs Rozliczeniowy"},{"$f":"IF(Kalkulator!I7=\"\",\"\",Kalkulator!I7)","v":"Współczynnik Ryzyka"},{"$f":"IF(Kalkulator!J7=\"\",\"\",Kalkulator!J7)","v":"Zmiana czasu"},{"$f":"IF(Kalkulator!K7=\"\",\"\",Kalkulator!K7)","v":"Dni"},{"$f":"IF(Kalkulator!L7=\"\",\"\",Kalkulator!L7)","v":"profil dostawy"},{"$f":"IF(Kalkulator!M7=\"\",\"\",Kalkulator!M7)","v":"Liczba dni roboczych"},{"$f":"IF(Kalkulator!N7=\"\",\"\",Kalkulator!N7)","v":"Liczba dnia świątecznych"},{"$f":"IF(Kalkulator!O7=\"\",\"\",Kalkulator!O7)","v":"PEAK"},{"$f":"IF(Kalkulator!P7=\"\",\"\",Kalkulator!P7)","v":"Depozyt uzupełniający"},{"$f":"IF(Kalkulator!Q7=\"\",\"\",Kalkulator!Q7)","v":"Depozyt wstępny"},"pkt. 2",null,"pkt. 1","pkt. 4","pkt  6","pkt. 7","pkt. 8"]
["2024-11-28","2024-11-28",24,{"$f":"IF(Kalkulator!D8=\"\",\"\",Kalkulator!D8)","v":0},{"$f":"IF(Kalkulator!E8=\"\",\"\",Kalkulator!E8)","v":0},{"$f":"IF(Kalkulator!F8=\"\",\"\",Kalkulator!F8)","v":0},{"$f":"IF(Kalkulator!G8=\"\",\"\",Kalkulator!G8)","v":0},{"$f":"IF(Kalkulator!H8=\"\",\"\",Kalkulator!H8)","v":0},{"$f":"IF(Kalkulator!I8=\"\",\"\",Kalkulator!I8)","v":{"$error":"#N/A"}},{"$f":"IF(Kalkulator!J8=\"\",\"\",Kalkulator!J8)","v":0},{"$f":"IF(Kalkulator!K8=\"\",\"\",Kalkulator!K8)","v":45624},{"$f":"IF(Kalkulator!L8=\"\",\"\",Kalkulator!L8)","v":"BASE"},{"$f":"IF(Kalkulator!M8=\"\",\"\",Kalkulator!M8)","v":1},{"$f":"IF(Kalkulator!N8=\"\",\"\",Kalkulator!N8)","v":0},{"$f":"IF(Kalkulator!O8=\"\",\"\",Kalkulator!O8)","v":{"$error":"#N/A"}},{"$f":"IF(Kalkulator!P8=\"\",\"\",Kalkulator!P8)","v":0},{"$f":"IF(Kalkulator!Q8=\"\",\"\",Kalkulator!Q8)","v":{"$error":"#N/A"}},1,{"$f":"L8&R8","v":"BASE1"},{"$f":"D8-F8","v":0},{"$f":"IF(L8=\"BASE\",T8,VLOOKUP(R8,R:T,3,0)+T8)","v":0},{"$f":"_xlfn.IFNA(IF(OR(L8=\"PEAK5\",L8=\"OFFPEAK\"),U8,IF(AND(VLOOKUP(\"PEAK5\"&R8,S:U,3,0)>0,VLOOKUP(\"OFFPEAK\"&R8,S:U,3,0)>0),MIN(VLOOKUP(\"PEAK5\"&R8,S:U,3,0),VLOOKUP(\"OFFPEAK\"&R8,S:U,3,0)),IF(AND(VLOOKUP(\"PEAK5\"&R8,S:U,3,0)<0,VLOOKUP(\"OFFPEAK\"&R8,S:U,3,0)<0),MAX(VLOOKUP(\"PEAK5\"&R8,S:U,3,0),VLOOKUP(\"OFFPEAK\"&R8,S:U,3,0)),0))),0)","v":0},{"$f":"_xlfn.IFNA(V8-VLOOKUP(\"BASE\"&R8,S:V,4,0),0)","v":0},{"$f":"IF(L8=\"BASE\",(ABS(T8)-ABS(V8))*I8*C8*H8*$J$2,(ABS(T8)-ABS(W8))*I8*C8*H8*$J$2)","v":{"$error":"#N/A"}}]
["2024-11-29","2024-11-29",24,{"$f":"IF(Kalkulator!D9=\"\",\"\",Kalkulator!D9)","v":0},{"$f":"IF(Kalkulator!E9=\"\",\"\",Kalkulator!E9)","v":0},{"$f":"IF(Kalkulator!F9=\"\",\"\",Kalkulator!F9)","v":0},{"$f":"IF(Kalkulator!G9=\"\",\"\",Kalkulator!G9)","v":0},{"$f":"IF(Kalkulator!H9=\"\",\"\",Kalkulator!H9)","v":0},{"$f":"IF(Kalkulator!I9=\"\",\"\",Kalkulator!I9)","v":{"$error":"#N/A"}},{"$f":"IF(Kalkulator!J9=\"\",\"\",Kalkulator!J9)","v":0},{"$f":"IF(Kalkulator!K9=\"\",\"\",Kalkulator!K9)","v":45625},{"$f":"IF(Kalkulator!L9=\"\",\"\",Kalkulator!L9)","v":"BASE"},{"$f":"IF(Kalkulator!M9=\"\",\"\",Kalkulator!M9)","v":1},{"$f":"IF(Kalkulator!N9=\"\",\"\",Kalkulator!N9)","v":0},{"$f":"IF(Kalkulator!O9=\"\",\"\",Kalkulator!O9)","v":{"$error":"#N/A"}},{"$f":"IF(Kalkulator!P9=\"\",\"\",Kalkulator!P9)","v":0},{"$f":"IF(Kalkulator!Q9=\"\",\"\",Kalkulator!Q9)","v":{"$error":"#N/A"}},{"$f":"IF(L9=\"\",\"\",IF(L8=L9,R8+1,VLOOKUP(A9,A:R,18,0)))","v":2},{"$f":"L9&R9","v":"BASE2"},{"$f":"D9-F9","v":0},{"$f":"IF(L9=\"BASE\",T9,VLOOKUP(R9,R:T,3,0)+T9)","v":0},{"$f":"_xlfn.IFNA(IF(OR(L9=\"PEAK5\",L9=\"OFFPEAK\"),U9,IF(AND(VLOOKUP(\"PEAK5\"&R9,S:U,3,0)>0,VLOOKUP(\"OFFPEAK\"&R9,S:U,3,0)>0),MIN(VLOOKUP(\"PEAK5\"&R9,S:U,3,0),VLOOKUP(\"OFFPEAK\"&R9,S:U,3,0)),IF(AND(VLOOKUP(\"PEAK5\"&R9,S:U,3,0)<0,VLOOKUP(\"OFFPEAK\"&R9,S:U,3,0)<0),MAX(VLOOKUP(\"PEAK5\"&R9,S:U,3,0),VLOOKUP(\"OFFPEAK\"&R9,S:U,3,0)),0))),0)","v":0},{"$f":"_xlfn.IFNA(V9-VLOOKUP(\"BASE\"&R9,S:V,4,0),0)","v":0},{"$f":"IF(L9=\"BASE\",(ABS(T9)-ABS(V9))*I9*C9*H9*$J$2,(ABS(T9)-ABS(W9))*I9*C9*H9*$J$2)","v":{"$error":"#N/A"}}]
["2024-11-30","2024-11-30",24,{"$f":"IF(Kalkulator!D10=\"\",\"\",Kalkulator!D10)","v":0},{"$f":"IF(Kalkulator!E10=\"\",\"\",Kalkulator!E10)","v":0},{"$f":"IF(Kalkulator!F10=\"\",\"\",Kalkulator!F10)","v":0},{"$f":"IF(Kalkulator!G10=\"\",\"\",Kalkulator!G10)","v":0},{"$f":"IF(Kalkulator!H10=\"\",\"\",Kalkulator!H10)","v":0},{"$f":"IF(Kalkulator!I10=\"\",\"\",Kalkulator!I10)","v":{"$error":"#N/A"}},{"$f":"IF(Kalkulator!J10=\"\",\"\",Kalkulator!J10)","v":0},{"$f":"IF(Kalkulator!K10=\"\",\"\",Kalkulator!K10)","v":45626},{"$f":"IF(Kalkulator!L10=\"\",\"\",Kalkulator!L10)","v":"BASE"},{"$f":"IF(Kalkulator!M10=\"\",\"\",Kalkulator!M10)","v":0},{"$f":"IF(Kalkulator!N10=\"\",\"\",Kalkulator!N10)","v":1},{"$f":"IF(Kalkulator!O10=\"\",\"\",Kalkulator!O10)","v":{"$error":"#N/A"}},{"$f":"IF(Kalkulator!P10=\"\",\"\",Kalkulator!P10)","v":0},{"$f":"IF(Kalkulator!Q10=\"\",\"\",Kalkulator!Q10)","v":{"$error":"#N/A"}},{"$f":"IF(L10=\"\",\"\",IF(L9=L10,R9+1,VLOOKUP(A10,A:R,18,0)))","v":3},"BASE3",0,0,0,0,{"$error":"#N/A"}]
["2024-12-01","2024-12-01",24,{"$f":"IF(Kalkulator!D11=\"\",\"\",Kalkulator!D11)","v":0},{"$f":"IF(Kalkulator!E11=\"\",\"\",Kalkulator!E11)","v":0},{"$f":"IF(Kalkulator!F11=\"\",\"\",Kalkulator!F11)","v":0},{"$f":"IF(Kalkulator!G11=\"\",\"\",Kalkulator!G11)","v":0},{"$f":"IF(Kalkulator!H11=\"\",\"\",Kalkulator!H11)","v":0},{"$f":"IF(Kalkulator!I11=\"\",\"\",Kalkulator!I11)","v":{"$error":"#N/A"}},{"$f":"IF(Kalkulator!J11=\"\",\"\",Kalkulator!J11)","v":0},{"$f":"IF(Kalkulator!K11=\"\",\"\",Kalkulator!K11)","v":45627},{"$f":"IF(Kalkulator!L11=\"\",\"\",Kalkulator!L11)","v":"BASE"},{"$f":"IF(Kalkulator!M11=\"\",\"\",Kalkulator!M11)","v":0},{"$f":"IF(Kalkulator!N11=\"\",\"\",Kalkulator!N11)","v":1},{"$f":"IF(Kalkulator!O11=\"\",\"\",Kalkulator!O11)","v":{"$error":"#N/A"}},{"$f":"IF(Kalkulator!P11=\"\",\"\",Kalkulator!P11)","v":0},{"$f":"IF(Kalkulator!Q11=\"\",\"\",Kalkulator!Q11)","v":{"$error":"#N/A"}},4,"BASE4",0,0,0,0,{"$error":"#N/A"}]
["2024-12-02","2024-12-02",24,{"$f":"IF(Kalkulator!D12=\"\",\"\",Kalkulator!D12)","v":0},{"$f":"IF(Kalkulator!E12=\"\",\"\",Kalkulator!E12)","v":0},{"$f":"IF(Kalkulator!F12=\"\",\"\",Kalkulator!F12)","v":0},{"$f":"IF(Kalkulator!G12=\"\",\"\",Kalkulator!G12)","v":0},{"$f":"IF(Kalkulator!H12=\"\",\"\",Kalkulator!H12)","v":0},{"$f":"IF(Kalkulator!I12=\"\",\"\",Kalkulator!I12)","v":{"$error":"#N/A"}},{"$f":"IF(Kalkulator!J12=\"\",\"\",Kalkulator!J12)","v":0},{"$f":"IF(Kalkulator!K12=\"\",\"\",Kalkulator!K12)","v":45628},{"$f":"IF(Kalkulator!L12=\"\",\"\",Kalkulator!L12)","v":"BASE"},{"$f":"IF(Kalkulator!M12=\"\",\"\",Kalkulator!M12)","v":1},{"$f":"IF(Kalkulator!N12=\"\",\"\",Kalkulator!N12)","v":0},{"$f":"IF(Kalkulator!O12=\"\",\"\",Kalkulator!O12)","v":{"$error":"#N/A"}},{"$f":"IF(Kalkulator!P12=\"\",\"\",Kalkulator!P12)","v":0},{"$f":"IF(Kalkulator!Q12=\"\",\"\",Kalkulator!Q12)","v":{"$error":"#N/A"}},5,"BASE5",0,0,0,0,{"$error":"#N/A"}]
["2024-12-03","2024-12-03",24,{"$f":"IF(Kalkulator!D13=\"\",\"\",Kalkulator!D13)","v":0},{"$f":"IF(Kalkulator!E13=\"\",\"\",Kalkulator!E13)","v":0},{"$f":"IF(Kalkulator!F13=\"\",\"\",Kalkulator!F13)","v":0},{"$f":"IF(Kalkulator!G13=\"\",\"\",Kalkulator!G13)","v":0},{"$f":"IF(Kalkulator!H13=\"\",\"\",Kalkulator!H13)","v":0},{"$f":"IF(Kalkulator!I13=\"\",\"\",Kalkulator!I13)","v":{"$error":"#N/A"}},{"$f":"IF(Kalkulator!J13=\"\",\"\",Kalkulator!J13)","v":0},{"$f":"IF(Kalkulator!K13=\"\",\"\",Kalkulator!K13)","v":45629},{"$f":"IF(Kalkulator!L13=\"\",\"\",Kalkulator!L13)","v":"BASE"},{"$f":"IF(Kalkulator!M13=\"\",\"\",Kalkulator!M13)","v":1},{"$f":"IF(Kalkulator!N13=\"\",\"\",Kalkulator!N13)","v":0},{"$f":"IF(Kalkulator!O13=\"\",\"\",Kalkulator!O13)","v":{"$error":"#N/A"}},{"$f":"IF(Kalkulator!P13=\"\",\"\",Kalkulator!P13)","v":0},{"$f":"IF(Kalkulator!Q13=\"\",\"\",Kalkulator!Q13)","v":{"$error":"#N/A"}},6,"BASE6",0,0,0,0,{"$error":"#N/A"}]
["2024-12-04","2024-12-04",24,{"$f":"IF(Kalkulator!D14=\"\",\"\",Kalkulator!D14)","v":0},{"$f":"IF(Kalkulator!E14=\"\",\"\",Kalkulator!E14)","v":0},{"$f":"IF(Kalkulator!F14=\"\",\"\",Kalkulator!F14)","v":0},{"$f":"IF(Kalkulator!G14=\"\",\"\",Kalkulator!G14)","v":0},{"$f":"IF(Kalkulator!H14=\"\",\"\",Kalkulator!H14)","v":0},{"$f":"IF(Kalkulator!I14=\"\",\"\",Kalkulator!I14)","v":{"$error":"#N/A"}},{"$f":"IF(Kalkulator!J14=\"\",\"\",Kalkulator!J14)","v":0},{"$f":"IF(Kalkulator!K14=\"\",\"\",Kalkulator!K14)","v":45630},{"$f":"IF(Kalkulator!L14=\"\",\"\",Kalkulator!L14)","v":"BASE"},{"$f":"IF(Kalkulator!M14=\"\",\"\",Kalkulator!M14)","v":1},{"$f":"IF(Kalkulator!N14=\"\",\"\",Kalkulator!N14)","v":0},{"$f":"IF(Kalkulator!O14=\"\",\"\",Kalkulator!O14)","v":{"$error":"#N/A"}},{"$f":"IF(Kalkulator!P14=\"\",\"\",Kalkulator!P14)","v":0},{"$f":"IF(Kalkulator!Q14=\"\",\"\",Kalkulator!Q14)","v":{"$error":"#N/A"}},7,"BASE7",0,0,0,0,{"$error":"#N/A"}]
["2024-12-05","2024-12-05",24,{"$f":"IF(Kalkulator!D15=\"\",\"\",Kalkulator!D15)","v":0},{"$f":"IF(Kalkulator!E15=\"\",\"\",Kalkulator!E15)","v":0},{"$f":"IF(Kalkulator!F15=\"\",\"\",Kalkulator!F15)","v":0},{"$f":"IF(Kalkulator!G15=\"\",\"\",Kalkulator!G15)","v":0},{"$f":"IF(Kalkulator!H15=\"\",\"\",Kalkulator!H15)","v":0},{"$f":"IF(Kalkulator!I15=\"\",\"\",Kalkulator!I15)","v":{"$error":"#N/A"}},{"$f":"IF(Kalkulator!J15=\"\",\"\",Kalkulator!J15)","v":0},{"$f":"IF(Kalkulator!K15=\"\",\"\",Kalkulator!K15)","v":45631},{"$f":"IF(Kalkulator!L15=\"\",\"\",Kalkulator!L15)","v":"BASE"},{"$f":"IF(Kalkulator!M15=\"\",\"\",Kalkulator!M15)","v":1},{"$f":"IF(Kalkulator!N15=\"\",\"\",Kalkulator!N15)","v":0},{"$f":"IF(Kalkulator!O15=\"\",\"\",Kalkulator!O15)","v":{"$error":"#N/A"}},{"$f":"IF(Kalkulator!P15=\"\",\"\",Kalkulator!P15)","v":0},{"$f":"IF(Kalkulator!Q15=\"\",\"\",Kalkulator!Q15)","v":{"$error":"#N/A"}},8,"BASE8",0,0,0,0,{"$error":"#N/A"}]
["2024-12-06","2024-12-06",24,{"$f":"IF(Kalkulator!D16=\"\",\"\",Kalkulator!D16)","v":0},{"$f":"IF(Kalkulator!E16=\"\",\"\",Kalkulator!E16)","v":0},{"$f":"IF(Kalkulator!F16=\"\",\"\",Kalkulator!F16)","v":0},{"$f":"IF(Kalkulator!G16=\"\",\"\",Kalkulator!G16)","v":0},{"$f":"IF(Kalkulator!H16=\"\",\"\",Kalkulator!H16)","v":0},{"$f":"IF(Kalkulator!I16=\"\",\"\",Kalkulator!I16)","v":{"$error":"#N/A"}},{"$f":"IF(Kalkulator!J16=\"\",\"\",Kalkulator!J16)","v":0},{"$f":"IF(Kalkulator!K16=\"\",\"\",Kalkulator!K16)","v":45632},{"$f":"IF(Kalkulator!L16=\"\",\"\",Kalkulator!L16)","v":"BASE"},{"$f":"IF(Kalkulator!M16=\"\",\"\",Kalkulator!M16)","v":1},{"$f":"IF(Kalkulator!N16=\"\",\"\",Kalkulator!N16)","v":0},{"$f":"IF(Kalkulator!O16=\"\",\"\",Kalkulator!O16)","v":{"$error":"#N/A"}},{"$f":"IF(Kalkulator!P16=\"\",\"\",Kalkulator!P16)","v":0},{"$f":"IF(Kalkulator!Q16=\"\",\"\",Kalkulator!Q16)","v":{"$error":"#N/A"}},9,"BASE9",0,0,0,0,{"$error":"#N/A"}]
["2024-12-07","2024-12-07",24,{"$f":"IF(Kalkulator!D17=\"\",\"\",Kalkulator!D17)","v":0},{"$f":"IF(Kalkulator!E17=\"\",\"\",Kalkulator!E17)","v":0},{"$f":"IF(Kalkulator!F17=\"\",\"\",Kalkulator!F17)","v":0},{"$f":"IF(Kalkulator!G17=\"\",\"\",Kalkulator!G17)","v":0},{"$f":"IF(Kalkulator!H17=\"\",\"\",Kalkulator!H17)","v":0},{"$f":"IF(Kalkulator!I17=\"\",\"\",Kalkulator!I17)","v":{"$error":"#N/A"}},{"$f":"IF(Kalkulator!J17=\"\",\"\",Kalkulator!J17)","v":0},{"$f":"IF(Kalkulator!K17=\"\",\"\",Kalkulator!K17)","v":45633},{"$f":"IF(Kalkulator!L17=\"\",\"\",Kalkulator!L17)","v":"BASE"},{"$f":"IF(Kalkulator!M17=\"\",\"\",Kalkulator!M17)","v":0},{"$f":"IF(Kalkulator!N17=\"\",\"\",Kalkulator!N17)","v":1},{"$f":"IF(Kalkulator!O17=\"\",\"\",Kalkulator!O17)","v":{"$error":"#N/A"}},{"$f":"IF(Kalkulator!P17=\"\",\"\",Kalkulator!P17)","v":0},{"$f":"IF(Kalkulator!Q17=\"\",\"\",Kalkulator!Q17)","v":{"$error":"#N/A"}},10,"BASE10",0,0,0,0,{"$error":"#N/A"}]
["2024-12-08","2024-12-08",24,{"$f":"IF(Kalkulator!D18=\"\",\"\",Kalkulator!D18)","v":0},{"$f":"IF(Kalkulator!E18=\"\",\"\",Kalkulator!E18)","v":0},{"$f":"IF(Kalkulator!F18=\"\",\"\",Kalkulator!F18)","v":0},{"$f":"IF(Kalkulator!G18=\"\",\"\",Kalkulator!G18)","v":0},{"$f":"IF(Kalkulator!H18=\"\",\"\",Kalkulator!H18)","v":0},{"$f":"IF(Kalkulator!I18=\"\",\"\",Kalkulator!I18)","v":{"$error":"#N/A"}},{"$f":"IF(Kalkulator!J18=\"\",\"\",Kalkulator!J18)","v":0},{"$f":"IF(Kalkulator!K18=\"\",\"\",Kalkulator!K18)","v":45634},{"$f":"IF(Kalkulator!L18=\"\",\"\",Kalkulator!L18)","v":"BASE"},{"$f":"IF(Kalkulator!M18=\"\",\"\",Kalkulator!M18)","v":0},{"$f":"IF(Kalkulator!N18=\"\",\"\",Kalkulator!N18)","v":1},{"$f":"IF(Kalkulator!O18=\"\",\"\",Kalkulator!O18)","v":{"$error":"#N/A"}},{"$f":"IF(Kalkulator!P18=\"\",\"\",Kalkulator!P18)","v":0},{"$f":"IF(Kalkulator!Q18=\"\",\"\",Kalkulator!Q18)","v":{"$error":"#N/A"}},11,"BASE11",0,0,0,0,{"$error":"#N/A"}]
["2024-12-09","2024-12-15",168,{"$f":"IF(Kalkulator!D19=\"\",\"\",Kalkulator!D19)","v":0},{"$f":"IF(Kalkulator!E19=\"\",\"\",Kalkulator!E19)","v":0},{"$f":"IF(Kalkulator!F19=\"\",\"\",Kalkulator!F19)","v":0},{"$f":"IF(Kalkulator!G19=\"\",\"\",Kalkulator!G19)","v":0},{"$f":"IF(Kalkulator!H19=\"\",\"\",Kalkulator!H19)","v":0},{"$f":"IF(Kalkulator!I19=\"\",\"\",Kalkulator!I19)","v":{"$error":"#N/A"}},{"$f":"IF(Kalkulator!J19=\"\",\"\",Kalkulator!J19)","v":0},{"$f":"IF(Kalkulator!K19=\"\",\"\",Kalkulator!K19)","v":45641},{"$f":"IF(Kalkulator!L19=\"\",\"\",Kalkulator!L19)","v":"BASE"},{"$f":"IF(Kalkulator!M19=\"\",\"\",Kalkulator!M19)","v":5},{"$f":"IF(Kalkulator!N19=\"\",\"\",Kalkulator!N19)","v":2},{"$f":"IF(Kalkulator!O19=\"\",\"\",Kalkulator!O19)","v":{"$error":"#N/A"}},{"$f":"IF(Kalkulator!P19=\"\",\"\",Kalkulator!P19)","v":0},{"$f":"IF(Kalkulator!Q19=\"\",\"\",Kalkulator!Q19)","v":{"$error":"#N/A"}},12,"BASE12",0,0,0,0,{"$error":"#N/A"}]
["2024-12-16","2024-12-22",168,{"$f":"IF(Kalkulator!D20=\"\",\"\",Kalkulator!D20)","v":0},{"$f":"IF(Kalkulator!E20=\"\",\"\",Kalkulator!E20)","v":0},{"$f":"IF(Kalkulator!F20=\"\",\"\",Kalkulator!F20)","v":0},{"$f":"IF(Kalkulator!G20=\"\",\"\",Kalkulator!G20)","v":0},{"$f":"IF(Kalkulator!H20=\"\",\"\",Kalkulator!H20)","v":0},{"$f":"IF(Kalkulator!I20=\"\",\"\",Kalkulator!I20)","v":{"$error":"#N/A"}},{"$f":"IF(Kalkulator!J20=\"\",\"\",Kalkulator!J20)","v":0},{"$f":"IF(Kalkulator!K20=\"\",\"\",Kalkulator!K20)","v":45648},{"$f":"IF(Kalkulator!L20=\"\",\"\",Kalkulator!L20)","v":"BASE"},{"$f":"IF(Kalkulator!M20=\"\",\"\",Kalkulator!M20)","v":5},{"$f":"IF(Kalkulator!N20=\"\",\"\",Kalkulator!N20)","v":2},{"$f":"IF(Kalkulator!O20=\"\",\"\",Kalkulator!O20)","v":{"$error":"#N/A"}},{"$f":"IF(Kalkulator!P20=\"\",\"\",Kalkulator!P20)","v":0},{"$f":"IF(Kalkulator!Q20=\"\",\"\",Kalkulator!Q20)","v":{"$error":"#N/A"}},13,"BASE13",0,0,0,0,{"$error":"#N/A"}]
["2024-12-23","2024-12-29",168,{"$f":"IF(Kalkulator!D21=\"\",\"\",Kalkulator!D21)","v":0},{"$f":"IF(Kalkulator!E21=\"\",\"\",Kalkulator!E21)","v":0},{"$f":"IF(Kalkulator!F21=\"\",\"\",Kalkulator!F21)","v":0},{"$f":"IF(Kalkulator!G21=\"\",\"\",Kalkulator!G21)","v":0},{"$f":"IF(Kalkulator!H21=\"\",\"\",Kalkulator!H21)","v":0},{"$f":"IF(Kalkulator!I21=\"\",\"\",Kalkulator!I21)","v":{"$error":"#N/A"}},{"$f":"IF(Kalkulator!J21=\"\",\"\",Kalkulator!J21)","v":0},{"$f":"IF(Kalkulator!K21=\"\",\"\",Kalkulator!K21)","v":45655},{"$f":"IF(Kalkulator!L21=\"\",\"\",Kalkulator!L21)","v":"BASE"},{"$f":"IF(Kalkulator!M21=\"\",\"\",Kalkulator!M21)","v":3},{"$f":"IF(Kalkulator!N21=\"\",\"\",Kalkulator!N21)","v":4},{"$f":"IF(Kalkulator!O21=\"\",\"\",Kalkulator!O21)","v":{"$error":"#N/A"}},{"$f":"IF(Kalkulator!P21=\"\",\"\",Kalkulator!P21)","v":0},{"$f":"IF(Kalkulator!Q21=\"\",\"\",Kalkulator!Q21)","v":{"$error":"#N/A"}},14,"BASE14",0,0,0,0,{"$error":"#N/A"}]
["2024-12-30","2024-12-31",48,{"$f":"IF(Kalkulator!D22=\"\",\"\",Kalkulator!D22)","v":0},{"$f":"IF(Kalkulator!E22=\"\",\"\",Kalkulator!E22)","v":0},{"$f":"IF(Kalkulator!F22=\"\",\"\",Kalkulator!F22)","v":0},{"$f":"IF(Kalkulator!G22=\"\",\"\",Kalkulator!G22)","v":0},{"$f":"IF(Kalkulator!H22=\"\",\"\",Kalkulator!H22)","v":0},{"$f":"IF(Kalkulator!I22=\"\",\"\",Kalkulator!I22)","v":{"$error":"#N/A"}},{"$f":"IF(Kalkulator!J22=\"\",\"\",Kalkulator!J22)","v":0},{"$f":"IF(Kalkulator!K22=\"\",\"\",Kalkulator!K22)","v":45657},{"$f":"IF(Kalkulator!L22=\"\",\"\",Kalkulator!L22)","v":"BASE"},{"$f":"IF(Kalkulator!M22=\"\",\"\",Kalkulator!M22)","v":2},{"$f":"IF(Kalkulator!N22=\"\",\"\",Kalkulator!N22)","v":0},{"$f":"IF(Kalkulator!O22=\"\",\"\",Kalkulator!O22)","v":{"$error":"#N/A"}},{"$f":"IF(Kalkulator!P22=\"\",\"\",Kalkulator!P22)","v":0},{"$f":"IF(Kalkulator!Q22=\"\",\"\",Kalkulator!Q22)","v":{"$error":"#N/A"}},15,"BASE15",0,0,0,0,{"$error":"#N/A"}]
["2025-01-01","2025-01-05",120,{"$f":"IF(Kalkulator!D23=\"\",\"\",Kalkulator!D23)","v":0},{"$f":"IF(Kalkulator!E23=\"\",\"\",Kalkulator!E23)","v":0},{"$f":"IF(Kalkulator!F23=\"\",\"\",Kalkulator!F23)","v":0},{"$f":"IF(Kalkulator!G23=\"\",\"\",Kalkulator!G23)","v":0},{"$f":"IF(Kalkulator!H23=\"\",\"\",Kalkulator!H23)","v":0},{"$f":"IF(Kalkulator!I23=\"\",\"\",Kalkulator!I23)","v":{"$error":"#N/A"}},{"$f":"IF(Kalkulator!J23=\"\",\"\",Kalkulator!J23)","v":0},{"$f":"IF(Kalkulator!K23=\"\",\"\",Kalkulator!K23)","v":45662},{"$f":"IF(Kalkulator!L23=\"\",\"\",Kalkulator!L23)","v":"BASE"},{"$f":"IF(Kalkulator!M23=\"\",\"\",Kalkulator!M23)","v":2},{"$f":"IF(Kalkulator!N23=\"\",\"\",Kalkulator!N23)","v":3},{"$f":"IF(Kalkulator!O23=\"\",\"\",Kalkulator!O23)","v":{"$error":"#N/A"}},{"$f":"IF(Kalkulator!P23=\"\",\"\",Kalkulator!P23)","v":0},{"$f":"IF(Kalkulator!Q23=\"\",\"\",Kalkulator!Q23)","v":{"$error":"#N/A"}},16,"BASE16",0,0,0,0,{"$error":"#N/A"}]
["2025-01-06","2025-01-31",624,{"$f":"IF(Kalkulator!D24=\"\",\"\",Kalkulator!D24)","v":0},{"$f":"IF(Kalkulator!E24=\"\",\"\",Kalkulator!E24)","v":0},{"$f":"IF(Kalkulator!F24=\"\",\"\",Kalkulator!F24)","v":0},{"$f":"IF(Kalkulator!G24=\"\",\"\",Kalkulator!G24)","v":0},{"$f":"IF(Kalkulator!H24=\"\",\"\",Kalkulator!H24)","v":0},{"$f":"IF(Kalkulator!I24=\"\",\"\",Kalkulator!I24)","v":{"$error":"#N/A"}},{"$f":"IF(Kalkulator!J24=\"\",\"\",Kalkulator!J24)","v":0},{"$f":"IF(Kalkulator!K24=\"\",\"\",Kalkulator!K24)","v":45688},{"$f":"IF(Kalkulator!L24=\"\",\"\",Kalkulator!L24)","v":"BASE"},{"$f":"IF(Kalkulator!M24=\"\",\"\",Kalkulator!M24)","v":19},{"$f":"IF(Kalkulator!N24=\"\",\"\",Kalkulator!N24)","v":7},{"$f":"IF(Kalkulator!O24=\"\",\"\",Kalkulator!O24)","v":{"$error":"#N/A"}},{"$f":"IF(Kalkulator!P24=\"\",\"\",Kalkulator!P24)","v":0},{"$f":"IF(Kalkulator!Q24=\"\",\"\",Kalkulator!Q24)","v":{"$error":"#N/A"}},17,"BASE17",0,0,0,0,{"$error":"#N/A"}]
["2025-02-01","2025-02-28",672,{"$f":"IF(Kalkulator!D25=\"\",\"\",Kalkulator!D25)","v":0},{"$f":"IF(Kalkulator!E25=\"\",\"\",Kalkulator!E25)","v":0},{"$f":"IF(Kalkulator!F25=\"\",\"\",Kalkulator!F25)","v":0},{"$f":"IF(Kalkulator!G25=\"\",\"\",Kalkulator!G25)","v":0},{"$f":"IF(Kalkulator!H25=\"\",\"\",Kalkulator!H25)","v":0},{"$f":"IF(Kalkulator!I25=\"\",\"\",Kalkulator!I25)","v":{"$error":"#N/A"}},{"$f":"IF(Kalkulator!J25=\"\",\"\",Kalkulator!J25)","v":0},{"$f":"IF(Kalkulator!K25=\"\",\"\",Kalkulator!K25)","v":45716},{"$f":"IF(Kalkulator!L25=\"\",\"\",Kalkulator!L25)","v":"BASE"},{"$f":"IF(Kalkulator!M25=\"\",\"\",Kalkulator!M25)","v":20},{"$f":"IF(Kalkulator!N25=\"\",\"\",Kalkulator!N25)","v":8},{"$f":"IF(Kalkulator!O25=\"\",\"\",Kalkulator!O25)","v":{"$error":"#N/A"}},{"$f":"IF(Kalkulator!P25=\"\",\"\",Kalkulator!P25)","v":0},{"$f":"IF(Kalkulator!Q25=\"\",\"\",Kalkulator!Q25)","v":{"$error":"#N/A"}},18,"BASE18",0,0,0,0,{"$error":"#N/A"}]
["2025-03-01","2025-03-31",743,{"$f":"IF(Kalkulator!D26=\"\",\"\",Kalkulator!D26)","v":0},{"$f":"IF(Kalkulator!E26=\"\",\"\",Kalkulator!E26)","v":0},{"$f":"IF(Kalkulator!F26=\"\",\"\",Kalkulator!F26)","v":0},{"$f":"IF(Kalkulator!G26=\"\",\"\",Kalkulator!G26)","v":0},{"$f":"IF(Kalkulator!H26=\"\",\"\",Kalkulator!H26)","v":0},{"$f":"IF(Kalkulator!I26=\"\",\"\",Kalkulator!I26)","v":{"$error":"#N/A"}},{"$f":"IF(Kalkulator!J26=\"\",\"\",Kalkulator!J26)","v":-1},{"$f":"IF(Kalkulator!K26=\"\",\"\",Kalkulator!K26)","v":45747},{"$f":"IF(Kalkulator!L26=\"\",\"\",Kalkulator!L26)","v":"BASE"},{"$f":"IF(Kalkulator!M26=\"\",\"\",Kalkulator!M26)","v":21},{"$f":"IF(Kalkulator!N26=\"\",\"\",Kalkulator!N26)","v":10},{"$f":"IF(Kalkulator!O26=\"\",\"\",Kalkulator!O26)","v":{"$error":"#N/A"}},{"$f":"IF(Kalkulator!P26=\"\",\"\",Kalkulator!P26)","v":0},{"$f":"IF(Kalkulator!Q26=\"\",\"\",Kalkulator!Q26)","v":{"$error":"#N/A"}},19,"BASE19",0,0,0,0,{"$error":"#N/A"}]
["2025-04-01","2025-04-30",720,{"$f":"IF(Kalkulator!D27=\"\",\"\",Kalkulator!D27)","v":0},{"$f":"IF(Kalkulator!E27=\"\",\"\",Kalkulator!E27)","v":0},{"$f":"IF(Kalkulator!F27=\"\",\"\",Kalkulator!F27)","v":0},{"$f":"IF(Kalkulator!G27=\"\",\"\",Kalkulator!G27)","v":0},{"$f":"IF(Kalkulator!H27=\"\",\"\",Kalkulator!H27)","v":0},{"$f":"IF(Kalkulator!I27=\"\",\"\",Kalkulator!I27)","v":{"$error":"#N/A"}},{"$f":"IF(Kalkulator!J27=\"\",\"\",Kalkulator!J27)","v":0},{"$f":"IF(Kalkulator!K27=\"\",\"\",Kalkulator!K27)","v":45777},{"$f":"IF(Kalkulator!L27=\"\",\"\",Kalkulator!L27)","v":"BASE"},{"$f":"IF(Kalkulator!M27=\"\",\"\",Kalkulator!M27)","v":21},{"$f":"IF(Kalkulator!N27=\"\",\"\",Kalkulator!N27)","v":9},{"$f":"IF(Kalkulator!O27=\"\",\"\",Kalkulator!O27)","v":{"$error":"#N/A"}},{"$f":"IF(Kalkulator!P27=\"\",\"\",Kalkulator!P27)","v":0},{"$f":"IF(Kalkulator!Q27=\"\",\"\",Kalkulator!Q27)","v":{"$error":"#N/A"}},20,"BASE20",0,0,0,0,{"$error":"#N/A"}]
["2025-05-01","2025-05-31",744,{"$f":"IF(Kalkulator!D28=\"\",\"\",Kalkulator!D28)","v":0},{"$f":"IF(Kalkulator!E28=\"\",\"\",Kalkulator!E28)","v":0},{"$f":"IF(Kalkulator!F28=\"\",\"\",Kalkulator!F28)","v":0},{"$f":"IF(Kalkulator!G28=\"\",\"\",Kalkulator!G28)","v":0},{"$f":"IF(Kalkulator!H28=\"\",\"\",Kalkulator!H28)","v":0},{"$f":"IF(Kalkulator!I28=\"\",\"\",Kalkulator!I28)","v":{"$error":"#N/A"}},{"$f":"IF(Kalkulator!J28=\"\",\"\",Kalkulator!J28)","v":0},{"$f":"IF(Kalkulator!K28=\"\",\"\",Kalkulator!K28)","v":45808},{"$f":"IF(Kalkulator!L28=\"\",\"\",Kalkulator!L28)","v":"BASE"},{"$f":"IF(Kalkulator!M28=\"\",\"\",Kalkulator!M28)","v":21},{"$f":"IF(Kalkulator!N28=\"\",\"\",Kalkulator!N28)","v":10},{"$f":"IF(Kalkulator!O28=\"\",\"\",Kalkulator!O28)","v":{"$error":"#N/A"}},{"$f":"IF(Kalkulator!P28=\"\",\"\",Kalkulator!P28)","v":0},{"$f":"IF(Kalkulator!Q28=\"\",\"\",Kalkulator!Q28)","v":{"$error":"#N/A"}},21,"BASE21",0,0,0,0,{"$error":"#N/A"}]
["2025-06-01","2025-06-30",720,{"$f":"IF(Kalkulator!D29=\"\",\"\",Kalkulator!D29)","v":0},{"$f":"IF(Kalkulator!E29=\"\",\"\",Kalkulator!E29)","v":0},{"$f":"IF(Kalkulator!F29=\"\",\"\",Kalkulator!F29)","v":0},{"$f":"IF(Kalkulator!G29=\"\",\"\",Kalkulator!G29)","v":0},{"$f":"IF(Kalkulator!H29=\"\",\"\",Kalkulator!H29)","v":0},{"$f":"IF(Kalkulator!I29=\"\",\"\",Kalkulator!I29)","v":{"$error":"#N/A"}},{"$f":"IF(Kalkulator!J29=\"\",\"\",Kalkulator!J29)","v":0},{"$f":"IF(Kalkulator!K29=\"\",\"\",Kalkulator!K29)","v":45838},{"$f":"IF(Kalkulator!L29=\"\",\"\",Kalkulator!L29)","v":"BASE"},{"$f":"IF(Kalkulator!M29=\"\",\"\",Kalkulator!M29)","v":20},{"$f":"IF(Kalkulator!N29=\"\",\"\",Kalkulator!N29)","v":10},{"$f":"IF(Kalkulator!O29=\"\",\"\",Kalkulator!O29)","v":{"$error":"#N/A"}},{"$f":"IF(Kalkulator!P29=\"\",\"\",Kalkulator!P29)","v":0},{"$f":"IF(Kalkulator!Q29=\"\",\"\",Kalkulator!Q29)","v":{"$error":"#N/A"}},22,"BASE22",0,0,0,0,{"$error":"#N/A"}]
["2025-07-01","2025-09-30",2208,{"$f":"IF(Kalkulator!D30=\"\",\"\",Kalkulator!D30)","v":0},{"$f":"IF(Kalkulator!E30=\"\",\"\",Kalkulator!E30)","v":0},{"$f":"IF(Kalkulator!F30=\"\",\"\",Kalkulator!F30)","v":0},{"$f":"IF(Kalkulator!G30=\"\",\"\",Kalkulator!G30)","v":0},{"$f":"IF(Kalkulator!H30=\"\",\"\",Kalkulator!H30)","v":0},{"$f":"IF(Kalkulator!I30=\"\",\"\",Kalkulator!I30)","v":{"$error":"#N/A"}},{"$f":"IF(Kalkulator!J30=\"\",\"\",Kalkulator!J30)","v":0},{"$f":"IF(Kalkulator!K30=\"\",\"\",Kalkulator!K30)","v":45930},{"$f":"IF(Kalkulator!L30=\"\",\"\",Kalkulator!L30)","v":"BASE"},{"$f":"IF(Kalkulator!M30=\"\",\"\",Kalkulator!M30)","v":65},{"$f":"IF(Kalkulator!N30=\"\",\"\",Kalkulator!N30)","v":27},{"$f":"IF(Kalkulator!O30=\"\",\"\",Kalkulator!O30)","v":{"$error":"#N/A"}},{"$f":"IF(Kalkulator!P30=\"\",\"\",Kalkulator!P30)","v":0},{"$f":"IF(Kalkulator!Q30=\"\",\"\",Kalkulator!Q30)","v":{"$error":"#N/A"}},23,"BASE23",0,0,0,0,{"$error":"#N/A"}]
["2025-10-01","2025-12-31",2209,{"$f":"IF(Kalkulator!D31=\"\",\"\",Kalkulator!D31)","v":0},{"$f":"IF(Kalkulator!E31=\"\",\"\",Kalkulator!E31)","v":0},{"$f":"IF(Kalkulator!F31=\"\",\"\",Kalkulator!F31)","v":0},{"$f":"IF(Kalkulator!G31=\"\",\"\",Kalkulator!G31)","v":0},{"$f":"IF(Kalkulator!H31=\"\",\"\",Kalkulator!H31)","v":0},{"$f":"IF(Kalkulator!I31=\"\",\"\",Kalkulator!I31)","v":{"$error":"#N/A"}},{"$f":"IF(Kalkulator!J31=\"\",\"\",Kalkulator!J31)","v":1},{"$f":"IF(Kalkulator!K31=\"\",\"\",Kalkulator!K31)","v":46022},{"$f":"IF(Kalkulator!L31=\"\",\"\",Kalkulator!L31)","v":"BASE"},{"$f":"IF(Kalkulator!M31=\"\",\"\",Kalkulator!M31)","v":63},{"$f":"IF(Kalkulator!N31=\"\",\"\",Kalkulator!N31)","v":29},{"$f":"IF(Kalkulator!O31=\"\",\"\",Kalkulator!O31)","v":{"$error":"#N/A"}},{"$f":"IF(Kalkulator!P31=\"\",\"\",Kalkulator!P31)","v":0},{"$f":"IF(Kalkulator!Q31=\"\",\"\",Kalkulator!Q31)","v":{"$error":"#N/A"}},24,"BASE24",0,0,0,0,{"$error":"#N/A"}]
["2026-01-01","2026-03-31",2159,{"$f":"IF(Kalkulator!D32=\"\",\"\",Kalkulator!D32)","v":0},{"$f":"IF(Kalkulator!E32=\"\",\"\",Kalkulator!E32)","v":0},{"$f":"IF(Kalkulator!F32=\"\",\"\",Kalkulator!F32)","v":0},{"$f":"IF(Kalkulator!G32=\"\",\"\",Kalkulator!G32)","v":0},{"$f":"IF(Kalkulator!H32=\"\",\"\",Kalkulator!H32)","v":0},{"$f":"IF(Kalkulator!I32=\"\",\"\",Kalkulator!I32)","v":{"$error":"#N/A"}},{"$f":"IF(Kalkulator!J32=\"\",\"\",Kalkulator!J32)","v":-1},{"$f":"IF(Kalkulator!K32=\"\",\"\",Kalkulator!K32)","v":46112},{"$f":"IF(Kalkulator!L32=\"\",\"\",Kalkulator!L32)","v":"BASE"},{"$f":"IF(Kalkulator!M32=\"\",\"\",Kalkulator!M32)","v":62},{"$f":"IF(Kalkulator!N32=\"\",\"\",Kalkulator!N32)","v":28},{"$f":"IF(Kalkulator!O32=\"\",\"\",Kalkulator!O32)","v":{"$error":"#N/A"}},{"$f":"IF(Kalkulator!P32=\"\",\"\",Kalkulator!P32)","v":0},{"$f":"IF(Kalkulator!Q32=\"\",\"\",Kalkulator!Q32)","v":{"$error":"#N/A"}},25,"BASE25",0,0,0,0,{"$error":"#N/A"}]
["2026-04-01","2026-06-30",2184,{"$f":"IF(Kalkulator!D33=\"\",\"\",Kalkulator!D33)","v":0},{"$f":"IF(Kalkulator!E33=\"\",\"\",Kalkulator!E33)","v":0},{"$f":"IF(Kalkulator!F33=\"\",\"\",Kalkulator!F33)","v":0},{"$f":"IF(Kalkulator!G33=\"\",\"\",Kalkulator!G33)","v":0},{"$f":"IF(Kalkulator!H33=\"\",\"\",Kalkulator!H33)","v":0},{"$f":"IF(Kalkulator!I33=\"\",\"\",Kalkulator!I33)","v":{"$error":"#N/A"}},{"$f":"IF(Kalkulator!J33=\"\",\"\",Kalkulator!J33)","v":0},{"$f":"IF(Kalkulator!K33=\"\",\"\",Kalkulator!K33)","v":46203},{"$f":"IF(Kalkulator!L33=\"\",\"\",Kalkulator!L33)","v":"BASE"},{"$f":"IF(Kalkulator!M33=\"\",\"\",Kalkulator!M33)","v":62},{"$f":"IF(Kalkulator!N33=\"\",\"\",Kalkulator!N33)","v":29},{"$f":"IF(Kalkulator!O33=\"\",\"\",Kalkulator!O33)","v":{"$error":"#N/A"}},{"$f":"IF(Kalkulator!P33=\"\",\"\",Kalkulator!P33)","v":0},{"$f":"IF(Kalkulator!Q33=\"\",\"\",Kalkulator!Q33)","v":{"$error":"#N/A"}},26,"BASE26",0,0,0,0,{"$error":"#N/A"}]
["2026-07-01","2026-12-31",4417,{"$f":"IF(Kalkulator!D34=\"\",\"\",Kalkulator!D34)","v":0},{"$f":"IF(Kalkulator!E34=\"\",\"\",Kalkulator!E34)","v":0},{"$f":"IF(Kalkulator!F34=\"\",\"\",Kalkulator!F34)","v":0},{"$f":"IF(Kalkulator!G34=\"\",\"\",Kalkulator!G34)","v":0},{"$f":"IF(Kalkulator!H34=\"\",\"\",Kalkulator!H34)","v":0},{"$f":"IF(Kalkulator!I34=\"\",\"\",Kalkulator!I34)","v":{"$error":"#N/A"}},{"$f":"IF(Kalkulator!J34=\"\",\"\",Kalkulator!J34)","v":1},{"$f":"IF(Kalkulator!K34=\"\",\"\",Kalkulator!K34)","v":46387},{"$f":"IF(Kalkulator!L34=\"\",\"\",Kalkulator!L34)","v":"BASE"},{"$f":"IF(Kalkulator!M34=\"\",\"\",Kalkulator!M34)","v":130},{"$f":"IF(Kalkulator!N34=\"\",\"\",Kalkulator!N34)","v":54},{"$f":"IF(Kalkulator!O34=\"\",\"\",Kalkulator!O34)","v":{"$error":"#N/A"}},{"$f":"IF(Kalkulator!P34=\"\",\"\",Kalkulator!P34)","v":0},{"$f":"IF(Kalkulator!Q34=\"\",\"\",Kalkulator!Q34)","v":{"$error":"#N/A"}},27,"BASE27",0,0,0,0,{"$error":"#N/A"}]
["2027-01-01","2027-12-31",8760,{"$f":"IF(Kalkulator!D35=\"\",\"\",Kalkulator!D35)","v":0},{"$f":"IF(Kalkulator!E35=\"\",\"\",Kalkulator!E35)","v":0},{"$f":"IF(Kalkulator!F35=\"\",\"\",Kalkulator!F35)","v":0},{"$f":"IF(Kalkulator!G35=\"\",\"\",Kalkulator!G35)","v":0},{"$f":"IF(Kalkulator!H35=\"\",\"\",Kalkulator!H35)","v":0},{"$f":"IF(Kalkulator!I35=\"\",\"\",Kalkulator!I35)","v":{"$error":"#N/A"}},{"$f":"IF(Kalkulator!J35=\"\",\"\",Kalkulator!J35)","v":0},{"$f":"IF(Kalkulator!K35=\"\",\"\",Kalkulator!K35)","v":46752},{"$f":"IF(Kalkulator!L35=\"\",\"\",Kalkulator!L35)","v":"BASE"},{"$f":"IF(Kalkulator!M35=\"\",\"\",Kalkulator!M35)","v":253},{"$f":"IF(Kalkulator!N35=\"\",\"\",Kalkulator!N35)","v":112},{"$f":"IF(Kalkulator!O35=\"\",\"\",Kalkulator!O35)","v":{"$error":"#N/A"}},{"$f":"IF(Kalkulator!P35=\"\",\"\",Kalkulator!P35)","v":0},{"$f":"IF(Kalkulator!Q35=\"\",\"\",Kalkulator!Q35)","v":{"$error":"#N/A"}},28,"BASE28",0,0,0,0,{"$error":"#N/A"}]
["2028-01-01","2028-12-31",8784,{"$f":"IF(Kalkulator!D36=\"\",\"\",Kalkulator!D36)","v":0},{"$f":"IF(Kalkulator!E36=\"\",\"\",Kalkulator!E36)","v":0},{"$f":"IF(Kalkulator!F36=\"\",\"\",Kalkulator!F36)","v":0},{"$f":"IF(Kalkulator!G36=\"\",\"\",Kalkulator!G36)","v":0},{"$f":"IF(Kalkulator!H36=\"\",\"\",Kalkulator!H36)","v":0},{"$f":"IF(Kalkulator!I36=\"\",\"\",Kalkulator!I36)","v":{"$error":"#N/A"}},{"$f":"IF(Kalkulator!J36=\"\",\"\",Kalkulator!J36)","v":0},{"$f":"IF(Kalkulator!K36=\"\",\"\",Kalkulator!K36)","v":47118},{"$f":"IF(Kalkulator!L36=\"\",\"\",Kalkulator!L36)","v":"BASE"},{"$f":"IF(Kalkulator!M36=\"\",\"\",Kalkulator!M36)","v":251},{"$f":"IF(Kalkulator!N36=\"\",\"\",Kalkulator!N36)","v":115},{"$f":"IF(Kalkulator!O36=\"\",\"\",Kalkulator!O36)","v":{"$error":"#N/A"}},{"$f":"IF(Kalkulator!P36=\"\",\"\",Kalkulator!P36)","v":0},{"$f":"IF(Kalkulator!Q36=\"\",\"\",Kalkulator!Q36)","v":{"$error":"#N/A"}},29,"BASE29",0,0,0,0,{"$error":"#N/A"}]
["2024-11-28","2024-11-28",15,{"$f":"IF(Kalkulator!D37=\"\",\"\",Kalkulator!D37)","v":0},{"$f":"IF(Kalkulator!E37=\"\",\"\",Kalkulator!E37)","v":0},{"$f":"IF(Kalkulator!F37=\"\",\"\",Kalkulator!F37)","v":0},{"$f":"IF(Kalkulator!G37=\"\",\"\",Kalkulator!G37)","v":0},{"$f":"IF(Kalkulator!H37=\"\",\"\",Kalkulator!H37)","v":0},{"$f":"IF(Kalkulator!I37=\"\",\"\",Kalkulator!I37)","v":{"$error":"#N/A"}},{"$f":"IF(Kalkulator!J37=\"\",\"\",Kalkulator!J37)","v":0},{"$f":"IF(Kalkulator!K37=\"\",\"\",Kalkulator!K37)","v":45624},{"$f":"IF(Kalkulator!L37=\"\",\"\",Kalkulator!L37)","v":"PEAK5"},{"$f":"IF(Kalkulator!M37=\"\",\"\",Kalkulator!M37)","v":1},{"$f":"IF(Kalkulator!N37=\"\",\"\",Kalkulator!N37)","v":0},{"$f":"IF(Kalkulator!O37=\"\",\"\",Kalkulator!O37)","v":{"$error":"#N/A"}},{"$f":"IF(Kalkulator!P37=\"\",\"\",Kalkulator!P37)","v":0},{"$f":"IF(Kalkulator!Q37=\"\",\"\",Kalkulator!Q37)","v":{"$error":"#N/A"}},1,"PEAK51",0,0,0,0,{"$error":"#N/A"}]
["2024-11-29","2024-11-29",15,{"$f":"IF(Kalkulator!D38=\"\",\"\",Kalkulator!D38)","v":0},{"$f":"IF(Kalkulator!E38=\"\",\"\",Kalkulator!E38)","v":0},{"$f":"IF(Kalkulator!F38=\"\",\"\",Kalkulator!F38)","v":0},{"$f":"IF(Kalkulator!G38=\"\",\"\",Kalkulator!G38)","v":0},{"$f":"IF(Kalkulator!H38=\"\",\"\",Kalkulator!H38)","v":0},{"$f":"IF(Kalkulator!I38=\"\",\"\",Kalkulator!I38)","v":{"$error":"#N/A"}},{"$f":"IF(Kalkulator!J38=\"\",\"\",Kalkulator!J38)","v":0},{"$f":"IF(Kalkulator!K38=\"\",\"\",Kalkulator!K38)","v":45625},{"$f":"IF(Kalkulator!L38=\"\",\"\",Kalkulator!L38)","v":"PEAK5"},{"$f":"IF(Kalkulator!M38=\"\",\"\",Kalkulator!M38)","v":1},{"$f":"IF(Kalkulator!N38=\"\",\"\",Kalkulator!N38)","v":0},{"$f":"IF(Kalkulator!O38=\"\",\"\",Kalkulator!O38)","v":{"$error":"#N/A"}},{"$f":"IF(Kalkulator!P38=\"\",\"\",Kalkulator!P38)","v":0},{"$f":"IF(Kalkulator!Q38=\"\",\"\",Kalkulator!Q38)","v":{"$error":"#N/A"}},2,"PEAK52",0,0,0,0,{"$error":"#N/A"}]
["2024-11-30","2024-11-30",0,{"$f":"IF(Kalkulator!D39=\"\",\"\",Kalkulator!D39)","v":0},{"$f":"IF(Kalkulator!E39=\"\",\"\",Kalkulator!E39)","v":0},{"$f":"IF(Kalkulator!F39=\"\",\"\",Kalkulator!F39)","v":0},{"$f":"IF(Kalkulator!G39=\"\",\"\",Kalkulator!G39)","v":0},{"$f":"IF(Kalkulator!H39=\"\",\"\",Kalkulator!H39)","v":0},{"$f":"IF(Kalkulator!I39=\"\",\"\",Kalkulator!I39)","v":{"$error":"#N/A"}},{"$f":"IF(Kalkulator!J39=\"\",\"\",Kalkulator!J39)","v":0},{"$f":"IF(Kalkulator!K39=\"\",\"\",Kalkulator!K39)","v":45626},{"$f":"IF(Kalkulator!L39=\"\",\"\",Kalkulator!L39)","v":"PEAK5"},{"$f":"IF(Kalkulator!M39=\"\",\"\",Kalkulator!M39)","v":0},{"$f":"IF(Kalkulator!N39=\"\",\"\",Kalkulator!N39)","v":1},{"$f":"IF(Kalkulator!O39=\"\",\"\",Kalkulator!O39)","v":{"$error":"#N/A"}},{"$f":"IF(Kalkulator!P39=\"\",\"\",Kalkulator!P39)","v":0},{"$f":"IF(Kalkulator!Q39=\"\",\"\",Kalkulator!Q39)","v":{"$error":"#N/A"}},3,"PEAK53",0,0,0,0,{"$error":"#N/A"}]
["2024-12-01","2024-12-01",0,{"$f":"IF(Kalkulator!D40=\"\",\"\",Kalkulator!D40)","v":0},{"$f":"IF(Kalkulator!E40=\"\",\"\",Kalkulator!E40)","v":0},{"$f":"IF(Kalkulator!F40=\"\",\"\",Kalkulator!F40)","v":0},{"$f":"IF(Kalkulator!G40=\"\",\"\",Kalkulator!G40)","v":0},{"$f":"IF(Kalkulator!H40=\"\",\"\",Kalkulator!H40)","v":0},{"$f":"IF(Kalkulator!I40=\"\",\"\",Kalkulator!I40)","v":{"$error":"#N/A"}},{"$f":"IF(Kalkulator!J40=\"\",\"\",Kalkulator!J40)","v":0},{"$f":"IF(Kalkulator!K40=\"\",\"\",Kalkulator!K40)","v":45627},{"$f":"IF(Kalkulator!L40=\"\",\"\",Kalkulator!L40)","v":"PEAK5"},{"$f":"IF(Kalkulator!M40=\"\",\"\",Kalkulator!M40)","v":0},{"$f":"IF(Kalkulator!N40=\"\",\"\",Kalkulator!N40)","v":1},{"$f":"IF(Kalkulator!O40=\"\",\"\",Kalkulator!O40)","v":{"$error":"#N/A"}},{"$f":"IF(Kalkulator!P40=\"\",\"\",Kalkulator!P40)","v":0},{"$f":"IF(Kalkulator!Q40=\"\",\"\",Kalkulator!Q40)","v":{"$error":"#N/A"}},4,"PEAK54",0,0,0,0,{"$error":"#N/A"}]
["2024-12-02","2024-12-02",15,{"$f":"IF(Kalkulator!D41=\"\",\"\",Kalkulator!D41)","v":0},{"$f":"IF(Kalkulator!E41=\"\",\"\",Kalkulator!E41)","v":0},{"$f":"IF(Kalkulator!F41=\"\",\"\",Kalkulator!F41)","v":0},{"$f":"IF(Kalkulator!G41=\"\",\"\",Kalkulator!G41)","v":0},{"$f":"IF(Kalkulator!H41=\"\",\"\",Kalkulator!H41)","v":0},{"$f":"IF(Kalkulator!I41=\"\",\"\",Kalkulator!I41)","v":{"$error":"#N/A"}},{"$f":"IF(Kalkulator!J41=\"\",\"\",Kalkulator!J41)","v":0},{"$f":"IF(Kalkulator!K41=\"\",\"\",Kalkulator!K41)","v":45628},{"$f":"IF(Kalkulator!L41=\"\",\"\",Kalkulator!L41)","v":"PEAK5"},{"$f":"IF(Kalkulator!M41=\"\",\"\",Kalkulator!M41)","v":1},{"$f":"IF(Kalkulator!N41=\"\",\"\",Kalkulator!N41)","v":0},{"$f":"IF(Kalkulator!O41=\"\",\"\",Kalkulator!O41)","v":{"$error":"#N/A"}},{"$f":"IF(Kalkulator!P41=\"\",\"\",Kalkulator!P41)","v":0},{"$f":"IF(Kalkulator!Q41=\"\",\"\",Kalkulator!Q41)","v":{"$error":"#N/A"}},5,"PEAK55",0,0,0,0,{"$error":"#N/A"}]
["2024-12-03","2024-12-03",15,{"$f":"IF(Kalkulator!D42=\"\",\"\",Kalkulator!D42)","v":0},{"$f":"IF(Kalkulator!E42=\"\",\"\",Kalkulator!E42)","v":0},{"$f":"IF(Kalkulator!F42=\"\",\"\",Kalkulator!F42)","v":0},{"$f":"IF(Kalkulator!G42=\"\",\"\",Kalkulator!G42)","v":0},{"$f":"IF(Kalkulator!H42=\"\",\"\",Kalkulator!H42)","v":0},{"$f":"IF(Kalkulator!I42=\"\",\"\",Kalkulator!I42)","v":{"$error":"#N/A"}},{"$f":"IF(Kalkulator!J42=\"\",\"\",Kalkulator!J42)","v":0},{"$f":"IF(Kalkulator!K42=\"\",\"\",Kalkulator!K42)","v":45629},{"$f":"IF(Kalkulator!L42=\"\",\"\",Kalkulator!L42)","v":"PEAK5"},{"$f":"IF(Kalkulator!M42=\"\",\"\",Kalkulator!M42)","v":1},{"$f":"IF(Kalkulator!N42=\"\",\"\",Kalkulator!N42)","v":0},{"$f":"IF(Kalkulator!O42=\"\",\"\",Kalkulator!O42)","v":{"$error":"#N/A"}},{"$f":"IF(Kalkulator!P42=\"\",\"\",Kalkulator!P42)","v":0},{"$f":"IF(Kalkulator!Q42=\"\",\"\",Kalkulator!Q42)","v":{"$error":"#N/A"}},6,"PEAK56",0,0,0,0,{"$error":"#N/A"}]
["2024-12-04","2024-12-04",15,{"$f":"IF(Kalkulator!D43=\"\",\"\",Kalkulator!D43)","v":0},{"$f":"IF(Kalkulator!E43=\"\",\"\",Kalkulator!E43)","v":0},{"$f":"IF(Kalkulator!F43=\"\",\"\",Kalkulator!F43)","v":0},{"$f":"IF(Kalkulator!G43=\"\",\"\",Kalkulator!G43)","v":0},{"$f":"IF(Kalkulator!H43=\"\",\"\",Kalkulator!H43)","v":0},{"$f":"IF(Kalkulator!I43=\"\",\"\",Kalkulator!I43)","v":{"$error":"#N/A"}},{"$f":"IF(Kalkulator!J43=\"\",\"\",Kalkulator!J43)","v":0},{"$f":"IF(Kalkulator!K43=\"\",\"\",Kalkulator!K43)","v":45630},{"$f":"IF(Kalkulator!L43=\"\",\"\",Kalkulator!L43)","v":"PEAK5"},{"$f":"IF(Kalkulator!M43=\"\",\"\",Kalkulator!M43)","v":1},{"$f":"IF(Kalkulator!N43=\"\",\"\",Kalkulator!N43)","v":0},{"$f":"IF(Kalkulator!O43=\"\",\"\",Kalkulator!O43)","v":{"$error":"#N/A"}},{"$f":"IF(Kalkulator!P43=\"\",\"\",Kalkulator!P43)","v":0},{"$f":"IF(Kalkulator!Q43=\"\",\"\",Kalkulator!Q43)","v":{"$error":"#N/A"}},7,"PEAK57",0,0,0,0,{"$error":"#N/A"}]
["2024-12-05","2024-12-05",15,{"$f":"IF(Kalkulator!D44=\"\",\"\",Kalkulator!D44)","v":0},{"$f":"IF(Kalkulator!E44=\"\",\"\",Kalkulator!E44)","v":0},{"$f":"IF(Kalkulator!F44=\"\",\"\",Kalkulator!F44)","v":0},{"$f":"IF(Kalkulator!G44=\"\",\"\",Kalkulator!G44)","v":0},{"$f":"IF(Kalkulator!H44=\"\",\"\",Kalkulator!H44)","v":0},{"$f":"IF(Kalkulator!I44=\"\",\"\",Kalkulator!I44)","v":{"$error":"#N/A"}},{"$f":"IF(Kalkulator!J44=\"\",\"\",Kalkulator!J44)","v":0},{"$f":"IF(Kalkulator!K44=\"\",\"\",Kalkulator!K44)","v":45631},{"$f":"IF(Kalkulator!L44=\"\",\"\",Kalkulator!L44)","v":"PEAK5"},{"$f":"IF(Kalkulator!M44=\"\",\"\",Kalkulator!M44)","v":1},{"$f":"IF(Kalkulator!N44=\"\",\"\",Kalkulator!N44)","v":0},{"$f":"IF(Kalkulator!O44=\"\",\"\",Kalkulator!O44)","v":{"$error":"#N/A"}},{"$f":"IF(Kalkulator!P44=\"\",\"\",Kalkulator!P44)","v":0},{"$f":"IF(Kalkulator!Q44=\"\",\"\",Kalkulator!Q44)","v":{"$error":"#N/A"}},8,"PEAK58",0,0,0,0,{"$error":"#N/A"}]
["2024-12-06","2024-12-06",15,{"$f":"IF(Kalkulator!D45=\"\",\"\",Kalkulator!D45)","v":0},{"$f":"IF(Kalkulator!E45=\"\",\"\",Kalkulator!E45)","v":0},{"$f":"IF(Kalkulator!F45=\"\",\"\",Kalkulator!F45)","v":0},{"$f":"IF(Kalkulator!G45=\"\",\"\",Kalkulator!G45)","v":0},{"$f":"IF(Kalkulator!H45=\"\",\"\",Kalkulator!H45)","v":0},{"$f":"IF(Kalkulator!I45=\"\",\"\",Kalkulator!I45)","v":{"$error":"#N/A"}},{"$f":"IF(Kalkulator!J45=\"\",\"\",Kalkulator!J45)","v":0},{"$f":"IF(Kalkulator!K45=\"\",\"\",Kalkulator!K45)","v":45632},{"$f":"IF(Kalkulator!L45=\"\",\"\",Kalkulator!L45)","v":"PEAK5"},{"$f":"IF(Kalkulator!M45=\"\",\"\",Kalkulator!M45)","v":1},{"$f":"IF(Kalkulator!N45=\"\",\"\",Kalkulator!N45)","v":0},{"$f":"IF(Kalkulator!O45=\"\",\"\",Kalkulator!O45)","v":{"$error":"#N/A"}},{"$f":"IF(Kalkulator!P45=\"\",\"\",Kalkulator!P45)","v":0},{"$f":"IF(Kalkulator!Q45=\"\",\"\",Kalkulator!Q45)","v":{"$error":"#N/A"}},9,"PEAK59",0,0,0,0,{"$error":"#N/A"}]
["2024-12-07","2024-12-07",0,{"$f":"IF(Kalkulator!D46=\"\",\"\",Kalkulator!D46)","v":0},{"$f":"IF(Kalkulator!E46=\"\",\"\",Kalkulator!E46)","v":0},{"$f":"IF(Kalkulator!F46=\"\",\"\",Kalkulator!F46)","v":0},{"$f":"IF(Kalkulator!G46=\"\",\"\",Kalkulator!G46)","v":0},{"$f":"IF(Kalkulator!H46=\"\",\"\",Kalkulator!H46)","v":0},{"$f":"IF(Kalkulator!I46=\"\",\"\",Kalkulator!I46)","v":{"$error":"#N/A"}},{"$f":"IF(Kalkulator!J46=\"\",\"\",Kalkulator!J46)","v":0},{"$f":"IF(Kalkulator!K46=\"\",\"\",Kalkulator!K46)","v":45633},{"$f":"IF(Kalkulator!L46=\"\",\"\",Kalkulator!L46)","v":"PEAK5"},{"$f":"IF(Kalkulator!M46=\"\",\"\",Kalkulator!M46)","v":0},{"$f":"IF(Kalkulator!N46=\"\",\"\",Kalkulator!N46)","v":1},{"$f":"IF(Kalkulator!O46=\"\",\"\",Kalkulator!O46)","v":{"$error":"#N/A"}},{"$f":"IF(Kalkulator!P46=\"\",\"\",Kalkulator!P46)","v":0},{"$f":"IF(Kalkulator!Q46=\"\",\"\",Kalkulator!Q46)","v":{"$error":"#N/A"}},10,"PEAK510",0,0,0,0,{"$error":"#N/A"}]
["2024-12-08","2024-12-08",0,{"$f":"IF(Kalkulator!D47=\"\",\"\",Kalkulator!D47)","v":0},{"$f":"IF(Kalkulator!E47=\"\",\"\",Kalkulator!E47)","v":0},{"$f":"IF(Kalkulator!F47=\"\",\"\",Kalkulator!F47)","v":0},{"$f":"IF(Kalkulator!G47=\"\",\"\",Kalkulator!G47)","v":0},{"$f":"IF(Kalkulator!H47=\"\",\"\",Kalkulator!H47)","v":0},{"$f":"IF(Kalkulator!I47=\"\",\"\",Kalkulator!I47)","v":{"$error":"#N/A"}},{"$f":"IF(Kalkulator!J47=\"\",\"\",Kalkulator!J47)","v":0},{"$f":"IF(Kalkulator!K47=\"\",\"\",Kalkulator!K47)","v":45634},{"$f":"IF(Kalkulator!L47=\"\",\"\",Kalkulator!L47)","v":"PEAK5"},{"$f":"IF(Kalkulator!M47=\"\",\"\",Kalkulator!M47)","v":0},{"$f":"IF(Kalkulator!N47=\"\",\"\",Kalkulator!N47)","v":1},{"$f":"IF(Kalkulator!O47=\"\",\"\",Kalkulator!O47)","v":{"$error":"#N/A"}},{"$f":"IF(Kalkulator!P47=\"\",\"\",Kalkulator!P47)","v":0},{"$f":"IF(Kalkulator!Q47=\"\",\"\",Kalkulator!Q47)","v":{"$error":"#N/A"}},11,"PEAK511",0,0,0,0,{"$error":"#N/A"}]
["2024-12-09","2024-12-15",75,{"$f":"IF(Kalkulator!D48=\"\",\"\",Kalkulator!D48)","v":0},{"$f":"IF(Kalkulator!E48=\"\",\"\",Kalkulator!E48)","v":0},{"$f":"IF(Kalkulator!F48=\"\",\"\",Kalkulator!F48)","v":0},{"$f":"IF(Kalkulator!G48=\"\",\"\",Kalkulator!G48)","v":0},{"$f":"IF(Kalkulator!H48=\"\",\"\",Kalkulator!H48)","v":0},{"$f":"IF(Kalkulator!I48=\"\",\"\",Kalkulator!I48)","v":{"$error":"#N/A"}},{"$f":"IF(Kalkulator!J48=\"\",\"\",Kalkulator!J48)","v":0},{"$f":"IF(Kalkulator!K48=\"\",\"\",Kalkulator!K48)","v":45641},{"$f":"IF(Kalkulator!L48=\"\",\"\",Kalkulator!L48)","v":"PEAK5"},{"$f":"IF(Kalkulator!M48=\"\",\"\",Kalkulator!M48)","v":5},{"$f":"IF(Kalkulator!N48=\"\",\"\",Kalkulator!N48)","v":2},{"$f":"IF(Kalkulator!O48=\"\",\"\",Kalkulator!O48)","v":{"$error":"#N/A"}},{"$f":"IF(Kalkulator!P48=\"\",\"\",Kalkulator!P48)","v":0},{"$f":"IF(Kalkulator!Q48=\"\",\"\",Kalkulator!Q48)","v":{"$error":"#N/A"}},12,"PEAK512",0,0,0,0,{"$error":"#N/A"}]
["2024-12-16","2024-12-22",75,{"$f":"IF(Kalkulator!D49=\"\",\"\",Kalkulator!D49)","v":0},{"$f":"IF(Kalkulator!E49=\"\",\"\",Kalkulator!E49)","v":0},{"$f":"IF(Kalkulator!F49=\"\",\"\",Kalkulator!F49)","v":0},{"$f":"IF(Kalkulator!G49=\"\",\"\",Kalkulator!G49)","v":0},{"$f":"IF(Kalkulator!H49=\"\",\"\",Kalkulator!H49)","v":0},{"$f":"IF(Kalkulator!I49=\"\",\"\",Kalkulator!I49)","v":{"$error":"#N/A"}},{"$f":"IF(Kalkulator!J49=\"\",\"\",Kalkulator!J49)","v":0},{"$f":"IF(Kalkulator!K49=\"\",\"\",Kalkulator!K49)","v":45648},{"$f":"IF(Kalkulator!L49=\"\",\"\",Kalkulator!L49)","v":"PEAK5"},{"$f":"IF(Kalkulator!M49=\"\",\"\",Kalkulator!M49)","v":5},{"$f":"IF(Kalkulator!N49=\"\",\"\",Kalkulator!N49)","v":2},{"$f":"IF(Kalkulator!O49=\"\",\"\",Kalkulator!O49)","v":{"$error":"#N/A"}},{"$f":"IF(Kalkulator!P49=\"\",\"\",Kalkulator!P49)","v":0},{"$f":"IF(Kalkulator!Q49=\"\",\"\",Kalkulator!Q49)","v":{"$error":"#N/A"}},13,"PEAK513",0,0,0,0,{"$error":"#N/A"}]
["2024-12-23","2024-12-29",45,{"$f":"IF(Kalkulator!D50=\"\",\"\",Kalkulator!D50)","v":0},{"$f":"IF(Kalkulator!E50=\"\",\"\",Kalkulator!E50)","v":0},{"$f":"IF(Kalkulator!F50=\"\",\"\",Kalkulator!F50)","v":0},{"$f":"IF(Kalkulator!G50=\"\",\"\",Kalkulator!G50)","v":0},{"$f":"IF(Kalkulator!H50=\"\",\"\",Kalkulator!H50)","v":0},{"$f":"IF(Kalkulator!I50=\"\",\"\",Kalkulator!I50)","v":{"$error":"#N/A"}},{"$f":"IF(Kalkulator!J50=\"\",\"\",Kalkulator!J50)","v":0},{"$f":"IF(Kalkulator!K50=\"\",\"\",Kalkulator!K50)","v":45655},{"$f":"IF(Kalkulator!L50=\"\",\"\",Kalkulator!L50)","v":"PEAK5"},{"$f":"IF(Kalkulator!M50=\"\",\"\",Kalkulator!M50)","v":3},{"$f":"IF(Kalkulator!N50=\"\",\"\",Kalkulator!N50)","v":4},{"$f":"IF(Kalkulator!O50=\"\",\"\",Kalkulator!O50)","v":{"$error":"#N/A"}},{"$f":"IF(Kalkulator!P50=\"\",\"\",Kalkulator!P50)","v":0},{"$f":"IF(Kalkulator!Q50=\"\",\"\",Kalkulator!Q50)","v":{"$error":"#N/A"}},14,"PEAK514",0,0,0,0,{"$error":"#N/A"}]
["2024-12-30","2024-12-31",30,{"$f":"IF(Kalkulator!D51=\"\",\"\",Kalkulator!D51)","v":0},{"$f":"IF(Kalkulator!E51=\"\",\"\",Kalkulator!E51)","v":0},{"$f":"IF(Kalkulator!F51=\"\",\"\",Kalkulator!F51)","v":0},{"$f":"IF(Kalkulator!G51=\"\",\"\",Kalkulator!G51)","v":0},{"$f":"IF(Kalkulator!H51=\"\",\"\",Kalkulator!H51)","v":0},{"$f":"IF(Kalkulator!I51=\"\",\"\",Kalkulator!I51)","v":{"$error":"#N/A"}},{"$f":"IF(Kalkulator!J51=\"\",\"\",Kalkulator!J51)","v":0},{"$f":"IF(Kalkulator!K51=\"\",\"\",Kalkulator!K51)","v":45657},{"$f":"IF(Kalkulator!L51=\"\",\"\",Kalkulator!L51)","v":"PEAK5"},{"$f":"IF(Kalkulator!M51=\"\",\"\",Kalkulator!M51)","v":2},{"$f":"IF(Kalkulator!N51=\"\",\"\",Kalkulator!N51)","v":0},{"$f":"IF(Kalkulator!O51=\"\",\"\",Kalkulator!O51)","v":{"$error":"#N/A"}},{"$f":"IF(Kalkulator!P51=\"\",\"\",Kalkulator!P51)","v":0},{"$f":"IF(Kalkulator!Q51=\"\",\"\",Kalkulator!Q51)","v":{"$error":"#N/A"}},15,"PEAK515",0,0,0,0,{"$error":"#N/A"}]
["2025-01-01","2025-01-05",30,{"$f":"IF(Kalkulator!D52=\"\",\"\",Kalkulator!D52)","v":0},{"$f":"IF(Kalkulator!E52=\"\",\"\",Kalkulator!E52)","v":0},{"$f":"IF(Kalkulator!F52=\"\",\"\",Kalkulator!F52)","v":0},{"$f":"IF(Kalkulator!G52=\"\",\"\",Kalkulator!G52)","v":0},{"$f":"IF(Kalkulator!H52=\"\",\"\",Kalkulator!H52)","v":0},{"$f":"IF(Kalkulator!I52=\"\",\"\",Kalkulator!I52)","v":{"$error":"#N/A"}},{"$f":"IF(Kalkulator!J52=\"\",\"\",Kalkulator!J52)","v":0},{"$f":"IF(Kalkulator!K52=\"\",\"\",Kalkulator!K52)","v":45662},{"$f":"IF(Kalkulator!L52=\"\",\"\",Kalkulator!L52)","v":"PEAK5"},{"$f":"IF(Kalkulator!M52=\"\",\"\",Kalkulator!M52)","v":2},{"$f":"IF(Kalkulator!N52=\"\",\"\",Kalkulator!N52)","v":3},{"$f":"IF(Kalkulator!O52=\"\",\"\",Kalkulator!O52)","v":{"$error":"#N/A"}},{"$f":"IF(Kalkulator!P52=\"\",\"\",Kalkulator!P52)","v":0},{"$f":"IF(Kalkulator!Q52=\"\",\"\",Kalkulator!Q52)","v":{"$error":"#N/A"}},16,"PEAK516",0,0,0,0,{"$error":"#N/A"}]
["2025-01-06","2025-01-31",285,{"$f":"IF(Kalkulator!D53=\"\",\"\",Kalkulator!D53)","v":0},{"$f":"IF(Kalkulator!E53=\"\",\"\",Kalkulator!E53)","v":0},{"$f":"IF(Kalkulator!F53=\"\",\"\",Kalkulator!F53)","v":0},{"$f":"IF(Kalkulator!G53=\"\",\"\",Kalkulator!G53)","v":0},{"$f":"IF(Kalkulator!H53=\"\",\"\",Kalkulator!H53)","v":0},{"$f":"IF(Kalkulator!I53=\"\",\"\",Kalkulator!I53)","v":{"$error":"#N/A"}},{"$f":"IF(Kalkulator!J53=\"\",\"\",Kalkulator!J53)","v":0},{"$f":"IF(Kalkulator!K53=\"\",\"\",Kalkulator!K53)","v":45688},{"$f":"IF(Kalkulator!L53=\"\",\"\",Kalkulator!L53)","v":"PEAK5"},{"$f":"IF(Kalkulator!M53=\"\",\"\",Kalkulator!M53)","v":19},{"$f":"IF(Kalkulator!N53=\"\",\"\",Kalkulator!N53)","v":7},{"$f":"IF(Kalkulator!O53=\"\",\"\",Kalkulator!O53)","v":{"$error":"#N/A"}},{"$f":"IF(Kalkulator!P53=\"\",\"\",Kalkulator!P53)","v":0},{"$f":"IF(Kalkulator!Q53=\"\",\"\",Kalkulator!Q53)","v":{"$error":"#N/A"}},17,"PEAK517",0,0,0,0,{"$error":"#N/A"}]
["2025-02-01","2025-02-28",300,{"$f":"IF(Kalkulator!D54=\"\",\"\",Kalkulator!D54)","v":0},{"$f":"IF(Kalkulator!E54=\"\",\"\",Kalkulator!E54)","v":0},{"$f":"IF(Kalkulator!F54=\"\",\"\",Kalkulator!F54)","v":0},{"$f":"IF(Kalkulator!G54=\"\",\"\",Kalkulator!G54)","v":0},{"$f":"IF(Kalkulator!H54=\"\",\"\",Kalkulator!H54)","v":0},{"$f":"IF(Kalkulator!I54=\"\",\"\",Kalkulator!I54)","v":{"$error":"#N/A"}},{"$f":"IF(Kalkulator!J54=\"\",\"\",Kalkulator!J54)","v":0},{"$f":"IF(Kalkulator!K54=\"\",\"\",Kalkulator!K54)","v":45716},{"$f":"IF(Kalkulator!L54=\"\",\"\",Kalkulator!L54)","v":"PEAK5"},{"$f":"IF(Kalkulator!M54=\"\",\"\",Kalkulator!M54)","v":20},{"$f":"IF(Kalkulator!N54=\"\",\"\",Kalkulator!N54)","v":8},{"$f":"IF(Kalkulator!O54=\"\",\"\",Kalkulator!O54)","v":{"$error":"#N/A"}},{"$f":"IF(Kalkulator!P54=\"\",\"\",Kalkulator!P54)","v":0},{"$f":"IF(Kalkulator!Q54=\"\",\"\",Kalkulator!Q54)","v":{"$error":"#N/A"}},18,"PEAK518",0,0,0,0,{"$error":"#N/A"}]
["2025-03-01","2025-03-31",315,{"$f":"IF(Kalkulator!D55=\"\",\"\",Kalkulator!D55)","v":0},{"$f":"IF(Kalkulator!E55=\"\",\"\",Kalkulator!E55)","v":0},{"$f":"IF(Kalkulator!F55=\"\",\"\",Kalkulator!F55)","v":0},{"$f":"IF(Kalkulator!G55=\"\",\"\",Kalkulator!G55)","v":0},{"$f":"IF(Kalkulator!H55=\"\",\"\",Kalkulator!H55)","v":0},{"$f":"IF(Kalkulator!I55=\"\",\"\",Kalkulator!I55)","v":{"$error":"#N/A"}},{"$f":"IF(Kalkulator!J55=\"\",\"\",Kalkulator!J55)","v":-1},{"$f":"IF(Kalkulator!K55=\"\",\"\",Kalkulator!K55)","v":45747},{"$f":"IF(Kalkulator!L55=\"\",\"\",Kalkulator!L55)","v":"PEAK5"},{"$f":"IF(Kalkulator!M55=\"\",\"\",Kalkulator!M55)","v":21},{"$f":"IF(Kalkulator!N55=\"\",\"\",Kalkulator!N55)","v":10},{"$f":"IF(Kalkulator!O55=\"\",\"\",Kalkulator!O55)","v":{"$error":"#N/A"}},{"$f":"IF(Kalkulator!P55=\"\",\"\",Kalkulator!P55)","v":0},{"$f":"IF(Kalkulator!Q55=\"\",\"\",Kalkulator!Q55)","v":{"$error":"#N/A"}},19,"PEAK519",0,0,0,0,{"$error":"#N/A"}]
["2025-04-01","2025-04-30",315,{"$f":"IF(Kalkulator!D56=\"\",\"\",Kalkulator!D56)","v":0},{"$f":"IF(Kalkulator!E56=\"\",\"\",Kalkulator!E56)","v":0},{"$f":"IF(Kalkulator!F56=\"\",\"\",Kalkulator!F56)","v":0},{"$f":"IF(Kalkulator!G56=\"\",\"\",Kalkulator!G56)","v":0},{"$f":"IF(Kalkulator!H56=\"\",\"\",Kalkulator!H56)","v":0},{"$f":"IF(Kalkulator!I56=\"\",\"\",Kalkulator!I56)","v":{"$error":"#N/A"}},{"$f":"IF(Kalkulator!J56=\"\",\"\",Kalkulator!J56)","v":0},{"$f":"IF(Kalkulator!K56=\"\",\"\",Kalkulator!K56)","v":45777},{"$f":"IF(Kalkulator!L56=\"\",\"\",Kalkulator!L56)","v":"PEAK5"},{"$f":"IF(Kalkulator!M56=\"\",\"\",Kalkulator!M56)","v":21},{"$f":"IF(Kalkulator!N56=\"\",\"\",Kalkulator!N56)","v":9},{"$f":"IF(Kalkulator!O56=\"\",\"\",Kalkulator!O56)","v":{"$error":"#N/A"}},{"$f":"IF(Kalkulator!P56=\"\",\"\",Kalkulator!P56)","v":0},{"$f":"IF(Kalkulator!Q56=\"\",\"\",Kalkulator!Q56)","v":{"$error":"#N/A"}},20,"PEAK520",0,0,0,0,{"$error":"#N/A"}]
["2025-05-01","2025-05-31",315,{"$f":"IF(Kalkulator!D57=\"\",\"\",Kalkulator!D57)","v":0},{"$f":"IF(Kalkulator!E57=\"\",\"\",Kalkulator!E57)","v":0},{"$f":"IF(Kalkulator!F57=\"\",\"\",Kalkulator!F57)","v":0},{"$f":"IF(Kalkulator!G57=\"\",\"\",Kalkulator!G57)","v":0},{"$f":"IF(Kalkulator!H57=\"\",\"\",Kalkulator!H57)","v":0},{"$f":"IF(Kalkulator!I57=\"\",\"\",Kalkulator!I57)","v":{"$error":"#N/A"}},{"$f":"IF(Kalkulator!J57=\"\",\"\",Kalkulator!J57)","v":0},{"$f":"IF(Kalkulator!K57=\"\",\"\",Kalkulator!K57)","v":45808},{"$f":"IF(Kalkulator!L57=\"\",\"\",Kalkulator!L57)","v":"PEAK5"},{"$f":"IF(Kalkulator!M57=\"\",\"\",Kalkulator!M57)","v":21},{"$f":"IF(Kalkulator!N57=\"\",\"\",Kalkulator!N57)","v":10},{"$f":"IF(Kalkulator!O57=\"\",\"\",Kalkulator!O57)","v":{"$error":"#N/A"}},{"$f":"IF(Kalkulator!P57=\"\",\"\",Kalkulator!P57)","v":0},{"$f":"IF(Kalkulator!Q57=\"\",\"\",Kalkulator!Q57)","v":{"$error":"#N/A"}},21,"PEAK521",0,0,0,0,{"$error":"#N/A"}]
["2025-06-01","2025-06-30",300,{"$f":"IF(Kalkulator!D58=\"\",\"\",Kalkulator!D58)","v":0},{"$f":"IF(Kalkulator!E58=\"\",\"\",Kalkulator!E58)","v":0},{"$f":"IF(Kalkulator!F58=\"\",\"\",Kalkulator!F58)","v":0},{"$f":"IF(Kalkulator!G58=\"\",\"\",Kalkulator!G58)","v":0},{"$f":"IF(Kalkulator!H58=\"\",\"\",Kalkulator!H58)","v":0},{"$f":"IF(Kalkulator!I58=\"\",\"\",Kalkulator!I58)","v":{"$error":"#N/A"}},{"$f":"IF(Kalkulator!J58=\"\",\"\",Kalkulator!J58)","v":0},{"$f":"IF(Kalkulator!K58=\"\",\"\",Kalkulator!K58)","v":45838},{"$f":"IF(Kalkulator!L58=\"\",\"\",Kalkulator!L58)","v":"PEAK5"},{"$f":"IF(Kalkulator!M58=\"\",\"\",Kalkulator!M58)","v":20},{"$f":"IF(Kalkulator!N58=\"\",\"\",Kalkulator!N58)","v":10},{"$f":"IF(Kalkulator!O58=\"\",\"\",Kalkulator!O58)","v":{"$error":"#N/A"}},{"$f":"IF(Kalkulator!P58=\"\",\"\",Kalkulator!P58)","v":0},{"$f":"IF(Kalkulator!Q58=\"\",\"\",Kalkulator!Q58)","v":{"$error":"#N/A"}},22,"PEAK522",0,0,0,0,{"$error":"#N/A"}]
["2025-07-01","2025-09-30",975,{"$f":"IF(Kalkulator!D59=\"\",\"\",Kalkulator!D59)","v":0},{"$f":"IF(Kalkulator!E59=\"\",\"\",Kalkulator!E59)","v":0},{"$f":"IF(Kalkulator!F59=\"\",\"\",Kalkulator!F59)","v":0},{"$f":"IF(Kalkulator!G59=\"\",\"\",Kalkulator!G59)","v":0},{"$f":"IF(Kalkulator!H59=\"\",\"\",Kalkulator!H59)","v":0},{"$f":"IF(Kalkulator!I59=\"\",\"\",Kalkulator!I59)","v":{"$error":"#N/A"}},{"$f":"IF(Kalkulator!J59=\"\",\"\",Kalkulator!J59)","v":0},{"$f":"IF(Kalkulator!K59=\"\",\"\",Kalkulator!K59)","v":45930},{"$f":"IF(Kalkulator!L59=\"\",\"\",Kalkulator!L59)","v":"PEAK5"},{"$f":"IF(Kalkulator!M59=\"\",\"\",Kalkulator!M59)","v":65},{"$f":"IF(Kalkulator!N59=\"\",\"\",Kalkulator!N59)","v":27},{"$f":"IF(Kalkulator!O59=\"\",\"\",Kalkulator!O59)","v":{"$error":"#N/A"}},{"$f":"IF(Kalkulator!P59=\"\",\"\",Kalkulator!P59)","v":0},{"$f":"IF(Kalkulator!Q59=\"\",\"\",Kalkulator!Q59)","v":{"$error":"#N/A"}},23,"PEAK523",0,0,0,0,{"$error":"#N/A"}]
["2025-10-01","2025-12-31",945,{"$f":"IF(Kalkulator!D60=\"\",\"\",Kalkulator!D60)","v":0},{"$f":"IF(Kalkulator!E60=\"\",\"\",Kalkulator!E60)","v":0},{"$f":"IF(Kalkulator!F60=\"\",\"\",Kalkulator!F60)","v":0},{"$f":"IF(Kalkulator!G60=\"\",\"\",Kalkulator!G60)","v":0},{"$f":"IF(Kalkulator!H60=\"\",\"\",Kalkulator!H60)","v":0},{"$f":"IF(Kalkulator!I60=\"\",\"\",Kalkulator!I60)","v":{"$error":"#N/A"}},{"$f":"IF(Kalkulator!J60=\"\",\"\",Kalkulator!J60)","v":1},{"$f":"IF(Kalkulator!K60=\"\",\"\",Kalkulator!K60)","v":46022},{"$f":"IF(Kalkulator!L60=\"\",\"\",Kalkulator!L60)","v":"PEAK5"},{"$f":"IF(Kalkulator!M60=\"\",\"\",Kalkulator!M60)","v":63},{"$f":"IF(Kalkulator!N60=\"\",\"\",Kalkulator!N60)","v":29},{"$f":"IF(Kalkulator!O60=\"\",\"\",Kalkulator!O60)","v":{"$error":"#N/A"}},{"$f":"IF(Kalkulator!P60=\"\",\"\",Kalkulator!P60)","v":0},{"$f":"IF(Kalkulator!Q60=\"\",\"\",Kalkulator!Q60)","v":{"$error":"#N/A"}},24,"PEAK524",0,0,0,0,{"$error":"#N/A"}]
["2026-01-01","2026-03-31",930,{"$f":"IF(Kalkulator!D61=\"\",\"\",Kalkulator!D61)","v":0},{"$f":"IF(Kalkulator!E61=\"\",\"\",Kalkulator!E61)","v":0},{"$f":"IF(Kalkulator!F61=\"\",\"\",Kalkulator!F61)","v":0},{"$f":"IF(Kalkulator!G61=\"\",\"\",Kalkulator!G61)","v":0},{"$f":"IF(Kalkulator!H61=\"\",\"\",Kalkulator!H61)","v":0},{"$f":"IF(Kalkulator!I61=\"\",\"\",Kalkulator!I61)","v":{"$error":"#N/A"}},{"$f":"IF(Kalkulator!J61=\"\",\"\",Kalkulator!J61)","v":-1},{"$f":"IF(Kalkulator!K61=\"\",\"\",Kalkulator!K61)","v":46112},{"$f":"IF(Kalkulator!L61=\"\",\"\",Kalkulator!L61)","v":"PEAK5"},{"$f":"IF(Kalkulator!M61=\"\",\"\",Kalkulator!M61)","v":62},{"$f":"IF(Kalkulator!N61=\"\",\"\",Kalkulator!N61)","v":28},{"$f":"IF(Kalkulator!O61=\"\",\"\",Kalkulator!O61)","v":{"$error":"#N/A"}},{"$f":"IF(Kalkulator!P61=\"\",\"\",Kalkulator!P61)","v":0},{"$f":"IF(Kalkulator!Q61=\"\",\"\",Kalkulator!Q61)","v":{"$error":"#N/A"}},25,"PEAK525",0,0,0,0,{"$error":"#N/A"}]
["2026-04-01","2026-06-30",930,{"$f":"IF(Kalkulator!D62=\"\",\"\",Kalkulator!D62)","v":0},{"$f":"IF(Kalkulator!E62=\"\",\"\",Kalkulator!E62)","v":0},{"$f":"IF(Kalkulator!F62=\"\",\"\",Kalkulator!F62)","v":0},{"$f":"IF(Kalkulator!G62=\"\",\"\",Kalkulator!G62)","v":0},{"$f":"IF(Kalkulator!H62=\"\",\"\",Kalkulator!H62)","v":0},{"$f":"IF(Kalkulator!I62=\"\",\"\",Kalkulator!I62)","v":{"$error":"#N/A"}},{"$f":"IF(Kalkulator!J62=\"\",\"\",Kalkulator!J62)","v":0},{"$f":"IF(Kalkulator!K62=\"\",\"\",Kalkulator!K62)","v":46203},{"$f":"IF(Kalkulator!L62=\"\",\"\",Kalkulator!L62)","v":"PEAK5"},{"$f":"IF(Kalkulator!M62=\"\",\"\",Kalkulator!M62)","v":62},{"$f":"IF(Kalkulator!N62=\"\",\"\",Kalkulator!N62)","v":29},{"$f":"IF(Kalkulator!O62=\"\",\"\",Kalkulator!O62)","v":{"$error":"#N/A"}},{"$f":"IF(Kalkulator!P62=\"\",\"\",Kalkulator!P62)","v":0},{"$f":"IF(Kalkulator!Q62=\"\",\"\",Kalkulator!Q62)","v":{"$error":"#N/A"}},26,"PEAK526",0,0,0,0,{"$error":"#N/A"}]
["2026-07-01","2026-12-31",1950,{"$f":"IF(Kalkulator!D63=\"\",\"\",Kalkulator!D63)","v":0},{"$f":"IF(Kalkulator!E63=\"\",\"\",Kalkulator!E63)","v":0},{"$f":"IF(Kalkulator!F63=\"\",\"\",Kalkulator!F63)","v":0},{"$f":"IF(Kalkulator!G63=\"\",\"\",Kalkulator!G63)","v":0},{"$f":"IF(Kalkulator!H63=\"\",\"\",Kalkulator!H63)","v":0},{"$f":"IF(Kalkulator!I63=\"\",\"\",Kalkulator!I63)","v":{"$error":"#N/A"}},{"$f":"IF(Kalkulator!J63=\"\",\"\",Kalkulator!J63)","v":1},{"$f":"IF(Kalkulator!K63=\"\",\"\",Kalkulator!K63)","v":46387},{"$f":"IF(Kalkulator!L63=\"\",\"\",Kalkulator!L63)","v":"PEAK5"},{"$f":"IF(Kalkulator!M63=\"\",\"\",Kalkulator!M63)","v":130},{"$f":"IF(Kalkulator!N63=\"\",\"\",Kalkulator!N63)","v":54},{"$f":"IF(Kalkulator!O63=\"\",\"\",Kalkulator!O63)","v":{"$error":"#N/A"}},{"$f":"IF(Kalkulator!P63=\"\",\"\",Kalkulator!P63)","v":0},{"$f":"IF(Kalkulator!Q63=\"\",\"\",Kalkulator!Q63)","v":{"$error":"#N/A"}},27,"PEAK527",0,0,0,0,{"$error":"#N/A"}]
["2027-01-01","2027-12-31",3810,{"$f":"IF(Kalkulator!D64=\"\",\"\",Kalkulator!D64)","v":0},{"$f":"IF(Kalkulator!E64=\"\",\"\",Kalkulator!E64)","v":0},{"$f":"IF(Kalkulator!F64=\"\",\"\",Kalkulator!F64)","v":0},{"$f":"IF(Kalkulator!G64=\"\",\"\",Kalkulator!G64)","v":0},{"$f":"IF(Kalkulator!H64=\"\",\"\",Kalkulator!H64)","v":0},{"$f":"IF(Kalkulator!I64=\"\",\"\",Kalkulator!I64)","v":{"$error":"#N/A"}},{"$f":"IF(Kalkulator!J64=\"\",\"\",Kalkulator!J64)","v":0},{"$f":"IF(Kalkulator!K64=\"\",\"\",Kalkulator!K64)","v":46752},{"$f":"IF(Kalkulator!L64=\"\",\"\",Kalkulator!L64)","v":"PEAK5"},{"$f":"IF(Kalkulator!M64=\"\",\"\",Kalkulator!M64)","v":253},{"$f":"IF(Kalkulator!N64=\"\",\"\",Kalkulator!N64)","v":112},{"$f":"IF(Kalkulator!O64=\"\",\"\",Kalkulator!O64)","v":{"$error":"#N/A"}},{"$f":"IF(Kalkulator!P64=\"\",\"\",Kalkulator!P64)","v":0},{"$f":"IF(Kalkulator!Q64=\"\",\"\",Kalkulator!Q64)","v":{"$error":"#N/A"}},28,"PEAK528",0,0,0,0,{"$error":"#N/A"}]
["2028-01-01","2028-12-31",3765,{"$f":"IF(Kalkulator!D65=\"\",\"\",Kalkulator!D65)","v":0},{"$f":"IF(Kalkulator!E65=\"\",\"\",Kalkulator!E65)","v":0},{"$f":"IF(Kalkulator!F65=\"\",\"\",Kalkulator!F65)","v":0},{"$f":"IF(Kalkulator!G65=\"\",\"\",Kalkulator!G65)","v":0},{"$f":"IF(Kalkulator!H65=\"\",\"\",Kalkulator!H65)","v":0},{"$f":"IF(Kalkulator!I65=\"\",\"\",Kalkulator!I65)","v":{"$error":"#N/A"}},{"$f":"IF(Kalkulator!J65=\"\",\"\",Kalkulator!J65)","v":0},{"$f":"IF(Kalkulator!K65=\"\",\"\",Kalkulator!K65)","v":47118},{"$f":"IF(Kalkulator!L65=\"\",\"\",Kalkulator!L65)","v":"PEAK5"},{"$f":"IF(Kalkulator!M65=\"\",\"\",Kalkulator!M65)","v":251},{"$f":"IF(Kalkulator!N65=\"\",\"\",Kalkulator!N65)","v":115},{"$f":"IF(Kalkulator!O65=\"\",\"\",Kalkulator!O65)","v":{"$error":"#N/A"}},{"$f":"IF(Kalkulator!P65=\"\",\"\",Kalkulator!P65)","v":0},{"$f":"IF(Kalkulator!Q65=\"\",\"\",Kalkulator!Q65)","v":{"$error":"#N/A"}},29,"PEAK529",0,0,0,0,{"$error":"#N/A"}]
["2024-11-28","2024-11-28",9,{"$f":"IF(Kalkulator!D66=\"\",\"\",Kalkulator!D66)","v":0},{"$f":"IF(Kalkulator!E66=\"\",\"\",Kalkulator!E66)","v":0},{"$f":"IF(Kalkulator!F66=\"\",\"\",Kalkulator!F66)","v":0},{"$f":"IF(Kalkulator!G66=\"\",\"\",Kalkulator!G66)","v":0},{"$f":"IF(Kalkulator!H66=\"\",\"\",Kalkulator!H66)","v":0},{"$f":"IF(Kalkulator!I66=\"\",\"\",Kalkulator!I66)","v":{"$error":"#N/A"}},{"$f":"IF(Kalkulator!J66=\"\",\"\",Kalkulator!J66)","v":0},{"$f":"IF(Kalkulator!K66=\"\",\"\",Kalkulator!K66)","v":45624},{"$f":"IF(Kalkulator!L66=\"\",\"\",Kalkulator!L66)","v":"OFFPEAK"},{"$f":"IF(Kalkulator!M66=\"\",\"\",Kalkulator!M66)","v":1},{"$f":"IF(Kalkulator!N66=\"\",\"\",Kalkulator!N66)","v":0},{"$f":"IF(Kalkulator!O66=\"\",\"\",Kalkulator!O66)","v":{"$error":"#N/A"}},{"$f":"IF(Kalkulator!P66=\"\",\"\",Kalkulator!P66)","v":0},{"$f":"IF(Kalkulator!Q66=\"\",\"\",Kalkulator!Q66)","v":{"$error":"#N/A"}},1,"OFFPEAK1",0,0,0,0,{"$error":"#N/A"}]
["2024-11-29","2024-11-29",9,{"$f":"IF(Kalkulator!D67=\"\",\"\",Kalkulator!D67)","v":0},{"$f":"IF(Kalkulator!E67=\"\",\"\",Kalkulator!E67)","v":0},{"$f":"IF(Kalkulator!F67=\"\",\"\",Kalkulator!F67)","v":0},{"$f":"IF(Kalkulator!G67=\"\",\"\",Kalkulator!G67)","v":0},{"$f":"IF(Kalkulator!H67=\"\",\"\",Kalkulator!H67)","v":0},{"$f":"IF(Kalkulator!I67=\"\",\"\",Kalkulator!I67)","v":{"$error":"#N/A"}},{"$f":"IF(Kalkulator!J67=\"\",\"\",Kalkulator!J67)","v":0},{"$f":"IF(Kalkulator!K67=\"\",\"\",Kalkulator!K67)","v":45625},{"$f":"IF(Kalkulator!L67=\"\",\"\",Kalkulator!L67)","v":"OFFPEAK"},{"$f":"IF(Kalkulator!M67=\"\",\"\",Kalkulator!M67)","v":1},{"$f":"IF(Kalkulator!N67=\"\",\"\",Kalkulator!N67)","v":0},{"$f":"IF(Kalkulator!O67=\"\",\"\",Kalkulator!O67)","v":{"$error":"#N/A"}},{"$f":"IF(Kalkulator!P67=\"\",\"\",Kalkulator!P67)","v":0},{"$f":"IF(Kalkulator!Q67=\"\",\"\",Kalkulator!Q67)","v":{"$error":"#N/A"}},2,"OFFPEAK2",0,0,0,0,{"$error":"#N/A"}]
["2024-11-30","2024-11-30",24,{"$f":"IF(Kalkulator!D68=\"\",\"\",Kalkulator!D68)","v":0},{"$f":"IF(Kalkulator!E68=\"\",\"\",Kalkulator!E68)","v":0},{"$f":"IF(Kalkulator!F68=\"\",\"\",Kalkulator!F68)","v":0},{"$f":"IF(Kalkulator!G68=\"\",\"\",Kalkulator!G68)","v":0},{"$f":"IF(Kalkulator!H68=\"\",\"\",Kalkulator!H68)","v":0},{"$f":"IF(Kalkulator!I68=\"\",\"\",Kalkulator!I68)","v":{"$error":"#N/A"}},{"$f":"IF(Kalkulator!J68=\"\",\"\",Kalkulator!J68)","v":0},{"$f":"IF(Kalkulator!K68=\"\",\"\",Kalkulator!K68)","v":45626},{"$f":"IF(Kalkulator!L68=\"\",\"\",Kalkulator!L68)","v":"OFFPEAK"},{"$f":"IF(Kalkulator!M68=\"\",\"\",Kalkulator!M68)","v":0},{"$f":"IF(Kalkulator!N68=\"\",\"\",Kalkulator!N68)","v":1},{"$f":"IF(Kalkulator!O68=\"\",\"\",Kalkulator!O68)","v":{"$error":"#N/A"}},{"$f":"IF(Kalkulator!P68=\"\",\"\",Kalkulator!P68)","v":0},{"$f":"IF(Kalkulator!Q68=\"\",\"\",Kalkulator!Q68)","v":{"$error":"#N/A"}},3,"OFFPEAK3",0,0,0,0,{"$error":"#N/A"}]
["2024-12-01","2024-12-01",24,{"$f":"IF(Kalkulator!D69=\"\",\"\",Kalkulator!D69)","v":0},{"$f":"IF(Kalkulator!E69=\"\",\"\",Kalkulator!E69)","v":0},{"$f":"IF(Kalkulator!F69=\"\",\"\",Kalkulator!F69)","v":0},{"$f":"IF(Kalkulator!G69=\"\",\"\",Kalkulator!G69)","v":0},{"$f":"IF(Kalkulator!H69=\"\",\"\",Kalkulator!H69)","v":0},{"$f":"IF(Kalkulator!I69=\"\",\"\",Kalkulator!I69)","v":{"$error":"#N/A"}},{"$f":"IF(Kalkulator!J69=\"\",\"\",Kalkulator!J69)","v":0},{"$f":"IF(Kalkulator!K69=\"\",\"\",Kalkulator!K69)","v":45627},{"$f":"IF(Kalkulator!L69=\"\",\"\",Kalkulator!L69)","v":"OFFPEAK"},{"$f":"IF(Kalkulator!M69=\"\",\"\",Kalkulator!M69)","v":0},{"$f":"IF(Kalkulator!N69=\"\",\"\",Kalkulator!N69)","v":1},{"$f":"IF(Kalkulator!O69=\"\",\"\",Kalkulator!O69)","v":{"$error":"#N/A"}},{"$f":"IF(Kalkulator!P69=\"\",\"\",Kalkulator!P69)","v":0},{"$f":"IF(Kalkulator!Q69=\"\",\"\",Kalkulator!Q69)","v":{"$error":"#N/A"}},4,"OFFPEAK4",0,0,0,0,{"$error":"#N/A"}]
["2024-12-02","2024-12-02",9,{"$f":"IF(Kalkulator!D70=\"\",\"\",Kalkulator!D70)","v":0},{"$f":"IF(Kalkulator!E70=\"\",\"\",Kalkulator!E70)","v":0},{"$f":"IF(Kalkulator!F70=\"\",\"\",Kalkulator!F70)","v":0},{"$f":"IF(Kalkulator!G70=\"\",\"\",Kalkulator!G70)","v":0},{"$f":"IF(Kalkulator!H70=\"\",\"\",Kalkulator!H70)","v":0},{"$f":"IF(Kalkulator!I70=\"\",\"\",Kalkulator!I70)","v":{"$error":"#N/A"}},{"$f":"IF(Kalkulator!J70=\"\",\"\",Kalkulator!J70)","v":0},{"$f":"IF(Kalkulator!K70=\"\",\"\",Kalkulator!K70)","v":45628},{"$f":"IF(Kalkulator!L70=\"\",\"\",Kalkulator!L70)","v":"OFFPEAK"},{"$f":"IF(Kalkulator!M70=\"\",\"\",Kalkulator!M70)","v":1},{"$f":"IF(Kalkulator!N70=\"\",\"\",Kalkulator!N70)","v":0},{"$f":"IF(Kalkulator!O70=\"\",\"\",Kalkulator!O70)","v":{"$error":"#N/A"}},{"$f":"IF(Kalkulator!P70=\"\",\"\",Kalkulator!P70)","v":0},{"$f":"IF(Kalkulator!Q70=\"\",\"\",Kalkulator!Q70)","v":{"$error":"#N/A"}},5,"OFFPEAK5",0,0,0,0,{"$error":"#N/A"}]
["2024-12-03","2024-12-03",9,{"$f":"IF(Kalkulator!D71=\"\",\"\",Kalkulator!D71)","v":0},{"$f":"IF(Kalkulator!E71=\"\",\"\",Kalkulator!E71)","v":0},{"$f":"IF(Kalkulator!F71=\"\",\"\",Kalkulator!F71)","v":0},{"$f":"IF(Kalkulator!G71=\"\",\"\",Kalkulator!G71)","v":0},{"$f":"IF(Kalkulator!H71=\"\",\"\",Kalkulator!H71)","v":0},{"$f":"IF(Kalkulator!I71=\"\",\"\",Kalkulator!I71)","v":{"$error":"#N/A"}},{"$f":"IF(Kalkulator!J71=\"\",\"\",Kalkulator!J71)","v":0},{"$f":"IF(Kalkulator!K71=\"\",\"\",Kalkulator!K71)","v":45629},{"$f":"IF(Kalkulator!L71=\"\",\"\",Kalkulator!L71)","v":"OFFPEAK"},{"$f":"IF(Kalkulator!M71=\"\",\"\",Kalkulator!M71)","v":1},{"$f":"IF(Kalkulator!N71=\"\",\"\",Kalkulator!N71)","v":0},{"$f":"IF(Kalkulator!O71=\"\",\"\",Kalkulator!O71)","v":{"$error":"#N/A"}},{"$f":"IF(Kalkulator!P71=\"\",\"\",Kalkulator!P71)","v":0},{"$f":"IF(Kalkulator!Q71=\"\",\"\",Kalkulator!Q71)","v":{"$error":"#N/A"}},6,"OFFPEAK6",0,0,0,0,{"$error":"#N/A"}]
["2024-12-04","2024-12-04",9,{"$f":"IF(Kalkulator!D72=\"\",\"\",Kalkulator!D72)","v":0},{"$f":"IF(Kalkulator!E72=\"\",\"\",Kalkulator!E72)","v":0},{"$f":"IF(Kalkulator!F72=\"\",\"\",Kalkulator!F72)","v":0},{"$f":"IF(Kalkulator!G72=\"\",\"\",Kalkulator!G72)","v":0},{"$f":"IF(Kalkulator!H72=\"\",\"\",Kalkulator!H72)","v":0},{"$f":"IF(Kalkulator!I72=\"\",\"\",Kalkulator!I72)","v":{"$error":"#N/A"}},{"$f":"IF(Kalkulator!J72=\"\",\"\",Kalkulator!J72)","v":0},{"$f":"IF(Kalkulator!K72=\"\",\"\",Kalkulator!K72)","v":45630},{"$f":"IF(Kalkulator!L72=\"\",\"\",Kalkulator!L72)","v":"OFFPEAK"},{"$f":"IF(Kalkulator!M72=\"\",\"\",Kalkulator!M72)","v":1},{"$f":"IF(Kalkulator!N72=\"\",\"\",Kalkulator!N72)","v":0},{"$f":"IF(Kalkulator!O72=\"\",\"\",Kalkulator!O72)","v":{"$error":"#N/A"}},{"$f":"IF(Kalkulator!P72=\"\",\"\",Kalkulator!P72)","v":0},{"$f":"IF(Kalkulator!Q72=\"\",\"\",Kalkulator!Q72)","v":{"$error":"#N/A"}},7,"OFFPEAK7",0,0,0,0,{"$error":"#N/A"}]
["2024-12-05","2024-12-05",9,{"$f":"IF(Kalkulator!D73=\"\",\"\",Kalkulator!D73)","v":0},{"$f":"IF(Kalkulator!E73=\"\",\"\",Kalkulator!E73)","v":0},{"$f":"IF(Kalkulator!F73=\"\",\"\",Kalkulator!F73)","v":0},{"$f":"IF(Kalkulator!G73=\"\",\"\",Kalkulator!G73)","v":0},{"$f":"IF(Kalkulator!H73=\"\",\"\",Kalkulator!H73)","v":0},{"$f":"IF(Kalkulator!I73=\"\",\"\",Kalkulator!I73)","v":{"$error":"#N/A"}},{"$f":"IF(Kalkulator!J73=\"\",\"\",Kalkulator!J73)","v":0},{"$f":"IF(Kalkulator!K73=\"\",\"\",Kalkulator!K73)","v":45631},{"$f":"IF(Kalkulator!L73=\"\",\"\",Kalkulator!L73)","v":"OFFPEAK"},{"$f":"IF(Kalkulator!M73=\"\",\"\",Kalkulator!M73)","v":1},{"$f":"IF(Kalkulator!N73=\"\",\"\",Kalkulator!N73)","v":0},{"$f":"IF(Kalkulator!O73=\"\",\"\",Kalkulator!O73)","v":{"$error":"#N/A"}},{"$f":"IF(Kalkulator!P73=\"\",\"\",Kalkulator!P73)","v":0},{"$f":"IF(Kalkulator!Q73=\"\",\"\",Kalkulator!Q73)","v":{"$error":"#N/A"}},8,{"$f":"L73&R73","v":"OFFPEAK8"},{"$f":"D73-F73","v":0},{"$f":"IF(L73=\"BASE\",T73,VLOOKUP(R73,R:T,3,0)+T73)","v":0},{"$f":"_xlfn.IFNA(IF(OR(L73=\"PEAK5\",L73=\"OFFPEAK\"),U73,IF(AND(VLOOKUP(\"PEAK5\"&R73,S:U,3,0)>0,VLOOKUP(\"OFFPEAK\"&R73,S:U,3,0)>0),MIN(VLOOKUP(\"PEAK5\"&R73,S:U,3,0),VLOOKUP(\"OFFPEAK\"&R73,S:U,3,0)),IF(AND(VLOOKUP(\"PEAK5\"&R73,S:U,3,0)<0,VLOOKUP(\"OFFPEAK\"&R73,S:U,3,0)<0),MAX(VLOOKUP(\"PEAK5\"&R73,S:U,3,0),VLOOKUP(\"OFFPEAK\"&R73,S:U,3,0)),0))),0)","v":0},{"$f":"_xlfn.IFNA(V73-VLOOKUP(\"BASE\"&R73,S:V,4,0),0)","v":0},{"$f":"IF(L73=\"BASE\",(ABS(T73)-ABS(V73))*I73*C73*H73*$J$2,(ABS(T73)-ABS(W73))*I73*C73*H73*$J$2)","v":{"$error":"#N/A"}}]
["2024-12-06","2024-12-06",9,{"$f":"IF(Kalkulator!D74=\"\",\"\",Kalkulator!D74)","v":0},{"$f":"IF(Kalkulator!E74=\"\",\"\",Kalkulator!E74)","v":0},{"$f":"IF(Kalkulator!F74=\"\",\"\",Kalkulator!F74)","v":0},{"$f":"IF(Kalkulator!G74=\"\",\"\",Kalkulator!G74)","v":0},{"$f":"IF(Kalkulator!H74=\"\",\"\",Kalkulator!H74)","v":0},{"$f":"IF(Kalkulator!I74=\"\",\"\",Kalkulator!I74)","v":{"$error":"#N/A"}},{"$f":"IF(Kalkulator!J74=\"\",\"\",Kalkulator!J74)","v":0},{"$f":"IF(Kalkulator!K74=\"\",\"\",Kalkulator!K74)","v":45632},{"$f":"IF(Kalkulator!L74=\"\",\"\",Kalkulator!L74)","v":"OFFPEAK"},{"$f":"IF(Kalkulator!M74=\"\",\"\",Kalkulator!M74)","v":1},{"$f":"IF(Kalkulator!N74=\"\",\"\",Kalkulator!N74)","v":0},{"$f":"IF(Kalkulator!O74=\"\",\"\",Kalkulator!O74)","v":{"$error":"#N/A"}},{"$f":"IF(Kalkulator!P74=\"\",\"\",Kalkulator!P74)","v":0},{"$f":"IF(Kalkulator!Q74=\"\",\"\",Kalkulator!Q74)","v":{"$error":"#N/A"}},{"$f":"IF(L74=\"\",\"\",IF(L73=L74,R73+1,VLOOKUP(A74,A:R,18,0)))","v":9},"OFFPEAK9",0,0,0,0,{"$error":"#N/A"}]
["2024-12-07","2024-12-07",24,{"$f":"IF(Kalkulator!D75=\"\",\"\",Kalkulator!D75)","v":0},{"$f":"IF(Kalkulator!E75=\"\",\"\",Kalkulator!E75)","v":0},{"$f":"IF(Kalkulator!F75=\"\",\"\",Kalkulator!F75)","v":0},{"$f":"IF(Kalkulator!G75=\"\",\"\",Kalkulator!G75)","v":0},{"$f":"IF(Kalkulator!H75=\"\",\"\",Kalkulator!H75)","v":0},{"$f":"IF(Kalkulator!I75=\"\",\"\",Kalkulator!I75)","v":{"$error":"#N/A"}},{"$f":"IF(Kalkulator!J75=\"\",\"\",Kalkulator!J75)","v":0},{"$f":"IF(Kalkulator!K75=\"\",\"\",Kalkulator!K75)","v":45633},{"$f":"IF(Kalkulator!L75=\"\",\"\",Kalkulator!L75)","v":"OFFPEAK"},{"$f":"IF(Kalkulator!M75=\"\",\"\",Kalkulator!M75)","v":0},{"$f":"IF(Kalkulator!N75=\"\",\"\",Kalkulator!N75)","v":1},{"$f":"IF(Kalkulator!O75=\"\",\"\",Kalkulator!O75)","v":{"$error":"#N/A"}},{"$f":"IF(Kalkulator!P75=\"\",\"\",Kalkulator!P75)","v":0},{"$f":"IF(Kalkulator!Q75=\"\",\"\",Kalkulator!Q75)","v":{"$error":"#N/A"}},10,"OFFPEAK10",0,0,0,0,{"$error":"#N/A"}]
["2024-12-08","2024-12-08",24,{"$f":"IF(Kalkulator!D76=\"\",\"\",Kalkulator!D76)","v":0},{"$f":"IF(Kalkulator!E76=\"\",\"\",Kalkulator!E76)","v":0},{"$f":"IF(Kalkulator!F76=\"\",\"\",Kalkulator!F76)","v":0},{"$f":"IF(Kalkulator!G76=\"\",\"\",Kalkulator!G76)","v":0},{"$f":"IF(Kalkulator!H76=\"\",\"\",Kalkulator!H76)","v":0},{"$f":"IF(Kalkulator!I76=\"\",\"\",Kalkulator!I76)","v":{"$error":"#N/A"}},{"$f":"IF(Kalkulator!J76=\"\",\"\",Kalkulator!J76)","v":0},{"$f":"IF(Kalkulator!K76=\"\",\"\",Kalkulator!K76)","v":45634},{"$f":"IF(Kalkulator!L76=\"\",\"\",Kalkulator!L76)","v":"OFFPEAK"},{"$f":"IF(Kalkulator!M76=\"\",\"\",Kalkulator!M76)","v":0},{"$f":"IF(Kalkulator!N76=\"\",\"\",Kalkulator!N76)","v":1},{"$f":"IF(Kalkulator!O76=\"\",\"\",Kalkulator!O76)","v":{"$error":"#N/A"}},{"$f":"IF(Kalkulator!P76=\"\",\"\",Kalkulator!P76)","v":0},{"$f":"IF(Kalkulator!Q76=\"\",\"\",Kalkulator!Q76)","v":{"$error":"#N/A"}},11,"OFFPEAK11",0,0,0,0,{"$error":"#N/A"}]
["2024-12-09","2024-12-15",93,{"$f":"IF(Kalkulator!D77=\"\",\"\",Kalkulator!D77)","v":0},{"$f":"IF(Kalkulator!E77=\"\",\"\",Kalkulator!E77)","v":0},{"$f":"IF(Kalkulator!F77=\"\",\"\",Kalkulator!F77)","v":0},{"$f":"IF(Kalkulator!G77=\"\",\"\",Kalkulator!G77)","v":0},{"$f":"IF(Kalkulator!H77=\"\",\"\",Kalkulator!H77)","v":0},{"$f":"IF(Kalkulator!I77=\"\",\"\",Kalkulator!I77)","v":{"$error":"#N/A"}},{"$f":"IF(Kalkulator!J77=\"\",\"\",Kalkulator!J77)","v":0},{"$f":"IF(Kalkulator!K77=\"\",\"\",Kalkulator!K77)","v":45641},{"$f":"IF(Kalkulator!L77=\"\",\"\",Kalkulator!L77)","v":"OFFPEAK"},{"$f":"IF(Kalkulator!M77=\"\",\"\",Kalkulator!M77)","v":5},{"$f":"IF(Kalkulator!N77=\"\",\"\",Kalkulator!N77)","v":2},{"$f":"IF(Kalkulator!O77=\"\",\"\",Kalkulator!O77)","v":{"$error":"#N/A"}},{"$f":"IF(Kalkulator!P77=\"\",\"\",Kalkulator!P77)","v":0},{"$f":"IF(Kalkulator!Q77=\"\",\"\",Kalkulator!Q77)","v":{"$error":"#N/A"}},12,"OFFPEAK12",0,0,0,0,{"$error":"#N/A"}]
["2024-12-16","2024-12-22",93,{"$f":"IF(Kalkulator!D78=\"\",\"\",Kalkulator!D78)","v":0},{"$f":"IF(Kalkulator!E78=\"\",\"\",Kalkulator!E78)","v":0},{"$f":"IF(Kalkulator!F78=\"\",\"\",Kalkulator!F78)","v":0},{"$f":"IF(Kalkulator!G78=\"\",\"\",Kalkulator!G78)","v":0},{"$f":"IF(Kalkulator!H78=\"\",\"\",Kalkulator!H78)","v":0},{"$f":"IF(Kalkulator!I78=\"\",\"\",Kalkulator!I78)","v":{"$error":"#N/A"}},{"$f":"IF(Kalkulator!J78=\"\",\"\",Kalkulator!J78)","v":0},{"$f":"IF(Kalkulator!K78=\"\",\"\",Kalkulator!K78)","v":45648},{"$f":"IF(Kalkulator!L78=\"\",\"\",Kalkulator!L78)","v":"OFFPEAK"},{"$f":"IF(Kalkulator!M78=\"\",\"\",Kalkulator!M78)","v":5},{"$f":"IF(Kalkulator!N78=\"\",\"\",Kalkulator!N78)","v":2},{"$f":"IF(Kalkulator!O78=\"\",\"\",Kalkulator!O78)","v":{"$error":"#N/A"}},{"$f":"IF(Kalkulator!P78=\"\",\"\",Kalkulator!P78)","v":0},{"$f":"IF(Kalkulator!Q78=\"\",\"\",Kalkulator!Q78)","v":{"$error":"#N/A"}},13,"OFFPEAK13",0,0,0,0,{"$error":"#N/A"}]
["2024-12-23","2024-12-29",123,{"$f":"IF(Kalkulator!D79=\"\",\"\",Kalkulator!D79)","v":0},{"$f":"IF(Kalkulator!E79=\"\",\"\",Kalkulator!E79)","v":0},{"$f":"IF(Kalkulator!F79=\"\",\"\",Kalkulator!F79)","v":0},{"$f":"IF(Kalkulator!G79=\"\",\"\",Kalkulator!G79)","v":0},{"$f":"IF(Kalkulator!H79=\"\",\"\",Kalkulator!H79)","v":0},{"$f":"IF(Kalkulator!I79=\"\",\"\",Kalkulator!I79)","v":{"$error":"#N/A"}},{"$f":"IF(Kalkulator!J79=\"\",\"\",Kalkulator!J79)","v":0},{"$f":"IF(Kalkulator!K79=\"\",\"\",Kalkulator!K79)","v":45655},{"$f":"IF(Kalkulator!L79=\"\",\"\",Kalkulator!L79)","v":"OFFPEAK"},{"$f":"IF(Kalkulator!M79=\"\",\"\",Kalkulator!M79)","v":3},{"$f":"IF(Kalkulator!N79=\"\",\"\",Kalkulator!N79)","v":4},{"$f":"IF(Kalkulator!O79=\"\",\"\",Kalkulator!O79)","v":{"$error":"#N/A"}},{"$f":"IF(Kalkulator!P79=\"\",\"\",Kalkulator!P79)","v":0},{"$f":"IF(Kalkulator!Q79=\"\",\"\",Kalkulator!Q79)","v":{"$error":"#N/A"}},14,"OFFPEAK14",0,0,0,0,{"$error":"#N/A"}]
["2024-12-30","2024-12-31",18,{"$f":"IF(Kalkulator!D80=\"\",\"\",Kalkulator!D80)","v":0},{"$f":"IF(Kalkulator!E80=\"\",\"\",Kalkulator!E80)","v":0},{"$f":"IF(Kalkulator!F80=\"\",\"\",Kalkulator!F80)","v":0},{"$f":"IF(Kalkulator!G80=\"\",\"\",Kalkulator!G80)","v":0},{"$f":"IF(Kalkulator!H80=\"\",\"\",Kalkulator!H80)","v":0},{"$f":"IF(Kalkulator!I80=\"\",\"\",Kalkulator!I80)","v":{"$error":"#N/A"}},{"$f":"IF(Kalkulator!J80=\"\",\"\",Kalkulator!J80)","v":0},{"$f":"IF(Kalkulator!K80=\"\",\"\",Kalkulator!K80)","v":45657},{"$f":"IF(Kalkulator!L80=\"\",\"\",Kalkulator!L80)","v":"OFFPEAK"},{"$f":"IF(Kalkulator!M80=\"\",\"\",Kalkulator!M80)","v":2},{"$f":"IF(Kalkulator!N80=\"\",\"\",Kalkulator!N80)","v":0},{"$f":"IF(Kalkulator!O80=\"\",\"\",Kalkulator!O80)","v":{"$error":"#N/A"}},{"$f":"IF(Kalkulator!P80=\"\",\"\",Kalkulator!P80)","v":0},{"$f":"IF(Kalkulator!Q80=\"\",\"\",Kalkulator!Q80)","v":{"$error":"#N/A"}},15,"OFFPEAK15",0,0,0,0,{"$error":"#N/A"}]
["2025-01-01","2025-01-05",90,{"$f":"IF(Kalkulator!D81=\"\",\"\",Kalkulator!D81)","v":0},{"$f":"IF(Kalkulator!E81=\"\",\"\",Kalkulator!E81)","v":0},{"$f":"IF(Kalkulator!F81=\"\",\"\",Kalkulator!F81)","v":0},{"$f":"IF(Kalkulator!G81=\"\",\"\",Kalkulator!G81)","v":0},{"$f":"IF(Kalkulator!H81=\"\",\"\",Kalkulator!H81)","v":0},{"$f":"IF(Kalkulator!I81=\"\",\"\",Kalkulator!I81)","v":{"$error":"#N/A"}},{"$f":"IF(Kalkulator!J81=\"\",\"\",Kalkulator!J81)","v":0},{"$f":"IF(Kalkulator!K81=\"\",\"\",Kalkulator!K81)","v":45662},{"$f":"IF(Kalkulator!L81=\"\",\"\",Kalkulator!L81)","v":"OFFPEAK"},{"$f":"IF(Kalkulator!M81=\"\",\"\",Kalkulator!M81)","v":2},{"$f":"IF(Kalkulator!N81=\"\",\"\",Kalkulator!N81)","v":3},{"$f":"IF(Kalkulator!O81=\"\",\"\",Kalkulator!O81)","v":{"$error":"#N/A"}},{"$f":"IF(Kalkulator!P81=\"\",\"\",Kalkulator!P81)","v":0},{"$f":"IF(Kalkulator!Q81=\"\",\"\",Kalkulator!Q81)","v":{"$error":"#N/A"}},16,"OFFPEAK16",0,0,0,0,{"$error":"#N/A"}]
["2025-01-06","2025-01-31",339,{"$f":"IF(Kalkulator!D82=\"\",\"\",Kalkulator!D82)","v":0},{"$f":"IF(Kalkulator!E82=\"\",\"\",Kalkulator!E82)","v":0},{"$f":"IF(Kalkulator!F82=\"\",\"\",Kalkulator!F82)","v":0},{"$f":"IF(Kalkulator!G82=\"\",\"\",Kalkulator!G82)","v":0},{"$f":"IF(Kalkulator!H82=\"\",\"\",Kalkulator!H82)","v":0},{"$f":"IF(Kalkulator!I82=\"\",\"\",Kalkulator!I82)","v":{"$error":"#N/A"}},{"$f":"IF(Kalkulator!J82=\"\",\"\",Kalkulator!J82)","v":0},{"$f":"IF(Kalkulator!K82=\"\",\"\",Kalkulator!K82)","v":45688},{"$f":"IF(Kalkulator!L82=\"\",\"\",Kalkulator!L82)","v":"OFFPEAK"},{"$f":"IF(Kalkulator!M82=\"\",\"\",Kalkulator!M82)","v":19},{"$f":"IF(Kalkulator!N82=\"\",\"\",Kalkulator!N82)","v":7},{"$f":"IF(Kalkulator!O82=\"\",\"\",Kalkulator!O82)","v":{"$error":"#N/A"}},{"$f":"IF(Kalkulator!P82=\"\",\"\",Kalkulator!P82)","v":0},{"$f":"IF(Kalkulator!Q82=\"\",\"\",Kalkulator!Q82)","v":{"$error":"#N/A"}},17,"OFFPEAK17",0,0,0,0,{"$error":"#N/A"}]
["2025-02-01","2025-02-28",372,{"$f":"IF(Kalkulator!D83=\"\",\"\",Kalkulator!D83)","v":0},{"$f":"IF(Kalkulator!E83=\"\",\"\",Kalkulator!E83)","v":0},{"$f":"IF(Kalkulator!F83=\"\",\"\",Kalkulator!F83)","v":0},{"$f":"IF(Kalkulator!G83=\"\",\"\",Kalkulator!G83)","v":0},{"$f":"IF(Kalkulator!H83=\"\",\"\",Kalkulator!H83)","v":0},{"$f":"IF(Kalkulator!I83=\"\",\"\",Kalkulator!I83)","v":{"$error":"#N/A"}},{"$f":"IF(Kalkulator!J83=\"\",\"\",Kalkulator!J83)","v":0},{"$f":"IF(Kalkulator!K83=\"\",\"\",Kalkulator!K83)","v":45716},{"$f":"IF(Kalkulator!L83=\"\",\"\",Kalkulator!L83)","v":"OFFPEAK"},{"$f":"IF(Kalkulator!M83=\"\",\"\",Kalkulator!M83)","v":20},{"$f":"IF(Kalkulator!N83=\"\",\"\",Kalkulator!N83)","v":8},{"$f":"IF(Kalkulator!O83=\"\",\"\",Kalkulator!O83)","v":{"$error":"#N/A"}},{"$f":"IF(Kalkulator!P83=\"\",\"\",Kalkulator!P83)","v":0},{"$f":"IF(Kalkulator!Q83=\"\",\"\",Kalkulator!Q83)","v":{"$error":"#N/A"}},18,"OFFPEAK18",0,0,0,0,{"$error":"#N/A"}]
["2025-03-01","2025-03-31",428,{"$f":"IF(Kalkulator!D84=\"\",\"\",Kalkulator!D84)","v":0},{"$f":"IF(Kalkulator!E84=\"\",\"\",Kalkulator!E84)","v":0},{"$f":"IF(Kalkulator!F84=\"\",\"\",Kalkulator!F84)","v":0},{"$f":"IF(Kalkulator!G84=\"\",\"\",Kalkulator!G84)","v":0},{"$f":"IF(Kalkulator!H84=\"\",\"\",Kalkulator!H84)","v":0},{"$f":"IF(Kalkulator!I84=\"\",\"\",Kalkulator!I84)","v":{"$error":"#N/A"}},{"$f":"IF(Kalkulator!J84=\"\",\"\",Kalkulator!J84)","v":-1},{"$f":"IF(Kalkulator!K84=\"\",\"\",Kalkulator!K84)","v":45747},{"$f":"IF(Kalkulator!L84=\"\",\"\",Kalkulator!L84)","v":"OFFPEAK"},{"$f":"IF(Kalkulator!M84=\"\",\"\",Kalkulator!M84)","v":21},{"$f":"IF(Kalkulator!N84=\"\",\"\",Kalkulator!N84)","v":10},{"$f":"IF(Kalkulator!O84=\"\",\"\",Kalkulator!O84)","v":{"$error":"#N/A"}},{"$f":"IF(Kalkulator!P84=\"\",\"\",Kalkulator!P84)","v":0},{"$f":"IF(Kalkulator!Q84=\"\",\"\",Kalkulator!Q84)","v":{"$error":"#N/A"}},19,"OFFPEAK19",0,0,0,0,{"$error":"#N/A"}]
["2025-04-01","2025-04-30",405,{"$f":"IF(Kalkulator!D85=\"\",\"\",Kalkulator!D85)","v":0},{"$f":"IF(Kalkulator!E85=\"\",\"\",Kalkulator!E85)","v":0},{"$f":"IF(Kalkulator!F85=\"\",\"\",Kalkulator!F85)","v":0},{"$f":"IF(Kalkulator!G85=\"\",\"\",Kalkulator!G85)","v":0},{"$f":"IF(Kalkulator!H85=\"\",\"\",Kalkulator!H85)","v":0},{"$f":"IF(Kalkulator!I85=\"\",\"\",Kalkulator!I85)","v":{"$error":"#N/A"}},{"$f":"IF(Kalkulator!J85=\"\",\"\",Kalkulator!J85)","v":0},{"$f":"IF(Kalkulator!K85=\"\",\"\",Kalkulator!K85)","v":45777},{"$f":"IF(Kalkulator!L85=\"\",\"\",Kalkulator!L85)","v":"OFFPEAK"},{"$f":"IF(Kalkulator!M85=\"\",\"\",Kalkulator!M85)","v":21},{"$f":"IF(Kalkulator!N85=\"\",\"\",Kalkulator!N85)","v":9},{"$f":"IF(Kalkulator!O85=\"\",\"\",Kalkulator!O85)","v":{"$error":"#N/A"}},{"$f":"IF(Kalkulator!P85=\"\",\"\",Kalkulator!P85)","v":0},{"$f":"IF(Kalkulator!Q85=\"\",\"\",Kalkulator!Q85)","v":{"$error":"#N/A"}},20,"OFFPEAK20",0,0,0,0,{"$error":"#N/A"}]
["2025-05-01","2025-05-31",429,{"$f":"IF(Kalkulator!D86=\"\",\"\",Kalkulator!D86)","v":0},{"$f":"IF(Kalkulator!E86=\"\",\"\",Kalkulator!E86)","v":0},{"$f":"IF(Kalkulator!F86=\"\",\"\",Kalkulator!F86)","v":0},{"$f":"IF(Kalkulator!G86=\"\",\"\",Kalkulator!G86)","v":0},{"$f":"IF(Kalkulator!H86=\"\",\"\",Kalkulator!H86)","v":0},{"$f":"IF(Kalkulator!I86=\"\",\"\",Kalkulator!I86)","v":{"$error":"#N/A"}},{"$f":"IF(Kalkulator!J86=\"\",\"\",Kalkulator!J86)","v":0},{"$f":"IF(Kalkulator!K86=\"\",\"\",Kalkulator!K86)","v":45808},{"$f":"IF(Kalkulator!L86=\"\",\"\",Kalkulator!L86)","v":"OFFPEAK"},{"$f":"IF(Kalkulator!M86=\"\",\"\",Kalkulator!M86)","v":21},{"$f":"IF(Kalkulator!N86=\"\",\"\",Kalkulator!N86)","v":10},{"$f":"IF(Kalkulator!O86=\"\",\"\",Kalkulator!O86)","v":{"$error":"#N/A"}},{"$f":"IF(Kalkulator!P86=\"\",\"\",Kalkulator!P86)","v":0},{"$f":"IF(Kalkulator!Q86=\"\",\"\",Kalkulator!Q86)","v":{"$error":"#N/A"}},21,"OFFPEAK21",0,0,0,0,{"$error":"#N/A"}]
["2025-06-01","2025-06-30",420,{"$f":"IF(Kalkulator!D87=\"\",\"\",Kalkulator!D87)","v":0},{"$f":"IF(Kalkulator!E87=\"\",\"\",Kalkulator!E87)","v":0},{"$f":"IF(Kalkulator!F87=\"\",\"\",Kalkulator!F87)","v":0},{"$f":"IF(Kalkulator!G87=\"\",\"\",Kalkulator!G87)","v":0},{"$f":"IF(Kalkulator!H87=\"\",\"\",Kalkulator!H87)","v":0},{"$f":"IF(Kalkulator!I87=\"\",\"\",Kalkulator!I87)","v":{"$error":"#N/A"}},{"$f":"IF(Kalkulator!J87=\"\",\"\",Kalkulator!J87)","v":0},{"$f":"IF(Kalkulator!K87=\"\",\"\",Kalkulator!K87)","v":45838},{"$f":"IF(Kalkulator!L87=\"\",\"\",Kalkulator!L87)","v":"OFFPEAK"},{"$f":"IF(Kalkulator!M87=\"\",\"\",Kalkulator!M87)","v":20},{"$f":"IF(Kalkulator!N87=\"\",\"\",Kalkulator!N87)","v":10},{"$f":"IF(Kalkulator!O87=\"\",\"\",Kalkulator!O87)","v":{"$error":"#N/A"}},{"$f":"IF(Kalkulator!P87=\"\",\"\",Kalkulator!P87)","v":0},{"$f":"IF(Kalkulator!Q87=\"\",\"\",Kalkulator!Q87)","v":{"$error":"#N/A"}},22,"OFFPEAK22",0,0,0,0,{"$error":"#N/A"}]
["2025-07-01","2025-09-30",1233,{"$f":"IF(Kalkulator!D88=\"\",\"\",Kalkulator!D88)","v":0},{"$f":"IF(Kalkulator!E88=\"\",\"\",Kalkulator!E88)","v":0},{"$f":"IF(Kalkulator!F88=\"\",\"\",Kalkulator!F88)","v":0},{"$f":"IF(Kalkulator!G88=\"\",\"\",Kalkulator!G88)","v":0},{"$f":"IF(Kalkulator!H88=\"\",\"\",Kalkulator!H88)","v":0},{"$f":"IF(Kalkulator!I88=\"\",\"\",Kalkulator!I88)","v":{"$error":"#N/A"}},{"$f":"IF(Kalkulator!J88=\"\",\"\",Kalkulator!J88)","v":0},{"$f":"IF(Kalkulator!K88=\"\",\"\",Kalkulator!K88)","v":45930},{"$f":"IF(Kalkulator!L88=\"\",\"\",Kalkulator!L88)","v":"OFFPEAK"},{"$f":"IF(Kalkulator!M88=\"\",\"\",Kalkulator!M88)","v":65},{"$f":"IF(Kalkulator!N88=\"\",\"\",Kalkulator!N88)","v":27},{"$f":"IF(Kalkulator!O88=\"\",\"\",Kalkulator!O88)","v":{"$error":"#N/A"}},{"$f":"IF(Kalkulator!P88=\"\",\"\",Kalkulator!P88)","v":0},{"$f":"IF(Kalkulator!Q88=\"\",\"\",Kalkulator!Q88)","v":{"$error":"#N/A"}},23,"OFFPEAK23",0,0,0,0,{"$error":"#N/A"}]
["2025-10-01","2025-12-31",1264,{"$f":"IF(Kalkulator!D89=\"\",\"\",Kalkulator!D89)","v":0},{"$f":"IF(Kalkulator!E89=\"\",\"\",Kalkulator!E89)","v":0},{"$f":"IF(Kalkulator!F89=\"\",\"\",Kalkulator!F89)","v":0},{"$f":"IF(Kalkulator!G89=\"\",\"\",Kalkulator!G89)","v":0},{"$f":"IF(Kalkulator!H89=\"\",\"\",Kalkulator!H89)","v":0},{"$f":"IF(Kalkulator!I89=\"\",\"\",Kalkulator!I89)","v":{"$error":"#N/A"}},{"$f":"IF(Kalkulator!J89=\"\",\"\",Kalkulator!J89)","v":1},{"$f":"IF(Kalkulator!K89=\"\",\"\",Kalkulator!K89)","v":46022},{"$f":"IF(Kalkulator!L89=\"\",\"\",Kalkulator!L89)","v":"OFFPEAK"},{"$f":"IF(Kalkulator!M89=\"\",\"\",Kalkulator!M89)","v":63},{"$f":"IF(Kalkulator!N89=\"\",\"\",Kalkulator!N89)","v":29},{"$f":"IF(Kalkulator!O89=\"\",\"\",Kalkulator!O89)","v":{"$error":"#N/A"}},{"$f":"IF(Kalkulator!P89=\"\",\"\",Kalkulator!P89)","v":0},{"$f":"IF(Kalkulator!Q89=\"\",\"\",Kalkulator!Q89)","v":{"$error":"#N/A"}},24,"OFFPEAK24",0,0,0,0,{"$error":"#N/A"}]
["2026-01-01","2026-03-31",1229,{"$f":"IF(Kalkulator!D90=\"\",\"\",Kalkulator!D90)","v":0},{"$f":"IF(Kalkulator!E90=\"\",\"\",Kalkulator!E90)","v":0},{"$f":"IF(Kalkulator!F90=\"\",\"\",Kalkulator!F90)","v":0},{"$f":"IF(Kalkulator!G90=\"\",\"\",Kalkulator!G90)","v":0},{"$f":"IF(Kalkulator!H90=\"\",\"\",Kalkulator!H90)","v":0},{"$f":"IF(Kalkulator!I90=\"\",\"\",Kalkulator!I90)","v":{"$error":"#N/A"}},{"$f":"IF(Kalkulator!J90=\"\",\"\",Kalkulator!J90)","v":-1},{"$f":"IF(Kalkulator!K90=\"\",\"\",Kalkulator!K90)","v":46112},{"$f":"IF(Kalkulator!L90=\"\",\"\",Kalkulator!L90)","v":"OFFPEAK"},{"$f":"IF(Kalkulator!M90=\"\",\"\",Kalkulator!M90)","v":62},{"$f":"IF(Kalkulator!N90=\"\",\"\",Kalkulator!N90)","v":28},{"$f":"IF(Kalkulator!O90=\"\",\"\",Kalkulator!O90)","v":{"$error":"#N/A"}},{"$f":"IF(Kalkulator!P90=\"\",\"\",Kalkulator!P90)","v":0},{"$f":"IF(Kalkulator!Q90=\"\",\"\",Kalkulator!Q90)","v":{"$error":"#N/A"}},25,"OFFPEAK25",0,0,0,0,{"$error":"#N/A"}]
["2026-04-01","2026-06-30",1254,{"$f":"IF(Kalkulator!D91=\"\",\"\",Kalkulator!D91)","v":0},{"$f":"IF(Kalkulator!E91=\"\",\"\",Kalkulator!E91)","v":0},{"$f":"IF(Kalkulator!F91=\"\",\"\",Kalkulator!F91)","v":0},{"$f":"IF(Kalkulator!G91=\"\",\"\",Kalkulator!G91)","v":0},{"$f":"IF(Kalkulator!H91=\"\",\"\",Kalkulator!H91)","v":0},{"$f":"IF(Kalkulator!I91=\"\",\"\",Kalkulator!I91)","v":{"$error":"#N/A"}},{"$f":"IF(Kalkulator!J91=\"\",\"\",Kalkulator!J91)","v":0},{"$f":"IF(Kalkulator!K91=\"\",\"\",Kalkulator!K91)","v":46203},{"$f":"IF(Kalkulator!L91=\"\",\"\",Kalkulator!L91)","v":"OFFPEAK"},{"$f":"IF(Kalkulator!M91=\"\",\"\",Kalkulator!M91)","v":62},{"$f":"IF(Kalkulator!N91=\"\",\"\",Kalkulator!N91)","v":29},{"$f":"IF(Kalkulator!O91=\"\",\"\",Kalkulator!O91)","v":{"$error":"#N/A"}},{"$f":"IF(Kalkulator!P91=\"\",\"\",Kalkulator!P91)","v":0},{"$f":"IF(Kalkulator!Q91=\"\",\"\",Kalkulator!Q91)","v":{"$error":"#N/A"}},26,"OFFPEAK26",0,0,0,0,{"$error":"#N/A"}]
["2026-07-01","2026-12-31",2467,{"$f":"IF(Kalkulator!D92=\"\",\"\",Kalkulator!D92)","v":0},{"$f":"IF(Kalkulator!E92=\"\",\"\",Kalkulator!E92)","v":0},{"$f":"IF(Kalkulator!F92=\"\",\"\",Kalkulator!F92)","v":0},{"$f":"IF(Kalkulator!G92=\"\",\"\",Kalkulator!G92)","v":0},{"$f":"IF(Kalkulator!H92=\"\",\"\",Kalkulator!H92)","v":0},{"$f":"IF(Kalkulator!I92=\"\",\"\",Kalkulator!I92)","v":{"$error":"#N/A"}},{"$f":"IF(Kalkulator!J92=\"\",\"\",Kalkulator!J92)","v":1},{"$f":"IF(Kalkulator!K92=\"\",\"\",Kalkulator!K92)","v":46387},{"$f":"IF(Kalkulator!L92=\"\",\"\",Kalkulator!L92)","v":"OFFPEAK"},{"$f":"IF(Kalkulator!M92=\"\",\"\",Kalkulator!M92)","v":130},{"$f":"IF(Kalkulator!N92=\"\",\"\",Kalkulator!N92)","v":54},{"$f":"IF(Kalkulator!O92=\"\",\"\",Kalkulator!O92)","v":{"$error":"#N/A"}},{"$f":"IF(Kalkulator!P92=\"\",\"\",Kalkulator!P92)","v":0},{"$f":"IF(Kalkulator!Q92=\"\",\"\",Kalkulator!Q92)","v":{"$error":"#N/A"}},27,"OFFPEAK27",0,0,0,0,{"$error":"#N/A"}]
["2027-01-01","2027-12-31",4950,{"$f":"IF(Kalkulator!D93=\"\",\"\",Kalkulator!D93)","v":0},{"$f":"IF(Kalkulator!E93=\"\",\"\",Kalkulator!E93)","v":0},{"$f":"IF(Kalkulator!F93=\"\",\"\",Kalkulator!F93)","v":0},{"$f":"IF(Kalkulator!G93=\"\",\"\",Kalkulator!G93)","v":0},{"$f":"IF(Kalkulator!H93=\"\",\"\",Kalkulator!H93)","v":0},{"$f":"IF(Kalkulator!I93=\"\",\"\",Kalkulator!I93)","v":{"$error":"#N/A"}},{"$f":"IF(Kalkulator!J93=\"\",\"\",Kalkulator!J93)","v":0},{"$f":"IF(Kalkulator!K93=\"\",\"\",Kalkulator!K93)","v":46752},{"$f":"IF(Kalkulator!L93=\"\",\"\",Kalkulator!L93)","v":"OFFPEAK"},{"$f":"IF(Kalkulator!M93=\"\",\"\",Kalkulator!M93)","v":253},{"$f":"IF(Kalkulator!N93=\"\",\"\",Kalkulator!N93)","v":112},{"$f":"IF(Kalkulator!O93=\"\",\"\",Kalkulator!O93)","v":{"$error":"#N/A"}},{"$f":"IF(Kalkulator!P93=\"\",\"\",Kalkulator!P93)","v":0},{"$f":"IF(Kalkulator!Q93=\"\",\"\",Kalkulator!Q93)","v":{"$error":"#N/A"}},28,"OFFPEAK28",0,0,0,0,{"$error":"#N/A"}]
["2028-01-01","2028-12-31",5019,{"$f":"IF(Kalkulator!D94=\"\",\"\",Kalkulator!D94)","v":0},{"$f":"IF(Kalkulator!E94=\"\",\"\",Kalkulator!E94)","v":0},{"$f":"IF(Kalkulator!F94=\"\",\"\",Kalkulator!F94)","v":0},{"$f":"IF(Kalkulator!G94=\"\",\"\",Kalkulator!G94)","v":0},{"$f":"IF(Kalkulator!H94=\"\",\"\",Kalkulator!H94)","v":0},{"$f":"IF(Kalkulator!I94=\"\",\"\",Kalkulator!I94)","v":{"$error":"#N/A"}},{"$f":"IF(Kalkulator!J94=\"\",\"\",Kalkulator!J94)","v":0},{"$f":"IF(Kalkulator!K94=\"\",\"\",Kalkulator!K94)","v":47118},{"$f":"IF(Kalkulator!L94=\"\",\"\",Kalkulator!L94)","v":"OFFPEAK"},{"$f":"IF(Kalkulator!M94=\"\",\"\",Kalkulator!M94)","v":251},{"$f":"IF(Kalkulator!N94=\"\",\"\",Kalkulator!N94)","v":115},{"$f":"IF(Kalkulator!O94=\"\",\"\",Kalkulator!O94)","v":{"$error":"#N/A"}},{"$f":"IF(Kalkulator!P94=\"\",\"\",Kalkulator!P94)","v":0},{"$f":"IF(Kalkulator!Q94=\"\",\"\",Kalkulator!Q94)","v":{"$error":"#N/A"}},29,"OFFPEAK29",0,0,0,0,{"$error":"#N/A"}]
[null,null,null,{"$f":"IF(Kalkulator!D95=\"\",\"\",Kalkulator!D95)","v":0},{"$f":"IF(Kalkulator!E95=\"\",\"\",Kalkulator!E95)","v":0},{"$f":"IF(Kalkulator!F95=\"\",\"\",Kalkulator!F95)","v":0},{"$f":"IF(Kalkulator!G95=\"\",\"\",Kalkulator!G95)","v":0},{"$f":"IF(Kalkulator!H95=\"\",\"\",Kalkulator!H95)","v":0},{"$f":"IF(Kalkulator!I95=\"\",\"\",Kalkulator!I95)","v":{"$error":"#N/A"}},{"$f":"IF(Kalkulator!J95=\"\",\"\",Kalkulator!J95)","v":""},{"$f":"IF(Kalkulator!K95=\"\",\"\",Kalkulator!K95)","v":45624},{"$f":"IF(Kalkulator!L95=\"\",\"\",Kalkulator!L95)","v":"L-PEAK5"},{"$f":"IF(Kalkulator!M95=\"\",\"\",Kalkulator!M95)","v":1},{"$f":"IF(Kalkulator!N95=\"\",\"\",Kalkulator!N95)","v":0},{"$f":"IF(Kalkulator!O95=\"\",\"\",Kalkulator!O95)","v":{"$error":"#N/A"}},{"$f":"IF(Kalkulator!P95=\"\",\"\",Kalkulator!P95)","v":0},{"$f":"IF(Kalkulator!Q95=\"\",\"\",Kalkulator!Q95)","v":{"$error":"#N/A"}},0,"L-PEAK50",0,0,0,0,{"$error":"#N/A"}]
[null,null,null,{"$f":"IF(Kalkulator!D96=\"\",\"\",Kalkulator!D96)","v":0},{"$f":"IF(Kalkulator!E96=\"\",\"\",Kalkulator!E96)","v":0},{"$f":"IF(Kalkulator!F96=\"\",\"\",Kalkulator!F96)","v":0},{"$f":"IF(Kalkulator!G96=\"\",\"\",Kalkulator!G96)","v":0},{"$f":"IF(Kalkulator!H96=\"\",\"\",Kalkulator!H96)","v":0},{"$f":"IF(Kalkulator!I96=\"\",\"\",Kalkulator!I96)","v":{"$error":"#N/A"}},{"$f":"IF(Kalkulator!J96=\"\",\"\",Kalkulator!J96)","v":""},{"$f":"IF(Kalkulator!K96=\"\",\"\",Kalkulator!K96)","v":45625},{"$f":"IF(Kalkulator!L96=\"\",\"\",Kalkulator!L96)","v":"L-PEAK5"},{"$f":"IF(Kalkulator!M96=\"\",\"\",Kalkulator!M96)","v":1},{"$f":"IF(Kalkulator!N96=\"\",\"\",Kalkulator!N96)","v":0},{"$f":"IF(Kalkulator!O96=\"\",\"\",Kalkulator!O96)","v":{"$error":"#N/A"}},{"$f":"IF(Kalkulator!P96=\"\",\"\",Kalkulator!P96)","v":0},{"$f":"IF(Kalkulator!Q96=\"\",\"\",Kalkulator!Q96)","v":{"$error":"#N/A"}},1,"L-PEAK51",0,0,0,0,{"$error":"#N/A"}]
[null,null,null,{"$f":"IF(Kalkulator!D97=\"\",\"\",Kalkulator!D97)","v":0},{"$f":"IF(Kalkulator!E97=\"\",\"\",Kalkulator!E97)","v":0},{"$f":"IF(Kalkulator!F97=\"\",\"\",Kalkulator!F97)","v":0},{"$f":"IF(Kalkulator!G97=\"\",\"\",Kalkulator!G97)","v":0},{"$f":"IF(Kalkulator!H97=\"\",\"\",Kalkulator!H97)","v":0},{"$f":"IF(Kalkulator!I97=\"\",\"\",Kalkulator!I97)","v":{"$error":"#N/A"}},{"$f":"IF(Kalkulator!J97=\"\",\"\",Kalkulator!J97)","v":""},{"$f":"IF(Kalkulator!K97=\"\",\"\",Kalkulator!K97)","v":45626},{"$f":"IF(Kalkulator!L97=\"\",\"\",Kalkulator!L97)","v":"L-PEAK5"},{"$f":"IF(Kalkulator!M97=\"\",\"\",Kalkulator!M97)","v":0},{"$f":"IF(Kalkulator!N97=\"\",\"\",Kalkulator!N97)","v":1},{"$f":"IF(Kalkulator!O97=\"\",\"\",Kalkulator!O97)","v":{"$error":"#N/A"}},{"$f":"IF(Kalkulator!P97=\"\",\"\",Kalkulator!P97)","v":0},{"$f":"IF(Kalkulator!Q97=\"\",\"\",Kalkulator!Q97)","v":{"$error":"#N/A"}},2,"L-PEAK52",0,0,0,0,{"$error":"#N/A"}]
[null,null,null,{"$f":"IF(Kalkulator!D98=\"\",\"\",Kalkulator!D98)","v":0},{"$f":"IF(Kalkulator!E98=\"\",\"\",Kalkulator!E98)","v":0},{"$f":"IF(Kalkulator!F98=\"\",\"\",Kalkulator!F98)","v":0},{"$f":"IF(Kalkulator!G98=\"\",\"\",Kalkulator!G98)","v":0},{"$f":"IF(Kalkulator!H98=\"\",\"\",Kalkulator!H98)","v":0},{"$f":"IF(Kalkulator!I98=\"\",\"\",Kalkulator!I98)","v":{"$error":"#N/A"}},{"$f":"IF(Kalkulator!J98=\"\",\"\",Kalkulator!J98)","v":""},{"$f":"IF(Kalkulator!K98=\"\",\"\",Kalkulator!K98)","v":45627},{"$f":"IF(Kalkulator!L98=\"\",\"\",Kalkulator!L98)","v":"L-PEAK5"},{"$f":"IF(Kalkulator!M98=\"\",\"\",Kalkulator!M98)","v":0},{"$f":"IF(Kalkulator!N98=\"\",\"\",Kalkulator!N98)","v":1},{"$f":"IF(Kalkulator!O98=\"\",\"\",Kalkulator!O98)","v":{"$error":"#N/A"}},{"$f":"IF(Kalkulator!P98=\"\",\"\",Kalkulator!P98)","v":0},{"$f":"IF(Kalkulator!Q98=\"\",\"\",Kalkulator!Q98)","v":{"$error":"#N/A"}},3,"L-PEAK53",0,0,0,0,{"$error":"#N/A"}]
[null,null,null,{"$f":"IF(Kalkulator!D99=\"\",\"\",Kalkulator!D99)","v":0},{"$f":"IF(Kalkulator!E99=\"\",\"\",Kalkulator!E99)","v":0},{"$f":"IF(Kalkulator!F99=\"\",\"\",Kalkulator!F99)","v":0},{"$f":"IF(Kalkulator!G99=\"\",\"\",Kalkulator!G99)","v":0},{"$f":"IF(Kalkulator!H99=\"\",\"\",Kalkulator!H99)","v":0},{"$f":"IF(Kalkulator!I99=\"\",\"\",Kalkulator!I99)","v":{"$error":"#N/A"}},{"$f":"IF(Kalkulator!J99=\"\",\"\",Kalkulator!J99)","v":""},{"$f":"IF(Kalkulator!K99=\"\",\"\",Kalkulator!K99)","v":45628},{"$f":"IF(Kalkulator!L99=\"\",\"\",Kalkulator!L99)","v":"L-PEAK5"},{"$f":"IF(Kalkulator!M99=\"\",\"\",Kalkulator!M99)","v":1},{"$f":"IF(Kalkulator!N99=\"\",\"\",Kalkulator!N99)","v":0},{"$f":"IF(Kalkulator!O99=\"\",\"\",Kalkulator!O99)","v":{"$error":"#N/A"}},{"$f":"IF(Kalkulator!P99=\"\",\"\",Kalkulator!P99)","v":0},{"$f":"IF(Kalkulator!Q99=\"\",\"\",Kalkulator!Q99)","v":{"$error":"#N/A"}},4,"L-PEAK54",0,0,0,0,{"$error":"#N/A"}]
[null,null,null,{"$f":"IF(Kalkulator!D100=\"\",\"\",Kalkulator!D100)","v":0},{"$f":"IF(Kalkulator!E100=\"\",\"\",Kalkulator!E100)","v":0},{"$f":"IF(Kalkulator!F100=\"\",\"\",Kalkulator!F100)","v":0},{"$f":"IF(Kalkulator!G100=\"\",\"\",Kalkulator!G100)","v":0},{"$f":"IF(Kalkulator!H100=\"\",\"\",Kalkulator!H100)","v":0},{"$f":"IF(Kalkulator!I100=\"\",\"\",Kalkulator!I100)","v":{"$error":"#N/A"}},{"$f":"IF(Kalkulator!J100=\"\",\"\",Kalkulator!J100)","v":""},{"$f":"IF(Kalkulator!K100=\"\",\"\",Kalkulator!K100)","v":45629},{"$f":"IF(Kalkulator!L100=\"\",\"\",Kalkulator!L100)","v":"L-PEAK5"},{"$f":"IF(Kalkulator!M100=\"\",\"\",Kalkulator!M100)","v":1},{"$f":"IF(Kalkulator!N100=\"\",\"\",Kalkulator!N100)","v":0},{"$f":"IF(Kalkulator!O100=\"\",\"\",Kalkulator!O100)","v":{"$error":"#N/A"}},{"$f":"IF(Kalkulator!P100=\"\",\"\",Kalkulator!P100)","v":0},{"$f":"IF(Kalkulator!Q100=\"\",\"\",Kalkulator!Q100)","v":{"$error":"#N/A"}},5,"L-PEAK55",0,0,0,0,{"$error":"#N/A"}]
[null,null,null,{"$f":"IF(Kalkulator!D101=\"\",\"\",Kalkulator!D101)","v":0},{"$f":"IF(Kalkulator!E101=\"\",\"\",Kalkulator!E101)","v":0},{"$f":"IF(Kalkulator!F101=\"\",\"\",Kalkulator!F101)","v":0},{"$f":"IF(Kalkulator!G101=\"\",\"\",Kalkulator!G101)","v":0},{"$f":"IF(Kalkulator!H101=\"\",\"\",Kalkulator!H101)","v":0},{"$f":"IF(Kalkulator!I101=\"\",\"\",Kalkulator!I101)","v":{"$error":"#N/A"}},{"$f":"IF(Kalkulator!J101=\"\",\"\",Kalkulator!J101)","v":""},{"$f":"IF(Kalkulator!K101=\"\",\"\",Kalkulator!K101)","v":45630},{"$f":"IF(Kalkulator!L101=\"\",\"\",Kalkulator!L101)","v":"L-PEAK5"},{"$f":"IF(Kalkulator!M101=\"\",\"\",Kalkulator!M101)","v":1},{"$f":"IF(Kalkulator!N101=\"\",\"\",Kalkulator!N101)","v":0},{"$f":"IF(Kalkulator!O101=\"\",\"\",Kalkulator!O101)","v":{"$error":"#N/A"}},{"$f":"IF(Kalkulator!P101=\"\",\"\",Kalkulator!P101)","v":0},{"$f":"IF(Kalkulator!Q101=\"\",\"\",Kalkulator!Q101)","v":{"$error":"#N/A"}},6,"L-PEAK56",0,0,0,0,{"$error":"#N/A"}]
[null,null,null,{"$f":"IF(Kalkulator!D102=\"\",\"\",Kalkulator!D102)","v":0},{"$f":"IF(Kalkulator!E102=\"\",\"\",Kalkulator!E102)","v":0},{"$f":"IF(Kalkulator!F102=\"\",\"\",Kalkulator!F102)","v":0},{"$f":"IF(Kalkulator!G102=\"\",\"\",Kalkulator!G102)","v":0},{"$f":"IF(Kalkulator!H102=\"\",\"\",Kalkulator!H102)","v":0},{"$f":"IF(Kalkulator!I102=\"\",\"\",Kalkulator!I102)","v":{"$error":"#N/A"}},{"$f":"IF(Kalkulator!J102=\"\",\"\",Kalkulator!J102)","v":""},{"$f":"IF(Kalkulator!K102=\"\",\"\",Kalkulator!K102)","v":45631},{"$f":"IF(Kalkulator!L102=\"\",\"\",Kalkulator!L102)","v":"L-PEAK5"},{"$f":"IF(Kalkulator!M102=\"\",\"\",Kalkulator!M102)","v":1},{"$f":"IF(Kalkulator!N102=\"\",\"\",Kalkulator!N102)","v":0},{"$f":"IF(Kalkulator!O102=\"\",\"\",Kalkulator!O102)","v":{"$error":"#N/A"}},{"$f":"IF(Kalkulator!P102=\"\",\"\",Kalkulator!P102)","v":0},{"$f":"IF(Kalkulator!Q102=\"\",\"\",Kalkulator!Q102)","v":{"$error":"#N/A"}},7,"L-PEAK57",0,0,0,0,{"$error":"#N/A"}]
[null,null,null,{"$f":"IF(Kalkulator!D103=\"\",\"\",Kalkulator!D103)","v":0},{"$f":"IF(Kalkulator!E103=\"\",\"\",Kalkulator!E103)","v":0},{"$f":"IF(Kalkulator!F103=\"\",\"\",Kalkulator!F103)","v":0},{"$f":"IF(Kalkulator!G103=\"\",\"\",Kalkulator!G103)","v":0},{"$f":"IF(Kalkulator!H103=\"\",\"\",Kalkulator!H103)","v":0},{"$f":"IF(Kalkulator!I103=\"\",\"\",Kalkulator!I103)","v":{"$error":"#N/A"}},{"$f":"IF(Kalkulator!J103=\"\",\"\",Kalkulator!J103)","v":""},{"$f":"IF(Kalkulator!K103=\"\",\"\",Kalkulator!K103)","v":45632},{"$f":"IF(Kalkulator!L103=\"\",\"\",Kalkulator!L103)","v":"L-PEAK5"},{"$f":"IF(Kalkulator!M103=\"\",\"\",Kalkulator!M103)","v":1},{"$f":"IF(Kalkulator!N103=\"\",\"\",Kalkulator!N103)","v":0},{"$f":"IF(Kalkulator!O103=\"\",\"\",Kalkulator!O103)","v":{"$error":"#N/A"}},{"$f":"IF(Kalkulator!P103=\"\",\"\",Kalkulator!P103)","v":0},{"$f":"IF(Kalkulator!Q103=\"\",\"\",Kalkulator!Q103)","v":{"$error":"#N/A"}},8,"L-PEAK58",0,0,0,0,{"$error":"#N/A"}]
[null,null,null,{"$f":"IF(Kalkulator!D104=\"\",\"\",Kalkulator!D104)","v":0},{"$f":"IF(Kalkulator!E104=\"\",\"\",Kalkulator!E104)","v":0},{"$f":"IF(Kalkulator!F104=\"\",\"\",Kalkulator!F104)","v":0},{"$f":"IF(Kalkulator!G104=\"\",\"\",Kalkulator!G104)","v":0},{"$f":"IF(Kalkulator!H104=\"\",\"\",Kalkulator!H104)","v":0},{"$f":"IF(Kalkulator!I104=\"\",\"\",Kalkulator!I104)","v":{"$error":"#N/A"}},{"$f":"IF(Kalkulator!J104=\"\",\"\",Kalkulator!J104)","v":""},{"$f":"IF(Kalkulator!K104=\"\",\"\",Kalkulator!K104)","v":45633},{"$f":"IF(Kalkulator!L104=\"\",\"\",Kalkulator!L104)","v":"L-PEAK5"},{"$f":"IF(Kalkulator!M104=\"\",\"\",Kalkulator!M104)","v":0},{"$f":"IF(Kalkulator!N104=\"\",\"\",Kalkulator!N104)","v":1},{"$f":"IF(Kalkulator!O104=\"\",\"\",Kalkulator!O104)","v":{"$error":"#N/A"}},{"$f":"IF(Kalkulator!P104=\"\",\"\",Kalkulator!P104)","v":0},{"$f":"IF(Kalkulator!Q104=\"\",\"\",Kalkulator!Q104)","v":{"$error":"#N/A"}},9,"L-PEAK59",0,0,0,0,{"$error":"#N/A"}]
[null,null,null,{"$f":"IF(Kalkulator!D105=\"\",\"\",Kalkulator!D105)","v":0},{"$f":"IF(Kalkulator!E105=\"\",\"\",Kalkulator!E105)","v":0},{"$f":"IF(Kalkulator!F105=\"\",\"\",Kalkulator!F105)","v":0},{"$f":"IF(Kalkulator!G105=\"\",\"\",Kalkulator!G105)","v":0},{"$f":"IF(Kalkulator!H105=\"\",\"\",Kalkulator!H105)","v":0},{"$f":"IF(Kalkulator!I105=\"\",\"\",Kalkulator!I105)","v":{"$error":"#N/A"}},{"$f":"IF(Kalkulator!J105=\"\",\"\",Kalkulator!J105)","v":""},{"$f":"IF(Kalkulator!K105=\"\",\"\",Kalkulator!K105)","v":45634},{"$f":"IF(Kalkulator!L105=\"\",\"\",Kalkulator!L105)","v":"L-PEAK5"},{"$f":"IF(Kalkulator!M105=\"\",\"\",Kalkulator!M105)","v":0},{"$f":"IF(Kalkulator!N105=\"\",\"\",Kalkulator!N105)","v":1},{"$f":"IF(Kalkulator!O105=\"\",\"\",Kalkulator!O105)","v":{"$error":"#N/A"}},{"$f":"IF(Kalkulator!P105=\"\",\"\",Kalkulator!P105)","v":0},{"$f":"IF(Kalkulator!Q105=\"\",\"\",Kalkulator!Q105)","v":{"$error":"#N/A"}},10,"L-PEAK510",0,0,0,0,{"$error":"#N/A"}]
[null,null,null,{"$f":"IF(Kalkulator!D106=\"\",\"\",Kalkulator!D106)","v":0},{"$f":"IF(Kalkulator!E106=\"\",\"\",Kalkulator!E106)","v":0},{"$f":"IF(Kalkulator!F106=\"\",\"\",Kalkulator!F106)","v":0},{"$f":"IF(Kalkulator!G106=\"\",\"\",Kalkulator!G106)","v":0},{"$f":"IF(Kalkulator!H106=\"\",\"\",Kalkulator!H106)","v":0},{"$f":"IF(Kalkulator!I106=\"\",\"\",Kalkulator!I106)","v":{"$error":"#N/A"}},{"$f":"IF(Kalkulator!J106=\"\",\"\",Kalkulator!J106)","v":""},{"$f":"IF(Kalkulator!K106=\"\",\"\",Kalkulator!K106)","v":45641},{"$f":"IF(Kalkulator!L106=\"\",\"\",Kalkulator!L106)","v":"L-PEAK5"},{"$f":"IF(Kalkulator!M106=\"\",\"\",Kalkulator!M106)","v":5},{"$f":"IF(Kalkulator!N106=\"\",\"\",Kalkulator!N106)","v":2},{"$f":"IF(Kalkulator!O106=\"\",\"\",Kalkulator!O106)","v":{"$error":"#N/A"}},{"$f":"IF(Kalkulator!P106=\"\",\"\",Kalkulator!P106)","v":0},{"$f":"IF(Kalkulator!Q106=\"\",\"\",Kalkulator!Q106)","v":{"$error":"#N/A"}},11,"L-PEAK511",0,0,0,0,{"$error":"#N/A"}]
[null,null,null,{"$f":"IF(Kalkulator!D107=\"\",\"\",Kalkulator!D107)","v":0},{"$f":"IF(Kalkulator!E107=\"\",\"\",Kalkulator!E107)","v":0},{"$f":"IF(Kalkulator!F107=\"\",\"\",Kalkulator!F107)","v":0},{"$f":"IF(Kalkulator!G107=\"\",\"\",Kalkulator!G107)","v":0},{"$f":"IF(Kalkulator!H107=\"\",\"\",Kalkulator!H107)","v":0},{"$f":"IF(Kalkulator!I107=\"\",\"\",Kalkulator!I107)","v":{"$error":"#N/A"}},{"$f":"IF(Kalkulator!J107=\"\",\"\",Kalkulator!J107)","v":""},{"$f":"IF(Kalkulator!K107=\"\",\"\",Kalkulator!K107)","v":45648},{"$f":"IF(Kalkulator!L107=\"\",\"\",Kalkulator!L107)","v":"L-PEAK5"},{"$f":"IF(Kalkulator!M107=\"\",\"\",Kalkulator!M107)","v":5},{"$f":"IF(Kalkulator!N107=\"\",\"\",Kalkulator!N107)","v":2},{"$f":"IF(Kalkulator!O107=\"\",\"\",Kalkulator!O107)","v":{"$error":"#N/A"}},{"$f":"IF(Kalkulator!P107=\"\",\"\",Kalkulator!P107)","v":0},{"$f":"IF(Kalkulator!Q107=\"\",\"\",Kalkulator!Q107)","v":{"$error":"#N/A"}},12,"L-PEAK512",0,0,0,0,{"$error":"#N/A"}]
[null,null,null,{"$f":"IF(Kalkulator!D108=\"\",\"\",Kalkulator!D108)","v":0},{"$f":"IF(Kalkulator!E108=\"\",\"\",Kalkulator!E108)","v":0},{"$f":"IF(Kalkulator!F108=\"\",\"\",Kalkulator!F108)","v":0},{"$f":"IF(Kalkulator!G108=\"\",\"\",Kalkulator!G108)","v":0},{"$f":"IF(Kalkulator!H108=\"\",\"\",Kalkulator!H108)","v":0},{"$f":"IF(Kalkulator!I108=\"\",\"\",Kalkulator!I108)","v":{"$error":"#N/A"}},{"$f":"IF(Kalkulator!J108=\"\",\"\",Kalkulator!J108)","v":""},{"$f":"IF(Kalkulator!K108=\"\",\"\",Kalkulator!K108)","v":45655},{"$f":"IF(Kalkulator!L108=\"\",\"\",Kalkulator!L108)","v":"L-PEAK5"},{"$f":"IF(Kalkulator!M108=\"\",\"\",Kalkulator!M108)","v":3},{"$f":"IF(Kalkulator!N108=\"\",\"\",Kalkulator!N108)","v":4},{"$f":"IF(Kalkulator!O108=\"\",\"\",Kalkulator!O108)","v":{"$error":"#N/A"}},{"$f":"IF(Kalkulator!P108=\"\",\"\",Kalkulator!P108)","v":0},{"$f":"IF(Kalkulator!Q108=\"\",\"\",Kalkulator!Q108)","v":{"$error":"#N/A"}},13,"L-PEAK513",0,0,0,0,{"$error":"#N/A"}]
[null,null,null,{"$f":"IF(Kalkulator!D109=\"\",\"\",Kalkulator!D109)","v":0},{"$f":"IF(Kalkulator!E109=\"\",\"\",Kalkulator!E109)","v":0},{"$f":"IF(Kalkulator!F109=\"\",\"\",Kalkulator!F109)","v":0},{"$f":"IF(Kalkulator!G109=\"\",\"\",Kalkulator!G109)","v":0},{"$f":"IF(Kalkulator!H109=\"\",\"\",Kalkulator!H109)","v":0},{"$f":"IF(Kalkulator!I109=\"\",\"\",Kalkulator!I109)","v":{"$error":"#N/A"}},{"$f":"IF(Kalkulator!J109=\"\",\"\",Kalkulator!J109)","v":""},{"$f":"IF(Kalkulator!K109=\"\",\"\",Kalkulator!K109)","v":45657},{"$f":"IF(Kalkulator!L109=\"\",\"\",Kalkulator!L109)","v":"L-PEAK5"},{"$f":"IF(Kalkulator!M109=\"\",\"\",Kalkulator!M109)","v":2},{"$f":"IF(Kalkulator!N109=\"\",\"\",Kalkulator!N109)","v":0},{"$f":"IF(Kalkulator!O109=\"\",\"\",Kalkulator!O109)","v":{"$error":"#N/A"}},{"$f":"IF(Kalkulator!P109=\"\",\"\",Kalkulator!P109)","v":0},{"$f":"IF(Kalkulator!Q109=\"\",\"\",Kalkulator!Q109)","v":{"$error":"#N/A"}},14,"L-PEAK514",0,0,0,0,{"$error":"#N/A"}]
[null,null,null,{"$f":"IF(Kalkulator!D110=\"\",\"\",Kalkulator!D110)","v":0},{"$f":"IF(Kalkulator!E110=\"\",\"\",Kalkulator!E110)","v":0},{"$f":"IF(Kalkulator!F110=\"\",\"\",Kalkulator!F110)","v":0},{"$f":"IF(Kalkulator!G110=\"\",\"\",Kalkulator!G110)","v":0},{"$f":"IF(Kalkulator!H110=\"\",\"\",Kalkulator!H110)","v":0},{"$f":"IF(Kalkulator!I110=\"\",\"\",Kalkulator!I110)","v":{"$error":"#N/A"}},{"$f":"IF(Kalkulator!J110=\"\",\"\",Kalkulator!J110)","v":""},{"$f":"IF(Kalkulator!K110=\"\",\"\",Kalkulator!K110)","v":45688},{"$f":"IF(Kalkulator!L110=\"\",\"\",Kalkulator!L110)","v":"L-PEAK5"},{"$f":"IF(Kalkulator!M110=\"\",\"\",Kalkulator!M110)","v":21},{"$f":"IF(Kalkulator!N110=\"\",\"\",Kalkulator!N110)","v":10},{"$f":"IF(Kalkulator!O110=\"\",\"\",Kalkulator!O110)","v":{"$error":"#N/A"}},{"$f":"IF(Kalkulator!P110=\"\",\"\",Kalkulator!P110)","v":0},{"$f":"IF(Kalkulator!Q110=\"\",\"\",Kalkulator!Q110)","v":{"$error":"#N/A"}},15,"L-PEAK515",0,0,0,0,{"$error":"#N/A"}]
[null,null,null,{"$f":"IF(Kalkulator!D111=\"\",\"\",Kalkulator!D111)","v":0},{"$f":"IF(Kalkulator!E111=\"\",\"\",Kalkulator!E111)","v":0},{"$f":"IF(Kalkulator!F111=\"\",\"\",Kalkulator!F111)","v":0},{"$f":"IF(Kalkulator!G111=\"\",\"\",Kalkulator!G111)","v":0},{"$f":"IF(Kalkulator!H111=\"\",\"\",Kalkulator!H111)","v":0},{"$f":"IF(Kalkulator!I111=\"\",\"\",Kalkulator!I111)","v":{"$error":"#N/A"}},{"$f":"IF(Kalkulator!J111=\"\",\"\",Kalkulator!J111)","v":""},{"$f":"IF(Kalkulator!K111=\"\",\"\",Kalkulator!K111)","v":45747},{"$f":"IF(Kalkulator!L111=\"\",\"\",Kalkulator!L111)","v":"L-PEAK5"},{"$f":"IF(Kalkulator!M111=\"\",\"\",Kalkulator!M111)","v":41},{"$f":"IF(Kalkulator!N111=\"\",\"\",Kalkulator!N111)","v":18},{"$f":"IF(Kalkulator!O111=\"\",\"\",Kalkulator!O111)","v":{"$error":"#N/A"}},{"$f":"IF(Kalkulator!P111=\"\",\"\",Kalkulator!P111)","v":0},{"$f":"IF(Kalkulator!Q111=\"\",\"\",Kalkulator!Q111)","v":{"$error":"#N/A"}},16,"L-PEAK516",0,0,0,0,{"$error":"#N/A"}]
[null,null,null,{"$f":"IF(Kalkulator!D112=\"\",\"\",Kalkulator!D112)","v":0},{"$f":"IF(Kalkulator!E112=\"\",\"\",Kalkulator!E112)","v":0},{"$f":"IF(Kalkulator!F112=\"\",\"\",Kalkulator!F112)","v":0},{"$f":"IF(Kalkulator!G112=\"\",\"\",Kalkulator!G112)","v":0},{"$f":"IF(Kalkulator!H112=\"\",\"\",Kalkulator!H112)","v":0},{"$f":"IF(Kalkulator!I112=\"\",\"\",Kalkulator!I112)","v":{"$error":"#N/A"}},{"$f":"IF(Kalkulator!J112=\"\",\"\",Kalkulator!J112)","v":""},{"$f":"IF(Kalkulator!K112=\"\",\"\",Kalkulator!K112)","v":45838},{"$f":"IF(Kalkulator!L112=\"\",\"\",Kalkulator!L112)","v":"L-PEAK5"},{"$f":"IF(Kalkulator!M112=\"\",\"\",Kalkulator!M112)","v":62},{"$f":"IF(Kalkulator!N112=\"\",\"\",Kalkulator!N112)","v":29},{"$f":"IF(Kalkulator!O112=\"\",\"\",Kalkulator!O112)","v":{"$error":"#N/A"}},{"$f":"IF(Kalkulator!P112=\"\",\"\",Kalkulator!P112)","v":0},{"$f":"IF(Kalkulator!Q112=\"\",\"\",Kalkulator!Q112)","v":{"$error":"#N/A"}},17,"L-PEAK517",0,0,0,0,{"$error":"#N/A"}]
[null,null,null,{"$f":"IF(Kalkulator!D113=\"\",\"\",Kalkulator!D113)","v":0},{"$f":"IF(Kalkulator!E113=\"\",\"\",Kalkulator!E113)","v":0},{"$f":"IF(Kalkulator!F113=\"\",\"\",Kalkulator!F113)","v":0},{"$f":"IF(Kalkulator!G113=\"\",\"\",Kalkulator!G113)","v":0},{"$f":"IF(Kalkulator!H113=\"\",\"\",Kalkulator!H113)","v":0},{"$f":"IF(Kalkulator!I113=\"\",\"\",Kalkulator!I113)","v":{"$error":"#N/A"}},{"$f":"IF(Kalkulator!J113=\"\",\"\",Kalkulator!J113)","v":""},{"$f":"IF(Kalkulator!K113=\"\",\"\",Kalkulator!K113)","v":45624},{"$f":"IF(Kalkulator!L113=\"\",\"\",Kalkulator!L113)","v":"H-PEAK5"},{"$f":"IF(Kalkulator!M113=\"\",\"\",Kalkulator!M113)","v":1},{"$f":"IF(Kalkulator!N113=\"\",\"\",Kalkulator!N113)","v":0},{"$f":"IF(Kalkulator!O113=\"\",\"\",Kalkulator!O113)","v":{"$error":"#N/A"}},{"$f":"IF(Kalkulator!P113=\"\",\"\",Kalkulator!P113)","v":0},{"$f":"IF(Kalkulator!Q113=\"\",\"\",Kalkulator!Q113)","v":{"$error":"#N/A"}},0,"H-PEAK50",0,0,0,0,{"$error":"#N/A"}]
[null,null,null,{"$f":"IF(Kalkulator!D114=\"\",\"\",Kalkulator!D114)","v":0},{"$f":"IF(Kalkulator!E114=\"\",\"\",Kalkulator!E114)","v":0},{"$f":"IF(Kalkulator!F114=\"\",\"\",Kalkulator!F114)","v":0},{"$f":"IF(Kalkulator!G114=\"\",\"\",Kalkulator!G114)","v":0},{"$f":"IF(Kalkulator!H114=\"\",\"\",Kalkulator!H114)","v":0},{"$f":"IF(Kalkulator!I114=\"\",\"\",Kalkulator!I114)","v":{"$error":"#N/A"}},{"$f":"IF(Kalkulator!J114=\"\",\"\",Kalkulator!J114)","v":""},{"$f":"IF(Kalkulator!K114=\"\",\"\",Kalkulator!K114)","v":45625},{"$f":"IF(Kalkulator!L114=\"\",\"\",Kalkulator!L114)","v":"H-PEAK5"},{"$f":"IF(Kalkulator!M114=\"\",\"\",Kalkulator!M114)","v":1},{"$f":"IF(Kalkulator!N114=\"\",\"\",Kalkulator!N114)","v":0},{"$f":"IF(Kalkulator!O114=\"\",\"\",Kalkulator!O114)","v":{"$error":"#N/A"}},{"$f":"IF(Kalkulator!P114=\"\",\"\",Kalkulator!P114)","v":0},{"$f":"IF(Kalkulator!Q114=\"\",\"\",Kalkulator!Q114)","v":{"$error":"#N/A"}},1,"H-PEAK51",0,0,0,0,{"$error":"#N/A"}]
[null,null,null,{"$f":"IF(Kalkulator!D115=\"\",\"\",Kalkulator!D115)","v":0},{"$f":"IF(Kalkulator!E115=\"\",\"\",Kalkulator!E115)","v":0},{"$f":"IF(Kalkulator!F115=\"\",\"\",Kalkulator!F115)","v":0},{"$f":"IF(Kalkulator!G115=\"\",\"\",Kalkulator!G115)","v":0},{"$f":"IF(Kalkulator!H115=\"\",\"\",Kalkulator!H115)","v":0},{"$f":"IF(Kalkulator!I115=\"\",\"\",Kalkulator!I115)","v":{"$error":"#N/A"}},{"$f":"IF(Kalkulator!J115=\"\",\"\",Kalkulator!J115)","v":""},{"$f":"IF(Kalkulator!K115=\"\",\"\",Kalkulator!K115)","v":45626},{"$f":"IF(Kalkulator!L115=\"\",\"\",Kalkulator!L115)","v":"H-PEAK5"},{"$f":"IF(Kalkulator!M115=\"\",\"\",Kalkulator!M115)","v":0},{"$f":"IF(Kalkulator!N115=\"\",\"\",Kalkulator!N115)","v":1},{"$f":"IF(Kalkulator!O115=\"\",\"\",Kalkulator!O115)","v":{"$error":"#N/A"}},{"$f":"IF(Kalkulator!P115=\"\",\"\",Kalkulator!P115)","v":0},{"$f":"IF(Kalkulator!Q115=\"\",\"\",Kalkulator!Q115)","v":{"$error":"#N/A"}},2,"H-PEAK52",0,0,0,0,{"$error":"#N/A"}]
[null,null,null,{"$f":"IF(Kalkulator!D116=\"\",\"\",Kalkulator!D116)","v":0},{"$f":"IF(Kalkulator!E116=\"\",\"\",Kalkulator!E116)","v":0},{"$f":"IF(Kalkulator!F116=\"\",\"\",Kalkulator!F116)","v":0},{"$f":"IF(Kalkulator!G116=\"\",\"\",Kalkulator!G116)","v":0},{"$f":"IF(Kalkulator!H116=\"\",\"\",Kalkulator!H116)","v":0},{"$f":"IF(Kalkulator!I116=\"\",\"\",Kalkulator!I116)","v":{"$error":"#N/A"}},{"$f":"IF(Kalkulator!J116=\"\",\"\",Kalkulator!J116)","v":""},{"$f":"IF(Kalkulator!K116=\"\",\"\",Kalkulator!K116)","v":45627},{"$f":"IF(Kalkulator!L116=\"\",\"\",Kalkulator!L116)","v":"H-PEAK5"},{"$f":"IF(Kalkulator!M116=\"\",\"\",Kalkulator!M116)","v":0},{"$f":"IF(Kalkulator!N116=\"\",\"\",Kalkulator!N116)","v":1},{"$f":"IF(Kalkulator!O116=\"\",\"\",Kalkulator!O116)","v":{"$error":"#N/A"}},{"$f":"IF(Kalkulator!P116=\"\",\"\",Kalkulator!P116)","v":0},{"$f":"IF(Kalkulator!Q116=\"\",\"\",Kalkulator!Q116)","v":{"$error":"#N/A"}},3,"H-PEAK53",0,0,0,0,{"$error":"#N/A"}]
[null,null,null,{"$f":"IF(Kalkulator!D117=\"\",\"\",Kalkulator!D117)","v":0},{"$f":"IF(Kalkulator!E117=\"\",\"\",Kalkulator!E117)","v":0},{"$f":"IF(Kalkulator!F117=\"\",\"\",Kalkulator!F117)","v":0},{"$f":"IF(Kalkulator!G117=\"\",\"\",Kalkulator!G117)","v":0},{"$f":"IF(Kalkulator!H117=\"\",\"\",Kalkulator!H117)","v":0},{"$f":"IF(Kalkulator!I117=\"\",\"\",Kalkulator!I117)","v":{"$error":"#N/A"}},{"$f":"IF(Kalkulator!J117=\"\",\"\",Kalkulator!J117)","v":""},{"$f":"IF(Kalkulator!K117=\"\",\"\",Kalkulator!K117)","v":45628},{"$f":"IF(Kalkulator!L117=\"\",\"\",Kalkulator!L117)","v":"H-PEAK5"},{"$f":"IF(Kalkulator!M117=\"\",\"\",Kalkulator!M117)","v":1},{"$f":"IF(Kalkulator!N117=\"\",\"\",Kalkulator!N117)","v":0},{"$f":"IF(Kalkulator!O117=\"\",\"\",Kalkulator!O117)","v":{"$error":"#N/A"}},{"$f":"IF(Kalkulator!P117=\"\",\"\",Kalkulator!P117)","v":0},{"$f":"IF(Kalkulator!Q117=\"\",\"\",Kalkulator!Q117)","v":{"$error":"#N/A"}},4,"H-PEAK54",0,0,0,0,{"$error":"#N/A"}]
[null,null,null,{"$f":"IF(Kalkulator!D118=\"\",\"\",Kalkulator!D118)","v":0},{"$f":"IF(Kalkulator!E118=\"\",\"\",Kalkulator!E118)","v":0},{"$f":"IF(Kalkulator!F118=\"\",\"\",Kalkulator!F118)","v":0},{"$f":"IF(Kalkulator!G118=\"\",\"\",Kalkulator!G118)","v":0},{"$f":"IF(Kalkulator!H118=\"\",\"\",Kalkulator!H118)","v":0},{"$f":"IF(Kalkulator!I118=\"\",\"\",Kalkulator!I118)","v":{"$error":"#N/A"}},{"$f":"IF(Kalkulator!J118=\"\",\"\",Kalkulator!J118)","v":""},{"$f":"IF(Kalkulator!K118=\"\",\"\",Kalkulator!K118)","v":45629},{"$f":"IF(Kalkulator!L118=\"\",\"\",Kalkulator!L118)","v":"H-PEAK5"},{"$f":"IF(Kalkulator!M118=\"\",\"\",Kalkulator!M118)","v":1},{"$f":"IF(Kalkulator!N118=\"\",\"\",Kalkulator!N118)","v":0},{"$f":"IF(Kalkulator!O118=\"\",\"\",Kalkulator!O118)","v":{"$error":"#N/A"}},{"$f":"IF(Kalkulator!P118=\"\",\"\",Kalkulator!P118)","v":0},{"$f":"IF(Kalkulator!Q118=\"\",\"\",Kalkulator!Q118)","v":{"$error":"#N/A"}},5,"H-PEAK55",0,0,0,0,{"$error":"#N/A"}]
[null,null,null,{"$f":"IF(Kalkulator!D119=\"\",\"\",Kalkulator!D119)","v":0},{"$f":"IF(Kalkulator!E119=\"\",\"\",Kalkulator!E119)","v":0},{"$f":"IF(Kalkulator!F119=\"\",\"\",Kalkulator!F119)","v":0},{"$f":"IF(Kalkulator!G119=\"\",\"\",Kalkulator!G119)","v":0},{"$f":"IF(Kalkulator!H119=\"\",\"\",Kalkulator!H119)","v":0},{"$f":"IF(Kalkulator!I119=\"\",\"\",Kalkulator!I119)","v":{"$error":"#N/A"}},{"$f":"IF(Kalkulator!J119=\"\",\"\",Kalkulator!J119)","v":""},{"$f":"IF(Kalkulator!K119=\"\",\"\",Kalkulator!K119)","v":45630},{"$f":"IF(Kalkulator!L119=\"\",\"\",Kalkulator!L119)","v":"H-PEAK5"},{"$f":"IF(Kalkulator!M119=\"\",\"\",Kalkulator!M119)","v":1},{"$f":"IF(Kalkulator!N119=\"\",\"\",Kalkulator!N119)","v":0},{"$f":"IF(Kalkulator!O119=\"\",\"\",Kalkulator!O119)","v":{"$error":"#N/A"}},{"$f":"IF(Kalkulator!P119=\"\",\"\",Kalkulator!P119)","v":0},{"$f":"IF(Kalkulator!Q119=\"\",\"\",Kalkulator!Q119)","v":{"$error":"#N/A"}},6,"H-PEAK56",0,0,0,0,{"$error":"#N/A"}]
[null,null,null,{"$f":"IF(Kalkulator!D120=\"\",\"\",Kalkulator!D120)","v":0},{"$f":"IF(Kalkulator!E120=\"\",\"\",Kalkulator!E120)","v":0},{"$f":"IF(Kalkulator!F120=\"\",\"\",Kalkulator!F120)","v":0},{"$f":"IF(Kalkulator!G120=\"\",\"\",Kalkulator!G120)","v":0},{"$f":"IF(Kalkulator!H120=\"\",\"\",Kalkulator!H120)","v":0},{"$f":"IF(Kalkulator!I120=\"\",\"\",Kalkulator!I120)","v":{"$error":"#N/A"}},{"$f":"IF(Kalkulator!J120=\"\",\"\",Kalkulator!J120)","v":""},{"$f":"IF(Kalkulator!K120=\"\",\"\",Kalkulator!K120)","v":45631},{"$f":"IF(Kalkulator!L120=\"\",\"\",Kalkulator!L120)","v":"H-PEAK5"},{"$f":"IF(Kalkulator!M120=\"\",\"\",Kalkulator!M120)","v":1},{"$f":"IF(Kalkulator!N120=\"\",\"\",Kalkulator!N120)","v":0},{"$f":"IF(Kalkulator!O120=\"\",\"\",Kalkulator!O120)","v":{"$error":"#N/A"}},{"$f":"IF(Kalkulator!P120=\"\",\"\",Kalkulator!P120)","v":0},{"$f":"IF(Kalkulator!Q120=\"\",\"\",Kalkulator!Q120)","v":{"$error":"#N/A"}},7,"H-PEAK57",0,0,0,0,{"$error":"#N/A"}]
[null,null,null,{"$f":"IF(Kalkulator!D121=\"\",\"\",Kalkulator!D121)","v":0},{"$f":"IF(Kalkulator!E121=\"\",\"\",Kalkulator!E121)","v":0},{"$f":"IF(Kalkulator!F121=\"\",\"\",Kalkulator!F121)","v":0},{"$f":"IF(Kalkulator!G121=\"\",\"\",Kalkulator!G121)","v":0},{"$f":"IF(Kalkulator!H121=\"\",\"\",Kalkulator!H121)","v":0},{"$f":"IF(Kalkulator!I121=\"\",\"\",Kalkulator!I121)","v":{"$error":"#N/A"}},{"$f":"IF(Kalkulator!J121=\"\",\"\",Kalkulator!J121)","v":""},{"$f":"IF(Kalkulator!K121=\"\",\"\",Kalkulator!K121)","v":45632},{"$f":"IF(Kalkulator!L121=\"\",\"\",Kalkulator!L121)","v":"H-PEAK5"},{"$f":"IF(Kalkulator!M121=\"\",\"\",Kalkulator!M121)","v":1},{"$f":"IF(Kalkulator!N121=\"\",\"\",Kalkulator!N121)","v":0},{"$f":"IF(Kalkulator!O121=\"\",\"\",Kalkulator!O121)","v":{"$error":"#N/A"}},{"$f":"IF(Kalkulator!P121=\"\",\"\",Kalkulator!P121)","v":0},{"$f":"IF(Kalkulator!Q121=\"\",\"\",Kalkulator!Q121)","v":{"$error":"#N/A"}},8,"H-PEAK58",0,0,0,0,{"$error":"#N/A"}]
[null,null,null,{"$f":"IF(Kalkulator!D122=\"\",\"\",Kalkulator!D122)","v":0},{"$f":"IF(Kalkulator!E122=\"\",\"\",Kalkulator!E122)","v":0},{"$f":"IF(Kalkulator!F122=\"\",\"\",Kalkulator!F122)","v":0},{"$f":"IF(Kalkulator!G122=\"\",\"\",Kalkulator!G122)","v":0},{"$f":"IF(Kalkulator!H122=\"\",\"\",Kalkulator!H122)","v":0},{"$f":"IF(Kalkulator!I122=\"\",\"\",Kalkulator!I122)","v":{"$error":"#N/A"}},{"$f":"IF(Kalkulator!J122=\"\",\"\",Kalkulator!J122)","v":""},{"$f":"IF(Kalkulator!K122=\"\",\"\",Kalkulator!K122)","v":45633},{"$f":"IF(Kalkulator!L122=\"\",\"\",Kalkulator!L122)","v":"H-PEAK5"},{"$f":"IF(Kalkulator!M122=\"\",\"\",Kalkulator!M122)","v":0},{"$f":"IF(Kalkulator!N122=\"\",\"\",Kalkulator!N122)","v":1},{"$f":"IF(Kalkulator!O122=\"\",\"\",Kalkulator!O122)","v":{"$error":"#N/A"}},{"$f":"IF(Kalkulator!P122=\"\",\"\",Kalkulator!P122)","v":0},{"$f":"IF(Kalkulator!Q122=\"\",\"\",Kalkulator!Q122)","v":{"$error":"#N/A"}},9,"H-PEAK59",0,0,0,0,{"$error":"#N/A"}]
[null,null,null,{"$f":"IF(Kalkulator!D123=\"\",\"\",Kalkulator!D123)","v":0},{"$f":"IF(Kalkulator!E123=\"\",\"\",Kalkulator!E123)","v":0},{"$f":"IF(Kalkulator!F123=\"\",\"\",Kalkulator!F123)","v":0},{"$f":"IF(Kalkulator!G123=\"\",\"\",Kalkulator!G123)","v":0},{"$f":"IF(Kalkulator!H123=\"\",\"\",Kalkulator!H123)","v":0},{"$f":"IF(Kalkulator!I123=\"\",\"\",Kalkulator!I123)","v":{"$error":"#N/A"}},{"$f":"IF(Kalkulator!J123=\"\",\"\",Kalkulator!J123)","v":""},{"$f":"IF(Kalkulator!K123=\"\",\"\",Kalkulator!K123)","v":45634},{"$f":"IF(Kalkulator!L123=\"\",\"\",Kalkulator!L123)","v":"H-PEAK5"},{"$f":"IF(Kalkulator!M123=\"\",\"\",Kalkulator!M123)","v":0},{"$f":"IF(Kalkulator!N123=\"\",\"\",Kalkulator!N123)","v":1},{"$f":"IF(Kalkulator!O123=\"\",\"\",Kalkulator!O123)","v":{"$error":"#N/A"}},{"$f":"IF(Kalkulator!P123=\"\",\"\",Kalkulator!P123)","v":0},{"$f":"IF(Kalkulator!Q123=\"\",\"\",Kalkulator!Q123)","v":{"$error":"#N/A"}},10,"H-PEAK510",0,0,0,0,{"$error":"#N/A"}]
[null,null,null,{"$f":"IF(Kalkulator!D124=\"\",\"\",Kalkulator!D124)","v":0},{"$f":"IF(Kalkulator!E124=\"\",\"\",Kalkulator!E124)","v":0},{"$f":"IF(Kalkulator!F124=\"\",\"\",Kalkulator!F124)","v":0},{"$f":"IF(Kalkulator!G124=\"\",\"\",Kalkulator!G124)","v":0},{"$f":"IF(Kalkulator!H124=\"\",\"\",Kalkulator!H124)","v":0},{"$f":"IF(Kalkulator!I124=\"\",\"\",Kalkulator!I124)","v":{"$error":"#N/A"}},{"$f":"IF(Kalkulator!J124=\"\",\"\",Kalkulator!J124)","v":""},{"$f":"IF(Kalkulator!K124=\"\",\"\",Kalkulator!K124)","v":45641},{"$f":"IF(Kalkulator!L124=\"\",\"\",Kalkulator!L124)","v":"H-PEAK5"},{"$f":"IF(Kalkulator!M124=\"\",\"\",Kalkulator!M124)","v":5},{"$f":"IF(Kalkulator!N124=\"\",\"\",Kalkulator!N124)","v":2},{"$f":"IF(Kalkulator!O124=\"\",\"\",Kalkulator!O124)","v":{"$error":"#N/A"}},{"$f":"IF(Kalkulator!P124=\"\",\"\",Kalkulator!P124)","v":0},{"$f":"IF(Kalkulator!Q124=\"\",\"\",Kalkulator!Q124)","v":{"$error":"#N/A"}},11,"H-PEAK511",0,0,0,0,{"$error":"#N/A"}]
[null,null,null,{"$f":"IF(Kalkulator!D125=\"\",\"\",Kalkulator!D125)","v":0},{"$f":"IF(Kalkulator!E125=\"\",\"\",Kalkulator!E125)","v":0},{"$f":"IF(Kalkulator!F125=\"\",\"\",Kalkulator!F125)","v":0},{"$f":"IF(Kalkulator!G125=\"\",\"\",Kalkulator!G125)","v":0},{"$f":"IF(Kalkulator!H125=\"\",\"\",Kalkulator!H125)","v":0},{"$f":"IF(Kalkulator!I125=\"\",\"\",Kalkulator!I125)","v":{"$error":"#N/A"}},{"$f":"IF(Kalkulator!J125=\"\",\"\",Kalkulator!J125)","v":""},{"$f":"IF(Kalkulator!K125=\"\",\"\",Kalkulator!K125)","v":45648},{"$f":"IF(Kalkulator!L125=\"\",\"\",Kalkulator!L125)","v":"H-PEAK5"},{"$f":"IF(Kalkulator!M125=\"\",\"\",Kalkulator!M125)","v":5},{"$f":"IF(Kalkulator!N125=\"\",\"\",Kalkulator!N125)","v":2},{"$f":"IF(Kalkulator!O125=\"\",\"\",Kalkulator!O125)","v":{"$error":"#N/A"}},{"$f":"IF(Kalkulator!P125=\"\",\"\",Kalkulator!P125)","v":0},{"$f":"IF(Kalkulator!Q125=\"\",\"\",Kalkulator!Q125)","v":{"$error":"#N/A"}},12,"H-PEAK512",0,0,0,0,{"$error":"#N/A"}]
[null,null,null,{"$f":"IF(Kalkulator!D126=\"\",\"\",Kalkulator!D126)","v":0},{"$f":"IF(Kalkulator!E126=\"\",\"\",Kalkulator!E126)","v":0},{"$f":"IF(Kalkulator!F126=\"\",\"\",Kalkulator!F126)","v":0},{"$f":"IF(Kalkulator!G126=\"\",\"\",Kalkulator!G126)","v":0},{"$f":"IF(Kalkulator!H126=\"\",\"\",Kalkulator!H126)","v":0},{"$f":"IF(Kalkulator!I126=\"\",\"\",Kalkulator!I126)","v":{"$error":"#N/A"}},{"$f":"IF(Kalkulator!J126=\"\",\"\",Kalkulator!J126)","v":""},{"$f":"IF(Kalkulator!K126=\"\",\"\",Kalkulator!K126)","v":45655},{"$f":"IF(Kalkulator!L126=\"\",\"\",Kalkulator!L126)","v":"H-PEAK5"},{"$f":"IF(Kalkulator!M126=\"\",\"\",Kalkulator!M126)","v":3},{"$f":"IF(Kalkulator!N126=\"\",\"\",Kalkulator!N126)","v":4},{"$f":"IF(Kalkulator!O126=\"\",\"\",Kalkulator!O126)","v":{"$error":"#N/A"}},{"$f":"IF(Kalkulator!P126=\"\",\"\",Kalkulator!P126)","v":0},{"$f":"IF(Kalkulator!Q126=\"\",\"\",Kalkulator!Q126)","v":{"$error":"#N/A"}},13,"H-PEAK513",0,0,0,0,{"$error":"#N/A"}]
[null,null,null,{"$f":"IF(Kalkulator!D127=\"\",\"\",Kalkulator!D127)","v":0},{"$f":"IF(Kalkulator!E127=\"\",\"\",Kalkulator!E127)","v":0},{"$f":"IF(Kalkulator!F127=\"\",\"\",Kalkulator!F127)","v":0},{"$f":"IF(Kalkulator!G127=\"\",\"\",Kalkulator!G127)","v":0},{"$f":"IF(Kalkulator!H127=\"\",\"\",Kalkulator!H127)","v":0},{"$f":"IF(Kalkulator!I127=\"\",\"\",Kalkulator!I127)","v":{"$error":"#N/A"}},{"$f":"IF(Kalkulator!J127=\"\",\"\",Kalkulator!J127)","v":""},{"$f":"IF(Kalkulator!K127=\"\",\"\",Kalkulator!K127)","v":45657},{"$f":"IF(Kalkulator!L127=\"\",\"\",Kalkulator!L127)","v":"H-PEAK5"},{"$f":"IF(Kalkulator!M127=\"\",\"\",Kalkulator!M127)","v":2},{"$f":"IF(Kalkulator!N127=\"\",\"\",Kalkulator!N127)","v":0},{"$f":"IF(Kalkulator!O127=\"\",\"\",Kalkulator!O127)","v":{"$error":"#N/A"}},{"$f":"IF(Kalkulator!P127=\"\",\"\",Kalkulator!P127)","v":0},{"$f":"IF(Kalkulator!Q127=\"\",\"\",Kalkulator!Q127)","v":{"$error":"#N/A"}},14,"H-PEAK514",0,0,0,0,{"$error":"#N/A"}]
[null,null,null,{"$f":"IF(Kalkulator!D128=\"\",\"\",Kalkulator!D128)","v":0},{"$f":"IF(Kalkulator!E128=\"\",\"\",Kalkulator!E128)","v":0},{"$f":"IF(Kalkulator!F128=\"\",\"\",Kalkulator!F128)","v":0},{"$f":"IF(Kalkulator!G128=\"\",\"\",Kalkulator!G128)","v":0},{"$f":"IF(Kalkulator!H128=\"\",\"\",Kalkulator!H128)","v":0},{"$f":"IF(Kalkulator!I128=\"\",\"\",Kalkulator!I128)","v":{"$error":"#N/A"}},{"$f":"IF(Kalkulator!J128=\"\",\"\",Kalkulator!J128)","v":""},{"$f":"IF(Kalkulator!K128=\"\",\"\",Kalkulator!K128)","v":45688},{"$f":"IF(Kalkulator!L128=\"\",\"\",Kalkulator!L128)","v":"H-PEAK5"},{"$f":"IF(Kalkulator!M128=\"\",\"\",Kalkulator!M128)","v":21},{"$f":"IF(Kalkulator!N128=\"\",\"\",Kalkulator!N128)","v":10},{"$f":"IF(Kalkulator!O128=\"\",\"\",Kalkulator!O128)","v":{"$error":"#N/A"}},{"$f":"IF(Kalkulator!P128=\"\",\"\",Kalkulator!P128)","v":0},{"$f":"IF(Kalkulator!Q128=\"\",\"\",Kalkulator!Q128)","v":{"$error":"#N/A"}},15,"H-PEAK515",0,0,0,0,{"$error":"#N/A"}]
[null,null,null,{"$f":"IF(Kalkulator!D129=\"\",\"\",Kalkulator!D129)","v":0},{"$f":"IF(Kalkulator!E129=\"\",\"\",Kalkulator!E129)","v":0},{"$f":"IF(Kalkulator!F129=\"\",\"\",Kalkulator!F129)","v":0},{"$f":"IF(Kalkulator!G129=\"\",\"\",Kalkulator!G129)","v":0},{"$f":"IF(Kalkulator!H129=\"\",\"\",Kalkulator!H129)","v":0},{"$f":"IF(Kalkulator!I129=\"\",\"\",Kalkulator!I129)","v":{"$error":"#N/A"}},{"$f":"IF(Kalkulator!J129=\"\",\"\",Kalkulator!J129)","v":""},{"$f":"IF(Kalkulator!K129=\"\",\"\",Kalkulator!K129)","v":45747},{"$f":"IF(Kalkulator!L129=\"\",\"\",Kalkulator!L129)","v":"H-PEAK5"},{"$f":"IF(Kalkulator!M129=\"\",\"\",Kalkulator!M129)","v":41},{"$f":"IF(Kalkulator!N129=\"\",\"\",Kalkulator!N129)","v":18},{"$f":"IF(Kalkulator!O129=\"\",\"\",Kalkulator!O129)","v":{"$error":"#N/A"}},{"$f":"IF(Kalkulator!P129=\"\",\"\",Kalkulator!P129)","v":0},{"$f":"IF(Kalkulator!Q129=\"\",\"\",Kalkulator!Q129)","v":{"$error":"#N/A"}},16,"H-PEAK516",0,0,0,0,{"$error":"#N/A"}]
[null,null,null,{"$f":"IF(Kalkulator!D130=\"\",\"\",Kalkulator!D130)","v":0},{"$f":"IF(Kalkulator!E130=\"\",\"\",Kalkulator!E130)","v":0},{"$f":"IF(Kalkulator!F130=\"\",\"\",Kalkulator!F130)","v":0},{"$f":"IF(Kalkulator!G130=\"\",\"\",Kalkulator!G130)","v":0},{"$f":"IF(Kalkulator!H130=\"\",\"\",Kalkulator!H130)","v":0},{"$f":"IF(Kalkulator!I130=\"\",\"\",Kalkulator!I130)","v":{"$error":"#N/A"}},{"$f":"IF(Kalkulator!J130=\"\",\"\",Kalkulator!J130)","v":""},{"$f":"IF(Kalkulator!K130=\"\",\"\",Kalkulator!K130)","v":45838},{"$f":"IF(Kalkulator!L130=\"\",\"\",Kalkulator!L130)","v":"H-PEAK5"},{"$f":"IF(Kalkulator!M130=\"\",\"\",Kalkulator!M130)","v":62},{"$f":"IF(Kalkulator!N130=\"\",\"\",Kalkulator!N130)","v":29},{"$f":"IF(Kalkulator!O130=\"\",\"\",Kalkulator!O130)","v":{"$error":"#N/A"}},{"$f":"IF(Kalkulator!P130=\"\",\"\",Kalkulator!P130)","v":0},{"$f":"IF(Kalkulator!Q130=\"\",\"\",Kalkulator!Q130)","v":{"$error":"#N/A"}},17,"H-PEAK517",0,0,0,0,{"$error":"#N/A"}]
[null,null,null,{"$f":"IF(Kalkulator!D131=\"\",\"\",Kalkulator!D131)","v":0},{"$f":"IF(Kalkulator!E131=\"\",\"\",Kalkulator!E131)","v":0},{"$f":"IF(Kalkulator!F131=\"\",\"\",Kalkulator!F131)","v":0},{"$f":"IF(Kalkulator!G131=\"\",\"\",Kalkulator!G131)","v":0},{"$f":"IF(Kalkulator!H131=\"\",\"\",Kalkulator!H131)","v":0},{"$f":"IF(Kalkulator!I131=\"\",\"\",Kalkulator!I131)","v":0},{"$f":"IF(Kalkulator!J131=\"\",\"\",Kalkulator!J131)","v":""},{"$f":"IF(Kalkulator!K131=\"\",\"\",Kalkulator!K131)","v":0},{"$f":"IF(Kalkulator!L131=\"\",\"\",Kalkulator!L131)","v":""},{"$f":"IF(Kalkulator!M131=\"\",\"\",Kalkulator!M131)","v":0},{"$f":"IF(Kalkulator!N131=\"\",\"\",Kalkulator!N131)","v":1},{"$f":"IF(Kalkulator!O131=\"\",\"\",Kalkulator!O131)","v":{"$error":"#N/A"}},{"$f":"IF(Kalkulator!P131=\"\",\"\",Kalkulator!P131)","v":{"$error":"#N/A"}},{"$f":"IF(Kalkulator!Q131=\"\",\"\",Kalkulator!Q131)","v":{"$error":"#N/A"}},"","",0,0,0,0,0]
[null,null,null,{"$f":"IF(Kalkulator!D132=\"\",\"\",Kalkulator!D132)","v":0},{"$f":"IF(Kalkulator!E132=\"\",\"\",Kalkulator!E132)","v":0},{"$f":"IF(Kalkulator!F132=\"\",\"\",Kalkulator!F132)","v":0},{"$f":"IF(Kalkulator!G132=\"\",\"\",Kalkulator!G132)","v":0},{"$f":"IF(Kalkulator!H132=\"\",\"\",Kalkulator!H132)","v":0},{"$f":"IF(Kalkulator!I132=\"\",\"\",Kalkulator!I132)","v":0},{"$f":"IF(Kalkulator!J132=\"\",\"\",Kalkulator!J132)","v":""},{"$f":"IF(Kalkulator!K132=\"\",\"\",Kalkulator!K132)","v":0},{"$f":"IF(Kalkulator!L132=\"\",\"\",Kalkulator!L132)","v":""},{"$f":"IF(Kalkulator!M132=\"\",\"\",Kalkulator!M132)","v":0},{"$f":"IF(Kalkulator!N132=\"\",\"\",Kalkulator!N132)","v":1},{"$f":"IF(Kalkulator!O132=\"\",\"\",Kalkulator!O132)","v":{"$error":"#N/A"}},{"$f":"IF(Kalkulator!P132=\"\",\"\",Kalkulator!P132)","v":{"$error":"#N/A"}},{"$f":"IF(Kalkulator!Q132=\"\",\"\",Kalkulator!Q132)","v":{"$error":"#N/A"}},"","",0,0,0,0,0]
[null,null,null,{"$f":"IF(Kalkulator!D133=\"\",\"\",Kalkulator!D133)","v":0},{"$f":"IF(Kalkulator!E133=\"\",\"\",Kalkulator!E133)","v":0},{"$f":"IF(Kalkulator!F133=\"\",\"\",Kalkulator!F133)","v":0},{"$f":"IF(Kalkulator!G133=\"\",\"\",Kalkulator!G133)","v":0},{"$f":"IF(Kalkulator!H133=\"\",\"\",Kalkulator!H133)","v":0},{"$f":"IF(Kalkulator!I133=\"\",\"\",Kalkulator!I133)","v":0},{"$f":"IF(Kalkulator!J133=\"\",\"\",Kalkulator!J133)","v":""},{"$f":"IF(Kalkulator!K133=\"\",\"\",Kalkulator!K133)","v":0},{"$f":"IF(Kalkulator!L133=\"\",\"\",Kalkulator!L133)","v":""},{"$f":"IF(Kalkulator!M133=\"\",\"\",Kalkulator!M133)","v":0},{"$f":"IF(Kalkulator!N133=\"\",\"\",Kalkulator!N133)","v":1},{"$f":"IF(Kalkulator!O133=\"\",\"\",Kalkulator!O133)","v":{"$error":"#N/A"}},{"$f":"IF(Kalkulator!P133=\"\",\"\",Kalkulator!P133)","v":{"$error":"#N/A"}},{"$f":"IF(Kalkulator!Q133=\"\",\"\",Kalkulator!Q133)","v":{"$error":"#N/A"}},"","",0,0,0,0,0]
[null,null,null,{"$f":"IF(Kalkulator!D134=\"\",\"\",Kalkulator!D134)","v":0},{"$f":"IF(Kalkulator!E134=\"\",\"\",Kalkulator!E134)","v":0},{"$f":"IF(Kalkulator!F134=\"\",\"\",Kalkulator!F134)","v":0},{"$f":"IF(Kalkulator!G134=\"\",\"\",Kalkulator!G134)","v":0},{"$f":"IF(Kalkulator!H134=\"\",\"\",Kalkulator!H134)","v":0},{"$f":"IF(Kalkulator!I134=\"\",\"\",Kalkulator!I134)","v":0},{"$f":"IF(Kalkulator!J134=\"\",\"\",Kalkulator!J134)","v":""},{"$f":"IF(Kalkulator!K134=\"\",\"\",Kalkulator!K134)","v":0},{"$f":"IF(Kalkulator!L134=\"\",\"\",Kalkulator!L134)","v":""},{"$f":"IF(Kalkulator!M134=\"\",\"\",Kalkulator!M134)","v":0},{"$f":"IF(Kalkulator!N134=\"\",\"\",Kalkulator!N134)","v":1},{"$f":"IF(Kalkulator!O134=\"\",\"\",Kalkulator!O134)","v":{"$error":"#N/A"}},{"$f":"IF(Kalkulator!P134=\"\",\"\",Kalkulator!P134)","v":{"$error":"#N/A"}},{"$f":"IF(Kalkulator!Q134=\"\",\"\",Kalkulator!Q134)","v":{"$error":"#N/A"}},"","",0,0,0,0,0]
[null,null,null,{"$f":"IF(Kalkulator!D135=\"\",\"\",Kalkulator!D135)","v":0},{"$f":"IF(Kalkulator!E135=\"\",\"\",Kalkulator!E135)","v":0},{"$f":"IF(Kalkulator!F135=\"\",\"\",Kalkulator!F135)","v":0},{"$f":"IF(Kalkulator!G135=\"\",\"\",Kalkulator!G135)","v":0},{"$f":"IF(Kalkulator!H135=\"\",\"\",Kalkulator!H135)","v":0},{"$f":"IF(Kalkulator!I135=\"\",\"\",Kalkulator!I135)","v":0},{"$f":"IF(Kalkulator!J135=\"\",\"\",Kalkulator!J135)","v":""},{"$f":"IF(Kalkulator!K135=\"\",\"\",Kalkulator!K135)","v":0},{"$f":"IF(Kalkulator!L135=\"\",\"\",Kalkulator!L135)","v":""},{"$f":"IF(Kalkulator!M135=\"\",\"\",Kalkulator!M135)","v":0},{"$f":"IF(Kalkulator!N135=\"\",\"\",Kalkulator!N135)","v":1},{"$f":"IF(Kalkulator!O135=\"\",\"\",Kalkulator!O135)","v":{"$error":"#N/A"}},{"$f":"IF(Kalkulator!P135=\"\",\"\",Kalkulator!P135)","v":{"$error":"#N/A"}},{"$f":"IF(Kalkulator!Q135=\"\",\"\",Kalkulator!Q135)","v":{"$error":"#N/A"}},"","",0,0,0,0,0]
[null,null,null,{"$f":"IF(Kalkulator!D136=\"\",\"\",Kalkulator!D136)","v":0},{"$f":"IF(Kalkulator!E136=\"\",\"\",Kalkulator!E136)","v":0},{"$f":"IF(Kalkulator!F136=\"\",\"\",Kalkulator!F136)","v":0},{"$f":"IF(Kalkulator!G136=\"\",\"\",Kalkulator!G136)","v":0},{"$f":"IF(Kalkulator!H136=\"\",\"\",Kalkulator!H136)","v":0},{"$f":"IF(Kalkulator!I136=\"\",\"\",Kalkulator!I136)","v":0},{"$f":"IF(Kalkulator!J136=\"\",\"\",Kalkulator!J136)","v":""},{"$f":"IF(Kalkulator!K136=\"\",\"\",Kalkulator!K136)","v":0},{"$f":"IF(Kalkulator!L136=\"\",\"\",Kalkulator!L136)","v":""},{"$f":"IF(Kalkulator!M136=\"\",\"\",Kalkulator!M136)","v":0},{"$f":"IF(Kalkulator!N136=\"\",\"\",Kalkulator!N136)","v":1},{"$f":"IF(Kalkulator!O136=\"\",\"\",Kalkulator!O136)","v":{"$error":"#N/A"}},{"$f":"IF(Kalkulator!P136=\"\",\"\",Kalkulator!P136)","v":{"$error":"#N/A"}},{"$f":"IF(Kalkulator!Q136=\"\",\"\",Kalkulator!Q136)","v":{"$error":"#N/A"}},"","",0,0,0,0,0]
[null,null,null,{"$f":"IF(Kalkulator!D137=\"\",\"\",Kalkulator!D137)","v":0},{"$f":"IF(Kalkulator!E137=\"\",\"\",Kalkulator!E137)","v":0},{"$f":"IF(Kalkulator!F137=\"\",\"\",Kalkulator!F137)","v":0},{"$f":"IF(Kalkulator!G137=\"\",\"\",Kalkulator!G137)","v":0},{"$f":"IF(Kalkulator!H137=\"\",\"\",Kalkulator!H137)","v":0},{"$f":"IF(Kalkulator!I137=\"\",\"\",Kalkulator!I137)","v":0},{"$f":"IF(Kalkulator!J137=\"\",\"\",Kalkulator!J137)","v":""},{"$f":"IF(Kalkulator!K137=\"\",\"\",Kalkulator!K137)","v":0},{"$f":"IF(Kalkulator!L137=\"\",\"\",Kalkulator!L137)","v":""},{"$f":"IF(Kalkulator!M137=\"\",\"\",Kalkulator!M137)","v":0},{"$f":"IF(Kalkulator!N137=\"\",\"\",Kalkulator!N137)","v":1},{"$f":"IF(Kalkulator!O137=\"\",\"\",Kalkulator!O137)","v":{"$error":"#N/A"}},{"$f":"IF(Kalkulator!P137=\"\",\"\",Kalkulator!P137)","v":{"$error":"#N/A"}},{"$f":"IF(Kalkulator!Q137=\"\",\"\",Kalkulator!Q137)","v":{"$error":"#N/A"}},"",{"$f":"L137&R137","v":""},{"$f":"D137-F137","v":0},{"$f":"IF(L137=\"BASE\",T137,VLOOKUP(R137,R:T,3,0)+T137)","v":0},{"$f":"_xlfn.IFNA(IF(OR(L137=\"PEAK5\",L137=\"OFFPEAK\"),U137,IF(AND(VLOOKUP(\"PEAK5\"&R137,S:U,3,0)>0,VLOOKUP(\"OFFPEAK\"&R137,S:U,3,0)>0),MIN(VLOOKUP(\"PEAK5\"&R137,S:U,3,0),VLOOKUP(\"OFFPEAK\"&R137,S:U,3,0)),IF(AND(VLOOKUP(\"PEAK5\"&R137,S:U,3,0)<0,VLOOKUP(\"OFFPEAK\"&R137,S:U,3,0)<0),MAX(VLOOKUP(\"PEAK5\"&R137,S:U,3,0),VLOOKUP(\"OFFPEAK\"&R137,S:U,3,0)),0))),0)","v":0},{"$f":"_xlfn.IFNA(V137-VLOOKUP(\"BASE\"&R137,S:V,4,0),0)","v":0},{"$f":"IF(L137=\"BASE\",(ABS(T137)-ABS(V137))*I137*C137*H137*$J$2,(ABS(T137)-ABS(W137))*I137*C137*H137*$J$2)","v":0}]
[null,null,null,{"$f":"IF(Kalkulator!D138=\"\",\"\",Kalkulator!D138)","v":0},{"$f":"IF(Kalkulator!E138=\"\",\"\",Kalkulator!E138)","v":0},{"$f":"IF(Kalkulator!F138=\"\",\"\",Kalkulator!F138)","v":0},{"$f":"IF(Kalkulator!G138=\"\",\"\",Kalkulator!G138)","v":0},{"$f":"IF(Kalkulator!H138=\"\",\"\",Kalkulator!H138)","v":0},{"$f":"IF(Kalkulator!I138=\"\",\"\",Kalkulator!I138)","v":0},{"$f":"IF(Kalkulator!J138=\"\",\"\",Kalkulator!J138)","v":""},{"$f":"IF(Kalkulator!K138=\"\",\"\",Kalkulator!K138)","v":0},{"$f":"IF(Kalkulator!L138=\"\",\"\",Kalkulator!L138)","v":""},{"$f":"IF(Kalkulator!M138=\"\",\"\",Kalkulator!M138)","v":0},{"$f":"IF(Kalkulator!N138=\"\",\"\",Kalkulator!N138)","v":1},{"$f":"IF(Kalkulator!O138=\"\",\"\",Kalkulator!O138)","v":{"$error":"#N/A"}},{"$f":"IF(Kalkulator!P138=\"\",\"\",Kalkulator!P138)","v":{"$error":"#N/A"}},{"$f":"IF(Kalkulator!Q138=\"\",\"\",Kalkulator!Q138)","v":{"$error":"#N/A"}},{"$f":"IF(L138=\"\",\"\",IF(L137=L138,R137+1,VLOOKUP(A138,A:R,18,0)))","v":""},"",0,0,0,0,0]
[null,null,null,{"$f":"IF(Kalkulator!D139=\"\",\"\",Kalkulator!D139)","v":0},{"$f":"IF(Kalkulator!E139=\"\",\"\",Kalkulator!E139)","v":0},{"$f":"IF(Kalkulator!F139=\"\",\"\",Kalkulator!F139)","v":0},{"$f":"IF(Kalkulator!G139=\"\",\"\",Kalkulator!G139)","v":0},{"$f":"IF(Kalkulator!H139=\"\",\"\",Kalkulator!H139)","v":0},{"$f":"IF(Kalkulator!I139=\"\",\"\",Kalkulator!I139)","v":0},{"$f":"IF(Kalkulator!J139=\"\",\"\",Kalkulator!J139)","v":""},{"$f":"IF(Kalkulator!K139=\"\",\"\",Kalkulator!K139)","v":0},{"$f":"IF(Kalkulator!L139=\"\",\"\",Kalkulator!L139)","v":""},{"$f":"IF(Kalkulator!M139=\"\",\"\",Kalkulator!M139)","v":0},{"$f":"IF(Kalkulator!N139=\"\",\"\",Kalkulator!N139)","v":1},{"$f":"IF(Kalkulator!O139=\"\",\"\",Kalkulator!O139)","v":{"$error":"#N/A"}},{"$f":"IF(Kalkulator!P139=\"\",\"\",Kalkulator!P139)","v":{"$error":"#N/A"}},{"$f":"IF(Kalkulator!Q139=\"\",\"\",Kalkulator!Q139)","v":{"$error":"#N/A"}},"","",0,0,0,0,0]
[null,null,null,{"$f":"IF(Kalkulator!D140=\"\",\"\",Kalkulator!D140)","v":0},{"$f":"IF(Kalkulator!E140=\"\",\"\",Kalkulator!E140)","v":0},{"$f":"IF(Kalkulator!F140=\"\",\"\",Kalkulator!F140)","v":0},{"$f":"IF(Kalkulator!G140=\"\",\"\",Kalkulator!G140)","v":0},{"$f":"IF(Kalkulator!H140=\"\",\"\",Kalkulator!H140)","v":0},{"$f":"IF(Kalkulator!I140=\"\",\"\",Kalkulator!I140)","v":0},{"$f":"IF(Kalkulator!J140=\"\",\"\",Kalkulator!J140)","v":""},{"$f":"IF(Kalkulator!K140=\"\",\"\",Kalkulator!K140)","v":0},{"$f":"IF(Kalkulator!L140=\"\",\"\",Kalkulator!L140)","v":""},{"$f":"IF(Kalkulator!M140=\"\",\"\",Kalkulator!M140)","v":0},{"$f":"IF(Kalkulator!N140=\"\",\"\",Kalkulator!N140)","v":1},{"$f":"IF(Kalkulator!O140=\"\",\"\",Kalkulator!O140)","v":{"$error":"#N/A"}},{"$f":"IF(Kalkulator!P140=\"\",\"\",Kalkulator!P140)","v":{"$error":"#N/A"}},{"$f":"IF(Kalkulator!Q140=\"\",\"\",Kalkulator!Q140)","v":{"$error":"#N/A"}},"","",0,0,0,0,0]
[null,null,null,{"$f":"IF(Kalkulator!D141=\"\",\"\",Kalkulator!D141)","v":0},{"$f":"IF(Kalkulator!E141=\"\",\"\",Kalkulator!E141)","v":0},{"$f":"IF(Kalkulator!F141=\"\",\"\",Kalkulator!F141)","v":0},{"$f":"IF(Kalkulator!G141=\"\",\"\",Kalkulator!G141)","v":0},{"$f":"IF(Kalkulator!H141=\"\",\"\",Kalkulator!H141)","v":0},{"$f":"IF(Kalkulator!I141=\"\",\"\",Kalkulator!I141)","v":0},{"$f":"IF(Kalkulator!J141=\"\",\"\",Kalkulator!J141)","v":""},{"$f":"IF(Kalkulator!K141=\"\",\"\",Kalkulator!K141)","v":0},{"$f":"IF(Kalkulator!L141=\"\",\"\",Kalkulator!L141)","v":""},{"$f":"IF(Kalkulator!M141=\"\",\"\",Kalkulator!M141)","v":0},{"$f":"IF(Kalkulator!N141=\"\",\"\",Kalkulator!N141)","v":1},{"$f":"IF(Kalkulator!O141=\"\",\"\",Kalkulator!O141)","v":{"$error":"#N/A"}},{"$f":"IF(Kalkulator!P141=\"\",\"\",Kalkulator!P141)","v":{"$error":"#N/A"}},{"$f":"IF(Kalkulator!Q141=\"\",\"\",Kalkulator!Q141)","v":{"$error":"#N/A"}},"","",0,0,0,0,0]
[null,null,null,{"$f":"IF(Kalkulator!D142=\"\",\"\",Kalkulator!D142)","v":0},{"$f":"IF(Kalkulator!E142=\"\",\"\",Kalkulator!E142)","v":0},{"$f":"IF(Kalkulator!F142=\"\",\"\",Kalkulator!F142)","v":0},{"$f":"IF(Kalkulator!G142=\"\",\"\",Kalkulator!G142)","v":0},{"$f":"IF(Kalkulator!H142=\"\",\"\",Kalkulator!H142)","v":0},{"$f":"IF(Kalkulator!I142=\"\",\"\",Kalkulator!I142)","v":0},{"$f":"IF(Kalkulator!J142=\"\",\"\",Kalkulator!J142)","v":""},{"$f":"IF(Kalkulator!K142=\"\",\"\",Kalkulator!K142)","v":0},{"$f":"IF(Kalkulator!L142=\"\",\"\",Kalkulator!L142)","v":""},{"$f":"IF(Kalkulator!M142=\"\",\"\",Kalkulator!M142)","v":0},{"$f":"IF(Kalkulator!N142=\"\",\"\",Kalkulator!N142)","v":1},{"$f":"IF(Kalkulator!O142=\"\",\"\",Kalkulator!O142)","v":{"$error":"#N/A"}},{"$f":"IF(Kalkulator!P142=\"\",\"\",Kalkulator!P142)","v":{"$error":"#N/A"}},{"$f":"IF(Kalkulator!Q142=\"\",\"\",Kalkulator!Q142)","v":{"$error":"#N/A"}},"","",0,0,0,0,0]
[null,null,null,{"$f":"IF(Kalkulator!D143=\"\",\"\",Kalkulator!D143)","v":0},{"$f":"IF(Kalkulator!E143=\"\",\"\",Kalkulator!E143)","v":0},{"$f":"IF(Kalkulator!F143=\"\",\"\",Kalkulator!F143)","v":0},{"$f":"IF(Kalkulator!G143=\"\",\"\",Kalkulator!G143)","v":0},{"$f":"IF(Kalkulator!H143=\"\",\"\",Kalkulator!H143)","v":0},{"$f":"IF(Kalkulator!I143=\"\",\"\",Kalkulator!I143)","v":0},{"$f":"IF(Kalkulator!J143=\"\",\"\",Kalkulator!J143)","v":""},{"$f":"IF(Kalkulator!K143=\"\",\"\",Kalkulator!K143)","v":0},{"$f":"IF(Kalkulator!L143=\"\",\"\",Kalkulator!L143)","v":""},{"$f":"IF(Kalkulator!M143=\"\",\"\",Kalkulator!M143)","v":0},{"$f":"IF(Kalkulator!N143=\"\",\"\",Kalkulator!N143)","v":1},{"$f":"IF(Kalkulator!O143=\"\",\"\",Kalkulator!O143)","v":{"$error":"#N/A"}},{"$f":"IF(Kalkulator!P143=\"\",\"\",Kalkulator!P143)","v":{"$error":"#N/A"}},{"$f":"IF(Kalkulator!Q143=\"\",\"\",Kalkulator!Q143)","v":{"$error":"#N/A"}},"","",0,0,0,0,0]
[null,null,null,{"$f":"IF(Kalkulator!D144=\"\",\"\",Kalkulator!D144)","v":0},{"$f":"IF(Kalkulator!E144=\"\",\"\",Kalkulator!E144)","v":0},{"$f":"IF(Kalkulator!F144=\"\",\"\",Kalkulator!F144)","v":0},{"$f":"IF(Kalkulator!G144=\"\",\"\",Kalkulator!G144)","v":0},{"$f":"IF(Kalkulator!H144=\"\",\"\",Kalkulator!H144)","v":0},{"$f":"IF(Kalkulator!I144=\"\",\"\",Kalkulator!I144)","v":0},{"$f":"IF(Kalkulator!J144=\"\",\"\",Kalkulator!J144)","v":""},{"$f":"IF(Kalkulator!K144=\"\",\"\",Kalkulator!K144)","v":0},{"$f":"IF(Kalkulator!L144=\"\",\"\",Kalkulator!L144)","v":""},{"$f":"IF(Kalkulator!M144=\"\",\"\",Kalkulator!M144)","v":0},{"$f":"IF(Kalkulator!N144=\"\",\"\",Kalkulator!N144)","v":1},{"$f":"IF(Kalkulator!O144=\"\",\"\",Kalkulator!O144)","v":{"$error":"#N/A"}},{"$f":"IF(Kalkulator!P144=\"\",\"\",Kalkulator!P144)","v":{"$error":"#N/A"}},{"$f":"IF(Kalkulator!Q144=\"\",\"\",Kalkulator!Q144)","v":{"$error":"#N/A"}},"","",0,0,0,0,0]
[null,null,null,{"$f":"IF(Kalkulator!D145=\"\",\"\",Kalkulator!D145)","v":0},{"$f":"IF(Kalkulator!E145=\"\",\"\",Kalkulator!E145)","v":0},{"$f":"IF(Kalkulator!F145=\"\",\"\",Kalkulator!F145)","v":0},{"$f":"IF(Kalkulator!G145=\"\",\"\",Kalkulator!G145)","v":0},{"$f":"IF(Kalkulator!H145=\"\",\"\",Kalkulator!H145)","v":0},{"$f":"IF(Kalkulator!I145=\"\",\"\",Kalkulator!I145)","v":0},{"$f":"IF(Kalkulator!J145=\"\",\"\",Kalkulator!J145)","v":""},{"$f":"IF(Kalkulator!K145=\"\",\"\",Kalkulator!K145)","v":0},{"$f":"IF(Kalkulator!L145=\"\",\"\",Kalkulator!L145)","v":""},{"$f":"IF(Kalkulator!M145=\"\",\"\",Kalkulator!M145)","v":0},{"$f":"IF(Kalkulator!N145=\"\",\"\",Kalkulator!N145)","v":1},{"$f":"IF(Kalkulator!O145=\"\",\"\",Kalkulator!O145)","v":{"$error":"#N/A"}},{"$f":"IF(Kalkulator!P145=\"\",\"\",Kalkulator!P145)","v":{"$error":"#N/A"}},{"$f":"IF(Kalkulator!Q145=\"\",\"\",Kalkulator!Q145)","v":{"$error":"#N/A"}},"","",0,0,0,0,0]
[null,null,null,{"$f":"IF(Kalkulator!D146=\"\",\"\",Kalkulator!D146)","v":0},{"$f":"IF(Kalkulator!E146=\"\",\"\",Kalkulator!E146)","v":0},{"$f":"IF(Kalkulator!F146=\"\",\"\",Kalkulator!F146)","v":0},{"$f":"IF(Kalkulator!G146=\"\",\"\",Kalkulator!G146)","v":0},{"$f":"IF(Kalkulator!H146=\"\",\"\",Kalkulator!H146)","v":0},{"$f":"IF(Kalkulator!I146=\"\",\"\",Kalkulator!I146)","v":0},{"$f":"IF(Kalkulator!J146=\"\",\"\",Kalkulator!J146)","v":""},{"$f":"IF(Kalkulator!K146=\"\",\"\",Kalkulator!K146)","v":0},{"$f":"IF(Kalkulator!L146=\"\",\"\",Kalkulator!L146)","v":""},{"$f":"IF(Kalkulator!M146=\"\",\"\",Kalkulator!M146)","v":0},{"$f":"IF(Kalkulator!N146=\"\",\"\",Kalkulator!N146)","v":1},{"$f":"IF(Kalkulator!O146=\"\",\"\",Kalkulator!O146)","v":{"$error":"#N/A"}},{"$f":"IF(Kalkulator!P146=\"\",\"\",Kalkulator!P146)","v":{"$error":"#N/A"}},{"$f":"IF(Kalkulator!Q146=\"\",\"\",Kalkulator!Q146)","v":{"$error":"#N/A"}},"","",0,0,0,0,0]
[null,null,null,{"$f":"IF(Kalkulator!D147=\"\",\"\",Kalkulator!D147)","v":0},{"$f":"IF(Kalkulator!E147=\"\",\"\",Kalkulator!E147)","v":0},{"$f":"IF(Kalkulator!F147=\"\",\"\",Kalkulator!F147)","v":0},{"$f":"IF(Kalkulator!G147=\"\",\"\",Kalkulator!G147)","v":0},{"$f":"IF(Kalkulator!H147=\"\",\"\",Kalkulator!H147)","v":0},{"$f":"IF(Kalkulator!I147=\"\",\"\",Kalkulator!I147)","v":0},{"$f":"IF(Kalkulator!J147=\"\",\"\",Kalkulator!J147)","v":""},{"$f":"IF(Kalkulator!K147=\"\",\"\",Kalkulator!K147)","v":0},{"$f":"IF(Kalkulator!L147=\"\",\"\",Kalkulator!L147)","v":""},{"$f":"IF(Kalkulator!M147=\"\",\"\",Kalkulator!M147)","v":0},{"$f":"IF(Kalkulator!N147=\"\",\"\",Kalkulator!N147)","v":1},{"$f":"IF(Kalkulator!O147=\"\",\"\",Kalkulator!O147)","v":{"$error":"#N/A"}},{"$f":"IF(Kalkulator!P147=\"\",\"\",Kalkulator!P147)","v":{"$error":"#N/A"}},{"$f":"IF(Kalkulator!Q147=\"\",\"\",Kalkulator!Q147)","v":{"$error":"#N/A"}},"","",0,0,0,0,0]
[null,null,null,{"$f":"IF(Kalkulator!D148=\"\",\"\",Kalkulator!D148)","v":0},{"$f":"IF(Kalkulator!E148=\"\",\"\",Kalkulator!E148)","v":0},{"$f":"IF(Kalkulator!F148=\"\",\"\",Kalkulator!F148)","v":0},{"$f":"IF(Kalkulator!G148=\"\",\"\",Kalkulator!G148)","v":0},{"$f":"IF(Kalkulator!H148=\"\",\"\",Kalkulator!H148)","v":0},{"$f":"IF(Kalkulator!I148=\"\",\"\",Kalkulator!I148)","v":0},{"$f":"IF(Kalkulator!J148=\"\",\"\",Kalkulator!J148)","v":""},{"$f":"IF(Kalkulator!K148=\"\",\"\",Kalkulator!K148)","v":0},{"$f":"IF(Kalkulator!L148=\"\",\"\",Kalkulator!L148)","v":""},{"$f":"IF(Kalkulator!M148=\"\",\"\",Kalkulator!M148)","v":0},{"$f":"IF(Kalkulator!N148=\"\",\"\",Kalkulator!N148)","v":1},{"$f":"IF(Kalkulator!O148=\"\",\"\",Kalkulator!O148)","v":{"$error":"#N/A"}},{"$f":"IF(Kalkulator!P148=\"\",\"\",Kalkulator!P148)","v":{"$error":"#N/A"}},{"$f":"IF(Kalkulator!Q148=\"\",\"\",Kalkulator!Q148)","v":{"$error":"#N/A"}},"","",0,0,0,0,0]
[null,null,null,{"$f":"IF(Kalkulator!D149=\"\",\"\",Kalkulator!D149)","v":0},{"$f":"IF(Kalkulator!E149=\"\",\"\",Kalkulator!E149)","v":0},{"$f":"IF(Kalkulator!F149=\"\",\"\",Kalkulator!F149)","v":0},{"$f":"IF(Kalkulator!G149=\"\",\"\",Kalkulator!G149)","v":0},{"$f":"IF(Kalkulator!H149=\"\",\"\",Kalkulator!H149)","v":0},{"$f":"IF(Kalkulator!I149=\"\",\"\",Kalkulator!I149)","v":0},{"$f":"IF(Kalkulator!J149=\"\",\"\",Kalkulator!J149)","v":""},{"$f":"IF(Kalkulator!K149=\"\",\"\",Kalkulator!K149)","v":0},{"$f":"IF(Kalkulator!L149=\"\",\"\",Kalkulator!L149)","v":""},{"$f":"IF(Kalkulator!M149=\"\",\"\",Kalkulator!M149)","v":0},{"$f":"IF(Kalkulator!N149=\"\",\"\",Kalkulator!N149)","v":1},{"$f":"IF(Kalkulator!O149=\"\",\"\",Kalkulator!O149)","v":{"$error":"#N/A"}},{"$f":"IF(Kalkulator!P149=\"\",\"\",Kalkulator!P149)","v":{"$error":"#N/A"}},{"$f":"IF(Kalkulator!Q149=\"\",\"\",Kalkulator!Q149)","v":{"$error":"#N/A"}},"","",0,0,0,0,0]
[null,null,null,{"$f":"IF(Kalkulator!D150=\"\",\"\",Kalkulator!D150)","v":0},{"$f":"IF(Kalkulator!E150=\"\",\"\",Kalkulator!E150)","v":0},{"$f":"IF(Kalkulator!F150=\"\",\"\",Kalkulator!F150)","v":0},{"$f":"IF(Kalkulator!G150=\"\",\"\",Kalkulator!G150)","v":0},{"$f":"IF(Kalkulator!H150=\"\",\"\",Kalkulator!H150)","v":0},{"$f":"IF(Kalkulator!I150=\"\",\"\",Kalkulator!I150)","v":0},{"$f":"IF(Kalkulator!J150=\"\",\"\",Kalkulator!J150)","v":""},{"$f":"IF(Kalkulator!K150=\"\",\"\",Kalkulator!K150)","v":0},{"$f":"IF(Kalkulator!L150=\"\",\"\",Kalkulator!L150)","v":""},{"$f":"IF(Kalkulator!M150=\"\",\"\",Kalkulator!M150)","v":0},{"$f":"IF(Kalkulator!N150=\"\",\"\",Kalkulator!N150)","v":1},{"$f":"IF(Kalkulator!O150=\"\",\"\",Kalkulator!O150)","v":{"$error":"#N/A"}},{"$f":"IF(Kalkulator!P150=\"\",\"\",Kalkulator!P150)","v":{"$error":"#N/A"}},{"$f":"IF(Kalkulator!Q150=\"\",\"\",Kalkulator!Q150)","v":{"$error":"#N/A"}},"","",0,0,0,0,0]
[null,null,null,{"$f":"IF(Kalkulator!D151=\"\",\"\",Kalkulator!D151)","v":0},{"$f":"IF(Kalkulator!E151=\"\",\"\",Kalkulator!E151)","v":0},{"$f":"IF(Kalkulator!F151=\"\",\"\",Kalkulator!F151)","v":0},{"$f":"IF(Kalkulator!G151=\"\",\"\",Kalkulator!G151)","v":0},{"$f":"IF(Kalkulator!H151=\"\",\"\",Kalkulator!H151)","v":0},{"$f":"IF(Kalkulator!I151=\"\",\"\",Kalkulator!I151)","v":0},{"$f":"IF(Kalkulator!J151=\"\",\"\",Kalkulator!J151)","v":""},{"$f":"IF(Kalkulator!K151=\"\",\"\",Kalkulator!K151)","v":0},{"$f":"IF(Kalkulator!L151=\"\",\"\",Kalkulator!L151)","v":""},{"$f":"IF(Kalkulator!M151=\"\",\"\",Kalkulator!M151)","v":0},{"$f":"IF(Kalkulator!N151=\"\",\"\",Kalkulator!N151)","v":1},{"$f":"IF(Kalkulator!O151=\"\",\"\",Kalkulator!O151)","v":{"$error":"#N/A"}},{"$f":"IF(Kalkulator!P151=\"\",\"\",Kalkulator!P151)","v":{"$error":"#N/A"}},{"$f":"IF(Kalkulator!Q151=\"\",\"\",Kalkulator!Q151)","v":{"$error":"#N/A"}},"","",0,0,0,0,0]
[null,null,null,{"$f":"IF(Kalkulator!D152=\"\",\"\",Kalkulator!D152)","v":0},{"$f":"IF(Kalkulator!E152=\"\",\"\",Kalkulator!E152)","v":0},{"$f":"IF(Kalkulator!F152=\"\",\"\",Kalkulator!F152)","v":0},{"$f":"IF(Kalkulator!G152=\"\",\"\",Kalkulator!G152)","v":0},{"$f":"IF(Kalkulator!H152=\"\",\"\",Kalkulator!H152)","v":0},{"$f":"IF(Kalkulator!I152=\"\",\"\",Kalkulator!I152)","v":0},{"$f":"IF(Kalkulator!J152=\"\",\"\",Kalkulator!J152)","v":""},{"$f":"IF(Kalkulator!K152=\"\",\"\",Kalkulator!K152)","v":0},{"$f":"IF(Kalkulator!L152=\"\",\"\",Kalkulator!L152)","v":""},{"$f":"IF(Kalkulator!M152=\"\",\"\",Kalkulator!M152)","v":0},{"$f":"IF(Kalkulator!N152=\"\",\"\",Kalkulator!N152)","v":1},{"$f":"IF(Kalkulator!O152=\"\",\"\",Kalkulator!O152)","v":{"$error":"#N/A"}},{"$f":"IF(Kalkulator!P152=\"\",\"\",Kalkulator!P152)","v":{"$error":"#N/A"}},{"$f":"IF(Kalkulator!Q152=\"\",\"\",Kalkulator!Q152)","v":{"$error":"#N/A"}},"","",0,0,0,0,0]
[null,null,null,{"$f":"IF(Kalkulator!D153=\"\",\"\",Kalkulator!D153)","v":0},{"$f":"IF(Kalkulator!E153=\"\",\"\",Kalkulator!E153)","v":0},{"$f":"IF(Kalkulator!F153=\"\",\"\",Kalkulator!F153)","v":0},{"$f":"IF(Kalkulator!G153=\"\",\"\",Kalkulator!G153)","v":0},{"$f":"IF(Kalkulator!H153=\"\",\"\",Kalkulator!H153)","v":0},{"$f":"IF(Kalkulator!I153=\"\",\"\",Kalkulator!I153)","v":0},{"$f":"IF(Kalkulator!J153=\"\",\"\",Kalkulator!J153)","v":""},{"$f":"IF(Kalkulator!K153=\"\",\"\",Kalkulator!K153)","v":0},{"$f":"IF(Kalkulator!L153=\"\",\"\",Kalkulator!L153)","v":""},{"$f":"IF(Kalkulator!M153=\"\",\"\",Kalkulator!M153)","v":0},{"$f":"IF(Kalkulator!N153=\"\",\"\",Kalkulator!N153)","v":1},{"$f":"IF(Kalkulator!O153=\"\",\"\",Kalkulator!O153)","v":{"$error":"#N/A"}},{"$f":"IF(Kalkulator!P153=\"\",\"\",Kalkulator!P153)","v":{"$error":"#N/A"}},{"$f":"IF(Kalkulator!Q153=\"\",\"\",Kalkulator!Q153)","v":{"$error":"#N/A"}},"","",0,0,0,0,0]
[null,null,null,{"$f":"IF(Kalkulator!D154=\"\",\"\",Kalkulator!D154)","v":0},{"$f":"IF(Kalkulator!E154=\"\",\"\",Kalkulator!E154)","v":0},{"$f":"IF(Kalkulator!F154=\"\",\"\",Kalkulator!F154)","v":0},{"$f":"IF(Kalkulator!G154=\"\",\"\",Kalkulator!G154)","v":0},{"$f":"IF(Kalkulator!H154=\"\",\"\",Kalkulator!H154)","v":0},{"$f":"IF(Kalkulator!I154=\"\",\"\",Kalkulator!I154)","v":0},{"$f":"IF(Kalkulator!J154=\"\",\"\",Kalkulator!J154)","v":""},{"$f":"IF(Kalkulator!K154=\"\",\"\",Kalkulator!K154)","v":0},{"$f":"IF(Kalkulator!L154=\"\",\"\",Kalkulator!L154)","v":""},{"$f":"IF(Kalkulator!M154=\"\",\"\",Kalkulator!M154)","v":0},{"$f":"IF(Kalkulator!N154=\"\",\"\",Kalkulator!N154)","v":1},{"$f":"IF(Kalkulator!O154=\"\",\"\",Kalkulator!O154)","v":{"$error":"#N/A"}},{"$f":"IF(Kalkulator!P154=\"\",\"\",Kalkulator!P154)","v":{"$error":"#N/A"}},{"$f":"IF(Kalkulator!Q154=\"\",\"\",Kalkulator!Q154)","v":{"$error":"#N/A"}},"","",0,0,0,0,0]
[null,null,null,{"$f":"IF(Kalkulator!D155=\"\",\"\",Kalkulator!D155)","v":0},{"$f":"IF(Kalkulator!E155=\"\",\"\",Kalkulator!E155)","v":0},{"$f":"IF(Kalkulator!F155=\"\",\"\",Kalkulator!F155)","v":0},{"$f":"IF(Kalkulator!G155=\"\",\"\",Kalkulator!G155)","v":0},{"$f":"IF(Kalkulator!H155=\"\",\"\",Kalkulator!H155)","v":0},{"$f":"IF(Kalkulator!I155=\"\",\"\",Kalkulator!I155)","v":0},{"$f":"IF(Kalkulator!J155=\"\",\"\",Kalkulator!J155)","v":""},{"$f":"IF(Kalkulator!K155=\"\",\"\",Kalkulator!K155)","v":0},{"$f":"IF(Kalkulator!L155=\"\",\"\",Kalkulator!L155)","v":""},{"$f":"IF(Kalkulator!M155=\"\",\"\",Kalkulator!M155)","v":0},{"$f":"IF(Kalkulator!N155=\"\",\"\",Kalkulator!N155)","v":1},{"$f":"IF(Kalkulator!O155=\"\",\"\",Kalkulator!O155)","v":{"$error":"#N/A"}},{"$f":"IF(Kalkulator!P155=\"\",\"\",Kalkulator!P155)","v":{"$error":"#N/A"}},{"$f":"IF(Kalkulator!Q155=\"\",\"\",Kalkulator!Q155)","v":{"$error":"#N/A"}},"","",0,0,0,0,0]
[null,null,null,{"$f":"IF(Kalkulator!D156=\"\",\"\",Kalkulator!D156)","v":0},{"$f":"IF(Kalkulator!E156=\"\",\"\",Kalkulator!E156)","v":0},{"$f":"IF(Kalkulator!F156=\"\",\"\",Kalkulator!F156)","v":0},{"$f":"IF(Kalkulator!G156=\"\",\"\",Kalkulator!G156)","v":0},{"$f":"IF(Kalkulator!H156=\"\",\"\",Kalkulator!H156)","v":0},{"$f":"IF(Kalkulator!I156=\"\",\"\",Kalkulator!I156)","v":0},{"$f":"IF(Kalkulator!J156=\"\",\"\",Kalkulator!J156)","v":""},{"$f":"IF(Kalkulator!K156=\"\",\"\",Kalkulator!K156)","v":0},{"$f":"IF(Kalkulator!L156=\"\",\"\",Kalkulator!L156)","v":""},{"$f":"IF(Kalkulator!M156=\"\",\"\",Kalkulator!M156)","v":0},{"$f":"IF(Kalkulator!N156=\"\",\"\",Kalkulator!N156)","v":1},{"$f":"IF(Kalkulator!O156=\"\",\"\",Kalkulator!O156)","v":{"$error":"#N/A"}},{"$f":"IF(Kalkulator!P156=\"\",\"\",Kalkulator!P156)","v":{"$error":"#N/A"}},{"$f":"IF(Kalkulator!Q156=\"\",\"\",Kalkulator!Q156)","v":{"$error":"#N/A"}},"","",0,0,0,0,0]
[null,null,null,{"$f":"IF(Kalkulator!D157=\"\",\"\",Kalkulator!D157)","v":0},{"$f":"IF(Kalkulator!E157=\"\",\"\",Kalkulator!E157)","v":0},{"$f":"IF(Kalkulator!F157=\"\",\"\",Kalkulator!F157)","v":0},{"$f":"IF(Kalkulator!G157=\"\",\"\",Kalkulator!G157)","v":0},{"$f":"IF(Kalkulator!H157=\"\",\"\",Kalkulator!H157)","v":0},{"$f":"IF(Kalkulator!I157=\"\",\"\",Kalkulator!I157)","v":0},{"$f":"IF(Kalkulator!J157=\"\",\"\",Kalkulator!J157)","v":""},{"$f":"IF(Kalkulator!K157=\"\",\"\",Kalkulator!K157)","v":0},{"$f":"IF(Kalkulator!L157=\"\",\"\",Kalkulator!L157)","v":""},{"$f":"IF(Kalkulator!M157=\"\",\"\",Kalkulator!M157)","v":0},{"$f":"IF(Kalkulator!N157=\"\",\"\",Kalkulator!N157)","v":1},{"$f":"IF(Kalkulator!O157=\"\",\"\",Kalkulator!O157)","v":{"$error":"#N/A"}},{"$f":"IF(Kalkulator!P157=\"\",\"\",Kalkulator!P157)","v":{"$error":"#N/A"}},{"$f":"IF(Kalkulator!Q157=\"\",\"\",Kalkulator!Q157)","v":{"$error":"#N/A"}},"","",0,0,0,0,0]
[null,null,null,{"$f":"IF(Kalkulator!D158=\"\",\"\",Kalkulator!D158)","v":0},{"$f":"IF(Kalkulator!E158=\"\",\"\",Kalkulator!E158)","v":0},{"$f":"IF(Kalkulator!F158=\"\",\"\",Kalkulator!F158)","v":0},{"$f":"IF(Kalkulator!G158=\"\",\"\",Kalkulator!G158)","v":0},{"$f":"IF(Kalkulator!H158=\"\",\"\",Kalkulator!H158)","v":0},{"$f":"IF(Kalkulator!I158=\"\",\"\",Kalkulator!I158)","v":0},{"$f":"IF(Kalkulator!J158=\"\",\"\",Kalkulator!J158)","v":""},{"$f":"IF(Kalkulator!K158=\"\",\"\",Kalkulator!K158)","v":0},{"$f":"IF(Kalkulator!L158=\"\",\"\",Kalkulator!L158)","v":""},{"$f":"IF(Kalkulator!M158=\"\",\"\",Kalkulator!M158)","v":0},{"$f":"IF(Kalkulator!N158=\"\",\"\",Kalkulator!N158)","v":1},{"$f":"IF(Kalkulator!O158=\"\",\"\",Kalkulator!O158)","v":{"$error":"#N/A"}},{"$f":"IF(Kalkulator!P158=\"\",\"\",Kalkulator!P158)","v":{"$error":"#N/A"}},{"$f":"IF(Kalkulator!Q158=\"\",\"\",Kalkulator!Q158)","v":{"$error":"#N/A"}},"","",0,0,0,0,0]
[null,null,null,{"$f":"IF(Kalkulator!D159=\"\",\"\",Kalkulator!D159)","v":0},{"$f":"IF(Kalkulator!E159=\"\",\"\",Kalkulator!E159)","v":0},{"$f":"IF(Kalkulator!F159=\"\",\"\",Kalkulator!F159)","v":0},{"$f":"IF(Kalkulator!G159=\"\",\"\",Kalkulator!G159)","v":0},{"$f":"IF(Kalkulator!H159=\"\",\"\",Kalkulator!H159)","v":0},{"$f":"IF(Kalkulator!I159=\"\",\"\",Kalkulator!I159)","v":0},{"$f":"IF(Kalkulator!J159=\"\",\"\",Kalkulator!J159)","v":""},{"$f":"IF(Kalkulator!K159=\"\",\"\",Kalkulator!K159)","v":0},{"$f":"IF(Kalkulator!L159=\"\",\"\",Kalkulator!L159)","v":""},{"$f":"IF(Kalkulator!M159=\"\",\"\",Kalkulator!M159)","v":0},{"$f":"IF(Kalkulator!N159=\"\",\"\",Kalkulator!N159)","v":1},{"$f":"IF(Kalkulator!O159=\"\",\"\",Kalkulator!O159)","v":{"$error":"#N/A"}},{"$f":"IF(Kalkulator!P159=\"\",\"\",Kalkulator!P159)","v":{"$error":"#N/A"}},{"$f":"IF(Kalkulator!Q159=\"\",\"\",Kalkulator!Q159)","v":{"$error":"#N/A"}},"","",0,0,0,0,0]
[null,null,null,{"$f":"IF(Kalkulator!D160=\"\",\"\",Kalkulator!D160)","v":0},{"$f":"IF(Kalkulator!E160=\"\",\"\",Kalkulator!E160)","v":0},{"$f":"IF(Kalkulator!F160=\"\",\"\",Kalkulator!F160)","v":0},{"$f":"IF(Kalkulator!G160=\"\",\"\",Kalkulator!G160)","v":0},{"$f":"IF(Kalkulator!H160=\"\",\"\",Kalkulator!H160)","v":0},{"$f":"IF(Kalkulator!I160=\"\",\"\",Kalkulator!I160)","v":0},{"$f":"IF(Kalkulator!J160=\"\",\"\",Kalkulator!J160)","v":""},{"$f":"IF(Kalkulator!K160=\"\",\"\",Kalkulator!K160)","v":0},{"$f":"IF(Kalkulator!L160=\"\",\"\",Kalkulator!L160)","v":""},{"$f":"IF(Kalkulator!M160=\"\",\"\",Kalkulator!M160)","v":0},{"$f":"IF(Kalkulator!N160=\"\",\"\",Kalkulator!N160)","v":1},{"$f":"IF(Kalkulator!O160=\"\",\"\",Kalkulator!O160)","v":{"$error":"#N/A"}},{"$f":"IF(Kalkulator!P160=\"\",\"\",Kalkulator!P160)","v":{"$error":"#N/A"}},{"$f":"IF(Kalkulator!Q160=\"\",\"\",Kalkulator!Q160)","v":{"$error":"#N/A"}},"","",0,0,0,0,0]
[null,null,null,{"$f":"IF(Kalkulator!D161=\"\",\"\",Kalkulator!D161)","v":0},{"$f":"IF(Kalkulator!E161=\"\",\"\",Kalkulator!E161)","v":0},{"$f":"IF(Kalkulator!F161=\"\",\"\",Kalkulator!F161)","v":0},{"$f":"IF(Kalkulator!G161=\"\",\"\",Kalkulator!G161)","v":0},{"$f":"IF(Kalkulator!H161=\"\",\"\",Kalkulator!H161)","v":0},{"$f":"IF(Kalkulator!I161=\"\",\"\",Kalkulator!I161)","v":0},{"$f":"IF(Kalkulator!J161=\"\",\"\",Kalkulator!J161)","v":""},{"$f":"IF(Kalkulator!K161=\"\",\"\",Kalkulator!K161)","v":0},{"$f":"IF(Kalkulator!L161=\"\",\"\",Kalkulator!L161)","v":""},{"$f":"IF(Kalkulator!M161=\"\",\"\",Kalkulator!M161)","v":0},{"$f":"IF(Kalkulator!N161=\"\",\"\",Kalkulator!N161)","v":1},{"$f":"IF(Kalkulator!O161=\"\",\"\",Kalkulator!O161)","v":{"$error":"#N/A"}},{"$f":"IF(Kalkulator!P161=\"\",\"\",Kalkulator!P161)","v":{"$error":"#N/A"}},{"$f":"IF(Kalkulator!Q161=\"\",\"\",Kalkulator!Q161)","v":{"$error":"#N/A"}},"","",0,0,0,0,0]
[null,null,null,{"$f":"IF(Kalkulator!D162=\"\",\"\",Kalkulator!D162)","v":0},{"$f":"IF(Kalkulator!E162=\"\",\"\",Kalkulator!E162)","v":0},{"$f":"IF(Kalkulator!F162=\"\",\"\",Kalkulator!F162)","v":0},{"$f":"IF(Kalkulator!G162=\"\",\"\",Kalkulator!G162)","v":0},{"$f":"IF(Kalkulator!H162=\"\",\"\",Kalkulator!H162)","v":0},{"$f":"IF(Kalkulator!I162=\"\",\"\",Kalkulator!I162)","v":0},{"$f":"IF(Kalkulator!J162=\"\",\"\",Kalkulator!J162)","v":""},{"$f":"IF(Kalkulator!K162=\"\",\"\",Kalkulator!K162)","v":0},{"$f":"IF(Kalkulator!L162=\"\",\"\",Kalkulator!L162)","v":""},{"$f":"IF(Kalkulator!M162=\"\",\"\",Kalkulator!M162)","v":0},{"$f":"IF(Kalkulator!N162=\"\",\"\",Kalkulator!N162)","v":1},{"$f":"IF(Kalkulator!O162=\"\",\"\",Kalkulator!O162)","v":{"$error":"#N/A"}},{"$f":"IF(Kalkulator!P162=\"\",\"\",Kalkulator!P162)","v":{"$error":"#N/A"}},{"$f":"IF(Kalkulator!Q162=\"\",\"\",Kalkulator!Q162)","v":{"$error":"#N/A"}},"","",0,0,0,0,0]
[null,null,null,{"$f":"IF(Kalkulator!D163=\"\",\"\",Kalkulator!D163)","v":0},{"$f":"IF(Kalkulator!E163=\"\",\"\",Kalkulator!E163)","v":0},{"$f":"IF(Kalkulator!F163=\"\",\"\",Kalkulator!F163)","v":0},{"$f":"IF(Kalkulator!G163=\"\",\"\",Kalkulator!G163)","v":0},{"$f":"IF(Kalkulator!H163=\"\",\"\",Kalkulator!H163)","v":0},{"$f":"IF(Kalkulator!I163=\"\",\"\",Kalkulator!I163)","v":0},{"$f":"IF(Kalkulator!J163=\"\",\"\",Kalkulator!J163)","v":""},{"$f":"IF(Kalkulator!K163=\"\",\"\",Kalkulator!K163)","v":0},{"$f":"IF(Kalkulator!L163=\"\",\"\",Kalkulator!L163)","v":""},{"$f":"IF(Kalkulator!M163=\"\",\"\",Kalkulator!M163)","v":0},{"$f":"IF(Kalkulator!N163=\"\",\"\",Kalkulator!N163)","v":1},{"$f":"IF(Kalkulator!O163=\"\",\"\",Kalkulator!O163)","v":{"$error":"#N/A"}},{"$f":"IF(Kalkulator!P163=\"\",\"\",Kalkulator!P163)","v":{"$error":"#N/A"}},{"$f":"IF(Kalkulator!Q163=\"\",\"\",Kalkulator!Q163)","v":{"$error":"#N/A"}},"","",0,0,0,0,0]
[null,null,null,{"$f":"IF(Kalkulator!D164=\"\",\"\",Kalkulator!D164)","v":0},{"$f":"IF(Kalkulator!E164=\"\",\"\",Kalkulator!E164)","v":0},{"$f":"IF(Kalkulator!F164=\"\",\"\",Kalkulator!F164)","v":0},{"$f":"IF(Kalkulator!G164=\"\",\"\",Kalkulator!G164)","v":0},{"$f":"IF(Kalkulator!H164=\"\",\"\",Kalkulator!H164)","v":0},{"$f":"IF(Kalkulator!I164=\"\",\"\",Kalkulator!I164)","v":0},{"$f":"IF(Kalkulator!J164=\"\",\"\",Kalkulator!J164)","v":""},{"$f":"IF(Kalkulator!K164=\"\",\"\",Kalkulator!K164)","v":0},{"$f":"IF(Kalkulator!L164=\"\",\"\",Kalkulator!L164)","v":""},{"$f":"IF(Kalkulator!M164=\"\",\"\",Kalkulator!M164)","v":0},{"$f":"IF(Kalkulator!N164=\"\",\"\",Kalkulator!N164)","v":1},{"$f":"IF(Kalkulator!O164=\"\",\"\",Kalkulator!O164)","v":{"$error":"#N/A"}},{"$f":"IF(Kalkulator!P164=\"\",\"\",Kalkulator!P164)","v":{"$error":"#N/A"}},{"$f":"IF(Kalkulator!Q164=\"\",\"\",Kalkulator!Q164)","v":{"$error":"#N/A"}},"","",0,0,0,0,0]
[null,null,null,{"$f":"IF(Kalkulator!D165=\"\",\"\",Kalkulator!D165)","v":0},{"$f":"IF(Kalkulator!E165=\"\",\"\",Kalkulator!E165)","v":0},{"$f":"IF(Kalkulator!F165=\"\",\"\",Kalkulator!F165)","v":0},{"$f":"IF(Kalkulator!G165=\"\",\"\",Kalkulator!G165)","v":0},{"$f":"IF(Kalkulator!H165=\"\",\"\",Kalkulator!H165)","v":0},{"$f":"IF(Kalkulator!I165=\"\",\"\",Kalkulator!I165)","v":0},{"$f":"IF(Kalkulator!J165=\"\",\"\",Kalkulator!J165)","v":""},{"$f":"IF(Kalkulator!K165=\"\",\"\",Kalkulator!K165)","v":0},{"$f":"IF(Kalkulator!L165=\"\",\"\",Kalkulator!L165)","v":""},{"$f":"IF(Kalkulator!M165=\"\",\"\",Kalkulator!M165)","v":0},{"$f":"IF(Kalkulator!N165=\"\",\"\",Kalkulator!N165)","v":1},{"$f":"IF(Kalkulator!O165=\"\",\"\",Kalkulator!O165)","v":{"$error":"#N/A"}},{"$f":"IF(Kalkulator!P165=\"\",\"\",Kalkulator!P165)","v":{"$error":"#N/A"}},{"$f":"IF(Kalkulator!Q165=\"\",\"\",Kalkulator!Q165)","v":{"$error":"#N/A"}},"","",0,0,0,0,0]
[null,null,null,{"$f":"IF(Kalkulator!D166=\"\",\"\",Kalkulator!D166)","v":0},{"$f":"IF(Kalkulator!E166=\"\",\"\",Kalkulator!E166)","v":0},{"$f":"IF(Kalkulator!F166=\"\",\"\",Kalkulator!F166)","v":0},{"$f":"IF(Kalkulator!G166=\"\",\"\",Kalkulator!G166)","v":0},{"$f":"IF(Kalkulator!H166=\"\",\"\",Kalkulator!H166)","v":0},{"$f":"IF(Kalkulator!I166=\"\",\"\",Kalkulator!I166)","v":0},{"$f":"IF(Kalkulator!J166=\"\",\"\",Kalkulator!J166)","v":""},{"$f":"IF(Kalkulator!K166=\"\",\"\",Kalkulator!K166)","v":0},{"$f":"IF(Kalkulator!L166=\"\",\"\",Kalkulator!L166)","v":""},{"$f":"IF(Kalkulator!M166=\"\",\"\",Kalkulator!M166)","v":0},{"$f":"IF(Kalkulator!N166=\"\",\"\",Kalkulator!N166)","v":1},{"$f":"IF(Kalkulator!O166=\"\",\"\",Kalkulator!O166)","v":{"$error":"#N/A"}},{"$f":"IF(Kalkulator!P166=\"\",\"\",Kalkulator!P166)","v":{"$error":"#N/A"}},{"$f":"IF(Kalkulator!Q166=\"\",\"\",Kalkulator!Q166)","v":{"$error":"#N/A"}},"","",0,0,0,0,0]
[null,null,null,{"$f":"IF(Kalkulator!D167=\"\",\"\",Kalkulator!D167)","v":0},{"$f":"IF(Kalkulator!E167=\"\",\"\",Kalkulator!E167)","v":0},{"$f":"IF(Kalkulator!F167=\"\",\"\",Kalkulator!F167)","v":0},{"$f":"IF(Kalkulator!G167=\"\",\"\",Kalkulator!G167)","v":0},{"$f":"IF(Kalkulator!H167=\"\",\"\",Kalkulator!H167)","v":0},{"$f":"IF(Kalkulator!I167=\"\",\"\",Kalkulator!I167)","v":0},{"$f":"IF(Kalkulator!J167=\"\",\"\",Kalkulator!J167)","v":""},{"$f":"IF(Kalkulator!K167=\"\",\"\",Kalkulator!K167)","v":0},{"$f":"IF(Kalkulator!L167=\"\",\"\",Kalkulator!L167)","v":""},{"$f":"IF(Kalkulator!M167=\"\",\"\",Kalkulator!M167)","v":0},{"$f":"IF(Kalkulator!N167=\"\",\"\",Kalkulator!N167)","v":1},{"$f":"IF(Kalkulator!O167=\"\",\"\",Kalkulator!O167)","v":{"$error":"#N/A"}},{"$f":"IF(Kalkulator!P167=\"\",\"\",Kalkulator!P167)","v":{"$error":"#N/A"}},{"$f":"IF(Kalkulator!Q167=\"\",\"\",Kalkulator!Q167)","v":{"$error":"#N/A"}},"","",0,0,0,0,0]
[null,null,null,{"$f":"IF(Kalkulator!D168=\"\",\"\",Kalkulator!D168)","v":0},{"$f":"IF(Kalkulator!E168=\"\",\"\",Kalkulator!E168)","v":0},{"$f":"IF(Kalkulator!F168=\"\",\"\",Kalkulator!F168)","v":0},{"$f":"IF(Kalkulator!G168=\"\",\"\",Kalkulator!G168)","v":0},{"$f":"IF(Kalkulator!H168=\"\",\"\",Kalkulator!H168)","v":0},{"$f":"IF(Kalkulator!I168=\"\",\"\",Kalkulator!I168)","v":0},{"$f":"IF(Kalkulator!J168=\"\",\"\",Kalkulator!J168)","v":""},{"$f":"IF(Kalkulator!K168=\"\",\"\",Kalkulator!K168)","v":0},{"$f":"IF(Kalkulator!L168=\"\",\"\",Kalkulator!L168)","v":""},{"$f":"IF(Kalkulator!M168=\"\",\"\",Kalkulator!M168)","v":0},{"$f":"IF(Kalkulator!N168=\"\",\"\",Kalkulator!N168)","v":1},{"$f":"IF(Kalkulator!O168=\"\",\"\",Kalkulator!O168)","v":{"$error":"#N/A"}},{"$f":"IF(Kalkulator!P168=\"\",\"\",Kalkulator!P168)","v":{"$error":"#N/A"}},{"$f":"IF(Kalkulator!Q168=\"\",\"\",Kalkulator!Q168)","v":{"$error":"#N/A"}},"","",0,0,0,0,0]
[null,null,null,{"$f":"IF(Kalkulator!D169=\"\",\"\",Kalkulator!D169)","v":0},{"$f":"IF(Kalkulator!E169=\"\",\"\",Kalkulator!E169)","v":0},{"$f":"IF(Kalkulator!F169=\"\",\"\",Kalkulator!F169)","v":0},{"$f":"IF(Kalkulator!G169=\"\",\"\",Kalkulator!G169)","v":0},{"$f":"IF(Kalkulator!H169=\"\",\"\",Kalkulator!H169)","v":0},{"$f":"IF(Kalkulator!I169=\"\",\"\",Kalkulator!I169)","v":0},{"$f":"IF(Kalkulator!J169=\"\",\"\",Kalkulator!J169)","v":""},{"$f":"IF(Kalkulator!K169=\"\",\"\",Kalkulator!K169)","v":0},{"$f":"IF(Kalkulator!L169=\"\",\"\",Kalkulator!L169)","v":""},{"$f":"IF(Kalkulator!M169=\"\",\"\",Kalkulator!M169)","v":0},{"$f":"IF(Kalkulator!N169=\"\",\"\",Kalkulator!N169)","v":1},{"$f":"IF(Kalkulator!O169=\"\",\"\",Kalkulator!O169)","v":{"$error":"#N/A"}},{"$f":"IF(Kalkulator!P169=\"\",\"\",Kalkulator!P169)","v":{"$error":"#N/A"}},{"$f":"IF(Kalkulator!Q169=\"\",\"\",Kalkulator!Q169)","v":{"$error":"#N/A"}},"","",0,0,0,0,0]
[null,null,null,{"$f":"IF(Kalkulator!D170=\"\",\"\",Kalkulator!D170)","v":0},{"$f":"IF(Kalkulator!E170=\"\",\"\",Kalkulator!E170)","v":0},{"$f":"IF(Kalkulator!F170=\"\",\"\",Kalkulator!F170)","v":0},{"$f":"IF(Kalkulator!G170=\"\",\"\",Kalkulator!G170)","v":0},{"$f":"IF(Kalkulator!H170=\"\",\"\",Kalkulator!H170)","v":0},{"$f":"IF(Kalkulator!I170=\"\",\"\",Kalkulator!I170)","v":0},{"$f":"IF(Kalkulator!J170=\"\",\"\",Kalkulator!J170)","v":""},{"$f":"IF(Kalkulator!K170=\"\",\"\",Kalkulator!K170)","v":0},{"$f":"IF(Kalkulator!L170=\"\",\"\",Kalkulator!L170)","v":""},{"$f":"IF(Kalkulator!M170=\"\",\"\",Kalkulator!M170)","v":0},{"$f":"IF(Kalkulator!N170=\"\",\"\",Kalkulator!N170)","v":1},{"$f":"IF(Kalkulator!O170=\"\",\"\",Kalkulator!O170)","v":{"$error":"#N/A"}},{"$f":"IF(Kalkulator!P170=\"\",\"\",Kalkulator!P170)","v":{"$error":"#N/A"}},{"$f":"IF(Kalkulator!Q170=\"\",\"\",Kalkulator!Q170)","v":{"$error":"#N/A"}},"","",0,0,0,0,0]
[null,null,null,{"$f":"IF(Kalkulator!D171=\"\",\"\",Kalkulator!D171)","v":0},{"$f":"IF(Kalkulator!E171=\"\",\"\",Kalkulator!E171)","v":0},{"$f":"IF(Kalkulator!F171=\"\",\"\",Kalkulator!F171)","v":0},{"$f":"IF(Kalkulator!G171=\"\",\"\",Kalkulator!G171)","v":0},{"$f":"IF(Kalkulator!H171=\"\",\"\",Kalkulator!H171)","v":0},{"$f":"IF(Kalkulator!I171=\"\",\"\",Kalkulator!I171)","v":0},{"$f":"IF(Kalkulator!J171=\"\",\"\",Kalkulator!J171)","v":""},{"$f":"IF(Kalkulator!K171=\"\",\"\",Kalkulator!K171)","v":0},{"$f":"IF(Kalkulator!L171=\"\",\"\",Kalkulator!L171)","v":""},{"$f":"IF(Kalkulator!M171=\"\",\"\",Kalkulator!M171)","v":0},{"$f":"IF(Kalkulator!N171=\"\",\"\",Kalkulator!N171)","v":1},{"$f":"IF(Kalkulator!O171=\"\",\"\",Kalkulator!O171)","v":{"$error":"#N/A"}},{"$f":"IF(Kalkulator!P171=\"\",\"\",Kalkulator!P171)","v":{"$error":"#N/A"}},{"$f":"IF(Kalkulator!Q171=\"\",\"\",Kalkulator!Q171)","v":{"$error":"#N/A"}},"","",0,0,0,0,0]
[null,null,null,{"$f":"IF(Kalkulator!D172=\"\",\"\",Kalkulator!D172)","v":0},{"$f":"IF(Kalkulator!E172=\"\",\"\",Kalkulator!E172)","v":0},{"$f":"IF(Kalkulator!F172=\"\",\"\",Kalkulator!F172)","v":0},{"$f":"IF(Kalkulator!G172=\"\",\"\",Kalkulator!G172)","v":0},{"$f":"IF(Kalkulator!H172=\"\",\"\",Kalkulator!H172)","v":0},{"$f":"IF(Kalkulator!I172=\"\",\"\",Kalkulator!I172)","v":0},{"$f":"IF(Kalkulator!J172=\"\",\"\",Kalkulator!J172)","v":""},{"$f":"IF(Kalkulator!K172=\"\",\"\",Kalkulator!K172)","v":0},{"$f":"IF(Kalkulator!L172=\"\",\"\",Kalkulator!L172)","v":""},{"$f":"IF(Kalkulator!M172=\"\",\"\",Kalkulator!M172)","v":0},{"$f":"IF(Kalkulator!N172=\"\",\"\",Kalkulator!N172)","v":1},{"$f":"IF(Kalkulator!O172=\"\",\"\",Kalkulator!O172)","v":{"$error":"#N/A"}},{"$f":"IF(Kalkulator!P172=\"\",\"\",Kalkulator!P172)","v":{"$error":"#N/A"}},{"$f":"IF(Kalkulator!Q172=\"\",\"\",Kalkulator!Q172)","v":{"$error":"#N/A"}},"","",0,0,0,0,0]
[null,null,null,{"$f":"IF(Kalkulator!D173=\"\",\"\",Kalkulator!D173)","v":0},{"$f":"IF(Kalkulator!E173=\"\",\"\",Kalkulator!E173)","v":0},{"$f":"IF(Kalkulator!F173=\"\",\"\",Kalkulator!F173)","v":0},{"$f":"IF(Kalkulator!G173=\"\",\"\",Kalkulator!G173)","v":0},{"$f":"IF(Kalkulator!H173=\"\",\"\",Kalkulator!H173)","v":0},{"$f":"IF(Kalkulator!I173=\"\",\"\",Kalkulator!I173)","v":0},{"$f":"IF(Kalkulator!J173=\"\",\"\",Kalkulator!J173)","v":""},{"$f":"IF(Kalkulator!K173=\"\",\"\",Kalkulator!K173)","v":0},{"$f":"IF(Kalkulator!L173=\"\",\"\",Kalkulator!L173)","v":""},{"$f":"IF(Kalkulator!M173=\"\",\"\",Kalkulator!M173)","v":0},{"$f":"IF(Kalkulator!N173=\"\",\"\",Kalkulator!N173)","v":1},{"$f":"IF(Kalkulator!O173=\"\",\"\",Kalkulator!O173)","v":{"$error":"#N/A"}},{"$f":"IF(Kalkulator!P173=\"\",\"\",Kalkulator!P173)","v":{"$error":"#N/A"}},{"$f":"IF(Kalkulator!Q173=\"\",\"\",Kalkulator!Q173)","v":{"$error":"#N/A"}},"","",0,0,0,0,0]
[null,null,null,{"$f":"IF(Kalkulator!D174=\"\",\"\",Kalkulator!D174)","v":0},{"$f":"IF(Kalkulator!E174=\"\",\"\",Kalkulator!E174)","v":0},{"$f":"IF(Kalkulator!F174=\"\",\"\",Kalkulator!F174)","v":0},{"$f":"IF(Kalkulator!G174=\"\",\"\",Kalkulator!G174)","v":0},{"$f":"IF(Kalkulator!H174=\"\",\"\",Kalkulator!H174)","v":0},{"$f":"IF(Kalkulator!I174=\"\",\"\",Kalkulator!I174)","v":0},{"$f":"IF(Kalkulator!J174=\"\",\"\",Kalkulator!J174)","v":""},{"$f":"IF(Kalkulator!K174=\"\",\"\",Kalkulator!K174)","v":0},{"$f":"IF(Kalkulator!L174=\"\",\"\",Kalkulator!L174)","v":""},{"$f":"IF(Kalkulator!M174=\"\",\"\",Kalkulator!M174)","v":0},{"$f":"IF(Kalkulator!N174=\"\",\"\",Kalkulator!N174)","v":1},{"$f":"IF(Kalkulator!O174=\"\",\"\",Kalkulator!O174)","v":{"$error":"#N/A"}},{"$f":"IF(Kalkulator!P174=\"\",\"\",Kalkulator!P174)","v":{"$error":"#N/A"}},{"$f":"IF(Kalkulator!Q174=\"\",\"\",Kalkulator!Q174)","v":{"$error":"#N/A"}},"","",0,0,0,0,0]
[null,null,null,{"$f":"IF(Kalkulator!D175=\"\",\"\",Kalkulator!D175)","v":0},{"$f":"IF(Kalkulator!E175=\"\",\"\",Kalkulator!E175)","v":0},{"$f":"IF(Kalkulator!F175=\"\",\"\",Kalkulator!F175)","v":0},{"$f":"IF(Kalkulator!G175=\"\",\"\",Kalkulator!G175)","v":0},{"$f":"IF(Kalkulator!H175=\"\",\"\",Kalkulator!H175)","v":0},{"$f":"IF(Kalkulator!I175=\"\",\"\",Kalkulator!I175)","v":0},{"$f":"IF(Kalkulator!J175=\"\",\"\",Kalkulator!J175)","v":""},{"$f":"IF(Kalkulator!K175=\"\",\"\",Kalkulator!K175)","v":0},{"$f":"IF(Kalkulator!L175=\"\",\"\",Kalkulator!L175)","v":""},{"$f":"IF(Kalkulator!M175=\"\",\"\",Kalkulator!M175)","v":0},{"$f":"IF(Kalkulator!N175=\"\",\"\",Kalkulator!N175)","v":1},{"$f":"IF(Kalkulator!O175=\"\",\"\",Kalkulator!O175)","v":{"$error":"#N/A"}},{"$f":"IF(Kalkulator!P175=\"\",\"\",Kalkulator!P175)","v":{"$error":"#N/A"}},{"$f":"IF(Kalkulator!Q175=\"\",\"\",Kalkulator!Q175)","v":{"$error":"#N/A"}},"","",0,0,0,0,0]
[null,null,null,{"$f":"IF(Kalkulator!D176=\"\",\"\",Kalkulator!D176)","v":0},{"$f":"IF(Kalkulator!E176=\"\",\"\",Kalkulator!E176)","v":0},{"$f":"IF(Kalkulator!F176=\"\",\"\",Kalkulator!F176)","v":0},{"$f":"IF(Kalkulator!G176=\"\",\"\",Kalkulator!G176)","v":0},{"$f":"IF(Kalkulator!H176=\"\",\"\",Kalkulator!H176)","v":0},{"$f":"IF(Kalkulator!I176=\"\",\"\",Kalkulator!I176)","v":0},{"$f":"IF(Kalkulator!J176=\"\",\"\",Kalkulator!J176)","v":""},{"$f":"IF(Kalkulator!K176=\"\",\"\",Kalkulator!K176)","v":0},{"$f":"IF(Kalkulator!L176=\"\",\"\",Kalkulator!L176)","v":""},{"$f":"IF(Kalkulator!M176=\"\",\"\",Kalkulator!M176)","v":0},{"$f":"IF(Kalkulator!N176=\"\",\"\",Kalkulator!N176)","v":1},{"$f":"IF(Kalkulator!O176=\"\",\"\",Kalkulator!O176)","v":{"$error":"#N/A"}},{"$f":"IF(Kalkulator!P176=\"\",\"\",Kalkulator!P176)","v":{"$error":"#N/A"}},{"$f":"IF(Kalkulator!Q176=\"\",\"\",Kalkulator!Q176)","v":{"$error":"#N/A"}},"","",0,0,0,0,0]
[null,null,null,{"$f":"IF(Kalkulator!D177=\"\",\"\",Kalkulator!D177)","v":0},{"$f":"IF(Kalkulator!E177=\"\",\"\",Kalkulator!E177)","v":0},{"$f":"IF(Kalkulator!F177=\"\",\"\",Kalkulator!F177)","v":0},{"$f":"IF(Kalkulator!G177=\"\",\"\",Kalkulator!G177)","v":0},{"$f":"IF(Kalkulator!H177=\"\",\"\",Kalkulator!H177)","v":0},{"$f":"IF(Kalkulator!I177=\"\",\"\",Kalkulator!I177)","v":0},{"$f":"IF(Kalkulator!J177=\"\",\"\",Kalkulator!J177)","v":""},{"$f":"IF(Kalkulator!K177=\"\",\"\",Kalkulator!K177)","v":0},{"$f":"IF(Kalkulator!L177=\"\",\"\",Kalkulator!L177)","v":""},{"$f":"IF(Kalkulator!M177=\"\",\"\",Kalkulator!M177)","v":0},{"$f":"IF(Kalkulator!N177=\"\",\"\",Kalkulator!N177)","v":1},{"$f":"IF(Kalkulator!O177=\"\",\"\",Kalkulator!O177)","v":{"$error":"#N/A"}},{"$f":"IF(Kalkulator!P177=\"\",\"\",Kalkulator!P177)","v":{"$error":"#N/A"}},{"$f":"IF(Kalkulator!Q177=\"\",\"\",Kalkulator!Q177)","v":{"$error":"#N/A"}},"","",0,0,0,0,0]
[null,null,null,{"$f":"IF(Kalkulator!D178=\"\",\"\",Kalkulator!D178)","v":0},{"$f":"IF(Kalkulator!E178=\"\",\"\",Kalkulator!E178)","v":0},{"$f":"IF(Kalkulator!F178=\"\",\"\",Kalkulator!F178)","v":0},{"$f":"IF(Kalkulator!G178=\"\",\"\",Kalkulator!G178)","v":0},{"$f":"IF(Kalkulator!H178=\"\",\"\",Kalkulator!H178)","v":0},{"$f":"IF(Kalkulator!I178=\"\",\"\",Kalkulator!I178)","v":0},{"$f":"IF(Kalkulator!J178=\"\",\"\",Kalkulator!J178)","v":""},{"$f":"IF(Kalkulator!K178=\"\",\"\",Kalkulator!K178)","v":0},{"$f":"IF(Kalkulator!L178=\"\",\"\",Kalkulator!L178)","v":""},{"$f":"IF(Kalkulator!M178=\"\",\"\",Kalkulator!M178)","v":0},{"$f":"IF(Kalkulator!N178=\"\",\"\",Kalkulator!N178)","v":1},{"$f":"IF(Kalkulator!O178=\"\",\"\",Kalkulator!O178)","v":{"$error":"#N/A"}},{"$f":"IF(Kalkulator!P178=\"\",\"\",Kalkulator!P178)","v":{"$error":"#N/A"}},{"$f":"IF(Kalkulator!Q178=\"\",\"\",Kalkulator!Q178)","v":{"$error":"#N/A"}},"","",0,0,0,0,0]
[null,null,null,{"$f":"IF(Kalkulator!D179=\"\",\"\",Kalkulator!D179)","v":0},{"$f":"IF(Kalkulator!E179=\"\",\"\",Kalkulator!E179)","v":0},{"$f":"IF(Kalkulator!F179=\"\",\"\",Kalkulator!F179)","v":0},{"$f":"IF(Kalkulator!G179=\"\",\"\",Kalkulator!G179)","v":0},{"$f":"IF(Kalkulator!H179=\"\",\"\",Kalkulator!H179)","v":0},{"$f":"IF(Kalkulator!I179=\"\",\"\",Kalkulator!I179)","v":0},{"$f":"IF(Kalkulator!J179=\"\",\"\",Kalkulator!J179)","v":""},{"$f":"IF(Kalkulator!K179=\"\",\"\",Kalkulator!K179)","v":0},{"$f":"IF(Kalkulator!L179=\"\",\"\",Kalkulator!L179)","v":""},{"$f":"IF(Kalkulator!M179=\"\",\"\",Kalkulator!M179)","v":0},{"$f":"IF(Kalkulator!N179=\"\",\"\",Kalkulator!N179)","v":1},{"$f":"IF(Kalkulator!O179=\"\",\"\",Kalkulator!O179)","v":{"$error":"#N/A"}},{"$f":"IF(Kalkulator!P179=\"\",\"\",Kalkulator!P179)","v":{"$error":"#N/A"}},{"$f":"IF(Kalkulator!Q179=\"\",\"\",Kalkulator!Q179)","v":{"$error":"#N/A"}},"","",0,0,0,0,0]
[null,null,null,{"$f":"IF(Kalkulator!D180=\"\",\"\",Kalkulator!D180)","v":0},{"$f":"IF(Kalkulator!E180=\"\",\"\",Kalkulator!E180)","v":0},{"$f":"IF(Kalkulator!F180=\"\",\"\",Kalkulator!F180)","v":0},{"$f":"IF(Kalkulator!G180=\"\",\"\",Kalkulator!G180)","v":0},{"$f":"IF(Kalkulator!H180=\"\",\"\",Kalkulator!H180)","v":0},{"$f":"IF(Kalkulator!I180=\"\",\"\",Kalkulator!I180)","v":0},{"$f":"IF(Kalkulator!J180=\"\",\"\",Kalkulator!J180)","v":""},{"$f":"IF(Kalkulator!K180=\"\",\"\",Kalkulator!K180)","v":0},{"$f":"IF(Kalkulator!L180=\"\",\"\",Kalkulator!L180)","v":""},{"$f":"IF(Kalkulator!M180=\"\",\"\",Kalkulator!M180)","v":0},{"$f":"IF(Kalkulator!N180=\"\",\"\",Kalkulator!N180)","v":1},{"$f":"IF(Kalkulator!O180=\"\",\"\",Kalkulator!O180)","v":{"$error":"#N/A"}},{"$f":"IF(Kalkulator!P180=\"\",\"\",Kalkulator!P180)","v":{"$error":"#N/A"}},{"$f":"IF(Kalkulator!Q180=\"\",\"\",Kalkulator!Q180)","v":{"$error":"#N/A"}},"","",0,0,0,0,0]
[null,null,null,{"$f":"IF(Kalkulator!D181=\"\",\"\",Kalkulator!D181)","v":0},{"$f":"IF(Kalkulator!E181=\"\",\"\",Kalkulator!E181)","v":0},{"$f":"IF(Kalkulator!F181=\"\",\"\",Kalkulator!F181)","v":0},{"$f":"IF(Kalkulator!G181=\"\",\"\",Kalkulator!G181)","v":0},{"$f":"IF(Kalkulator!H181=\"\",\"\",Kalkulator!H181)","v":0},{"$f":"IF(Kalkulator!I181=\"\",\"\",Kalkulator!I181)","v":0},{"$f":"IF(Kalkulator!J181=\"\",\"\",Kalkulator!J181)","v":""},{"$f":"IF(Kalkulator!K181=\"\",\"\",Kalkulator!K181)","v":0},{"$f":"IF(Kalkulator!L181=\"\",\"\",Kalkulator!L181)","v":""},{"$f":"IF(Kalkulator!M181=\"\",\"\",Kalkulator!M181)","v":0},{"$f":"IF(Kalkulator!N181=\"\",\"\",Kalkulator!N181)","v":1},{"$f":"IF(Kalkulator!O181=\"\",\"\",Kalkulator!O181)","v":{"$error":"#N/A"}},{"$f":"IF(Kalkulator!P181=\"\",\"\",Kalkulator!P181)","v":{"$error":"#N/A"}},{"$f":"IF(Kalkulator!Q181=\"\",\"\",Kalkulator!Q181)","v":{"$error":"#N/A"}},"","",0,0,0,0,0]
[null,null,null,{"$f":"IF(Kalkulator!D182=\"\",\"\",Kalkulator!D182)","v":0},{"$f":"IF(Kalkulator!E182=\"\",\"\",Kalkulator!E182)","v":0},{"$f":"IF(Kalkulator!F182=\"\",\"\",Kalkulator!F182)","v":0},{"$f":"IF(Kalkulator!G182=\"\",\"\",Kalkulator!G182)","v":0},{"$f":"IF(Kalkulator!H182=\"\",\"\",Kalkulator!H182)","v":0},{"$f":"IF(Kalkulator!I182=\"\",\"\",Kalkulator!I182)","v":0},{"$f":"IF(Kalkulator!J182=\"\",\"\",Kalkulator!J182)","v":""},{"$f":"IF(Kalkulator!K182=\"\",\"\",Kalkulator!K182)","v":0},{"$f":"IF(Kalkulator!L182=\"\",\"\",Kalkulator!L182)","v":""},{"$f":"IF(Kalkulator!M182=\"\",\"\",Kalkulator!M182)","v":0},{"$f":"IF(Kalkulator!N182=\"\",\"\",Kalkulator!N182)","v":1},{"$f":"IF(Kalkulator!O182=\"\",\"\",Kalkulator!O182)","v":{"$error":"#N/A"}},{"$f":"IF(Kalkulator!P182=\"\",\"\",Kalkulator!P182)","v":{"$error":"#N/A"}},{"$f":"IF(Kalkulator!Q182=\"\",\"\",Kalkulator!Q182)","v":{"$error":"#N/A"}},"","",0,0,0,0,0]
[null,null,null,{"$f":"IF(Kalkulator!D183=\"\",\"\",Kalkulator!D183)","v":0},{"$f":"IF(Kalkulator!E183=\"\",\"\",Kalkulator!E183)","v":0},{"$f":"IF(Kalkulator!F183=\"\",\"\",Kalkulator!F183)","v":0},{"$f":"IF(Kalkulator!G183=\"\",\"\",Kalkulator!G183)","v":0},{"$f":"IF(Kalkulator!H183=\"\",\"\",Kalkulator!H183)","v":0},{"$f":"IF(Kalkulator!I183=\"\",\"\",Kalkulator!I183)","v":0},{"$f":"IF(Kalkulator!J183=\"\",\"\",Kalkulator!J183)","v":""},{"$f":"IF(Kalkulator!K183=\"\",\"\",Kalkulator!K183)","v":0},{"$f":"IF(Kalkulator!L183=\"\",\"\",Kalkulator!L183)","v":""},{"$f":"IF(Kalkulator!M183=\"\",\"\",Kalkulator!M183)","v":0},{"$f":"IF(Kalkulator!N183=\"\",\"\",Kalkulator!N183)","v":1},{"$f":"IF(Kalkulator!O183=\"\",\"\",Kalkulator!O183)","v":{"$error":"#N/A"}},{"$f":"IF(Kalkulator!P183=\"\",\"\",Kalkulator!P183)","v":{"$error":"#N/A"}},{"$f":"IF(Kalkulator!Q183=\"\",\"\",Kalkulator!Q183)","v":{"$error":"#N/A"}},"","",0,0,0,0,0]
[null,null,null,{"$f":"IF(Kalkulator!D184=\"\",\"\",Kalkulator!D184)","v":0},{"$f":"IF(Kalkulator!E184=\"\",\"\",Kalkulator!E184)","v":0},{"$f":"IF(Kalkulator!F184=\"\",\"\",Kalkulator!F184)","v":0},{"$f":"IF(Kalkulator!G184=\"\",\"\",Kalkulator!G184)","v":0},{"$f":"IF(Kalkulator!H184=\"\",\"\",Kalkulator!H184)","v":0},{"$f":"IF(Kalkulator!I184=\"\",\"\",Kalkulator!I184)","v":0},{"$f":"IF(Kalkulator!J184=\"\",\"\",Kalkulator!J184)","v":""},{"$f":"IF(Kalkulator!K184=\"\",\"\",Kalkulator!K184)","v":0},{"$f":"IF(Kalkulator!L184=\"\",\"\",Kalkulator!L184)","v":""},{"$f":"IF(Kalkulator!M184=\"\",\"\",Kalkulator!M184)","v":0},{"$f":"IF(Kalkulator!N184=\"\",\"\",Kalkulator!N184)","v":1},{"$f":"IF(Kalkulator!O184=\"\",\"\",Kalkulator!O184)","v":{"$error":"#N/A"}},{"$f":"IF(Kalkulator!P184=\"\",\"\",Kalkulator!P184)","v":{"$error":"#N/A"}},{"$f":"IF(Kalkulator!Q184=\"\",\"\",Kalkulator!Q184)","v":{"$error":"#N/A"}},"","",0,0,0,0,0]
[null,null,null,{"$f":"IF(Kalkulator!D185=\"\",\"\",Kalkulator!D185)","v":0},{"$f":"IF(Kalkulator!E185=\"\",\"\",Kalkulator!E185)","v":0},{"$f":"IF(Kalkulator!F185=\"\",\"\",Kalkulator!F185)","v":0},{"$f":"IF(Kalkulator!G185=\"\",\"\",Kalkulator!G185)","v":0},{"$f":"IF(Kalkulator!H185=\"\",\"\",Kalkulator!H185)","v":0},{"$f":"IF(Kalkulator!I185=\"\",\"\",Kalkulator!I185)","v":0},{"$f":"IF(Kalkulator!J185=\"\",\"\",Kalkulator!J185)","v":""},{"$f":"IF(Kalkulator!K185=\"\",\"\",Kalkulator!K185)","v":0},{"$f":"IF(Kalkulator!L185=\"\",\"\",Kalkulator!L185)","v":""},{"$f":"IF(Kalkulator!M185=\"\",\"\",Kalkulator!M185)","v":0},{"$f":"IF(Kalkulator!N185=\"\",\"\",Kalkulator!N185)","v":1},{"$f":"IF(Kalkulator!O185=\"\",\"\",Kalkulator!O185)","v":{"$error":"#N/A"}},{"$f":"IF(Kalkulator!P185=\"\",\"\",Kalkulator!P185)","v":{"$error":"#N/A"}},{"$f":"IF(Kalkulator!Q185=\"\",\"\",Kalkulator!Q185)","v":{"$error":"#N/A"}},"","",0,0,0,0,0]
[null,null,null,{"$f":"IF(Kalkulator!D186=\"\",\"\",Kalkulator!D186)","v":0},{"$f":"IF(Kalkulator!E186=\"\",\"\",Kalkulator!E186)","v":0},{"$f":"IF(Kalkulator!F186=\"\",\"\",Kalkulator!F186)","v":0},{"$f":"IF(Kalkulator!G186=\"\",\"\",Kalkulator!G186)","v":0},{"$f":"IF(Kalkulator!H186=\"\",\"\",Kalkulator!H186)","v":0},{"$f":"IF(Kalkulator!I186=\"\",\"\",Kalkulator!I186)","v":0},{"$f":"IF(Kalkulator!J186=\"\",\"\",Kalkulator!J186)","v":""},{"$f":"IF(Kalkulator!K186=\"\",\"\",Kalkulator!K186)","v":0},{"$f":"IF(Kalkulator!L186=\"\",\"\",Kalkulator!L186)","v":""},{"$f":"IF(Kalkulator!M186=\"\",\"\",Kalkulator!M186)","v":0},{"$f":"IF(Kalkulator!N186=\"\",\"\",Kalkulator!N186)","v":1},{"$f":"IF(Kalkulator!O186=\"\",\"\",Kalkulator!O186)","v":{"$error":"#N/A"}},{"$f":"IF(Kalkulator!P186=\"\",\"\",Kalkulator!P186)","v":{"$error":"#N/A"}},{"$f":"IF(Kalkulator!Q186=\"\",\"\",Kalkulator!Q186)","v":{"$error":"#N/A"}},"","",0,0,0,0,0]
[null,null,null,{"$f":"IF(Kalkulator!D187=\"\",\"\",Kalkulator!D187)","v":0},{"$f":"IF(Kalkulator!E187=\"\",\"\",Kalkulator!E187)","v":0},{"$f":"IF(Kalkulator!F187=\"\",\"\",Kalkulator!F187)","v":0},{"$f":"IF(Kalkulator!G187=\"\",\"\",Kalkulator!G187)","v":0},{"$f":"IF(Kalkulator!H187=\"\",\"\",Kalkulator!H187)","v":0},{"$f":"IF(Kalkulator!I187=\"\",\"\",Kalkulator!I187)","v":0},{"$f":"IF(Kalkulator!J187=\"\",\"\",Kalkulator!J187)","v":""},{"$f":"IF(Kalkulator!K187=\"\",\"\",Kalkulator!K187)","v":0},{"$f":"IF(Kalkulator!L187=\"\",\"\",Kalkulator!L187)","v":""},{"$f":"IF(Kalkulator!M187=\"\",\"\",Kalkulator!M187)","v":0},{"$f":"IF(Kalkulator!N187=\"\",\"\",Kalkulator!N187)","v":1},{"$f":"IF(Kalkulator!O187=\"\",\"\",Kalkulator!O187)","v":{"$error":"#N/A"}},{"$f":"IF(Kalkulator!P187=\"\",\"\",Kalkulator!P187)","v":{"$error":"#N/A"}},{"$f":"IF(Kalkulator!Q187=\"\",\"\",Kalkulator!Q187)","v":{"$error":"#N/A"}},"","",0,0,0,0,0]
[null,null,null,{"$f":"IF(Kalkulator!D188=\"\",\"\",Kalkulator!D188)","v":0},{"$f":"IF(Kalkulator!E188=\"\",\"\",Kalkulator!E188)","v":0},{"$f":"IF(Kalkulator!F188=\"\",\"\",Kalkulator!F188)","v":0},{"$f":"IF(Kalkulator!G188=\"\",\"\",Kalkulator!G188)","v":0},{"$f":"IF(Kalkulator!H188=\"\",\"\",Kalkulator!H188)","v":0},{"$f":"IF(Kalkulator!I188=\"\",\"\",Kalkulator!I188)","v":0},{"$f":"IF(Kalkulator!J188=\"\",\"\",Kalkulator!J188)","v":""},{"$f":"IF(Kalkulator!K188=\"\",\"\",Kalkulator!K188)","v":0},{"$f":"IF(Kalkulator!L188=\"\",\"\",Kalkulator!L188)","v":""},{"$f":"IF(Kalkulator!M188=\"\",\"\",Kalkulator!M188)","v":0},{"$f":"IF(Kalkulator!N188=\"\",\"\",Kalkulator!N188)","v":1},{"$f":"IF(Kalkulator!O188=\"\",\"\",Kalkulator!O188)","v":{"$error":"#N/A"}},{"$f":"IF(Kalkulator!P188=\"\",\"\",Kalkulator!P188)","v":{"$error":"#N/A"}},{"$f":"IF(Kalkulator!Q188=\"\",\"\",Kalkulator!Q188)","v":{"$error":"#N/A"}},"","",0,0,0,0,0]
[null,null,null,{"$f":"IF(Kalkulator!D189=\"\",\"\",Kalkulator!D189)","v":0},{"$f":"IF(Kalkulator!E189=\"\",\"\",Kalkulator!E189)","v":0},{"$f":"IF(Kalkulator!F189=\"\",\"\",Kalkulator!F189)","v":0},{"$f":"IF(Kalkulator!G189=\"\",\"\",Kalkulator!G189)","v":0},{"$f":"IF(Kalkulator!H189=\"\",\"\",Kalkulator!H189)","v":0},{"$f":"IF(Kalkulator!I189=\"\",\"\",Kalkulator!I189)","v":0},{"$f":"IF(Kalkulator!J189=\"\",\"\",Kalkulator!J189)","v":""},{"$f":"IF(Kalkulator!K189=\"\",\"\",Kalkulator!K189)","v":0},{"$f":"IF(Kalkulator!L189=\"\",\"\",Kalkulator!L189)","v":""},{"$f":"IF(Kalkulator!M189=\"\",\"\",Kalkulator!M189)","v":0},{"$f":"IF(Kalkulator!N189=\"\",\"\",Kalkulator!N189)","v":1},{"$f":"IF(Kalkulator!O189=\"\",\"\",Kalkulator!O189)","v":{"$error":"#N/A"}},{"$f":"IF(Kalkulator!P189=\"\",\"\",Kalkulator!P189)","v":{"$error":"#N/A"}},{"$f":"IF(Kalkulator!Q189=\"\",\"\",Kalkulator!Q189)","v":{"$error":"#N/A"}},"","",0,0,0,0,0]
[null,null,null,{"$f":"IF(Kalkulator!D190=\"\",\"\",Kalkulator!D190)","v":0},{"$f":"IF(Kalkulator!E190=\"\",\"\",Kalkulator!E190)","v":0},{"$f":"IF(Kalkulator!F190=\"\",\"\",Kalkulator!F190)","v":0},{"$f":"IF(Kalkulator!G190=\"\",\"\",Kalkulator!G190)","v":0},{"$f":"IF(Kalkulator!H190=\"\",\"\",Kalkulator!H190)","v":0},{"$f":"IF(Kalkulator!I190=\"\",\"\",Kalkulator!I190)","v":0},{"$f":"IF(Kalkulator!J190=\"\",\"\",Kalkulator!J190)","v":""},{"$f":"IF(Kalkulator!K190=\"\",\"\",Kalkulator!K190)","v":0},{"$f":"IF(Kalkulator!L190=\"\",\"\",Kalkulator!L190)","v":""},{"$f":"IF(Kalkulator!M190=\"\",\"\",Kalkulator!M190)","v":0},{"$f":"IF(Kalkulator!N190=\"\",\"\",Kalkulator!N190)","v":1},{"$f":"IF(Kalkulator!O190=\"\",\"\",Kalkulator!O190)","v":{"$error":"#N/A"}},{"$f":"IF(Kalkulator!P190=\"\",\"\",Kalkulator!P190)","v":{"$error":"#N/A"}},{"$f":"IF(Kalkulator!Q190=\"\",\"\",Kalkulator!Q190)","v":{"$error":"#N/A"}},"","",0,0,0,0,0]
[null,null,null,{"$f":"IF(Kalkulator!D191=\"\",\"\",Kalkulator!D191)","v":0},{"$f":"IF(Kalkulator!E191=\"\",\"\",Kalkulator!E191)","v":0},{"$f":"IF(Kalkulator!F191=\"\",\"\",Kalkulator!F191)","v":0},{"$f":"IF(Kalkulator!G191=\"\",\"\",Kalkulator!G191)","v":0},{"$f":"IF(Kalkulator!H191=\"\",\"\",Kalkulator!H191)","v":0},{"$f":"IF(Kalkulator!I191=\"\",\"\",Kalkulator!I191)","v":0},{"$f":"IF(Kalkulator!J191=\"\",\"\",Kalkulator!J191)","v":""},{"$f":"IF(Kalkulator!K191=\"\",\"\",Kalkulator!K191)","v":0},{"$f":"IF(Kalkulator!L191=\"\",\"\",Kalkulator!L191)","v":""},{"$f":"IF(Kalkulator!M191=\"\",\"\",Kalkulator!M191)","v":0},{"$f":"IF(Kalkulator!N191=\"\",\"\",Kalkulator!N191)","v":1},{"$f":"IF(Kalkulator!O191=\"\",\"\",Kalkulator!O191)","v":{"$error":"#N/A"}},{"$f":"IF(Kalkulator!P191=\"\",\"\",Kalkulator!P191)","v":{"$error":"#N/A"}},{"$f":"IF(Kalkulator!Q191=\"\",\"\",Kalkulator!Q191)","v":{"$error":"#N/A"}},"","",0,0,0,0,0]
[null,null,null,{"$f":"IF(Kalkulator!D192=\"\",\"\",Kalkulator!D192)","v":0},{"$f":"IF(Kalkulator!E192=\"\",\"\",Kalkulator!E192)","v":0},{"$f":"IF(Kalkulator!F192=\"\",\"\",Kalkulator!F192)","v":0},{"$f":"IF(Kalkulator!G192=\"\",\"\",Kalkulator!G192)","v":0},{"$f":"IF(Kalkulator!H192=\"\",\"\",Kalkulator!H192)","v":0},{"$f":"IF(Kalkulator!I192=\"\",\"\",Kalkulator!I192)","v":0},{"$f":"IF(Kalkulator!J192=\"\",\"\",Kalkulator!J192)","v":""},{"$f":"IF(Kalkulator!K192=\"\",\"\",Kalkulator!K192)","v":0},{"$f":"IF(Kalkulator!L192=\"\",\"\",Kalkulator!L192)","v":""},{"$f":"IF(Kalkulator!M192=\"\",\"\",Kalkulator!M192)","v":0},{"$f":"IF(Kalkulator!N192=\"\",\"\",Kalkulator!N192)","v":1},{"$f":"IF(Kalkulator!O192=\"\",\"\",Kalkulator!O192)","v":{"$error":"#N/A"}},{"$f":"IF(Kalkulator!P192=\"\",\"\",Kalkulator!P192)","v":{"$error":"#N/A"}},{"$f":"IF(Kalkulator!Q192=\"\",\"\",Kalkulator!Q192)","v":{"$error":"#N/A"}},"","",0,0,0,0,0]
[null,null,null,{"$f":"IF(Kalkulator!D193=\"\",\"\",Kalkulator!D193)","v":0},{"$f":"IF(Kalkulator!E193=\"\",\"\",Kalkulator!E193)","v":0},{"$f":"IF(Kalkulator!F193=\"\",\"\",Kalkulator!F193)","v":0},{"$f":"IF(Kalkulator!G193=\"\",\"\",Kalkulator!G193)","v":0},{"$f":"IF(Kalkulator!H193=\"\",\"\",Kalkulator!H193)","v":0},{"$f":"IF(Kalkulator!I193=\"\",\"\",Kalkulator!I193)","v":0},{"$f":"IF(Kalkulator!J193=\"\",\"\",Kalkulator!J193)","v":""},{"$f":"IF(Kalkulator!K193=\"\",\"\",Kalkulator!K193)","v":0},{"$f":"IF(Kalkulator!L193=\"\",\"\",Kalkulator!L193)","v":""},{"$f":"IF(Kalkulator!M193=\"\",\"\",Kalkulator!M193)","v":0},{"$f":"IF(Kalkulator!N193=\"\",\"\",Kalkulator!N193)","v":1},{"$f":"IF(Kalkulator!O193=\"\",\"\",Kalkulator!O193)","v":{"$error":"#N/A"}},{"$f":"IF(Kalkulator!P193=\"\",\"\",Kalkulator!P193)","v":{"$error":"#N/A"}},{"$f":"IF(Kalkulator!Q193=\"\",\"\",Kalkulator!Q193)","v":{"$error":"#N/A"}},"","",0,0,0,0,0]
[null,null,null,{"$f":"IF(Kalkulator!D194=\"\",\"\",Kalkulator!D194)","v":0},{"$f":"IF(Kalkulator!E194=\"\",\"\",Kalkulator!E194)","v":0},{"$f":"IF(Kalkulator!F194=\"\",\"\",Kalkulator!F194)","v":0},{"$f":"IF(Kalkulator!G194=\"\",\"\",Kalkulator!G194)","v":0},{"$f":"IF(Kalkulator!H194=\"\",\"\",Kalkulator!H194)","v":0},{"$f":"IF(Kalkulator!I194=\"\",\"\",Kalkulator!I194)","v":0},{"$f":"IF(Kalkulator!J194=\"\",\"\",Kalkulator!J194)","v":""},{"$f":"IF(Kalkulator!K194=\"\",\"\",Kalkulator!K194)","v":0},{"$f":"IF(Kalkulator!L194=\"\",\"\",Kalkulator!L194)","v":""},{"$f":"IF(Kalkulator!M194=\"\",\"\",Kalkulator!M194)","v":0},{"$f":"IF(Kalkulator!N194=\"\",\"\",Kalkulator!N194)","v":1},{"$f":"IF(Kalkulator!O194=\"\",\"\",Kalkulator!O194)","v":{"$error":"#N/A"}},{"$f":"IF(Kalkulator!P194=\"\",\"\",Kalkulator!P194)","v":{"$error":"#N/A"}},{"$f":"IF(Kalkulator!Q194=\"\",\"\",Kalkulator!Q194)","v":{"$error":"#N/A"}},"","",0,0,0,0,0]
[null,null,null,{"$f":"IF(Kalkulator!D195=\"\",\"\",Kalkulator!D195)","v":0},{"$f":"IF(Kalkulator!E195=\"\",\"\",Kalkulator!E195)","v":0},{"$f":"IF(Kalkulator!F195=\"\",\"\",Kalkulator!F195)","v":0},{"$f":"IF(Kalkulator!G195=\"\",\"\",Kalkulator!G195)","v":0},{"$f":"IF(Kalkulator!H195=\"\",\"\",Kalkulator!H195)","v":0},{"$f":"IF(Kalkulator!I195=\"\",\"\",Kalkulator!I195)","v":0},{"$f":"IF(Kalkulator!J195=\"\",\"\",Kalkulator!J195)","v":""},{"$f":"IF(Kalkulator!K195=\"\",\"\",Kalkulator!K195)","v":0},{"$f":"IF(Kalkulator!L195=\"\",\"\",Kalkulator!L195)","v":""},{"$f":"IF(Kalkulator!M195=\"\",\"\",Kalkulator!M195)","v":0},{"$f":"IF(Kalkulator!N195=\"\",\"\",Kalkulator!N195)","v":1},{"$f":"IF(Kalkulator!O195=\"\",\"\",Kalkulator!O195)","v":{"$error":"#N/A"}},{"$f":"IF(Kalkulator!P195=\"\",\"\",Kalkulator!P195)","v":{"$error":"#N/A"}},{"$f":"IF(Kalkulator!Q195=\"\",\"\",Kalkulator!Q195)","v":{"$error":"#N/A"}},"","",0,0,0,0,0]
[null,null,null,{"$f":"IF(Kalkulator!D196=\"\",\"\",Kalkulator!D196)","v":0},{"$f":"IF(Kalkulator!E196=\"\",\"\",Kalkulator!E196)","v":0},{"$f":"IF(Kalkulator!F196=\"\",\"\",Kalkulator!F196)","v":0},{"$f":"IF(Kalkulator!G196=\"\",\"\",Kalkulator!G196)","v":0},{"$f":"IF(Kalkulator!H196=\"\",\"\",Kalkulator!H196)","v":0},{"$f":"IF(Kalkulator!I196=\"\",\"\",Kalkulator!I196)","v":0},{"$f":"IF(Kalkulator!J196=\"\",\"\",Kalkulator!J196)","v":""},{"$f":"IF(Kalkulator!K196=\"\",\"\",Kalkulator!K196)","v":0},{"$f":"IF(Kalkulator!L196=\"\",\"\",Kalkulator!L196)","v":""},{"$f":"IF(Kalkulator!M196=\"\",\"\",Kalkulator!M196)","v":0},{"$f":"IF(Kalkulator!N196=\"\",\"\",Kalkulator!N196)","v":1},{"$f":"IF(Kalkulator!O196=\"\",\"\",Kalkulator!O196)","v":{"$error":"#N/A"}},{"$f":"IF(Kalkulator!P196=\"\",\"\",Kalkulator!P196)","v":{"$error":"#N/A"}},{"$f":"IF(Kalkulator!Q196=\"\",\"\",Kalkulator!Q196)","v":{"$error":"#N/A"}},"","",0,0,0,0,0]
[null,null,null,{"$f":"IF(Kalkulator!D197=\"\",\"\",Kalkulator!D197)","v":0},{"$f":"IF(Kalkulator!E197=\"\",\"\",Kalkulator!E197)","v":0},{"$f":"IF(Kalkulator!F197=\"\",\"\",Kalkulator!F197)","v":0},{"$f":"IF(Kalkulator!G197=\"\",\"\",Kalkulator!G197)","v":0},{"$f":"IF(Kalkulator!H197=\"\",\"\",Kalkulator!H197)","v":0},{"$f":"IF(Kalkulator!I197=\"\",\"\",Kalkulator!I197)","v":0},{"$f":"IF(Kalkulator!J197=\"\",\"\",Kalkulator!J197)","v":""},{"$f":"IF(Kalkulator!K197=\"\",\"\",Kalkulator!K197)","v":0},{"$f":"IF(Kalkulator!L197=\"\",\"\",Kalkulator!L197)","v":""},{"$f":"IF(Kalkulator!M197=\"\",\"\",Kalkulator!M197)","v":0},{"$f":"IF(Kalkulator!N197=\"\",\"\",Kalkulator!N197)","v":1},{"$f":"IF(Kalkulator!O197=\"\",\"\",Kalkulator!O197)","v":{"$error":"#N/A"}},{"$f":"IF(Kalkulator!P197=\"\",\"\",Kalkulator!P197)","v":{"$error":"#N/A"}},{"$f":"IF(Kalkulator!Q197=\"\",\"\",Kalkulator!Q197)","v":{"$error":"#N/A"}},"","",0,0,0,0,0]
[null,null,null,{"$f":"IF(Kalkulator!D198=\"\",\"\",Kalkulator!D198)","v":0},{"$f":"IF(Kalkulator!E198=\"\",\"\",Kalkulator!E198)","v":0},{"$f":"IF(Kalkulator!F198=\"\",\"\",Kalkulator!F198)","v":0},{"$f":"IF(Kalkulator!G198=\"\",\"\",Kalkulator!G198)","v":0},{"$f":"IF(Kalkulator!H198=\"\",\"\",Kalkulator!H198)","v":0},{"$f":"IF(Kalkulator!I198=\"\",\"\",Kalkulator!I198)","v":0},{"$f":"IF(Kalkulator!J198=\"\",\"\",Kalkulator!J198)","v":""},{"$f":"IF(Kalkulator!K198=\"\",\"\",Kalkulator!K198)","v":0},{"$f":"IF(Kalkulator!L198=\"\",\"\",Kalkulator!L198)","v":""},{"$f":"IF(Kalkulator!M198=\"\",\"\",Kalkulator!M198)","v":0},{"$f":"IF(Kalkulator!N198=\"\",\"\",Kalkulator!N198)","v":1},{"$f":"IF(Kalkulator!O198=\"\",\"\",Kalkulator!O198)","v":{"$error":"#N/A"}},{"$f":"IF(Kalkulator!P198=\"\",\"\",Kalkulator!P198)","v":{"$error":"#N/A"}},{"$f":"IF(Kalkulator!Q198=\"\",\"\",Kalkulator!Q198)","v":{"$error":"#N/A"}},"","",0,0,0,0,0]
[null,null,null,{"$f":"IF(Kalkulator!D199=\"\",\"\",Kalkulator!D199)","v":0},{"$f":"IF(Kalkulator!E199=\"\",\"\",Kalkulator!E199)","v":0},{"$f":"IF(Kalkulator!F199=\"\",\"\",Kalkulator!F199)","v":0},{"$f":"IF(Kalkulator!G199=\"\",\"\",Kalkulator!G199)","v":0},{"$f":"IF(Kalkulator!H199=\"\",\"\",Kalkulator!H199)","v":0},{"$f":"IF(Kalkulator!I199=\"\",\"\",Kalkulator!I199)","v":0},{"$f":"IF(Kalkulator!J199=\"\",\"\",Kalkulator!J199)","v":""},{"$f":"IF(Kalkulator!K199=\"\",\"\",Kalkulator!K199)","v":0},{"$f":"IF(Kalkulator!L199=\"\",\"\",Kalkulator!L199)","v":""},{"$f":"IF(Kalkulator!M199=\"\",\"\",Kalkulator!M199)","v":0},{"$f":"IF(Kalkulator!N199=\"\",\"\",Kalkulator!N199)","v":1},{"$f":"IF(Kalkulator!O199=\"\",\"\",Kalkulator!O199)","v":{"$error":"#N/A"}},{"$f":"IF(Kalkulator!P199=\"\",\"\",Kalkulator!P199)","v":{"$error":"#N/A"}},{"$f":"IF(Kalkulator!Q199=\"\",\"\",Kalkulator!Q199)","v":{"$error":"#N/A"}},"","",0,0,0,0,0]
[null,null,null,{"$f":"IF(Kalkulator!D200=\"\",\"\",Kalkulator!D200)","v":0},{"$f":"IF(Kalkulator!E200=\"\",\"\",Kalkulator!E200)","v":0},{"$f":"IF(Kalkulator!F200=\"\",\"\",Kalkulator!F200)","v":0},{"$f":"IF(Kalkulator!G200=\"\",\"\",Kalkulator!G200)","v":0},{"$f":"IF(Kalkulator!H200=\"\",\"\",Kalkulator!H200)","v":0},{"$f":"IF(Kalkulator!I200=\"\",\"\",Kalkulator!I200)","v":0},{"$f":"IF(Kalkulator!J200=\"\",\"\",Kalkulator!J200)","v":""},{"$f":"IF(Kalkulator!K200=\"\",\"\",Kalkulator!K200)","v":0},{"$f":"IF(Kalkulator!L200=\"\",\"\",Kalkulator!L200)","v":""},{"$f":"IF(Kalkulator!M200=\"\",\"\",Kalkulator!M200)","v":0},{"$f":"IF(Kalkulator!N200=\"\",\"\",Kalkulator!N200)","v":1},{"$f":"IF(Kalkulator!O200=\"\",\"\",Kalkulator!O200)","v":{"$error":"#N/A"}},{"$f":"IF(Kalkulator!P200=\"\",\"\",Kalkulator!P200)","v":{"$error":"#N/A"}},{"$f":"IF(Kalkulator!Q200=\"\",\"\",Kalkulator!Q200)","v":{"$error":"#N/A"}},"","",0,0,0,0,0]
[null,null,null,null,null,null,null,null,null,{"$f":"IF(Kalkulator!J201=\"\",\"\",Kalkulator!J201)","v":""},null,null,null,null,null,null,null,""]
[null,null,null,null,null,null,null,null,null,{"$f":"IF(Kalkulator!J202=\"\",\"\",Kalkulator!J202)","v":""},null,null,null,null,null,null,null,{"$f":"IF(L202=\"\",\"\",IF(L201=L202,R201+1,VLOOKUP(A202,A:R,18,0)))","v":""}]
[null,null,null,null,null,null,null,null,null,{"$f":"IF(Kalkulator!J203=\"\",\"\",Kalkulator!J203)","v":""},null,null,null,null,null,null,null,""]
[null,null,null,null,null,null,null,null,null,{"$f":"IF(Kalkulator!J204=\"\",\"\",Kalkulator!J204)","v":""},null,null,null,null,null,null,null,""]
[null,null,null,null,null,null,null,null,null,{"$f":"IF(Kalkulator!J205=\"\",\"\",Kalkulator!J205)","v":""},null,null,null,null,null,null,null,""]
[null,null,null,null,null,null,null,null,null,{"$f":"IF(Kalkulator!J206=\"\",\"\",Kalkulator!J206)","v":""},null,null,null,null,null,null,null,""]
[null,null,null,null,null,null,null,null,null,{"$f":"IF(Kalkulator!J207=\"\",\"\",Kalkulator!J207)","v":""},null,null,null,null,null,null,null,""]
[null,null,null,null,null,null,null,null,null,{"$f":"IF(Kalkulator!J208=\"\",\"\",Kalkulator!J208)","v":""},null,null,null,null,null,null,null,""]
[null,null,null,null,null,null,null,null,null,{"$f":"IF(Kalkulator!J209=\"\",\"\",Kalkulator!J209)","v":""},null,null,null,null,null,null,null,""]
[null,null,null,null,null,null,null,null,null,{"$f":"IF(Kalkulator!J210=\"\",\"\",Kalkulator!J210)","v":""},null,null,null,null,null,null,null,""]
[null,null,null,null,null,null,null,null,null,{"$f":"IF(Kalkulator!J211=\"\",\"\",Kalkulator!J211)","v":""},null,null,null,null,null,null,null,""]
[null,null,null,null,null,null,null,null,null,{"$f":"IF(Kalkulator!J212=\"\",\"\",Kalkulator!J212)","v":""},null,null,null,null,null,null,null,""]
[null,null,null,null,null,null,null,null,null,{"$f":"IF(Kalkulator!J213=\"\",\"\",Kalkulator!J213)","v":""},null,null,null,null,null,null,null,""]
[null,null,null,null,null,null,null,null,null,{"$f":"IF(Kalkulator!J214=\"\",\"\",Kalkulator!J214)","v":""},null,null,null,null,null,null,null,""]
[null,null,null,null,null,null,null,null,null,{"$f":"IF(Kalkulator!J215=\"\",\"\",Kalkulator!J215)","v":""},null,null,null,null,null,null,null,""]
[null,null,null,null,null,null,null,null,null,{"$f":"IF(Kalkulator!J216=\"\",\"\",Kalkulator!J216)","v":""},null,null,null,null,null,null,null,""]
[null,null,null,null,null,null,null,null,null,{"$f":"IF(Kalkulator!J217=\"\",\"\",Kalkulator!J217)","v":""},null,null,null,null,null,null,null,""]
[null,null,null,null,null,null,null,null,null,{"$f":"IF(Kalkulator!J218=\"\",\"\",Kalkulator!J218)","v":""},null,null,null,null,null,null,null,""]
[null,null,null,null,null,null,null,null,null,{"$f":"IF(Kalkulator!J219=\"\",\"\",Kalkulator!J219)","v":""},null,null,null,null,null,null,null,""]
[null,null,null,null,null,null,null,null,null,{"$f":"IF(Kalkulator!J220=\"\",\"\",Kalkulator!J220)","v":""},null,null,null,null,null,null,null,""]
[null,null,null,null,null,null,null,null,null,{"$f":"IF(Kalkulator!J221=\"\",\"\",Kalkulator!J221)","v":""},null,null,null,null,null,null,null,""]
[null,null,null,null,null,null,null,null,null,{"$f":"IF(Kalkulator!J222=\"\",\"\",Kalkulator!J222)","v":""},null,null,null,null,null,null,null,""]
[null,null,null,null,null,null,null,null,null,{"$f":"IF(Kalkulator!J223=\"\",\"\",Kalkulator!J223)","v":""},null,null,null,null,null,null,null,""]
[null,null,null,null,null,null,null,null,null,{"$f":"IF(Kalkulator!J224=\"\",\"\",Kalkulator!J224)","v":""},null,null,null,null,null,null,null,""]
[null,null,null,null,null,null,null,null,null,{"$f":"IF(Kalkulator!J225=\"\",\"\",Kalkulator!J225)","v":""},null,null,null,null,null,null,null,""]
[null,null,null,null,null,null,null,null,null,{"$f":"IF(Kalkulator!J226=\"\",\"\",Kalkulator!J226)","v":""},null,null,null,null,null,null,null,""]
[null,null,null,null,null,null,null,null,null,{"$f":"IF(Kalkulator!J227=\"\",\"\",Kalkulator!J227)","v":""},null,null,null,null,null,null,null,""]
[null,null,null,null,null,null,null,null,null,{"$f":"IF(Kalkulator!J228=\"\",\"\",Kalkulator!J228)","v":""},null,null,null,null,null,null,null,""]
[null,null,null,null,null,null,null,null,null,{"$f":"IF(Kalkulator!J229=\"\",\"\",Kalkulator!J229)","v":""},null,null,null,null,null,null,null,""]
[null,null,null,null,null,null,null,null,null,{"$f":"IF(Kalkulator!J230=\"\",\"\",Kalkulator!J230)","v":""},null,null,null,null,null,null,null,""]
[null,null,null,null,null,null,null,null,null,{"$f":"IF(Kalkulator!J231=\"\",\"\",Kalkulator!J231)","v":""},null,null,null,null,null,null,null,""]
[null,null,null,null,null,null,null,null,null,{"$f":"IF(Kalkulator!J232=\"\",\"\",Kalkulator!J232)","v":""},null,null,null,null,null,null,null,""]
[null,null,null,null,null,null,null,null,null,{"$f":"IF(Kalkulator!J233=\"\",\"\",Kalkulator!J233)","v":""},null,null,null,null,null,null,null,""]
[null,null,null,null,null,null,null,null,null,{"$f":"IF(Kalkulator!J234=\"\",\"\",Kalkulator!J234)","v":""},null,null,null,null,null,null,null,""]
[null,null,null,null,null,null,null,null,null,{"$f":"IF(Kalkulator!J235=\"\",\"\",Kalkulator!J235)","v":""},null,null,null,null,null,null,null,""]
[null,null,null,null,null,null,null,null,null,{"$f":"IF(Kalkulator!J236=\"\",\"\",Kalkulator!J236)","v":""},null,null,null,null,null,null,null,""]
[null,null,null,null,null,null,null,null,null,{"$f":"IF(Kalkulator!J237=\"\",\"\",Kalkulator!J237)","v":""},null,null,null,null,null,null,null,""]
[null,null,null,null,null,null,null,null,null,{"$f":"IF(Kalkulator!J238=\"\",\"\",Kalkulator!J238)","v":""},null,null,null,null,null,null,null,""]
[null,null,null,null,null,null,null,null,null,{"$f":"IF(Kalkulator!J239=\"\",\"\",Kalkulator!J239)","v":""},null,null,null,null,null,null,null,""]
[null,null,null,null,null,null,null,null,null,{"$f":"IF(Kalkulator!J240=\"\",\"\",Kalkulator!J240)","v":""},null,null,null,null,null,null,null,""]
[null,null,null,null,null,null,null,null,null,{"$f":"IF(Kalkulator!J241=\"\",\"\",Kalkulator!J241)","v":""},null,null,null,null,null,null,null,""]
[null,null,null,null,null,null,null,null,null,{"$f":"IF(Kalkulator!J242=\"\",\"\",Kalkulator!J242)","v":""},null,null,null,null,null,null,null,""]
[null,null,null,null,null,null,null,null,null,{"$f":"IF(Kalkulator!J243=\"\",\"\",Kalkulator!J243)","v":""},null,null,null,null,null,null,null,""]
[null,null,null,null,null,null,null,null,null,{"$f":"IF(Kalkulator!J244=\"\",\"\",Kalkulator!J244)","v":""},null,null,null,null,null,null,null,""]
[null,null,null,null,null,null,null,null,null,{"$f":"IF(Kalkulator!J245=\"\",\"\",Kalkulator!J245)","v":""},null,null,null,null,null,null,null,""]
[null,null,null,null,null,null,null,null,null,{"$f":"IF(Kalkulator!J246=\"\",\"\",Kalkulator!J246)","v":""},null,null,null,null,null,null,null,""]
[null,null,null,null,null,null,null,null,null,{"$f":"IF(Kalkulator!J247=\"\",\"\",Kalkulator!J247)","v":""},null,null,null,null,null,null,null,""]
[null,null,null,null,null,null,null,null,null,{"$f":"IF(Kalkulator!J248=\"\",\"\",Kalkulator!J248)","v":""},null,null,null,null,null,null,null,""]
[null,null,null,null,null,null,null,null,null,{"$f":"IF(Kalkulator!J249=\"\",\"\",Kalkulator!J249)","v":""},null,null,null,null,null,null,null,""]
[null,null,null,null,null,null,null,null,null,{"$f":"IF(Kalkulator!J250=\"\",\"\",Kalkulator!J250)","v":""},null,null,null,null,null,null,null,""]
[null,null,null,null,null,null,null,null,null,{"$f":"IF(Kalkulator!J251=\"\",\"\",Kalkulator!J251)","v":""},null,null,null,null,null,null,null,""]
[null,null,null,null,null,null,null,null,null,{"$f":"IF(Kalkulator!J252=\"\",\"\",Kalkulator!J252)","v":""},null,null,null,null,null,null,null,""]
[null,null,null,null,null,null,null,null,null,{"$f":"IF(Kalkulator!J253=\"\",\"\",Kalkulator!J253)","v":""},null,null,null,null,null,null,null,""]
[null,null,null,null,null,null,null,null,null,{"$f":"IF(Kalkulator!J254=\"\",\"\",Kalkulator!J254)","v":""},null,null,null,null,null,null,null,""]
[null,null,null,null,null,null,null,null,null,{"$f":"IF(Kalkulator!J255=\"\",\"\",Kalkulator!J255)","v":""},null,null,null,null,null,null,null,""]
[null,null,null,null,null,null,null,null,null,{"$f":"IF(Kalkulator!J256=\"\",\"\",Kalkulator!J256)","v":""},null,null,null,null,null,null,null,""]
[null,null,null,null,null,null,null,null,null,{"$f":"IF(Kalkulator!J257=\"\",\"\",Kalkulator!J257)","v":""},null,null,null,null,null,null,null,""]
[null,null,null,null,null,null,null,null,null,{"$f":"IF(Kalkulator!J258=\"\",\"\",Kalkulator!J258)","v":""},null,null,null,null,null,null,null,""]
[null,null,null,null,null,null,null,null,null,{"$f":"IF(Kalkulator!J259=\"\",\"\",Kalkulator!J259)","v":""},null,null,null,null,null,null,null,""]
[null,null,null,null,null,null,null,null,null,{"$f":"IF(Kalkulator!J260=\"\",\"\",Kalkulator!J260)","v":""},null,null,null,null,null,null,null,""]
[null,null,null,null,null,null,null,null,null,{"$f":"IF(Kalkulator!J261=\"\",\"\",Kalkulator!J261)","v":""},null,null,null,null,null,null,null,""]
[null,null,null,null,null,null,null,null,null,{"$f":"IF(Kalkulator!J262=\"\",\"\",Kalkulator!J262)","v":""},null,null,null,null,null,null,null,""]
[null,null,null,null,null,null,null,null,null,{"$f":"IF(Kalkulator!J263=\"\",\"\",Kalkulator!J263)","v":""},null,null,null,null,null,null,null,""]
[null,null,null,null,null,null,null,null,null,{"$f":"IF(Kalkulator!J264=\"\",\"\",Kalkulator!J264)","v":""},null,null,null,null,null,null,null,""]
[null,null,null,null,null,null,null,null,null,{"$f":"IF(Kalkulator!J265=\"\",\"\",Kalkulator!J265)","v":""},null,null,null,null,null,null,null,""]
[null,null,null,null,null,null,null,null,null,{"$f":"IF(Kalkulator!J266=\"\",\"\",Kalkulator!J266)","v":""},null,null,null,null,null,null,null,{"$f":"IF(L266=\"\",\"\",IF(L265=L266,R265+1,VLOOKUP(A266,A:R,18,0)))","v":""}]
[null,null,null,null,null,null,null,null,null,{"$f":"IF(Kalkulator!J267=\"\",\"\",Kalkulator!J267)","v":""},null,null,null,null,null,null,null,{"$f":"IF(L267=\"\",\"\",IF(L266=L267,R266+1,VLOOKUP(A267,A:R,18,0)))","v":""}]
[null,null,null,null,null,null,null,null,null,{"$f":"IF(Kalkulator!J268=\"\",\"\",Kalkulator!J268)","v":""},null,null,null,null,null,null,null,{"$f":"IF(L268=\"\",\"\",IF(L267=L268,R267+1,VLOOKUP(A268,A:R,18,0)))","v":""}]

{"sheet":"koszyki","index":2,"n_rows":504,"n_cols":21,"rows_kept":504,"cut":false,"hidden":true,"merged":[]}
["wprowadź datę",null,null,"koszyki roczne",null,null,null,"koszyki kwartalne",null,null,null,"koszyki miesięczne",null,null,null,"koszyki tygodniowe",null,null,null,"koszyki dzienne"]
[{"$f":"'Kalkulator Depozytów'!F12","v":"00:00:00"},null,{"$f":"A2+2","v":"1900-01-02"},{"$f":"IF(F2<='raport RTT'!F8,DATE(YEAR(C2)+1,1,1),0)","v":"1901-01-01"},{"$f":"IF(D2=0,0,DATE(YEAR(D2)+1,1,1)-1)","v":"1901-12-31"},1,{"$f":"IF(OR(AND(MONTH(A2)=12,DAY(A2)=30),AND(MONTH(A2)=12,DAY(A2)=31)),MONTH(A2),MONTH(C2))","v":1},{"$f":"IF(J2<='raport RTT'!$F$7+1,IF(OR(G2=12,G2<10),DATE(YEAR(A2),G2+G4+1,1),IF(G2=10,DATE(YEAR(A2),G2+G4+1+1,1),DATE(YEAR(A2),G2+G4,1))),0)","v":"1900-04-01"},{"$f":"IF(H3=0,0,DATE(YEAR(H2),MONTH(H2)+3,1)-1)","v":"1900-06-30"},1,null,{"$f":"IF(N2<='raport RTT'!$F$6+1,DATE(YEAR(C2),MONTH(C2)+1,1),0)","v":"1900-02-01"},{"$f":"IF(L3=0,0,DATE(YEAR(L2),MONTH(L2)+1,1)-1)","v":60},1,{"$f":"DAY(A2)","v":0},{"$f":"IF(R2<='raport RTT'!F5,IF(OR(O3=5,O3=6,O3=7),A2+3*7-O3+1,A2+2*7-O3+1),0)","v":"1900-01-16"},{"$f":"IF(P3=0,0,P2+6)","v":"1900-01-22"},1,{"$f":"DAY(A2)","v":0},{"$f":"A2+1","v":"1900-01-01"},{"$f":"T2","v":"1900-01-01"}]
[{"$f":"A2+1","v":"1900-01-01"},null,null,{"$f":"IF(F3<='raport RTT'!$F$8,DATE(YEAR(D2)+1,1,1),0)","v":"1902-01-01"},{"$f":"IF(D3=0,0,DATE(YEAR(D3)+1,1,1)-1)","v":"1902-12-31"},2,{"$f":"MOD(G2,3)","v":1},{"$f":"IF(J3<='raport RTT'!$F$7+1,DATE(YEAR(H2),MONTH(H2)+3,1),0)","v":"1900-07-01"},{"$f":"IF(H4=0,0,DATE(YEAR(H3),MONTH(H3)+3,1)-1)","v":"1900-09-30"},2,null,{"$f":"IF(N3<='raport RTT'!$F$6+1,DATE(YEAR(L2),MONTH(L2)+1,1),0)","v":"1900-03-01"},{"$f":"IF(L4=0,0,DATE(YEAR(L3),MONTH(L3)+1,1)-1)","v":"1900-03-31"},2,{"$f":"WEEKDAY(A2)-1","v":6},{"$f":"IF($P$12=\"TAK\",IF(R3<'raport RTT'!$F$5,P2+7,0),IF(R3<='raport RTT'!$F$5,P2+7,0))","v":"1900-01-23"},{"$f":"IF(P4=0,0,P3+6)","v":"1900-01-29"},2,null,{"$f":"IF(T2+1<$P$2,IF(T2=0,0,T2+1),0)","v":"1900-01-02"},{"$f":"T3","v":"1900-01-02"}]
["Typ kontraktu",null,null,{"$f":"IF(F4<='raport RTT'!$F$8,DATE(YEAR(D3)+1,1,1),0)","v":"1903-01-01"},"1903-12-31",3,{"$f":"IF(AND(G2<9,G3<>0),3-G3,G3)","v":2},{"$f":"IF(J4<='raport RTT'!$F$7+1,DATE(YEAR(H3),MONTH(H3)+3,1),0)","v":"1900-10-01"},"1900-12-31",3,null,{"$f":"IF(N4<='raport RTT'!$F$6+1,DATE(YEAR(L3),MONTH(L3)+1,1),0)","v":"1900-04-01"},"1900-04-30",3,{"$f":"7-O3","v":1},{"$f":"IF($P$12=\"TAK\",IF(R4<'raport RTT'!$F$5,P3+7,0),IF(R4<='raport RTT'!$F$5,P3+7,0))","v":"1900-01-30"},"1900-02-05",3,"ile wziąć?",{"$f":"IF(T3+1<$P$2,IF(T3=0,0,T3+1),0)","v":"1900-01-03"},"1900-01-03"]
["BASE",24,null,{"$f":"IF(F5<='raport RTT'!$F$8,DATE(YEAR(D4)+1,1,1),0)","v":"1904-01-01"},{"$f":"IF(D5=0,0,DATE(YEAR(D5)+1,1,1)-1)","v":"1904-12-31"},4,null,{"$f":"IF(J5<='raport RTT'!$F$7+1,DATE(YEAR(H4),MONTH(H4)+3,1),0)","v":"1901-01-01"},"1901-03-31",4,null,{"$f":"IF(N5<='raport RTT'!$F$6+1,DATE(YEAR(L4),MONTH(L4)+1,1),0)","v":"1900-05-01"},"1900-05-31",4,null,{"$f":"IF($P$12=\"TAK\",IF(R5<'raport RTT'!$F$5,P4+7,0),IF(R5<='raport RTT'!$F$5,P4+7,0))","v":"1900-02-06"},"1900-02-12",4,{"$f":"17-COUNTIF(T2:T17,\"<>0\")","v":2},{"$f":"IF(T4+1<$P$2,IF(T4=0,0,T4+1),0)","v":"1900-01-04"},"1900-01-04"]
["BASE5",24,null,{"$f":"IF(F6<='raport RTT'!$F$8,DATE(YEAR(D5)+1,1,1),0)","v":"00:00:00"},"00:00:00",5,null,{"$f":"IF(J6<='raport RTT'!$F$7+1,DATE(YEAR(H5),MONTH(H5)+3,1),0)","v":"1901-04-01"},"1901-06-30",5,null,{"$f":"IF(N6<='raport RTT'!$F$6+1,DATE(YEAR(L5),MONTH(L5)+1,1),0)","v":"1900-06-01"},"1900-06-30",5,null,{"$f":"IF($P$12=\"TAK\",IF(R6<'raport RTT'!$F$5,P5+7,0),IF(R6<='raport RTT'!$F$5,P5+7,0))","v":"1900-02-13"},"00:00:00",5,{"$f":"COUNTIF(T2:T17,\"<>0\")","v":15},"1900-01-05","1900-01-05"]
["PEAK5",15,null,null,null,null,null,{"$f":"IF(J7<='raport RTT'!$F$7+1,DATE(YEAR(H6),MONTH(H6)+3,1),0)","v":"1901-07-01"},"1901-09-30",6,null,{"$f":"IF(N7<='raport RTT'!$F$6+1,DATE(YEAR(L6),MONTH(L6)+1,1),0)","v":"1900-07-01"},"1900-07-31",6,null,{"$f":"IF($P$12=\"TAK\",IF(R7<'raport RTT'!$F$5,P6+7,0),IF(R7<='raport RTT'!$F$5,P6+7,0))","v":"00:00:00"},"00:00:00",6,null,"1900-01-06","1900-01-06"]
["PEAK7",15,null,"do dodania końców",null,null,null,{"$f":"IF(J8<='raport RTT'!$F$7+1,DATE(YEAR(H7),MONTH(H7)+3,1),0)","v":"1901-10-01"},"00:00:00",7,null,{"$f":"IF(N8<='raport RTT'!$F$6+1,DATE(YEAR(L7),MONTH(L7)+1,1),0)","v":"1900-08-01"},"00:00:00",7,null,null,null,null,null,"1900-01-07","1900-01-07"]
["OFFPEAK",9,null,{"$f":"DATE(YEAR(A3),MONTH(A3)+1,1)-1","v":"1900-01-31"},null,null,null,null,null,null,null,{"$f":"IF(N9<='raport RTT'!$F$6+1,DATE(YEAR(L8),MONTH(L8)+1,1),0)","v":"00:00:00"},"00:00:00",8,null,null,null,null,null,"1900-01-08","1900-01-08"]
[null,null,null,{"$f":"DATE(YEAR(A3),MONTH(A3)+2,1)-1","v":60},null,null,null,null,null,null,null,{"$f":"IF(N10<='raport RTT'!$F$6+1,DATE(YEAR(L9),MONTH(L9)+1,1),0)","v":"00:00:00"},"00:00:00",9,null,{"$f":"IF(WEEKDAY(A2+28,2)=5,\"TAK\",\"NIE\")","v":"NIE"},null,null,null,"1900-01-09","1900-01-09"]
[null,null,null,"współczynnik",null,null,null,null,null,null,null,{"$f":"IF(N11<='raport RTT'!$F$6+1,DATE(YEAR(L10),MONTH(L10)+1,1),0)","v":"00:00:00"},"00:00:00",10,null,null,null,null,null,"1900-01-10","1900-01-10"]
[null,null,null,1,null,null,null,null,null,null,null,null,null,null,null,"NIE",null,null,null,{"$f":"IF(T11+1<$P$2,IF(T11=0,0,T11+1),0)","v":"1900-01-11"},"1900-01-11"]
["Godziny",null,null,0.5,null,null,null,null,null,null,null,null,null,null,null,null,null,null,null,"1900-01-12","1900-01-12"]
[{"$f":"SUMIF(koszyki!$A$5:$A$9,Kalkulator!C2,koszyki!B5:B9)","v":0},null,null,0.27500000000000002,null,null,null,null,null,null,null,null,null,null,null,null,null,null,null,"1900-01-13","1900-01-13"]
[null,null,null,null,null,null,null,null,null,null,null,null,null,null,null,null,null,null,null,{"$f":"IF(T14+1<$P$2,IF(T14=0,0,T14+1),0)","v":"1900-01-14"},"1900-01-14"]
[null,null,null,null,null,null,null,null,null,null,null,null,null,null,null,null,null,null,null,{"$f":"IF(T15+1<$P$2,IF(T15=0,0,T15+1),0)","v":"1900-01-15"},{"$f":"T16","v":"1900-01-15"}]
[null,null,null,null,null,null,null,null,null,null,null,null,null,null,null,null,null,null,null,{"$f":"IF(T16+1<$P$2,IF(T16=0,0,T16+1),0)","v":"00:00:00"},{"$f":"T17","v":"00:00:00"}]
[]
["Tabelka",null,null,null,null,"Długość",null,null,"cos","Nazwa",null,null,"święta",null,null,null,null,"Miesiąc","English","short","Kwartał"]
["2024-11-28","2024-11-28",null,null,null,{"$f":"H20-G20","v":0},null,null,null,{"$f":"IF(F20=0,(\"BASE-\"&DAY(G20)&VLOOKUP(MONTH(G20),$R$20:$T$31,3,0))&\"-\"&VLOOKUP(YEAR(G20),$R$33:$S$41,2),IF(OR(F20=29,F20=30,F20=27,F20=28),(\"BASE-\"&VLOOKUP(MONTH(G20),$R$20:$T$31,3,0))&\"-\"&VLOOKUP(YEAR(G20),$R$33:$S$41,2),IF(OR(F20=89,F20=90,F20=91),(\"BASE-\"&VLOOKUP(MONTH(G20),$R$20:$U$31,4,0))&\"-\"&VLOOKUP(YEAR(G20),$R$33:$S$41,2),IF(OR(F20=6),\"BASE-WK\"&WEEKNUM(G20)&\"-\"&VLOOKUP(YEAR(G20),$R$33:$S$41,2),IF(OR(F20=1,F20=2,F20=3,F20=4,F20=5),\"BASE-\"&YEAR(G20)&\"/\"&MONTH(G20)&\"/\"&DAY(G20)&\"-\"&YEAR(H20)&\"/\"&MONTH(H20)&\"/\"&DAY(H20),\"BASE-\"&YEAR(G20))))))","v":{"$error":"#N/A"}},null,null,"2013-01-01",null,null,null,null,1,"January","Jan","Q1"]
["2024-11-29","2024-11-29",null,null,null,{"$f":"H21-G21+1","v":1},null,null,null,"BASE-1900/1/0-1900/1/0",null,null,"2013-04-01",null,null,null,null,2,"February ","Feb","Q2"]
["2024-11-30","2024-11-30",null,null,null,1,null,null,null,"BASE-1900/1/0-1900/1/0",null,null,"2013-05-01",null,null,null,null,3,"March","Mar","Q3"]
["2024-12-01","2024-12-01",null,null,null,1,null,null,null,"BASE-1900/1/0-1900/1/0",null,null,"2013-05-03",null,null,null,null,4,"April","Apr","Q2"]
["2024-12-02","2024-12-02",null,null,null,1,null,null,null,"BASE-1900/1/0-1900/1/0",null,null,"2013-05-30",null,null,null,null,5,"May","May","Q3"]
["2024-12-03","2024-12-03",null,null,null,1,null,null,null,"BASE-1900/1/0-1900/1/0",null,null,"2013-08-15",null,null,null,null,6,"June","Jun","Q4"]
["2024-12-04","2024-12-04",null,null,null,1,null,null,null,"BASE-1900/1/0-1900/1/0",null,null,"2013-11-01",null,null,null,null,7,"July","Jul","Q3"]
["2024-12-05","2024-12-05",null,null,null,1,null,null,null,"BASE-1900/1/0-1900/1/0",null,null,"2013-11-11",null,null,null,null,8,"August","Aug","Q4"]
["2024-12-06","2024-12-06",null,null,null,1,null,null,null,"BASE-1900/1/0-1900/1/0",null,null,"2013-12-25",null,null,null,null,9,"September","Sep","Q5"]
["2024-12-07","2024-12-07",null,null,null,1,null,null,null,"BASE-1900/1/0-1900/1/0",null,null,"2013-12-26",null,null,null,null,10,"October","Oct","Q4"]
["2024-12-08","2024-12-08",null,null,null,1,null,null,null,"BASE-1900/1/0-1900/1/0",null,null,"2014-01-01",null,null,null,null,11,"November","Nov","Q5"]
["00:00:00","00:00:00",null,null,null,1,null,null,null,"BASE-1900/1/0-1900/1/0",null,null,"2014-01-06",null,null,null,null,12,"December","Dec","Q6"]
["00:00:00","00:00:00",null,null,null,1,null,null,null,"BASE-1900/1/0-1900/1/0",null,null,"2014-04-21"]
["00:00:00","00:00:00",null,null,null,1,null,null,null,"BASE-1900/1/0-1900/1/0",null,null,"2014-05-01",null,null,null,null,"Rok","Short"]
["00:00:00","00:00:00",null,null,null,1,null,null,null,"BASE-1900/1/0-1900/1/0",null,null,"2014-06-19",null,null,null,null,2013,{"$f":"RIGHT(R34,2)","v":"13"}]
["00:00:00","00:00:00",null,null,null,1,null,null,null,"BASE-1900/1/0-1900/1/0",null,null,"2014-08-15",null,null,null,null,2014,{"$f":"RIGHT(R35,2)","v":"14"}]
["2024-12-09","2024-12-15",null,null,null,1,null,null,null,"BASE-1900/1/0-1900/1/0",null,null,"2014-11-11",null,null,null,null,2015,"15"]
["2024-12-16","2024-12-22",null,null,null,1,null,null,null,"BASE-1900/1/0-1900/1/0",null,null,"2014-12-25",null,null,null,null,2016,"16"]
["2024-12-23","2024-12-29",null,null,null,1,null,null,null,"BASE-1900/1/0-1900/1/0",null,null,"2014-12-26",null,null,null,null,2017,"17"]
["2024-12-30","2025-01-05",null,null,null,1,null,null,null,"BASE-1900/1/0-1900/1/0",null,null,"2015-01-01",null,null,null,null,2018,"18"]
["2025-01-06","00:00:00",null,null,null,1,null,null,null,"BASE-1900/1/0-1900/1/0",null,null,"2015-01-06",null,null,null,null,2019,"19"]
["00:00:00","00:00:00",null,null,null,1,null,null,null,"BASE-1900/1/0-1900/1/0",null,null,"2015-04-06",null,null,null,null,2020,"20"]
["2024-12-01","2024-12-31",null,null,null,1,null,null,null,"BASE-1900/1/0-1900/1/0",null,null,"2015-05-01"]
["2025-01-01","2025-01-31",null,null,null,1,null,null,null,"BASE-1900/1/0-1900/1/0",null,null,"2015-06-04"]
["2025-02-01","2025-02-28",null,null,null,1,null,null,null,"BASE-1900/1/0-1900/1/0",null,null,"2015-11-11",null,null,null,null,null,null,"Długość"]
["2025-03-01","2025-03-31",null,null,null,1,null,null,null,"BASE-1900/1/0-1900/1/0",null,null,"2015-12-25",null,null,null,null,"liczba miesięcy",null,30]
["2025-04-01","2025-04-30",null,null,null,1,null,null,null,"BASE-1900/1/0-1900/1/0",null,null,"2016-01-01",null,null,null,null,{"$f":"-(8-COUNTIFS(F20:F59,\">26\",F20:F59,\"<32\"))","v":-8},null,29]
["2025-05-01","2025-05-31",null,null,null,1,null,null,null,"BASE-1900/1/0-1900/1/0",null,null,"2016-01-06",null,null,null,null,null,null,28]
["2025-06-01","00:00:00",null,null,null,1,null,null,null,"BASE-1900/1/0-1900/1/0",null,null,"2016-03-28",null,null,null,null,{"$f":"DMAX($F$19:$G$59,\"START\",$T$44:$T$48)","v":{"$error":"#VALUE!"}},null,27]
["00:00:00","00:00:00",null,null,null,1,null,null,null,"BASE-1900/1/0-1900/1/0",null,null,"2016-05-03"]
["00:00:00","00:00:00",null,null,null,1,null,null,null,"BASE-1900/1/0-1900/1/0",null,null,"2016-05-26",null,null,null,null,{"$f":"IF(R46=1,MID(VLOOKUP($R$48,$G$19:$J$59,4,0),1,5)&YEAR(R48)&\"/\"&MONTH(R48)&\"/\"&DAY(R48)&\"-\"&YEAR(H45)&\"/\"&MONTH(H45)&\"/\"&DAY(H45))","v":false}]
["00:00:00","00:00:00",null,null,null,1,null,null,null,"BASE-1900/1/0-1900/1/0",null,null,"2016-08-15"]
["2025-01-01","2025-03-31",null,null,null,1,null,null,null,"BASE-1900/1/0-1900/1/0",null,null,"2016-11-01"]
["2025-04-01","2025-06-30",null,null,null,1,null,null,null,"BASE-1900/1/0-1900/1/0",null,null,"2016-11-11"]
["2025-07-01","2025-09-30",null,null,null,1,null,null,null,{"$f":"IF(F54=0,(\"BASE-\"&DAY(G54)&VLOOKUP(MONTH(G54),$R$20:$T$31,3,0))&\"-\"&VLOOKUP(YEAR(G54),$R$33:$S$41,2),IF(OR(F54=29,F54=30,F54=27,F54=28),(\"BASE-\"&VLOOKUP(MONTH(G54),$R$20:$T$31,3,0))&\"-\"&VLOOKUP(YEAR(G54),$R$33:$S$41,2),IF(OR(F54=89,F54=90,F54=91),(\"BASE-\"&VLOOKUP(MONTH(G54),$R$20:$U$31,4,0))&\"-\"&VLOOKUP(YEAR(G54),$R$33:$S$41,2),IF(OR(F54=6),\"BASE-WK\"&WEEKNUM(G54)&\"-\"&VLOOKUP(YEAR(G54),$R$33:$S$41,2),IF(OR(F54=1,F54=2,F54=3,F54=4,F54=5),\"BASE-\"&YEAR(G54)&\"/\"&MONTH(G54)&\"/\"&DAY(G54)&\"-\"&YEAR(H54)&\"/\"&MONTH(H54)&\"/\"&DAY(H54),\"BASE-\"&YEAR(G54))))))","v":"BASE-1900/1/0-1900/1/0"},null,null,"2016-12-26"]
["2025-10-01","2025-12-31",null,null,null,1,null,null,null,"BASE-1900/1/0-1900/1/0",null,null,"2017-01-06"]
["2026-01-01","2026-03-31",null,null,null,{"$f":"H56-G56","v":0},null,null,null,{"$error":"#N/A"},null,null,"2017-04-17"]
["2026-04-01","2026-06-30",null,null,null,{"$f":"H57-G57","v":0},null,null,null,{"$error":"#N/A"},null,null,"2017-05-01"]
["2026-07-01","00:00:00",null,null,null,{"$f":"H58-G58","v":0},null,null,null,{"$error":"#N/A"},null,null,"2017-05-03"]
["2025-01-01","2025-12-31",null,null,null,{"$f":"H59-G59","v":0},null,null,null,{"$error":"#N/A"},null,null,"2017-06-15"]
["2026-01-01","2026-12-31",null,null,null,null,null,null,null,null,null,null,"2017-08-15"]
["2027-01-01","2027-12-31",null,null,null,null,null,null,null,null,null,null,"2017-11-01"]
["2028-01-01","2028-12-31",null,null,null,null,null,null,null,null,null,null,"2017-12-25"]
["00:00:00","00:00:00",null,null,null,null,null,null,null,null,null,null,"2017-12-26"]
[null,"2024-11-30",null,null,null,null,null,null,null,null,null,null,"2018-01-01"]
[null,"2024-12-31",null,null,null,null,null,null,null,null,null,null,"2018-04-02"]
[null,null,null,null,null,null,null,null,null,null,null,null,"2018-05-01"]
[null,null,null,null,null,null,null,null,null,null,null,null,"2018-05-03"]
[null,null,null,null,null,null,null,null,null,null,null,null,"2018-05-31"]
[null,null,null,null,null,null,null,null,null,null,null,null,"2018-08-15"]
[null,null,null,null,null,null,null,null,null,null,null,null,"2018-11-01"]
[null,null,null,null,null,null,null,null,null,null,null,null,"2018-12-25"]
[null,null,null,null,null,null,null,null,null,null,null,null,"2018-12-26"]
[null,null,null,null,null,null,null,null,null,null,null,null,"2019-01-01"]
[null,null,null,null,null,null,null,null,null,null,null,null,"2019-04-22"]
[null,null,null,null,null,null,null,null,null,null,null,null,"2019-05-01"]
[null,null,null,null,null,null,null,null,null,null,null,null,"2019-05-03"]
[null,null,null,null,null,null,null,null,null,null,null,null,"2019-06-20"]
[null,null,null,null,null,null,null,null,null,null,null,null,"2019-08-15"]
[null,null,null,null,null,null,null,null,null,null,null,null,"2019-11-01"]
[null,null,null,null,null,null,null,null,null,null,null,null,"2019-11-11"]
[null,null,null,null,null,null,null,null,null,null,null,null,"2019-12-25"]
[null,null,null,null,null,null,null,null,null,null,null,null,"2019-12-26"]
[null,null,null,null,null,null,null,null,null,null,null,null,"2020-01-01"]
[null,null,null,null,null,null,null,null,null,null,null,null,"2020-01-06"]
[null,null,null,null,null,null,null,null,null,null,null,null,"2020-04-13"]
[null,null,null,null,null,null,null,null,null,null,null,null,"2020-05-01"]
[null,null,null,null,null,null,null,null,null,null,null,null,"2020-06-11"]
[null,null,null,null,null,null,null,null,null,null,null,null,"2020-11-11"]
[null,null,null,null,null,null,null,null,null,null,null,null,"2020-12-25"]
[null,null,null,null,null,null,null,null,null,null,null,null,"2020-12-26"]
[null,null,null,null,null,null,null,null,null,null,null,null,"2021-01-01"]
[null,null,null,null,null,null,null,null,null,null,null,null,"2021-01-06"]
[null,null,null,null,null,null,null,null,null,null,null,null,"2021-04-04"]
[null,null,null,null,null,null,null,null,null,null,null,null,"2021-04-05"]
[null,null,null,null,null,null,null,null,null,null,null,null,"2021-05-01"]
[null,null,null,null,null,null,null,null,null,null,null,null,"2021-05-03"]
[null,null,null,null,null,null,null,null,null,null,null,null,"2021-05-23"]
[null,null,null,null,null,null,null,null,null,null,null,null,"2021-06-03"]
[null,null,null,null,null,null,null,null,null,null,null,null,"2021-08-15"]
[null,null,null,null,null,null,null,null,null,null,null,null,"2021-11-01"]
[null,null,null,null,null,null,null,null,null,null,null,null,"2021-11-11"]
[null,null,null,null,null,null,null,null,null,null,null,null,"2021-12-25"]
[null,null,null,null,null,null,null,null,null,null,null,null,"2021-12-26"]
[null,null,null,null,null,null,null,null,null,null,null,null,"2022-01-01"]
[null,null,null,null,null,null,null,null,null,null,null,null,"2022-01-06"]
[null,null,null,null,null,null,null,null,null,null,null,null,"2022-04-17"]
[null,null,null,null,null,null,null,null,null,null,null,null,"2022-04-18"]
[null,null,null,null,null,null,null,null,null,null,null,null,"2022-05-01"]
[null,null,null,null,null,null,null,null,null,null,null,null,"2022-05-03"]
[null,null,null,null,null,null,null,null,null,null,null,null,"2022-06-05"]
[null,null,null,null,null,null,null,null,null,null,null,null,"2022-06-16"]
[null,null,null,null,null,null,null,null,null,null,null,null,"2022-08-15"]
[null,null,null,null,null,null,null,null,null,null,null,null,"2022-11-01"]
[null,null,null,null,null,null,null,null,null,null,null,null,"2022-11-11"]
[null,null,null,null,null,null,null,null,null,null,null,null,"2022-12-25"]
[null,null,null,null,null,null,null,null,null,null,null,null,"2022-12-26"]
[null,null,null,null,null,null,null,null,null,null,null,null,"2023-01-01"]
[null,null,null,null,null,null,null,null,null,null,null,null,"2023-01-06"]
[null,null,null,null,null,null,null,null,null,null,null,null,"2023-04-09"]
[null,null,null,null,null,null,null,null,null,null,null,null,"2023-04-10"]
[null,null,null,null,null,null,null,null,null,null,null,null,"2023-05-01"]
[null,null,null,null,null,null,null,null,null,null,null,null,"2023-05-03"]
[null,null,null,null,null,null,null,null,null,null,null,null,"2023-05-28"]
[null,null,null,null,null,null,null,null,null,null,null,null,"2023-06-08"]
[null,null,null,null,null,null,null,null,null,null,null,null,"2023-08-15"]
[null,null,null,null,null,null,null,null,null,null,null,null,"2023-11-01"]
[null,null,null,null,null,null,null,null,null,null,null,null,"2023-11-11"]
[null,null,null,null,null,null,null,null,null,null,null,null,"2023-12-25"]
[null,null,null,null,null,null,null,null,null,null,null,null,"2023-12-26"]
[null,null,null,null,null,null,null,null,null,null,null,null,"2024-01-01"]
[null,null,null,null,null,null,null,null,null,null,null,null,"2024-01-06"]
[null,null,null,null,null,null,null,null,null,null,null,null,"2024-03-31"]
[null,null,null,null,null,null,null,null,null,null,null,null,"2024-04-01"]
[null,null,null,null,null,null,null,null,null,null,null,null,"2024-05-01"]
[null,null,null,null,null,null,null,null,null,null,null,null,"2024-05-03"]
[null,null,null,null,null,null,null,null,null,null,null,null,"2024-05-19"]
[null,null,null,null,null,null,null,null,null,null,null,null,"2024-05-30"]
[null,null,null,null,null,null,null,null,null,null,null,null,"2024-08-15"]
[null,null,null,null,null,null,null,null,null,null,null,null,"2024-11-01"]
[null,null,null,null,null,null,null,null,null,null,null,null,"2024-11-11"]
[null,null,null,null,null,null,null,null,null,null,null,null,"2024-12-25"]
[null,null,null,null,null,null,null,null,null,null,null,null,"2024-12-26"]
[null,null,null,null,null,null,null,null,null,null,null,null,"2025-01-01"]
[null,null,null,null,null,null,null,null,null,null,null,null,"2025-01-06"]
[null,null,null,null,null,null,null,null,null,null,null,null,"2025-04-20"]
[null,null,null,null,null,null,null,null,null,null,null,null,"2025-04-21"]
[null,null,null,null,null,null,null,null,null,null,null,null,"2025-05-01"]
[null,null,null,null,null,null,null,null,null,null,null,null,"2025-05-03"]
[null,null,null,null,null,null,null,null,null,null,null,null,"2025-06-08"]
[null,null,null,null,null,null,null,null,null,null,null,null,"2025-06-19"]
[null,null,null,null,null,null,null,null,null,null,null,null,"2025-08-15"]
[null,null,null,null,null,null,null,null,null,null,null,null,"2025-11-01"]
[null,null,null,null,null,null,null,null,null,null,null,null,"2025-11-11"]
[null,null,null,null,null,null,null,null,null,null,null,null,"2025-12-25"]
[null,null,null,null,null,null,null,null,null,null,null,null,"2025-12-26"]
[null,null,null,null,null,null,null,null,null,null,null,null,"2026-01-01"]
[null,null,null,null,null,null,null,null,null,null,null,null,"2026-01-06"]
[null,null,null,null,null,null,null,null,null,null,null,null,"2026-04-05"]
[null,null,null,null,null,null,null,null,null,null,null,null,"2026-04-06"]
[null,null,null,null,null,null,null,null,null,null,null,null,"2026-05-01"]
[null,null,null,null,null,null,null,null,null,null,null,null,"2026-05-03"]
[null,null,null,null,null,null,null,null,null,null,null,null,"2026-05-24"]
[null,null,null,null,null,null,null,null,null,null,null,null,"2026-06-04"]
[null,null,null,null,null,null,null,null,null,null,null,null,"2026-08-15"]
[null,null,null,null,null,null,null,null,null,null,null,null,"2026-11-01"]
[null,null,null,null,null,null,null,null,null,null,null,null,"2026-11-11"]
[null,null,null,null,null,null,null,null,null,null,null,null,"2026-12-25"]
[null,null,null,null,null,null,null,null,null,null,null,null,"2026-12-26"]
[null,null,null,null,null,null,null,null,null,null,null,null,"2027-01-01"]
[null,null,null,null,null,null,null,null,null,null,null,null,"2027-01-06"]
[null,null,null,null,null,null,null,null,null,null,null,null,"2027-03-28"]
[null,null,null,null,null,null,null,null,null,null,null,null,"2027-03-29"]
[null,null,null,null,null,null,null,null,null,null,null,null,"2027-05-01"]
[null,null,null,null,null,null,null,null,null,null,null,null,"2027-05-03"]
[null,null,null,null,null,null,null,null,null,null,null,null,"2027-05-16"]
[null,null,null,null,null,null,null,null,null,null,null,null,"2027-05-27"]
[null,null,null,null,null,null,null,null,null,null,null,null,"2027-08-15"]
[null,null,null,null,null,null,null,null,null,null,null,null,"2027-11-01"]
[null,null,null,null,null,null,null,null,null,null,null,null,"2027-11-11"]
[null,null,null,null,null,null,null,null,null,null,null,null,"2027-12-24"]
[null,null,null,null,null,null,null,null,null,null,null,null,"2027-12-25"]
[null,null,null,null,null,null,null,null,null,null,null,null,"2027-12-26"]
[null,null,null,null,null,null,null,null,null,null,null,null,"2028-01-01"]
[null,null,null,null,null,null,null,null,null,null,null,null,"2028-01-06"]
[null,null,null,null,null,null,null,null,null,null,null,null,"2028-04-16"]
[null,null,null,null,null,null,null,null,null,null,null,null,"2028-04-17"]
[null,null,null,null,null,null,null,null,null,null,null,null,"2028-05-01"]
[null,null,null,null,null,null,null,null,null,null,null,null,"2028-05-03"]
[null,null,null,null,null,null,null,null,null,null,null,null,"2028-06-04"]
[null,null,null,null,null,null,null,null,null,null,null,null,"2028-06-15"]
[null,null,null,null,null,null,null,null,null,null,null,null,"2028-08-15"]
[null,null,null,null,null,null,null,null,null,null,null,null,"2028-11-01"]
[null,null,null,null,null,null,null,null,null,null,null,null,"2028-11-11"]
[null,null,null,null,null,null,null,null,null,null,null,null,"2028-12-24"]
[null,null,null,null,null,null,null,null,null,null,null,null,"2028-12-25"]
[null,null,null,null,null,null,null,null,null,null,null,null,"2028-12-26"]
[null,null,null,null,null,null,null,null,null,null,null,null,"2029-01-01"]
[null,null,null,null,null,null,null,null,null,null,null,null,"2029-01-06"]
[null,null,null,null,null,null,null,null,null,null,null,null,"2029-04-01"]
[null,null,null,null,null,null,null,null,null,null,null,null,"2029-04-02"]
[null,null,null,null,null,null,null,null,null,null,null,null,"2029-05-01"]
[null,null,null,null,null,null,null,null,null,null,null,null,"2029-05-03"]
[null,null,null,null,null,null,null,null,null,null,null,null,"2029-05-20"]
[null,null,null,null,null,null,null,null,null,null,null,null,"2029-05-31"]
[null,null,null,null,null,null,null,null,null,null,null,null,"2029-08-15"]
[null,null,null,null,null,null,null,null,null,null,null,null,"2029-11-01"]
[null,null,null,null,null,null,null,null,null,null,null,null,"2029-11-11"]
[null,null,null,null,null,null,null,null,null,null,null,null,"2029-12-24"]
[null,null,null,null,null,null,null,null,null,null,null,null,"2029-12-25"]
[null,null,null,null,null,null,null,null,null,null,null,null,"2029-12-26"]
[null,null,null,null,null,null,null,null,null,null,null,null,"2030-01-01"]
[null,null,null,null,null,null,null,null,null,null,null,null,"2030-01-06"]
[null,null,null,null,null,null,null,null,null,null,null,null,"2030-04-21"]
[null,null,null,null,null,null,null,null,null,null,null,null,"2030-04-22"]
[null,null,null,null,null,null,null,null,null,null,null,null,"2030-05-01"]
[null,null,null,null,null,null,null,null,null,null,null,null,"2030-05-03"]
[null,null,null,null,null,null,null,null,null,null,null,null,"2030-06-09"]
[null,null,null,null,null,null,null,null,null,null,null,null,"2030-06-20"]
[null,null,null,null,null,null,null,null,null,null,null,null,"2030-08-15"]
[null,null,null,null,null,null,null,null,null,null,null,null,"2030-11-01"]
[null,null,null,null,null,null,null,null,null,null,null,null,"2030-11-11"]
[null,null,null,null,null,null,null,null,null,null,null,null,"2030-12-24"]
[null,null,null,null,null,null,null,null,null,null,null,null,"2030-12-25"]
[null,null,null,null,null,null,null,null,null,null,null,null,"2030-12-26"]
[null,null,null,null,null,null,null,null,null,null,null,null,"2031-01-01"]
[null,null,null,null,null,null,null,null,null,null,null,null,"2031-01-06"]
[null,null,null,null,null,null,null,null,null,null,null,null,"2031-04-13"]
[null,null,null,null,null,null,null,null,null,null,null,null,"2031-04-14"]
[null,null,null,null,null,null,null,null,null,null,null,null,"2031-05-01"]
[null,null,null,null,null,null,null,null,null,null,null,null,"2031-05-03"]
[null,null,null,null,null,null,null,null,null,null,null,null,"2031-06-01"]
[null,null,null,null,null,null,null,null,null,null,null,null,"2031-06-12"]
[null,null,null,null,null,null,null,null,null,null,null,null,"2031-08-15"]
[null,null,null,null,null,null,null,null,null,null,null,null,"2031-11-01"]
[null,null,null,null,null,null,null,null,null,null,null,null,"2031-11-11"]
[null,null,null,null,null,null,null,null,null,null,null,null,"2031-12-24"]
[null,null,null,null,null,null,null,null,null,null,null,null,"2031-12-25"]
[null,null,null,null,null,null,null,null,null,null,null,null,"2031-12-26"]
[null,null,null,null,null,null,null,null,null,null,null,null,"2032-01-01"]
[null,null,null,null,null,null,null,null,null,null,null,null,"2032-01-06"]
[null,null,null,null,null,null,null,null,null,null,null,null,"2032-03-28"]
[null,null,null,null,null,null,null,null,null,null,null,null,"2032-03-29"]
[null,null,null,null,null,null,null,null,null,null,null,null,"2032-05-01"]
[null,null,null,null,null,null,null,null,null,null,null,null,"2032-05-03"]
[null,null,null,null,null,null,null,null,null,null,null,null,"2032-05-16"]
[null,null,null,null,null,null,null,null,null,null,null,null,"2032-05-27"]
[null,null,null,null,null,null,null,null,null,null,null,null,"2032-08-15"]
[null,null,null,null,null,null,null,null,null,null,null,null,"2032-11-01"]
[null,null,null,null,null,null,null,null,null,null,null,null,"2032-11-11"]
[null,null,null,null,null,null,null,null,null,null,null,null,"2032-12-24"]
[null,null,null,null,null,null,null,null,null,null,null,null,"2032-12-25"]
[null,null,null,null,null,null,null,null,null,null,null,null,"2032-12-26"]
[null,null,null,null,null,null,null,null,null,null,null,null,"2033-01-01"]
[null,null,null,null,null,null,null,null,null,null,null,null,"2033-01-06"]
[null,null,null,null,null,null,null,null,null,null,null,null,"2033-04-17"]
[null,null,null,null,null,null,null,null,null,null,null,null,"2033-04-18"]
[null,null,null,null,null,null,null,null,null,null,null,null,"2033-05-01"]
[null,null,null,null,null,null,null,null,null,null,null,null,"2033-05-03"]
[null,null,null,null,null,null,null,null,null,null,null,null,"2033-06-05"]
[null,null,null,null,null,null,null,null,null,null,null,null,"2033-06-16"]
[null,null,null,null,null,null,null,null,null,null,null,null,"2033-08-15"]
[null,null,null,null,null,null,null,null,null,null,null,null,"2033-11-01"]
[null,null,null,null,null,null,null,null,null,null,null,null,"2033-11-11"]
[null,null,null,null,null,null,null,null,null,null,null,null,"2033-12-24"]
[null,null,null,null,null,null,null,null,null,null,null,null,"2033-12-25"]
[null,null,null,null,null,null,null,null,null,null,null,null,"2033-12-26"]
[null,null,null,null,null,null,null,null,null,null,null,null,"2034-01-01"]
[null,null,null,null,null,null,null,null,null,null,null,null,"2034-01-06"]
[null,null,null,null,null,null,null,null,null,null,null,null,"2034-04-09"]
[null,null,null,null,null,null,null,null,null,null,null,null,"2034-04-10"]
[null,null,null,null,null,null,null,null,null,null,null,null,"2034-05-01"]
[null,null,null,null,null,null,null,null,null,null,null,null,"2034-05-03"]
[null,null,null,null,null,null,null,null,null,null,null,null,"2034-05-28"]
[null,null,null,null,null,null,null,null,null,null,null,null,"2034-06-08"]
[null,null,null,null,null,null,null,null,null,null,null,null,"2034-08-15"]
[null,null,null,null,null,null,null,null,null,null,null,null,"2034-11-01"]
[null,null,null,null,null,null,null,null,null,null,null,null,"2034-11-11"]
[null,null,null,null,null,null,null,null,null,null,null,null,"2034-12-24"]
[null,null,null,null,null,null,null,null,null,null,null,null,"2034-12-25"]
[null,null,null,null,null,null,null,null,null,null,null,null,"2034-12-26"]
[null,null,null,null,null,null,null,null,null,null,null,null,"2035-01-01"]
[null,null,null,null,null,null,null,null,null,null,null,null,"2035-01-06"]
[null,null,null,null,null,null,null,null,null,null,null,null,"2035-03-25"]
[null,null,null,null,null,null,null,null,null,null,null,null,"2035-03-26"]
[null,null,null,null,null,null,null,null,null,null,null,null,"2035-05-01"]
[null,null,null,null,null,null,null,null,null,null,null,null,"2035-05-03"]
[null,null,null,null,null,null,null,null,null,null,null,null,"2035-05-13"]
[null,null,null,null,null,null,null,null,null,null,null,null,"2035-05-24"]
[null,null,null,null,null,null,null,null,null,null,null,null,"2035-08-15"]
[null,null,null,null,null,null,null,null,null,null,null,null,"2035-11-01"]
[null,null,null,null,null,null,null,null,null,null,null,null,"2035-11-11"]
[null,null,null,null,null,null,null,null,null,null,null,null,"2035-12-24"]
[null,null,null,null,null,null,null,null,null,null,null,null,"2035-12-25"]
[null,null,null,null,null,null,null,null,null,null,null,null,"2035-12-26"]
[null,null,null,null,null,null,null,null,null,null,null,null,"2036-01-01"]
[null,null,null,null,null,null,null,null,null,null,null,null,"2036-01-06"]
[null,null,null,null,null,null,null,null,null,null,null,null,"2036-04-13"]
[null,null,null,null,null,null,null,null,null,null,null,null,"2036-04-14"]
[null,null,null,null,null,null,null,null,null,null,null,null,"2036-05-01"]
[null,null,null,null,null,null,null,null,null,null,null,null,"2036-05-03"]
[null,null,null,null,null,null,null,null,null,null,null,null,"2036-06-01"]
[null,null,null,null,null,null,null,null,null,null,null,null,"2036-06-12"]
[null,null,null,null,null,null,null,null,null,null,null,null,"2036-08-15"]
[null,null,null,null,null,null,null,null,null,null,null,null,"2036-11-01"]
[null,null,null,null,null,null,null,null,null,null,null,null,"2036-11-11"]
[null,null,null,null,null,null,null,null,null,null,null,null,"2036-12-24"]
[null,null,null,null,null,null,null,null,null,null,null,null,"2036-12-25"]
[null,null,null,null,null,null,null,null,null,null,null,null,"2036-12-26"]
[null,null,null,null,null,null,null,null,null,null,null,null,"2037-01-01"]
[null,null,null,null,null,null,null,null,null,null,null,null,"2037-01-06"]
[null,null,null,null,null,null,null,null,null,null,null,null,"2037-04-05"]
[null,null,null,null,null,null,null,null,null,null,null,null,"2037-04-06"]
[null,null,null,null,null,null,null,null,null,null,null,null,"2037-05-01"]
[null,null,null,null,null,null,null,null,null,null,null,null,"2037-05-03"]
[null,null,null,null,null,null,null,null,null,null,null,null,"2037-05-24"]
[null,null,null,null,null,null,null,null,null,null,null,null,"2037-06-04"]
[null,null,null,null,null,null,null,null,null,null,null,null,"2037-08-15"]
[null,null,null,null,null,null,null,null,null,null,null,null,"2037-11-01"]
[null,null,null,null,null,null,null,null,null,null,null,null,"2037-11-11"]
[null,null,null,null,null,null,null,null,null,null,null,null,"2037-12-24"]
[null,null,null,null,null,null,null,null,null,null,null,null,"2037-12-25"]
[null,null,null,null,null,null,null,null,null,null,null,null,"2037-12-26"]
[null,null,null,null,null,null,null,null,null,null,null,null,"2038-01-01"]
[null,null,null,null,null,null,null,null,null,null,null,null,"2038-01-06"]
[null,null,null,null,null,null,null,null,null,null,null,null,"2038-04-25"]
[null,null,null,null,null,null,null,null,null,null,null,null,"2038-04-26"]
[null,null,null,null,null,null,null,null,null,null,null,null,"2038-05-01"]
[null,null,null,null,null,null,null,null,null,null,null,null,"2038-05-03"]
[null,null,null,null,null,null,null,null,null,null,null,null,"2038-06-13"]
[null,null,null,null,null,null,null,null,null,null,null,null,"2038-06-24"]
[null,null,null,null,null,null,null,null,null,null,null,null,"2038-08-15"]
[null,null,null,null,null,null,null,null,null,null,null,null,"2038-11-01"]
[null,null,null,null,null,null,null,null,null,null,null,null,"2038-11-11"]
[null,null,null,null,null,null,null,null,null,null,null,null,"2038-12-24"]
[null,null,null,null,null,null,null,null,null,null,null,null,"2038-12-25"]
[null,null,null,null,null,null,null,null,null,null,null,null,"2038-12-26"]
[null,null,null,null,null,null,null,null,null,null,null,null,"2039-01-01"]
[null,null,null,null,null,null,null,null,null,null,null,null,"2039-01-06"]
[null,null,null,null,null,null,null,null,null,null,null,null,"2039-04-10"]
[null,null,null,null,null,null,null,null,null,null,null,null,"2039-04-11"]
[null,null,null,null,null,null,null,null,null,null,null,null,"2039-05-01"]
[null,null,null,null,null,null,null,null,null,null,null,null,"2039-05-03"]
[null,null,null,null,null,null,null,null,null,null,null,null,"2039-05-29"]
[null,null,null,null,null,null,null,null,null,null,null,null,"2039-06-09"]
[null,null,null,null,null,null,null,null,null,null,null,null,"2039-08-15"]
[null,null,null,null,null,null,null,null,null,null,null,null,"2039-11-01"]
[null,null,null,null,null,null,null,null,null,null,null,null,"2039-11-11"]
[null,null,null,null,null,null,null,null,null,null,null,null,"2039-12-24"]
[null,null,null,null,null,null,null,null,null,null,null,null,"2039-12-25"]
[null,null,null,null,null,null,null,null,null,null,null,null,"2039-12-26"]
[null,null,null,null,null,null,null,null,null,null,null,null,"2040-01-01"]
[null,null,null,null,null,null,null,null,null,null,null,null,"2040-01-06"]
[null,null,null,null,null,null,null,null,null,null,null,null,"2040-04-01"]
[null,null,null,null,null,null,null,null,null,null,null,null,"2040-04-02"]
[null,null,null,null,null,null,null,null,null,null,null,null,"2040-05-01"]
[null,null,null,null,null,null,null,null,null,null,null,null,"2040-05-03"]
[null,null,null,null,null,null,null,null,null,null,null,null,"2040-05-20"]
[null,null,null,null,null,null,null,null,null,null,null,null,"2040-05-31"]
[null,null,null,null,null,null,null,null,null,null,null,null,"2040-08-15"]
[null,null,null,null,null,null,null,null,null,null,null,null,"2040-11-01"]
[null,null,null,null,null,null,null,null,null,null,null,null,"2040-11-11"]
[null,null,null,null,null,null,null,null,null,null,null,null,"2040-12-24"]
[null,null,null,null,null,null,null,null,null,null,null,null,"2040-12-25"]
[null,null,null,null,null,null,null,null,null,null,null,null,"2040-12-26"]
[null,null,null,null,null,null,null,null,null,null,null,null,"2041-01-01"]
[null,null,null,null,null,null,null,null,null,null,null,null,"2041-01-06"]
[null,null,null,null,null,null,null,null,null,null,null,null,"2041-04-21"]
[null,null,null,null,null,null,null,null,null,null,null,null,"2041-04-22"]
[null,null,null,null,null,null,null,null,null,null,null,null,"2041-05-01"]
[null,null,null,null,null,null,null,null,null,null,null,null,"2041-05-03"]
[null,null,null,null,null,null,null,null,null,null,null,null,"2041-06-09"]
[null,null,null,null,null,null,null,null,null,null,null,null,"2041-06-20"]
[null,null,null,null,null,null,null,null,null,null,null,null,"2041-08-15"]
[null,null,null,null,null,null,null,null,null,null,null,null,"2041-11-01"]
[null,null,null,null,null,null,null,null,null,null,null,null,"2041-11-11"]
[null,null,null,null,null,null,null,null,null,null,null,null,"2041-12-24"]
[null,null,null,null,null,null,null,null,null,null,null,null,"2041-12-25"]
[null,null,null,null,null,null,null,null,null,null,null,null,"2041-12-26"]
[null,null,null,null,null,null,null,null,null,null,null,null,"2042-01-01"]
[null,null,null,null,null,null,null,null,null,null,null,null,"2042-01-06"]
[null,null,null,null,null,null,null,null,null,null,null,null,"2042-04-06"]
[null,null,null,null,null,null,null,null,null,null,null,null,"2042-04-07"]
[null,null,null,null,null,null,null,null,null,null,null,null,"2042-05-01"]
[null,null,null,null,null,null,null,null,null,null,null,null,"2042-05-03"]
[null,null,null,null,null,null,null,null,null,null,null,null,"2042-05-25"]
[null,null,null,null,null,null,null,null,null,null,null,null,"2042-06-05"]
[null,null,null,null,null,null,null,null,null,null,null,null,"2042-08-15"]
[null,null,null,null,null,null,null,null,null,null,null,null,"2042-11-01"]
[null,null,null,null,null,null,null,null,null,null,null,null,"2042-11-11"]
[null,null,null,null,null,null,null,null,null,null,null,null,"2042-12-24"]
[null,null,null,null,null,null,null,null,null,null,null,null,"2042-12-25"]
[null,null,null,null,null,null,null,null,null,null,null,null,"2042-12-26"]
[null,null,null,null,null,null,null,null,null,null,null,null,"2043-01-01"]
[null,null,null,null,null,null,null,null,null,null,null,null,"2043-01-06"]
[null,null,null,null,null,null,null,null,null,null,null,null,"2043-03-29"]
[null,null,null,null,null,null,null,null,null,null,null,null,"2043-03-30"]
[null,null,null,null,null,null,null,null,null,null,null,null,"2043-05-01"]
[null,null,null,null,null,null,null,null,null,null,null,null,"2043-05-03"]
[null,null,null,null,null,null,null,null,null,null,null,null,"2043-05-17"]
[null,null,null,null,null,null,null,null,null,null,null,null,"2043-05-28"]
[null,null,null,null,null,null,null,null,null,null,null,null,"2043-08-15"]
[null,null,null,null,null,null,null,null,null,null,null,null,"2043-11-01"]
[null,null,null,null,null,null,null,null,null,null,null,null,"2043-11-11"]
[null,null,null,null,null,null,null,null,null,null,null,null,"2043-12-24"]
[null,null,null,null,null,null,null,null,null,null,null,null,"2043-12-25"]
[null,null,null,null,null,null,null,null,null,null,null,null,"2043-12-26"]
[null,null,null,null,null,null,null,null,null,null,null,null,"2044-01-01"]
[null,null,null,null,null,null,null,null,null,null,null,null,"2044-01-06"]
[null,null,null,null,null,null,null,null,null,null,null,null,"2044-04-17"]
[null,null,null,null,null,null,null,null,null,null,null,null,"2044-04-18"]
[null,null,null,null,null,null,null,null,null,null,null,null,"2044-05-01"]
[null,null,null,null,null,null,null,null,null,null,null,null,"2044-05-03"]
[null,null,null,null,null,null,null,null,null,null,null,null,"2044-06-05"]
[null,null,null,null,null,null,null,null,null,null,null,null,"2044-06-16"]
[null,null,null,null,null,null,null,null,null,null,null,null,"2044-08-15"]
[null,null,null,null,null,null,null,null,null,null,null,null,"2044-11-01"]
[null,null,null,null,null,null,null,null,null,null,null,null,"2044-11-11"]
[null,null,null,null,null,null,null,null,null,null,null,null,"2044-12-24"]
[null,null,null,null,null,null,null,null,null,null,null,null,"2044-12-25"]
[null,null,null,null,null,null,null,null,null,null,null,null,"2044-12-26"]
[null,null,null,null,null,null,null,null,null,null,null,null,"2045-01-01"]
[null,null,null,null,null,null,null,null,null,null,null,null,"2045-01-06"]
[null,null,null,null,null,null,null,null,null,null,null,null,"2045-04-09"]
[null,null,null,null,null,null,null,null,null,null,null,null,"2045-04-10"]
[null,null,null,null,null,null,null,null,null,null,null,null,"2045-05-01"]
[null,null,null,null,null,null,null,null,null,null,null,null,"2045-05-03"]
[null,null,null,null,null,null,null,null,null,null,null,null,"2045-05-28"]
[null,null,null,null,null,null,null,null,null,null,null,null,"2045-06-08"]
[null,null,null,null,null,null,null,null,null,null,null,null,"2045-08-15"]
[null,null,null,null,null,null,null,null,null,null,null,null,"2045-11-01"]
[null,null,null,null,null,null,null,null,null,null,null,null,"2045-11-11"]
[null,null,null,null,null,null,null,null,null,null,null,null,"2045-12-24"]
[null,null,null,null,null,null,null,null,null,null,null,null,"2045-12-25"]
[null,null,null,null,null,null,null,null,null,null,null,null,"2045-12-26"]
[null,null,null,null,null,null,null,null,null,null,null,null,"2046-01-01"]
[null,null,null,null,null,null,null,null,null,null,null,null,"2046-01-06"]
[null,null,null,null,null,null,null,null,null,null,null,null,"2046-03-25"]
[null,null,null,null,null,null,null,null,null,null,null,null,"2046-03-26"]
[null,null,null,null,null,null,null,null,null,null,null,null,"2046-05-01"]
[null,null,null,null,null,null,null,null,null,null,null,null,"2046-05-03"]
[null,null,null,null,null,null,null,null,null,null,null,null,"2046-05-13"]
[null,null,null,null,null,null,null,null,null,null,null,null,"2046-05-24"]
[null,null,null,null,null,null,null,null,null,null,null,null,"2046-08-15"]
[null,null,null,null,null,null,null,null,null,null,null,null,"2046-11-01"]
[null,null,null,null,null,null,null,null,null,null,null,null,"2046-11-11"]
[null,null,null,null,null,null,null,null,null,null,null,null,"2046-12-24"]
[null,null,null,null,null,null,null,null,null,null,null,null,"2046-12-25"]
[null,null,null,null,null,null,null,null,null,null,null,null,"2046-12-26"]
[null,null,null,null,null,null,null,null,null,null,null,null,"2047-01-01"]
[null,null,null,null,null,null,null,null,null,null,null,null,"2047-01-06"]
[null,null,null,null,null,null,null,null,null,null,null,null,"2047-04-14"]
[null,null,null,null,null,null,null,null,null,null,null,null,"2047-04-15"]
[null,null,null,null,null,null,null,null,null,null,null,null,"2047-05-01"]
[null,null,null,null,null,null,null,null,null,null,null,null,"2047-05-03"]
[null,null,null,null,null,null,null,null,null,null,null,null,"2047-06-02"]
[null,null,null,null,null,null,null,null,null,null,null,null,"2047-06-13"]
[null,null,null,null,null,null,null,null,null,null,null,null,"2047-08-15"]
[null,null,null,null,null,null,null,null,null,null,null,null,"2047-11-01"]
[null,null,null,null,null,null,null,null,null,null,null,null,"2047-11-11"]
[null,null,null,null,null,null,null,null,null,null,null,null,"2047-12-24"]
[null,null,null,null,null,null,null,null,null,null,null,null,"2047-12-25"]
[null,null,null,null,null,null,null,null,null,null,null,null,"2047-12-26"]
[null,null,null,null,null,null,null,null,null,null,null,null,"2048-01-01"]
[null,null,null,null,null,null,null,null,null,null,null,null,"2048-01-06"]
[null,null,null,null,null,null,null,null,null,null,null,null,"2048-04-05"]
[null,null,null,null,null,null,null,null,null,null,null,null,"2048-04-06"]
[null,null,null,null,null,null,null,null,null,null,null,null,"2048-05-01"]
[null,null,null,null,null,null,null,null,null,null,null,null,"2048-05-03"]
[null,null,null,null,null,null,null,null,null,null,null,null,"2048-05-24"]
[null,null,null,null,null,null,null,null,null,null,null,null,"2048-06-04"]
[null,null,null,null,null,null,null,null,null,null,null,null,"2048-08-15"]
[null,null,null,null,null,null,null,null,null,null,null,null,"2048-11-01"]
[null,null,null,null,null,null,null,null,null,null,null,null,"2048-11-11"]
[null,null,null,null,null,null,null,null,null,null,null,null,"2048-12-24"]
[null,null,null,null,null,null,null,null,null,null,null,null,"2048-12-25"]
[null,null,null,null,null,null,null,null,null,null,null,null,"2048-12-26"]
[null,null,null,null,null,null,null,null,null,null,null,null,"2049-01-01"]
[null,null,null,null,null,null,null,null,null,null,null,null,"2049-01-06"]
[null,null,null,null,null,null,null,null,null,null,null,null,"2049-04-18"]
[null,null,null,null,null,null,null,null,null,null,null,null,"2049-04-19"]
[null,null,null,null,null,null,null,null,null,null,null,null,"2049-05-01"]
[null,null,null,null,null,null,null,null,null,null,null,null,"2049-05-03"]
[null,null,null,null,null,null,null,null,null,null,null,null,"2049-06-06"]
[null,null,null,null,null,null,null,null,null,null,null,null,"2049-06-17"]
[null,null,null,null,null,null,null,null,null,null,null,null,"2049-08-15"]
[null,null,null,null,null,null,null,null,null,null,null,null,"2049-11-01"]
[null,null,null,null,null,null,null,null,null,null,null,null,"2049-11-11"]
[null,null,null,null,null,null,null,null,null,null,null,null,"2049-12-24"]
[null,null,null,null,null,null,null,null,null,null,null,null,"2049-12-25"]
[null,null,null,null,null,null,null,null,null,null,null,null,"2049-12-26"]
[null,null,null,null,null,null,null,null,null,null,null,null,"2050-01-01"]
[null,null,null,null,null,null,null,null,null,null,null,null,"2050-01-06"]
[null,null,null,null,null,null,null,null,null,null,null,null,"2050-04-10"]
[null,null,null,null,null,null,null,null,null,null,null,null,"2050-04-11"]
[null,null,null,null,null,null,null,null,null,null,null,null,"2050-05-01"]
[null,null,null,null,null,null,null,null,null,null,null,null,"2050-05-03"]
[null,null,null,null,null,null,null,null,null,null,null,null,"2050-05-29"]
[null,null,null,null,null,null,null,null,null,null,null,null,"2050-06-09"]
[null,null,null,null,null,null,null,null,null,null,null,null,"2050-08-15"]
[null,null,null,null,null,null,null,null,null,null,null,null,"2050-11-01"]
[null,null,null,null,null,null,null,null,null,null,null,null,"2050-11-11"]
[null,null,null,null,null,null,null,null,null,null,null,null,"2050-12-24"]
[null,null,null,null,null,null,null,null,null,null,null,null,"2050-12-25"]
[null,null,null,null,null,null,null,null,null,null,null,null,"2050-12-26"]

{"sheet":"koszyki P_L_H","index":3,"n_rows":504,"n_cols":21,"rows_kept":504,"cut":false,"hidden":true,"merged":[]}
["wprowadź datę",null,null,"koszyki roczne",null,null,null,"koszyki kwartalne",null,null,null,"koszyki miesięczne",null,null,null,"koszyki tygodniowe",null,null,null,"koszyki dzienne"]
[{"$f":"'Kalkulator Depozytów'!F12","v":"00:00:00"},null,{"$f":"A2+2","v":"1900-01-02"},{"$f":"IF(F2<='raport RTT'!F8,DATE(YEAR(C2)+1,1,1),0)","v":"1901-01-01"},{"$f":"IF(D2=0,0,DATE(YEAR(D2)+1,1,1)-1)","v":"1901-12-31"},1,{"$f":"IF(OR(AND(MONTH(A2)=12,DAY(A2)=30),AND(MONTH(A2)=12,DAY(A2)=31)),MONTH(A2),MONTH(C2))","v":1},{"$f":"IF(J2<='raport RTT'!$F$11+1,IF(OR(G2=12,G2<10),DATE(YEAR(A2),G2+G4+1,1),IF(G2=10,DATE(YEAR(A2),G2+G4+1+1,1),DATE(YEAR(A2),G2+G4,1))),0)","v":"1900-04-01"},{"$f":"IF(H2=0,0,DATE(YEAR(H2),MONTH(H2)+3,1)-1)","v":"1900-06-30"},1,null,{"$f":"IF(N2<='raport RTT'!$F$10+1,DATE(YEAR(C2),MONTH(C2)+1,1),0)","v":"1900-02-01"},{"$f":"IF(L3=0,0,DATE(YEAR(L2),MONTH(L2)+1,1)-1)","v":60},1,{"$f":"DAY(A2)","v":0},{"$f":"IF(R2<='raport RTT'!F9,IF(OR(O3=5,O3=6,O3=7),A2+3*7-O3+1,A2+2*7-O3+1),0)","v":"1900-01-16"},{"$f":"IF(P3=0,0,P2+6)","v":"1900-01-22"},1,{"$f":"DAY(A2)","v":0},{"$f":"A2+1","v":"1900-01-01"},{"$f":"T2","v":"1900-01-01"}]
[{"$f":"A2+1","v":"1900-01-01"},null,null,{"$f":"IF(F3<='raport RTT'!$F$8,DATE(YEAR(D2)+1,1,1),0)","v":"1902-01-01"},{"$f":"IF(D3=0,0,DATE(YEAR(D3)+1,1,1)-1)","v":"1902-12-31"},2,{"$f":"MOD(G2,3)","v":1},{"$f":"IF(J3<='raport RTT'!$F$11,DATE(YEAR(H2),MONTH(H2)+3,1),0)","v":"1900-07-01"},{"$f":"IF(H3=0,0,DATE(YEAR(H3),MONTH(H3)+3,1)-1)","v":"1900-09-30"},2,null,{"$f":"IF(N3<='raport RTT'!$F$10+1,DATE(YEAR(L2),MONTH(L2)+1,1),0)","v":"1900-03-01"},{"$f":"IF(L4=0,0,DATE(YEAR(L3),MONTH(L3)+1,1)-1)","v":"1900-03-31"},2,{"$f":"WEEKDAY(A2)-1","v":6},{"$f":"IF($P$12=\"TAK\",IF(R3<'raport RTT'!$F$9,P2+7,0),IF(R3<='raport RTT'!$F$9,P2+7,0))","v":"1900-01-23"},{"$f":"IF(P4=0,0,P3+6)","v":"1900-01-29"},2,null,{"$f":"IF(T2+1<$P$2,IF(T2=0,0,T2+1),0)","v":"1900-01-02"},{"$f":"T3","v":"1900-01-02"}]
["Typ kontraktu",null,null,{"$f":"IF(F4<='raport RTT'!$F$8,DATE(YEAR(D3)+1,1,1),0)","v":"1903-01-01"},{"$f":"IF(D4=0,0,DATE(YEAR(D4)+1,1,1)-1)","v":"1903-12-31"},3,{"$f":"IF(AND(G2<9,G3<>0),3-G3,G3)","v":2},{"$f":"IF(J4<='raport RTT'!$F$11,DATE(YEAR(H3),MONTH(H3)+3,1),0)","v":"00:00:00"},"00:00:00",3,null,{"$f":"IF(N4<='raport RTT'!$F$10+1,DATE(YEAR(L3),MONTH(L3)+1,1),0)","v":"1900-04-01"},"00:00:00",3,{"$f":"7-O3","v":1},{"$f":"IF($P$12=\"TAK\",IF(R4<'raport RTT'!$F$9,P3+7,0),IF(R4<='raport RTT'!$F$9,P3+7,0))","v":"1900-01-30"},"1900-02-05",3,"ile wziąć?",{"$f":"IF(T3+1<$P$2,IF(T3=0,0,T3+1),0)","v":"1900-01-03"},"1900-01-03"]
["BASE",24,null,{"$f":"IF(F5<='raport RTT'!$F$8,DATE(YEAR(D4)+1,1,1),0)","v":"1904-01-01"},{"$f":"IF(D5=0,0,DATE(YEAR(D5)+1,1,1)-1)","v":"1904-12-31"},4,null,{"$f":"IF(J5<='raport RTT'!$F$11,DATE(YEAR(H4),MONTH(H4)+3,1),0)","v":"00:00:00"},"00:00:00",4,null,{"$f":"IF(N5<='raport RTT'!$F$10+1,DATE(YEAR(L4),MONTH(L4)+1,1),0)","v":"00:00:00"},"00:00:00",4,null,{"$f":"IF($P$12=\"TAK\",IF(R5<'raport RTT'!$F$9,P4+7,0),IF(R5<='raport RTT'!$F$9,P4+7,0))","v":"1900-02-06"},"00:00:00",4,{"$f":"17-COUNTIF(T2:T17,\"<>0\")","v":2},{"$f":"IF(T4+1<$P$2,IF(T4=0,0,T4+1),0)","v":"1900-01-04"},"1900-01-04"]
["BASE5",24,null,{"$f":"IF(F6<='raport RTT'!$F$8,DATE(YEAR(D5)+1,1,1),0)","v":"00:00:00"},{"$f":"IF(D6=0,0,DATE(YEAR(D6)+1,1,1)-1)","v":"00:00:00"},5,null,{"$f":"IF(J6<='raport RTT'!$F$11,DATE(YEAR(H5),MONTH(H5)+3,1),0)","v":"00:00:00"},"00:00:00",5,null,{"$f":"IF(N6<='raport RTT'!$F$10+1,DATE(YEAR(L5),MONTH(L5)+1,1),0)","v":"00:00:00"},"00:00:00",5,null,{"$f":"IF($P$12=\"TAK\",IF(R6<'raport RTT'!$F$9,P5+7,0),IF(R6<='raport RTT'!$F$9,P5+7,0))","v":"00:00:00"},"00:00:00",5,{"$f":"COUNTIF(T2:T17,\"<>0\")","v":15},"1900-01-05","1900-01-05"]
["PEAK5",15,null,null,null,null,null,{"$f":"IF(J7<='raport RTT'!$F$11,DATE(YEAR(H6),MONTH(H6)+3,1),0)","v":"00:00:00"},"00:00:00",6,null,{"$f":"IF(N7<='raport RTT'!$F$10+1,DATE(YEAR(L6),MONTH(L6)+1,1),0)","v":"00:00:00"},"00:00:00",6,null,{"$f":"IF($P$12=\"TAK\",IF(R7<'raport RTT'!$F$9,P6+7,0),IF(R7<='raport RTT'!$F$9,P6+7,0))","v":"00:00:00"},"00:00:00",6,null,"1900-01-06","1900-01-06"]
["PEAK7",15,null,"do dodania końców",null,null,null,{"$f":"IF(J8<='raport RTT'!$F$11,DATE(YEAR(H7),MONTH(H7)+3,1),0)","v":"00:00:00"},"00:00:00",7,null,{"$f":"IF(N8<='raport RTT'!$F$10+1,DATE(YEAR(L7),MONTH(L7)+1,1),0)","v":"00:00:00"},"00:00:00",7,null,null,null,null,null,"1900-01-07","1900-01-07"]
["OFFPEAK",9,null,{"$f":"DATE(YEAR(A3),MONTH(A3)+1,1)-1","v":"1900-01-31"},null,null,null,null,null,null,null,{"$f":"IF(N9<='raport RTT'!$F$10+1,DATE(YEAR(L8),MONTH(L8)+1,1),0)","v":"00:00:00"},"00:00:00",8,null,null,null,null,null,"1900-01-08","1900-01-08"]
[null,null,null,{"$f":"DATE(YEAR(A3),MONTH(A3)+2,1)-1","v":60},null,null,null,null,null,null,null,{"$f":"IF(N10<='raport RTT'!$F$10+1,DATE(YEAR(L9),MONTH(L9)+1,1),0)","v":"00:00:00"},"00:00:00",9,null,{"$f":"IF(WEEKDAY(A2+28,2)=5,\"TAK\",\"NIE\")","v":"NIE"},null,null,null,"1900-01-09","1900-01-09"]
[null,null,null,"współczynnik",null,null,null,null,null,null,null,{"$f":"IF(N11<='raport RTT'!$F$10+1,DATE(YEAR(L10),MONTH(L10)+1,1),0)","v":"00:00:00"},"00:00:00",10,null,null,null,null,null,"1900-01-10","1900-01-10"]
[null,null,null,1,null,null,null,null,null,null,null,null,null,null,null,"NIE",null,null,null,{"$f":"IF(T11+1<$P$2,IF(T11=0,0,T11+1),0)","v":"1900-01-11"},"1900-01-11"]
["Godziny",null,null,0.5,null,null,null,null,null,null,null,null,null,null,null,null,null,null,null,"1900-01-12","1900-01-12"]
[{"$f":"SUMIF('koszyki P_L_H'!$A$5:$A$9,Kalkulator!C2,'koszyki P_L_H'!B5:B9)","v":0},null,null,0.27500000000000002,null,null,null,null,null,null,null,null,null,null,null,null,null,null,null,"1900-01-13","1900-01-13"]
[null,null,null,null,null,null,null,null,null,null,null,null,null,null,null,null,null,null,null,{"$f":"IF(T14+1<$P$2,IF(T14=0,0,T14+1),0)","v":"1900-01-14"},"1900-01-14"]
[null,null,null,null,null,null,null,null,null,null,null,null,null,null,null,null,null,null,null,{"$f":"IF(T15+1<$P$2,IF(T15=0,0,T15+1),0)","v":"1900-01-15"},{"$f":"T16","v":"1900-01-15"}]
[null,null,null,null,null,null,null,null,null,null,null,null,null,null,null,null,null,null,null,{"$f":"IF(T16+1<$P$2,IF(T16=0,0,T16+1),0)","v":"00:00:00"},{"$f":"T17","v":"00:00:00"}]
[]
["Tabelka",null,null,null,null,"Długość",null,null,"cos","Nazwa",null,null,"święta",null,null,null,null,"Miesiąc","English","short","Kwartał"]
["2024-11-28","2024-11-28",null,null,null,{"$f":"H20-G20","v":0},null,null,null,{"$f":"IF(F20=0,(\"BASE-\"&DAY(G20)&VLOOKUP(MONTH(G20),$R$20:$T$31,3,0))&\"-\"&VLOOKUP(YEAR(G20),$R$33:$S$41,2),IF(OR(F20=29,F20=30,F20=27,F20=28),(\"BASE-\"&VLOOKUP(MONTH(G20),$R$20:$T$31,3,0))&\"-\"&VLOOKUP(YEAR(G20),$R$33:$S$41,2),IF(OR(F20=89,F20=90,F20=91),(\"BASE-\"&VLOOKUP(MONTH(G20),$R$20:$U$31,4,0))&\"-\"&VLOOKUP(YEAR(G20),$R$33:$S$41,2),IF(OR(F20=6),\"BASE-WK\"&WEEKNUM(G20)&\"-\"&VLOOKUP(YEAR(G20),$R$33:$S$41,2),IF(OR(F20=1,F20=2,F20=3,F20=4,F20=5),\"BASE-\"&YEAR(G20)&\"/\"&MONTH(G20)&\"/\"&DAY(G20)&\"-\"&YEAR(H20)&\"/\"&MONTH(H20)&\"/\"&DAY(H20),\"BASE-\"&YEAR(G20))))))","v":{"$error":"#N/A"}},null,null,"2013-01-01",null,null,null,null,1,"January","Jan","Q1"]
["2024-11-29","2024-11-29",null,null,null,{"$f":"H21-G21+1","v":1},null,null,null,"BASE-1900/1/0-1900/1/0",null,null,"2013-04-01",null,null,null,null,2,"February ","Feb","Q2"]
["2024-11-30","2024-11-30",null,null,null,1,null,null,null,"BASE-1900/1/0-1900/1/0",null,null,"2013-05-01",null,null,null,null,3,"March","Mar","Q3"]
["2024-12-01","2024-12-01",null,null,null,1,null,null,null,"BASE-1900/1/0-1900/1/0",null,null,"2013-05-03",null,null,null,null,4,"April","Apr","Q2"]
["2024-12-02","2024-12-02",null,null,null,1,null,null,null,"BASE-1900/1/0-1900/1/0",null,null,"2013-05-30",null,null,null,null,5,"May","May","Q3"]
["2024-12-03","2024-12-03",null,null,null,1,null,null,null,"BASE-1900/1/0-1900/1/0",null,null,"2013-08-15",null,null,null,null,6,"June","Jun","Q4"]
["2024-12-04","2024-12-04",null,null,null,1,null,null,null,"BASE-1900/1/0-1900/1/0",null,null,"2013-11-01",null,null,null,null,7,"July","Jul","Q3"]
["2024-12-05","2024-12-05",null,null,null,1,null,null,null,"BASE-1900/1/0-1900/1/0",null,null,"2013-11-11",null,null,null,null,8,"August","Aug","Q4"]
["2024-12-06","2024-12-06",null,null,null,1,null,null,null,"BASE-1900/1/0-1900/1/0",null,null,"2013-12-25",null,null,null,null,9,"September","Sep","Q5"]
["2024-12-07","2024-12-07",null,null,null,1,null,null,null,"BASE-1900/1/0-1900/1/0",null,null,"2013-12-26",null,null,null,null,10,"October","Oct","Q4"]
["2024-12-08","2024-12-08",null,null,null,1,null,null,null,"BASE-1900/1/0-1900/1/0",null,null,"2014-01-01",null,null,null,null,11,"November","Nov","Q5"]
["00:00:00","00:00:00",null,null,null,1,null,null,null,"BASE-1900/1/0-1900/1/0",null,null,"2014-01-06",null,null,null,null,12,"December","Dec","Q6"]
["00:00:00","00:00:00",null,null,null,1,null,null,null,"BASE-1900/1/0-1900/1/0",null,null,"2014-04-21"]
["00:00:00","00:00:00",null,null,null,1,null,null,null,"BASE-1900/1/0-1900/1/0",null,null,"2014-05-01",null,null,null,null,"Rok","Short"]
["00:00:00","00:00:00",null,null,null,1,null,null,null,"BASE-1900/1/0-1900/1/0",null,null,"2014-06-19",null,null,null,null,2013,{"$f":"RIGHT(R34,2)","v":"13"}]
["00:00:00","00:00:00",null,null,null,1,null,null,null,"BASE-1900/1/0-1900/1/0",null,null,"2014-08-15",null,null,null,null,2014,{"$f":"RIGHT(R35,2)","v":"14"}]
["2024-12-09","2024-12-15",null,null,null,1,null,null,null,"BASE-1900/1/0-1900/1/0",null,null,"2014-11-11",null,null,null,null,2015,"15"]
["2024-12-16","2024-12-22",null,null,null,1,null,null,null,"BASE-1900/1/0-1900/1/0",null,null,"2014-12-25",null,null,null,null,2016,"16"]
["2024-12-23","2024-12-29",null,null,null,1,null,null,null,"BASE-1900/1/0-1900/1/0",null,null,"2014-12-26",null,null,null,null,2017,"17"]
["2024-12-30","00:00:00",null,null,null,1,null,null,null,"BASE-1900/1/0-1900/1/0",null,null,"2015-01-01",null,null,null,null,2018,"18"]
["00:00:00","00:00:00",null,null,null,1,null,null,null,"BASE-1900/1/0-1900/1/0",null,null,"2015-01-06",null,null,null,null,2019,"19"]
["00:00:00","00:00:00",null,null,null,1,null,null,null,"BASE-1900/1/0-1900/1/0",null,null,"2015-04-06",null,null,null,null,2020,"20"]
["2024-12-01","2024-12-31",null,null,null,1,null,null,null,"BASE-1900/1/0-1900/1/0",null,null,"2015-05-01"]
["2025-01-01","2025-01-31",null,null,null,1,null,null,null,"BASE-1900/1/0-1900/1/0",null,null,"2015-06-04"]
["2025-02-01","00:00:00",null,null,null,1,null,null,null,"BASE-1900/1/0-1900/1/0",null,null,"2015-11-11",null,null,null,null,null,null,"Długość"]
["00:00:00","00:00:00",null,null,null,1,null,null,null,"BASE-1900/1/0-1900/1/0",null,null,"2015-12-25",null,null,null,null,"liczba miesięcy",null,30]
["00:00:00","00:00:00",null,null,null,1,null,null,null,"BASE-1900/1/0-1900/1/0",null,null,"2016-01-01",null,null,null,null,{"$f":"-(8-COUNTIFS(F20:F59,\">26\",F20:F59,\"<32\"))","v":-8},null,29]
["00:00:00","00:00:00",null,null,null,1,null,null,null,"BASE-1900/1/0-1900/1/0",null,null,"2016-01-06",null,null,null,null,null,null,28]
["00:00:00","00:00:00",null,null,null,1,null,null,null,"BASE-1900/1/0-1900/1/0",null,null,"2016-03-28",null,null,null,null,{"$f":"DMAX($F$19:$G$59,\"START\",$T$44:$T$48)","v":{"$error":"#VALUE!"}},null,27]
["00:00:00","00:00:00",null,null,null,1,null,null,null,"BASE-1900/1/0-1900/1/0",null,null,"2016-05-03"]
["00:00:00","00:00:00",null,null,null,1,null,null,null,"BASE-1900/1/0-1900/1/0",null,null,"2016-05-26",null,null,null,null,{"$f":"IF(R46=1,MID(VLOOKUP($R$48,$G$19:$J$59,4,0),1,5)&YEAR(R48)&\"/\"&MONTH(R48)&\"/\"&DAY(R48)&\"-\"&YEAR(H45)&\"/\"&MONTH(H45)&\"/\"&DAY(H45))","v":false}]
["00:00:00","00:00:00",null,null,null,1,null,null,null,"BASE-1900/1/0-1900/1/0",null,null,"2016-08-15"]
["2025-01-01","2025-03-31",null,null,null,1,null,null,null,"BASE-1900/1/0-1900/1/0",null,null,"2016-11-01"]
["2025-04-01","2025-06-30",null,null,null,1,null,null,null,"BASE-1900/1/0-1900/1/0",null,null,"2016-11-11"]
["00:00:00","00:00:00",null,null,null,1,null,null,null,{"$f":"IF(F54=0,(\"BASE-\"&DAY(G54)&VLOOKUP(MONTH(G54),$R$20:$T$31,3,0))&\"-\"&VLOOKUP(YEAR(G54),$R$33:$S$41,2),IF(OR(F54=29,F54=30,F54=27,F54=28),(\"BASE-\"&VLOOKUP(MONTH(G54),$R$20:$T$31,3,0))&\"-\"&VLOOKUP(YEAR(G54),$R$33:$S$41,2),IF(OR(F54=89,F54=90,F54=91),(\"BASE-\"&VLOOKUP(MONTH(G54),$R$20:$U$31,4,0))&\"-\"&VLOOKUP(YEAR(G54),$R$33:$S$41,2),IF(OR(F54=6),\"BASE-WK\"&WEEKNUM(G54)&\"-\"&VLOOKUP(YEAR(G54),$R$33:$S$41,2),IF(OR(F54=1,F54=2,F54=3,F54=4,F54=5),\"BASE-\"&YEAR(G54)&\"/\"&MONTH(G54)&\"/\"&DAY(G54)&\"-\"&YEAR(H54)&\"/\"&MONTH(H54)&\"/\"&DAY(H54),\"BASE-\"&YEAR(G54))))))","v":"BASE-1900/1/0-1900/1/0"},null,null,"2016-12-26"]
["00:00:00","00:00:00",null,null,null,1,null,null,null,"BASE-1900/1/0-1900/1/0",null,null,"2017-01-06"]
["00:00:00","00:00:00",null,null,null,{"$f":"H56-G56","v":0},null,null,null,{"$error":"#N/A"},null,null,"2017-04-17"]
["00:00:00","00:00:00",null,null,null,{"$f":"H57-G57","v":0},null,null,null,{"$error":"#N/A"},null,null,"2017-05-01"]
["00:00:00","00:00:00",null,null,null,{"$f":"H58-G58","v":0},null,null,null,{"$error":"#N/A"},null,null,"2017-05-03"]
[null,"2024-11-30",null,null,null,{"$f":"H59-G59","v":0},null,null,null,{"$error":"#N/A"},null,null,"2017-06-15"]
[null,"2024-12-31",null,null,null,null,null,null,null,null,null,null,"2017-08-15"]
[null,null,null,null,null,null,null,null,null,null,null,null,"2017-11-01"]
[null,null,null,null,null,null,null,null,null,null,null,null,"2017-12-25"]
[null,null,null,null,null,null,null,null,null,null,null,null,"2017-12-26"]
[null,null,null,null,null,null,null,null,null,null,null,null,"2018-01-01"]
[null,null,null,null,null,null,null,null,null,null,null,null,"2018-04-02"]
[null,null,null,null,null,null,null,null,null,null,null,null,"2018-05-01"]
[null,null,null,null,null,null,null,null,null,null,null,null,"2018-05-03"]
[null,null,null,null,null,null,null,null,null,null,null,null,"2018-05-31"]
[null,null,null,null,null,null,null,null,null,null,null,null,"2018-08-15"]
[null,null,null,null,null,null,null,null,null,null,null,null,"2018-11-01"]
[null,null,null,null,null,null,null,null,null,null,null,null,"2018-12-25"]
[null,null,null,null,null,null,null,null,null,null,null,null,"2018-12-26"]
[null,null,null,null,null,null,null,null,null,null,null,null,"2019-01-01"]
[null,null,null,null,null,null,null,null,null,null,null,null,"2019-04-22"]
[null,null,null,null,null,null,null,null,null,null,null,null,"2019-05-01"]
[null,null,null,null,null,null,null,null,null,null,null,null,"2019-05-03"]
[null,null,null,null,null,null,null,null,null,null,null,null,"2019-06-20"]
[null,null,null,null,null,null,null,null,null,null,null,null,"2019-08-15"]
[null,null,null,null,null,null,null,null,null,null,null,null,"2019-11-01"]
[null,null,null,null,null,null,null,null,null,null,null,null,"2019-11-11"]
[null,null,null,null,null,null,null,null,null,null,null,null,"2019-12-25"]
[null,null,null,null,null,null,null,null,null,null,null,null,"2019-12-26"]
[null,null,null,null,null,null,null,null,null,null,null,null,"2020-01-01"]
[null,null,null,null,null,null,null,null,null,null,null,null,"2020-01-06"]
[null,null,null,null,null,null,null,null,null,null,null,null,"2020-04-13"]
[null,null,null,null,null,null,null,null,null,null,null,null,"2020-05-01"]
[null,null,null,null,null,null,null,null,null,null,null,null,"2020-06-11"]
[null,null,null,null,null,null,null,null,null,null,null,null,"2020-11-11"]
[null,null,null,null,null,null,null,null,null,null,null,null,"2020-12-25"]
[null,null,null,null,null,null,null,null,null,null,null,null,"2020-12-26"]
[null,null,null,null,null,null,null,null,null,null,null,null,"2021-01-01"]
[null,null,null,null,null,null,null,null,null,null,null,null,"2021-01-06"]
[null,null,null,null,null,null,null,null,null,null,null,null,"2021-04-04"]
[null,null,null,null,null,null,null,null,null,null,null,null,"2021-04-05"]
[null,null,null,null,null,null,null,null,null,null,null,null,"2021-05-01"]
[null,null,null,null,null,null,null,null,null,null,null,null,"2021-05-03"]
[null,null,null,null,null,null,null,null,null,null,null,null,"2021-05-23"]
[null,null,null,null,null,null,null,null,null,null,null,null,"2021-06-03"]
[null,null,null,null,null,null,null,null,null,null,null,null,"2021-08-15"]
[null,null,null,null,null,null,null,null,null,null,null,null,"2021-11-01"]
[null,null,null,null,null,null,null,null,null,null,null,null,"2021-11-11"]
[null,null,null,null,null,null,null,null,null,null,null,null,"2021-12-25"]
[null,null,null,null,null,null,null,null,null,null,null,null,"2021-12-26"]
[null,null,null,null,null,null,null,null,null,null,null,null,"2022-01-01"]
[null,null,null,null,null,null,null,null,null,null,null,null,"2022-01-06"]
[null,null,null,null,null,null,null,null,null,null,null,null,"2022-04-17"]
[null,null,null,null,null,null,null,null,null,null,null,null,"2022-04-18"]
[null,null,null,null,null,null,null,null,null,null,null,null,"2022-05-01"]
[null,null,null,null,null,null,null,null,null,null,null,null,"2022-05-03"]
[null,null,null,null,null,null,null,null,null,null,null,null,"2022-06-05"]
[null,null,null,null,null,null,null,null,null,null,null,null,"2022-06-16"]
[null,null,null,null,null,null,null,null,null,null,null,null,"2022-08-15"]
[null,null,null,null,null,null,null,null,null,null,null,null,"2022-11-01"]
[null,null,null,null,null,null,null,null,null,null,null,null,"2022-11-11"]
[null,null,null,null,null,null,null,null,null,null,null,null,"2022-12-25"]
[null,null,null,null,null,null,null,null,null,null,null,null,"2022-12-26"]
[null,null,null,null,null,null,null,null,null,null,null,null,"2023-01-01"]
[null,null,null,null,null,null,null,null,null,null,null,null,"2023-01-06"]
[null,null,null,null,null,null,null,null,null,null,null,null,"2023-04-09"]
[null,null,null,null,null,null,null,null,null,null,null,null,"2023-04-10"]
[null,null,null,null,null,null,null,null,null,null,null,null,"2023-05-01"]
[null,null,null,null,null,null,null,null,null,null,null,null,"2023-05-03"]
[null,null,null,null,null,null,null,null,null,null,null,null,"2023-05-28"]
[null,null,null,null,null,null,null,null,null,null,null,null,"2023-06-08"]
[null,null,null,null,null,null,null,null,null,null,null,null,"2023-08-15"]
[null,null,null,null,null,null,null,null,null,null,null,null,"2023-11-01"]
[null,null,null,null,null,null,null,null,null,null,null,null,"2023-11-11"]
[null,null,null,null,null,null,null,null,null,null,null,null,"2023-12-25"]
[null,null,null,null,null,null,null,null,null,null,null,null,"2023-12-26"]
[null,null,null,null,null,null,null,null,null,null,null,null,"2024-01-01"]
[null,null,null,null,null,null,null,null,null,null,null,null,"2024-01-06"]
[null,null,null,null,null,null,null,null,null,null,null,null,"2024-03-31"]
[null,null,null,null,null,null,null,null,null,null,null,null,"2024-04-01"]
[null,null,null,null,null,null,null,null,null,null,null,null,"2024-05-01"]
[null,null,null,null,null,null,null,null,null,null,null,null,"2024-05-03"]
[null,null,null,null,null,null,null,null,null,null,null,null,"2024-05-19"]
[null,null,null,null,null,null,null,null,null,null,null,null,"2024-05-30"]
[null,null,null,null,null,null,null,null,null,null,null,null,"2024-08-15"]
[null,null,null,null,null,null,null,null,null,null,null,null,"2024-11-01"]
[null,null,null,null,null,null,null,null,null,null,null,null,"2024-11-11"]
[null,null,null,null,null,null,null,null,null,null,null,null,"2024-12-25"]
[null,null,null,null,null,null,null,null,null,null,null,null,"2024-12-26"]
[null,null,null,null,null,null,null,null,null,null,null,null,"2025-01-01"]
[null,null,null,null,null,null,null,null,null,null,null,null,"2025-01-06"]
[null,null,null,null,null,null,null,null,null,null,null,null,"2025-04-20"]
[null,null,null,null,null,null,null,null,null,null,null,null,"2025-04-21"]
[null,null,null,null,null,null,null,null,null,null,null,null,"2025-05-01"]
[null,null,null,null,null,null,null,null,null,null,null,null,"2025-05-03"]
[null,null,null,null,null,null,null,null,null,null,null,null,"2025-06-08"]
[null,null,null,null,null,null,null,null,null,null,null,null,"2025-06-19"]
[null,null,null,null,null,null,null,null,null,null,null,null,"2025-08-15"]
[null,null,null,null,null,null,null,null,null,null,null,null,"2025-11-01"]
[null,null,null,null,null,null,null,null,null,null,null,null,"2025-11-11"]
[null,null,null,null,null,null,null,null,null,null,null,null,"2025-12-25"]
[null,null,null,null,null,null,null,null,null,null,null,null,"2025-12-26"]
[null,null,null,null,null,null,null,null,null,null,null,null,"2026-01-01"]
[null,null,null,null,null,null,null,null,null,null,null,null,"2026-01-06"]
[null,null,null,null,null,null,null,null,null,null,null,null,"2026-04-05"]
[null,null,null,null,null,null,null,null,null,null,null,null,"2026-04-06"]
[null,null,null,null,null,null,null,null,null,null,null,null,"2026-05-01"]
[null,null,null,null,null,null,null,null,null,null,null,null,"2026-05-03"]
[null,null,null,null,null,null,null,null,null,null,null,null,"2026-05-24"]
[null,null,null,null,null,null,null,null,null,null,null,null,"2026-06-04"]
[null,null,null,null,null,null,null,null,null,null,null,null,"2026-08-15"]
[null,null,null,null,null,null,null,null,null,null,null,null,"2026-11-01"]
[null,null,null,null,null,null,null,null,null,null,null,null,"2026-11-11"]
[null,null,null,null,null,null,null,null,null,null,null,null,"2026-12-25"]
[null,null,null,null,null,null,null,null,null,null,null,null,"2026-12-26"]
[null,null,null,null,null,null,null,null,null,null,null,null,"2027-01-01"]
[null,null,null,null,null,null,null,null,null,null,null,null,"2027-01-06"]
[null,null,null,null,null,null,null,null,null,null,null,null,"2027-03-28"]
[null,null,null,null,null,null,null,null,null,null,null,null,"2027-03-29"]
[null,null,null,null,null,null,null,null,null,null,null,null,"2027-05-01"]
[null,null,null,null,null,null,null,null,null,null,null,null,"2027-05-03"]
[null,null,null,null,null,null,null,null,null,null,null,null,"2027-05-16"]
[null,null,null,null,null,null,null,null,null,null,null,null,"2027-05-27"]
[null,null,null,null,null,null,null,null,null,null,null,null,"2027-08-15"]
[null,null,null,null,null,null,null,null,null,null,null,null,"2027-11-01"]
[null,null,null,null,null,null,null,null,null,null,null,null,"2027-11-11"]
[null,null,null,null,null,null,null,null,null,null,null,null,"2027-12-24"]
[null,null,null,null,null,null,null,null,null,null,null,null,"2027-12-25"]
[null,null,null,null,null,null,null,null,null,null,null,null,"2027-12-26"]
[null,null,null,null,null,null,null,null,null,null,null,null,"2028-01-01"]
[null,null,null,null,null,null,null,null,null,null,null,null,"2028-01-06"]
[null,null,null,null,null,null,null,null,null,null,null,null,"2028-04-16"]
[null,null,null,null,null,null,null,null,null,null,null,null,"2028-04-17"]
[null,null,null,null,null,null,null,null,null,null,null,null,"2028-05-01"]
[null,null,null,null,null,null,null,null,null,null,null,null,"2028-05-03"]
[null,null,null,null,null,null,null,null,null,null,null,null,"2028-06-04"]
[null,null,null,null,null,null,null,null,null,null,null,null,"2028-06-15"]
[null,null,null,null,null,null,null,null,null,null,null,null,"2028-08-15"]
[null,null,null,null,null,null,null,null,null,null,null,null,"2028-11-01"]
[null,null,null,null,null,null,null,null,null,null,null,null,"2028-11-11"]
[null,null,null,null,null,null,null,null,null,null,null,null,"2028-12-24"]
[null,null,null,null,null,null,null,null,null,null,null,null,"2028-12-25"]
[null,null,null,null,null,null,null,null,null,null,null,null,"2028-12-26"]
[null,null,null,null,null,null,null,null,null,null,null,null,"2029-01-01"]
[null,null,null,null,null,null,null,null,null,null,null,null,"2029-01-06"]
[null,null,null,null,null,null,null,null,null,null,null,null,"2029-04-01"]
[null,null,null,null,null,null,null,null,null,null,null,null,"2029-04-02"]
[null,null,null,null,null,null,null,null,null,null,null,null,"2029-05-01"]
[null,null,null,null,null,null,null,null,null,null,null,null,"2029-05-03"]
[null,null,null,null,null,null,null,null,null,null,null,null,"2029-05-20"]
[null,null,null,null,null,null,null,null,null,null,null,null,"2029-05-31"]
[null,null,null,null,null,null,null,null,null,null,null,null,"2029-08-15"]
[null,null,null,null,null,null,null,null,null,null,null,null,"2029-11-01"]
[null,null,null,null,null,null,null,null,null,null,null,null,"2029-11-11"]
[null,null,null,null,null,null,null,null,null,null,null,null,"2029-12-24"]
[null,null,null,null,null,null,null,null,null,null,null,null,"2029-12-25"]
[null,null,null,null,null,null,null,null,null,null,null,null,"2029-12-26"]
[null,null,null,null,null,null,null,null,null,null,null,null,"2030-01-01"]
[null,null,null,null,null,null,null,null,null,null,null,null,"2030-01-06"]
[null,null,null,null,null,null,null,null,null,null,null,null,"2030-04-21"]
[null,null,null,null,null,null,null,null,null,null,null,null,"2030-04-22"]
[null,null,null,null,null,null,null,null,null,null,null,null,"2030-05-01"]
[null,null,null,null,null,null,null,null,null,null,null,null,"2030-05-03"]
[null,null,null,null,null,null,null,null,null,null,null,null,"2030-06-09"]
[null,null,null,null,null,null,null,null,null,null,null,null,"2030-06-20"]
[null,null,null,null,null,null,null,null,null,null,null,null,"2030-08-15"]
[null,null,null,null,null,null,null,null,null,null,null,null,"2030-11-01"]
[null,null,null,null,null,null,null,null,null,null,null,null,"2030-11-11"]
[null,null,null,null,null,null,null,null,null,null,null,null,"2030-12-24"]
[null,null,null,null,null,null,null,null,null,null,null,null,"2030-12-25"]
[null,null,null,null,null,null,null,null,null,null,null,null,"2030-12-26"]
[null,null,null,null,null,null,null,null,null,null,null,null,"2031-01-01"]
[null,null,null,null,null,null,null,null,null,null,null,null,"2031-01-06"]
[null,null,null,null,null,null,null,null,null,null,null,null,"2031-04-13"]
[null,null,null,null,null,null,null,null,null,null,null,null,"2031-04-14"]
[null,null,null,null,null,null,null,null,null,null,null,null,"2031-05-01"]
[null,null,null,null,null,null,null,null,null,null,null,null,"2031-05-03"]
[null,null,null,null,null,null,null,null,null,null,null,null,"2031-06-01"]
[null,null,null,null,null,null,null,null,null,null,null,null,"2031-06-12"]
[null,null,null,null,null,null,null,null,null,null,null,null,"2031-08-15"]
[null,null,null,null,null,null,null,null,null,null,null,null,"2031-11-01"]
[null,null,null,null,null,null,null,null,null,null,null,null,"2031-11-11"]
[null,null,null,null,null,null,null,null,null,null,null,null,"2031-12-24"]
[null,null,null,null,null,null,null,null,null,null,null,null,"2031-12-25"]
[null,null,null,null,null,null,null,null,null,null,null,null,"2031-12-26"]
[null,null,null,null,null,null,null,null,null,null,null,null,"2032-01-01"]
[null,null,null,null,null,null,null,null,null,null,null,null,"2032-01-06"]
[null,null,null,null,null,null,null,null,null,null,null,null,"2032-03-28"]
[null,null,null,null,null,null,null,null,null,null,null,null,"2032-03-29"]
[null,null,null,null,null,null,null,null,null,null,null,null,"2032-05-01"]
[null,null,null,null,null,null,null,null,null,null,null,null,"2032-05-03"]
[null,null,null,null,null,null,null,null,null,null,null,null,"2032-05-16"]
[null,null,null,null,null,null,null,null,null,null,null,null,"2032-05-27"]
[null,null,null,null,null,null,null,null,null,null,null,null,"2032-08-15"]
[null,null,null,null,null,null,null,null,null,null,null,null,"2032-11-01"]
[null,null,null,null,null,null,null,null,null,null,null,null,"2032-11-11"]
[null,null,null,null,null,null,null,null,null,null,null,null,"2032-12-24"]
[null,null,null,null,null,null,null,null,null,null,null,null,"2032-12-25"]
[null,null,null,null,null,null,null,null,null,null,null,null,"2032-12-26"]
[null,null,null,null,null,null,null,null,null,null,null,null,"2033-01-01"]
[null,null,null,null,null,null,null,null,null,null,null,null,"2033-01-06"]
[null,null,null,null,null,null,null,null,null,null,null,null,"2033-04-17"]
[null,null,null,null,null,null,null,null,null,null,null,null,"2033-04-18"]
[null,null,null,null,null,null,null,null,null,null,null,null,"2033-05-01"]
[null,null,null,null,null,null,null,null,null,null,null,null,"2033-05-03"]
[null,null,null,null,null,null,null,null,null,null,null,null,"2033-06-05"]
[null,null,null,null,null,null,null,null,null,null,null,null,"2033-06-16"]
[null,null,null,null,null,null,null,null,null,null,null,null,"2033-08-15"]
[null,null,null,null,null,null,null,null,null,null,null,null,"2033-11-01"]
[null,null,null,null,null,null,null,null,null,null,null,null,"2033-11-11"]
[null,null,null,null,null,null,null,null,null,null,null,null,"2033-12-24"]
[null,null,null,null,null,null,null,null,null,null,null,null,"2033-12-25"]
[null,null,null,null,null,null,null,null,null,null,null,null,"2033-12-26"]
[null,null,null,null,null,null,null,null,null,null,null,null,"2034-01-01"]
[null,null,null,null,null,null,null,null,null,null,null,null,"2034-01-06"]
[null,null,null,null,null,null,null,null,null,null,null,null,"2034-04-09"]
[null,null,null,null,null,null,null,null,null,null,null,null,"2034-04-10"]
[null,null,null,null,null,null,null,null,null,null,null,null,"2034-05-01"]
[null,null,null,null,null,null,null,null,null,null,null,null,"2034-05-03"]
[null,null,null,null,null,null,null,null,null,null,null,null,"2034-05-28"]
[null,null,null,null,null,null,null,null,null,null,null,null,"2034-06-08"]
[null,null,null,null,null,null,null,null,null,null,null,null,"2034-08-15"]
[null,null,null,null,null,null,null,null,null,null,null,null,"2034-11-01"]
[null,null,null,null,null,null,null,null,null,null,null,null,"2034-11-11"]
[null,null,null,null,null,null,null,null,null,null,null,null,"2034-12-24"]
[null,null,null,null,null,null,null,null,null,null,null,null,"2034-12-25"]
[null,null,null,null,null,null,null,null,null,null,null,null,"2034-12-26"]
[null,null,null,null,null,null,null,null,null,null,null,null,"2035-01-01"]
[null,null,null,null,null,null,null,null,null,null,null,null,"2035-01-06"]
[null,null,null,null,null,null,null,null,null,null,null,null,"2035-03-25"]
[null,null,null,null,null,null,null,null,null,null,null,null,"2035-03-26"]
[null,null,null,null,null,null,null,null,null,null,null,null,"2035-05-01"]
[null,null,null,null,null,null,null,null,null,null,null,null,"2035-05-03"]
[null,null,null,null,null,null,null,null,null,null,null,null,"2035-05-13"]
[null,null,null,null,null,null,null,null,null,null,null,null,"2035-05-24"]
[null,null,null,null,null,null,null,null,null,null,null,null,"2035-08-15"]
[null,null,null,null,null,null,null,null,null,null,null,null,"2035-11-01"]
[null,null,null,null,null,null,null,null,null,null,null,null,"2035-11-11"]
[null,null,null,null,null,null,null,null,null,null,null,null,"2035-12-24"]
[null,null,null,null,null,null,null,null,null,null,null,null,"2035-12-25"]
[null,null,null,null,null,null,null,null,null,null,null,null,"2035-12-26"]
[null,null,null,null,null,null,null,null,null,null,null,null,"2036-01-01"]
[null,null,null,null,null,null,null,null,null,null,null,null,"2036-01-06"]
[null,null,null,null,null,null,null,null,null,null,null,null,"2036-04-13"]
[null,null,null,null,null,null,null,null,null,null,null,null,"2036-04-14"]
[null,null,null,null,null,null,null,null,null,null,null,null,"2036-05-01"]
[null,null,null,null,null,null,null,null,null,null,null,null,"2036-05-03"]
[null,null,null,null,null,null,null,null,null,null,null,null,"2036-06-01"]
[null,null,null,null,null,null,null,null,null,null,null,null,"2036-06-12"]
[null,null,null,null,null,null,null,null,null,null,null,null,"2036-08-15"]
[null,null,null,null,null,null,null,null,null,null,null,null,"2036-11-01"]
[null,null,null,null,null,null,null,null,null,null,null,null,"2036-11-11"]
[null,null,null,null,null,null,null,null,null,null,null,null,"2036-12-24"]
[null,null,null,null,null,null,null,null,null,null,null,null,"2036-12-25"]
[null,null,null,null,null,null,null,null,null,null,null,null,"2036-12-26"]
[null,null,null,null,null,null,null,null,null,null,null,null,"2037-01-01"]
[null,null,null,null,null,null,null,null,null,null,null,null,"2037-01-06"]
[null,null,null,null,null,null,null,null,null,null,null,null,"2037-04-05"]
[null,null,null,null,null,null,null,null,null,null,null,null,"2037-04-06"]
[null,null,null,null,null,null,null,null,null,null,null,null,"2037-05-01"]
[null,null,null,null,null,null,null,null,null,null,null,null,"2037-05-03"]
[null,null,null,null,null,null,null,null,null,null,null,null,"2037-05-24"]
[null,null,null,null,null,null,null,null,null,null,null,null,"2037-06-04"]
[null,null,null,null,null,null,null,null,null,null,null,null,"2037-08-15"]
[null,null,null,null,null,null,null,null,null,null,null,null,"2037-11-01"]
[null,null,null,null,null,null,null,null,null,null,null,null,"2037-11-11"]
[null,null,null,null,null,null,null,null,null,null,null,null,"2037-12-24"]
[null,null,null,null,null,null,null,null,null,null,null,null,"2037-12-25"]
[null,null,null,null,null,null,null,null,null,null,null,null,"2037-12-26"]
[null,null,null,null,null,null,null,null,null,null,null,null,"2038-01-01"]
[null,null,null,null,null,null,null,null,null,null,null,null,"2038-01-06"]
[null,null,null,null,null,null,null,null,null,null,null,null,"2038-04-25"]
[null,null,null,null,null,null,null,null,null,null,null,null,"2038-04-26"]
[null,null,null,null,null,null,null,null,null,null,null,null,"2038-05-01"]
[null,null,null,null,null,null,null,null,null,null,null,null,"2038-05-03"]
[null,null,null,null,null,null,null,null,null,null,null,null,"2038-06-13"]
[null,null,null,null,null,null,null,null,null,null,null,null,"2038-06-24"]
[null,null,null,null,null,null,null,null,null,null,null,null,"2038-08-15"]
[null,null,null,null,null,null,null,null,null,null,null,null,"2038-11-01"]
[null,null,null,null,null,null,null,null,null,null,null,null,"2038-11-11"]
[null,null,null,null,null,null,null,null,null,null,null,null,"2038-12-24"]
[null,null,null,null,null,null,null,null,null,null,null,null,"2038-12-25"]
[null,null,null,null,null,null,null,null,null,null,null,null,"2038-12-26"]
[null,null,null,null,null,null,null,null,null,null,null,null,"2039-01-01"]
[null,null,null,null,null,null,null,null,null,null,null,null,"2039-01-06"]
[null,null,null,null,null,null,null,null,null,null,null,null,"2039-04-10"]
[null,null,null,null,null,null,null,null,null,null,null,null,"2039-04-11"]
[null,null,null,null,null,null,null,null,null,null,null,null,"2039-05-01"]
[null,null,null,null,null,null,null,null,null,null,null,null,"2039-05-03"]
[null,null,null,null,null,null,null,null,null,null,null,null,"2039-05-29"]
[null,null,null,null,null,null,null,null,null,null,null,null,"2039-06-09"]
[null,null,null,null,null,null,null,null,null,null,null,null,"2039-08-15"]
[null,null,null,null,null,null,null,null,null,null,null,null,"2039-11-01"]
[null,null,null,null,null,null,null,null,null,null,null,null,"2039-11-11"]
[null,null,null,null,null,null,null,null,null,null,null,null,"2039-12-24"]
[null,null,null,null,null,null,null,null,null,null,null,null,"2039-12-25"]
[null,null,null,null,null,null,null,null,null,null,null,null,"2039-12-26"]
[null,null,null,null,null,null,null,null,null,null,null,null,"2040-01-01"]
[null,null,null,null,null,null,null,null,null,null,null,null,"2040-01-06"]
[null,null,null,null,null,null,null,null,null,null,null,null,"2040-04-01"]
[null,null,null,null,null,null,null,null,null,null,null,null,"2040-04-02"]
[null,null,null,null,null,null,null,null,null,null,null,null,"2040-05-01"]
[null,null,null,null,null,null,null,null,null,null,null,null,"2040-05-03"]
[null,null,null,null,null,null,null,null,null,null,null,null,"2040-05-20"]
[null,null,null,null,null,null,null,null,null,null,null,null,"2040-05-31"]
[null,null,null,null,null,null,null,null,null,null,null,null,"2040-08-15"]
[null,null,null,null,null,null,null,null,null,null,null,null,"2040-11-01"]
[null,null,null,null,null,null,null,null,null,null,null,null,"2040-11-11"]
[null,null,null,null,null,null,null,null,null,null,null,null,"2040-12-24"]
[null,null,null,null,null,null,null,null,null,null,null,null,"2040-12-25"]
[null,null,null,null,null,null,null,null,null,null,null,null,"2040-12-26"]
[null,null,null,null,null,null,null,null,null,null,null,null,"2041-01-01"]
[null,null,null,null,null,null,null,null,null,null,null,null,"2041-01-06"]
[null,null,null,null,null,null,null,null,null,null,null,null,"2041-04-21"]
[null,null,null,null,null,null,null,null,null,null,null,null,"2041-04-22"]
[null,null,null,null,null,null,null,null,null,null,null,null,"2041-05-01"]
[null,null,null,null,null,null,null,null,null,null,null,null,"2041-05-03"]
[null,null,null,null,null,null,null,null,null,null,null,null,"2041-06-09"]
[null,null,null,null,null,null,null,null,null,null,null,null,"2041-06-20"]
[null,null,null,null,null,null,null,null,null,null,null,null,"2041-08-15"]
[null,null,null,null,null,null,null,null,null,null,null,null,"2041-11-01"]
[null,null,null,null,null,null,null,null,null,null,null,null,"2041-11-11"]
[null,null,null,null,null,null,null,null,null,null,null,null,"2041-12-24"]
[null,null,null,null,null,null,null,null,null,null,null,null,"2041-12-25"]
[null,null,null,null,null,null,null,null,null,null,null,null,"2041-12-26"]
[null,null,null,null,null,null,null,null,null,null,null,null,"2042-01-01"]
[null,null,null,null,null,null,null,null,null,null,null,null,"2042-01-06"]
[null,null,null,null,null,null,null,null,null,null,null,null,"2042-04-06"]
[null,null,null,null,null,null,null,null,null,null,null,null,"2042-04-07"]
[null,null,null,null,null,null,null,null,null,null,null,null,"2042-05-01"]
[null,null,null,null,null,null,null,null,null,null,null,null,"2042-05-03"]
[null,null,null,null,null,null,null,null,null,null,null,null,"2042-05-25"]
[null,null,null,null,null,null,null,null,null,null,null,null,"2042-06-05"]
[null,null,null,null,null,null,null,null,null,null,null,null,"2042-08-15"]
[null,null,null,null,null,null,null,null,null,null,null,null,"2042-11-01"]
[null,null,null,null,null,null,null,null,null,null,null,null,"2042-11-11"]
[null,null,null,null,null,null,null,null,null,null,null,null,"2042-12-24"]
[null,null,null,null,null,null,null,null,null,null,null,null,"2042-12-25"]
[null,null,null,null,null,null,null,null,null,null,null,null,"2042-12-26"]
[null,null,null,null,null,null,null,null,null,null,null,null,"2043-01-01"]
[null,null,null,null,null,null,null,null,null,null,null,null,"2043-01-06"]
[null,null,null,null,null,null,null,null,null,null,null,null,"2043-03-29"]
[null,null,null,null,null,null,null,null,null,null,null,null,"2043-03-30"]
[null,null,null,null,null,null,null,null,null,null,null,null,"2043-05-01"]
[null,null,null,null,null,null,null,null,null,null,null,null,"2043-05-03"]
[null,null,null,null,null,null,null,null,null,null,null,null,"2043-05-17"]
[null,null,null,null,null,null,null,null,null,null,null,null,"2043-05-28"]
[null,null,null,null,null,null,null,null,null,null,null,null,"2043-08-15"]
[null,null,null,null,null,null,null,null,null,null,null,null,"2043-11-01"]
[null,null,null,null,null,null,null,null,null,null,null,null,"2043-11-11"]
[null,null,null,null,null,null,null,null,null,null,null,null,"2043-12-24"]
[null,null,null,null,null,null,null,null,null,null,null,null,"2043-12-25"]
[null,null,null,null,null,null,null,null,null,null,null,null,"2043-12-26"]
[null,null,null,null,null,null,null,null,null,null,null,null,"2044-01-01"]
[null,null,null,null,null,null,null,null,null,null,null,null,"2044-01-06"]
[null,null,null,null,null,null,null,null,null,null,null,null,"2044-04-17"]
[null,null,null,null,null,null,null,null,null,null,null,null,"2044-04-18"]
[null,null,null,null,null,null,null,null,null,null,null,null,"2044-05-01"]
[null,null,null,null,null,null,null,null,null,null,null,null,"2044-05-03"]
[null,null,null,null,null,null,null,null,null,null,null,null,"2044-06-05"]
[null,null,null,null,null,null,null,null,null,null,null,null,"2044-06-16"]
[null,null,null,null,null,null,null,null,null,null,null,null,"2044-08-15"]
[null,null,null,null,null,null,null,null,null,null,null,null,"2044-11-01"]
[null,null,null,null,null,null,null,null,null,null,null,null,"2044-11-11"]
[null,null,null,null,null,null,null,null,null,null,null,null,"2044-12-24"]
[null,null,null,null,null,null,null,null,null,null,null,null,"2044-12-25"]
[null,null,null,null,null,null,null,null,null,null,null,null,"2044-12-26"]
[null,null,null,null,null,null,null,null,null,null,null,null,"2045-01-01"]
[null,null,null,null,null,null,null,null,null,null,null,null,"2045-01-06"]
[null,null,null,null,null,null,null,null,null,null,null,null,"2045-04-09"]
[null,null,null,null,null,null,null,null,null,null,null,null,"2045-04-10"]
[null,null,null,null,null,null,null,null,null,null,null,null,"2045-05-01"]
[null,null,null,null,null,null,null,null,null,null,null,null,"2045-05-03"]
[null,null,null,null,null,null,null,null,null,null,null,null,"2045-05-28"]
[null,null,null,null,null,null,null,null,null,null,null,null,"2045-06-08"]
[null,null,null,null,null,null,null,null,null,null,null,null,"2045-08-15"]
[null,null,null,null,null,null,null,null,null,null,null,null,"2045-11-01"]
[null,null,null,null,null,null,null,null,null,null,null,null,"2045-11-11"]
[null,null,null,null,null,null,null,null,null,null,null,null,"2045-12-24"]
[null,null,null,null,null,null,null,null,null,null,null,null,"2045-12-25"]
[null,null,null,null,null,null,null,null,null,null,null,null,"2045-12-26"]
[null,null,null,null,null,null,null,null,null,null,null,null,"2046-01-01"]
[null,null,null,null,null,null,null,null,null,null,null,null,"2046-01-06"]
[null,null,null,null,null,null,null,null,null,null,null,null,"2046-03-25"]
[null,null,null,null,null,null,null,null,null,null,null,null,"2046-03-26"]
[null,null,null,null,null,null,null,null,null,null,null,null,"2046-05-01"]
[null,null,null,null,null,null,null,null,null,null,null,null,"2046-05-03"]
[null,null,null,null,null,null,null,null,null,null,null,null,"2046-05-13"]
[null,null,null,null,null,null,null,null,null,null,null,null,"2046-05-24"]
[null,null,null,null,null,null,null,null,null,null,null,null,"2046-08-15"]
[null,null,null,null,null,null,null,null,null,null,null,null,"2046-11-01"]
[null,null,null,null,null,null,null,null,null,null,null,null,"2046-11-11"]
[null,null,null,null,null,null,null,null,null,null,null,null,"2046-12-24"]
[null,null,null,null,null,null,null,null,null,null,null,null,"2046-12-25"]
[null,null,null,null,null,null,null,null,null,null,null,null,"2046-12-26"]
[null,null,null,null,null,null,null,null,null,null,null,null,"2047-01-01"]
[null,null,null,null,null,null,null,null,null,null,null,null,"2047-01-06"]
[null,null,null,null,null,null,null,null,null,null,null,null,"2047-04-14"]
[null,null,null,null,null,null,null,null,null,null,null,null,"2047-04-15"]
[null,null,null,null,null,null,null,null,null,null,null,null,"2047-05-01"]
[null,null,null,null,null,null,null,null,null,null,null,null,"2047-05-03"]
[null,null,null,null,null,null,null,null,null,null,null,null,"2047-06-02"]
[null,null,null,null,null,null,null,null,null,null,null,null,"2047-06-13"]
[null,null,null,null,null,null,null,null,null,null,null,null,"2047-08-15"]
[null,null,null,null,null,null,null,null,null,null,null,null,"2047-11-01"]
[null,null,null,null,null,null,null,null,null,null,null,null,"2047-11-11"]
[null,null,null,null,null,null,null,null,null,null,null,null,"2047-12-24"]
[null,null,null,null,null,null,null,null,null,null,null,null,"2047-12-25"]
[null,null,null,null,null,null,null,null,null,null,null,null,"2047-12-26"]
[null,null,null,null,null,null,null,null,null,null,null,null,"2048-01-01"]
[null,null,null,null,null,null,null,null,null,null,null,null,"2048-01-06"]
[null,null,null,null,null,null,null,null,null,null,null,null,"2048-04-05"]
[null,null,null,null,null,null,null,null,null,null,null,null,"2048-04-06"]
[null,null,null,null,null,null,null,null,null,null,null,null,"2048-05-01"]
[null,null,null,null,null,null,null,null,null,null,null,null,"2048-05-03"]
[null,null,null,null,null,null,null,null,null,null,null,null,"2048-05-24"]
[null,null,null,null,null,null,null,null,null,null,null,null,"2048-06-04"]
[null,null,null,null,null,null,null,null,null,null,null,null,"2048-08-15"]
[null,null,null,null,null,null,null,null,null,null,null,null,"2048-11-01"]
[null,null,null,null,null,null,null,null,null,null,null,null,"2048-11-11"]
[null,null,null,null,null,null,null,null,null,null,null,null,"2048-12-24"]
[null,null,null,null,null,null,null,null,null,null,null,null,"2048-12-25"]
[null,null,null,null,null,null,null,null,null,null,null,null,"2048-12-26"]
[null,null,null,null,null,null,null,null,null,null,null,null,"2049-01-01"]
[null,null,null,null,null,null,null,null,null,null,null,null,"2049-01-06"]
[null,null,null,null,null,null,null,null,null,null,null,null,"2049-04-18"]
[null,null,null,null,null,null,null,null,null,null,null,null,"2049-04-19"]
[null,null,null,null,null,null,null,null,null,null,null,null,"2049-05-01"]
[null,null,null,null,null,null,null,null,null,null,null,null,"2049-05-03"]
[null,null,null,null,null,null,null,null,null,null,null,null,"2049-06-06"]
[null,null,null,null,null,null,null,null,null,null,null,null,"2049-06-17"]
[null,null,null,null,null,null,null,null,null,null,null,null,"2049-08-15"]
[null,null,null,null,null,null,null,null,null,null,null,null,"2049-11-01"]
[null,null,null,null,null,null,null,null,null,null,null,null,"2049-11-11"]
[null,null,null,null,null,null,null,null,null,null,null,null,"2049-12-24"]
[null,null,null,null,null,null,null,null,null,null,null,null,"2049-12-25"]
[null,null,null,null,null,null,null,null,null,null,null,null,"2049-12-26"]
[null,null,null,null,null,null,null,null,null,null,null,null,"2050-01-01"]
[null,null,null,null,null,null,null,null,null,null,null,null,"2050-01-06"]
[null,null,null,null,null,null,null,null,null,null,null,null,"2050-04-10"]
[null,null,null,null,null,null,null,null,null,null,null,null,"2050-04-11"]
[null,null,null,null,null,null,null,null,null,null,null,null,"2050-05-01"]
[null,null,null,null,null,null,null,null,null,null,null,null,"2050-05-03"]
[null,null,null,null,null,null,null,null,null,null,null,null,"2050-05-29"]
[null,null,null,null,null,null,null,null,null,null,null,null,"2050-06-09"]
[null,null,null,null,null,null,null,null,null,null,null,null,"2050-08-15"]
[null,null,null,null,null,null,null,null,null,null,null,null,"2050-11-01"]
[null,null,null,null,null,null,null,null,null,null,null,null,"2050-11-11"]
[null,null,null,null,null,null,null,null,null,null,null,null,"2050-12-24"]
[null,null,null,null,null,null,null,null,null,null,null,null,"2050-12-25"]
[null,null,null,null,null,null,null,null,null,null,null,null,"2050-12-26"]

{"sheet":"Arkusz2","index":4,"n_rows":29,"n_cols":21,"rows_kept":29,"cut":false,"hidden":true,"merged":[]}
["2024-11-28","2024-11-28","2024-11-28","2024-11-28"]
["2024-11-29","2024-11-29","2024-11-29","2024-11-29",null,"Długość",null,null,"cos","Nazwa",null,null,"święta",null,null,null,null,"Miesiąc","English","short","Kwartał"]
["2024-11-30","2024-11-30","2024-11-30","2024-11-30",null,{"$f":"COUNTA(A:A)","v":29},null,{"$f":"COUNTA(C:C)","v":18}]
["2024-12-01","2024-12-01","2024-12-01","2024-12-01"]
["2024-12-02","2024-12-02","2024-12-02","2024-12-02"]
["2024-12-03","2024-12-03","2024-12-03","2024-12-03"]
["2024-12-04","2024-12-04","2024-12-04","2024-12-04"]
["2024-12-05","2024-12-05","2024-12-05","2024-12-05"]
["2024-12-06","2024-12-06","2024-12-06","2024-12-06"]
["2024-12-07","2024-12-07","2024-12-07","2024-12-07"]
["2024-12-08","2024-12-08","2024-12-08","2024-12-08"]
["2024-12-09","2024-12-15","2024-12-09","2024-12-15"]
["2024-12-16","2024-12-22","2024-12-16","2024-12-22"]
["2024-12-23","2024-12-29","2024-12-23","2024-12-29"]
["2024-12-30","2024-12-31","2024-12-30","2024-12-31"]
["2025-01-01","2025-01-05","2025-01-01","2025-01-31"]
["2025-01-06","2025-01-31","2025-02-01","2025-03-31"]
["2025-02-01","2025-02-28","2025-04-01","2025-06-30"]
["2025-03-01","2025-03-31"]
["2025-04-01","2025-04-30"]
["2025-05-01","2025-05-31"]
["2025-06-01","2025-06-30"]
["2025-07-01","2025-09-30"]
["2025-10-01","2025-12-31"]
["2026-01-01","2026-03-31"]
["2026-04-01","2026-06-30"]
["2026-07-01","2026-12-31"]
["2027-01-01","2027-12-31"]
["2028-01-01","2028-12-31"]

{"sheet":"krzywa","index":5,"n_rows":2208,"n_cols":14,"rows_kept":2208,"cut":false,"hidden":true,"merged":[]}
[null,"BASE","PEAK","L-PEAK","H-PEAK","OFFP"]
["days to delivery ","initial margin","initial margin","initial margin","initial margin","initial margin",null,null,null,null,null,"Data rozpoczęcia","Data zakończenia","VAT"]
[1,1.0463,0.97509999999999997,0.97509999999999997,0.97509999999999997,1.0463,null,null,null,null,null,"2022-01-01","2022-12-31",5]
[2,0.95620000000000005,0.89349999999999996,0.89349999999999996,0.89349999999999996,0.96220000000000006,null,null,null,null,null,"2023-01-01","2023-03-31",23]
[3,0.86619999999999997,0.81189999999999996,0.81189999999999996,0.81189999999999996,0.878,null,null,null,null,null,"2023-04-01","2026-12-31",0]
[4,0.7762,0.73019999999999996,0.73019999999999996,0.73019999999999996,0.79390000000000005,null,null,null,null,null,"2027-01-01","2100-12-31",23]
[5,0.68610000000000004,0.64859999999999995,0.64859999999999995,0.64859999999999995,0.70979999999999999]
[6,0.59609999999999996,0.56699999999999995,0.56699999999999995,0.56699999999999995,0.62560000000000004]
[7,0.50600000000000001,0.4854,0.4854,0.4854,0.54149999999999998]
[8,0.41599999999999998,0.40379999999999999,0.40379999999999999,0.40379999999999999,0.45739999999999997]
[9,0.32590000000000002,0.3221,0.3221,0.3221,0.37330000000000002]
[10,0.2359,0.24049999999999999,0.24049999999999999,0.24049999999999999,0.28910000000000002]
[11,0.14580000000000001,0.15890000000000001,0.15890000000000001,0.15890000000000001,0.20499999999999999]
[12,0.14419999999999999,0.1575,0.1575,0.1575,0.20419999999999999]
[13,0.14249999999999999,0.15620000000000001,0.15620000000000001,0.15620000000000001,0.20349999999999999]
[14,0.1409,0.15479999999999999,0.15479999999999999,0.15479999999999999,0.20269999999999999]
[15,0.13919999999999999,0.15340000000000001,0.15340000000000001,0.15340000000000001,0.20200000000000001]
[16,0.1376,0.15210000000000001,0.15210000000000001,0.15210000000000001,0.20119999999999999]
[17,0.13589999999999999,0.1507,0.1507,0.1507,0.20039999999999999]
[18,0.1343,0.14940000000000001,0.14940000000000001,0.14940000000000001,0.19969999999999999]
[19,0.13389999999999999,0.14799999999999999,0.14799999999999999,0.14799999999999999,0.19889999999999999]
[20,0.13350000000000001,0.14660000000000001,0.14660000000000001,0.14660000000000001,0.19819999999999999]
[21,0.13300000000000001,0.14530000000000001,0.14530000000000001,0.14530000000000001,0.19739999999999999]
[22,0.1326,0.1439,0.1439,0.1439,0.1966]
[23,0.13220000000000001,0.14249999999999999,0.14249999999999999,0.14249999999999999,0.19589999999999999]
[24,0.1318,0.14119999999999999,0.14119999999999999,0.14119999999999999,0.1951]
[25,0.13139999999999999,0.13980000000000001,0.13980000000000001,0.13980000000000001,0.19439999999999999]
[26,0.13100000000000001,0.13850000000000001,0.13850000000000001,0.13850000000000001,0.19359999999999999]
[27,0.1305,0.1371,0.1371,0.1371,0.1928]
[28,0.13009999999999999,0.13569999999999999,0.13569999999999999,0.13569999999999999,0.19209999999999999]
[29,0.12970000000000001,0.13439999999999999,0.13439999999999999,0.13439999999999999,0.1913]
[30,0.1293,0.13300000000000001,0.13300000000000001,0.13300000000000001,0.19059999999999999]
[31,0.12889999999999999,0.13159999999999999,0.13159999999999999,0.13159999999999999,0.1898]
[32,0.12839999999999999,0.1303,0.1303,0.1303,0.189]
[33,0.128,0.12889999999999999,0.12889999999999999,0.12889999999999999,0.1883]
[34,0.12759999999999999,0.12759999999999999,0.12759999999999999,0.12759999999999999,0.1875]
[35,0.12720000000000001,0.12620000000000001,0.12620000000000001,0.12620000000000001,0.18679999999999999]
[36,0.1268,0.12479999999999999,0.12479999999999999,0.12479999999999999,0.186]
[37,0.12640000000000001,0.1235,0.1235,0.1235,0.1852]
[38,0.12590000000000001,0.1221,0.1221,0.1221,0.1845]
[39,0.1255,0.1207,0.1207,0.1207,0.1837]
[40,0.12509999999999999,0.11940000000000001,0.11940000000000001,0.11940000000000001,0.183]
[41,0.12470000000000001,0.11799999999999999,0.11799999999999999,0.11799999999999999,0.1822]
[42,0.12429999999999999,0.1167,0.1167,0.1167,0.18140000000000001]
[43,0.1239,0.1153,0.1153,0.1153,0.1807]
[44,0.1234,0.1139,0.1139,0.1139,0.1799]
[45,0.123,0.11260000000000001,0.11260000000000001,0.11260000000000001,0.1792]
[46,0.1226,0.11119999999999999,0.11119999999999999,0.11119999999999999,0.1784]
[47,0.1221,0.1111,0.1111,0.1111,0.1792]
[48,0.1217,0.111,0.111,0.111,0.18]
[49,0.1212,0.1108,0.1108,0.1108,0.18090000000000001]
[50,0.1207,0.11070000000000001,0.11070000000000001,0.11070000000000001,0.1817]
[51,0.1202,0.1106,0.1106,0.1106,0.1825]
[52,0.1198,0.1105,0.1105,0.1105,0.18329999999999999]
[53,0.1193,0.1103,0.1103,0.1103,0.1842]
[54,0.1188,0.11020000000000001,0.11020000000000001,0.11020000000000001,0.185]
[55,0.11840000000000001,0.1101,0.1101,0.1101,0.18579999999999999]
[56,0.1179,0.11,0.11,0.11,0.18659999999999999]
[57,0.1174,0.1099,0.1099,0.1099,0.1875]
[58,0.11700000000000001,0.10970000000000001,0.10970000000000001,0.10970000000000001,0.1883]
[59,0.11650000000000001,0.1096,0.1096,0.1096,0.18909999999999999]
[60,0.11600000000000001,0.1095,0.1095,0.1095,0.18990000000000001]
[61,0.11559999999999999,0.1094,0.1094,0.1094,0.19070000000000001]
[62,0.11509999999999999,0.10920000000000001,0.10920000000000001,0.10920000000000001,0.19159999999999999]
[63,0.11459999999999999,0.1091,0.1091,0.1091,0.19239999999999999]
[64,0.11409999999999999,0.109,0.109,0.109,0.19320000000000001]
[65,0.1137,0.1089,0.1089,0.1089,0.19400000000000001]
[66,0.1132,0.10879999999999999,0.10879999999999999,0.10879999999999999,0.19489999999999999]
[67,0.11269999999999999,0.1086,0.1086,0.1086,0.19570000000000001]
[68,0.1123,0.1085,0.1085,0.1085,0.19650000000000001]
[69,0.1118,0.1084,0.1084,0.1084,0.1973]
[70,0.1113,0.10829999999999999,0.10829999999999999,0.10829999999999999,0.19819999999999999]
[71,0.1108,0.1082,0.1082,0.1082,0.19900000000000001]
[72,0.1104,0.108,0.108,0.108,0.19980000000000001]
[73,0.1099,0.1079,0.1079,0.1079,0.2006]
[74,0.1094,0.10780000000000001,0.10780000000000001,0.10780000000000001,0.2014]
[75,0.109,0.1077,0.1077,0.1077,0.20230000000000001]
[76,0.1085,0.1075,0.1075,0.1075,0.2031]
[77,0.1084,0.1074,0.1074,0.1074,0.2039]
[78,0.1082,0.10730000000000001,0.10730000000000001,0.10730000000000001,0.20469999999999999]
[79,0.1081,0.1072,0.1072,0.1072,0.2056]
[80,0.108,0.1071,0.1071,0.1071,0.2064]
[81,0.10780000000000001,0.1069,0.1069,0.1069,0.2072]
[82,0.1077,0.10680000000000001,0.10680000000000001,0.10680000000000001,0.20799999999999999]
[83,0.1076,0.1067,0.1067,0.1067,0.2089]
[84,0.1074,0.1066,0.1066,0.1066,0.2097]
[85,0.10730000000000001,0.10639999999999999,0.10639999999999999,0.10639999999999999,0.21049999999999999]
[86,0.1071,0.10630000000000001,0.10630000000000001,0.10630000000000001,0.21129999999999999]
[87,0.107,0.1062,0.1062,0.1062,0.21210000000000001]
[88,0.1069,0.1061,0.1061,0.1061,0.21299999999999999]
[89,0.1067,0.106,0.106,0.106,0.21379999999999999]
[90,0.1066,0.10580000000000001,0.10580000000000001,0.10580000000000001,0.21460000000000001]
[91,0.1065,0.1057,0.1057,0.1057,0.21540000000000001]
[92,0.10630000000000001,0.1056,0.1056,0.1056,0.21629999999999999]
[93,0.1062,0.1055,0.1055,0.1055,0.21709999999999999]
[94,0.1061,0.1053,0.1053,0.1053,0.21790000000000001]
[95,0.10589999999999999,0.1052,0.1052,0.1052,0.21870000000000001]
[96,0.10580000000000001,0.1051,0.1051,0.1051,0.21959999999999999]
[97,0.1057,0.105,0.105,0.105,0.22040000000000001]
[98,0.1055,0.10489999999999999,0.10489999999999999,0.10489999999999999,0.22120000000000001]
[99,0.10539999999999999,0.1047,0.1047,0.1047,0.222]
[100,0.1052,0.1046,0.1046,0.1046,0.2228]
[101,0.1051,0.1045,0.1045,0.1045,0.22370000000000001]
[102,0.105,0.10440000000000001,0.10440000000000001,0.10440000000000001,0.22450000000000001]
[103,0.1048,0.1042,0.1042,0.1042,0.2253]
[104,0.1047,0.1041,0.1041,0.1041,0.2261]
[105,0.1046,0.104,0.104,0.104,0.22700000000000001]
[106,0.10440000000000001,0.10390000000000001,0.10390000000000001,0.10390000000000001,0.2278]
[107,0.1043,0.1038,0.1038,0.1038,0.2286]
[108,0.1042,0.1036,0.1036,0.1036,0.22939999999999999]
[109,0.104,0.10349999999999999,0.10349999999999999,0.10349999999999999,0.2303]
[110,0.10390000000000001,0.10340000000000001,0.10340000000000001,0.10340000000000001,0.2311]
[111,0.1037,0.1033,0.1033,0.1033,0.2319]
[112,0.1036,0.1031,0.1031,0.1031,0.23269999999999999]
[113,0.10340000000000001,0.10299999999999999,0.10299999999999999,0.10299999999999999,0.23350000000000001]
[114,0.1033,0.10290000000000001,0.10290000000000001,0.10290000000000001,0.2344]
[115,0.1032,0.1028,0.1028,0.1028,0.23519999999999999]
[116,0.10299999999999999,0.1027,0.1027,0.1027,0.23599999999999999]
[117,0.10290000000000001,0.10249999999999999,0.10249999999999999,0.10249999999999999,0.23680000000000001]
[118,0.1027,0.1024,0.1024,0.1024,0.23769999999999999]
[119,0.1026,0.1023,0.1023,0.1023,0.23849999999999999]
[120,0.1024,0.1022,0.1022,0.1022,0.23930000000000001]
[121,0.1023,0.1021,0.1021,0.1021,0.24010000000000001]
[122,0.1022,0.1019,0.1019,0.1019,0.24099999999999999]
[123,0.10199999999999999,0.1018,0.1018,0.1018,0.24179999999999999]
[124,0.1019,0.1017,0.1017,0.1017,0.24260000000000001]
[125,0.1017,0.1016,0.1016,0.1016,0.24340000000000001]
[126,0.1016,0.1014,0.1014,0.1014,0.2442]
[127,0.1014,0.1013,0.1013,0.1013,0.24510000000000001]
[128,0.1013,0.1012,0.1012,0.1012,0.24590000000000001]
[129,0.1011,0.1011,0.1011,0.1011,0.2467]
[130,0.10100000000000001,0.10100000000000001,0.10100000000000001,0.10100000000000001,0.2475]
[131,0.1009,0.1008,0.1008,0.1008,0.24840000000000001]
[132,0.1007,0.1007,0.1007,0.1007,0.2492]
[133,0.10059999999999999,0.10059999999999999,0.10059999999999999,0.10059999999999999,0.25]
[134,0.1004,0.10050000000000001,0.10050000000000001,0.10050000000000001,0.25080000000000002]
[135,0.1003,0.1003,0.1003,0.1003,0.25169999999999998]
[136,0.10009999999999999,0.1002,0.1002,0.1002,0.2525]
[137,0.1,0.10009999999999999,0.10009999999999999,0.10009999999999999,0.25330000000000003]
[138,0.1,9.98E-2,9.98E-2,9.98E-2,0.25280000000000002]
[139,0.10009999999999999,9.9500000000000005E-2,9.9500000000000005E-2,9.9500000000000005E-2,0.25240000000000001]
[140,0.10009999999999999,9.9299999999999999E-2,9.9299999999999999E-2,9.9299999999999999E-2,0.25190000000000001]
[141,0.10009999999999999,9.9000000000000005E-2,9.9000000000000005E-2,9.9000000000000005E-2,0.2515]
[142,0.10009999999999999,9.8699999999999996E-2,9.8699999999999996E-2,9.8699999999999996E-2,0.251]
[143,0.1002,9.8400000000000001E-2,9.8400000000000001E-2,9.8400000000000001E-2,0.25059999999999999]
[144,0.1002,9.8100000000000007E-2,9.8100000000000007E-2,9.8100000000000007E-2,0.25009999999999999]
[145,0.1002,9.7900000000000001E-2,9.7900000000000001E-2,9.7900000000000001E-2,0.24970000000000001]
[146,0.1002,9.7600000000000006E-2,9.7600000000000006E-2,9.7600000000000006E-2,0.2492]
[147,0.1003,9.7299999999999998E-2,9.7299999999999998E-2,9.7299999999999998E-2,0.24879999999999999]
[148,0.1003,9.7000000000000003E-2,9.7000000000000003E-2,9.7000000000000003E-2,0.24829999999999999]
[149,0.1003,9.6699999999999994E-2,9.6699999999999994E-2,9.6699999999999994E-2,0.24790000000000001]
[150,0.1004,9.6500000000000002E-2,9.6500000000000002E-2,9.6500000000000002E-2,0.24740000000000001]
[151,0.1004,9.6199999999999994E-2,9.6199999999999994E-2,9.6199999999999994E-2,0.247]
[152,0.1004,9.5899999999999999E-2,9.5899999999999999E-2,9.5899999999999999E-2,0.2465]
[153,0.1004,9.5600000000000004E-2,9.5600000000000004E-2,9.5600000000000004E-2,0.24610000000000001]
[154,0.10050000000000001,9.5299999999999996E-2,9.5299999999999996E-2,9.5299999999999996E-2,0.24560000000000001]
[155,0.10050000000000001,9.5100000000000004E-2,9.5100000000000004E-2,9.5100000000000004E-2,0.2452]
[156,0.10050000000000001,9.4799999999999995E-2,9.4799999999999995E-2,9.4799999999999995E-2,0.2447]
[157,0.10050000000000001,9.4500000000000001E-2,9.4500000000000001E-2,9.4500000000000001E-2,0.24429999999999999]
[158,0.10059999999999999,9.4200000000000006E-2,9.4200000000000006E-2,9.4200000000000006E-2,0.24379999999999999]
[159,0.10059999999999999,9.3899999999999997E-2,9.3899999999999997E-2,9.3899999999999997E-2,0.24340000000000001]
[160,0.10059999999999999,9.3700000000000006E-2,9.3700000000000006E-2,9.3700000000000006E-2,0.2429]
[161,0.1007,9.3399999999999997E-2,9.3399999999999997E-2,9.3399999999999997E-2,0.24249999999999999]
[162,0.1007,9.3100000000000002E-2,9.3100000000000002E-2,9.3100000000000002E-2,0.24199999999999999]
[163,0.1007,9.2799999999999994E-2,9.2799999999999994E-2,9.2799999999999994E-2,0.24160000000000001]
[164,0.1007,9.2499999999999999E-2,9.2499999999999999E-2,9.2499999999999999E-2,0.24110000000000001]
[165,0.1008,9.2299999999999993E-2,9.2299999999999993E-2,9.2299999999999993E-2,0.2407]
[166,0.1008,9.1999999999999998E-2,9.1999999999999998E-2,9.1999999999999998E-2,0.2402]
[167,0.1008,9.1700000000000004E-2,9.1700000000000004E-2,9.1700000000000004E-2,0.23980000000000001]
[168,0.1009,9.1399999999999995E-2,9.1399999999999995E-2,9.1399999999999995E-2,0.23930000000000001]
[169,0.1009,9.11E-2,9.11E-2,9.11E-2,0.23880000000000001]
[170,0.1009,9.0899999999999995E-2,9.0899999999999995E-2,9.0899999999999995E-2,0.2384]
[171,0.1009,9.06E-2,9.06E-2,9.06E-2,0.2379]
[172,0.10100000000000001,9.0300000000000005E-2,9.0300000000000005E-2,9.0300000000000005E-2,0.23749999999999999]
[173,0.10100000000000001,0.09,0.09,0.09,0.23699999999999999]
[174,0.10100000000000001,8.9700000000000002E-2,8.9700000000000002E-2,8.9700000000000002E-2,0.2366]
[175,0.10100000000000001,8.9499999999999996E-2,8.9499999999999996E-2,8.9499999999999996E-2,0.2361]
[176,0.1011,8.9200000000000002E-2,8.9200000000000002E-2,8.9200000000000002E-2,0.23569999999999999]
[177,0.1011,8.8900000000000007E-2,8.8900000000000007E-2,8.8900000000000007E-2,0.23519999999999999]
[178,0.1011,8.8599999999999998E-2,8.8599999999999998E-2,8.8599999999999998E-2,0.23480000000000001]
[179,0.1012,8.8300000000000003E-2,8.8300000000000003E-2,8.8300000000000003E-2,0.23430000000000001]
[180,0.1012,8.8099999999999998E-2,8.8099999999999998E-2,8.8099999999999998E-2,0.2339]
[181,0.1012,8.7800000000000003E-2,8.7800000000000003E-2,8.7800000000000003E-2,0.2334]
[182,0.1012,8.7499999999999994E-2,8.7499999999999994E-2,8.7499999999999994E-2,0.23300000000000001]
[183,0.1013,8.72E-2,8.72E-2,8.72E-2,0.23250000000000001]
[184,0.1013,8.6900000000000005E-2,8.6900000000000005E-2,8.6900000000000005E-2,0.2321]
[185,0.1013,8.6599999999999996E-2,8.6599999999999996E-2,8.6599999999999996E-2,0.2316]
[186,0.1013,8.6400000000000005E-2,8.6400000000000005E-2,8.6400000000000005E-2,0.23119999999999999]
[187,0.1014,8.6099999999999996E-2,8.6099999999999996E-2,8.6099999999999996E-2,0.23069999999999999]
[188,0.1014,8.5800000000000001E-2,8.5800000000000001E-2,8.5800000000000001E-2,0.2303]
[189,0.1014,8.5500000000000007E-2,8.5500000000000007E-2,8.5500000000000007E-2,0.2298]
[190,0.10150000000000001,8.5199999999999998E-2,8.5199999999999998E-2,8.5199999999999998E-2,0.22939999999999999]
[191,0.10150000000000001,8.5000000000000006E-2,8.5000000000000006E-2,8.5000000000000006E-2,0.22889999999999999]
[192,0.10150000000000001,8.4699999999999998E-2,8.4699999999999998E-2,8.4699999999999998E-2,0.22850000000000001]
[193,0.10150000000000001,8.4400000000000003E-2,8.4400000000000003E-2,8.4400000000000003E-2,0.22800000000000001]
[194,0.1016,8.4099999999999994E-2,8.4099999999999994E-2,8.4099999999999994E-2,0.2276]
[195,0.1016,8.3799999999999999E-2,8.3799999999999999E-2,8.3799999999999999E-2,0.2271]
[196,0.1016,8.3599999999999994E-2,8.3599999999999994E-2,8.3599999999999994E-2,0.22670000000000001]
[197,0.1016,8.3299999999999999E-2,8.3299999999999999E-2,8.3299999999999999E-2,0.22620000000000001]
[198,0.1017,8.3000000000000004E-2,8.3000000000000004E-2,8.3000000000000004E-2,0.22570000000000001]
[199,0.1017,8.2699999999999996E-2,8.2699999999999996E-2,8.2699999999999996E-2,0.2253]
[200,0.1017,8.2400000000000001E-2,8.2400000000000001E-2,8.2400000000000001E-2,0.2248]
[201,0.1018,8.2199999999999995E-2,8.2199999999999995E-2,8.2199999999999995E-2,0.22439999999999999]
[202,0.1018,8.1900000000000001E-2,8.1900000000000001E-2,8.1900000000000001E-2,0.22389999999999999]
[203,0.1018,8.1600000000000006E-2,8.1600000000000006E-2,8.1600000000000006E-2,0.2235]
[204,0.1018,8.1299999999999997E-2,8.1299999999999997E-2,8.1299999999999997E-2,0.223]
[205,0.1019,8.1000000000000003E-2,8.1000000000000003E-2,8.1000000000000003E-2,0.22259999999999999]
[206,0.1019,8.0799999999999997E-2,8.0799999999999997E-2,8.0799999999999997E-2,0.22209999999999999]
[207,0.1019,8.0500000000000002E-2,8.0500000000000002E-2,8.0500000000000002E-2,0.22170000000000001]
[208,0.10199999999999999,8.0199999999999994E-2,8.0199999999999994E-2,8.0199999999999994E-2,0.22120000000000001]
[209,0.10199999999999999,7.9899999999999999E-2,7.9899999999999999E-2,7.9899999999999999E-2,0.2208]
[210,0.10199999999999999,7.9600000000000004E-2,7.9600000000000004E-2,7.9600000000000004E-2,0.2203]
[211,0.10199999999999999,7.9399999999999998E-2,7.9399999999999998E-2,7.9399999999999998E-2,0.21990000000000001]
[212,0.1021,7.9100000000000004E-2,7.9100000000000004E-2,7.9100000000000004E-2,0.21940000000000001]
[213,0.1021,7.8799999999999995E-2,7.8799999999999995E-2,7.8799999999999995E-2,0.219]
[214,0.1021,7.85E-2,7.85E-2,7.85E-2,0.2185]
[215,0.1021,7.8200000000000006E-2,7.8200000000000006E-2,7.8200000000000006E-2,0.21809999999999999]
[216,0.1022,7.8E-2,7.8E-2,7.8E-2,0.21759999999999999]
[217,0.1022,7.7700000000000005E-2,7.7700000000000005E-2,7.7700000000000005E-2,0.2172]
[218,0.1022,7.7399999999999997E-2,7.7399999999999997E-2,7.7399999999999997E-2,0.2167]
[219,0.1023,7.7100000000000002E-2,7.7100000000000002E-2,7.7100000000000002E-2,0.21629999999999999]
[220,0.1023,7.6799999999999993E-2,7.6799999999999993E-2,7.6799999999999993E-2,0.21579999999999999]
[221,0.1023,7.6600000000000001E-2,7.6600000000000001E-2,7.6600000000000001E-2,0.21540000000000001]
[222,0.1023,7.6300000000000007E-2,7.6300000000000007E-2,7.6300000000000007E-2,0.21490000000000001]
[223,0.1024,7.5999999999999998E-2,7.5999999999999998E-2,7.5999999999999998E-2,0.2145]
[224,0.1024,7.5700000000000003E-2,7.5700000000000003E-2,7.5700000000000003E-2,0.214]
[225,0.1024,7.5399999999999995E-2,7.5399999999999995E-2,7.5399999999999995E-2,0.21360000000000001]
[226,0.1024,7.5200000000000003E-2,7.5200000000000003E-2,7.5200000000000003E-2,0.21310000000000001]
[227,0.10249999999999999,7.4899999999999994E-2,7.4899999999999994E-2,7.4899999999999994E-2,0.2127]
[228,0.10249999999999999,7.46E-2,7.46E-2,7.46E-2,0.2122]
[229,0.1024,7.4700000000000003E-2,7.46E-2,7.46E-2,0.21210000000000001]
[230,0.1023,7.4700000000000003E-2,7.46E-2,7.46E-2,0.21199999999999999]
[231,0.1022,7.4800000000000005E-2,7.46E-2,7.46E-2,0.21190000000000001]
[232,0.1021,7.4899999999999994E-2,7.46E-2,7.46E-2,0.2117]
[233,0.10199999999999999,7.4899999999999994E-2,7.46E-2,7.46E-2,0.21160000000000001]
[234,0.1019,7.4999999999999997E-2,7.46E-2,7.46E-2,0.21149999999999999]
[235,0.1018,7.4999999999999997E-2,7.46E-2,7.46E-2,0.2114]
[236,0.1017,7.51E-2,7.46E-2,7.46E-2,0.21129999999999999]
[237,0.1016,7.5200000000000003E-2,7.46E-2,7.46E-2,0.2112]
[238,0.1014,7.5200000000000003E-2,7.46E-2,7.46E-2,0.21110000000000001]
[239,0.1013,7.5300000000000006E-2,7.46E-2,7.46E-2,0.21099999999999999]
[240,0.1012,7.5399999999999995E-2,7.46E-2,7.46E-2,0.21079999999999999]
[241,0.1011,7.5399999999999995E-2,7.46E-2,7.46E-2,0.2107]
[242,0.10100000000000001,7.5499999999999998E-2,7.46E-2,7.46E-2,0.21060000000000001]
[243,0.1009,7.5600000000000001E-2,7.46E-2,7.46E-2,0.21049999999999999]
[244,0.1008,7.5600000000000001E-2,7.46E-2,7.46E-2,0.2104]
[245,0.1007,7.5700000000000003E-2,7.46E-2,7.46E-2,0.21029999999999999]
[246,0.10059999999999999,7.5800000000000006E-2,7.46E-2,7.46E-2,0.2102]
[247,0.10050000000000001,7.5800000000000006E-2,7.46E-2,7.46E-2,0.21]
[248,0.1004,7.5899999999999995E-2,7.46E-2,7.46E-2,0.2099]
[249,0.1003,7.5899999999999995E-2,7.46E-2,7.46E-2,0.20979999999999999]
[250,0.1002,7.5999999999999998E-2,7.46E-2,7.46E-2,0.2097]
[251,0.10009999999999999,7.6100000000000001E-2,7.46E-2,7.46E-2,0.20960000000000001]
[252,0.1,7.6100000000000001E-2,7.46E-2,7.46E-2,0.20949999999999999]
[253,9.9900000000000003E-2,7.6200000000000004E-2,7.46E-2,7.46E-2,0.2094]
[254,9.98E-2,7.6300000000000007E-2,7.46E-2,7.46E-2,0.20930000000000001]
[255,9.9699999999999997E-2,7.6300000000000007E-2,7.46E-2,7.46E-2,0.20910000000000001]
[256,9.9500000000000005E-2,7.6399999999999996E-2,7.46E-2,7.46E-2,0.20899999999999999]
[257,9.9400000000000002E-2,7.6499999999999999E-2,7.46E-2,7.46E-2,0.2089]
[258,9.9299999999999999E-2,7.6499999999999999E-2,7.46E-2,7.46E-2,0.20880000000000001]
[259,9.9199999999999997E-2,7.6600000000000001E-2,7.46E-2,7.46E-2,0.2087]
[260,9.9099999999999994E-2,7.6600000000000001E-2,7.46E-2,7.46E-2,0.20860000000000001]
[261,9.9000000000000005E-2,7.6700000000000004E-2,7.46E-2,7.46E-2,0.20849999999999999]
[262,9.8900000000000002E-2,7.6799999999999993E-2,7.46E-2,7.46E-2,0.20830000000000001]
[263,9.8799999999999999E-2,7.6799999999999993E-2,7.46E-2,7.46E-2,0.2082]
[264,9.8699999999999996E-2,7.6899999999999996E-2,7.46E-2,7.46E-2,0.20810000000000001]
[265,9.8599999999999993E-2,7.6999999999999999E-2,7.46E-2,7.46E-2,0.20799999999999999]
[266,9.8500000000000004E-2,7.6999999999999999E-2,7.46E-2,7.46E-2,0.2079]
[267,9.8400000000000001E-2,7.7100000000000002E-2,7.46E-2,7.46E-2,0.20780000000000001]
[268,9.8299999999999998E-2,7.7200000000000005E-2,7.46E-2,7.46E-2,0.2077]
[269,9.8199999999999996E-2,7.7200000000000005E-2,7.46E-2,7.46E-2,0.20749999999999999]
[270,9.8100000000000007E-2,7.7299999999999994E-2,7.46E-2,7.46E-2,0.2074]
[271,9.8000000000000004E-2,7.7399999999999997E-2,7.46E-2,7.46E-2,0.20730000000000001]
[272,9.7900000000000001E-2,7.7399999999999997E-2,7.46E-2,7.46E-2,0.2072]
[273,9.7799999999999998E-2,7.7499999999999999E-2,7.46E-2,7.46E-2,0.20710000000000001]
[274,9.7600000000000006E-2,7.7499999999999999E-2,7.46E-2,7.46E-2,0.20699999999999999]
[275,9.7500000000000003E-2,7.7600000000000002E-2,7.46E-2,7.46E-2,0.2069]
[276,9.74E-2,7.7700000000000005E-2,7.46E-2,7.46E-2,0.20680000000000001]
[277,9.7299999999999998E-2,7.7700000000000005E-2,7.46E-2,7.46E-2,0.20660000000000001]
[278,9.7199999999999995E-2,7.7799999999999994E-2,7.46E-2,7.46E-2,0.20649999999999999]
[279,9.7100000000000006E-2,7.7899999999999997E-2,7.46E-2,7.46E-2,0.2064]
[280,9.7000000000000003E-2,7.7899999999999997E-2,7.46E-2,7.46E-2,0.20630000000000001]
[281,9.69E-2,7.8E-2,7.46E-2,7.46E-2,0.20619999999999999]
[282,9.6799999999999997E-2,7.8100000000000003E-2,7.46E-2,7.46E-2,0.20610000000000001]
[283,9.6699999999999994E-2,7.8100000000000003E-2,7.46E-2,7.46E-2,0.20599999999999999]
[284,9.6600000000000005E-2,7.8200000000000006E-2,7.46E-2,7.46E-2,0.20580000000000001]
[285,9.6500000000000002E-2,7.8299999999999995E-2,7.46E-2,7.46E-2,0.20569999999999999]
[286,9.64E-2,7.8299999999999995E-2,7.46E-2,7.46E-2,0.2056]
[287,9.6299999999999997E-2,7.8399999999999997E-2,7.46E-2,7.46E-2,0.20549999999999999]
[288,9.6199999999999994E-2,7.8399999999999997E-2,7.46E-2,7.46E-2,0.2054]
[289,9.6100000000000005E-2,7.85E-2,7.46E-2,7.46E-2,0.20530000000000001]
[290,9.6000000000000002E-2,7.8600000000000003E-2,7.46E-2,7.46E-2,0.20519999999999999]
[291,9.5899999999999999E-2,7.8600000000000003E-2,7.46E-2,7.46E-2,0.2051]
[292,9.5799999999999996E-2,7.8700000000000006E-2,7.46E-2,7.46E-2,0.2049]
[293,9.5600000000000004E-2,7.8799999999999995E-2,7.46E-2,7.46E-2,0.20480000000000001]
[294,9.5500000000000002E-2,7.8799999999999995E-2,7.46E-2,7.46E-2,0.20469999999999999]
[295,9.5399999999999999E-2,7.8899999999999998E-2,7.46E-2,7.46E-2,0.2046]
[296,9.5299999999999996E-2,7.9000000000000001E-2,7.46E-2,7.46E-2,0.20449999999999999]
[297,9.5200000000000007E-2,7.9000000000000001E-2,7.46E-2,7.46E-2,0.2044]
[298,9.5100000000000004E-2,7.9100000000000004E-2,7.46E-2,7.46E-2,0.20430000000000001]
[299,9.5000000000000001E-2,7.9100000000000004E-2,7.46E-2,7.46E-2,0.2041]
[300,9.4899999999999998E-2,7.9200000000000007E-2,7.46E-2,7.46E-2,0.20399999999999999]
[301,9.4799999999999995E-2,7.9299999999999995E-2,7.46E-2,7.46E-2,0.2039]
[302,9.4700000000000006E-2,7.9299999999999995E-2,7.46E-2,7.46E-2,0.20380000000000001]
[303,9.4600000000000004E-2,7.9399999999999998E-2,7.46E-2,7.46E-2,0.20369999999999999]
[304,9.4500000000000001E-2,7.9500000000000001E-2,7.46E-2,7.46E-2,0.2036]
[305,9.4399999999999998E-2,7.9500000000000001E-2,7.46E-2,7.46E-2,0.20349999999999999]
[306,9.4299999999999995E-2,7.9600000000000004E-2,7.46E-2,7.46E-2,0.2034]
[307,9.4200000000000006E-2,7.9699999999999993E-2,7.46E-2,7.46E-2,0.20319999999999999]
[308,9.4100000000000003E-2,7.9699999999999993E-2,7.46E-2,7.46E-2,0.2031]
[309,9.4E-2,7.9799999999999996E-2,7.46E-2,7.46E-2,0.20300000000000001]
[310,9.3899999999999997E-2,7.9899999999999999E-2,7.46E-2,7.46E-2,0.2029]
[311,9.3700000000000006E-2,7.9899999999999999E-2,7.46E-2,7.46E-2,0.20280000000000001]
[312,9.3600000000000003E-2,0.08,7.46E-2,7.46E-2,0.20269999999999999]
[313,9.35E-2,0.08,7.46E-2,7.46E-2,0.2026]
[314,9.3399999999999997E-2,8.0100000000000005E-2,7.46E-2,7.46E-2,0.2024]
[315,9.3299999999999994E-2,8.0199999999999994E-2,7.46E-2,7.46E-2,0.20230000000000001]
[316,9.3200000000000005E-2,8.0199999999999994E-2,7.46E-2,7.46E-2,0.20219999999999999]
[317,9.3100000000000002E-2,8.0299999999999996E-2,7.46E-2,7.46E-2,0.2021]
[318,9.2999999999999999E-2,8.0399999999999999E-2,7.46E-2,7.46E-2,0.20200000000000001]
[319,9.2899999999999996E-2,8.0399999999999999E-2,7.46E-2,7.46E-2,0.2019]
[320,9.2799999999999994E-2,8.0500000000000002E-2,7.46E-2,7.46E-2,0.20180000000000001]
[321,9.2899999999999996E-2,8.0600000000000005E-2,7.46E-2,7.46E-2,0.20169999999999999]
[322,9.2999999999999999E-2,8.0600000000000005E-2,7.46E-2,7.46E-2,0.20150000000000001]
[323,9.3100000000000002E-2,8.0699999999999994E-2,7.46E-2,7.46E-2,0.2014]
[324,9.3200000000000005E-2,8.0799999999999997E-2,7.46E-2,7.46E-2,0.20130000000000001]
[325,9.3299999999999994E-2,8.0799999999999997E-2,7.46E-2,7.46E-2,0.20119999999999999]
[326,9.3399999999999997E-2,8.09E-2,7.46E-2,7.46E-2,0.2011]
[327,9.35E-2,8.09E-2,7.46E-2,7.46E-2,0.20100000000000001]
[328,9.3700000000000006E-2,8.1000000000000003E-2,7.46E-2,7.46E-2,0.2009]
[329,9.3799999999999994E-2,8.1100000000000005E-2,7.46E-2,7.46E-2,0.20069999999999999]
[330,9.3899999999999997E-2,8.1100000000000005E-2,7.46E-2,7.46E-2,0.2006]
[331,9.4E-2,8.1199999999999994E-2,7.46E-2,7.46E-2,0.20050000000000001]
[332,9.4100000000000003E-2,8.1299999999999997E-2,7.46E-2,7.46E-2,0.20039999999999999]
[333,9.4200000000000006E-2,8.1299999999999997E-2,7.46E-2,7.46E-2,0.20030000000000001]
[334,9.4299999999999995E-2,8.14E-2,7.46E-2,7.46E-2,0.20019999999999999]
[335,9.4399999999999998E-2,8.1500000000000003E-2,7.46E-2,7.46E-2,0.2001]
[336,9.4500000000000001E-2,8.1500000000000003E-2,7.46E-2,7.46E-2,0.19989999999999999]
[337,9.4600000000000004E-2,8.1600000000000006E-2,7.46E-2,7.46E-2,0.19980000000000001]
[338,9.4700000000000006E-2,8.1600000000000006E-2,7.46E-2,7.46E-2,0.19969999999999999]
[339,9.4799999999999995E-2,8.1699999999999995E-2,7.46E-2,7.46E-2,0.1996]
[340,9.4899999999999998E-2,8.1799999999999998E-2,7.46E-2,7.46E-2,0.19950000000000001]
[341,9.5000000000000001E-2,8.1799999999999998E-2,7.46E-2,7.46E-2,0.19939999999999999]
[342,9.5100000000000004E-2,8.1900000000000001E-2,7.46E-2,7.46E-2,0.1993]
[343,9.5299999999999996E-2,8.2000000000000003E-2,7.46E-2,7.46E-2,0.19919999999999999]
[344,9.5399999999999999E-2,8.2000000000000003E-2,7.46E-2,7.46E-2,0.19900000000000001]
[345,9.5500000000000002E-2,8.2100000000000006E-2,7.46E-2,7.46E-2,0.19889999999999999]
[346,9.5600000000000004E-2,8.2199999999999995E-2,7.46E-2,7.46E-2,0.1988]
[347,9.5699999999999993E-2,8.2199999999999995E-2,7.46E-2,7.46E-2,0.19869999999999999]
[348,9.5799999999999996E-2,8.2299999999999998E-2,7.46E-2,7.46E-2,0.1986]
[349,9.5899999999999999E-2,8.2400000000000001E-2,7.46E-2,7.46E-2,0.19850000000000001]
[350,9.6000000000000002E-2,8.2400000000000001E-2,7.46E-2,7.46E-2,0.19839999999999999]
[351,9.6100000000000005E-2,8.2500000000000004E-2,7.46E-2,7.46E-2,0.19819999999999999]
[352,9.6199999999999994E-2,8.2500000000000004E-2,7.46E-2,7.46E-2,0.1981]
[353,9.6299999999999997E-2,8.2600000000000007E-2,7.46E-2,7.46E-2,0.19800000000000001]
[354,9.64E-2,8.2699999999999996E-2,7.46E-2,7.46E-2,0.19789999999999999]
[355,9.6500000000000002E-2,8.2699999999999996E-2,7.46E-2,7.46E-2,0.1978]
[356,9.6600000000000005E-2,8.2799999999999999E-2,7.46E-2,7.46E-2,0.19769999999999999]
[357,9.6699999999999994E-2,8.2900000000000001E-2,7.46E-2,7.46E-2,0.1976]
[358,9.69E-2,8.2900000000000001E-2,7.46E-2,7.46E-2,0.19750000000000001]
[359,9.7000000000000003E-2,8.3000000000000004E-2,7.46E-2,7.46E-2,0.1973]
[360,9.7100000000000006E-2,8.3099999999999993E-2,7.46E-2,7.46E-2,0.19719999999999999]
[361,9.7199999999999995E-2,8.3099999999999993E-2,7.46E-2,7.46E-2,0.1971]
[362,9.7299999999999998E-2,8.3199999999999996E-2,7.46E-2,7.46E-2,0.19700000000000001]
[363,9.74E-2,8.3199999999999996E-2,7.46E-2,7.46E-2,0.19689999999999999]
[364,9.7500000000000003E-2,8.3299999999999999E-2,7.46E-2,7.46E-2,0.1968]
[365,9.7600000000000006E-2,8.3400000000000002E-2,7.46E-2,7.46E-2,0.19670000000000001]
[366,9.7699999999999995E-2,8.3400000000000002E-2,7.46E-2,7.46E-2,0.19650000000000001]
[367,9.7799999999999998E-2,8.3500000000000005E-2,7.46E-2,7.46E-2,0.19639999999999999]
[368,9.7900000000000001E-2,8.3599999999999994E-2,7.46E-2,7.46E-2,0.1963]
[369,9.8000000000000004E-2,8.3599999999999994E-2,7.46E-2,7.46E-2,0.19620000000000001]
[370,9.8100000000000007E-2,8.3699999999999997E-2,7.46E-2,7.46E-2,0.1961]
[371,9.8199999999999996E-2,8.3799999999999999E-2,7.46E-2,7.46E-2,0.19600000000000001]
[372,9.8299999999999998E-2,8.3799999999999999E-2,7.46E-2,7.46E-2,0.19589999999999999]
[373,9.8400000000000001E-2,8.3900000000000002E-2,7.46E-2,7.46E-2,0.1958]
[374,9.8599999999999993E-2,8.4000000000000005E-2,7.46E-2,7.46E-2,0.1956]
[375,9.8699999999999996E-2,8.4000000000000005E-2,7.46E-2,7.46E-2,0.19550000000000001]
[376,9.8799999999999999E-2,8.4099999999999994E-2,7.46E-2,7.46E-2,0.19539999999999999]
[377,9.8900000000000002E-2,8.4099999999999994E-2,7.46E-2,7.46E-2,0.1953]
[378,9.9000000000000005E-2,8.4199999999999997E-2,7.46E-2,7.46E-2,0.19520000000000001]
[379,9.9099999999999994E-2,8.43E-2,7.46E-2,7.46E-2,0.1951]
[380,9.9199999999999997E-2,8.43E-2,7.46E-2,7.46E-2,0.19500000000000001]
[381,9.9299999999999999E-2,8.4400000000000003E-2,7.46E-2,7.46E-2,0.1948]
[382,9.9400000000000002E-2,8.4500000000000006E-2,7.46E-2,7.46E-2,0.19470000000000001]
[383,9.9500000000000005E-2,8.4500000000000006E-2,7.46E-2,7.46E-2,0.1946]
[384,9.9599999999999994E-2,8.4599999999999995E-2,7.46E-2,7.46E-2,0.19450000000000001]
[385,9.9699999999999997E-2,8.4699999999999998E-2,7.46E-2,7.46E-2,0.19439999999999999]
[386,9.98E-2,8.4699999999999998E-2,7.46E-2,7.46E-2,0.1943]
[387,9.9900000000000003E-2,8.48E-2,7.46E-2,7.46E-2,0.19420000000000001]
[388,0.1,8.4900000000000003E-2,7.46E-2,7.46E-2,0.19400000000000001]
[389,0.1002,8.4900000000000003E-2,7.46E-2,7.46E-2,0.19389999999999999]
[390,0.1003,8.5000000000000006E-2,7.46E-2,7.46E-2,0.1938]
[391,0.1004,8.5000000000000006E-2,7.46E-2,7.46E-2,0.19370000000000001]
[392,0.10050000000000001,8.5099999999999995E-2,7.46E-2,7.46E-2,0.19359999999999999]
[393,0.10059999999999999,8.5199999999999998E-2,7.46E-2,7.46E-2,0.19350000000000001]
[394,0.1007,8.5199999999999998E-2,7.46E-2,7.46E-2,0.19339999999999999]
[395,0.1008,8.5300000000000001E-2,7.46E-2,7.46E-2,0.1933]
[396,0.1009,8.5400000000000004E-2,7.46E-2,7.46E-2,0.19309999999999999]
[397,0.10100000000000001,8.5400000000000004E-2,7.46E-2,7.46E-2,0.193]
[398,0.1011,8.5500000000000007E-2,7.46E-2,7.46E-2,0.19289999999999999]
[399,0.1012,8.5599999999999996E-2,7.46E-2,7.46E-2,0.1928]
[400,0.1013,8.5599999999999996E-2,7.46E-2,7.46E-2,0.19270000000000001]
[401,0.1014,8.5699999999999998E-2,7.46E-2,7.46E-2,0.19259999999999999]
[402,0.10150000000000001,8.5699999999999998E-2,7.46E-2,7.46E-2,0.1925]
[403,0.1016,8.5800000000000001E-2,7.46E-2,7.46E-2,0.1923]
[404,0.1018,8.5900000000000004E-2,7.46E-2,7.46E-2,0.19220000000000001]
[405,0.1019,8.5900000000000004E-2,7.46E-2,7.46E-2,0.19209999999999999]
[406,0.10199999999999999,8.5999999999999993E-2,7.46E-2,7.46E-2,0.192]
[407,0.1021,8.6099999999999996E-2,7.46E-2,7.46E-2,0.19189999999999999]
[408,0.1022,8.6099999999999996E-2,7.46E-2,7.46E-2,0.1918]
[409,0.1023,8.6199999999999999E-2,7.46E-2,7.46E-2,0.19170000000000001]
[410,0.1024,8.6300000000000002E-2,7.46E-2,7.46E-2,0.19159999999999999]
[411,0.10249999999999999,8.6300000000000002E-2,7.46E-2,7.46E-2,0.19139999999999999]
[412,0.1021,8.6400000000000005E-2,7.46E-2,7.46E-2,0.1913]
[413,0.1016,8.6499999999999994E-2,7.46E-2,7.46E-2,0.19120000000000001]
[414,0.1012,8.6499999999999994E-2,7.46E-2,7.46E-2,0.19109999999999999]
[415,0.1008,8.6599999999999996E-2,7.46E-2,7.46E-2,0.191]
[416,0.1004,8.6599999999999996E-2,7.46E-2,7.46E-2,0.19089999999999999]
[417,9.9900000000000003E-2,8.6699999999999999E-2,7.46E-2,7.46E-2,0.1908]
[418,9.9500000000000005E-2,8.6800000000000002E-2,7.46E-2,7.46E-2,0.19059999999999999]
[419,9.9099999999999994E-2,8.6800000000000002E-2,7.46E-2,7.46E-2,0.1905]
[420,9.8699999999999996E-2,8.6900000000000005E-2,7.46E-2,7.46E-2,0.19040000000000001]
[421,9.8199999999999996E-2,8.6999999999999994E-2,7.46E-2,7.46E-2,0.1903]
[422,9.7799999999999998E-2,8.6999999999999994E-2,7.46E-2,7.46E-2,0.19020000000000001]
[423,9.74E-2,8.7099999999999997E-2,7.46E-2,7.46E-2,0.19009999999999999]
[424,9.69E-2,8.72E-2,7.46E-2,7.46E-2,0.19]
[425,9.6500000000000002E-2,8.72E-2,7.46E-2,7.46E-2,0.18990000000000001]
[426,9.6100000000000005E-2,8.7300000000000003E-2,7.46E-2,7.46E-2,0.18970000000000001]
[427,9.5699999999999993E-2,8.7300000000000003E-2,7.46E-2,7.46E-2,0.18959999999999999]
[428,9.5200000000000007E-2,8.7400000000000005E-2,7.46E-2,7.46E-2,0.1895]
[429,9.4799999999999995E-2,8.7499999999999994E-2,7.46E-2,7.46E-2,0.18940000000000001]
[430,9.4399999999999998E-2,8.7499999999999994E-2,7.46E-2,7.46E-2,0.1893]
[431,9.4E-2,8.7599999999999997E-2,7.46E-2,7.46E-2,0.18920000000000001]
[432,9.35E-2,8.77E-2,7.46E-2,7.46E-2,0.18909999999999999]
[433,9.3100000000000002E-2,8.77E-2,7.46E-2,7.46E-2,0.18890000000000001]
[434,9.2700000000000005E-2,8.7800000000000003E-2,7.46E-2,7.46E-2,0.1888]
[435,9.2200000000000004E-2,8.7900000000000006E-2,7.46E-2,7.46E-2,0.18870000000000001]
[436,9.1800000000000007E-2,8.7900000000000006E-2,7.46E-2,7.46E-2,0.18859999999999999]
[437,9.1399999999999995E-2,8.7999999999999995E-2,7.46E-2,7.46E-2,0.1885]
[438,9.0999999999999998E-2,8.8099999999999998E-2,7.46E-2,7.46E-2,0.18840000000000001]
[439,9.0499999999999997E-2,8.8099999999999998E-2,7.46E-2,7.46E-2,0.1883]
[440,9.01E-2,8.8200000000000001E-2,7.46E-2,7.46E-2,0.18820000000000001]
[441,8.9700000000000002E-2,8.8200000000000001E-2,7.46E-2,7.46E-2,0.188]
[442,8.9200000000000002E-2,8.8300000000000003E-2,7.46E-2,7.46E-2,0.18790000000000001]
[443,8.8800000000000004E-2,8.8400000000000006E-2,7.46E-2,7.46E-2,0.18779999999999999]
[444,8.8400000000000006E-2,8.8400000000000006E-2,7.46E-2,7.46E-2,0.18770000000000001]
[445,8.7999999999999995E-2,8.8499999999999995E-2,7.46E-2,7.46E-2,0.18759999999999999]
[446,8.7499999999999994E-2,8.8599999999999998E-2,7.46E-2,7.46E-2,0.1875]
[447,8.7099999999999997E-2,8.8599999999999998E-2,7.46E-2,7.46E-2,0.18740000000000001]
[448,8.6699999999999999E-2,8.8700000000000001E-2,7.46E-2,7.46E-2,0.18720000000000001]
[449,8.6300000000000002E-2,8.8800000000000004E-2,7.46E-2,7.46E-2,0.18709999999999999]
[450,8.5800000000000001E-2,8.8800000000000004E-2,7.46E-2,7.46E-2,0.187]
[451,8.5400000000000004E-2,8.8900000000000007E-2,7.46E-2,7.46E-2,0.18690000000000001]
[452,8.5000000000000006E-2,8.8999999999999996E-2,7.46E-2,7.46E-2,0.18679999999999999]
[453,8.4500000000000006E-2,8.8999999999999996E-2,7.46E-2,7.46E-2,0.1867]
[454,8.4099999999999994E-2,8.9099999999999999E-2,7.46E-2,7.46E-2,0.18659999999999999]
[455,8.3699999999999997E-2,8.9099999999999999E-2,7.46E-2,7.46E-2,0.18640000000000001]
[456,8.3299999999999999E-2,8.9200000000000002E-2,7.46E-2,7.46E-2,0.18629999999999999]
[457,8.2799999999999999E-2,8.9300000000000004E-2,7.46E-2,7.46E-2,0.1862]
[458,8.2400000000000001E-2,8.9300000000000004E-2,7.46E-2,7.46E-2,0.18609999999999999]
[459,8.2000000000000003E-2,8.9399999999999993E-2,7.46E-2,7.46E-2,0.186]
[460,8.1600000000000006E-2,8.9499999999999996E-2,7.46E-2,7.46E-2,0.18590000000000001]
[461,8.1100000000000005E-2,8.9499999999999996E-2,7.46E-2,7.46E-2,0.18579999999999999]
[462,8.0699999999999994E-2,8.9599999999999999E-2,7.46E-2,7.46E-2,0.1857]
[463,8.0299999999999996E-2,8.9700000000000002E-2,7.46E-2,7.46E-2,0.1855]
[464,7.9799999999999996E-2,8.9700000000000002E-2,7.46E-2,7.46E-2,0.18540000000000001]
[465,7.9399999999999998E-2,8.9800000000000005E-2,7.46E-2,7.46E-2,0.18529999999999999]
[466,7.9000000000000001E-2,8.9800000000000005E-2,7.46E-2,7.46E-2,0.1852]
[467,7.8600000000000003E-2,8.9899999999999994E-2,7.46E-2,7.46E-2,0.18509999999999999]
[468,7.8100000000000003E-2,0.09,7.46E-2,7.46E-2,0.185]
[469,7.7700000000000005E-2,0.09,7.46E-2,7.46E-2,0.18490000000000001]
[470,7.7299999999999994E-2,9.01E-2,7.46E-2,7.46E-2,0.1847]
[471,7.6899999999999996E-2,9.0200000000000002E-2,7.46E-2,7.46E-2,0.18459999999999999]
[472,7.6399999999999996E-2,9.0200000000000002E-2,7.46E-2,7.46E-2,0.1845]
[473,7.5999999999999998E-2,9.0300000000000005E-2,7.46E-2,7.46E-2,0.18440000000000001]
[474,7.5600000000000001E-2,9.0399999999999994E-2,7.46E-2,7.46E-2,0.18429999999999999]
[475,7.51E-2,9.0399999999999994E-2,7.46E-2,7.46E-2,0.1842]
[476,7.4700000000000003E-2,9.0499999999999997E-2,7.46E-2,7.46E-2,0.18410000000000001]
[477,7.4300000000000005E-2,9.06E-2,7.46E-2,7.46E-2,0.184]
[478,7.3899999999999993E-2,9.06E-2,7.46E-2,7.46E-2,0.18379999999999999]
[479,7.3400000000000007E-2,9.0700000000000003E-2,7.46E-2,7.46E-2,0.1837]
[480,7.2999999999999995E-2,9.0700000000000003E-2,7.46E-2,7.46E-2,0.18360000000000001]
[481,7.2599999999999998E-2,9.0800000000000006E-2,7.46E-2,7.46E-2,0.1835]
[482,7.2099999999999997E-2,9.0899999999999995E-2,7.46E-2,7.46E-2,0.18340000000000001]
[483,7.17E-2,9.0899999999999995E-2,7.46E-2,7.46E-2,0.18329999999999999]
[484,7.1300000000000002E-2,9.0999999999999998E-2,7.46E-2,7.46E-2,0.1832]
[485,7.0900000000000005E-2,9.11E-2,7.46E-2,7.46E-2,0.183]
[486,7.0400000000000004E-2,9.11E-2,7.46E-2,7.46E-2,0.18290000000000001]
[487,7.0000000000000007E-2,9.1200000000000003E-2,7.46E-2,7.46E-2,0.18279999999999999]
[488,6.9599999999999995E-2,9.1300000000000006E-2,7.46E-2,7.46E-2,0.1827]
[489,6.9199999999999998E-2,9.1300000000000006E-2,7.46E-2,7.46E-2,0.18260000000000001]
[490,6.8699999999999997E-2,9.1399999999999995E-2,7.46E-2,7.46E-2,0.1825]
[491,6.83E-2,9.1399999999999995E-2,7.46E-2,7.46E-2,0.18240000000000001]
[492,6.7900000000000002E-2,9.1499999999999998E-2,7.46E-2,7.46E-2,0.18229999999999999]
[493,6.7400000000000002E-2,9.1600000000000001E-2,7.46E-2,7.46E-2,0.18210000000000001]
[494,6.7000000000000004E-2,9.1600000000000001E-2,7.46E-2,7.46E-2,0.182]
[495,6.6600000000000006E-2,9.1700000000000004E-2,7.46E-2,7.46E-2,0.18190000000000001]
[496,6.6199999999999995E-2,9.1800000000000007E-2,7.46E-2,7.46E-2,0.18179999999999999]
[497,6.5699999999999995E-2,9.1800000000000007E-2,7.46E-2,7.46E-2,0.1817]
[498,6.5299999999999997E-2,9.1899999999999996E-2,7.46E-2,7.46E-2,0.18160000000000001]
[499,6.4899999999999999E-2,9.1999999999999998E-2,7.46E-2,7.46E-2,0.18149999999999999]
[500,6.4500000000000002E-2,9.1999999999999998E-2,7.46E-2,7.46E-2,0.18129999999999999]
[501,6.4000000000000001E-2,9.2100000000000001E-2,7.46E-2,7.46E-2,0.1812]
[502,6.3600000000000004E-2,9.2200000000000004E-2,7.46E-2,7.46E-2,0.18110000000000001]
[503,6.4500000000000002E-2,9.2200000000000004E-2,7.46E-2,7.46E-2,0.18099999999999999]
[504,6.5299999999999997E-2,9.2299999999999993E-2,7.46E-2,7.46E-2,0.18090000000000001]
[505,6.6199999999999995E-2,9.2299999999999993E-2,7.46E-2,7.46E-2,0.18079999999999999]
[506,6.7000000000000004E-2,9.2399999999999996E-2,7.46E-2,7.46E-2,0.1807]
[507,6.7900000000000002E-2,9.2499999999999999E-2,7.46E-2,7.46E-2,0.18060000000000001]
[508,6.8699999999999997E-2,9.2499999999999999E-2,7.46E-2,7.46E-2,0.1804]
[509,6.9599999999999995E-2,9.2600000000000002E-2,7.46E-2,7.46E-2,0.18029999999999999]
[510,7.0400000000000004E-2,9.2700000000000005E-2,7.46E-2,7.46E-2,0.1802]
[511,7.1300000000000002E-2,9.2700000000000005E-2,7.46E-2,7.46E-2,0.18010000000000001]
[512,7.2099999999999997E-2,9.2799999999999994E-2,7.46E-2,7.46E-2,0.18]
[513,7.2999999999999995E-2,9.2899999999999996E-2,7.46E-2,7.46E-2,0.1799]
[514,7.3800000000000004E-2,9.2899999999999996E-2,7.46E-2,7.46E-2,0.17979999999999999]
[515,7.4700000000000003E-2,9.2999999999999999E-2,7.46E-2,7.46E-2,0.17960000000000001]
[516,7.5499999999999998E-2,9.3100000000000002E-2,7.46E-2,7.46E-2,0.17949999999999999]
[517,7.6399999999999996E-2,9.3100000000000002E-2,7.46E-2,7.46E-2,0.1794]
[518,7.7200000000000005E-2,9.3200000000000005E-2,7.46E-2,7.46E-2,0.17929999999999999]
[519,7.8100000000000003E-2,9.3200000000000005E-2,7.46E-2,7.46E-2,0.1792]
[520,7.8899999999999998E-2,9.3299999999999994E-2,7.46E-2,7.46E-2,0.17910000000000001]
[521,7.9799999999999996E-2,9.3399999999999997E-2,7.46E-2,7.46E-2,0.17899999999999999]
[522,8.0600000000000005E-2,9.3399999999999997E-2,7.46E-2,7.46E-2,0.17879999999999999]
[523,8.14E-2,9.35E-2,7.46E-2,7.46E-2,0.1787]
[524,8.2299999999999998E-2,9.3600000000000003E-2,7.46E-2,7.46E-2,0.17860000000000001]
[525,8.3199999999999996E-2,9.3600000000000003E-2,7.46E-2,7.46E-2,0.17849999999999999]
[526,8.4000000000000005E-2,9.3700000000000006E-2,7.46E-2,7.46E-2,0.1784]
[527,8.4900000000000003E-2,9.3799999999999994E-2,7.46E-2,7.46E-2,0.17829999999999999]
[528,8.5699999999999998E-2,9.3799999999999994E-2,7.46E-2,7.46E-2,0.1782]
[529,8.6599999999999996E-2,9.3899999999999997E-2,7.46E-2,7.46E-2,0.17810000000000001]
[530,8.7400000000000005E-2,9.3899999999999997E-2,7.46E-2,7.46E-2,0.1779]
[531,8.8200000000000001E-2,9.4E-2,7.46E-2,7.46E-2,0.17780000000000001]
[532,8.9099999999999999E-2,9.4100000000000003E-2,7.46E-2,7.46E-2,0.1777]
[533,0.09,9.4100000000000003E-2,7.46E-2,7.46E-2,0.17760000000000001]
[534,9.0800000000000006E-2,9.4200000000000006E-2,7.46E-2,7.46E-2,0.17749999999999999]
[535,9.1700000000000004E-2,9.4299999999999995E-2,7.46E-2,7.46E-2,0.1774]
[536,9.2499999999999999E-2,9.4299999999999995E-2,7.46E-2,7.46E-2,0.17730000000000001]
[537,9.3399999999999997E-2,9.4399999999999998E-2,7.46E-2,7.46E-2,0.17710000000000001]
[538,9.4200000000000006E-2,9.4500000000000001E-2,7.46E-2,7.46E-2,0.17699999999999999]
[539,9.5000000000000001E-2,9.4500000000000001E-2,7.46E-2,7.46E-2,0.1769]
[540,9.5899999999999999E-2,9.4600000000000004E-2,7.46E-2,7.46E-2,0.17680000000000001]
[541,9.6799999999999997E-2,9.4700000000000006E-2,7.46E-2,7.46E-2,0.1767]
[542,9.7600000000000006E-2,9.4700000000000006E-2,7.46E-2,7.46E-2,0.17660000000000001]
[543,9.8500000000000004E-2,9.4799999999999995E-2,7.46E-2,7.46E-2,0.17649999999999999]
[544,9.9299999999999999E-2,9.4799999999999995E-2,7.46E-2,7.46E-2,0.1764]
[545,0.1002,9.4899999999999998E-2,7.46E-2,7.46E-2,0.1762]
[546,0.10100000000000001,9.5000000000000001E-2,7.46E-2,7.46E-2,0.17610000000000001]
[547,0.1018,9.5000000000000001E-2,7.46E-2,7.46E-2,0.17599999999999999]
[548,0.1027,9.5100000000000004E-2,7.46E-2,7.46E-2,0.1759]
[549,0.1027,9.5100000000000004E-2,7.46E-2,7.46E-2,0.1759]
[550,0.1026,9.5100000000000004E-2,7.46E-2,7.46E-2,0.1759]
[551,0.1026,9.5100000000000004E-2,7.46E-2,7.46E-2,0.1759]
[552,0.10249999999999999,9.5100000000000004E-2,7.46E-2,7.46E-2,0.1759]
[553,0.10249999999999999,9.5100000000000004E-2,7.46E-2,7.46E-2,0.1759]
[554,0.1024,9.5100000000000004E-2,7.46E-2,7.46E-2,0.1759]
[555,0.1024,9.5100000000000004E-2,7.46E-2,7.46E-2,0.1759]
[556,0.1023,9.5100000000000004E-2,7.46E-2,7.46E-2,0.1759]
[557,0.1023,9.5100000000000004E-2,7.46E-2,7.46E-2,0.1759]
[558,0.1022,9.5100000000000004E-2,7.46E-2,7.46E-2,0.1759]
[559,0.1022,9.5100000000000004E-2,7.46E-2,7.46E-2,0.1759]
[560,0.1021,9.5100000000000004E-2,7.46E-2,7.46E-2,0.1759]
[561,0.1021,9.5100000000000004E-2,7.46E-2,7.46E-2,0.1759]
[562,0.10199999999999999,9.5100000000000004E-2,7.46E-2,7.46E-2,0.1759]
[563,0.10199999999999999,9.5100000000000004E-2,7.46E-2,7.46E-2,0.1759]
[564,0.1019,9.5100000000000004E-2,7.46E-2,7.46E-2,0.1759]
[565,0.1019,9.5100000000000004E-2,7.46E-2,7.46E-2,0.1759]
[566,0.1018,9.5100000000000004E-2,7.46E-2,7.46E-2,0.1759]
[567,0.1018,9.5100000000000004E-2,7.46E-2,7.46E-2,0.1759]
[568,0.1018,9.5100000000000004E-2,7.46E-2,7.46E-2,0.1759]
[569,0.1017,9.5100000000000004E-2,7.46E-2,7.46E-2,0.1759]
[570,0.1017,9.5100000000000004E-2,7.46E-2,7.46E-2,0.1759]
[571,0.1016,9.5100000000000004E-2,7.46E-2,7.46E-2,0.1759]
[572,0.1016,9.5100000000000004E-2,7.46E-2,7.46E-2,0.1759]
[573,0.10150000000000001,9.5100000000000004E-2,7.46E-2,7.46E-2,0.1759]
[574,0.10150000000000001,9.5100000000000004E-2,7.46E-2,7.46E-2,0.1759]
[575,0.1014,9.5100000000000004E-2,7.46E-2,7.46E-2,0.1759]
[576,0.1014,9.5100000000000004E-2,7.46E-2,7.46E-2,0.1759]
[577,0.1013,9.5100000000000004E-2,7.46E-2,7.46E-2,0.1759]
[578,0.1013,9.5100000000000004E-2,7.46E-2,7.46E-2,0.1759]
[579,0.1012,9.5100000000000004E-2,7.46E-2,7.46E-2,0.1759]
[580,0.1012,9.5100000000000004E-2,7.46E-2,7.46E-2,0.1759]
[581,0.1011,9.5100000000000004E-2,7.46E-2,7.46E-2,0.1759]
[582,0.1011,9.5100000000000004E-2,7.46E-2,7.46E-2,0.1759]
[583,0.10100000000000001,9.5100000000000004E-2,7.46E-2,7.46E-2,0.1759]
[584,0.10100000000000001,9.5100000000000004E-2,7.46E-2,7.46E-2,0.1759]
[585,0.1009,9.5100000000000004E-2,7.46E-2,7.46E-2,0.1759]
[586,0.1009,9.5100000000000004E-2,7.46E-2,7.46E-2,0.1759]
[587,0.1009,9.5100000000000004E-2,7.46E-2,7.46E-2,0.1759]
[588,0.1008,9.5100000000000004E-2,7.46E-2,7.46E-2,0.1759]
[589,0.1008,9.5100000000000004E-2,7.46E-2,7.46E-2,0.1759]
[590,0.1007,9.5100000000000004E-2,7.46E-2,7.46E-2,0.1759]
[591,0.1007,9.5100000000000004E-2,7.46E-2,7.46E-2,0.1759]
[592,0.10059999999999999,9.5100000000000004E-2,7.46E-2,7.46E-2,0.1759]
[593,0.10059999999999999,9.5100000000000004E-2,7.46E-2,7.46E-2,0.1759]
[594,0.10050000000000001,9.5100000000000004E-2,7.46E-2,7.46E-2,0.1759]
[595,0.10050000000000001,9.5100000000000004E-2,7.46E-2,7.46E-2,0.1759]
[596,0.1004,9.5100000000000004E-2,7.46E-2,7.46E-2,0.1759]
[597,0.1004,9.5100000000000004E-2,7.46E-2,7.46E-2,0.1759]
[598,0.1003,9.5100000000000004E-2,7.46E-2,7.46E-2,0.1759]
[599,0.1003,9.5100000000000004E-2,7.46E-2,7.46E-2,0.1759]
[600,0.1002,9.5100000000000004E-2,7.46E-2,7.46E-2,0.1759]
[601,0.1002,9.5100000000000004E-2,7.46E-2,7.46E-2,0.1759]
[602,0.10009999999999999,9.5100000000000004E-2,7.46E-2,7.46E-2,0.1759]
[603,0.10009999999999999,9.5100000000000004E-2,7.46E-2,7.46E-2,0.1759]
[604,0.1,9.5100000000000004E-2,7.46E-2,7.46E-2,0.1759]
[605,0.1,9.5100000000000004E-2,7.46E-2,7.46E-2,0.1759]
[606,0.1,9.5100000000000004E-2,7.46E-2,7.46E-2,0.1759]
[607,9.9900000000000003E-2,9.5100000000000004E-2,7.46E-2,7.46E-2,0.1759]
[608,9.9900000000000003E-2,9.5100000000000004E-2,7.46E-2,7.46E-2,0.1759]
[609,9.98E-2,9.5100000000000004E-2,7.46E-2,7.46E-2,0.1759]
[610,9.98E-2,9.5100000000000004E-2,7.46E-2,7.46E-2,0.1759]
[611,9.9699999999999997E-2,9.5100000000000004E-2,7.46E-2,7.46E-2,0.1759]
[612,9.9699999999999997E-2,9.5100000000000004E-2,7.46E-2,7.46E-2,0.1759]
[613,9.9599999999999994E-2,9.5100000000000004E-2,7.46E-2,7.46E-2,0.1759]
[614,9.9599999999999994E-2,9.5100000000000004E-2,7.46E-2,7.46E-2,0.1759]
[615,9.9500000000000005E-2,9.5100000000000004E-2,7.46E-2,7.46E-2,0.1759]
[616,9.9500000000000005E-2,9.5100000000000004E-2,7.46E-2,7.46E-2,0.1759]
[617,9.9400000000000002E-2,9.5100000000000004E-2,7.46E-2,7.46E-2,0.1759]
[618,9.9400000000000002E-2,9.5100000000000004E-2,7.46E-2,7.46E-2,0.1759]
[619,9.9299999999999999E-2,9.5100000000000004E-2,7.46E-2,7.46E-2,0.1759]
[620,9.9299999999999999E-2,9.5100000000000004E-2,7.46E-2,7.46E-2,0.1759]
[621,9.9199999999999997E-2,9.5100000000000004E-2,7.46E-2,7.46E-2,0.1759]
[622,9.9199999999999997E-2,9.5100000000000004E-2,7.46E-2,7.46E-2,0.1759]
[623,9.9099999999999994E-2,9.5100000000000004E-2,7.46E-2,7.46E-2,0.1759]
[624,9.9099999999999994E-2,9.5100000000000004E-2,7.46E-2,7.46E-2,0.1759]
[625,9.9099999999999994E-2,9.5100000000000004E-2,7.46E-2,7.46E-2,0.1759]
[626,9.9000000000000005E-2,9.5100000000000004E-2,7.46E-2,7.46E-2,0.1759]
[627,9.9000000000000005E-2,9.5100000000000004E-2,7.46E-2,7.46E-2,0.1759]
[628,9.8900000000000002E-2,9.5100000000000004E-2,7.46E-2,7.46E-2,0.1759]
[629,9.8900000000000002E-2,9.5100000000000004E-2,7.46E-2,7.46E-2,0.1759]
[630,9.8799999999999999E-2,9.5100000000000004E-2,7.46E-2,7.46E-2,0.1759]
[631,9.8799999999999999E-2,9.5100000000000004E-2,7.46E-2,7.46E-2,0.1759]
[632,9.8699999999999996E-2,9.5100000000000004E-2,7.46E-2,7.46E-2,0.1759]
[633,9.8699999999999996E-2,9.5100000000000004E-2,7.46E-2,7.46E-2,0.1759]
[634,9.8599999999999993E-2,9.5100000000000004E-2,7.46E-2,7.46E-2,0.1759]
[635,9.8599999999999993E-2,9.5100000000000004E-2,7.46E-2,7.46E-2,0.1759]
[636,9.8500000000000004E-2,9.5100000000000004E-2,7.46E-2,7.46E-2,0.1759]
[637,9.8500000000000004E-2,9.5100000000000004E-2,7.46E-2,7.46E-2,0.1759]
[638,9.8400000000000001E-2,9.5100000000000004E-2,7.46E-2,7.46E-2,0.1759]
[639,9.8400000000000001E-2,9.5100000000000004E-2,7.46E-2,7.46E-2,0.1759]
[640,9.8299999999999998E-2,9.5100000000000004E-2,7.46E-2,7.46E-2,0.1759]
[641,9.8299999999999998E-2,9.5100000000000004E-2,7.46E-2,7.46E-2,0.1759]
[642,9.8199999999999996E-2,9.5100000000000004E-2,7.46E-2,7.46E-2,0.1759]
[643,9.8199999999999996E-2,9.5100000000000004E-2,7.46E-2,7.46E-2,0.1759]
[644,9.8100000000000007E-2,9.5100000000000004E-2,7.46E-2,7.46E-2,0.1759]
[645,9.8100000000000007E-2,9.5100000000000004E-2,7.46E-2,7.46E-2,0.1759]
[646,9.8100000000000007E-2,9.5100000000000004E-2,7.46E-2,7.46E-2,0.1759]
[647,9.8000000000000004E-2,9.5100000000000004E-2,7.46E-2,7.46E-2,0.1759]
[648,9.8000000000000004E-2,9.5100000000000004E-2,7.46E-2,7.46E-2,0.1759]
[649,9.7900000000000001E-2,9.5100000000000004E-2,7.46E-2,7.46E-2,0.1759]
[650,9.7900000000000001E-2,9.5100000000000004E-2,7.46E-2,7.46E-2,0.1759]
[651,9.7799999999999998E-2,9.5100000000000004E-2,7.46E-2,7.46E-2,0.1759]
[652,9.7799999999999998E-2,9.5100000000000004E-2,7.46E-2,7.46E-2,0.1759]
[653,9.7699999999999995E-2,9.5100000000000004E-2,7.46E-2,7.46E-2,0.1759]
[654,9.7699999999999995E-2,9.5100000000000004E-2,7.46E-2,7.46E-2,0.1759]
[655,9.7600000000000006E-2,9.5100000000000004E-2,7.46E-2,7.46E-2,0.1759]
[656,9.7600000000000006E-2,9.5100000000000004E-2,7.46E-2,7.46E-2,0.1759]
[657,9.7500000000000003E-2,9.5100000000000004E-2,7.46E-2,7.46E-2,0.1759]
[658,9.7500000000000003E-2,9.5100000000000004E-2,7.46E-2,7.46E-2,0.1759]
[659,9.74E-2,9.5100000000000004E-2,7.46E-2,7.46E-2,0.1759]
[660,9.74E-2,9.5100000000000004E-2,7.46E-2,7.46E-2,0.1759]
[661,9.7299999999999998E-2,9.5100000000000004E-2,7.46E-2,7.46E-2,0.1759]
[662,9.7299999999999998E-2,9.5100000000000004E-2,7.46E-2,7.46E-2,0.1759]
[663,9.7199999999999995E-2,9.5100000000000004E-2,7.46E-2,7.46E-2,0.1759]
[664,9.7199999999999995E-2,9.5100000000000004E-2,7.46E-2,7.46E-2,0.1759]
[665,9.7199999999999995E-2,9.5100000000000004E-2,7.46E-2,7.46E-2,0.1759]
[666,9.7100000000000006E-2,9.5100000000000004E-2,7.46E-2,7.46E-2,0.1759]
[667,9.7100000000000006E-2,9.5100000000000004E-2,7.46E-2,7.46E-2,0.1759]
[668,9.7000000000000003E-2,9.5100000000000004E-2,7.46E-2,7.46E-2,0.1759]
[669,9.7000000000000003E-2,9.5100000000000004E-2,7.46E-2,7.46E-2,0.1759]
[670,9.69E-2,9.5100000000000004E-2,7.46E-2,7.46E-2,0.1759]
[671,9.69E-2,9.5100000000000004E-2,7.46E-2,7.46E-2,0.1759]
[672,9.6799999999999997E-2,9.5100000000000004E-2,7.46E-2,7.46E-2,0.1759]
[673,9.6799999999999997E-2,9.5100000000000004E-2,7.46E-2,7.46E-2,0.1759]
[674,9.6699999999999994E-2,9.5100000000000004E-2,7.46E-2,7.46E-2,0.1759]
[675,9.6699999999999994E-2,9.5100000000000004E-2,7.46E-2,7.46E-2,0.1759]
[676,9.6600000000000005E-2,9.5100000000000004E-2,7.46E-2,7.46E-2,0.1759]
[677,9.6600000000000005E-2,9.5100000000000004E-2,7.46E-2,7.46E-2,0.1759]
[678,9.6500000000000002E-2,9.5100000000000004E-2,7.46E-2,7.46E-2,0.1759]
[679,9.6500000000000002E-2,9.5100000000000004E-2,7.46E-2,7.46E-2,0.1759]
[680,9.64E-2,9.5100000000000004E-2,7.46E-2,7.46E-2,0.1759]
[681,9.64E-2,9.5100000000000004E-2,7.46E-2,7.46E-2,0.1759]
[682,9.6299999999999997E-2,9.5100000000000004E-2,7.46E-2,7.46E-2,0.1759]
[683,9.6299999999999997E-2,9.5100000000000004E-2,7.46E-2,7.46E-2,0.1759]
[684,9.6299999999999997E-2,9.5100000000000004E-2,7.46E-2,7.46E-2,0.1759]
[685,9.6199999999999994E-2,9.5100000000000004E-2,7.46E-2,7.46E-2,0.1759]
[686,9.6199999999999994E-2,9.5100000000000004E-2,7.46E-2,7.46E-2,0.1759]
[687,9.6100000000000005E-2,9.5100000000000004E-2,7.46E-2,7.46E-2,0.1759]
[688,9.6100000000000005E-2,9.5100000000000004E-2,7.46E-2,7.46E-2,0.1759]
[689,9.6000000000000002E-2,9.5100000000000004E-2,7.46E-2,7.46E-2,0.1759]
[690,9.6000000000000002E-2,9.5100000000000004E-2,7.46E-2,7.46E-2,0.1759]
[691,9.5899999999999999E-2,9.5100000000000004E-2,7.46E-2,7.46E-2,0.1759]
[692,9.5899999999999999E-2,9.5100000000000004E-2,7.46E-2,7.46E-2,0.1759]
[693,9.5799999999999996E-2,9.5100000000000004E-2,7.46E-2,7.46E-2,0.1759]
[694,9.5799999999999996E-2,9.5100000000000004E-2,7.46E-2,7.46E-2,0.1759]
[695,9.5699999999999993E-2,9.5100000000000004E-2,7.46E-2,7.46E-2,0.1759]
[696,9.5699999999999993E-2,9.5100000000000004E-2,7.46E-2,7.46E-2,0.1759]
[697,9.5600000000000004E-2,9.5100000000000004E-2,7.46E-2,7.46E-2,0.1759]
[698,9.5600000000000004E-2,9.5100000000000004E-2,7.46E-2,7.46E-2,0.1759]
[699,9.5500000000000002E-2,9.5100000000000004E-2,7.46E-2,7.46E-2,0.1759]
[700,9.5500000000000002E-2,9.5100000000000004E-2,7.46E-2,7.46E-2,0.1759]
[701,9.5399999999999999E-2,9.5100000000000004E-2,7.46E-2,7.46E-2,0.1759]
[702,9.5399999999999999E-2,9.5100000000000004E-2,7.46E-2,7.46E-2,0.1759]
[703,9.5399999999999999E-2,9.5100000000000004E-2,7.46E-2,7.46E-2,0.1759]
[704,9.5299999999999996E-2,9.5100000000000004E-2,7.46E-2,7.46E-2,0.1759]
[705,9.5299999999999996E-2,9.5100000000000004E-2,7.46E-2,7.46E-2,0.1759]
[706,9.5200000000000007E-2,9.5100000000000004E-2,7.46E-2,7.46E-2,0.1759]
[707,9.5200000000000007E-2,9.5100000000000004E-2,7.46E-2,7.46E-2,0.1759]
[708,9.5100000000000004E-2,9.5100000000000004E-2,7.46E-2,7.46E-2,0.1759]
[709,9.5100000000000004E-2,9.5100000000000004E-2,7.46E-2,7.46E-2,0.1759]
[710,9.5000000000000001E-2,9.5100000000000004E-2,7.46E-2,7.46E-2,0.1759]
[711,9.5000000000000001E-2,9.5100000000000004E-2,7.46E-2,7.46E-2,0.1759]
[712,9.4899999999999998E-2,9.5100000000000004E-2,7.46E-2,7.46E-2,0.1759]
[713,9.4899999999999998E-2,9.5100000000000004E-2,7.46E-2,7.46E-2,0.1759]
[714,9.4799999999999995E-2,9.5100000000000004E-2,7.46E-2,7.46E-2,0.1759]
[715,9.4799999999999995E-2,9.5100000000000004E-2,7.46E-2,7.46E-2,0.1759]
[716,9.4700000000000006E-2,9.5100000000000004E-2,7.46E-2,7.46E-2,0.1759]
[717,9.4700000000000006E-2,9.5100000000000004E-2,7.46E-2,7.46E-2,0.1759]
[718,9.4600000000000004E-2,9.5100000000000004E-2,7.46E-2,7.46E-2,0.1759]
[719,9.4600000000000004E-2,9.5100000000000004E-2,7.46E-2,7.46E-2,0.1759]
[720,9.4500000000000001E-2,9.5100000000000004E-2,7.46E-2,7.46E-2,0.1759]
[721,9.4500000000000001E-2,9.5100000000000004E-2,7.46E-2,7.46E-2,0.1759]
[722,9.4500000000000001E-2,9.5100000000000004E-2,7.46E-2,7.46E-2,0.1759]
[723,9.4399999999999998E-2,9.5100000000000004E-2,7.46E-2,7.46E-2,0.1759]
[724,9.4399999999999998E-2,9.5100000000000004E-2,7.46E-2,7.46E-2,0.1759]
[725,9.4299999999999995E-2,9.5100000000000004E-2,7.46E-2,7.46E-2,0.1759]
[726,9.4299999999999995E-2,9.5100000000000004E-2,7.46E-2,7.46E-2,0.1759]
[727,9.4200000000000006E-2,9.5100000000000004E-2,7.46E-2,7.46E-2,0.1759]
[728,9.4200000000000006E-2,9.5100000000000004E-2,7.46E-2,7.46E-2,0.1759]
[729,9.4100000000000003E-2,9.5100000000000004E-2,7.46E-2,7.46E-2,0.1759]
[730,9.4100000000000003E-2,9.5100000000000004E-2,7.46E-2,7.46E-2,0.1759]
[731,9.4E-2,9.5100000000000004E-2,7.46E-2,7.46E-2,0.1759]
[732,9.4E-2,9.5100000000000004E-2,7.46E-2,7.46E-2,0.1759]
[733,9.3899999999999997E-2,9.5100000000000004E-2,7.46E-2,7.46E-2,0.1759]
[734,9.3899999999999997E-2,9.5100000000000004E-2,7.46E-2,7.46E-2,0.1759]
[735,9.3799999999999994E-2,9.5100000000000004E-2,7.46E-2,7.46E-2,0.1759]
[736,9.3799999999999994E-2,9.5100000000000004E-2,7.46E-2,7.46E-2,0.1759]
[737,9.3700000000000006E-2,9.5100000000000004E-2,7.46E-2,7.46E-2,0.1759]
[738,9.3700000000000006E-2,9.5100000000000004E-2,7.46E-2,7.46E-2,0.1759]
[739,9.3600000000000003E-2,9.5100000000000004E-2,7.46E-2,7.46E-2,0.1759]
[740,9.3600000000000003E-2,9.5100000000000004E-2,7.46E-2,7.46E-2,0.1759]
[741,9.3600000000000003E-2,9.5100000000000004E-2,7.46E-2,7.46E-2,0.1759]
[742,9.35E-2,9.5100000000000004E-2,7.46E-2,7.46E-2,0.1759]
[743,9.35E-2,9.5100000000000004E-2,7.46E-2,7.46E-2,0.1759]
[744,9.3399999999999997E-2,9.5100000000000004E-2,7.46E-2,7.46E-2,0.1759]
[745,9.3399999999999997E-2,9.5100000000000004E-2,7.46E-2,7.46E-2,0.1759]
[746,9.3299999999999994E-2,9.5100000000000004E-2,7.46E-2,7.46E-2,0.1759]
[747,9.3299999999999994E-2,9.5100000000000004E-2,7.46E-2,7.46E-2,0.1759]
[748,9.3200000000000005E-2,9.5100000000000004E-2,7.46E-2,7.46E-2,0.1759]
[749,9.3200000000000005E-2,9.5100000000000004E-2,7.46E-2,7.46E-2,0.1759]
[750,9.3100000000000002E-2,9.5100000000000004E-2,7.46E-2,7.46E-2,0.1759]
[751,9.3100000000000002E-2,9.5100000000000004E-2,7.46E-2,7.46E-2,0.1759]
[752,9.2999999999999999E-2,9.5100000000000004E-2,7.46E-2,7.46E-2,0.1759]
[753,9.2999999999999999E-2,9.5100000000000004E-2,7.46E-2,7.46E-2,0.1759]
[754,9.2899999999999996E-2,9.5100000000000004E-2,7.46E-2,7.46E-2,0.1759]
[755,9.2899999999999996E-2,9.5100000000000004E-2,7.46E-2,7.46E-2,0.1759]
[756,9.2799999999999994E-2,9.5100000000000004E-2,7.46E-2,7.46E-2,0.1759]
[757,9.2799999999999994E-2,9.5100000000000004E-2,7.46E-2,7.46E-2,0.1759]
[758,9.2700000000000005E-2,9.5100000000000004E-2,7.46E-2,7.46E-2,0.1759]
[759,9.2700000000000005E-2,9.5100000000000004E-2,7.46E-2,7.46E-2,0.1759]
[760,9.2700000000000005E-2,9.5100000000000004E-2,7.46E-2,7.46E-2,0.1759]
[761,9.2600000000000002E-2,9.5100000000000004E-2,7.46E-2,7.46E-2,0.1759]
[762,9.2600000000000002E-2,9.5100000000000004E-2,7.46E-2,7.46E-2,0.1759]
[763,9.2499999999999999E-2,9.5100000000000004E-2,7.46E-2,7.46E-2,0.1759]
[764,9.2499999999999999E-2,9.5100000000000004E-2,7.46E-2,7.46E-2,0.1759]
[765,9.2399999999999996E-2,9.5100000000000004E-2,7.46E-2,7.46E-2,0.1759]
[766,9.2399999999999996E-2,9.5100000000000004E-2,7.46E-2,7.46E-2,0.1759]
[767,9.2299999999999993E-2,9.5100000000000004E-2,7.46E-2,7.46E-2,0.1759]
[768,9.2299999999999993E-2,9.5100000000000004E-2,7.46E-2,7.46E-2,0.1759]
[769,9.2200000000000004E-2,9.5100000000000004E-2,7.46E-2,7.46E-2,0.1759]
[770,9.2200000000000004E-2,9.5100000000000004E-2,7.46E-2,7.46E-2,0.1759]
[771,9.2100000000000001E-2,9.5100000000000004E-2,7.46E-2,7.46E-2,0.1759]
[772,9.2100000000000001E-2,9.5100000000000004E-2,7.46E-2,7.46E-2,0.1759]
[773,9.1999999999999998E-2,9.5100000000000004E-2,7.46E-2,7.46E-2,0.1759]
[774,9.1999999999999998E-2,9.5100000000000004E-2,7.46E-2,7.46E-2,0.1759]
[775,9.1899999999999996E-2,9.5100000000000004E-2,7.46E-2,7.46E-2,0.1759]
[776,9.1899999999999996E-2,9.5100000000000004E-2,7.46E-2,7.46E-2,0.1759]
[777,9.1800000000000007E-2,9.5100000000000004E-2,7.46E-2,7.46E-2,0.1759]
[778,9.1800000000000007E-2,9.5100000000000004E-2,7.46E-2,7.46E-2,0.1759]
[779,9.1800000000000007E-2,9.5100000000000004E-2,7.46E-2,7.46E-2,0.1759]
[780,9.1700000000000004E-2,9.5100000000000004E-2,7.46E-2,7.46E-2,0.1759]
[781,9.1700000000000004E-2,9.5100000000000004E-2,7.46E-2,7.46E-2,0.1759]
[782,9.1600000000000001E-2,9.5100000000000004E-2,7.46E-2,7.46E-2,0.1759]
[783,9.1600000000000001E-2,9.5100000000000004E-2,7.46E-2,7.46E-2,0.1759]
[784,9.1499999999999998E-2,9.5100000000000004E-2,7.46E-2,7.46E-2,0.1759]
[785,9.1499999999999998E-2,9.5100000000000004E-2,7.46E-2,7.46E-2,0.1759]
[786,9.1399999999999995E-2,9.5100000000000004E-2,7.46E-2,7.46E-2,0.1759]
[787,9.1399999999999995E-2,9.5100000000000004E-2,7.46E-2,7.46E-2,0.1759]
[788,9.1300000000000006E-2,9.5100000000000004E-2,7.46E-2,7.46E-2,0.1759]
[789,9.1300000000000006E-2,9.5100000000000004E-2,7.46E-2,7.46E-2,0.1759]
[790,9.1200000000000003E-2,9.5100000000000004E-2,7.46E-2,7.46E-2,0.1759]
[791,9.1200000000000003E-2,9.5100000000000004E-2,7.46E-2,7.46E-2,0.1759]
[792,9.11E-2,9.5100000000000004E-2,7.46E-2,7.46E-2,0.1759]
[793,9.11E-2,9.5100000000000004E-2,7.46E-2,7.46E-2,0.1759]
[794,9.0999999999999998E-2,9.5100000000000004E-2,7.46E-2,7.46E-2,0.1759]
[795,9.0999999999999998E-2,9.5100000000000004E-2,7.46E-2,7.46E-2,0.1759]
[796,9.0899999999999995E-2,9.5100000000000004E-2,7.46E-2,7.46E-2,0.1759]
[797,9.0899999999999995E-2,9.5100000000000004E-2,7.46E-2,7.46E-2,0.1759]
[798,9.0899999999999995E-2,9.5100000000000004E-2,7.46E-2,7.46E-2,0.1759]
[799,9.0800000000000006E-2,9.5100000000000004E-2,7.46E-2,7.46E-2,0.1759]
[800,9.0800000000000006E-2,9.5100000000000004E-2,7.46E-2,7.46E-2,0.1759]
[801,9.0700000000000003E-2,9.5100000000000004E-2,7.46E-2,7.46E-2,0.1759]
[802,9.0700000000000003E-2,9.5100000000000004E-2,7.46E-2,7.46E-2,0.1759]
[803,9.06E-2,9.5100000000000004E-2,7.46E-2,7.46E-2,0.1759]
[804,9.06E-2,9.5100000000000004E-2,7.46E-2,7.46E-2,0.1759]
[805,9.0499999999999997E-2,9.5100000000000004E-2,7.46E-2,7.46E-2,0.1759]
[806,9.0499999999999997E-2,9.5100000000000004E-2,7.46E-2,7.46E-2,0.1759]
[807,9.0399999999999994E-2,9.5100000000000004E-2,7.46E-2,7.46E-2,0.1759]
[808,9.0399999999999994E-2,9.5100000000000004E-2,7.46E-2,7.46E-2,0.1759]
[809,9.0300000000000005E-2,9.5100000000000004E-2,7.46E-2,7.46E-2,0.1759]
[810,9.0300000000000005E-2,9.5100000000000004E-2,7.46E-2,7.46E-2,0.1759]
[811,9.0200000000000002E-2,9.5100000000000004E-2,7.46E-2,7.46E-2,0.1759]
[812,9.0200000000000002E-2,9.5100000000000004E-2,7.46E-2,7.46E-2,0.1759]
[813,9.01E-2,9.5100000000000004E-2,7.46E-2,7.46E-2,0.1759]
[814,9.01E-2,9.5100000000000004E-2,7.46E-2,7.46E-2,0.1759]
[815,0.09,9.5100000000000004E-2,7.46E-2,7.46E-2,0.1759]
[816,0.09,9.5100000000000004E-2,7.46E-2,7.46E-2,0.1759]
[817,0.09,9.5100000000000004E-2,7.46E-2,7.46E-2,0.1759]
[818,8.9899999999999994E-2,9.5100000000000004E-2,7.46E-2,7.46E-2,0.1759]
[819,8.9899999999999994E-2,9.5100000000000004E-2,7.46E-2,7.46E-2,0.1759]
[820,8.9800000000000005E-2,9.5100000000000004E-2,7.46E-2,7.46E-2,0.1759]
[821,8.9800000000000005E-2,9.5100000000000004E-2,7.46E-2,7.46E-2,0.1759]
[822,8.9700000000000002E-2,9.5100000000000004E-2,7.46E-2,7.46E-2,0.1759]
[823,8.9700000000000002E-2,9.5100000000000004E-2,7.46E-2,7.46E-2,0.1759]
[824,8.9599999999999999E-2,9.5100000000000004E-2,7.46E-2,7.46E-2,0.1759]
[825,8.9599999999999999E-2,9.5100000000000004E-2,7.46E-2,7.46E-2,0.1759]
[826,8.9499999999999996E-2,9.5100000000000004E-2,7.46E-2,7.46E-2,0.1759]
[827,8.9499999999999996E-2,9.5100000000000004E-2,7.46E-2,7.46E-2,0.1759]
[828,8.9399999999999993E-2,9.5100000000000004E-2,7.46E-2,7.46E-2,0.1759]
[829,8.9399999999999993E-2,9.5100000000000004E-2,7.46E-2,7.46E-2,0.1759]
[830,8.9300000000000004E-2,9.5100000000000004E-2,7.46E-2,7.46E-2,0.1759]
[831,8.9300000000000004E-2,9.5100000000000004E-2,7.46E-2,7.46E-2,0.1759]
[832,8.9200000000000002E-2,9.5100000000000004E-2,7.46E-2,7.46E-2,0.1759]
[833,8.9200000000000002E-2,9.5100000000000004E-2,7.46E-2,7.46E-2,0.1759]
[834,8.9099999999999999E-2,9.5100000000000004E-2,7.46E-2,7.46E-2,0.1759]
[835,8.9099999999999999E-2,9.5100000000000004E-2,7.46E-2,7.46E-2,0.1759]
[836,8.8999999999999996E-2,9.5100000000000004E-2,7.46E-2,7.46E-2,0.1759]
[837,8.8999999999999996E-2,9.5100000000000004E-2,7.46E-2,7.46E-2,0.1759]
[838,8.8999999999999996E-2,9.5100000000000004E-2,7.46E-2,7.46E-2,0.1759]
[839,8.8900000000000007E-2,9.5100000000000004E-2,7.46E-2,7.46E-2,0.1759]
[840,8.8900000000000007E-2,9.5100000000000004E-2,7.46E-2,7.46E-2,0.1759]
[841,8.8800000000000004E-2,9.5100000000000004E-2,7.46E-2,7.46E-2,0.1759]
[842,8.8800000000000004E-2,9.5100000000000004E-2,7.46E-2,7.46E-2,0.1759]
[843,8.8700000000000001E-2,9.5100000000000004E-2,7.46E-2,7.46E-2,0.1759]
[844,8.8700000000000001E-2,9.5100000000000004E-2,7.46E-2,7.46E-2,0.1759]
[845,8.8599999999999998E-2,9.5100000000000004E-2,7.46E-2,7.46E-2,0.1759]
[846,8.8599999999999998E-2,9.5100000000000004E-2,7.46E-2,7.46E-2,0.1759]
[847,8.8499999999999995E-2,9.5100000000000004E-2,7.46E-2,7.46E-2,0.1759]
[848,8.8499999999999995E-2,9.5100000000000004E-2,7.46E-2,7.46E-2,0.1759]
[849,8.8400000000000006E-2,9.5100000000000004E-2,7.46E-2,7.46E-2,0.1759]
[850,8.8400000000000006E-2,9.5100000000000004E-2,7.46E-2,7.46E-2,0.1759]
[851,8.8300000000000003E-2,9.5100000000000004E-2,7.46E-2,7.46E-2,0.1759]
[852,8.8300000000000003E-2,9.5100000000000004E-2,7.46E-2,7.46E-2,0.1759]
[853,8.8200000000000001E-2,9.5100000000000004E-2,7.46E-2,7.46E-2,0.1759]
[854,8.8200000000000001E-2,9.5100000000000004E-2,7.46E-2,7.46E-2,0.1759]
[855,8.8099999999999998E-2,9.5100000000000004E-2,7.46E-2,7.46E-2,0.1759]
[856,8.8099999999999998E-2,9.5100000000000004E-2,7.46E-2,7.46E-2,0.1759]
[857,8.8099999999999998E-2,9.5100000000000004E-2,7.46E-2,7.46E-2,0.1759]
[858,8.7999999999999995E-2,9.5100000000000004E-2,7.46E-2,7.46E-2,0.1759]
[859,8.7999999999999995E-2,9.5100000000000004E-2,7.46E-2,7.46E-2,0.1759]
[860,8.7900000000000006E-2,9.5100000000000004E-2,7.46E-2,7.46E-2,0.1759]
[861,8.7900000000000006E-2,9.5100000000000004E-2,7.46E-2,7.46E-2,0.1759]
[862,8.7800000000000003E-2,9.5100000000000004E-2,7.46E-2,7.46E-2,0.1759]
[863,8.7800000000000003E-2,9.5100000000000004E-2,7.46E-2,7.46E-2,0.1759]
[864,8.77E-2,9.5100000000000004E-2,7.46E-2,7.46E-2,0.1759]
[865,8.77E-2,9.5100000000000004E-2,7.46E-2,7.46E-2,0.1759]
[866,8.7599999999999997E-2,9.5100000000000004E-2,7.46E-2,7.46E-2,0.1759]
[867,8.7599999999999997E-2,9.5100000000000004E-2,7.46E-2,7.46E-2,0.1759]
[868,8.7499999999999994E-2,9.5100000000000004E-2,7.46E-2,7.46E-2,0.1759]
[869,8.7499999999999994E-2,9.5100000000000004E-2,7.46E-2,7.46E-2,0.1759]
[870,8.7400000000000005E-2,9.5100000000000004E-2,7.46E-2,7.46E-2,0.1759]
[871,8.7400000000000005E-2,9.5100000000000004E-2,7.46E-2,7.46E-2,0.1759]
[872,8.7300000000000003E-2,9.5100000000000004E-2,7.46E-2,7.46E-2,0.1759]
[873,8.7300000000000003E-2,9.5100000000000004E-2,7.46E-2,7.46E-2,0.1759]
[874,8.72E-2,9.5100000000000004E-2,7.46E-2,7.46E-2,0.1759]
[875,8.72E-2,9.5100000000000004E-2,7.46E-2,7.46E-2,0.1759]
[876,8.72E-2,9.5100000000000004E-2,7.46E-2,7.46E-2,0.1759]
[877,8.7099999999999997E-2,9.5100000000000004E-2,7.46E-2,7.46E-2,0.1759]
[878,8.7099999999999997E-2,9.5100000000000004E-2,7.46E-2,7.46E-2,0.1759]
[879,8.6999999999999994E-2,9.5100000000000004E-2,7.46E-2,7.46E-2,0.1759]
[880,8.6999999999999994E-2,9.5100000000000004E-2,7.46E-2,7.46E-2,0.1759]
[881,8.6900000000000005E-2,9.5100000000000004E-2,7.46E-2,7.46E-2,0.1759]
[882,8.6900000000000005E-2,9.5100000000000004E-2,7.46E-2,7.46E-2,0.1759]
[883,8.6800000000000002E-2,9.5100000000000004E-2,7.46E-2,7.46E-2,0.1759]
[884,8.6800000000000002E-2,9.5100000000000004E-2,7.46E-2,7.46E-2,0.1759]
[885,8.6699999999999999E-2,9.5100000000000004E-2,7.46E-2,7.46E-2,0.1759]
[886,8.6699999999999999E-2,9.5100000000000004E-2,7.46E-2,7.46E-2,0.1759]
[887,8.6599999999999996E-2,9.5100000000000004E-2,7.46E-2,7.46E-2,0.1759]
[888,8.6599999999999996E-2,9.5100000000000004E-2,7.46E-2,7.46E-2,0.1759]
[889,8.6499999999999994E-2,9.5100000000000004E-2,7.46E-2,7.46E-2,0.1759]
[890,8.6499999999999994E-2,9.5100000000000004E-2,7.46E-2,7.46E-2,0.1759]
[891,8.6400000000000005E-2,9.5100000000000004E-2,7.46E-2,7.46E-2,0.1759]
[892,8.6400000000000005E-2,9.5100000000000004E-2,7.46E-2,7.46E-2,0.1759]
[893,8.6300000000000002E-2,9.5100000000000004E-2,7.46E-2,7.46E-2,0.1759]
[894,8.6300000000000002E-2,9.5100000000000004E-2,7.46E-2,7.46E-2,0.1759]
[895,8.6300000000000002E-2,9.5100000000000004E-2,7.46E-2,7.46E-2,0.1759]
[896,8.6199999999999999E-2,9.5100000000000004E-2,7.46E-2,7.46E-2,0.1759]
[897,8.6199999999999999E-2,9.5100000000000004E-2,7.46E-2,7.46E-2,0.1759]
[898,8.6099999999999996E-2,9.5100000000000004E-2,7.46E-2,7.46E-2,0.1759]
[899,8.6099999999999996E-2,9.5100000000000004E-2,7.46E-2,7.46E-2,0.1759]
[900,8.5999999999999993E-2,9.5100000000000004E-2,7.46E-2,7.46E-2,0.1759]
[901,8.5999999999999993E-2,9.5100000000000004E-2,7.46E-2,7.46E-2,0.1759]
[902,8.5900000000000004E-2,9.5100000000000004E-2,7.46E-2,7.46E-2,0.1759]
[903,8.5900000000000004E-2,9.5100000000000004E-2,7.46E-2,7.46E-2,0.1759]
[904,8.5800000000000001E-2,9.5100000000000004E-2,7.46E-2,7.46E-2,0.1759]
[905,8.5800000000000001E-2,9.5100000000000004E-2,7.46E-2,7.46E-2,0.1759]
[906,8.5699999999999998E-2,9.5100000000000004E-2,7.46E-2,7.46E-2,0.1759]
[907,8.5699999999999998E-2,9.5100000000000004E-2,7.46E-2,7.46E-2,0.1759]
[908,8.5599999999999996E-2,9.5100000000000004E-2,7.46E-2,7.46E-2,0.1759]
[909,8.5599999999999996E-2,9.5100000000000004E-2,7.46E-2,7.46E-2,0.1759]
[910,8.5500000000000007E-2,9.5100000000000004E-2,7.46E-2,7.46E-2,0.1759]
[911,8.5500000000000007E-2,9.5100000000000004E-2,7.46E-2,7.46E-2,0.1759]
[912,8.5400000000000004E-2,9.5100000000000004E-2,7.46E-2,7.46E-2,0.1759]
[913,8.5400000000000004E-2,9.5100000000000004E-2,7.46E-2,7.46E-2,0.1759]
[914,8.5400000000000004E-2,9.5100000000000004E-2,7.46E-2,7.46E-2,0.1759]
[915,8.5400000000000004E-2,9.5100000000000004E-2,7.46E-2,7.46E-2,0.1759]
[916,8.5300000000000001E-2,9.5100000000000004E-2,7.46E-2,7.46E-2,0.1759]
[917,8.5300000000000001E-2,9.5100000000000004E-2,7.46E-2,7.46E-2,0.1759]
[918,8.5300000000000001E-2,9.5100000000000004E-2,7.46E-2,7.46E-2,0.1759]
[919,8.5300000000000001E-2,9.5100000000000004E-2,7.46E-2,7.46E-2,0.1759]
[920,8.5199999999999998E-2,9.5100000000000004E-2,7.46E-2,7.46E-2,0.1759]
[921,8.5199999999999998E-2,9.5100000000000004E-2,7.46E-2,7.46E-2,0.1759]
[922,8.5199999999999998E-2,9.5100000000000004E-2,7.46E-2,7.46E-2,0.1759]
[923,8.5199999999999998E-2,9.5100000000000004E-2,7.46E-2,7.46E-2,0.1759]
[924,8.5199999999999998E-2,9.5100000000000004E-2,7.46E-2,7.46E-2,0.1759]
[925,8.5099999999999995E-2,9.5100000000000004E-2,7.46E-2,7.46E-2,0.1759]
[926,8.5099999999999995E-2,9.5100000000000004E-2,7.46E-2,7.46E-2,0.1759]
[927,8.5099999999999995E-2,9.5100000000000004E-2,7.46E-2,7.46E-2,0.1759]
[928,8.5099999999999995E-2,9.5100000000000004E-2,7.46E-2,7.46E-2,0.1759]
[929,8.5099999999999995E-2,9.5100000000000004E-2,7.46E-2,7.46E-2,0.1759]
[930,8.5000000000000006E-2,9.5100000000000004E-2,7.46E-2,7.46E-2,0.1759]
[931,8.5000000000000006E-2,9.5100000000000004E-2,7.46E-2,7.46E-2,0.1759]
[932,8.5000000000000006E-2,9.5100000000000004E-2,7.46E-2,7.46E-2,0.1759]
[933,8.5000000000000006E-2,9.5100000000000004E-2,7.46E-2,7.46E-2,0.1759]
[934,8.4900000000000003E-2,9.5100000000000004E-2,7.46E-2,7.46E-2,0.1759]
[935,8.4900000000000003E-2,9.5100000000000004E-2,7.46E-2,7.46E-2,0.1759]
[936,8.4900000000000003E-2,9.5100000000000004E-2,7.46E-2,7.46E-2,0.1759]
[937,8.4900000000000003E-2,9.5100000000000004E-2,7.46E-2,7.46E-2,0.1759]
[938,8.4900000000000003E-2,9.5100000000000004E-2,7.46E-2,7.46E-2,0.1759]
[939,8.48E-2,9.5100000000000004E-2,7.46E-2,7.46E-2,0.1759]
[940,8.48E-2,9.5100000000000004E-2,7.46E-2,7.46E-2,0.1759]
[941,8.48E-2,9.5100000000000004E-2,7.46E-2,7.46E-2,0.1759]
[942,8.48E-2,9.5100000000000004E-2,7.46E-2,7.46E-2,0.1759]
[943,8.48E-2,9.5100000000000004E-2,7.46E-2,7.46E-2,0.1759]
[944,8.4699999999999998E-2,9.5100000000000004E-2,7.46E-2,7.46E-2,0.1759]
[945,8.4699999999999998E-2,9.5100000000000004E-2,7.46E-2,7.46E-2,0.1759]
[946,8.4699999999999998E-2,9.5100000000000004E-2,7.46E-2,7.46E-2,0.1759]
[947,8.4699999999999998E-2,9.5100000000000004E-2,7.46E-2,7.46E-2,0.1759]
[948,8.4599999999999995E-2,9.5100000000000004E-2,7.46E-2,7.46E-2,0.1759]
[949,8.4599999999999995E-2,9.5100000000000004E-2,7.46E-2,7.46E-2,0.1759]
[950,8.4599999999999995E-2,9.5100000000000004E-2,7.46E-2,7.46E-2,0.1759]
[951,8.4599999999999995E-2,9.5100000000000004E-2,7.46E-2,7.46E-2,0.1759]
[952,8.4599999999999995E-2,9.5100000000000004E-2,7.46E-2,7.46E-2,0.1759]
[953,8.4500000000000006E-2,9.5100000000000004E-2,7.46E-2,7.46E-2,0.1759]
[954,8.4500000000000006E-2,9.5100000000000004E-2,7.46E-2,7.46E-2,0.1759]
[955,8.4500000000000006E-2,9.5100000000000004E-2,7.46E-2,7.46E-2,0.1759]
[956,8.4500000000000006E-2,9.5100000000000004E-2,7.46E-2,7.46E-2,0.1759]
[957,8.4400000000000003E-2,9.5100000000000004E-2,7.46E-2,7.46E-2,0.1759]
[958,8.4400000000000003E-2,9.5100000000000004E-2,7.46E-2,7.46E-2,0.1759]
[959,8.4400000000000003E-2,9.5100000000000004E-2,7.46E-2,7.46E-2,0.1759]
[960,8.4400000000000003E-2,9.5100000000000004E-2,7.46E-2,7.46E-2,0.1759]
[961,8.4400000000000003E-2,9.5100000000000004E-2,7.46E-2,7.46E-2,0.1759]
[962,8.43E-2,9.5100000000000004E-2,7.46E-2,7.46E-2,0.1759]
[963,8.43E-2,9.5100000000000004E-2,7.46E-2,7.46E-2,0.1759]
[964,8.43E-2,9.5100000000000004E-2,7.46E-2,7.46E-2,0.1759]
[965,8.43E-2,9.5100000000000004E-2,7.46E-2,7.46E-2,0.1759]
[966,8.43E-2,9.5100000000000004E-2,7.46E-2,7.46E-2,0.1759]
[967,8.4199999999999997E-2,9.5100000000000004E-2,7.46E-2,7.46E-2,0.1759]
[968,8.4199999999999997E-2,9.5100000000000004E-2,7.46E-2,7.46E-2,0.1759]
[969,8.4199999999999997E-2,9.5100000000000004E-2,7.46E-2,7.46E-2,0.1759]
[970,8.4199999999999997E-2,9.5100000000000004E-2,7.46E-2,7.46E-2,0.1759]
[971,8.4099999999999994E-2,9.5100000000000004E-2,7.46E-2,7.46E-2,0.1759]
[972,8.4099999999999994E-2,9.5100000000000004E-2,7.46E-2,7.46E-2,0.1759]
[973,8.4099999999999994E-2,9.5100000000000004E-2,7.46E-2,7.46E-2,0.1759]
[974,8.4099999999999994E-2,9.5100000000000004E-2,7.46E-2,7.46E-2,0.1759]
[975,8.4099999999999994E-2,9.5100000000000004E-2,7.46E-2,7.46E-2,0.1759]
[976,8.4000000000000005E-2,9.5100000000000004E-2,7.46E-2,7.46E-2,0.1759]
[977,8.4000000000000005E-2,9.5100000000000004E-2,7.46E-2,7.46E-2,0.1759]
[978,8.4000000000000005E-2,9.5100000000000004E-2,7.46E-2,7.46E-2,0.1759]
[979,8.4000000000000005E-2,9.5100000000000004E-2,7.46E-2,7.46E-2,0.1759]
[980,8.3900000000000002E-2,9.5100000000000004E-2,7.46E-2,7.46E-2,0.1759]
[981,8.3900000000000002E-2,9.5100000000000004E-2,7.46E-2,7.46E-2,0.1759]
[982,8.3900000000000002E-2,9.5100000000000004E-2,7.46E-2,7.46E-2,0.1759]
[983,8.3900000000000002E-2,9.5100000000000004E-2,7.46E-2,7.46E-2,0.1759]
[984,8.3900000000000002E-2,9.5100000000000004E-2,7.46E-2,7.46E-2,0.1759]
[985,8.3799999999999999E-2,9.5100000000000004E-2,7.46E-2,7.46E-2,0.1759]
[986,8.3799999999999999E-2,9.5100000000000004E-2,7.46E-2,7.46E-2,0.1759]
[987,8.3799999999999999E-2,9.5100000000000004E-2,7.46E-2,7.46E-2,0.1759]
[988,8.3799999999999999E-2,9.5100000000000004E-2,7.46E-2,7.46E-2,0.1759]
[989,8.3799999999999999E-2,9.5100000000000004E-2,7.46E-2,7.46E-2,0.1759]
[990,8.3699999999999997E-2,9.5100000000000004E-2,7.46E-2,7.46E-2,0.1759]
[991,8.3699999999999997E-2,9.5100000000000004E-2,7.46E-2,7.46E-2,0.1759]
[992,8.3699999999999997E-2,9.5100000000000004E-2,7.46E-2,7.46E-2,0.1759]
[993,8.3699999999999997E-2,9.5100000000000004E-2,7.46E-2,7.46E-2,0.1759]
[994,8.3599999999999994E-2,9.5100000000000004E-2,7.46E-2,7.46E-2,0.1759]
[995,8.3599999999999994E-2,9.5100000000000004E-2,7.46E-2,7.46E-2,0.1759]
[996,8.3599999999999994E-2,9.5100000000000004E-2,7.46E-2,7.46E-2,0.1759]
[997,8.3599999999999994E-2,9.5100000000000004E-2,7.46E-2,7.46E-2,0.1759]
[998,8.3599999999999994E-2,9.5100000000000004E-2,7.46E-2,7.46E-2,0.1759]
[999,8.3500000000000005E-2,9.5100000000000004E-2,7.46E-2,7.46E-2,0.1759]
[1000,8.3500000000000005E-2,9.5100000000000004E-2,7.46E-2,7.46E-2,0.1759]
[1001,8.3500000000000005E-2,9.5100000000000004E-2,7.46E-2,7.46E-2,0.1759]
[1002,8.3500000000000005E-2,9.5100000000000004E-2,7.46E-2,7.46E-2,0.1759]
[1003,8.3500000000000005E-2,9.5100000000000004E-2,7.46E-2,7.46E-2,0.1759]
[1004,8.3400000000000002E-2,9.5100000000000004E-2,7.46E-2,7.46E-2,0.1759]
[1005,8.3400000000000002E-2,9.5100000000000004E-2,7.46E-2,7.46E-2,0.1759]
[1006,8.3400000000000002E-2,9.5100000000000004E-2,7.46E-2,7.46E-2,0.1759]
[1007,8.3400000000000002E-2,9.5100000000000004E-2,7.46E-2,7.46E-2,0.1759]
[1008,8.3299999999999999E-2,9.5100000000000004E-2,7.46E-2,7.46E-2,0.1759]
[1009,8.3299999999999999E-2,9.5100000000000004E-2,7.46E-2,7.46E-2,0.1759]
[1010,8.3299999999999999E-2,9.5100000000000004E-2,7.46E-2,7.46E-2,0.1759]
[1011,8.3299999999999999E-2,9.5100000000000004E-2,7.46E-2,7.46E-2,0.1759]
[1012,8.3299999999999999E-2,9.5100000000000004E-2,7.46E-2,7.46E-2,0.1759]
[1013,8.3199999999999996E-2,9.5100000000000004E-2,7.46E-2,7.46E-2,0.1759]
[1014,8.3199999999999996E-2,9.5100000000000004E-2,7.46E-2,7.46E-2,0.1759]
[1015,8.3199999999999996E-2,9.5100000000000004E-2,7.46E-2,7.46E-2,0.1759]
[1016,8.3199999999999996E-2,9.5100000000000004E-2,7.46E-2,7.46E-2,0.1759]
[1017,8.3099999999999993E-2,9.5100000000000004E-2,7.46E-2,7.46E-2,0.1759]
[1018,8.3099999999999993E-2,9.5100000000000004E-2,7.46E-2,7.46E-2,0.1759]
[1019,8.3099999999999993E-2,9.5100000000000004E-2,7.46E-2,7.46E-2,0.1759]
[1020,8.3099999999999993E-2,9.5100000000000004E-2,7.46E-2,7.46E-2,0.1759]
[1021,8.3099999999999993E-2,9.5100000000000004E-2,7.46E-2,7.46E-2,0.1759]
[1022,8.3000000000000004E-2,9.5100000000000004E-2,7.46E-2,7.46E-2,0.1759]
[1023,8.3000000000000004E-2,9.5100000000000004E-2,7.46E-2,7.46E-2,0.1759]
[1024,8.3000000000000004E-2,9.5100000000000004E-2,7.46E-2,7.46E-2,0.1759]
[1025,8.3000000000000004E-2,9.5100000000000004E-2,7.46E-2,7.46E-2,0.1759]
[1026,8.3000000000000004E-2,9.5100000000000004E-2,7.46E-2,7.46E-2,0.1759]
[1027,8.2900000000000001E-2,9.5100000000000004E-2,7.46E-2,7.46E-2,0.1759]
[1028,8.2900000000000001E-2,9.5100000000000004E-2,7.46E-2,7.46E-2,0.1759]
[1029,8.2900000000000001E-2,9.5100000000000004E-2,7.46E-2,7.46E-2,0.1759]
[1030,8.2900000000000001E-2,9.5100000000000004E-2,7.46E-2,7.46E-2,0.1759]
[1031,8.2799999999999999E-2,9.5100000000000004E-2,7.46E-2,7.46E-2,0.1759]
[1032,8.2799999999999999E-2,9.5100000000000004E-2,7.46E-2,7.46E-2,0.1759]
[1033,8.2799999999999999E-2,9.5100000000000004E-2,7.46E-2,7.46E-2,0.1759]
[1034,8.2799999999999999E-2,9.5100000000000004E-2,7.46E-2,7.46E-2,0.1759]
[1035,8.2799999999999999E-2,9.5100000000000004E-2,7.46E-2,7.46E-2,0.1759]
[1036,8.2699999999999996E-2,9.5100000000000004E-2,7.46E-2,7.46E-2,0.1759]
[1037,8.2699999999999996E-2,9.5100000000000004E-2,7.46E-2,7.46E-2,0.1759]
[1038,8.2699999999999996E-2,9.5100000000000004E-2,7.46E-2,7.46E-2,0.1759]
[1039,8.2699999999999996E-2,9.5100000000000004E-2,7.46E-2,7.46E-2,0.1759]
[1040,8.2699999999999996E-2,9.5100000000000004E-2,7.46E-2,7.46E-2,0.1759]
[1041,8.2600000000000007E-2,9.5100000000000004E-2,7.46E-2,7.46E-2,0.1759]
[1042,8.2600000000000007E-2,9.5100000000000004E-2,7.46E-2,7.46E-2,0.1759]
[1043,8.2600000000000007E-2,9.5100000000000004E-2,7.46E-2,7.46E-2,0.1759]
[1044,8.2600000000000007E-2,9.5100000000000004E-2,7.46E-2,7.46E-2,0.1759]
[1045,8.2500000000000004E-2,9.5100000000000004E-2,7.46E-2,7.46E-2,0.1759]
[1046,8.2500000000000004E-2,9.5100000000000004E-2,7.46E-2,7.46E-2,0.1759]
[1047,8.2500000000000004E-2,9.5100000000000004E-2,7.46E-2,7.46E-2,0.1759]
[1048,8.2500000000000004E-2,9.5100000000000004E-2,7.46E-2,7.46E-2,0.1759]
[1049,8.2500000000000004E-2,9.5100000000000004E-2,7.46E-2,7.46E-2,0.1759]
[1050,8.2400000000000001E-2,9.5100000000000004E-2,7.46E-2,7.46E-2,0.1759]
[1051,8.2400000000000001E-2,9.5100000000000004E-2,7.46E-2,7.46E-2,0.1759]
[1052,8.2400000000000001E-2,9.5100000000000004E-2,7.46E-2,7.46E-2,0.1759]
[1053,8.2400000000000001E-2,9.5100000000000004E-2,7.46E-2,7.46E-2,0.1759]
[1054,8.2299999999999998E-2,9.5100000000000004E-2,7.46E-2,7.46E-2,0.1759]
[1055,8.2299999999999998E-2,9.5100000000000004E-2,7.46E-2,7.46E-2,0.1759]
[1056,8.2299999999999998E-2,9.5100000000000004E-2,7.46E-2,7.46E-2,0.1759]
[1057,8.2299999999999998E-2,9.5100000000000004E-2,7.46E-2,7.46E-2,0.1759]
[1058,8.2299999999999998E-2,9.5100000000000004E-2,7.46E-2,7.46E-2,0.1759]
[1059,8.2199999999999995E-2,9.5100000000000004E-2,7.46E-2,7.46E-2,0.1759]
[1060,8.2199999999999995E-2,9.5100000000000004E-2,7.46E-2,7.46E-2,0.1759]
[1061,8.2199999999999995E-2,9.5100000000000004E-2,7.46E-2,7.46E-2,0.1759]
[1062,8.2199999999999995E-2,9.5100000000000004E-2,7.46E-2,7.46E-2,0.1759]
[1063,8.2199999999999995E-2,9.5100000000000004E-2,7.46E-2,7.46E-2,0.1759]
[1064,8.2100000000000006E-2,9.5100000000000004E-2,7.46E-2,7.46E-2,0.1759]
[1065,8.2100000000000006E-2,9.5100000000000004E-2,7.46E-2,7.46E-2,0.1759]
[1066,8.2100000000000006E-2,9.5100000000000004E-2,7.46E-2,7.46E-2,0.1759]
[1067,8.2100000000000006E-2,9.5100000000000004E-2,7.46E-2,7.46E-2,0.1759]
[1068,8.2000000000000003E-2,9.5100000000000004E-2,7.46E-2,7.46E-2,0.1759]
[1069,8.2000000000000003E-2,9.5100000000000004E-2,7.46E-2,7.46E-2,0.1759]
[1070,8.2000000000000003E-2,9.5100000000000004E-2,7.46E-2,7.46E-2,0.1759]
[1071,8.2000000000000003E-2,9.5100000000000004E-2,7.46E-2,7.46E-2,0.1759]
[1072,8.2000000000000003E-2,9.5100000000000004E-2,7.46E-2,7.46E-2,0.1759]
[1073,8.1900000000000001E-2,9.5100000000000004E-2,7.46E-2,7.46E-2,0.1759]
[1074,8.1900000000000001E-2,9.5100000000000004E-2,7.46E-2,7.46E-2,0.1759]
[1075,8.1900000000000001E-2,9.5100000000000004E-2,7.46E-2,7.46E-2,0.1759]
[1076,8.1900000000000001E-2,9.5100000000000004E-2,7.46E-2,7.46E-2,0.1759]
[1077,8.1900000000000001E-2,9.5100000000000004E-2,7.46E-2,7.46E-2,0.1759]
[1078,8.1799999999999998E-2,9.5100000000000004E-2,7.46E-2,7.46E-2,0.1759]
[1079,8.1799999999999998E-2,9.5100000000000004E-2,7.46E-2,7.46E-2,0.1759]
[1080,8.1799999999999998E-2,9.5100000000000004E-2,7.46E-2,7.46E-2,0.1759]
[1081,8.1799999999999998E-2,9.5100000000000004E-2,7.46E-2,7.46E-2,0.1759]
[1082,8.1699999999999995E-2,9.5100000000000004E-2,7.46E-2,7.46E-2,0.1759]
[1083,8.1699999999999995E-2,9.5100000000000004E-2,7.46E-2,7.46E-2,0.1759]
[1084,8.1699999999999995E-2,9.5100000000000004E-2,7.46E-2,7.46E-2,0.1759]
[1085,8.1699999999999995E-2,9.5100000000000004E-2,7.46E-2,7.46E-2,0.1759]
[1086,8.1699999999999995E-2,9.5100000000000004E-2,7.46E-2,7.46E-2,0.1759]
[1087,8.1600000000000006E-2,9.5100000000000004E-2,7.46E-2,7.46E-2,0.1759]
[1088,8.1600000000000006E-2,9.5100000000000004E-2,7.46E-2,7.46E-2,0.1759]
[1089,8.1600000000000006E-2,9.5100000000000004E-2,7.46E-2,7.46E-2,0.1759]
[1090,8.1600000000000006E-2,9.5100000000000004E-2,7.46E-2,7.46E-2,0.1759]
[1091,8.1500000000000003E-2,9.5100000000000004E-2,7.46E-2,7.46E-2,0.1759]
[1092,8.1500000000000003E-2,9.5100000000000004E-2,7.46E-2,7.46E-2,0.1759]
[1093,8.1500000000000003E-2,9.5100000000000004E-2,7.46E-2,7.46E-2,0.1759]
[1094,8.1500000000000003E-2,9.5100000000000004E-2,7.46E-2,7.46E-2,0.1759]
[1095,8.1500000000000003E-2,9.5100000000000004E-2,7.46E-2,7.46E-2,0.1759]
[1096,8.14E-2,9.5100000000000004E-2,7.46E-2,7.46E-2,0.1759]
[1097,8.14E-2,9.5100000000000004E-2,7.46E-2,7.46E-2,0.1759]
[1098,8.14E-2,9.5100000000000004E-2,7.46E-2,7.46E-2,0.1759]
[1099,8.14E-2,9.5100000000000004E-2,7.46E-2,7.46E-2,0.1759]
[1100,8.14E-2,9.5100000000000004E-2,7.46E-2,7.46E-2,0.1759]
[1101,8.1299999999999997E-2,9.5100000000000004E-2,7.46E-2,7.46E-2,0.1759]
[1102,8.1299999999999997E-2,9.5100000000000004E-2,7.46E-2,7.46E-2,0.1759]
[1103,8.1299999999999997E-2,9.5100000000000004E-2,7.46E-2,7.46E-2,0.1759]
[1104,8.1299999999999997E-2,9.5100000000000004E-2,7.46E-2,7.46E-2,0.1759]
[1105,8.1199999999999994E-2,9.5100000000000004E-2,7.46E-2,7.46E-2,0.1759]
[1106,8.1199999999999994E-2,9.5100000000000004E-2,7.46E-2,7.46E-2,0.1759]
[1107,8.1199999999999994E-2,9.5100000000000004E-2,7.46E-2,7.46E-2,0.1759]
[1108,8.1199999999999994E-2,9.5100000000000004E-2,7.46E-2,7.46E-2,0.1759]
[1109,8.1199999999999994E-2,9.5100000000000004E-2,7.46E-2,7.46E-2,0.1759]
[1110,8.1100000000000005E-2,9.5100000000000004E-2,7.46E-2,7.46E-2,0.1759]
[1111,8.1100000000000005E-2,9.5100000000000004E-2,7.46E-2,7.46E-2,0.1759]
[1112,8.1100000000000005E-2,9.5100000000000004E-2,7.46E-2,7.46E-2,0.1759]
[1113,8.1100000000000005E-2,9.5100000000000004E-2,7.46E-2,7.46E-2,0.1759]
[1114,8.1000000000000003E-2,9.5100000000000004E-2,7.46E-2,7.46E-2,0.1759]
[1115,8.1000000000000003E-2,9.5100000000000004E-2,7.46E-2,7.46E-2,0.1759]
[1116,8.1000000000000003E-2,9.5100000000000004E-2,7.46E-2,7.46E-2,0.1759]
[1117,8.1000000000000003E-2,9.5100000000000004E-2,7.46E-2,7.46E-2,0.1759]
[1118,8.1000000000000003E-2,9.5100000000000004E-2,7.46E-2,7.46E-2,0.1759]
[1119,8.09E-2,9.5100000000000004E-2,7.46E-2,7.46E-2,0.1759]
[1120,8.09E-2,9.5100000000000004E-2,7.46E-2,7.46E-2,0.1759]
[1121,8.09E-2,9.5100000000000004E-2,7.46E-2,7.46E-2,0.1759]
[1122,8.09E-2,9.5100000000000004E-2,7.46E-2,7.46E-2,0.1759]
[1123,8.09E-2,9.5100000000000004E-2,7.46E-2,7.46E-2,0.1759]
[1124,8.0799999999999997E-2,9.5100000000000004E-2,7.46E-2,7.46E-2,0.1759]
[1125,8.0799999999999997E-2,9.5100000000000004E-2,7.46E-2,7.46E-2,0.1759]
[1126,8.0799999999999997E-2,9.5100000000000004E-2,7.46E-2,7.46E-2,0.1759]
[1127,8.0799999999999997E-2,9.5100000000000004E-2,7.46E-2,7.46E-2,0.1759]
[1128,8.0699999999999994E-2,9.5100000000000004E-2,7.46E-2,7.46E-2,0.1759]
[1129,8.0699999999999994E-2,9.5100000000000004E-2,7.46E-2,7.46E-2,0.1759]
[1130,8.0699999999999994E-2,9.5100000000000004E-2,7.46E-2,7.46E-2,0.1759]
[1131,8.0699999999999994E-2,9.5100000000000004E-2,7.46E-2,7.46E-2,0.1759]
[1132,8.0699999999999994E-2,9.5100000000000004E-2,7.46E-2,7.46E-2,0.1759]
[1133,8.0600000000000005E-2,9.5100000000000004E-2,7.46E-2,7.46E-2,0.1759]
[1134,8.0600000000000005E-2,9.5100000000000004E-2,7.46E-2,7.46E-2,0.1759]
[1135,8.0600000000000005E-2,9.5100000000000004E-2,7.46E-2,7.46E-2,0.1759]
[1136,8.0600000000000005E-2,9.5100000000000004E-2,7.46E-2,7.46E-2,0.1759]
[1137,8.0600000000000005E-2,9.5100000000000004E-2,7.46E-2,7.46E-2,0.1759]
[1138,8.0500000000000002E-2,9.5100000000000004E-2,7.46E-2,7.46E-2,0.1759]
[1139,8.0500000000000002E-2,9.5100000000000004E-2,7.46E-2,7.46E-2,0.1759]
[1140,8.0500000000000002E-2,9.5100000000000004E-2,7.46E-2,7.46E-2,0.1759]
[1141,8.0500000000000002E-2,9.5100000000000004E-2,7.46E-2,7.46E-2,0.1759]
[1142,8.0399999999999999E-2,9.5100000000000004E-2,7.46E-2,7.46E-2,0.1759]
[1143,8.0399999999999999E-2,9.5100000000000004E-2,7.46E-2,7.46E-2,0.1759]
[1144,8.0399999999999999E-2,9.5100000000000004E-2,7.46E-2,7.46E-2,0.1759]
[1145,8.0399999999999999E-2,9.5100000000000004E-2,7.46E-2,7.46E-2,0.1759]
[1146,8.0399999999999999E-2,9.5100000000000004E-2,7.46E-2,7.46E-2,0.1759]
[1147,8.0299999999999996E-2,9.5100000000000004E-2,7.46E-2,7.46E-2,0.1759]
[1148,8.0299999999999996E-2,9.5100000000000004E-2,7.46E-2,7.46E-2,0.1759]
[1149,8.0299999999999996E-2,9.5100000000000004E-2,7.46E-2,7.46E-2,0.1759]
[1150,8.0299999999999996E-2,9.5100000000000004E-2,7.46E-2,7.46E-2,0.1759]
[1151,8.0199999999999994E-2,9.5100000000000004E-2,7.46E-2,7.46E-2,0.1759]
[1152,8.0199999999999994E-2,9.5100000000000004E-2,7.46E-2,7.46E-2,0.1759]
[1153,8.0199999999999994E-2,9.5100000000000004E-2,7.46E-2,7.46E-2,0.1759]
[1154,8.0199999999999994E-2,9.5100000000000004E-2,7.46E-2,7.46E-2,0.1759]
[1155,8.0199999999999994E-2,9.5100000000000004E-2,7.46E-2,7.46E-2,0.1759]
[1156,8.0100000000000005E-2,9.5100000000000004E-2,7.46E-2,7.46E-2,0.1759]
[1157,8.0100000000000005E-2,9.5100000000000004E-2,7.46E-2,7.46E-2,0.1759]
[1158,8.0100000000000005E-2,9.5100000000000004E-2,7.46E-2,7.46E-2,0.1759]
[1159,8.0100000000000005E-2,9.5100000000000004E-2,7.46E-2,7.46E-2,0.1759]
[1160,8.0100000000000005E-2,9.5100000000000004E-2,7.46E-2,7.46E-2,0.1759]
[1161,0.08,9.5100000000000004E-2,7.46E-2,7.46E-2,0.1759]
[1162,0.08,9.5100000000000004E-2,7.46E-2,7.46E-2,0.1759]
[1163,0.08,9.5100000000000004E-2,7.46E-2,7.46E-2,0.1759]
[1164,0.08,9.5100000000000004E-2,7.46E-2,7.46E-2,0.1759]
[1165,7.9899999999999999E-2,9.5100000000000004E-2,7.46E-2,7.46E-2,0.1759]
[1166,7.9899999999999999E-2,9.5100000000000004E-2,7.46E-2,7.46E-2,0.1759]
[1167,7.9899999999999999E-2,9.5100000000000004E-2,7.46E-2,7.46E-2,0.1759]
[1168,7.9899999999999999E-2,9.5100000000000004E-2,7.46E-2,7.46E-2,0.1759]
[1169,7.9899999999999999E-2,9.5100000000000004E-2,7.46E-2,7.46E-2,0.1759]
[1170,7.9799999999999996E-2,9.5100000000000004E-2,7.46E-2,7.46E-2,0.1759]
[1171,7.9799999999999996E-2,9.5100000000000004E-2,7.46E-2,7.46E-2,0.1759]
[1172,7.9799999999999996E-2,9.5100000000000004E-2,7.46E-2,7.46E-2,0.1759]
[1173,7.9799999999999996E-2,9.5100000000000004E-2,7.46E-2,7.46E-2,0.1759]
[1174,7.9799999999999996E-2,9.5100000000000004E-2,7.46E-2,7.46E-2,0.1759]
[1175,7.9699999999999993E-2,9.5100000000000004E-2,7.46E-2,7.46E-2,0.1759]
[1176,7.9699999999999993E-2,9.5100000000000004E-2,7.46E-2,7.46E-2,0.1759]
[1177,7.9699999999999993E-2,9.5100000000000004E-2,7.46E-2,7.46E-2,0.1759]
[1178,7.9699999999999993E-2,9.5100000000000004E-2,7.46E-2,7.46E-2,0.1759]
[1179,7.9600000000000004E-2,9.5100000000000004E-2,7.46E-2,7.46E-2,0.1759]
[1180,7.9600000000000004E-2,9.5100000000000004E-2,7.46E-2,7.46E-2,0.1759]
[1181,7.9600000000000004E-2,9.5100000000000004E-2,7.46E-2,7.46E-2,0.1759]
[1182,7.9600000000000004E-2,9.5100000000000004E-2,7.46E-2,7.46E-2,0.1759]
[1183,7.9600000000000004E-2,9.5100000000000004E-2,7.46E-2,7.46E-2,0.1759]
[1184,7.9500000000000001E-2,9.5100000000000004E-2,7.46E-2,7.46E-2,0.1759]
[1185,7.9500000000000001E-2,9.5100000000000004E-2,7.46E-2,7.46E-2,0.1759]
[1186,7.9500000000000001E-2,9.5100000000000004E-2,7.46E-2,7.46E-2,0.1759]
[1187,7.9500000000000001E-2,9.5100000000000004E-2,7.46E-2,7.46E-2,0.1759]
[1188,7.9399999999999998E-2,9.5100000000000004E-2,7.46E-2,7.46E-2,0.1759]
[1189,7.9399999999999998E-2,9.5100000000000004E-2,7.46E-2,7.46E-2,0.1759]
[1190,7.9399999999999998E-2,9.5100000000000004E-2,7.46E-2,7.46E-2,0.1759]
[1191,7.9399999999999998E-2,9.5100000000000004E-2,7.46E-2,7.46E-2,0.1759]
[1192,7.9399999999999998E-2,9.5100000000000004E-2,7.46E-2,7.46E-2,0.1759]
[1193,7.9299999999999995E-2,9.5100000000000004E-2,7.46E-2,7.46E-2,0.1759]
[1194,7.9299999999999995E-2,9.5100000000000004E-2,7.46E-2,7.46E-2,0.1759]
[1195,7.9299999999999995E-2,9.5100000000000004E-2,7.46E-2,7.46E-2,0.1759]
[1196,7.9299999999999995E-2,9.5100000000000004E-2,7.46E-2,7.46E-2,0.1759]
[1197,7.9299999999999995E-2,9.5100000000000004E-2,7.46E-2,7.46E-2,0.1759]
[1198,7.9200000000000007E-2,9.5100000000000004E-2,7.46E-2,7.46E-2,0.1759]
[1199,7.9200000000000007E-2,9.5100000000000004E-2,7.46E-2,7.46E-2,0.1759]
[1200,7.9200000000000007E-2,9.5100000000000004E-2,7.46E-2,7.46E-2,0.1759]
[1201,7.9200000000000007E-2,9.5100000000000004E-2,7.46E-2,7.46E-2,0.1759]
[1202,7.9100000000000004E-2,9.5100000000000004E-2,7.46E-2,7.46E-2,0.1759]
[1203,7.9100000000000004E-2,9.5100000000000004E-2,7.46E-2,7.46E-2,0.1759]
[1204,7.9100000000000004E-2,9.5100000000000004E-2,7.46E-2,7.46E-2,0.1759]
[1205,7.9100000000000004E-2,9.5100000000000004E-2,7.46E-2,7.46E-2,0.1759]
[1206,7.9100000000000004E-2,9.5100000000000004E-2,7.46E-2,7.46E-2,0.1759]
[1207,7.9000000000000001E-2,9.5100000000000004E-2,7.46E-2,7.46E-2,0.1759]
[1208,7.9000000000000001E-2,9.5100000000000004E-2,7.46E-2,7.46E-2,0.1759]
[1209,7.9000000000000001E-2,9.5100000000000004E-2,7.46E-2,7.46E-2,0.1759]
[1210,7.9000000000000001E-2,9.5100000000000004E-2,7.46E-2,7.46E-2,0.1759]
[1211,7.9000000000000001E-2,9.5100000000000004E-2,7.46E-2,7.46E-2,0.1759]
[1212,7.8899999999999998E-2,9.5100000000000004E-2,7.46E-2,7.46E-2,0.1759]
[1213,7.8899999999999998E-2,9.5100000000000004E-2,7.46E-2,7.46E-2,0.1759]
[1214,7.8899999999999998E-2,9.5100000000000004E-2,7.46E-2,7.46E-2,0.1759]
[1215,7.8899999999999998E-2,9.5100000000000004E-2,7.46E-2,7.46E-2,0.1759]
[1216,7.8799999999999995E-2,9.5100000000000004E-2,7.46E-2,7.46E-2,0.1759]
[1217,7.8799999999999995E-2,9.5100000000000004E-2,7.46E-2,7.46E-2,0.1759]
[1218,7.8799999999999995E-2,9.5100000000000004E-2,7.46E-2,7.46E-2,0.1759]
[1219,7.8799999999999995E-2,9.5100000000000004E-2,7.46E-2,7.46E-2,0.1759]
[1220,7.8799999999999995E-2,9.5100000000000004E-2,7.46E-2,7.46E-2,0.1759]
[1221,7.8700000000000006E-2,9.5100000000000004E-2,7.46E-2,7.46E-2,0.1759]
[1222,7.8700000000000006E-2,9.5100000000000004E-2,7.46E-2,7.46E-2,0.1759]
[1223,7.8700000000000006E-2,9.5100000000000004E-2,7.46E-2,7.46E-2,0.1759]
[1224,7.8700000000000006E-2,9.5100000000000004E-2,7.46E-2,7.46E-2,0.1759]
[1225,7.8600000000000003E-2,9.5100000000000004E-2,7.46E-2,7.46E-2,0.1759]
[1226,7.8600000000000003E-2,9.5100000000000004E-2,7.46E-2,7.46E-2,0.1759]
[1227,7.8600000000000003E-2,9.5100000000000004E-2,7.46E-2,7.46E-2,0.1759]
[1228,7.8600000000000003E-2,9.5100000000000004E-2,7.46E-2,7.46E-2,0.1759]
[1229,7.8600000000000003E-2,9.5100000000000004E-2,7.46E-2,7.46E-2,0.1759]
[1230,7.85E-2,9.5100000000000004E-2,7.46E-2,7.46E-2,0.1759]
[1231,7.85E-2,9.5100000000000004E-2,7.46E-2,7.46E-2,0.1759]
[1232,7.85E-2,9.5100000000000004E-2,7.46E-2,7.46E-2,0.1759]
[1233,7.85E-2,9.5100000000000004E-2,7.46E-2,7.46E-2,0.1759]
[1234,7.85E-2,9.5100000000000004E-2,7.46E-2,7.46E-2,0.1759]
[1235,7.8399999999999997E-2,9.5100000000000004E-2,7.46E-2,7.46E-2,0.1759]
[1236,7.8399999999999997E-2,9.5100000000000004E-2,7.46E-2,7.46E-2,0.1759]
[1237,7.8399999999999997E-2,9.5100000000000004E-2,7.46E-2,7.46E-2,0.1759]
[1238,7.8399999999999997E-2,9.5100000000000004E-2,7.46E-2,7.46E-2,0.1759]
[1239,7.8299999999999995E-2,9.5100000000000004E-2,7.46E-2,7.46E-2,0.1759]
[1240,7.8299999999999995E-2,9.5100000000000004E-2,7.46E-2,7.46E-2,0.1759]
[1241,7.8299999999999995E-2,9.5100000000000004E-2,7.46E-2,7.46E-2,0.1759]
[1242,7.8299999999999995E-2,9.5100000000000004E-2,7.46E-2,7.46E-2,0.1759]
[1243,7.8299999999999995E-2,9.5100000000000004E-2,7.46E-2,7.46E-2,0.1759]
[1244,7.8200000000000006E-2,9.5100000000000004E-2,7.46E-2,7.46E-2,0.1759]
[1245,7.8200000000000006E-2,9.5100000000000004E-2,7.46E-2,7.46E-2,0.1759]
[1246,7.8200000000000006E-2,9.5100000000000004E-2,7.46E-2,7.46E-2,0.1759]
[1247,7.8200000000000006E-2,9.5100000000000004E-2,7.46E-2,7.46E-2,0.1759]
[1248,7.8100000000000003E-2,9.5100000000000004E-2,7.46E-2,7.46E-2,0.1759]
[1249,7.8100000000000003E-2,9.5100000000000004E-2,7.46E-2,7.46E-2,0.1759]
[1250,7.8100000000000003E-2,9.5100000000000004E-2,7.46E-2,7.46E-2,0.1759]
[1251,7.8100000000000003E-2,9.5100000000000004E-2,7.46E-2,7.46E-2,0.1759]
[1252,7.8100000000000003E-2,9.5100000000000004E-2,7.46E-2,7.46E-2,0.1759]
[1253,7.8E-2,9.5100000000000004E-2,7.46E-2,7.46E-2,0.1759]
[1254,7.8E-2,9.5100000000000004E-2,7.46E-2,7.46E-2,0.1759]
[1255,7.8E-2,9.5100000000000004E-2,7.46E-2,7.46E-2,0.1759]
[1256,7.8E-2,9.5100000000000004E-2,7.46E-2,7.46E-2,0.1759]
[1257,7.8E-2,9.5100000000000004E-2,7.46E-2,7.46E-2,0.1759]
[1258,7.7899999999999997E-2,9.5100000000000004E-2,7.46E-2,7.46E-2,0.1759]
[1259,7.7899999999999997E-2,9.5100000000000004E-2,7.46E-2,7.46E-2,0.1759]
[1260,7.7899999999999997E-2,9.5100000000000004E-2,7.46E-2,7.46E-2,0.1759]
[1261,7.7899999999999997E-2,9.5100000000000004E-2,7.46E-2,7.46E-2,0.1759]
[1262,7.7799999999999994E-2,9.5100000000000004E-2,7.46E-2,7.46E-2,0.1759]
[1263,7.7799999999999994E-2,9.5100000000000004E-2,7.46E-2,7.46E-2,0.1759]
[1264,7.7799999999999994E-2,9.5100000000000004E-2,7.46E-2,7.46E-2,0.1759]
[1265,7.7799999999999994E-2,9.5100000000000004E-2,7.46E-2,7.46E-2,0.1759]
[1266,7.7799999999999994E-2,9.5100000000000004E-2,7.46E-2,7.46E-2,0.1759]
[1267,7.7700000000000005E-2,9.5100000000000004E-2,7.46E-2,7.46E-2,0.1759]
[1268,7.7700000000000005E-2,9.5100000000000004E-2,7.46E-2,7.46E-2,0.1759]
[1269,7.7700000000000005E-2,9.5100000000000004E-2,7.46E-2,7.46E-2,0.1759]
[1270,7.7700000000000005E-2,9.5100000000000004E-2,7.46E-2,7.46E-2,0.1759]
[1271,7.7700000000000005E-2,9.5100000000000004E-2,7.46E-2,7.46E-2,0.1759]
[1272,7.7600000000000002E-2,9.5100000000000004E-2,7.46E-2,7.46E-2,0.1759]
[1273,7.7600000000000002E-2,9.5100000000000004E-2,7.46E-2,7.46E-2,0.1759]
[1274,7.7600000000000002E-2,9.5100000000000004E-2,7.46E-2,7.46E-2,0.1759]
[1275,7.7600000000000002E-2,9.5100000000000004E-2,7.46E-2,7.46E-2,0.1759]
[1276,7.7499999999999999E-2,9.5100000000000004E-2,7.46E-2,7.46E-2,0.1759]
[1277,7.7499999999999999E-2,9.5100000000000004E-2,7.46E-2,7.46E-2,0.1759]
[1278,7.7499999999999999E-2,9.5100000000000004E-2,7.46E-2,7.46E-2,0.1759]
[1279,7.7499999999999999E-2,9.5100000000000004E-2,7.46E-2,7.46E-2,0.1759]
[1280,7.7499999999999999E-2,9.5100000000000004E-2,7.46E-2,7.46E-2,0.1759]
[1281,7.7499999999999999E-2,9.5100000000000004E-2,7.46E-2,7.46E-2,0.1759]
[1282,7.7499999999999999E-2,9.5100000000000004E-2,7.46E-2,7.46E-2,0.1759]
[1283,7.7499999999999999E-2,9.5100000000000004E-2,7.46E-2,7.46E-2,0.1759]
[1284,7.7499999999999999E-2,9.5100000000000004E-2,7.46E-2,7.46E-2,0.1759]
[1285,7.7499999999999999E-2,9.5100000000000004E-2,7.46E-2,7.46E-2,0.1759]
[1286,7.7499999999999999E-2,9.5100000000000004E-2,7.46E-2,7.46E-2,0.1759]
[1287,7.7499999999999999E-2,9.5100000000000004E-2,7.46E-2,7.46E-2,0.1759]
[1288,7.7499999999999999E-2,9.5100000000000004E-2,7.46E-2,7.46E-2,0.1759]
[1289,7.7499999999999999E-2,9.5100000000000004E-2,7.46E-2,7.46E-2,0.1759]
[1290,7.7499999999999999E-2,9.5100000000000004E-2,7.46E-2,7.46E-2,0.1759]
[1291,7.7499999999999999E-2,9.5100000000000004E-2,7.46E-2,7.46E-2,0.1759]
[1292,7.7499999999999999E-2,9.5100000000000004E-2,7.46E-2,7.46E-2,0.1759]
[1293,7.7499999999999999E-2,9.5100000000000004E-2,7.46E-2,7.46E-2,0.1759]
[1294,7.7499999999999999E-2,9.5100000000000004E-2,7.46E-2,7.46E-2,0.1759]
[1295,7.7499999999999999E-2,9.5100000000000004E-2,7.46E-2,7.46E-2,0.1759]
[1296,7.7499999999999999E-2,9.5100000000000004E-2,7.46E-2,7.46E-2,0.1759]
[1297,7.7499999999999999E-2,9.5100000000000004E-2,7.46E-2,7.46E-2,0.1759]
[1298,7.7499999999999999E-2,9.5100000000000004E-2,7.46E-2,7.46E-2,0.1759]
[1299,7.7499999999999999E-2,9.5100000000000004E-2,7.46E-2,7.46E-2,0.1759]
[1300,7.7499999999999999E-2,9.5100000000000004E-2,7.46E-2,7.46E-2,0.1759]
[1301,7.7499999999999999E-2,9.5100000000000004E-2,7.46E-2,7.46E-2,0.1759]
[1302,7.7499999999999999E-2,9.5100000000000004E-2,7.46E-2,7.46E-2,0.1759]
[1303,7.7499999999999999E-2,9.5100000000000004E-2,7.46E-2,7.46E-2,0.1759]
[1304,7.7499999999999999E-2,9.5100000000000004E-2,7.46E-2,7.46E-2,0.1759]
[1305,7.7499999999999999E-2,9.5100000000000004E-2,7.46E-2,7.46E-2,0.1759]
[1306,7.7499999999999999E-2,9.5100000000000004E-2,7.46E-2,7.46E-2,0.1759]
[1307,7.7499999999999999E-2,9.5100000000000004E-2,7.46E-2,7.46E-2,0.1759]
[1308,7.7499999999999999E-2,9.5100000000000004E-2,7.46E-2,7.46E-2,0.1759]
[1309,7.7499999999999999E-2,9.5100000000000004E-2,7.46E-2,7.46E-2,0.1759]
[1310,7.7499999999999999E-2,9.5100000000000004E-2,7.46E-2,7.46E-2,0.1759]
[1311,7.7499999999999999E-2,9.5100000000000004E-2,7.46E-2,7.46E-2,0.1759]
[1312,7.7499999999999999E-2,9.5100000000000004E-2,7.46E-2,7.46E-2,0.1759]
[1313,7.7499999999999999E-2,9.5100000000000004E-2,7.46E-2,7.46E-2,0.1759]
[1314,7.7499999999999999E-2,9.5100000000000004E-2,7.46E-2,7.46E-2,0.1759]
[1315,7.7499999999999999E-2,9.5100000000000004E-2,7.46E-2,7.46E-2,0.1759]
[1316,7.7499999999999999E-2,9.5100000000000004E-2,7.46E-2,7.46E-2,0.1759]
[1317,7.7499999999999999E-2,9.5100000000000004E-2,7.46E-2,7.46E-2,0.1759]
[1318,7.7499999999999999E-2,9.5100000000000004E-2,7.46E-2,7.46E-2,0.1759]
[1319,7.7499999999999999E-2,9.5100000000000004E-2,7.46E-2,7.46E-2,0.1759]
[1320,7.7499999999999999E-2,9.5100000000000004E-2,7.46E-2,7.46E-2,0.1759]
[1321,7.7499999999999999E-2,9.5100000000000004E-2,7.46E-2,7.46E-2,0.1759]
[1322,7.7499999999999999E-2,9.5100000000000004E-2,7.46E-2,7.46E-2,0.1759]
[1323,7.7499999999999999E-2,9.5100000000000004E-2,7.46E-2,7.46E-2,0.1759]
[1324,7.7499999999999999E-2,9.5100000000000004E-2,7.46E-2,7.46E-2,0.1759]
[1325,7.7499999999999999E-2,9.5100000000000004E-2,7.46E-2,7.46E-2,0.1759]
[1326,7.7499999999999999E-2,9.5100000000000004E-2,7.46E-2,7.46E-2,0.1759]
[1327,7.7499999999999999E-2,9.5100000000000004E-2,7.46E-2,7.46E-2,0.1759]
[1328,7.7499999999999999E-2,9.5100000000000004E-2,7.46E-2,7.46E-2,0.1759]
[1329,7.7499999999999999E-2,9.5100000000000004E-2,7.46E-2,7.46E-2,0.1759]
[1330,7.7499999999999999E-2,9.5100000000000004E-2,7.46E-2,7.46E-2,0.1759]
[1331,7.7499999999999999E-2,9.5100000000000004E-2,7.46E-2,7.46E-2,0.1759]
[1332,7.7499999999999999E-2,9.5100000000000004E-2,7.46E-2,7.46E-2,0.1759]
[1333,7.7499999999999999E-2,9.5100000000000004E-2,7.46E-2,7.46E-2,0.1759]
[1334,7.7499999999999999E-2,9.5100000000000004E-2,7.46E-2,7.46E-2,0.1759]
[1335,7.7499999999999999E-2,9.5100000000000004E-2,7.46E-2,7.46E-2,0.1759]
[1336,7.7499999999999999E-2,9.5100000000000004E-2,7.46E-2,7.46E-2,0.1759]
[1337,7.7499999999999999E-2,9.5100000000000004E-2,7.46E-2,7.46E-2,0.1759]
[1338,7.7499999999999999E-2,9.5100000000000004E-2,7.46E-2,7.46E-2,0.1759]
[1339,7.7499999999999999E-2,9.5100000000000004E-2,7.46E-2,7.46E-2,0.1759]
[1340,7.7499999999999999E-2,9.5100000000000004E-2,7.46E-2,7.46E-2,0.1759]
[1341,7.7499999999999999E-2,9.5100000000000004E-2,7.46E-2,7.46E-2,0.1759]
[1342,7.7499999999999999E-2,9.5100000000000004E-2,7.46E-2,7.46E-2,0.1759]
[1343,7.7499999999999999E-2,9.5100000000000004E-2,7.46E-2,7.46E-2,0.1759]
[1344,7.7499999999999999E-2,9.5100000000000004E-2,7.46E-2,7.46E-2,0.1759]
[1345,7.7499999999999999E-2,9.5100000000000004E-2,7.46E-2,7.46E-2,0.1759]
[1346,7.7499999999999999E-2,9.5100000000000004E-2,7.46E-2,7.46E-2,0.1759]
[1347,7.7499999999999999E-2,9.5100000000000004E-2,7.46E-2,7.46E-2,0.1759]
[1348,7.7499999999999999E-2,9.5100000000000004E-2,7.46E-2,7.46E-2,0.1759]
[1349,7.7499999999999999E-2,9.5100000000000004E-2,7.46E-2,7.46E-2,0.1759]
[1350,7.7499999999999999E-2,9.5100000000000004E-2,7.46E-2,7.46E-2,0.1759]
[1351,7.7499999999999999E-2,9.5100000000000004E-2,7.46E-2,7.46E-2,0.1759]
[1352,7.7499999999999999E-2,9.5100000000000004E-2,7.46E-2,7.46E-2,0.1759]
[1353,7.7499999999999999E-2,9.5100000000000004E-2,7.46E-2,7.46E-2,0.1759]
[1354,7.7499999999999999E-2,9.5100000000000004E-2,7.46E-2,7.46E-2,0.1759]
[1355,7.7499999999999999E-2,9.5100000000000004E-2,7.46E-2,7.46E-2,0.1759]
[1356,7.7499999999999999E-2,9.5100000000000004E-2,7.46E-2,7.46E-2,0.1759]
[1357,7.7499999999999999E-2,9.5100000000000004E-2,7.46E-2,7.46E-2,0.1759]
[1358,7.7499999999999999E-2,9.5100000000000004E-2,7.46E-2,7.46E-2,0.1759]
[1359,7.7499999999999999E-2,9.5100000000000004E-2,7.46E-2,7.46E-2,0.1759]
[1360,7.7499999999999999E-2,9.5100000000000004E-2,7.46E-2,7.46E-2,0.1759]
[1361,7.7499999999999999E-2,9.5100000000000004E-2,7.46E-2,7.46E-2,0.1759]
[1362,7.7499999999999999E-2,9.5100000000000004E-2,7.46E-2,7.46E-2,0.1759]
[1363,7.7499999999999999E-2,9.5100000000000004E-2,7.46E-2,7.46E-2,0.1759]
[1364,7.7499999999999999E-2,9.5100000000000004E-2,7.46E-2,7.46E-2,0.1759]
[1365,7.7499999999999999E-2,9.5100000000000004E-2,7.46E-2,7.46E-2,0.1759]
[1366,7.7499999999999999E-2,9.5100000000000004E-2,7.46E-2,7.46E-2,0.1759]
[1367,7.7499999999999999E-2,9.5100000000000004E-2,7.46E-2,7.46E-2,0.1759]
[1368,7.7499999999999999E-2,9.5100000000000004E-2,7.46E-2,7.46E-2,0.1759]
[1369,7.7499999999999999E-2,9.5100000000000004E-2,7.46E-2,7.46E-2,0.1759]
[1370,7.7499999999999999E-2,9.5100000000000004E-2,7.46E-2,7.46E-2,0.1759]
[1371,7.7499999999999999E-2,9.5100000000000004E-2,7.46E-2,7.46E-2,0.1759]
[1372,7.7499999999999999E-2,9.5100000000000004E-2,7.46E-2,7.46E-2,0.1759]
[1373,7.7499999999999999E-2,9.5100000000000004E-2,7.46E-2,7.46E-2,0.1759]
[1374,7.7499999999999999E-2,9.5100000000000004E-2,7.46E-2,7.46E-2,0.1759]
[1375,7.7499999999999999E-2,9.5100000000000004E-2,7.46E-2,7.46E-2,0.1759]
[1376,7.7499999999999999E-2,9.5100000000000004E-2,7.46E-2,7.46E-2,0.1759]
[1377,7.7499999999999999E-2,9.5100000000000004E-2,7.46E-2,7.46E-2,0.1759]
[1378,7.7499999999999999E-2,9.5100000000000004E-2,7.46E-2,7.46E-2,0.1759]
[1379,7.7499999999999999E-2,9.5100000000000004E-2,7.46E-2,7.46E-2,0.1759]
[1380,7.7499999999999999E-2,9.5100000000000004E-2,7.46E-2,7.46E-2,0.1759]
[1381,7.7499999999999999E-2,9.5100000000000004E-2,7.46E-2,7.46E-2,0.1759]
[1382,7.7499999999999999E-2,9.5100000000000004E-2,7.46E-2,7.46E-2,0.1759]
[1383,7.7499999999999999E-2,9.5100000000000004E-2,7.46E-2,7.46E-2,0.1759]
[1384,7.7499999999999999E-2,9.5100000000000004E-2,7.46E-2,7.46E-2,0.1759]
[1385,7.7499999999999999E-2,9.5100000000000004E-2,7.46E-2,7.46E-2,0.1759]
[1386,7.7499999999999999E-2,9.5100000000000004E-2,7.46E-2,7.46E-2,0.1759]
[1387,7.7499999999999999E-2,9.5100000000000004E-2,7.46E-2,7.46E-2,0.1759]
[1388,7.7499999999999999E-2,9.5100000000000004E-2,7.46E-2,7.46E-2,0.1759]
[1389,7.7499999999999999E-2,9.5100000000000004E-2,7.46E-2,7.46E-2,0.1759]
[1390,7.7499999999999999E-2,9.5100000000000004E-2,7.46E-2,7.46E-2,0.1759]
[1391,7.7499999999999999E-2,9.5100000000000004E-2,7.46E-2,7.46E-2,0.1759]
[1392,7.7499999999999999E-2,9.5100000000000004E-2,7.46E-2,7.46E-2,0.1759]
[1393,7.7499999999999999E-2,9.5100000000000004E-2,7.46E-2,7.46E-2,0.1759]
[1394,7.7499999999999999E-2,9.5100000000000004E-2,7.46E-2,7.46E-2,0.1759]
[1395,7.7499999999999999E-2,9.5100000000000004E-2,7.46E-2,7.46E-2,0.1759]
[1396,7.7499999999999999E-2,9.5100000000000004E-2,7.46E-2,7.46E-2,0.1759]
[1397,7.7499999999999999E-2,9.5100000000000004E-2,7.46E-2,7.46E-2,0.1759]
[1398,7.7499999999999999E-2,9.5100000000000004E-2,7.46E-2,7.46E-2,0.1759]
[1399,7.7499999999999999E-2,9.5100000000000004E-2,7.46E-2,7.46E-2,0.1759]
[1400,7.7499999999999999E-2,9.5100000000000004E-2,7.46E-2,7.46E-2,0.1759]
[1401,7.7499999999999999E-2,9.5100000000000004E-2,7.46E-2,7.46E-2,0.1759]
[1402,7.7499999999999999E-2,9.5100000000000004E-2,7.46E-2,7.46E-2,0.1759]
[1403,7.7499999999999999E-2,9.5100000000000004E-2,7.46E-2,7.46E-2,0.1759]
[1404,7.7499999999999999E-2,9.5100000000000004E-2,7.46E-2,7.46E-2,0.1759]
[1405,7.7499999999999999E-2,9.5100000000000004E-2,7.46E-2,7.46E-2,0.1759]
[1406,7.7499999999999999E-2,9.5100000000000004E-2,7.46E-2,7.46E-2,0.1759]
[1407,7.7499999999999999E-2,9.5100000000000004E-2,7.46E-2,7.46E-2,0.1759]
[1408,7.7499999999999999E-2,9.5100000000000004E-2,7.46E-2,7.46E-2,0.1759]
[1409,7.7499999999999999E-2,9.5100000000000004E-2,7.46E-2,7.46E-2,0.1759]
[1410,7.7499999999999999E-2,9.5100000000000004E-2,7.46E-2,7.46E-2,0.1759]
[1411,7.7499999999999999E-2,9.5100000000000004E-2,7.46E-2,7.46E-2,0.1759]
[1412,7.7499999999999999E-2,9.5100000000000004E-2,7.46E-2,7.46E-2,0.1759]
[1413,7.7499999999999999E-2,9.5100000000000004E-2,7.46E-2,7.46E-2,0.1759]
[1414,7.7499999999999999E-2,9.5100000000000004E-2,7.46E-2,7.46E-2,0.1759]
[1415,7.7499999999999999E-2,9.5100000000000004E-2,7.46E-2,7.46E-2,0.1759]
[1416,7.7499999999999999E-2,9.5100000000000004E-2,7.46E-2,7.46E-2,0.1759]
[1417,7.7499999999999999E-2,9.5100000000000004E-2,7.46E-2,7.46E-2,0.1759]
[1418,7.7499999999999999E-2,9.5100000000000004E-2,7.46E-2,7.46E-2,0.1759]
[1419,7.7499999999999999E-2,9.5100000000000004E-2,7.46E-2,7.46E-2,0.1759]
[1420,7.7499999999999999E-2,9.5100000000000004E-2,7.46E-2,7.46E-2,0.1759]
[1421,7.7499999999999999E-2,9.5100000000000004E-2,7.46E-2,7.46E-2,0.1759]
[1422,7.7499999999999999E-2,9.5100000000000004E-2,7.46E-2,7.46E-2,0.1759]
[1423,7.7499999999999999E-2,9.5100000000000004E-2,7.46E-2,7.46E-2,0.1759]
[1424,7.7499999999999999E-2,9.5100000000000004E-2,7.46E-2,7.46E-2,0.1759]
[1425,7.7499999999999999E-2,9.5100000000000004E-2,7.46E-2,7.46E-2,0.1759]
[1426,7.7499999999999999E-2,9.5100000000000004E-2,7.46E-2,7.46E-2,0.1759]
[1427,7.7499999999999999E-2,9.5100000000000004E-2,7.46E-2,7.46E-2,0.1759]
[1428,7.7499999999999999E-2,9.5100000000000004E-2,7.46E-2,7.46E-2,0.1759]
[1429,7.7499999999999999E-2,9.5100000000000004E-2,7.46E-2,7.46E-2,0.1759]
[1430,7.7499999999999999E-2,9.5100000000000004E-2,7.46E-2,7.46E-2,0.1759]
[1431,7.7499999999999999E-2,9.5100000000000004E-2,7.46E-2,7.46E-2,0.1759]
[1432,7.7499999999999999E-2,9.5100000000000004E-2,7.46E-2,7.46E-2,0.1759]
[1433,7.7499999999999999E-2,9.5100000000000004E-2,7.46E-2,7.46E-2,0.1759]
[1434,7.7499999999999999E-2,9.5100000000000004E-2,7.46E-2,7.46E-2,0.1759]
[1435,7.7499999999999999E-2,9.5100000000000004E-2,7.46E-2,7.46E-2,0.1759]
[1436,7.7499999999999999E-2,9.5100000000000004E-2,7.46E-2,7.46E-2,0.1759]
[1437,7.7499999999999999E-2,9.5100000000000004E-2,7.46E-2,7.46E-2,0.1759]
[1438,7.7499999999999999E-2,9.5100000000000004E-2,7.46E-2,7.46E-2,0.1759]
[1439,7.7499999999999999E-2,9.5100000000000004E-2,7.46E-2,7.46E-2,0.1759]
[1440,7.7499999999999999E-2,9.5100000000000004E-2,7.46E-2,7.46E-2,0.1759]
[1441,7.7499999999999999E-2,9.5100000000000004E-2,7.46E-2,7.46E-2,0.1759]
[1442,7.7499999999999999E-2,9.5100000000000004E-2,7.46E-2,7.46E-2,0.1759]
[1443,7.7499999999999999E-2,9.5100000000000004E-2,7.46E-2,7.46E-2,0.1759]
[1444,7.7499999999999999E-2,9.5100000000000004E-2,7.46E-2,7.46E-2,0.1759]
[1445,7.7499999999999999E-2,9.5100000000000004E-2,7.46E-2,7.46E-2,0.1759]
[1446,7.7499999999999999E-2,9.5100000000000004E-2,7.46E-2,7.46E-2,0.1759]
[1447,7.7499999999999999E-2,9.5100000000000004E-2,7.46E-2,7.46E-2,0.1759]
[1448,7.7499999999999999E-2,9.5100000000000004E-2,7.46E-2,7.46E-2,0.1759]
[1449,7.7499999999999999E-2,9.5100000000000004E-2,7.46E-2,7.46E-2,0.1759]
[1450,7.7499999999999999E-2,9.5100000000000004E-2,7.46E-2,7.46E-2,0.1759]
[1451,7.7499999999999999E-2,9.5100000000000004E-2,7.46E-2,7.46E-2,0.1759]
[1452,7.7499999999999999E-2,9.5100000000000004E-2,7.46E-2,7.46E-2,0.1759]
[1453,7.7499999999999999E-2,9.5100000000000004E-2,7.46E-2,7.46E-2,0.1759]
[1454,7.7499999999999999E-2,9.5100000000000004E-2,7.46E-2,7.46E-2,0.1759]
[1455,7.7499999999999999E-2,9.5100000000000004E-2,7.46E-2,7.46E-2,0.1759]
[1456,7.7499999999999999E-2,9.5100000000000004E-2,7.46E-2,7.46E-2,0.1759]
[1457,7.7499999999999999E-2,9.5100000000000004E-2,7.46E-2,7.46E-2,0.1759]
[1458,7.7499999999999999E-2,9.5100000000000004E-2,7.46E-2,7.46E-2,0.1759]
[1459,7.7499999999999999E-2,9.5100000000000004E-2,7.46E-2,7.46E-2,0.1759]
[1460,7.7499999999999999E-2,9.5100000000000004E-2,7.46E-2,7.46E-2,0.1759]
[1461,7.7499999999999999E-2,9.5100000000000004E-2,7.46E-2,7.46E-2,0.1759]
[1462,7.7499999999999999E-2,9.5100000000000004E-2,7.46E-2,7.46E-2,0.1759]
[1463,7.7499999999999999E-2,9.5100000000000004E-2,7.46E-2,7.46E-2,0.1759]
[1464,7.7499999999999999E-2,9.5100000000000004E-2,7.46E-2,7.46E-2,0.1759]
[1465,7.7499999999999999E-2,9.5100000000000004E-2,7.46E-2,7.46E-2,0.1759]
[1466,7.7499999999999999E-2,9.5100000000000004E-2,7.46E-2,7.46E-2,0.1759]
[1467,7.7499999999999999E-2,9.5100000000000004E-2,7.46E-2,7.46E-2,0.1759]
[1468,7.7499999999999999E-2,9.5100000000000004E-2,7.46E-2,7.46E-2,0.1759]
[1469,7.7499999999999999E-2,9.5100000000000004E-2,7.46E-2,7.46E-2,0.1759]
[1470,7.7499999999999999E-2,9.5100000000000004E-2,7.46E-2,7.46E-2,0.1759]
[1471,7.7499999999999999E-2,9.5100000000000004E-2,7.46E-2,7.46E-2,0.1759]
[1472,7.7499999999999999E-2,9.5100000000000004E-2,7.46E-2,7.46E-2,0.1759]
[1473,7.7499999999999999E-2,9.5100000000000004E-2,7.46E-2,7.46E-2,0.1759]
[1474,7.7499999999999999E-2,9.5100000000000004E-2,7.46E-2,7.46E-2,0.1759]
[1475,7.7499999999999999E-2,9.5100000000000004E-2,7.46E-2,7.46E-2,0.1759]
[1476,7.7499999999999999E-2,9.5100000000000004E-2,7.46E-2,7.46E-2,0.1759]
[1477,7.7499999999999999E-2,9.5100000000000004E-2,7.46E-2,7.46E-2,0.1759]
[1478,7.7499999999999999E-2,9.5100000000000004E-2,7.46E-2,7.46E-2,0.1759]
[1479,7.7499999999999999E-2,9.5100000000000004E-2,7.46E-2,7.46E-2,0.1759]
[1480,7.7499999999999999E-2,9.5100000000000004E-2,7.46E-2,7.46E-2,0.1759]
[1481,7.7499999999999999E-2,9.5100000000000004E-2,7.46E-2,7.46E-2,0.1759]
[1482,7.7499999999999999E-2,9.5100000000000004E-2,7.46E-2,7.46E-2,0.1759]
[1483,7.7499999999999999E-2,9.5100000000000004E-2,7.46E-2,7.46E-2,0.1759]
[1484,7.7499999999999999E-2,9.5100000000000004E-2,7.46E-2,7.46E-2,0.1759]
[1485,7.7499999999999999E-2,9.5100000000000004E-2,7.46E-2,7.46E-2,0.1759]
[1486,7.7499999999999999E-2,9.5100000000000004E-2,7.46E-2,7.46E-2,0.1759]
[1487,7.7499999999999999E-2,9.5100000000000004E-2,7.46E-2,7.46E-2,0.1759]
[1488,7.7499999999999999E-2,9.5100000000000004E-2,7.46E-2,7.46E-2,0.1759]
[1489,7.7499999999999999E-2,9.5100000000000004E-2,7.46E-2,7.46E-2,0.1759]
[1490,7.7499999999999999E-2,9.5100000000000004E-2,7.46E-2,7.46E-2,0.1759]
[1491,7.7499999999999999E-2,9.5100000000000004E-2,7.46E-2,7.46E-2,0.1759]
[1492,7.7499999999999999E-2,9.5100000000000004E-2,7.46E-2,7.46E-2,0.1759]
[1493,7.7499999999999999E-2,9.5100000000000004E-2,7.46E-2,7.46E-2,0.1759]
[1494,7.7499999999999999E-2,9.5100000000000004E-2,7.46E-2,7.46E-2,0.1759]
[1495,7.7499999999999999E-2,9.5100000000000004E-2,7.46E-2,7.46E-2,0.1759]
[1496,7.7499999999999999E-2,9.5100000000000004E-2,7.46E-2,7.46E-2,0.1759]
[1497,7.7499999999999999E-2,9.5100000000000004E-2,7.46E-2,7.46E-2,0.1759]
[1498,7.7499999999999999E-2,9.5100000000000004E-2,7.46E-2,7.46E-2,0.1759]
[1499,7.7499999999999999E-2,9.5100000000000004E-2,7.46E-2,7.46E-2,0.1759]
[1500,7.7499999999999999E-2,9.5100000000000004E-2,7.46E-2,7.46E-2,0.1759]
[1501,7.7499999999999999E-2,9.5100000000000004E-2,7.46E-2,7.46E-2,0.1759]
[1502,7.7499999999999999E-2,9.5100000000000004E-2,7.46E-2,7.46E-2,0.1759]
[1503,7.7499999999999999E-2,9.5100000000000004E-2,7.46E-2,7.46E-2,0.1759]
[1504,7.7499999999999999E-2,9.5100000000000004E-2,7.46E-2,7.46E-2,0.1759]
[1505,7.7499999999999999E-2,9.5100000000000004E-2,7.46E-2,7.46E-2,0.1759]
[1506,7.7499999999999999E-2,9.5100000000000004E-2,7.46E-2,7.46E-2,0.1759]
[1507,7.7499999999999999E-2,9.5100000000000004E-2,7.46E-2,7.46E-2,0.1759]
[1508,7.7499999999999999E-2,9.5100000000000004E-2,7.46E-2,7.46E-2,0.1759]
[1509,7.7499999999999999E-2,9.5100000000000004E-2,7.46E-2,7.46E-2,0.1759]
[1510,7.7499999999999999E-2,9.5100000000000004E-2,7.46E-2,7.46E-2,0.1759]
[1511,7.7499999999999999E-2,9.5100000000000004E-2,7.46E-2,7.46E-2,0.1759]
[1512,7.7499999999999999E-2,9.5100000000000004E-2,7.46E-2,7.46E-2,0.1759]
[1513,7.7499999999999999E-2,9.5100000000000004E-2,7.46E-2,7.46E-2,0.1759]
[1514,7.7499999999999999E-2,9.5100000000000004E-2,7.46E-2,7.46E-2,0.1759]
[1515,7.7499999999999999E-2,9.5100000000000004E-2,7.46E-2,7.46E-2,0.1759]
[1516,7.7499999999999999E-2,9.5100000000000004E-2,7.46E-2,7.46E-2,0.1759]
[1517,7.7499999999999999E-2,9.5100000000000004E-2,7.46E-2,7.46E-2,0.1759]
[1518,7.7499999999999999E-2,9.5100000000000004E-2,7.46E-2,7.46E-2,0.1759]
[1519,7.7499999999999999E-2,9.5100000000000004E-2,7.46E-2,7.46E-2,0.1759]
[1520,7.7499999999999999E-2,9.5100000000000004E-2,7.46E-2,7.46E-2,0.1759]
[1521,7.7499999999999999E-2,9.5100000000000004E-2,7.46E-2,7.46E-2,0.1759]
[1522,7.7499999999999999E-2,9.5100000000000004E-2,7.46E-2,7.46E-2,0.1759]
[1523,7.7499999999999999E-2,9.5100000000000004E-2,7.46E-2,7.46E-2,0.1759]
[1524,7.7499999999999999E-2,9.5100000000000004E-2,7.46E-2,7.46E-2,0.1759]
[1525,7.7499999999999999E-2,9.5100000000000004E-2,7.46E-2,7.46E-2,0.1759]
[1526,7.7499999999999999E-2,9.5100000000000004E-2,7.46E-2,7.46E-2,0.1759]
[1527,7.7499999999999999E-2,9.5100000000000004E-2,7.46E-2,7.46E-2,0.1759]
[1528,7.7499999999999999E-2,9.5100000000000004E-2,7.46E-2,7.46E-2,0.1759]
[1529,7.7499999999999999E-2,9.5100000000000004E-2,7.46E-2,7.46E-2,0.1759]
[1530,7.7499999999999999E-2,9.5100000000000004E-2,7.46E-2,7.46E-2,0.1759]
[1531,7.7499999999999999E-2,9.5100000000000004E-2,7.46E-2,7.46E-2,0.1759]
[1532,7.7499999999999999E-2,9.5100000000000004E-2,7.46E-2,7.46E-2,0.1759]
[1533,7.7499999999999999E-2,9.5100000000000004E-2,7.46E-2,7.46E-2,0.1759]
[1534,7.7499999999999999E-2,9.5100000000000004E-2,7.46E-2,7.46E-2,0.1759]
[1535,7.7499999999999999E-2,9.5100000000000004E-2,7.46E-2,7.46E-2,0.1759]
[1536,7.7499999999999999E-2,9.5100000000000004E-2,7.46E-2,7.46E-2,0.1759]
[1537,7.7499999999999999E-2,9.5100000000000004E-2,7.46E-2,7.46E-2,0.1759]
[1538,7.7499999999999999E-2,9.5100000000000004E-2,7.46E-2,7.46E-2,0.1759]
[1539,7.7499999999999999E-2,9.5100000000000004E-2,7.46E-2,7.46E-2,0.1759]
[1540,7.7499999999999999E-2,9.5100000000000004E-2,7.46E-2,7.46E-2,0.1759]
[1541,7.7499999999999999E-2,9.5100000000000004E-2,7.46E-2,7.46E-2,0.1759]
[1542,7.7499999999999999E-2,9.5100000000000004E-2,7.46E-2,7.46E-2,0.1759]
[1543,7.7499999999999999E-2,9.5100000000000004E-2,7.46E-2,7.46E-2,0.1759]
[1544,7.7499999999999999E-2,9.5100000000000004E-2,7.46E-2,7.46E-2,0.1759]
[1545,7.7499999999999999E-2,9.5100000000000004E-2,7.46E-2,7.46E-2,0.1759]
[1546,7.7499999999999999E-2,9.5100000000000004E-2,7.46E-2,7.46E-2,0.1759]
[1547,7.7499999999999999E-2,9.5100000000000004E-2,7.46E-2,7.46E-2,0.1759]
[1548,7.7499999999999999E-2,9.5100000000000004E-2,7.46E-2,7.46E-2,0.1759]
[1549,7.7499999999999999E-2,9.5100000000000004E-2,7.46E-2,7.46E-2,0.1759]
[1550,7.7499999999999999E-2,9.5100000000000004E-2,7.46E-2,7.46E-2,0.1759]
[1551,7.7499999999999999E-2,9.5100000000000004E-2,7.46E-2,7.46E-2,0.1759]
[1552,7.7499999999999999E-2,9.5100000000000004E-2,7.46E-2,7.46E-2,0.1759]
[1553,7.7499999999999999E-2,9.5100000000000004E-2,7.46E-2,7.46E-2,0.1759]
[1554,7.7499999999999999E-2,9.5100000000000004E-2,7.46E-2,7.46E-2,0.1759]
[1555,7.7499999999999999E-2,9.5100000000000004E-2,7.46E-2,7.46E-2,0.1759]
[1556,7.7499999999999999E-2,9.5100000000000004E-2,7.46E-2,7.46E-2,0.1759]
[1557,7.7499999999999999E-2,9.5100000000000004E-2,7.46E-2,7.46E-2,0.1759]
[1558,7.7499999999999999E-2,9.5100000000000004E-2,7.46E-2,7.46E-2,0.1759]
[1559,7.7499999999999999E-2,9.5100000000000004E-2,7.46E-2,7.46E-2,0.1759]
[1560,7.7499999999999999E-2,9.5100000000000004E-2,7.46E-2,7.46E-2,0.1759]
[1561,7.7499999999999999E-2,9.5100000000000004E-2,7.46E-2,7.46E-2,0.1759]
[1562,7.7499999999999999E-2,9.5100000000000004E-2,7.46E-2,7.46E-2,0.1759]
[1563,7.7499999999999999E-2,9.5100000000000004E-2,7.46E-2,7.46E-2,0.1759]
[1564,7.7499999999999999E-2,9.5100000000000004E-2,7.46E-2,7.46E-2,0.1759]
[1565,7.7499999999999999E-2,9.5100000000000004E-2,7.46E-2,7.46E-2,0.1759]
[1566,7.7499999999999999E-2,9.5100000000000004E-2,7.46E-2,7.46E-2,0.1759]
[1567,7.7499999999999999E-2,9.5100000000000004E-2,7.46E-2,7.46E-2,0.1759]
[1568,7.7499999999999999E-2,9.5100000000000004E-2,7.46E-2,7.46E-2,0.1759]
[1569,7.7499999999999999E-2,9.5100000000000004E-2,7.46E-2,7.46E-2,0.1759]
[1570,7.7499999999999999E-2,9.5100000000000004E-2,7.46E-2,7.46E-2,0.1759]
[1571,7.7499999999999999E-2,9.5100000000000004E-2,7.46E-2,7.46E-2,0.1759]
[1572,7.7499999999999999E-2,9.5100000000000004E-2,7.46E-2,7.46E-2,0.1759]
[1573,7.7499999999999999E-2,9.5100000000000004E-2,7.46E-2,7.46E-2,0.1759]
[1574,7.7499999999999999E-2,9.5100000000000004E-2,7.46E-2,7.46E-2,0.1759]
[1575,7.7499999999999999E-2,9.5100000000000004E-2,7.46E-2,7.46E-2,0.1759]
[1576,7.7499999999999999E-2,9.5100000000000004E-2,7.46E-2,7.46E-2,0.1759]
[1577,7.7499999999999999E-2,9.5100000000000004E-2,7.46E-2,7.46E-2,0.1759]
[1578,7.7499999999999999E-2,9.5100000000000004E-2,7.46E-2,7.46E-2,0.1759]
[1579,7.7499999999999999E-2,9.5100000000000004E-2,7.46E-2,7.46E-2,0.1759]
[1580,7.7499999999999999E-2,9.5100000000000004E-2,7.46E-2,7.46E-2,0.1759]
[1581,7.7499999999999999E-2,9.5100000000000004E-2,7.46E-2,7.46E-2,0.1759]
[1582,7.7499999999999999E-2,9.5100000000000004E-2,7.46E-2,7.46E-2,0.1759]
[1583,7.7499999999999999E-2,9.5100000000000004E-2,7.46E-2,7.46E-2,0.1759]
[1584,7.7499999999999999E-2,9.5100000000000004E-2,7.46E-2,7.46E-2,0.1759]
[1585,7.7499999999999999E-2,9.5100000000000004E-2,7.46E-2,7.46E-2,0.1759]
[1586,7.7499999999999999E-2,9.5100000000000004E-2,7.46E-2,7.46E-2,0.1759]
[1587,7.7499999999999999E-2,9.5100000000000004E-2,7.46E-2,7.46E-2,0.1759]
[1588,7.7499999999999999E-2,9.5100000000000004E-2,7.46E-2,7.46E-2,0.1759]
[1589,7.7499999999999999E-2,9.5100000000000004E-2,7.46E-2,7.46E-2,0.1759]
[1590,7.7499999999999999E-2,9.5100000000000004E-2,7.46E-2,7.46E-2,0.1759]
[1591,7.7499999999999999E-2,9.5100000000000004E-2,7.46E-2,7.46E-2,0.1759]
[1592,7.7499999999999999E-2,9.5100000000000004E-2,7.46E-2,7.46E-2,0.1759]
[1593,7.7499999999999999E-2,9.5100000000000004E-2,7.46E-2,7.46E-2,0.1759]
[1594,7.7499999999999999E-2,9.5100000000000004E-2,7.46E-2,7.46E-2,0.1759]
[1595,7.7499999999999999E-2,9.5100000000000004E-2,7.46E-2,7.46E-2,0.1759]
[1596,7.7499999999999999E-2,9.5100000000000004E-2,7.46E-2,7.46E-2,0.1759]
[1597,7.7499999999999999E-2,9.5100000000000004E-2,7.46E-2,7.46E-2,0.1759]
[1598,7.7499999999999999E-2,9.5100000000000004E-2,7.46E-2,7.46E-2,0.1759]
[1599,7.7499999999999999E-2,9.5100000000000004E-2,7.46E-2,7.46E-2,0.1759]
[1600,7.7499999999999999E-2,9.5100000000000004E-2,7.46E-2,7.46E-2,0.1759]
[1601,7.7499999999999999E-2,9.5100000000000004E-2,7.46E-2,7.46E-2,0.1759]
[1602,7.7499999999999999E-2,9.5100000000000004E-2,7.46E-2,7.46E-2,0.1759]
[1603,7.7499999999999999E-2,9.5100000000000004E-2,7.46E-2,7.46E-2,0.1759]
[1604,7.7499999999999999E-2,9.5100000000000004E-2,7.46E-2,7.46E-2,0.1759]
[1605,7.7499999999999999E-2,9.5100000000000004E-2,7.46E-2,7.46E-2,0.1759]
[1606,7.7499999999999999E-2,9.5100000000000004E-2,7.46E-2,7.46E-2,0.1759]
[1607,7.7499999999999999E-2,9.5100000000000004E-2,7.46E-2,7.46E-2,0.1759]
[1608,7.7499999999999999E-2,9.5100000000000004E-2,7.46E-2,7.46E-2,0.1759]
[1609,7.7499999999999999E-2,9.5100000000000004E-2,7.46E-2,7.46E-2,0.1759]
[1610,7.7499999999999999E-2,9.5100000000000004E-2,7.46E-2,7.46E-2,0.1759]
[1611,7.7499999999999999E-2,9.5100000000000004E-2,7.46E-2,7.46E-2,0.1759]
[1612,7.7499999999999999E-2,9.5100000000000004E-2,7.46E-2,7.46E-2,0.1759]
[1613,7.7499999999999999E-2,9.5100000000000004E-2,7.46E-2,7.46E-2,0.1759]
[1614,7.7499999999999999E-2,9.5100000000000004E-2,7.46E-2,7.46E-2,0.1759]
[1615,7.7499999999999999E-2,9.5100000000000004E-2,7.46E-2,7.46E-2,0.1759]
[1616,7.7499999999999999E-2,9.5100000000000004E-2,7.46E-2,7.46E-2,0.1759]
[1617,7.7499999999999999E-2,9.5100000000000004E-2,7.46E-2,7.46E-2,0.1759]
[1618,7.7499999999999999E-2,9.5100000000000004E-2,7.46E-2,7.46E-2,0.1759]
[1619,7.7499999999999999E-2,9.5100000000000004E-2,7.46E-2,7.46E-2,0.1759]
[1620,7.7499999999999999E-2,9.5100000000000004E-2,7.46E-2,7.46E-2,0.1759]
[1621,7.7499999999999999E-2,9.5100000000000004E-2,7.46E-2,7.46E-2,0.1759]
[1622,7.7499999999999999E-2,9.5100000000000004E-2,7.46E-2,7.46E-2,0.1759]
[1623,7.7499999999999999E-2,9.5100000000000004E-2,7.46E-2,7.46E-2,0.1759]
[1624,7.7499999999999999E-2,9.5100000000000004E-2,7.46E-2,7.46E-2,0.1759]
[1625,7.7499999999999999E-2,9.5100000000000004E-2,7.46E-2,7.46E-2,0.1759]
[1626,7.7499999999999999E-2,9.5100000000000004E-2,7.46E-2,7.46E-2,0.1759]
[1627,7.7499999999999999E-2,9.5100000000000004E-2,7.46E-2,7.46E-2,0.1759]
[1628,7.7499999999999999E-2,9.5100000000000004E-2,7.46E-2,7.46E-2,0.1759]
[1629,7.7499999999999999E-2,9.5100000000000004E-2,7.46E-2,7.46E-2,0.1759]
[1630,7.7499999999999999E-2,9.5100000000000004E-2,7.46E-2,7.46E-2,0.1759]
[1631,7.7499999999999999E-2,9.5100000000000004E-2,7.46E-2,7.46E-2,0.1759]
[1632,7.7499999999999999E-2,9.5100000000000004E-2,7.46E-2,7.46E-2,0.1759]
[1633,7.7499999999999999E-2,9.5100000000000004E-2,7.46E-2,7.46E-2,0.1759]
[1634,7.7499999999999999E-2,9.5100000000000004E-2,7.46E-2,7.46E-2,0.1759]
[1635,7.7499999999999999E-2,9.5100000000000004E-2,7.46E-2,7.46E-2,0.1759]
[1636,7.7499999999999999E-2,9.5100000000000004E-2,7.46E-2,7.46E-2,0.1759]
[1637,7.7499999999999999E-2,9.5100000000000004E-2,7.46E-2,7.46E-2,0.1759]
[1638,7.7499999999999999E-2,9.5100000000000004E-2,7.46E-2,7.46E-2,0.1759]
[1639,7.7499999999999999E-2,9.5100000000000004E-2,7.46E-2,7.46E-2,0.1759]
[1640,7.7499999999999999E-2,9.5100000000000004E-2,7.46E-2,7.46E-2,0.1759]
[1641,7.7499999999999999E-2,9.5100000000000004E-2,7.46E-2,7.46E-2,0.1759]
[1642,7.7499999999999999E-2,9.5100000000000004E-2,7.46E-2,7.46E-2,0.1759]
[1643,7.7499999999999999E-2,9.5100000000000004E-2,7.46E-2,7.46E-2,0.1759]
[1644,7.7499999999999999E-2,9.5100000000000004E-2,7.46E-2,7.46E-2,0.1759]
[1645,7.7499999999999999E-2,9.5100000000000004E-2,7.46E-2,7.46E-2,0.1759]
[1646,7.7499999999999999E-2,9.5100000000000004E-2,7.46E-2,7.46E-2,0.1759]
[1647,7.7499999999999999E-2,9.5100000000000004E-2,7.46E-2,7.46E-2,0.1759]
[1648,7.7499999999999999E-2,9.5100000000000004E-2,7.46E-2,7.46E-2,0.1759]
[1649,7.7499999999999999E-2,9.5100000000000004E-2,7.46E-2,7.46E-2,0.1759]
[1650,7.7499999999999999E-2,9.5100000000000004E-2,7.46E-2,7.46E-2,0.1759]
[1651,7.7499999999999999E-2,9.5100000000000004E-2,7.46E-2,7.46E-2,0.1759]
[1652,7.7499999999999999E-2,9.5100000000000004E-2,7.46E-2,7.46E-2,0.1759]
[1653,7.7499999999999999E-2,9.5100000000000004E-2,7.46E-2,7.46E-2,0.1759]
[1654,7.7499999999999999E-2,9.5100000000000004E-2,7.46E-2,7.46E-2,0.1759]
[1655,7.7499999999999999E-2,9.5100000000000004E-2,7.46E-2,7.46E-2,0.1759]
[1656,7.7499999999999999E-2,9.5100000000000004E-2,7.46E-2,7.46E-2,0.1759]
[1657,7.7499999999999999E-2,9.5100000000000004E-2,7.46E-2,7.46E-2,0.1759]
[1658,7.7499999999999999E-2,9.5100000000000004E-2,7.46E-2,7.46E-2,0.1759]
[1659,7.7499999999999999E-2,9.5100000000000004E-2,7.46E-2,7.46E-2,0.1759]
[1660,7.7499999999999999E-2,9.5100000000000004E-2,7.46E-2,7.46E-2,0.1759]
[1661,7.7499999999999999E-2,9.5100000000000004E-2,7.46E-2,7.46E-2,0.1759]
[1662,7.7499999999999999E-2,9.5100000000000004E-2,7.46E-2,7.46E-2,0.1759]
[1663,7.7499999999999999E-2,9.5100000000000004E-2,7.46E-2,7.46E-2,0.1759]
[1664,7.7499999999999999E-2,9.5100000000000004E-2,7.46E-2,7.46E-2,0.1759]
[1665,7.7499999999999999E-2,9.5100000000000004E-2,7.46E-2,7.46E-2,0.1759]
[1666,7.7499999999999999E-2,9.5100000000000004E-2,7.46E-2,7.46E-2,0.1759]
[1667,7.7499999999999999E-2,9.5100000000000004E-2,7.46E-2,7.46E-2,0.1759]
[1668,7.7499999999999999E-2,9.5100000000000004E-2,7.46E-2,7.46E-2,0.1759]
[1669,7.7499999999999999E-2,9.5100000000000004E-2,7.46E-2,7.46E-2,0.1759]
[1670,7.7499999999999999E-2,9.5100000000000004E-2,7.46E-2,7.46E-2,0.1759]
[1671,7.7499999999999999E-2,9.5100000000000004E-2,7.46E-2,7.46E-2,0.1759]
[1672,7.7499999999999999E-2,9.5100000000000004E-2,7.46E-2,7.46E-2,0.1759]
[1673,7.7499999999999999E-2,9.5100000000000004E-2,7.46E-2,7.46E-2,0.1759]
[1674,7.7499999999999999E-2,9.5100000000000004E-2,7.46E-2,7.46E-2,0.1759]
[1675,7.7499999999999999E-2,9.5100000000000004E-2,7.46E-2,7.46E-2,0.1759]
[1676,7.7499999999999999E-2,9.5100000000000004E-2,7.46E-2,7.46E-2,0.1759]
[1677,7.7499999999999999E-2,9.5100000000000004E-2,7.46E-2,7.46E-2,0.1759]
[1678,7.7499999999999999E-2,9.5100000000000004E-2,7.46E-2,7.46E-2,0.1759]
[1679,7.7499999999999999E-2,9.5100000000000004E-2,7.46E-2,7.46E-2,0.1759]
[1680,7.7499999999999999E-2,9.5100000000000004E-2,7.46E-2,7.46E-2,0.1759]
[1681,7.7499999999999999E-2,9.5100000000000004E-2,7.46E-2,7.46E-2,0.1759]
[1682,7.7499999999999999E-2,9.5100000000000004E-2,7.46E-2,7.46E-2,0.1759]
[1683,7.7499999999999999E-2,9.5100000000000004E-2,7.46E-2,7.46E-2,0.1759]
[1684,7.7499999999999999E-2,9.5100000000000004E-2,7.46E-2,7.46E-2,0.1759]
[1685,7.7499999999999999E-2,9.5100000000000004E-2,7.46E-2,7.46E-2,0.1759]
[1686,7.7499999999999999E-2,9.5100000000000004E-2,7.46E-2,7.46E-2,0.1759]
[1687,7.7499999999999999E-2,9.5100000000000004E-2,7.46E-2,7.46E-2,0.1759]
[1688,7.7499999999999999E-2,9.5100000000000004E-2,7.46E-2,7.46E-2,0.1759]
[1689,7.7499999999999999E-2,9.5100000000000004E-2,7.46E-2,7.46E-2,0.1759]
[1690,7.7499999999999999E-2,9.5100000000000004E-2,7.46E-2,7.46E-2,0.1759]
[1691,7.7499999999999999E-2,9.5100000000000004E-2,7.46E-2,7.46E-2,0.1759]
[1692,7.7499999999999999E-2,9.5100000000000004E-2,7.46E-2,7.46E-2,0.1759]
[1693,7.7499999999999999E-2,9.5100000000000004E-2,7.46E-2,7.46E-2,0.1759]
[1694,7.7499999999999999E-2,9.5100000000000004E-2,7.46E-2,7.46E-2,0.1759]
[1695,7.7499999999999999E-2,9.5100000000000004E-2,7.46E-2,7.46E-2,0.1759]
[1696,7.7499999999999999E-2,9.5100000000000004E-2,7.46E-2,7.46E-2,0.1759]
[1697,7.7499999999999999E-2,9.5100000000000004E-2,7.46E-2,7.46E-2,0.1759]
[1698,7.7499999999999999E-2,9.5100000000000004E-2,7.46E-2,7.46E-2,0.1759]
[1699,7.7499999999999999E-2,9.5100000000000004E-2,7.46E-2,7.46E-2,0.1759]
[1700,7.7499999999999999E-2,9.5100000000000004E-2,7.46E-2,7.46E-2,0.1759]
[1701,7.7499999999999999E-2,9.5100000000000004E-2,7.46E-2,7.46E-2,0.1759]
[1702,7.7499999999999999E-2,9.5100000000000004E-2,7.46E-2,7.46E-2,0.1759]
[1703,7.7499999999999999E-2,9.5100000000000004E-2,7.46E-2,7.46E-2,0.1759]
[1704,7.7499999999999999E-2,9.5100000000000004E-2,7.46E-2,7.46E-2,0.1759]
[1705,7.7499999999999999E-2,9.5100000000000004E-2,7.46E-2,7.46E-2,0.1759]
[1706,7.7499999999999999E-2,9.5100000000000004E-2,7.46E-2,7.46E-2,0.1759]
[1707,7.7499999999999999E-2,9.5100000000000004E-2,7.46E-2,7.46E-2,0.1759]
[1708,7.7499999999999999E-2,9.5100000000000004E-2,7.46E-2,7.46E-2,0.1759]
[1709,7.7499999999999999E-2,9.5100000000000004E-2,7.46E-2,7.46E-2,0.1759]
[1710,7.7499999999999999E-2,9.5100000000000004E-2,7.46E-2,7.46E-2,0.1759]
[1711,7.7499999999999999E-2,9.5100000000000004E-2,7.46E-2,7.46E-2,0.1759]
[1712,7.7499999999999999E-2,9.5100000000000004E-2,7.46E-2,7.46E-2,0.1759]
[1713,7.7499999999999999E-2,9.5100000000000004E-2,7.46E-2,7.46E-2,0.1759]
[1714,7.7499999999999999E-2,9.5100000000000004E-2,7.46E-2,7.46E-2,0.1759]
[1715,7.7499999999999999E-2,9.5100000000000004E-2,7.46E-2,7.46E-2,0.1759]
[1716,7.7499999999999999E-2,9.5100000000000004E-2,7.46E-2,7.46E-2,0.1759]
[1717,7.7499999999999999E-2,9.5100000000000004E-2,7.46E-2,7.46E-2,0.1759]
[1718,7.7499999999999999E-2,9.5100000000000004E-2,7.46E-2,7.46E-2,0.1759]
[1719,7.7499999999999999E-2,9.5100000000000004E-2,7.46E-2,7.46E-2,0.1759]
[1720,7.7499999999999999E-2,9.5100000000000004E-2,7.46E-2,7.46E-2,0.1759]
[1721,7.7499999999999999E-2,9.5100000000000004E-2,7.46E-2,7.46E-2,0.1759]
[1722,7.7499999999999999E-2,9.5100000000000004E-2,7.46E-2,7.46E-2,0.1759]
[1723,7.7499999999999999E-2,9.5100000000000004E-2,7.46E-2,7.46E-2,0.1759]
[1724,7.7499999999999999E-2,9.5100000000000004E-2,7.46E-2,7.46E-2,0.1759]
[1725,7.7499999999999999E-2,9.5100000000000004E-2,7.46E-2,7.46E-2,0.1759]
[1726,7.7499999999999999E-2,9.5100000000000004E-2,7.46E-2,7.46E-2,0.1759]
[1727,7.7499999999999999E-2,9.5100000000000004E-2,7.46E-2,7.46E-2,0.1759]
[1728,7.7499999999999999E-2,9.5100000000000004E-2,7.46E-2,7.46E-2,0.1759]
[1729,7.7499999999999999E-2,9.5100000000000004E-2,7.46E-2,7.46E-2,0.1759]
[1730,7.7499999999999999E-2,9.5100000000000004E-2,7.46E-2,7.46E-2,0.1759]
[1731,7.7499999999999999E-2,9.5100000000000004E-2,7.46E-2,7.46E-2,0.1759]
[1732,7.7499999999999999E-2,9.5100000000000004E-2,7.46E-2,7.46E-2,0.1759]
[1733,7.7499999999999999E-2,9.5100000000000004E-2,7.46E-2,7.46E-2,0.1759]
[1734,7.7499999999999999E-2,9.5100000000000004E-2,7.46E-2,7.46E-2,0.1759]
[1735,7.7499999999999999E-2,9.5100000000000004E-2,7.46E-2,7.46E-2,0.1759]
[1736,7.7499999999999999E-2,9.5100000000000004E-2,7.46E-2,7.46E-2,0.1759]
[1737,7.7499999999999999E-2,9.5100000000000004E-2,7.46E-2,7.46E-2,0.1759]
[1738,7.7499999999999999E-2,9.5100000000000004E-2,7.46E-2,7.46E-2,0.1759]
[1739,7.7499999999999999E-2,9.5100000000000004E-2,7.46E-2,7.46E-2,0.1759]
[1740,7.7499999999999999E-2,9.5100000000000004E-2,7.46E-2,7.46E-2,0.1759]
[1741,7.7499999999999999E-2,9.5100000000000004E-2,7.46E-2,7.46E-2,0.1759]
[1742,7.7499999999999999E-2,9.5100000000000004E-2,7.46E-2,7.46E-2,0.1759]
[1743,7.7499999999999999E-2,9.5100000000000004E-2,7.46E-2,7.46E-2,0.1759]
[1744,7.7499999999999999E-2,9.5100000000000004E-2,7.46E-2,7.46E-2,0.1759]
[1745,7.7499999999999999E-2,9.5100000000000004E-2,7.46E-2,7.46E-2,0.1759]
[1746,7.7499999999999999E-2,9.5100000000000004E-2,7.46E-2,7.46E-2,0.1759]
[1747,7.7499999999999999E-2,9.5100000000000004E-2,7.46E-2,7.46E-2,0.1759]
[1748,7.7499999999999999E-2,9.5100000000000004E-2,7.46E-2,7.46E-2,0.1759]
[1749,7.7499999999999999E-2,9.5100000000000004E-2,7.46E-2,7.46E-2,0.1759]
[1750,7.7499999999999999E-2,9.5100000000000004E-2,7.46E-2,7.46E-2,0.1759]
[1751,7.7499999999999999E-2,9.5100000000000004E-2,7.46E-2,7.46E-2,0.1759]
[1752,7.7499999999999999E-2,9.5100000000000004E-2,7.46E-2,7.46E-2,0.1759]
[1753,7.7499999999999999E-2,9.5100000000000004E-2,7.46E-2,7.46E-2,0.1759]
[1754,7.7499999999999999E-2,9.5100000000000004E-2,7.46E-2,7.46E-2,0.1759]
[1755,7.7499999999999999E-2,9.5100000000000004E-2,7.46E-2,7.46E-2,0.1759]
[1756,7.7499999999999999E-2,9.5100000000000004E-2,7.46E-2,7.46E-2,0.1759]
[1757,7.7499999999999999E-2,9.5100000000000004E-2,7.46E-2,7.46E-2,0.1759]
[1758,7.7499999999999999E-2,9.5100000000000004E-2,7.46E-2,7.46E-2,0.1759]
[1759,7.7499999999999999E-2,9.5100000000000004E-2,7.46E-2,7.46E-2,0.1759]
[1760,7.7499999999999999E-2,9.5100000000000004E-2,7.46E-2,7.46E-2,0.1759]
[1761,7.7499999999999999E-2,9.5100000000000004E-2,7.46E-2,7.46E-2,0.1759]
[1762,7.7499999999999999E-2,9.5100000000000004E-2,7.46E-2,7.46E-2,0.1759]
[1763,7.7499999999999999E-2,9.5100000000000004E-2,7.46E-2,7.46E-2,0.1759]
[1764,7.7499999999999999E-2,9.5100000000000004E-2,7.46E-2,7.46E-2,0.1759]
[1765,7.7499999999999999E-2,9.5100000000000004E-2,7.46E-2,7.46E-2,0.1759]
[1766,7.7499999999999999E-2,9.5100000000000004E-2,7.46E-2,7.46E-2,0.1759]
[1767,7.7499999999999999E-2,9.5100000000000004E-2,7.46E-2,7.46E-2,0.1759]
[1768,7.7499999999999999E-2,9.5100000000000004E-2,7.46E-2,7.46E-2,0.1759]
[1769,7.7499999999999999E-2,9.5100000000000004E-2,7.46E-2,7.46E-2,0.1759]
[1770,7.7499999999999999E-2,9.5100000000000004E-2,7.46E-2,7.46E-2,0.1759]
[1771,7.7499999999999999E-2,9.5100000000000004E-2,7.46E-2,7.46E-2,0.1759]
[1772,7.7499999999999999E-2,9.5100000000000004E-2,7.46E-2,7.46E-2,0.1759]
[1773,7.7499999999999999E-2,9.5100000000000004E-2,7.46E-2,7.46E-2,0.1759]
[1774,7.7499999999999999E-2,9.5100000000000004E-2,7.46E-2,7.46E-2,0.1759]
[1775,7.7499999999999999E-2,9.5100000000000004E-2,7.46E-2,7.46E-2,0.1759]
[1776,7.7499999999999999E-2,9.5100000000000004E-2,7.46E-2,7.46E-2,0.1759]
[1777,7.7499999999999999E-2,9.5100000000000004E-2,7.46E-2,7.46E-2,0.1759]
[1778,7.7499999999999999E-2,9.5100000000000004E-2,7.46E-2,7.46E-2,0.1759]
[1779,7.7499999999999999E-2,9.5100000000000004E-2,7.46E-2,7.46E-2,0.1759]
[1780,7.7499999999999999E-2,9.5100000000000004E-2,7.46E-2,7.46E-2,0.1759]
[1781,7.7499999999999999E-2,9.5100000000000004E-2,7.46E-2,7.46E-2,0.1759]
[1782,7.7499999999999999E-2,9.5100000000000004E-2,7.46E-2,7.46E-2,0.1759]
[1783,7.7499999999999999E-2,9.5100000000000004E-2,7.46E-2,7.46E-2,0.1759]
[1784,7.7499999999999999E-2,9.5100000000000004E-2,7.46E-2,7.46E-2,0.1759]
[1785,7.7499999999999999E-2,9.5100000000000004E-2,7.46E-2,7.46E-2,0.1759]
[1786,7.7499999999999999E-2,9.5100000000000004E-2,7.46E-2,7.46E-2,0.1759]
[1787,7.7499999999999999E-2,9.5100000000000004E-2,7.46E-2,7.46E-2,0.1759]
[1788,7.7499999999999999E-2,9.5100000000000004E-2,7.46E-2,7.46E-2,0.1759]
[1789,7.7499999999999999E-2,9.5100000000000004E-2,7.46E-2,7.46E-2,0.1759]
[1790,7.7499999999999999E-2,9.5100000000000004E-2,7.46E-2,7.46E-2,0.1759]
[1791,7.7499999999999999E-2,9.5100000000000004E-2,7.46E-2,7.46E-2,0.1759]
[1792,7.7499999999999999E-2,9.5100000000000004E-2,7.46E-2,7.46E-2,0.1759]
[1793,7.7499999999999999E-2,9.5100000000000004E-2,7.46E-2,7.46E-2,0.1759]
[1794,7.7499999999999999E-2,9.5100000000000004E-2,7.46E-2,7.46E-2,0.1759]
[1795,7.7499999999999999E-2,9.5100000000000004E-2,7.46E-2,7.46E-2,0.1759]
[1796,7.7499999999999999E-2,9.5100000000000004E-2,7.46E-2,7.46E-2,0.1759]
[1797,7.7499999999999999E-2,9.5100000000000004E-2,7.46E-2,7.46E-2,0.1759]
[1798,7.7499999999999999E-2,9.5100000000000004E-2,7.46E-2,7.46E-2,0.1759]
[1799,7.7499999999999999E-2,9.5100000000000004E-2,7.46E-2,7.46E-2,0.1759]
[1800,7.7499999999999999E-2,9.5100000000000004E-2,7.46E-2,7.46E-2,0.1759]
[1801,7.7499999999999999E-2,9.5100000000000004E-2,7.46E-2,7.46E-2,0.1759]
[1802,7.7499999999999999E-2,9.5100000000000004E-2,7.46E-2,7.46E-2,0.1759]
[1803,7.7499999999999999E-2,9.5100000000000004E-2,7.46E-2,7.46E-2,0.1759]
[1804,7.7499999999999999E-2,9.5100000000000004E-2,7.46E-2,7.46E-2,0.1759]
[1805,7.7499999999999999E-2,9.5100000000000004E-2,7.46E-2,7.46E-2,0.1759]
[1806,7.7499999999999999E-2,9.5100000000000004E-2,7.46E-2,7.46E-2,0.1759]
[1807,7.7499999999999999E-2,9.5100000000000004E-2,7.46E-2,7.46E-2,0.1759]
[1808,7.7499999999999999E-2,9.5100000000000004E-2,7.46E-2,7.46E-2,0.1759]
[1809,7.7499999999999999E-2,9.5100000000000004E-2,7.46E-2,7.46E-2,0.1759]
[1810,7.7499999999999999E-2,9.5100000000000004E-2,7.46E-2,7.46E-2,0.1759]
[1811,7.7499999999999999E-2,9.5100000000000004E-2,7.46E-2,7.46E-2,0.1759]
[1812,7.7499999999999999E-2,9.5100000000000004E-2,7.46E-2,7.46E-2,0.1759]
[1813,7.7499999999999999E-2,9.5100000000000004E-2,7.46E-2,7.46E-2,0.1759]
[1814,7.7499999999999999E-2,9.5100000000000004E-2,7.46E-2,7.46E-2,0.1759]
[1815,7.7499999999999999E-2,9.5100000000000004E-2,7.46E-2,7.46E-2,0.1759]
[1816,7.7499999999999999E-2,9.5100000000000004E-2,7.46E-2,7.46E-2,0.1759]
[1817,7.7499999999999999E-2,9.5100000000000004E-2,7.46E-2,7.46E-2,0.1759]
[1818,7.7499999999999999E-2,9.5100000000000004E-2,7.46E-2,7.46E-2,0.1759]
[1819,7.7499999999999999E-2,9.5100000000000004E-2,7.46E-2,7.46E-2,0.1759]
[1820,7.7499999999999999E-2,9.5100000000000004E-2,7.46E-2,7.46E-2,0.1759]
[1821,7.7499999999999999E-2,9.5100000000000004E-2,7.46E-2,7.46E-2,0.1759]
[1822,7.7499999999999999E-2,9.5100000000000004E-2,7.46E-2,7.46E-2,0.1759]
[1823,7.7499999999999999E-2,9.5100000000000004E-2,7.46E-2,7.46E-2,0.1759]
[1824,7.7499999999999999E-2,9.5100000000000004E-2,7.46E-2,7.46E-2,0.1759]
[1825,7.7499999999999999E-2,9.5100000000000004E-2,7.46E-2,7.46E-2,0.1759]
[1826,7.7499999999999999E-2,9.5100000000000004E-2,7.46E-2,7.46E-2,0.1759]
[1827,7.7499999999999999E-2,9.5100000000000004E-2,7.46E-2,7.46E-2,0.1759]
[1828,7.7499999999999999E-2,9.5100000000000004E-2,7.46E-2,7.46E-2,0.1759]
[1829,7.7499999999999999E-2,9.5100000000000004E-2,7.46E-2,7.46E-2,0.1759]
[1830,7.7499999999999999E-2,9.5100000000000004E-2,7.46E-2,7.46E-2,0.1759]
[1831,7.7499999999999999E-2,9.5100000000000004E-2,7.46E-2,7.46E-2,0.1759]
[1832,7.7499999999999999E-2,9.5100000000000004E-2,7.46E-2,7.46E-2,0.1759]
[1833,7.7499999999999999E-2,9.5100000000000004E-2,7.46E-2,7.46E-2,0.1759]
[1834,7.7499999999999999E-2,9.5100000000000004E-2,7.46E-2,7.46E-2,0.1759]
[1835,7.7499999999999999E-2,9.5100000000000004E-2,7.46E-2,7.46E-2,0.1759]
[1836,7.7499999999999999E-2,9.5100000000000004E-2,7.46E-2,7.46E-2,0.1759]
[1837,7.7499999999999999E-2,9.5100000000000004E-2,7.46E-2,7.46E-2,0.1759]
[1838,7.7499999999999999E-2,9.5100000000000004E-2,7.46E-2,7.46E-2,0.1759]
[1839,7.7499999999999999E-2,9.5100000000000004E-2,7.46E-2,7.46E-2,0.1759]
[1840,7.7499999999999999E-2,9.5100000000000004E-2,7.46E-2,7.46E-2,0.1759]
[1841,7.7499999999999999E-2,9.5100000000000004E-2,7.46E-2,7.46E-2,0.1759]
[1842,7.7499999999999999E-2,9.5100000000000004E-2,7.46E-2,7.46E-2,0.1759]
[1843,7.7499999999999999E-2,9.5100000000000004E-2,7.46E-2,7.46E-2,0.1759]
[1844,7.7499999999999999E-2,9.5100000000000004E-2,7.46E-2,7.46E-2,0.1759]
[1845,7.7499999999999999E-2,9.5100000000000004E-2,7.46E-2,7.46E-2,0.1759]
[1846,7.7499999999999999E-2,9.5100000000000004E-2,7.46E-2,7.46E-2,0.1759]
[1847,7.7499999999999999E-2,9.5100000000000004E-2,7.46E-2,7.46E-2,0.1759]
[1848,7.7499999999999999E-2,9.5100000000000004E-2,7.46E-2,7.46E-2,0.1759]
[1849,7.7499999999999999E-2,9.5100000000000004E-2,7.46E-2,7.46E-2,0.1759]
[1850,7.7499999999999999E-2,9.5100000000000004E-2,7.46E-2,7.46E-2,0.1759]
[1851,7.7499999999999999E-2,9.5100000000000004E-2,7.46E-2,7.46E-2,0.1759]
[1852,7.7499999999999999E-2,9.5100000000000004E-2,7.46E-2,7.46E-2,0.1759]
[1853,7.7499999999999999E-2,9.5100000000000004E-2,7.46E-2,7.46E-2,0.1759]
[1854,7.7499999999999999E-2,9.5100000000000004E-2,7.46E-2,7.46E-2,0.1759]
[1855,7.7499999999999999E-2,9.5100000000000004E-2,7.46E-2,7.46E-2,0.1759]
[1856,7.7499999999999999E-2,9.5100000000000004E-2,7.46E-2,7.46E-2,0.1759]
[1857,7.7499999999999999E-2,9.5100000000000004E-2,7.46E-2,7.46E-2,0.1759]
[1858,7.7499999999999999E-2,9.5100000000000004E-2,7.46E-2,7.46E-2,0.1759]
[1859,7.7499999999999999E-2,9.5100000000000004E-2,7.46E-2,7.46E-2,0.1759]
[1860,7.7499999999999999E-2,9.5100000000000004E-2,7.46E-2,7.46E-2,0.1759]
[1861,7.7499999999999999E-2,9.5100000000000004E-2,7.46E-2,7.46E-2,0.1759]
[1862,7.7499999999999999E-2,9.5100000000000004E-2,7.46E-2,7.46E-2,0.1759]
[1863,7.7499999999999999E-2,9.5100000000000004E-2,7.46E-2,7.46E-2,0.1759]
[1864,7.7499999999999999E-2,9.5100000000000004E-2,7.46E-2,7.46E-2,0.1759]
[1865,7.7499999999999999E-2,9.5100000000000004E-2,7.46E-2,7.46E-2,0.1759]
[1866,7.7499999999999999E-2,9.5100000000000004E-2,7.46E-2,7.46E-2,0.1759]
[1867,7.7499999999999999E-2,9.5100000000000004E-2,7.46E-2,7.46E-2,0.1759]
[1868,7.7499999999999999E-2,9.5100000000000004E-2,7.46E-2,7.46E-2,0.1759]
[1869,7.7499999999999999E-2,9.5100000000000004E-2,7.46E-2,7.46E-2,0.1759]
[1870,7.7499999999999999E-2,9.5100000000000004E-2,7.46E-2,7.46E-2,0.1759]
[1871,7.7499999999999999E-2,9.5100000000000004E-2,7.46E-2,7.46E-2,0.1759]
[1872,7.7499999999999999E-2,9.5100000000000004E-2,7.46E-2,7.46E-2,0.1759]
[1873,7.7499999999999999E-2,9.5100000000000004E-2,7.46E-2,7.46E-2,0.1759]
[1874,7.7499999999999999E-2,9.5100000000000004E-2,7.46E-2,7.46E-2,0.1759]
[1875,7.7499999999999999E-2,9.5100000000000004E-2,7.46E-2,7.46E-2,0.1759]
[1876,7.7499999999999999E-2,9.5100000000000004E-2,7.46E-2,7.46E-2,0.1759]
[1877,7.7499999999999999E-2,9.5100000000000004E-2,7.46E-2,7.46E-2,0.1759]
[1878,7.7499999999999999E-2,9.5100000000000004E-2,7.46E-2,7.46E-2,0.1759]
[1879,7.7499999999999999E-2,9.5100000000000004E-2,7.46E-2,7.46E-2,0.1759]
[1880,7.7499999999999999E-2,9.5100000000000004E-2,7.46E-2,7.46E-2,0.1759]
[1881,7.7499999999999999E-2,9.5100000000000004E-2,7.46E-2,7.46E-2,0.1759]
[1882,7.7499999999999999E-2,9.5100000000000004E-2,7.46E-2,7.46E-2,0.1759]
[1883,7.7499999999999999E-2,9.5100000000000004E-2,7.46E-2,7.46E-2,0.1759]
[1884,7.7499999999999999E-2,9.5100000000000004E-2,7.46E-2,7.46E-2,0.1759]
[1885,7.7499999999999999E-2,9.5100000000000004E-2,7.46E-2,7.46E-2,0.1759]
[1886,7.7499999999999999E-2,9.5100000000000004E-2,7.46E-2,7.46E-2,0.1759]
[1887,7.7499999999999999E-2,9.5100000000000004E-2,7.46E-2,7.46E-2,0.1759]
[1888,7.7499999999999999E-2,9.5100000000000004E-2,7.46E-2,7.46E-2,0.1759]
[1889,7.7499999999999999E-2,9.5100000000000004E-2,7.46E-2,7.46E-2,0.1759]
[1890,7.7499999999999999E-2,9.5100000000000004E-2,7.46E-2,7.46E-2,0.1759]
[1891,7.7499999999999999E-2,9.5100000000000004E-2,7.46E-2,7.46E-2,0.1759]
[1892,7.7499999999999999E-2,9.5100000000000004E-2,7.46E-2,7.46E-2,0.1759]
[1893,7.7499999999999999E-2,9.5100000000000004E-2,7.46E-2,7.46E-2,0.1759]
[1894,7.7499999999999999E-2,9.5100000000000004E-2,7.46E-2,7.46E-2,0.1759]
[1895,7.7499999999999999E-2,9.5100000000000004E-2,7.46E-2,7.46E-2,0.1759]
[1896,7.7499999999999999E-2,9.5100000000000004E-2,7.46E-2,7.46E-2,0.1759]
[1897,7.7499999999999999E-2,9.5100000000000004E-2,7.46E-2,7.46E-2,0.1759]
[1898,7.7499999999999999E-2,9.5100000000000004E-2,7.46E-2,7.46E-2,0.1759]
[1899,7.7499999999999999E-2,9.5100000000000004E-2,7.46E-2,7.46E-2,0.1759]
[1900,7.7499999999999999E-2,9.5100000000000004E-2,7.46E-2,7.46E-2,0.1759]
[1901,7.7499999999999999E-2,9.5100000000000004E-2,7.46E-2,7.46E-2,0.1759]
[1902,7.7499999999999999E-2,9.5100000000000004E-2,7.46E-2,7.46E-2,0.1759]
[1903,7.7499999999999999E-2,9.5100000000000004E-2,7.46E-2,7.46E-2,0.1759]
[1904,7.7499999999999999E-2,9.5100000000000004E-2,7.46E-2,7.46E-2,0.1759]
[1905,7.7499999999999999E-2,9.5100000000000004E-2,7.46E-2,7.46E-2,0.1759]
[1906,7.7499999999999999E-2,9.5100000000000004E-2,7.46E-2,7.46E-2,0.1759]
[1907,7.7499999999999999E-2,9.5100000000000004E-2,7.46E-2,7.46E-2,0.1759]
[1908,7.7499999999999999E-2,9.5100000000000004E-2,7.46E-2,7.46E-2,0.1759]
[1909,7.7499999999999999E-2,9.5100000000000004E-2,7.46E-2,7.46E-2,0.1759]
[1910,7.7499999999999999E-2,9.5100000000000004E-2,7.46E-2,7.46E-2,0.1759]
[1911,7.7499999999999999E-2,9.5100000000000004E-2,7.46E-2,7.46E-2,0.1759]
[1912,7.7499999999999999E-2,9.5100000000000004E-2,7.46E-2,7.46E-2,0.1759]
[1913,7.7499999999999999E-2,9.5100000000000004E-2,7.46E-2,7.46E-2,0.1759]
[1914,7.7499999999999999E-2,9.5100000000000004E-2,7.46E-2,7.46E-2,0.1759]
[1915,7.7499999999999999E-2,9.5100000000000004E-2,7.46E-2,7.46E-2,0.1759]
[1916,7.7499999999999999E-2,9.5100000000000004E-2,7.46E-2,7.46E-2,0.1759]
[1917,7.7499999999999999E-2,9.5100000000000004E-2,7.46E-2,7.46E-2,0.1759]
[1918,7.7499999999999999E-2,9.5100000000000004E-2,7.46E-2,7.46E-2,0.1759]
[1919,7.7499999999999999E-2,9.5100000000000004E-2,7.46E-2,7.46E-2,0.1759]
[1920,7.7499999999999999E-2,9.5100000000000004E-2,7.46E-2,7.46E-2,0.1759]
[1921,7.7499999999999999E-2,9.5100000000000004E-2,7.46E-2,7.46E-2,0.1759]
[1922,7.7499999999999999E-2,9.5100000000000004E-2,7.46E-2,7.46E-2,0.1759]
[1923,7.7499999999999999E-2,9.5100000000000004E-2,7.46E-2,7.46E-2,0.1759]
[1924,7.7499999999999999E-2,9.5100000000000004E-2,7.46E-2,7.46E-2,0.1759]
[1925,7.7499999999999999E-2,9.5100000000000004E-2,7.46E-2,7.46E-2,0.1759]
[1926,7.7499999999999999E-2,9.5100000000000004E-2,7.46E-2,7.46E-2,0.1759]
[1927,7.7499999999999999E-2,9.5100000000000004E-2,7.46E-2,7.46E-2,0.1759]
[1928,7.7499999999999999E-2,9.5100000000000004E-2,7.46E-2,7.46E-2,0.1759]
[1929,7.7499999999999999E-2,9.5100000000000004E-2,7.46E-2,7.46E-2,0.1759]
[1930,7.7499999999999999E-2,9.5100000000000004E-2,7.46E-2,7.46E-2,0.1759]
[1931,7.7499999999999999E-2,9.5100000000000004E-2,7.46E-2,7.46E-2,0.1759]
[1932,7.7499999999999999E-2,9.5100000000000004E-2,7.46E-2,7.46E-2,0.1759]
[1933,7.7499999999999999E-2,9.5100000000000004E-2,7.46E-2,7.46E-2,0.1759]
[1934,7.7499999999999999E-2,9.5100000000000004E-2,7.46E-2,7.46E-2,0.1759]
[1935,7.7499999999999999E-2,9.5100000000000004E-2,7.46E-2,7.46E-2,0.1759]
[1936,7.7499999999999999E-2,9.5100000000000004E-2,7.46E-2,7.46E-2,0.1759]
[1937,7.7499999999999999E-2,9.5100000000000004E-2,7.46E-2,7.46E-2,0.1759]
[1938,7.7499999999999999E-2,9.5100000000000004E-2,7.46E-2,7.46E-2,0.1759]
[1939,7.7499999999999999E-2,9.5100000000000004E-2,7.46E-2,7.46E-2,0.1759]
[1940,7.7499999999999999E-2,9.5100000000000004E-2,7.46E-2,7.46E-2,0.1759]
[1941,7.7499999999999999E-2,9.5100000000000004E-2,7.46E-2,7.46E-2,0.1759]
[1942,7.7499999999999999E-2,9.5100000000000004E-2,7.46E-2,7.46E-2,0.1759]
[1943,7.7499999999999999E-2,9.5100000000000004E-2,7.46E-2,7.46E-2,0.1759]
[1944,7.7499999999999999E-2,9.5100000000000004E-2,7.46E-2,7.46E-2,0.1759]
[1945,7.7499999999999999E-2,9.5100000000000004E-2,7.46E-2,7.46E-2,0.1759]
[1946,7.7499999999999999E-2,9.5100000000000004E-2,7.46E-2,7.46E-2,0.1759]
[1947,7.7499999999999999E-2,9.5100000000000004E-2,7.46E-2,7.46E-2,0.1759]
[1948,7.7499999999999999E-2,9.5100000000000004E-2,7.46E-2,7.46E-2,0.1759]
[1949,7.7499999999999999E-2,9.5100000000000004E-2,7.46E-2,7.46E-2,0.1759]
[1950,7.7499999999999999E-2,9.5100000000000004E-2,7.46E-2,7.46E-2,0.1759]
[1951,7.7499999999999999E-2,9.5100000000000004E-2,7.46E-2,7.46E-2,0.1759]
[1952,7.7499999999999999E-2,9.5100000000000004E-2,7.46E-2,7.46E-2,0.1759]
[1953,7.7499999999999999E-2,9.5100000000000004E-2,7.46E-2,7.46E-2,0.1759]
[1954,7.7499999999999999E-2,9.5100000000000004E-2,7.46E-2,7.46E-2,0.1759]
[1955,7.7499999999999999E-2,9.5100000000000004E-2,7.46E-2,7.46E-2,0.1759]
[1956,7.7499999999999999E-2,9.5100000000000004E-2,7.46E-2,7.46E-2,0.1759]
[1957,7.7499999999999999E-2,9.5100000000000004E-2,7.46E-2,7.46E-2,0.1759]
[1958,7.7499999999999999E-2,9.5100000000000004E-2,7.46E-2,7.46E-2,0.1759]
[1959,7.7499999999999999E-2,9.5100000000000004E-2,7.46E-2,7.46E-2,0.1759]
[1960,7.7499999999999999E-2,9.5100000000000004E-2,7.46E-2,7.46E-2,0.1759]
[1961,7.7499999999999999E-2,9.5100000000000004E-2,7.46E-2,7.46E-2,0.1759]
[1962,7.7499999999999999E-2,9.5100000000000004E-2,7.46E-2,7.46E-2,0.1759]
[1963,7.7499999999999999E-2,9.5100000000000004E-2,7.46E-2,7.46E-2,0.1759]
[1964,7.7499999999999999E-2,9.5100000000000004E-2,7.46E-2,7.46E-2,0.1759]
[1965,7.7499999999999999E-2,9.5100000000000004E-2,7.46E-2,7.46E-2,0.1759]
[1966,7.7499999999999999E-2,9.5100000000000004E-2,7.46E-2,7.46E-2,0.1759]
[1967,7.7499999999999999E-2,9.5100000000000004E-2,7.46E-2,7.46E-2,0.1759]
[1968,7.7499999999999999E-2,9.5100000000000004E-2,7.46E-2,7.46E-2,0.1759]
[1969,7.7499999999999999E-2,9.5100000000000004E-2,7.46E-2,7.46E-2,0.1759]
[1970,7.7499999999999999E-2,9.5100000000000004E-2,7.46E-2,7.46E-2,0.1759]
[1971,7.7499999999999999E-2,9.5100000000000004E-2,7.46E-2,7.46E-2,0.1759]
[1972,7.7499999999999999E-2,9.5100000000000004E-2,7.46E-2,7.46E-2,0.1759]
[1973,7.7499999999999999E-2,9.5100000000000004E-2,7.46E-2,7.46E-2,0.1759]
[1974,7.7499999999999999E-2,9.5100000000000004E-2,7.46E-2,7.46E-2,0.1759]
[1975,7.7499999999999999E-2,9.5100000000000004E-2,7.46E-2,7.46E-2,0.1759]
[1976,7.7499999999999999E-2,9.5100000000000004E-2,7.46E-2,7.46E-2,0.1759]
[1977,7.7499999999999999E-2,9.5100000000000004E-2,7.46E-2,7.46E-2,0.1759]
[1978,7.7499999999999999E-2,9.5100000000000004E-2,7.46E-2,7.46E-2,0.1759]
[1979,7.7499999999999999E-2,9.5100000000000004E-2,7.46E-2,7.46E-2,0.1759]
[1980,7.7499999999999999E-2,9.5100000000000004E-2,7.46E-2,7.46E-2,0.1759]
[1981,7.7499999999999999E-2,9.5100000000000004E-2,7.46E-2,7.46E-2,0.1759]
[1982,7.7499999999999999E-2,9.5100000000000004E-2,7.46E-2,7.46E-2,0.1759]
[1983,7.7499999999999999E-2,9.5100000000000004E-2,7.46E-2,7.46E-2,0.1759]
[1984,7.7499999999999999E-2,9.5100000000000004E-2,7.46E-2,7.46E-2,0.1759]
[1985,7.7499999999999999E-2,9.5100000000000004E-2,7.46E-2,7.46E-2,0.1759]
[1986,7.7499999999999999E-2,9.5100000000000004E-2,7.46E-2,7.46E-2,0.1759]
[1987,7.7499999999999999E-2,9.5100000000000004E-2,7.46E-2,7.46E-2,0.1759]
[1988,7.7499999999999999E-2,9.5100000000000004E-2,7.46E-2,7.46E-2,0.1759]
[1989,7.7499999999999999E-2,9.5100000000000004E-2,7.46E-2,7.46E-2,0.1759]
[1990,7.7499999999999999E-2,9.5100000000000004E-2,7.46E-2,7.46E-2,0.1759]
[1991,7.7499999999999999E-2,9.5100000000000004E-2,7.46E-2,7.46E-2,0.1759]
[1992,7.7499999999999999E-2,9.5100000000000004E-2,7.46E-2,7.46E-2,0.1759]
[1993,7.7499999999999999E-2,9.5100000000000004E-2,7.46E-2,7.46E-2,0.1759]
[1994,7.7499999999999999E-2,9.5100000000000004E-2,7.46E-2,7.46E-2,0.1759]
[1995,7.7499999999999999E-2,9.5100000000000004E-2,7.46E-2,7.46E-2,0.1759]
[1996,7.7499999999999999E-2,9.5100000000000004E-2,7.46E-2,7.46E-2,0.1759]
[1997,7.7499999999999999E-2,9.5100000000000004E-2,7.46E-2,7.46E-2,0.1759]
[1998,7.7499999999999999E-2,9.5100000000000004E-2,7.46E-2,7.46E-2,0.1759]
[1999,7.7499999999999999E-2,9.5100000000000004E-2,7.46E-2,7.46E-2,0.1759]
[2000,7.7499999999999999E-2,9.5100000000000004E-2,7.46E-2,7.46E-2,0.1759]
[2001,7.7499999999999999E-2,9.5100000000000004E-2,7.46E-2,7.46E-2,0.1759]
[2002,7.7499999999999999E-2,9.5100000000000004E-2,7.46E-2,7.46E-2,0.1759]
[2003,7.7499999999999999E-2,9.5100000000000004E-2,7.46E-2,7.46E-2,0.1759]
[2004,7.7499999999999999E-2,9.5100000000000004E-2,7.46E-2,7.46E-2,0.1759]
[2005,7.7499999999999999E-2,9.5100000000000004E-2,7.46E-2,7.46E-2,0.1759]
[2006,7.7499999999999999E-2,9.5100000000000004E-2,7.46E-2,7.46E-2,0.1759]
[2007,7.7499999999999999E-2,9.5100000000000004E-2,7.46E-2,7.46E-2,0.1759]
[2008,7.7499999999999999E-2,9.5100000000000004E-2,7.46E-2,7.46E-2,0.1759]
[2009,7.7499999999999999E-2,9.5100000000000004E-2,7.46E-2,7.46E-2,0.1759]
[2010,7.7499999999999999E-2,9.5100000000000004E-2,7.46E-2,7.46E-2,0.1759]
[2011,7.7499999999999999E-2,9.5100000000000004E-2,7.46E-2,7.46E-2,0.1759]
[2012,7.7499999999999999E-2,9.5100000000000004E-2,7.46E-2,7.46E-2,0.1759]
[2013,7.7499999999999999E-2,9.5100000000000004E-2,7.46E-2,7.46E-2,0.1759]
[2014,7.7499999999999999E-2,9.5100000000000004E-2,7.46E-2,7.46E-2,0.1759]
[2015,7.7499999999999999E-2,9.5100000000000004E-2,7.46E-2,7.46E-2,0.1759]
[2016,7.7499999999999999E-2,9.5100000000000004E-2,7.46E-2,7.46E-2,0.1759]
[2017,7.7499999999999999E-2,9.5100000000000004E-2,7.46E-2,7.46E-2,0.1759]
[2018,7.7499999999999999E-2,9.5100000000000004E-2,7.46E-2,7.46E-2,0.1759]
[2019,7.7499999999999999E-2,9.5100000000000004E-2,7.46E-2,7.46E-2,0.1759]
[2020,7.7499999999999999E-2,9.5100000000000004E-2,7.46E-2,7.46E-2,0.1759]
[2021,7.7499999999999999E-2,9.5100000000000004E-2,7.46E-2,7.46E-2,0.1759]
[2022,7.7499999999999999E-2,9.5100000000000004E-2,7.46E-2,7.46E-2,0.1759]
[2023,7.7499999999999999E-2,9.5100000000000004E-2,7.46E-2,7.46E-2,0.1759]
[2024,7.7499999999999999E-2,9.5100000000000004E-2,7.46E-2,7.46E-2,0.1759]
[2025,7.7499999999999999E-2,9.5100000000000004E-2,7.46E-2,7.46E-2,0.1759]
[2026,7.7499999999999999E-2,9.5100000000000004E-2,7.46E-2,7.46E-2,0.1759]
[2027,7.7499999999999999E-2,9.5100000000000004E-2,7.46E-2,7.46E-2,0.1759]
[2028,7.7499999999999999E-2,9.5100000000000004E-2,7.46E-2,7.46E-2,0.1759]
[2029,7.7499999999999999E-2,9.5100000000000004E-2,7.46E-2,7.46E-2,0.1759]
[2030,7.7499999999999999E-2,9.5100000000000004E-2,7.46E-2,7.46E-2,0.1759]
[2031,7.7499999999999999E-2,9.5100000000000004E-2,7.46E-2,7.46E-2,0.1759]
[2032,7.7499999999999999E-2,9.5100000000000004E-2,7.46E-2,7.46E-2,0.1759]
[2033,7.7499999999999999E-2,9.5100000000000004E-2,7.46E-2,7.46E-2,0.1759]
[2034,7.7499999999999999E-2,9.5100000000000004E-2,7.46E-2,7.46E-2,0.1759]
[2035,7.7499999999999999E-2,9.5100000000000004E-2,7.46E-2,7.46E-2,0.1759]
[2036,7.7499999999999999E-2,9.5100000000000004E-2,7.46E-2,7.46E-2,0.1759]
[2037,7.7499999999999999E-2,9.5100000000000004E-2,7.46E-2,7.46E-2,0.1759]
[2038,7.7499999999999999E-2,9.5100000000000004E-2,7.46E-2,7.46E-2,0.1759]
[2039,7.7499999999999999E-2,9.5100000000000004E-2,7.46E-2,7.46E-2,0.1759]
[2040,7.7499999999999999E-2,9.5100000000000004E-2,7.46E-2,7.46E-2,0.1759]
[2041,7.7499999999999999E-2,9.5100000000000004E-2,7.46E-2,7.46E-2,0.1759]
[2042,7.7499999999999999E-2,9.5100000000000004E-2,7.46E-2,7.46E-2,0.1759]
[2043,7.7499999999999999E-2,9.5100000000000004E-2,7.46E-2,7.46E-2,0.1759]
[2044,7.7499999999999999E-2,9.5100000000000004E-2,7.46E-2,7.46E-2,0.1759]
[2045,7.7499999999999999E-2,9.5100000000000004E-2,7.46E-2,7.46E-2,0.1759]
[2046,7.7499999999999999E-2,9.5100000000000004E-2,7.46E-2,7.46E-2,0.1759]
[2047,7.7499999999999999E-2,9.5100000000000004E-2,7.46E-2,7.46E-2,0.1759]
[2048,7.7499999999999999E-2,9.5100000000000004E-2,7.46E-2,7.46E-2,0.1759]
[2049,7.7499999999999999E-2,9.5100000000000004E-2,7.46E-2,7.46E-2,0.1759]
[2050,7.7499999999999999E-2,9.5100000000000004E-2,7.46E-2,7.46E-2,0.1759]
[2051,7.7499999999999999E-2,9.5100000000000004E-2,7.46E-2,7.46E-2,0.1759]
[2052,7.7499999999999999E-2,9.5100000000000004E-2,7.46E-2,7.46E-2,0.1759]
[2053,7.7499999999999999E-2,9.5100000000000004E-2,7.46E-2,7.46E-2,0.1759]
[2054,7.7499999999999999E-2,9.5100000000000004E-2,7.46E-2,7.46E-2,0.1759]
[2055,7.7499999999999999E-2,9.5100000000000004E-2,7.46E-2,7.46E-2,0.1759]
[2056,7.7499999999999999E-2,9.5100000000000004E-2,7.46E-2,7.46E-2,0.1759]
[2057,7.7499999999999999E-2,9.5100000000000004E-2,7.46E-2,7.46E-2,0.1759]
[2058,7.7499999999999999E-2,9.5100000000000004E-2,7.46E-2,7.46E-2,0.1759]
[2059,7.7499999999999999E-2,9.5100000000000004E-2,7.46E-2,7.46E-2,0.1759]
[2060,7.7499999999999999E-2,9.5100000000000004E-2,7.46E-2,7.46E-2,0.1759]
[2061,7.7499999999999999E-2,9.5100000000000004E-2,7.46E-2,7.46E-2,0.1759]
[2062,7.7499999999999999E-2,9.5100000000000004E-2,7.46E-2,7.46E-2,0.1759]
[2063,7.7499999999999999E-2,9.5100000000000004E-2,7.46E-2,7.46E-2,0.1759]
[2064,7.7499999999999999E-2,9.5100000000000004E-2,7.46E-2,7.46E-2,0.1759]
[2065,7.7499999999999999E-2,9.5100000000000004E-2,7.46E-2,7.46E-2,0.1759]
[2066,7.7499999999999999E-2,9.5100000000000004E-2,7.46E-2,7.46E-2,0.1759]
[2067,7.7499999999999999E-2,9.5100000000000004E-2,7.46E-2,7.46E-2,0.1759]
[2068,7.7499999999999999E-2,9.5100000000000004E-2,7.46E-2,7.46E-2,0.1759]
[2069,7.7499999999999999E-2,9.5100000000000004E-2,7.46E-2,7.46E-2,0.1759]
[2070,7.7499999999999999E-2,9.5100000000000004E-2,7.46E-2,7.46E-2,0.1759]
[2071,7.7499999999999999E-2,9.5100000000000004E-2,7.46E-2,7.46E-2,0.1759]
[2072,7.7499999999999999E-2,9.5100000000000004E-2,7.46E-2,7.46E-2,0.1759]
[2073,7.7499999999999999E-2,9.5100000000000004E-2,7.46E-2,7.46E-2,0.1759]
[2074,7.7499999999999999E-2,9.5100000000000004E-2,7.46E-2,7.46E-2,0.1759]
[2075,7.7499999999999999E-2,9.5100000000000004E-2,7.46E-2,7.46E-2,0.1759]
[2076,7.7499999999999999E-2,9.5100000000000004E-2,7.46E-2,7.46E-2,0.1759]
[2077,7.7499999999999999E-2,9.5100000000000004E-2,7.46E-2,7.46E-2,0.1759]
[2078,7.7499999999999999E-2,9.5100000000000004E-2,7.46E-2,7.46E-2,0.1759]
[2079,7.7499999999999999E-2,9.5100000000000004E-2,7.46E-2,7.46E-2,0.1759]
[2080,7.7499999999999999E-2,9.5100000000000004E-2,7.46E-2,7.46E-2,0.1759]
[2081,7.7499999999999999E-2,9.5100000000000004E-2,7.46E-2,7.46E-2,0.1759]
[2082,7.7499999999999999E-2,9.5100000000000004E-2,7.46E-2,7.46E-2,0.1759]
[2083,7.7499999999999999E-2,9.5100000000000004E-2,7.46E-2,7.46E-2,0.1759]
[2084,7.7499999999999999E-2,9.5100000000000004E-2,7.46E-2,7.46E-2,0.1759]
[2085,7.7499999999999999E-2,9.5100000000000004E-2,7.46E-2,7.46E-2,0.1759]
[2086,7.7499999999999999E-2,9.5100000000000004E-2,7.46E-2,7.46E-2,0.1759]
[2087,7.7499999999999999E-2,9.5100000000000004E-2,7.46E-2,7.46E-2,0.1759]
[2088,7.7499999999999999E-2,9.5100000000000004E-2,7.46E-2,7.46E-2,0.1759]
[2089,7.7499999999999999E-2,9.5100000000000004E-2,7.46E-2,7.46E-2,0.1759]
[2090,7.7499999999999999E-2,9.5100000000000004E-2,7.46E-2,7.46E-2,0.1759]
[2091,7.7499999999999999E-2,9.5100000000000004E-2,7.46E-2,7.46E-2,0.1759]
[2092,7.7499999999999999E-2,9.5100000000000004E-2,7.46E-2,7.46E-2,0.1759]
[2093,7.7499999999999999E-2,9.5100000000000004E-2,7.46E-2,7.46E-2,0.1759]
[2094,7.7499999999999999E-2,9.5100000000000004E-2,7.46E-2,7.46E-2,0.1759]
[2095,7.7499999999999999E-2,9.5100000000000004E-2,7.46E-2,7.46E-2,0.1759]
[2096,7.7499999999999999E-2,9.5100000000000004E-2,7.46E-2,7.46E-2,0.1759]
[2097,7.7499999999999999E-2,9.5100000000000004E-2,7.46E-2,7.46E-2,0.1759]
[2098,7.7499999999999999E-2,9.5100000000000004E-2,7.46E-2,7.46E-2,0.1759]
[2099,7.7499999999999999E-2,9.5100000000000004E-2,7.46E-2,7.46E-2,0.1759]
[2100,7.7499999999999999E-2,9.5100000000000004E-2,7.46E-2,7.46E-2,0.1759]
[2101,7.7499999999999999E-2,9.5100000000000004E-2,7.46E-2,7.46E-2,0.1759]
[2102,7.7499999999999999E-2,9.5100000000000004E-2,7.46E-2,7.46E-2,0.1759]
[2103,7.7499999999999999E-2,9.5100000000000004E-2,7.46E-2,7.46E-2,0.1759]
[2104,7.7499999999999999E-2,9.5100000000000004E-2,7.46E-2,7.46E-2,0.1759]
[2105,7.7499999999999999E-2,9.5100000000000004E-2,7.46E-2,7.46E-2,0.1759]
[2106,7.7499999999999999E-2,9.5100000000000004E-2,7.46E-2,7.46E-2,0.1759]
[2107,7.7499999999999999E-2,9.5100000000000004E-2,7.46E-2,7.46E-2,0.1759]
[2108,7.7499999999999999E-2,9.5100000000000004E-2,7.46E-2,7.46E-2,0.1759]
[2109,7.7499999999999999E-2,9.5100000000000004E-2,7.46E-2,7.46E-2,0.1759]
[2110,7.7499999999999999E-2,9.5100000000000004E-2,7.46E-2,7.46E-2,0.1759]
[2111,7.7499999999999999E-2,9.5100000000000004E-2,7.46E-2,7.46E-2,0.1759]
[2112,7.7499999999999999E-2,9.5100000000000004E-2,7.46E-2,7.46E-2,0.1759]
[2113,7.7499999999999999E-2,9.5100000000000004E-2,7.46E-2,7.46E-2,0.1759]
[2114,7.7499999999999999E-2,9.5100000000000004E-2,7.46E-2,7.46E-2,0.1759]
[2115,7.7499999999999999E-2,9.5100000000000004E-2,7.46E-2,7.46E-2,0.1759]
[2116,7.7499999999999999E-2,9.5100000000000004E-2,7.46E-2,7.46E-2,0.1759]
[2117,7.7499999999999999E-2,9.5100000000000004E-2,7.46E-2,7.46E-2,0.1759]
[2118,7.7499999999999999E-2,9.5100000000000004E-2,7.46E-2,7.46E-2,0.1759]
[2119,7.7499999999999999E-2,9.5100000000000004E-2,7.46E-2,7.46E-2,0.1759]
[2120,7.7499999999999999E-2,9.5100000000000004E-2,7.46E-2,7.46E-2,0.1759]
[2121,7.7499999999999999E-2,9.5100000000000004E-2,7.46E-2,7.46E-2,0.1759]
[2122,7.7499999999999999E-2,9.5100000000000004E-2,7.46E-2,7.46E-2,0.1759]
[2123,7.7499999999999999E-2,9.5100000000000004E-2,7.46E-2,7.46E-2,0.1759]
[2124,7.7499999999999999E-2,9.5100000000000004E-2,7.46E-2,7.46E-2,0.1759]
[2125,7.7499999999999999E-2,9.5100000000000004E-2,7.46E-2,7.46E-2,0.1759]
[2126,7.7499999999999999E-2,9.5100000000000004E-2,7.46E-2,7.46E-2,0.1759]
[2127,7.7499999999999999E-2,9.5100000000000004E-2,7.46E-2,7.46E-2,0.1759]
[2128,7.7499999999999999E-2,9.5100000000000004E-2,7.46E-2,7.46E-2,0.1759]
[2129,7.7499999999999999E-2,9.5100000000000004E-2,7.46E-2,7.46E-2,0.1759]
[2130,7.7499999999999999E-2,9.5100000000000004E-2,7.46E-2,7.46E-2,0.1759]
[2131,7.7499999999999999E-2,9.5100000000000004E-2,7.46E-2,7.46E-2,0.1759]
[2132,7.7499999999999999E-2,9.5100000000000004E-2,7.46E-2,7.46E-2,0.1759]
[2133,7.7499999999999999E-2,9.5100000000000004E-2,7.46E-2,7.46E-2,0.1759]
[2134,7.7499999999999999E-2,9.5100000000000004E-2,7.46E-2,7.46E-2,0.1759]
[2135,7.7499999999999999E-2,9.5100000000000004E-2,7.46E-2,7.46E-2,0.1759]
[2136,7.7499999999999999E-2,9.5100000000000004E-2,7.46E-2,7.46E-2,0.1759]
[2137,7.7499999999999999E-2,9.5100000000000004E-2,7.46E-2,7.46E-2,0.1759]
[2138,7.7499999999999999E-2,9.5100000000000004E-2,7.46E-2,7.46E-2,0.1759]
[2139,7.7499999999999999E-2,9.5100000000000004E-2,7.46E-2,7.46E-2,0.1759]
[2140,7.7499999999999999E-2,9.5100000000000004E-2,7.46E-2,7.46E-2,0.1759]
[2141,7.7499999999999999E-2,9.5100000000000004E-2,7.46E-2,7.46E-2,0.1759]
[2142,7.7499999999999999E-2,9.5100000000000004E-2,7.46E-2,7.46E-2,0.1759]
[2143,7.7499999999999999E-2,9.5100000000000004E-2,7.46E-2,7.46E-2,0.1759]
[2144,7.7499999999999999E-2,9.5100000000000004E-2,7.46E-2,7.46E-2,0.1759]
[2145,7.7499999999999999E-2,9.5100000000000004E-2,7.46E-2,7.46E-2,0.1759]
[2146,7.7499999999999999E-2,9.5100000000000004E-2,7.46E-2,7.46E-2,0.1759]
[2147,7.7499999999999999E-2,9.5100000000000004E-2,7.46E-2,7.46E-2,0.1759]
[2148,7.7499999999999999E-2,9.5100000000000004E-2,7.46E-2,7.46E-2,0.1759]
[2149,7.7499999999999999E-2,9.5100000000000004E-2,7.46E-2,7.46E-2,0.1759]
[2150,7.7499999999999999E-2,9.5100000000000004E-2,7.46E-2,7.46E-2,0.1759]
[2151,7.7499999999999999E-2,9.5100000000000004E-2,7.46E-2,7.46E-2,0.1759]
[2152,7.7499999999999999E-2,9.5100000000000004E-2,7.46E-2,7.46E-2,0.1759]
[2153,7.7499999999999999E-2,9.5100000000000004E-2,7.46E-2,7.46E-2,0.1759]
[2154,7.7499999999999999E-2,9.5100000000000004E-2,7.46E-2,7.46E-2,0.1759]
[2155,7.7499999999999999E-2,9.5100000000000004E-2,7.46E-2,7.46E-2,0.1759]
[2156,7.7499999999999999E-2,9.5100000000000004E-2,7.46E-2,7.46E-2,0.1759]
[2157,7.7499999999999999E-2,9.5100000000000004E-2,7.46E-2,7.46E-2,0.1759]
[2158,7.7499999999999999E-2,9.5100000000000004E-2,7.46E-2,7.46E-2,0.1759]
[2159,7.7499999999999999E-2,9.5100000000000004E-2,7.46E-2,7.46E-2,0.1759]
[2160,7.7499999999999999E-2,9.5100000000000004E-2,7.46E-2,7.46E-2,0.1759]
[2161,7.7499999999999999E-2,9.5100000000000004E-2,7.46E-2,7.46E-2,0.1759]
[2162,7.7499999999999999E-2,9.5100000000000004E-2,7.46E-2,7.46E-2,0.1759]
[2163,7.7499999999999999E-2,9.5100000000000004E-2,7.46E-2,7.46E-2,0.1759]
[2164,7.7499999999999999E-2,9.5100000000000004E-2,7.46E-2,7.46E-2,0.1759]
[2165,7.7499999999999999E-2,9.5100000000000004E-2,7.46E-2,7.46E-2,0.1759]
[2166,7.7499999999999999E-2,9.5100000000000004E-2,7.46E-2,7.46E-2,0.1759]
[2167,7.7499999999999999E-2,9.5100000000000004E-2,7.46E-2,7.46E-2,0.1759]
[2168,7.7499999999999999E-2,9.5100000000000004E-2,7.46E-2,7.46E-2,0.1759]
[2169,7.7499999999999999E-2,9.5100000000000004E-2,7.46E-2,7.46E-2,0.1759]
[2170,7.7499999999999999E-2,9.5100000000000004E-2,7.46E-2,7.46E-2,0.1759]
[2171,7.7499999999999999E-2,9.5100000000000004E-2,7.46E-2,7.46E-2,0.1759]
[2172,7.7499999999999999E-2,9.5100000000000004E-2,7.46E-2,7.46E-2,0.1759]
[2173,7.7499999999999999E-2,9.5100000000000004E-2,7.46E-2,7.46E-2,0.1759]
[2174,7.7499999999999999E-2,9.5100000000000004E-2,7.46E-2,7.46E-2,0.1759]
[2175,7.7499999999999999E-2,9.5100000000000004E-2,7.46E-2,7.46E-2,0.1759]
[2176,7.7499999999999999E-2,9.5100000000000004E-2,7.46E-2,7.46E-2,0.1759]
[2177,7.7499999999999999E-2,9.5100000000000004E-2,7.46E-2,7.46E-2,0.1759]
[2178,7.7499999999999999E-2,9.5100000000000004E-2,7.46E-2,7.46E-2,0.1759]
[2179,7.7499999999999999E-2,9.5100000000000004E-2,7.46E-2,7.46E-2,0.1759]
[2180,7.7499999999999999E-2,9.5100000000000004E-2,7.46E-2,7.46E-2,0.1759]
[2181,7.7499999999999999E-2,9.5100000000000004E-2,7.46E-2,7.46E-2,0.1759]
[2182,7.7499999999999999E-2,9.5100000000000004E-2,7.46E-2,7.46E-2,0.1759]
[2183,7.7499999999999999E-2,9.5100000000000004E-2,7.46E-2,7.46E-2,0.1759]
[2184,7.7499999999999999E-2,9.5100000000000004E-2,7.46E-2,7.46E-2,0.1759]
[2185,7.7499999999999999E-2,9.5100000000000004E-2,7.46E-2,7.46E-2,0.1759]
[2186,7.7499999999999999E-2,9.5100000000000004E-2,7.46E-2,7.46E-2,0.1759]
[2187,7.7499999999999999E-2,9.5100000000000004E-2,7.46E-2,7.46E-2,0.1759]
[2188,7.7499999999999999E-2,9.5100000000000004E-2,7.46E-2,7.46E-2,0.1759]
[2189,7.7499999999999999E-2,9.5100000000000004E-2,7.46E-2,7.46E-2,0.1759]
[2190,7.7499999999999999E-2,9.5100000000000004E-2,7.46E-2,7.46E-2,0.1759]
[2191,7.7499999999999999E-2,9.5100000000000004E-2,7.46E-2,7.46E-2,0.1759]
[2192,7.7499999999999999E-2,9.5100000000000004E-2,7.46E-2,7.46E-2,0.1759]
[2193,7.7499999999999999E-2,9.5100000000000004E-2,7.46E-2,7.46E-2,0.1759]
[2194,7.7499999999999999E-2,9.5100000000000004E-2,7.46E-2,7.46E-2,0.1759]
[2195,7.7499999999999999E-2,9.5100000000000004E-2,7.46E-2,7.46E-2,0.1759]
[2196,7.7499999999999999E-2,9.5100000000000004E-2,7.46E-2,7.46E-2,0.1759]
[2197,7.7499999999999999E-2,9.5100000000000004E-2,7.46E-2,7.46E-2,0.1759]
[2198,7.7499999999999999E-2,9.5100000000000004E-2,7.46E-2,7.46E-2,0.1759]
[2199,7.7499999999999999E-2,9.5100000000000004E-2,7.46E-2,7.46E-2,0.1759]
[2200,7.7499999999999999E-2,9.5100000000000004E-2,7.46E-2,7.46E-2,0.1759]
[2201,7.7499999999999999E-2,9.5100000000000004E-2,7.46E-2,7.46E-2,0.1759]
[2202,7.7499999999999999E-2,9.5100000000000004E-2,7.46E-2,7.46E-2,0.1759]
[2203,7.7499999999999999E-2,9.5100000000000004E-2,7.46E-2,7.46E-2,0.1759]
[2204,7.7499999999999999E-2,9.5100000000000004E-2,7.46E-2,7.46E-2,0.1759]
[2205,7.7499999999999999E-2,9.5100000000000004E-2,7.46E-2,7.46E-2,0.1759]
[2206,7.7499999999999999E-2,9.5100000000000004E-2,7.46E-2,7.46E-2,0.1759]

{"sheet":"Instrukcja","index":6,"n_rows":27,"n_cols":2,"rows_kept":27,"cut":false,"hidden":true,"merged":[[26,1,26,13],[11,1,12,13],[14,1,16,13],[17,1,18,13],[19,1,23,13],[10,1,10,13],[1,1,1,13],[3,1,4,13],[5,1,5,13],[7,1,7,13],[8,1,8,13]]}
[]
[null,"Instrukcja obsługi kalkulatora depozytów dla portfeli dla Rynku Terminowego Produktów Energetycznych"]
[]
[null,"Kalkulator depozytów służy do wyliczania depozytu wstępnego i uzupełniającego na Rynku Terminowym Produktów Energetycznych dla dowolnych portfeli kontraktów."]
[]
[null,"Przed rozpoczęciem pracy z kalkulatorem należy upewnić się, że obsługa makr w MS Excel jest włączona."]
[]
[null,"W celu obliczenia depozytów należy:"]
[null,"1. Podać datę naliczenia depozytów zabezpieczających (w formacie rrrr-mm-dd)."]
[null,"2. Jeżeli depozyty mają być wyliczone dla Członka zagranicznego, zaznaczyć check-box Członek zagraniczny."]
[null,"3. Stworzyć zestawienie koszyków dostaw na rynku RTPE poprzez wciśnięcie przycisku \"Stwórz koszyki dostaw\"."]
[null,"4. Uzupełnić (ręcznie lub przy wykorzystaniu danych z PCCP) informacje dotyczące wolumenu kupna, wolumenu \n     sprzedaży, średnio ważonego kursu kupna i średnio ważonego kursu sprzedaży w arkuszu Transakcje_PCCP:"]
[]
[null,"     4.1. Uzupełnienie informacji przy użyciu aplikacji PCCP"]
[null,"             a) Do arkusza Transkacje_PCCP należy wkleić pobrany z aplikacji PCCP raport dotyczący zawartych \n                  transakcji, dla których mają zostać oszacowane depozyty wstępne i uzupełniające (Trade History) w postaci rozdzielonej na \n                  kolumny. Następnie należy uruchomić procedurę wczytywania pliku przy użyciu przycisku \"Wczytaj transakcje z X-Stream\"."]
[]
[]
[null,"             b) Następnie należy wcisnąć przycisk \"Uzupełnij tabelę transakcjami z PCCP\", co spowoduje uzupełnienie informacji dla \n                   aktualnie utworzonego zestawienia koszyków dostaw."]
[]
[null,"5. Podać kursy rozliczeniowe dla wszystkich utworzonych koszyków dostaw. Krok ten jest niezbędny w celu poprawnego naliczenia \n     depozytu wstępnego uwzględniającego kompensację międzyproduktową w danym portfelu. Zasady wyznaczania kursów dla\n     okresów dostawy opisane są w \"Szczegółowych zasadach rozliczeń i rozrachunku Giełdowej Izby Rozrachunkowej\", dostępnych na \n     stronie internetowej Izby.  Wartości wyznaczonych przez Izbę kursów rozliczeniowych można znaleźć w aplikacji X-Stream Clearing\n     Workstation w raporcie Depozyty wstępne (Initial Margin - Position Netting)."]
[]
[]
[]
[]
[null,"6. Wcisnąć przycisk \"Oblicz i zapisz depozyty\"."]
[]
[null,"Zgodnie z regulacjami IRGiT S.A., depozyt uzupełniający o wartości dodatniej jest kompensowany do wartości 0."]

{"sheet":"Manual","index":7,"n_rows":27,"n_cols":2,"rows_kept":27,"cut":false,"hidden":true,"merged":[[26,1,26,13],[23,1,23,13],[11,1,12,13],[14,1,16,13],[17,1,18,13],[19,1,22,13],[10,1,10,13],[1,1,1,13],[3,1,4,13],[5,1,5,13],[7,1,7,13],[8,1,8,13]]}
[]
[null,"Manual for portfolio margin calculator for RTPE"]
[]
[null,"The margin calculator is designed for calculation of the initial margin value and the variation margin value on the Commodity Exchange Markets for any contract portfolio."]
[]
[null,"Before starting work with margin calculator you should make sure that MS Excel macro handling has been enabled."]
[]
[null,"In order to calculate the margins you should:"]
[null,"1. Enter the date of reckoning the collateral margins (in yyyy-mm-dd format)."]
[null,"2. If margins shall be calculated for foreign entity, mark the check-box Foreign entity."]
[null,"3. Create statement of the delivery buckets for the Commodity Exchange Markets through pressing \"Create delivery buckets\" button."]
[null,"4. Complete the information regarding the purchase volume, the sale volume, the weighted average purchase price and the weighted average sale price in the sheet \"X-Stream Transactions\" (manually or using the data from X-Stream Clearing Workstation):"]
[]
[null,"     4.1. Completing the information using PCCP application software:"]
[null,"             a) Paste the Trade History report (downloaded from the PCCP, regarding the transactions for which you \n                  would like to estimate the initial margins and the variation margins) into \"PCCP Transactions\" sheet as separated columns.\n                  Then start the file reading in procedure by pressing \"Load transactions from PCCP\" button."]
[]
[]
[null,"             b) Press \"Fill in the table with transactions from PCCP\", what will result in completing the information for the delivery baskets \n                  statement which has been currently established."]
[]
[null,"5. Enter the clearing prices for all of established delivery baskets. It is a necessary step to calculate initial margin with cross-product\n     netting properly. The rules for determination of the prices for delivery periods have been described in \"Detailed Clearing and \n     Settlement Rules of the Exchange Clearing House\", available on the IRGiT's website. The value of IRGiT's clearing prices can be\n     found in Initial Margin - Position Netting report (downloaded from X-Stream Clearing Workstation)."]
[]
[]
[]
[null,"6. Press \"Calculate and save margins\" button."]
[]
[]
[null,"Pursuant to IRGiT's regulations the positive value of variation margin is compensated to \"zero\" (0) value."]

{"sheet":"Kalkulator Depozytów","index":8,"n_rows":356,"n_cols":29,"rows_kept":356,"cut":false,"hidden":false,"merged":[[32,2,32,5],[2,1,6,6],[23,2,23,5],[7,1,7,6],[3,14,4,14]]}
[]
[null,null,null,null,null,null,null,null,null,null,null,null,null,null,null,null,null,null,null,null,null,null,null,null,null,null,1]
[null,"Kalkulator depozytów na RTEE",null,null,null,null,null,null,null,null,"BASE","PEAK5","OFFPEAK","Kompensacja międzyproduktowa","Depozyt ogółem",null,null,null,null,null,null,null,null,null,null,null,null,"BASE",0.5]
[null,null,null,null,null,null,null,null,null,"Dep. Wstępny",0,0,0,0,0,null,null,null,null,null,null,null,null,null,null,null,null,"BASE5",0.27500000000000002]
[null,null,null,null,null,null,null,null,null,"Dep. Uzupełniający",0,0,0,"-",null,null,null,null,null,null,null,null,null,null,null,null,null,"PEAK5"]
[null,null,null,null,null,null,null,null,null,null,null,null,null,null,null,null,null,null,null,null,null,null,null,null,null,"PEAK7"]
[null,null,null,null,null,null,null,null,null,null,null,null,null,null,null,null,null,null,null,null,null,null,null,null,null,"OFFPEAK"]
[]
[]
[]
[]
[null,null,"Podaj datę (rrrr-mm-dd):",null,null,null,null,null,null,"Typ kontraktu","Początek okresu","Koniec okresu","Wolumen kupna","ŚWKK","Wolumen sprzedaży","ŚWKS","Kurs Rozliczeniowy",null,"Dep. Wstępny","Dep. Uzupełniający"]
[null,null,"Członek zagraniczny:",null,null,null,null,null,null,null,null,null,null,null,null,null,null,null,null,null,null,null,null,1]
[null,null,null,null,null,1,null,null,null,null,null,null,null,null,null,null,null,null,null,null,null,null,null,2]
[null,null,null,null,null,null,null,null,null,null,null,null,null,null,null,null,null,null,null,null,null,null,null,3]
[null,null,null,null,null,null,null,null,null,null,null,null,null,null,null,null,null,null,null,null,null,null,null,4]
[null,null,null,null,null,null,null,null,null,null,null,null,null,null,null,null,null,null,null,null,null,null,null,5]
[null,null,null,null,null,null,null,null,null,null,null,null,null,null,null,null,null,null,null,null,null,null,null,6]
[null,null,null,null,null,null,null,null,null,null,null,null,null,null,null,null,null,null,null,null,null,null,null,7]
[null,null,null,null,null,null,null,null,null,null,null,null,null,null,null,null,null,null,null,null,null,null,null,8]
[null,null,null,null,null,null,null,null,null,null,null,null,null,null,null,null,null,null,null,null,null,null,null,9]
[null,null,null,null,null,null,null,null,null,null,null,null,null,null,null,null,null,null,null,null,null,null,null,10]
[null,null,null,"Aktualnie wczytany plik dla:",null,null,null,null,null,null,null,null,null,null,null,null,null,null,null,null,null,null,null,11]
[null,null,null,null,null,null,null,null,null,null,null,null,null,null,null,null,null,null,null,null,null,null,null,12]
[null,null,null,null,null,null,null,null,null,null,null,null,null,null,null,null,null,null,null,null,null,null,null,13]
[null,null,null,null,null,null,null,null,null,null,null,null,null,null,null,null,null,null,null,null,null,null,null,14]
[null,null,null,null,null,null,null,null,null,null,null,null,null,null,null,null,null,null,null,null,null,null,null,15]
[null,null,null,null,null,null,null,null,null,null,null,null,null,null,null,null,null,null,null,null,null,null,null,16]
[null,null,null,null,null,null,null,null,null,null,null,null,null,null,null,null,null,null,null,null,null,null,null,17]
[null,null,null,null,null,null,null,null,null,null,null,null,null,null,null,null,null,null,null,null,null,null,null,18]
[null,null,null,null,null,null,null,null,null,null,null,null,null,null,null,null,null,null,null,null,null,null,null,19]
[null,null,null,null,null,null,null,null,null,null,null,null,null,null,null,null,null,null,null,null,null,null,null,20]
[null,null,"*współczynnik korygujący depozyt wstępny",null,null,null,null,null,null,null,null,null,null,null,null,null,null,null,null,null,null,null,null,21]
[null,null,null,null,null,null,null,null,null,null,null,null,null,null,null,null,null,null,null,null,null,null,null,22]
[null,false,null,null,null,1,null,null,null,null,null,null,null,null,null,null,null,null,null,null,null,null,null,23]
[null,null,null,null,null,null,null,null,null,null,null,null,null,null,null,null,null,null,null,null,null,null,null,24]
[null,null,null,null,null,null,null,null,null,null,null,null,null,null,null,null,null,null,null,null,null,null,null,25]
[null,null,null,null,null,null,null,null,null,null,null,null,null,null,null,null,null,null,null,null,null,null,null,26]
[null,null,null,null,null,null,null,null,null,null,null,null,null,null,null,null,null,null,null,null,null,null,null,27]
[null,null,null,null,null,null,null,null,null,null,null,null,null,null,null,null,null,null,null,null,null,null,null,28]
[null,null,null,null,null,null,null,null,null,null,null,null,null,null,null,null,null,null,null,null,null,null,null,29]
[null,null,null,null,null,null,null,null,null,null,null,null,null,null,null,null,null,null,null,null,null,null,null,30]
[null,null,null,null,null,null,null,null,null,null,null,null,null,null,null,null,null,null,null,null,null,null,null,31]
[null,null,null,null,null,null,null,null,null,null,null,null,null,null,null,null,null,null,null,null,null,null,null,32]
[null,null,null,null,null,null,null,null,null,null,null,null,null,null,null,null,null,null,null,null,null,null,null,33]
[null,null,null,null,null,null,null,null,null,null,null,null,null,null,null,null,null,null,null,null,null,null,null,34]
[null,null,null,null,null,null,null,null,null,null,null,null,null,null,null,null,null,null,null,null,null,null,null,35]
[null,null,null,null,null,null,null,null,null,null,null,null,null,null,null,null,null,null,null,null,null,null,null,36]
[null,null,null,null,null,null,null,null,null,null,null,null,null,null,null,null,null,null,null,null,null,null,null,37]
[null,null,null,null,null,null,null,null,null,null,null,null,null,null,null,null,null,null,null,null,null,null,null,38]
[null,null,null,null,null,null,null,null,null,null,null,null,null,null,null,null,null,null,null,null,null,null,null,39]
[null,null,null,null,null,null,null,null,null,null,null,null,null,null,null,null,null,null,null,null,null,null,null,40]
[null,null,null,null,null,null,null,null,null,null,null,null,null,null,null,null,null,null,null,null,null,null,null,41]
[null,null,null,null,null,null,null,null,null,null,null,null,null,null,null,null,null,null,null,null,null,null,null,42]
[null,null,null,null,null,null,null,null,null,null,null,null,null,null,null,null,null,null,null,null,null,null,null,43]
[null,null,null,null,null,null,null,null,null,null,null,null,null,null,null,null,null,null,null,null,null,null,null,44]
[null,null,null,null,null,null,null,null,null,null,null,null,null,null,null,null,null,null,null,null,null,null,null,45]
[null,null,null,null,null,null,null,null,null,null,null,null,null,null,null,null,null,null,null,null,null,null,null,46]
[null,null,null,null,null,null,null,null,null,null,null,null,null,null,null,null,null,null,null,null,null,null,null,47]
[null,null,null,null,null,null,null,null,null,null,null,null,null,null,null,null,null,null,null,null,null,null,null,48]
[null,null,null,null,null,null,null,null,null,null,null,null,null,null,null,null,null,null,null,null,null,null,null,49]
[null,null,null,null,null,null,null,null,null,null,null,null,null,null,null,null,null,null,null,null,null,null,null,50]
[null,null,null,null,null,null,null,null,null,null,null,null,null,null,null,null,null,null,null,null,null,null,null,51]
[null,null,null,null,null,null,null,null,null,null,null,null,null,null,null,null,null,null,null,null,null,null,null,52]
[null,null,null,null,null,null,null,null,null,null,null,null,null,null,null,null,null,null,null,null,null,null,null,53]
[null,null,null,null,null,null,null,null,null,null,null,null,null,null,null,null,null,null,null,null,null,null,null,54]
[null,null,null,null,null,null,null,null,null,null,null,null,null,null,null,null,null,null,null,null,null,null,null,55]
[null,null,null,null,null,null,null,null,null,null,null,null,null,null,null,null,null,null,null,null,null,null,null,56]
[null,null,null,null,null,null,null,null,null,null,null,null,null,null,null,null,null,null,null,null,null,null,null,57]
[null,null,null,null,null,null,null,null,null,null,null,null,null,null,null,null,null,null,null,null,null,null,null,58]
[null,null,null,null,null,null,null,null,null,null,null,null,null,null,null,null,null,null,null,null,null,null,null,59]
[null,null,null,null,null,null,null,null,null,null,null,null,null,null,null,null,null,null,null,null,null,null,null,60]
[null,null,null,null,null,null,null,null,null,null,null,null,null,null,null,null,null,null,null,null,null,null,null,61]
[null,null,null,null,null,null,null,null,null,null,null,null,null,null,null,null,null,null,null,null,null,null,null,62]
[null,null,null,null,null,null,null,null,null,null,null,null,null,null,null,null,null,null,null,null,null,null,null,63]
[null,null,null,null,null,null,null,null,null,null,null,null,null,null,null,null,null,null,null,null,null,null,null,64]
[null,null,null,null,null,null,null,null,null,null,null,null,null,null,null,null,null,null,null,null,null,null,null,65]
[null,null,null,null,null,null,null,null,null,null,null,null,null,null,null,null,null,null,null,null,null,null,null,66]
[null,null,null,null,null,null,null,null,null,null,null,null,null,null,null,null,null,null,null,null,null,null,null,67]
[null,null,null,null,null,null,null,null,null,null,null,null,null,null,null,null,null,null,null,null,null,null,null,68]
[null,null,null,null,null,null,null,null,null,null,null,null,null,null,null,null,null,null,null,null,null,null,null,69]
[null,null,null,null,null,null,null,null,null,null,null,null,null,null,null,null,null,null,null,null,null,null,null,70]
[null,null,null,null,null,null,null,null,null,null,null,null,null,null,null,null,null,null,null,null,null,null,null,71]
[null,null,null,null,null,null,null,null,null,null,null,null,null,null,null,null,null,null,null,null,null,null,null,72]
[null,null,null,null,null,null,null,null,null,null,null,null,null,null,null,null,null,null,null,null,null,null,null,73]
[null,null,null,null,null,null,null,null,null,null,null,null,null,null,null,null,null,null,null,null,null,null,null,74]
[null,null,null,null,null,null,null,null,null,null,null,null,null,null,null,null,null,null,null,null,null,null,null,75]
[null,null,null,null,null,null,null,null,null,null,null,null,null,null,null,null,null,null,null,null,null,null,null,76]
[null,null,null,null,null,null,null,null,null,null,null,null,null,null,null,null,null,null,null,null,null,null,null,77]
[null,null,null,null,null,null,null,null,null,null,null,null,null,null,null,null,null,null,null,null,null,null,null,78]
[null,null,null,null,null,null,null,null,null,null,null,null,null,null,null,null,null,null,null,null,null,null,null,79]
[null,null,null,null,null,null,null,null,null,null,null,null,null,null,null,null,null,null,null,null,null,null,null,80]
[null,null,null,null,null,null,null,null,null,null,null,null,null,null,null,null,null,null,null,null,null,null,null,81]
[null,null,null,null,null,null,null,null,null,null,null,null,null,null,null,null,null,null,null,null,null,null,null,82]
[null,null,null,null,null,null,null,null,null,null,null,null,null,null,null,null,null,null,null,null,null,null,null,83]
[null,null,null,null,null,null,null,null,null,null,null,null,null,null,null,null,null,null,null,null,null,null,null,84]
[null,null,null,null,null,null,null,null,null,null,null,null,null,null,null,null,null,null,null,null,null,null,null,85]
[null,null,null,null,null,null,null,null,null,null,null,null,null,null,null,null,null,null,null,null,null,null,null,86]
[null,null,null,null,null,null,null,null,null,null,null,null,null,null,null,null,null,null,null,null,null,null,null,87]
[null,null,null,null,null,null,null,null,null,null,null,null,null,null,null,null,null,null,null,null,null,null,null,88]
[null,null,null,null,null,null,null,null,null,null,null,null,null,null,null,null,null,null,null,null,null,null,null,89]
[null,null,null,null,null,null,null,null,null,null,null,null,null,null,null,null,null,null,null,null,null,null,null,90]
[null,null,null,null,null,null,null,null,null,null,null,null,null,null,null,null,null,null,null,null,null,null,null,91]
[null,null,null,null,null,null,null,null,null,null,null,null,null,null,null,null,null,null,null,null,null,null,null,92]
[null,null,null,null,null,null,null,null,null,null,null,null,null,null,null,null,null,null,null,null,null,null,null,93]
[null,null,null,null,null,null,null,null,null,null,null,null,null,null,null,null,null,null,null,null,null,null,null,94]
[null,null,null,null,null,null,null,null,null,null,null,null,null,null,null,null,null,null,null,null,null,null,null,95]
[null,null,null,null,null,null,null,null,null,null,null,null,null,null,null,null,null,null,null,null,null,null,null,96]
[null,null,null,null,null,null,null,null,null,null,null,null,null,null,null,null,null,null,null,null,null,null,null,97]
[null,null,null,null,null,null,null,null,null,null,null,null,null,null,null,null,null,null,null,null,null,null,null,98]
[null,null,null,null,null,null,null,null,null,null,null,null,null,null,null,null,null,null,null,null,null,null,null,99]
[null,null,null,null,null,null,null,null,null,null,null,null,null,null,null,null,null,null,null,null,null,null,null,100]
[null,null,null,null,null,null,null,null,null,null,null,null,null,null,null,null,null,null,null,null,null,null,null,101]
[null,null,null,null,null,null,null,null,null,null,null,null,null,null,null,null,null,null,null,null,null,null,null,102]
[null,null,null,null,null,null,null,null,null,null,null,null,null,null,null,null,null,null,null,null,null,null,null,103]
[null,null,null,null,null,null,null,null,null,null,null,null,null,null,null,null,null,null,null,null,null,null,null,104]
[null,null,null,null,null,null,null,null,null,null,null,null,null,null,null,null,null,null,null,null,null,null,null,105]
[null,null,null,null,null,null,null,null,null,null,null,null,null,null,null,null,null,null,null,null,null,null,null,106]
[null,null,null,null,null,null,null,null,null,null,null,null,null,null,null,null,null,null,null,null,null,null,null,107]
[null,null,null,null,null,null,null,null,null,null,null,null,null,null,null,null,null,null,null,null,null,null,null,108]
[null,null,null,null,null,null,null,null,null,null,null,null,null,null,null,null,null,null,null,null,null,null,null,109]
[null,null,null,null,null,null,null,null,null,null,null,null,null,null,null,null,null,null,null,null,null,null,null,110]
[null,null,null,null,null,null,null,null,null,null,null,null,null,null,null,null,null,null,null,null,null,null,null,111]
[null,null,null,null,null,null,null,null,null,null,null,null,null,null,null,null,null,null,null,null,null,null,null,112]
[null,null,null,null,null,null,null,null,null,null,null,null,null,null,null,null,null,null,null,null,null,null,null,113]
[null,null,null,null,null,null,null,null,null,null,null,null,null,null,null,null,null,null,null,null,null,null,null,114]
[null,null,null,null,null,null,null,null,null,null,null,null,null,null,null,null,null,null,null,null,null,null,null,115]
[null,null,null,null,null,null,null,null,null,null,null,null,null,null,null,null,null,null,null,null,null,null,null,116]
[null,null,null,null,null,null,null,null,null,null,null,null,null,null,null,null,null,null,null,null,null,null,null,117]
[null,null,null,null,null,null,null,null,null,null,null,null,null,null,null,null,null,null,null,null,null,null,null,118]
[null,null,null,null,null,null,null,null,null,null,null,null,null,null,null,null,null,null,null,null,null,null,null,119]
[null,null,null,null,null,null,null,null,null,null,null,null,null,null,null,null,null,null,null,null,null,null,null,120]
[null,null,null,null,null,null,null,null,null,null,null,null,null,null,null,null,null,null,null,null,null,null,null,121]
[null,null,null,null,null,null,null,null,null,null,null,null,null,null,null,null,null,null,null,null,null,null,null,122]
[null,null,null,null,null,null,null,null,null,null,null,null,null,null,null,null,null,null,null,null,null,null,null,123]
[null,null,null,null,null,null,null,null,null,null,null,null,null,null,null,null,null,null,null,null,null,null,null,124]
[null,null,null,null,null,null,null,null,null,null,null,null,null,null,null,null,null,null,null,null,null,null,null,125]
[null,null,null,null,null,null,null,null,null,null,null,null,null,null,null,null,null,null,null,null,null,null,null,126]
[null,null,null,null,null,null,null,null,null,null,null,null,null,null,null,null,null,null,null,null,null,null,null,127]
[null,null,null,null,null,null,null,null,null,null,null,null,null,null,null,null,null,null,null,null,null,null,null,128]
[null,null,null,null,null,null,null,null,null,null,null,null,null,null,null,null,null,null,null,null,null,null,null,129]
[null,null,null,null,null,null,null,null,null,null,null,null,null,null,null,null,null,null,null,null,null,null,null,130]
[null,null,null,null,null,null,null,null,null,null,null,null,null,null,null,null,null,null,null,null,null,null,null,131]
[null,null,null,null,null,null,null,null,null,null,null,null,null,null,null,null,null,null,null,null,null,null,null,132]
[null,null,null,null,null,null,null,null,null,null,null,null,null,null,null,null,null,null,null,null,null,null,null,133]
[null,null,null,null,null,null,null,null,null,null,null,null,null,null,null,null,null,null,null,null,null,null,null,134]
[null,null,null,null,null,null,null,null,null,null,null,null,null,null,null,null,null,null,null,null,null,null,null,135]
[null,null,null,null,null,null,null,null,null,null,null,null,null,null,null,null,null,null,null,null,null,null,null,136]
[null,null,null,null,null,null,null,null,null,null,null,null,null,null,null,null,null,null,null,null,null,null,null,137]
[null,null,null,null,null,null,null,null,null,null,null,null,null,null,null,null,null,null,null,null,null,null,null,138]
[null,null,null,null,null,null,null,null,null,null,null,null,null,null,null,null,null,null,null,null,null,null,null,139]
[null,null,null,null,null,null,null,null,null,null,null,null,null,null,null,null,null,null,null,null,null,null,null,140]
[null,null,null,null,null,null,null,null,null,null,null,null,null,null,null,null,null,null,null,null,null,null,null,141]
[null,null,null,null,null,null,null,null,null,null,null,null,null,null,null,null,null,null,null,null,null,null,null,142]
[null,null,null,null,null,null,null,null,null,null,null,null,null,null,null,null,null,null,null,null,null,null,null,143]
[null,null,null,null,null,null,null,null,null,null,null,null,null,null,null,null,null,null,null,null,null,null,null,144]
[null,null,null,null,null,null,null,null,null,null,null,null,null,null,null,null,null,null,null,null,null,null,null,145]
[null,null,null,null,null,null,null,null,null,null,null,null,null,null,null,null,null,null,null,null,null,null,null,146]
[null,null,null,null,null,null,null,null,null,null,null,null,null,null,null,null,null,null,null,null,null,null,null,147]
[null,null,null,null,null,null,null,null,null,null,null,null,null,null,null,null,null,null,null,null,null,null,null,148]
[null,null,null,null,null,null,null,null,null,null,null,null,null,null,null,null,null,null,null,null,null,null,null,149]
[null,null,null,null,null,null,null,null,null,null,null,null,null,null,null,null,null,null,null,null,null,null,null,150]
[null,null,null,null,null,null,null,null,null,null,null,null,null,null,null,null,null,null,null,null,null,null,null,151]
[null,null,null,null,null,null,null,null,null,null,null,null,null,null,null,null,null,null,null,null,null,null,null,152]
[null,null,null,null,null,null,null,null,null,null,null,null,null,null,null,null,null,null,null,null,null,null,null,153]
[null,null,null,null,null,null,null,null,null,null,null,null,null,null,null,null,null,null,null,null,null,null,null,154]
[null,null,null,null,null,null,null,null,null,null,null,null,null,null,null,null,null,null,null,null,null,null,null,155]
[null,null,null,null,null,null,null,null,null,null,null,null,null,null,null,null,null,null,null,null,null,null,null,156]
[null,null,null,null,null,null,null,null,null,null,null,null,null,null,null,null,null,null,null,null,null,null,null,157]
[null,null,null,null,null,null,null,null,null,null,null,null,null,null,null,null,null,null,null,null,null,null,null,158]
[null,null,null,null,null,null,null,null,null,null,null,null,null,null,null,null,null,null,null,null,null,null,null,159]
[null,null,null,null,null,null,null,null,null,null,null,null,null,null,null,null,null,null,null,null,null,null,null,160]
[null,null,null,null,null,null,null,null,null,null,null,null,null,null,null,null,null,null,null,null,null,null,null,161]
[null,null,null,null,null,null,null,null,null,null,null,null,null,null,null,null,null,null,null,null,null,null,null,162]
[null,null,null,null,null,null,null,null,null,null,null,null,null,null,null,null,null,null,null,null,null,null,null,163]
[null,null,null,null,null,null,null,null,null,null,null,null,null,null,null,null,null,null,null,null,null,null,null,164]
[null,null,null,null,null,null,null,null,null,null,null,null,null,null,null,null,null,null,null,null,null,null,null,165]
[null,null,null,null,null,null,null,null,null,null,null,null,null,null,null,null,null,null,null,null,null,null,null,166]
[null,null,null,null,null,null,null,null,null,null,null,null,null,null,null,null,null,null,null,null,null,null,null,167]
[null,null,null,null,null,null,null,null,null,null,null,null,null,null,null,null,null,null,null,null,null,null,null,168]
[null,null,null,null,null,null,null,null,null,null,null,null,null,null,null,null,null,null,null,null,null,null,null,169]
[null,null,null,null,null,null,null,null,null,null,null,null,null,null,null,null,null,null,null,null,null,null,null,170]
[null,null,null,null,null,null,null,null,null,null,null,null,null,null,null,null,null,null,null,null,null,null,null,171]
[null,null,null,null,null,null,null,null,null,null,null,null,null,null,null,null,null,null,null,null,null,null,null,172]
[null,null,null,null,null,null,null,null,null,null,null,null,null,null,null,null,null,null,null,null,null,null,null,173]
[null,null,null,null,null,null,null,null,null,null,null,null,null,null,null,null,null,null,null,null,null,null,null,174]
[null,null,null,null,null,null,null,null,null,null,null,null,null,null,null,null,null,null,null,null,null,null,null,175]
[null,null,null,null,null,null,null,null,null,null,null,null,null,null,null,null,null,null,null,null,null,null,null,176]
[null,null,null,null,null,null,null,null,null,null,null,null,null,null,null,null,null,null,null,null,null,null,null,177]
[null,null,null,null,null,null,null,null,null,null,null,null,null,null,null,null,null,null,null,null,null,null,null,178]
[null,null,null,null,null,null,null,null,null,null,null,null,null,null,null,null,null,null,null,null,null,null,null,179]
[null,null,null,null,null,null,null,null,null,null,null,null,null,null,null,null,null,null,null,null,null,null,null,180]
[null,null,null,null,null,null,null,null,null,null,null,null,null,null,null,null,null,null,null,null,null,null,null,181]
[null,null,null,null,null,null,null,null,null,null,null,null,null,null,null,null,null,null,null,null,null,null,null,182]
[null,null,null,null,null,null,null,null,null,null,null,null,null,null,null,null,null,null,null,null,null,null,null,183]
[null,null,null,null,null,null,null,null,null,null,null,null,null,null,null,null,null,null,null,null,null,null,null,184]
[null,null,null,null,null,null,null,null,null,null,null,null,null,null,null,null,null,null,null,null,null,null,null,185]
[null,null,null,null,null,null,null,null,null,null,null,null,null,null,null,null,null,null,null,null,null,null,null,186]
[null,null,null,null,null,null,null,null,null,null,null,null,null,null,null,null,null,null,null,null,null,null,null,187]
[null,null,null,null,null,null,null,null,null,null,null,null,null,null,null,null,null,null,null,null,null,null,null,188]
[null,null,null,null,null,null,null,null,null,null,null,null,null,null,null,null,null,null,null,null,null,null,null,189]
[null,null,null,null,null,null,null,null,null,null,null,null,null,null,null,null,null,null,null,null,null,null,null,190]
[null,null,null,null,null,null,null,null,null,null,null,null,null,null,null,null,null,null,null,null,null,null,null,191]
[null,null,null,null,null,null,null,null,null,null,null,null,null,null,null,null,null,null,null,null,null,null,null,192]
[null,null,null,null,null,null,null,null,null,null,null,null,null,null,null,null,null,null,null,null,null,null,null,193]
[null,null,null,null,null,null,null,null,null,null,null,null,null,null,null,null,null,null,null,null,null,null,null,194]
[null,null,null,null,null,null,null,null,null,null,null,null,null,null,null,null,null,null,null,null,null,null,null,195]
[null,null,null,null,null,null,null,null,null,null,null,null,null,null,null,null,null,null,null,null,null,null,null,196]
[null,null,null,null,null,null,null,null,null,null,null,null,null,null,null,null,null,null,null,null,null,null,null,197]
[null,null,null,null,null,null,null,null,null,null,null,null,null,null,null,null,null,null,null,null,null,null,null,198]
[null,null,null,null,null,null,null,null,null,null,null,null,null,null,null,null,null,null,null,null,null,null,null,199]
[null,null,null,null,null,null,null,null,null,null,null,null,null,null,null,null,null,null,null,null,null,null,null,200]
[null,null,null,null,null,null,null,null,null,null,null,null,null,null,null,null,null,null,null,null,null,null,null,201]
[null,null,null,null,null,null,null,null,null,null,null,null,null,null,null,null,null,null,null,null,null,null,null,202]
[null,null,null,null,null,null,null,null,null,null,null,null,null,null,null,null,null,null,null,null,null,null,null,203]
[null,null,null,null,null,null,null,null,null,null,null,null,null,null,null,null,null,null,null,null,null,null,null,204]
[null,null,null,null,null,null,null,null,null,null,null,null,null,null,null,null,null,null,null,null,null,null,null,205]
[null,null,null,null,null,null,null,null,null,null,null,null,null,null,null,null,null,null,null,null,null,null,null,206]
[null,null,null,null,null,null,null,null,null,null,null,null,null,null,null,null,null,null,null,null,null,null,null,207]
[null,null,null,null,null,null,null,null,null,null,null,null,null,null,null,null,null,null,null,null,null,null,null,208]
[null,null,null,null,null,null,null,null,null,null,null,null,null,null,null,null,null,null,null,null,null,null,null,209]
[null,null,null,null,null,null,null,null,null,null,null,null,null,null,null,null,null,null,null,null,null,null,null,210]
[null,null,null,null,null,null,null,null,null,null,null,null,null,null,null,null,null,null,null,null,null,null,null,211]
[null,null,null,null,null,null,null,null,null,null,null,null,null,null,null,null,null,null,null,null,null,null,null,212]
[null,null,null,null,null,null,null,null,null,null,null,null,null,null,null,null,null,null,null,null,null,null,null,213]
[null,null,null,null,null,null,null,null,null,null,null,null,null,null,null,null,null,null,null,null,null,null,null,214]
[null,null,null,null,null,null,null,null,null,null,null,null,null,null,null,null,null,null,null,null,null,null,null,215]
[null,null,null,null,null,null,null,null,null,null,null,null,null,null,null,null,null,null,null,null,null,null,null,216]
[null,null,null,null,null,null,null,null,null,null,null,null,null,null,null,null,null,null,null,null,null,null,null,217]
[null,null,null,null,null,null,null,null,null,null,null,null,null,null,null,null,null,null,null,null,null,null,null,218]
[null,null,null,null,null,null,null,null,null,null,null,null,null,null,null,null,null,null,null,null,null,null,null,219]
[null,null,null,null,null,null,null,null,null,null,null,null,null,null,null,null,null,null,null,null,null,null,null,220]
[null,null,null,null,null,null,null,null,null,null,null,null,null,null,null,null,null,null,null,null,null,null,null,221]
[null,null,null,null,null,null,null,null,null,null,null,null,null,null,null,null,null,null,null,null,null,null,null,222]
[null,null,null,null,null,null,null,null,null,null,null,null,null,null,null,null,null,null,null,null,null,null,null,223]
[null,null,null,null,null,null,null,null,null,null,null,null,null,null,null,null,null,null,null,null,null,null,null,224]
[null,null,null,null,null,null,null,null,null,null,null,null,null,null,null,null,null,null,null,null,null,null,null,225]
[null,null,null,null,null,null,null,null,null,null,null,null,null,null,null,null,null,null,null,null,null,null,null,226]
[null,null,null,null,null,null,null,null,null,null,null,null,null,null,null,null,null,null,null,null,null,null,null,227]
[null,null,null,null,null,null,null,null,null,null,null,null,null,null,null,null,null,null,null,null,null,null,null,228]
[null,null,null,null,null,null,null,null,null,null,null,null,null,null,null,null,null,null,null,null,null,null,null,229]
[null,null,null,null,null,null,null,null,null,null,null,null,null,null,null,null,null,null,null,null,null,null,null,230]
[null,null,null,null,null,null,null,null,null,null,null,null,null,null,null,null,null,null,null,null,null,null,null,231]
[null,null,null,null,null,null,null,null,null,null,null,null,null,null,null,null,null,null,null,null,null,null,null,232]
[null,null,null,null,null,null,null,null,null,null,null,null,null,null,null,null,null,null,null,null,null,null,null,233]
[null,null,null,null,null,null,null,null,null,null,null,null,null,null,null,null,null,null,null,null,null,null,null,234]
[null,null,null,null,null,null,null,null,null,null,null,null,null,null,null,null,null,null,null,null,null,null,null,235]
[null,null,null,null,null,null,null,null,null,null,null,null,null,null,null,null,null,null,null,null,null,null,null,236]
[null,null,null,null,null,null,null,null,null,null,null,null,null,null,null,null,null,null,null,null,null,null,null,237]
[null,null,null,null,null,null,null,null,null,null,null,null,null,null,null,null,null,null,null,null,null,null,null,238]
[null,null,null,null,null,null,null,null,null,null,null,null,null,null,null,null,null,null,null,null,null,null,null,239]
[null,null,null,null,null,null,null,null,null,null,null,null,null,null,null,null,null,null,null,null,null,null,null,240]
[null,null,null,null,null,null,null,null,null,null,null,null,null,null,null,null,null,null,null,null,null,null,null,241]
[null,null,null,null,null,null,null,null,null,null,null,null,null,null,null,null,null,null,null,null,null,null,null,242]
[null,null,null,null,null,null,null,null,null,null,null,null,null,null,null,null,null,null,null,null,null,null,null,243]
[null,null,null,null,null,null,null,null,null,null,null,null,null,null,null,null,null,null,null,null,null,null,null,244]
[null,null,null,null,null,null,null,null,null,null,null,null,null,null,null,null,null,null,null,null,null,null,null,245]
[null,null,null,null,null,null,null,null,null,null,null,null,null,null,null,null,null,null,null,null,null,null,null,246]
[null,null,null,null,null,null,null,null,null,null,null,null,null,null,null,null,null,null,null,null,null,null,null,247]
[null,null,null,null,null,null,null,null,null,null,null,null,null,null,null,null,null,null,null,null,null,null,null,248]
[null,null,null,null,null,null,null,null,null,null,null,null,null,null,null,null,null,null,null,null,null,null,null,249]
[null,null,null,null,null,null,null,null,null,null,null,null,null,null,null,null,null,null,null,null,null,null,null,250]
[null,null,null,null,null,null,null,null,null,null,null,null,null,null,null,null,null,null,null,null,null,null,null,251]
[null,null,null,null,null,null,null,null,null,null,null,null,null,null,null,null,null,null,null,null,null,null,null,252]
[null,null,null,null,null,null,null,null,null,null,null,null,null,null,null,null,null,null,null,null,null,null,null,253]
[null,null,null,null,null,null,null,null,null,null,null,null,null,null,null,null,null,null,null,null,null,null,null,254]
[null,null,null,null,null,null,null,null,null,null,null,null,null,null,null,null,null,null,null,null,null,null,null,255]
[null,null,null,null,null,null,null,null,null,null,null,null,null,null,null,null,null,null,null,null,null,null,null,256]
[null,null,null,null,null,null,null,null,null,null,null,null,null,null,null,null,null,null,null,null,null,null,null,257]
[null,null,null,null,null,null,null,null,null,null,null,null,null,null,null,null,null,null,null,null,null,null,null,258]
[null,null,null,null,null,null,null,null,null,null,null,null,null,null,null,null,null,null,null,null,null,null,null,259]
[null,null,null,null,null,null,null,null,null,null,null,null,null,null,null,null,null,null,null,null,null,null,null,260]
[null,null,null,null,null,null,null,null,null,null,null,null,null,null,null,null,null,null,null,null,null,null,null,261]
[null,null,null,null,null,null,null,null,null,null,null,null,null,null,null,null,null,null,null,null,null,null,null,262]
[null,null,null,null,null,null,null,null,null,null,null,null,null,null,null,null,null,null,null,null,null,null,null,263]
[null,null,null,null,null,null,null,null,null,null,null,null,null,null,null,null,null,null,null,null,null,null,null,264]
[null,null,null,null,null,null,null,null,null,null,null,null,null,null,null,null,null,null,null,null,null,null,null,265]
[null,null,null,null,null,null,null,null,null,null,null,null,null,null,null,null,null,null,null,null,null,null,null,266]
[null,null,null,null,null,null,null,null,null,null,null,null,null,null,null,null,null,null,null,null,null,null,null,267]
[null,null,null,null,null,null,null,null,null,null,null,null,null,null,null,null,null,null,null,null,null,null,null,268]
[null,null,null,null,null,null,null,null,null,null,null,null,null,null,null,null,null,null,null,null,null,null,null,269]
[null,null,null,null,null,null,null,null,null,null,null,null,null,null,null,null,null,null,null,null,null,null,null,270]
[null,null,null,null,null,null,null,null,null,null,null,null,null,null,null,null,null,null,null,null,null,null,null,271]
[null,null,null,null,null,null,null,null,null,null,null,null,null,null,null,null,null,null,null,null,null,null,null,272]
[null,null,null,null,null,null,null,null,null,null,null,null,null,null,null,null,null,null,null,null,null,null,null,273]
[null,null,null,null,null,null,null,null,null,null,null,null,null,null,null,null,null,null,null,null,null,null,null,274]
[null,null,null,null,null,null,null,null,null,null,null,null,null,null,null,null,null,null,null,null,null,null,null,275]
[null,null,null,null,null,null,null,null,null,null,null,null,null,null,null,null,null,null,null,null,null,null,null,276]
[null,null,null,null,null,null,null,null,null,null,null,null,null,null,null,null,null,null,null,null,null,null,null,277]
[null,null,null,null,null,null,null,null,null,null,null,null,null,null,null,null,null,null,null,null,null,null,null,278]
[null,null,null,null,null,null,null,null,null,null,null,null,null,null,null,null,null,null,null,null,null,null,null,279]
[null,null,null,null,null,null,null,null,null,null,null,null,null,null,null,null,null,null,null,null,null,null,null,280]
[null,null,null,null,null,null,null,null,null,null,null,null,null,null,null,null,null,null,null,null,null,null,null,281]
[null,null,null,null,null,null,null,null,null,null,null,null,null,null,null,null,null,null,null,null,null,null,null,282]
[null,null,null,null,null,null,null,null,null,null,null,null,null,null,null,null,null,null,null,null,null,null,null,283]
[null,null,null,null,null,null,null,null,null,null,null,null,null,null,null,null,null,null,null,null,null,null,null,284]
[null,null,null,null,null,null,null,null,null,null,null,null,null,null,null,null,null,null,null,null,null,null,null,285]
[null,null,null,null,null,null,null,null,null,null,null,null,null,null,null,null,null,null,null,null,null,null,null,286]
[null,null,null,null,null,null,null,null,null,null,null,null,null,null,null,null,null,null,null,null,null,null,null,287]
[null,null,null,null,null,null,null,null,null,null,null,null,null,null,null,null,null,null,null,null,null,null,null,288]
[null,null,null,null,null,null,null,null,null,null,null,null,null,null,null,null,null,null,null,null,null,null,null,289]
[null,null,null,null,null,null,null,null,null,null,null,null,null,null,null,null,null,null,null,null,null,null,null,290]
[null,null,null,null,null,null,null,null,null,null,null,null,null,null,null,null,null,null,null,null,null,null,null,291]
[null,null,null,null,null,null,null,null,null,null,null,null,null,null,null,null,null,null,null,null,null,null,null,292]
[null,null,null,null,null,null,null,null,null,null,null,null,null,null,null,null,null,null,null,null,null,null,null,293]
[null,null,null,null,null,null,null,null,null,null,null,null,null,null,null,null,null,null,null,null,null,null,null,294]
[null,null,null,null,null,null,null,null,null,null,null,null,null,null,null,null,null,null,null,null,null,null,null,295]
[null,null,null,null,null,null,null,null,null,null,null,null,null,null,null,null,null,null,null,null,null,null,null,296]
[null,null,null,null,null,null,null,null,null,null,null,null,null,null,null,null,null,null,null,null,null,null,null,297]
[null,null,null,null,null,null,null,null,null,null,null,null,null,null,null,null,null,null,null,null,null,null,null,298]
[null,null,null,null,null,null,null,null,null,null,null,null,null,null,null,null,null,null,null,null,null,null,null,299]
[null,null,null,null,null,null,null,null,null,null,null,null,null,null,null,null,null,null,null,null,null,null,null,300]
[null,null,null,null,null,null,null,null,null,null,null,null,null,null,null,null,null,null,null,null,null,null,null,301]
[null,null,null,null,null,null,null,null,null,null,null,null,null,null,null,null,null,null,null,null,null,null,null,302]
[null,null,null,null,null,null,null,null,null,null,null,null,null,null,null,null,null,null,null,null,null,null,null,303]
[null,null,null,null,null,null,null,null,null,null,null,null,null,null,null,null,null,null,null,null,null,null,null,304]
[null,null,null,null,null,null,null,null,null,null,null,null,null,null,null,null,null,null,null,null,null,null,null,305]
[null,null,null,null,null,null,null,null,null,null,null,null,null,null,null,null,null,null,null,null,null,null,null,306]
[null,null,null,null,null,null,null,null,null,null,null,null,null,null,null,null,null,null,null,null,null,null,null,307]
[null,null,null,null,null,null,null,null,null,null,null,null,null,null,null,null,null,null,null,null,null,null,null,308]
[null,null,null,null,null,null,null,null,null,null,null,null,null,null,null,null,null,null,null,null,null,null,null,309]
[null,null,null,null,null,null,null,null,null,null,null,null,null,null,null,null,null,null,null,null,null,null,null,310]
[null,null,null,null,null,null,null,null,null,null,null,null,null,null,null,null,null,null,null,null,null,null,null,311]
[null,null,null,null,null,null,null,null,null,null,null,null,null,null,null,null,null,null,null,null,null,null,null,312]
[null,null,null,null,null,null,null,null,null,null,null,null,null,null,null,null,null,null,null,null,null,null,null,313]
[null,null,null,null,null,null,null,null,null,null,null,null,null,null,null,null,null,null,null,null,null,null,null,314]
[null,null,null,null,null,null,null,null,null,null,null,null,null,null,null,null,null,null,null,null,null,null,null,315]
[null,null,null,null,null,null,null,null,null,null,null,null,null,null,null,null,null,null,null,null,null,null,null,316]
[null,null,null,null,null,null,null,null,null,null,null,null,null,null,null,null,null,null,null,null,null,null,null,317]
[null,null,null,null,null,null,null,null,null,null,null,null,null,null,null,null,null,null,null,null,null,null,null,318]
[null,null,null,null,null,null,null,null,null,null,null,null,null,null,null,null,null,null,null,null,null,null,null,319]
[null,null,null,null,null,null,null,null,null,null,null,null,null,null,null,null,null,null,null,null,null,null,null,320]
[null,null,null,null,null,null,null,null,null,null,null,null,null,null,null,null,null,null,null,null,null,null,null,321]
[null,null,null,null,null,null,null,null,null,null,null,null,null,null,null,null,null,null,null,null,null,null,null,322]
[null,null,null,null,null,null,null,null,null,null,null,null,null,null,null,null,null,null,null,null,null,null,null,323]
[null,null,null,null,null,null,null,null,null,null,null,null,null,null,null,null,null,null,null,null,null,null,null,324]
[null,null,null,null,null,null,null,null,null,null,null,null,null,null,null,null,null,null,null,null,null,null,null,325]
[null,null,null,null,null,null,null,null,null,null,null,null,null,null,null,null,null,null,null,null,null,null,null,326]
[null,null,null,null,null,null,null,null,null,null,null,null,null,null,null,null,null,null,null,null,null,null,null,327]
[null,null,null,null,null,null,null,null,null,null,null,null,null,null,null,null,null,null,null,null,null,null,null,328]
[null,null,null,null,null,null,null,null,null,null,null,null,null,null,null,null,null,null,null,null,null,null,null,329]
[null,null,null,null,null,null,null,null,null,null,null,null,null,null,null,null,null,null,null,null,null,null,null,330]
[null,null,null,null,null,null,null,null,null,null,null,null,null,null,null,null,null,null,null,null,null,null,null,331]
[null,null,null,null,null,null,null,null,null,null,null,null,null,null,null,null,null,null,null,null,null,null,null,332]
[null,null,null,null,null,null,null,null,null,null,null,null,null,null,null,null,null,null,null,null,null,null,null,333]
[null,null,null,null,null,null,null,null,null,null,null,null,null,null,null,null,null,null,null,null,null,null,null,334]
[null,null,null,null,null,null,null,null,null,null,null,null,null,null,null,null,null,null,null,null,null,null,null,335]
[null,null,null,null,null,null,null,null,null,null,null,null,null,null,null,null,null,null,null,null,null,null,null,336]
[null,null,null,null,null,null,null,null,null,null,null,null,null,null,null,null,null,null,null,null,null,null,null,337]
[null,null,null,null,null,null,null,null,null,null,null,null,null,null,null,null,null,null,null,null,null,null,null,338]
[null,null,null,null,null,null,null,null,null,null,null,null,null,null,null,null,null,null,null,null,null,null,null,339]
[null,null,null,null,null,null,null,null,null,null,null,null,null,null,null,null,null,null,null,null,null,null,null,340]
[null,null,null,null,null,null,null,null,null,null,null,null,null,null,null,null,null,null,null,null,null,null,null,341]
[null,null,null,null,null,null,null,null,null,null,null,null,null,null,null,null,null,null,null,null,null,null,null,342]
[null,null,null,null,null,null,null,null,null,null,null,null,null,null,null,null,null,null,null,null,null,null,null,343]
[null,null,null,null,null,null,null,null,null,null,null,null,null,null,null,null,null,null,null,null,null,null,null,344]

{"sheet":"raport RTT","index":9,"n_rows":83,"n_cols":9,"rows_kept":83,"cut":false,"hidden":true,"merged":[]}
[]
[]
[]
[]
[null,"BASE_W-21-23",{"$f":"IF(FIND(\"_\",B5)<FIND(\"-\",B5),IFERROR(MID(B5,FIND(\"_\",B5)+1,1),\"\"),IFERROR(\"P-\"&MID(B5,FIND(\"_\",B5)+1,1),\"\"))","v":"W"},null,"W",{"$f":"COUNTIF(C:C,E5)/3","v":5},null,null,"tutaj usuwając/dodając instrumenty wpływamy na ilość generujących się koszyków"]
[null,"BASE_W-22-23",{"$f":"IF(FIND(\"_\",B6)<FIND(\"-\",B6),IFERROR(MID(B6,FIND(\"_\",B6)+1,1),\"\"),IFERROR(\"P-\"&MID(B6,FIND(\"_\",B6)+1,1),\"\"))","v":"W"},null,"M",{"$f":"COUNTIF(C:C,E6)/3","v":6}]
[null,"BASE_W-23-23","W",null,"Q",{"$f":"COUNTIF(C:C,E7)/3","v":6}]
[null,"BASE_W-24-23","W",null,"Y",{"$f":"COUNTIF(C:C,E8)/3","v":4}]
[null,"BASE_W-25-23","W",null,"P-W",{"$f":"COUNTIF(C:C,E9)/2","v":4}]
[null,"BASE_M-06-23","M",null,"P-M",{"$f":"COUNTIF(C:C,E10)/2","v":2}]
[null,"BASE_M-07-23","M",null,"P-Q",2]
[null,"BASE_M-08-23","M"]
[null,"BASE_M-09-23","M"]
[null,"BASE_M-10-23","M"]
[null,"BASE_M-11-23","M"]
[null,"BASE_Q-3-23","Q"]
[null,"BASE_Q-4-23","Q"]
[null,"BASE_Q-1-24","Q"]
[null,"BASE_Q-2-24","Q"]
[null,"BASE_Q-3-24","Q"]
[null,"BASE_Q-4-24","Q"]
[null,"BASE_Y-24","Y"]
[null,"BASE_Y-25","Y"]
[null,"BASE_Y-26","Y"]
[null,"BASE_Y-27","Y"]
[null,"PEAK5_W-21-23","W"]
[null,"PEAK5_W-22-23","W"]
[null,"PEAK5_W-23-23","W"]
[null,"PEAK5_W-24-23","W"]
[null,"PEAK5_W-25-23","W"]
[null,"PEAK5_M-06-23","M"]
[null,"PEAK5_M-07-23","M"]
[null,"PEAK5_M-08-23","M"]
[null,"PEAK5_M-09-23","M"]
[null,"PEAK5_M-10-23","M"]
[null,"PEAK5_M-11-23","M"]
[null,"PEAK5_Q-3-23","Q"]
[null,"PEAK5_Q-4-23","Q"]
[null,"PEAK5_Q-1-24","Q"]
[null,"PEAK5_Q-2-24","Q"]
[null,"PEAK5_Q-3-24","Q"]
[null,"PEAK5_Q-4-24","Q"]
[null,"PEAK5_Y-24","Y"]
[null,"PEAK5_Y-25","Y"]
[null,"PEAK5_Y-26","Y"]
[null,"PEAK5_Y-27","Y"]
[null,"OFFPEAK_W-21-23","W"]
[null,"OFFPEAK_W-22-23","W"]
[null,"OFFPEAK_W-23-23","W"]
[null,"OFFPEAK_W-24-23","W"]
[null,"OFFPEAK_W-25-23","W"]
[null,"OFFPEAK_M-06-23","M"]
[null,"OFFPEAK_M-07-23","M"]
[null,"OFFPEAK_M-08-23","M"]
[null,"OFFPEAK_M-09-23","M"]
[null,"OFFPEAK_M-10-23","M"]
[null,"OFFPEAK_M-11-23","M"]
[null,"OFFPEAK_Q-3-23","Q"]
[null,"OFFPEAK_Q-4-23","Q"]
[null,"OFFPEAK_Q-1-24","Q"]
[null,"OFFPEAK_Q-2-24","Q"]
[null,"OFFPEAK_Q-3-24","Q"]
[null,"OFFPEAK_Q-4-24","Q"]
[null,"OFFPEAK_Y-24","Y"]
[null,"OFFPEAK_Y-25","Y"]
[null,"OFFPEAK_Y-26","Y"]
[null,"OFFPEAK_Y-27","Y"]
[null,"H-PEAK5_W-21-23","P-W"]
[null,"H-PEAK5_W-22-23","P-W"]
[null,"H-PEAK5_W-23-23",{"$f":"IF(FIND(\"_\",B70)<FIND(\"-\",B70),IFERROR(MID(B70,FIND(\"_\",B70)+1,1),\"\"),IFERROR(\"P-\"&MID(B70,FIND(\"_\",B70)+1,1),\"\"))","v":"P-W"}]
[null,"H-PEAK5_W-24-23","P-W"]
[null,"H-PEAK5_M-06-23","P-M"]
[null,"H-PEAK5_M-07-23","P-M"]
[null,"H-PEAK5_Q-3-23","P-Q"]
[null,"H-PEAK5_Q-4-23","P-Q"]
[null,"L-PEAK5_W-21-23","P-W"]
[null,"L-PEAK5_W-22-23","P-W"]
[null,"L-PEAK5_W-23-23","P-W"]
[null,"L-PEAK5_W-24-23","P-W"]
[null,"L-PEAK5_M-06-23","P-M"]
[null,"L-PEAK5_M-07-23","P-M"]
[null,"L-PEAK5_Q-3-23","P-Q"]
[null,"L-PEAK5_Q-4-23","P-Q"]

{"sheet":"Transakcje_PCCP","index":10,"n_rows":0,"n_cols":0,"rows_kept":0,"cut":false,"hidden":false,"merged":[]}

{"sheet":"Tabela","index":11,"n_rows":1034,"n_cols":57,"rows_kept":1034,"cut":false,"hidden":true,"merged":[]}
[]
[]
[]
[]
[]
[]
[]
[null,null,null,null,null,null,null,null,null,null,null,null,null,null,null,null,null,null,null,null,null,null,null,null,null,null,null,null,null,null,null,null,null,null,null,null,null,null,"cos1","cos2","cos3","cos4","cos5","cos6","cos7","cos8","cos9","cos10","cos11","cos12"]
[null,null,null,null,null,null,null,null,null,null,null,null,null,null,null,null,null,null,null,null,null,null,null,null,null,null,null,null,null,null,null,null,null,null,null,null,null,null,null,null,null,null,null,null,null,null,null,null,null,1,null,null,20131,1,2013,"2012-12-31","2013-01-06"]
[null,null,null,null,null,null,null,null,null,null,null,null,null,null,null,null,null,null,null,null,null,null,null,null,null,null,null,null,null,null,null,null,null,null,null,null,null,null,null,null,null,null,null,null,null,null,null,null,null,2,null,null,20132,2,2013,"2013-01-07","2013-01-13"]
[null,null,null,null,null,null,null,null,null,null,null,null,null,null,null,null,null,null,null,null,null,null,null,null,null,null,null,null,null,null,null,null,null,null,null,null,null,null,null,null,null,null,null,null,null,null,null,null,null,3,null,null,20133,3,2013,"2013-01-14","2013-01-20"]
[null,null,null,null,null,null,null,null,null,null,null,null,null,null,null,null,null,null,null,null,null,null,null,null,null,null,null,null,null,null,null,null,null,null,null,null,null,null,null,null,null,null,null,null,null,null,null,null,null,4,null,null,20134,4,2013,"2013-01-21","2013-01-27"]
[null,null,null,null,null,null,null,null,null,null,null,null,null,null,null,null,null,null,null,null,null,null,null,null,null,null,null,null,null,null,null,null,null,null,null,null,null,null,null,null,null,null,null,null,null,null,null,null,null,5,null,null,20135,5,2013,"2013-01-28","2013-02-03"]
[null,null,null,null,null,null,null,null,null,null,null,null,null,null,null,null,null,null,null,null,null,null,null,null,null,null,null,null,null,null,null,null,null,null,null,null,null,null,null,null,null,null,null,null,null,null,null,null,null,6,null,null,20136,6,2013,"2013-02-04","2013-02-10"]
[null,null,null,null,null,null,null,null,null,null,null,null,null,null,null,null,null,null,null,null,null,null,null,null,null,null,null,null,null,null,null,null,null,null,null,null,null,null,null,null,null,null,null,null,null,null,null,null,null,7,null,null,20137,7,2013,"2013-02-11","2013-02-17"]
[null,null,null,null,null,null,null,null,null,null,null,null,null,null,null,null,null,null,null,null,null,null,null,null,null,null,null,null,null,null,null,null,null,null,null,null,null,null,null,null,null,null,null,null,null,null,null,null,null,8,null,null,20138,8,2013,"2013-02-18","2013-02-24"]
[null,null,null,null,null,null,null,null,null,null,null,null,null,null,null,null,null,null,null,null,null,null,null,null,null,null,null,null,null,null,null,null,null,null,null,null,null,null,null,null,null,null,null,null,null,null,null,null,null,9,null,null,20139,9,2013,"2013-02-25","2013-03-03"]
[null,null,null,null,null,null,null,null,null,null,null,null,null,null,null,null,null,null,null,null,null,null,null,null,null,null,null,null,null,null,null,null,null,null,null,null,null,null,null,null,null,null,null,null,null,null,null,null,null,10,null,null,201310,10,2013,"2013-03-04","2013-03-10"]
[null,null,null,null,null,null,null,null,null,null,null,null,null,null,null,null,null,null,null,null,null,null,null,null,null,null,null,null,null,null,null,null,null,null,null,null,null,null,null,null,null,null,null,null,null,null,null,null,null,11,null,null,201311,11,2013,"2013-03-11","2013-03-17"]
[null,null,null,null,null,null,null,null,null,null,null,null,null,null,null,null,null,null,null,null,null,null,null,null,null,null,null,null,null,null,null,null,null,null,null,null,null,null,null,null,null,null,null,null,null,null,null,null,null,12,null,null,201312,12,2013,"2013-03-18","2013-03-24"]
[null,null,null,null,null,null,null,null,null,null,null,null,null,null,null,null,null,null,null,null,null,null,null,null,null,null,null,null,null,null,null,null,null,null,null,null,null,null,null,null,null,null,null,null,null,null,null,null,null,13,null,null,201313,13,2013,"2013-03-25","2013-03-31"]
[null,null,null,null,null,null,null,null,null,null,null,null,null,null,null,null,null,null,null,null,null,null,null,null,null,null,null,null,null,null,null,null,null,null,null,null,null,null,null,null,null,null,null,null,null,null,null,null,null,14,null,null,201314,14,2013,"2013-04-01","2013-04-07"]
[null,null,null,null,null,null,null,null,null,null,null,null,null,null,null,null,null,null,null,null,null,null,null,null,null,null,null,null,null,null,null,null,null,null,null,null,null,null,null,null,null,null,null,null,null,null,null,null,null,15,null,null,201315,15,2013,"2013-04-08","2013-04-14"]
[null,null,null,null,null,null,null,null,null,null,null,null,null,null,null,null,null,null,null,null,null,null,null,null,null,null,null,null,null,null,null,null,null,null,null,null,null,null,null,null,null,null,null,null,null,null,null,null,null,16,null,null,201316,16,2013,"2013-04-15","2013-04-21"]
[null,null,null,null,null,null,null,null,null,null,null,null,null,null,null,null,null,null,null,null,null,null,null,null,null,null,null,null,null,null,null,null,null,null,null,null,null,null,null,null,null,null,null,null,null,null,null,null,null,17,null,null,201317,17,2013,"2013-04-22","2013-04-28"]
[null,null,null,null,null,null,null,null,null,null,null,null,null,null,null,null,null,null,null,null,null,null,null,null,null,null,null,null,null,null,null,null,null,null,null,null,null,null,null,null,null,null,null,null,null,null,null,null,null,18,null,null,201318,18,2013,"2013-04-29","2013-05-05"]
[null,null,null,null,null,null,null,null,null,null,null,null,null,null,null,null,null,null,null,null,null,null,null,null,null,null,null,null,null,null,null,null,null,null,null,null,null,null,null,null,null,null,null,null,null,null,null,null,null,19,null,null,201319,19,2013,"2013-05-06","2013-05-12"]
[null,null,null,null,null,null,null,null,null,null,null,null,null,null,null,null,null,null,null,null,null,null,null,null,null,null,null,null,null,null,null,null,null,null,null,null,null,null,null,null,null,null,null,null,null,null,null,null,null,20,null,null,201320,20,2013,"2013-05-13","2013-05-19"]
[null,null,null,null,null,null,null,null,null,null,null,null,null,null,null,null,null,null,null,null,null,null,null,null,null,null,null,null,null,null,null,null,null,null,null,null,null,null,null,null,null,null,null,null,null,null,null,null,null,21,null,null,201321,21,2013,"2013-05-20","2013-05-26"]
[null,null,null,null,null,null,null,null,null,null,null,null,null,null,null,null,null,null,null,null,null,null,null,null,null,null,null,null,null,null,null,null,null,null,null,null,null,null,null,null,null,null,null,null,null,null,null,null,null,22,null,null,201322,22,2013,"2013-05-27","2013-06-02"]
[null,null,null,null,null,null,null,null,null,null,null,null,null,null,null,null,null,null,null,null,null,null,null,null,null,null,null,null,null,null,null,null,null,null,null,null,null,null,null,null,null,null,null,null,null,null,null,null,null,23,null,null,201323,23,2013,"2013-06-03","2013-06-09"]
[null,null,null,null,null,null,null,null,null,null,null,null,null,null,null,null,null,null,null,null,null,null,null,null,null,null,null,null,null,null,null,null,null,null,null,null,null,null,null,null,null,null,null,null,null,null,null,null,null,24,null,null,201324,24,2013,"2013-06-10","2013-06-16"]
[null,null,null,null,null,null,null,null,null,null,null,null,null,null,null,null,null,null,null,null,null,null,null,null,null,null,null,null,null,null,null,null,null,null,null,null,null,null,null,null,null,null,null,null,null,null,null,null,null,25,null,null,201325,25,2013,"2013-06-17","2013-06-23"]
[null,null,null,null,null,null,null,null,null,null,null,null,null,null,null,null,null,null,null,null,null,null,null,null,null,null,null,null,null,null,null,null,null,null,null,null,null,null,null,null,null,null,null,null,null,null,null,null,null,26,null,null,201326,26,2013,"2013-06-24","2013-06-30"]
[null,null,null,null,null,null,null,null,null,null,null,null,null,null,null,null,null,null,null,null,null,null,null,null,null,null,null,null,null,null,null,null,null,null,null,null,null,null,null,null,null,null,null,null,null,null,null,null,null,27,null,null,201327,27,2013,"2013-07-01","2013-07-07"]
[null,null,null,null,null,null,null,null,null,null,null,null,null,null,null,null,null,null,null,null,null,null,null,null,null,null,null,null,null,null,null,null,null,null,null,null,null,null,null,null,null,null,null,null,null,null,null,null,null,28,null,null,201328,28,2013,"2013-07-08","2013-07-14"]
[null,null,null,null,null,null,null,null,null,null,null,null,null,null,null,null,null,null,null,null,null,null,null,null,null,null,null,null,null,null,null,null,null,null,null,null,null,null,null,null,null,null,null,null,null,null,null,null,null,29,null,null,201329,29,2013,"2013-07-15","2013-07-21"]
[null,null,null,null,null,null,null,null,null,null,null,null,null,null,null,null,null,null,null,null,null,null,null,null,null,null,null,null,null,null,null,null,null,null,null,null,null,null,null,null,null,null,null,null,null,null,null,null,null,30,null,null,201330,30,2013,"2013-07-22","2013-07-28"]
[null,null,null,null,null,null,null,null,null,null,null,null,null,null,null,null,null,null,null,null,null,null,null,null,null,null,null,null,null,null,null,null,null,null,null,null,null,null,null,null,null,null,null,null,null,null,null,null,null,31,null,null,201331,31,2013,"2013-07-29","2013-08-04"]
[null,null,null,null,null,null,null,null,null,null,null,null,null,null,null,null,null,null,null,null,null,null,null,null,null,null,null,null,null,null,null,null,null,null,null,null,null,null,null,null,null,null,null,null,null,null,null,null,null,32,null,null,201332,32,2013,"2013-08-05","2013-08-11"]
[null,null,null,null,null,null,null,null,null,null,null,null,null,null,null,null,null,null,null,null,null,null,null,null,null,null,null,null,null,null,null,null,null,null,null,null,null,null,null,null,null,null,null,null,null,null,null,null,null,33,null,null,201333,33,2013,"2013-08-12","2013-08-18"]
[null,null,null,null,null,null,null,null,null,null,null,null,null,null,null,null,null,null,null,null,null,null,null,null,null,null,null,null,null,null,null,null,null,null,null,null,null,null,null,null,null,null,null,null,null,null,null,null,null,34,null,null,201334,34,2013,"2013-08-19","2013-08-25"]
[null,null,null,null,null,null,null,null,null,null,null,null,null,null,null,null,null,null,null,null,null,null,null,null,null,null,null,null,null,null,null,null,null,null,null,null,null,null,null,null,null,null,null,null,null,null,null,null,null,35,null,null,201335,35,2013,"2013-08-26","2013-09-01"]
[null,null,null,null,null,null,null,null,null,null,null,null,null,null,null,null,null,null,null,null,null,null,null,null,null,null,null,null,null,null,null,null,null,null,null,null,null,null,null,null,null,null,null,null,null,null,null,null,null,36,null,null,201336,36,2013,"2013-09-02","2013-09-08"]
[null,null,null,null,null,null,null,null,null,null,null,null,null,null,null,null,null,null,null,null,null,null,null,null,null,null,null,null,null,null,null,null,null,null,null,null,null,null,null,null,null,null,null,null,null,null,null,null,null,37,null,null,201337,37,2013,"2013-09-09","2013-09-15"]
[null,null,null,null,null,null,null,null,null,null,null,null,null,null,null,null,null,null,null,null,null,null,null,null,null,null,null,null,null,null,null,null,null,null,null,null,null,null,null,null,null,null,null,null,null,null,null,null,null,38,null,null,201338,38,2013,"2013-09-16","2013-09-22"]
[null,null,null,null,null,null,null,null,null,null,null,null,null,null,null,null,null,null,null,null,null,null,null,null,null,null,null,null,null,null,null,null,null,null,null,null,null,null,null,null,null,null,null,null,null,null,null,null,null,39,null,null,201339,39,2013,"2013-09-23","2013-09-29"]
[null,null,null,null,null,null,null,null,null,null,null,null,null,null,null,null,null,null,null,null,null,null,null,null,null,null,null,null,null,null,null,null,null,null,null,null,null,null,null,null,null,null,null,null,null,null,null,null,null,40,null,null,201340,40,2013,"2013-09-30","2013-10-06"]
[null,null,null,null,null,null,null,null,null,null,null,null,null,null,null,null,null,null,null,null,null,null,null,null,null,null,null,null,null,null,null,null,null,null,null,null,null,null,null,null,null,null,null,null,null,null,null,null,null,41,null,null,201341,41,2013,"2013-10-07","2013-10-13"]
[null,null,null,null,null,null,null,null,null,null,null,null,null,null,null,null,null,null,null,null,null,null,null,null,null,null,null,null,null,null,null,null,null,null,null,null,null,null,null,null,null,null,null,null,null,null,null,null,null,42,null,null,201342,42,2013,"2013-10-14","2013-10-20"]
[null,null,null,null,null,null,null,null,null,null,null,null,null,null,null,null,null,null,null,null,null,null,null,null,null,null,null,null,null,null,null,null,null,null,null,null,null,null,null,null,null,null,null,null,null,null,null,null,null,43,null,null,201343,43,2013,"2013-10-21","2013-10-27"]
[null,null,null,null,null,null,null,null,null,null,null,null,null,null,null,null,null,null,null,null,null,null,null,null,null,null,null,null,null,null,null,null,null,null,null,null,null,null,null,null,null,null,null,null,null,null,null,null,null,44,null,null,201344,44,2013,"2013-10-28","2013-11-03"]
[null,null,null,null,null,null,null,null,null,null,null,null,null,null,null,null,null,null,null,null,null,null,null,null,null,null,null,null,null,null,null,null,null,null,null,null,null,null,null,null,null,null,null,null,null,null,null,null,null,45,null,null,201345,45,2013,"2013-11-04","2013-11-10"]
[null,null,null,null,null,null,null,null,null,null,null,null,null,null,null,null,null,null,null,null,null,null,null,null,null,null,null,null,null,null,null,null,null,null,null,null,null,null,null,null,null,null,null,null,null,null,null,null,null,46,null,null,201346,46,2013,"2013-11-11","2013-11-17"]
[null,null,null,null,null,null,null,null,null,null,null,null,null,null,null,null,null,null,null,null,null,null,null,null,null,null,null,null,null,null,null,null,null,null,null,null,null,null,null,null,null,null,null,null,null,null,null,null,null,47,null,null,201347,47,2013,"2013-11-18","2013-11-24"]
[null,null,null,null,null,null,null,null,null,null,null,null,null,null,null,null,null,null,null,null,null,null,null,null,null,null,null,null,null,null,null,null,null,null,null,null,null,null,null,null,null,null,null,null,null,null,null,null,null,48,null,null,201348,48,2013,"2013-11-25","2013-12-01"]
[null,null,null,null,null,null,null,null,null,null,null,null,null,null,null,null,null,null,null,null,null,null,null,null,null,null,null,null,null,null,null,null,null,null,null,null,null,null,null,null,null,null,null,null,null,null,null,null,null,49,null,null,201349,49,2013,"2013-12-02","2013-12-08"]
[null,null,null,null,null,null,null,null,null,null,null,null,null,null,null,null,null,null,null,null,null,null,null,null,null,null,null,null,null,null,null,null,null,null,null,null,null,null,null,null,null,null,null,null,null,null,null,null,null,50,null,null,201350,50,2013,"2013-12-09","2013-12-15"]
[null,null,null,null,null,null,null,null,null,null,null,null,null,null,null,null,null,null,null,null,null,null,null,null,null,null,null,null,null,null,null,null,null,null,null,null,null,null,null,null,null,null,null,null,null,null,null,null,null,51,null,null,201351,51,2013,"2013-12-16","2013-12-22"]
[null,null,null,null,null,null,null,null,null,null,null,null,null,null,null,null,null,null,null,null,null,null,null,null,null,null,null,null,null,null,null,null,null,null,null,null,null,null,null,null,null,null,null,null,null,null,null,null,null,52,null,null,201352,52,2013,"2013-12-23","2013-12-29"]
[null,null,null,null,null,null,null,null,null,null,null,null,null,null,null,null,null,null,null,null,null,null,null,null,null,null,null,null,null,null,null,null,null,null,null,null,null,null,null,null,null,null,null,null,null,null,null,null,null,53,null,null,20141,1,2014,"2013-12-30","2014-01-05"]
[null,null,null,null,null,null,null,null,null,null,null,null,null,null,null,null,null,null,null,null,null,null,null,null,null,null,null,null,null,null,null,null,null,null,null,null,null,null,null,null,null,null,null,null,null,null,null,null,null,54,null,null,20142,2,2014,"2014-01-06","2014-01-12"]
[null,null,null,null,null,null,null,null,null,null,null,null,null,null,null,null,null,null,null,null,null,null,null,null,null,null,null,null,null,null,null,null,null,null,null,null,null,null,null,null,null,null,null,null,null,null,null,null,null,55,null,null,20143,3,2014,"2014-01-13","2014-01-19"]
[null,null,null,null,null,null,null,null,null,null,null,null,null,null,null,null,null,null,null,null,null,null,null,null,null,null,null,null,null,null,null,null,null,null,null,null,null,null,null,null,null,null,null,null,null,null,null,null,null,56,null,null,20144,4,2014,"2014-01-20","2014-01-26"]
[null,null,null,null,null,null,null,null,null,null,null,null,null,null,null,null,null,null,null,null,null,null,null,null,null,null,null,null,null,null,null,null,null,null,null,null,null,null,null,null,null,null,null,null,null,null,null,null,null,57,null,null,20145,5,2014,"2014-01-27","2014-02-02"]
[null,null,null,null,null,null,null,null,null,null,null,null,null,null,null,null,null,null,null,null,null,null,null,null,null,null,null,null,null,null,null,null,null,null,null,null,null,null,null,null,null,null,null,null,null,null,null,null,null,58,null,null,20146,6,2014,"2014-02-03","2014-02-09"]
[null,null,null,null,null,null,null,null,null,null,null,null,null,null,null,null,null,null,null,null,null,null,null,null,null,null,null,null,null,null,null,null,null,null,null,null,null,null,null,null,null,null,null,null,null,null,null,null,null,59,null,null,20147,7,2014,"2014-02-10","2014-02-16"]
[null,null,null,null,null,null,null,null,null,null,null,null,null,null,null,null,null,null,null,null,null,null,null,null,null,null,null,null,null,null,null,null,null,null,null,null,null,null,null,null,null,null,null,null,null,null,null,null,null,60,null,null,20148,8,2014,"2014-02-17","2014-02-23"]
[null,null,null,null,null,null,null,null,null,null,null,null,null,null,null,null,null,null,null,null,null,null,null,null,null,null,null,null,null,null,null,null,null,null,null,null,null,null,null,null,null,null,null,null,null,null,null,null,null,61,null,null,20149,9,2014,"2014-02-24","2014-03-02"]
[null,null,null,null,null,null,null,null,null,null,null,null,null,null,null,null,null,null,null,null,null,null,null,null,null,null,null,null,null,null,null,null,null,null,null,null,null,null,null,null,null,null,null,null,null,null,null,null,null,62,null,null,201410,10,2014,"2014-03-03","2014-03-09"]
[null,null,null,null,null,null,null,null,null,null,null,null,null,null,null,null,null,null,null,null,null,null,null,null,null,null,null,null,null,null,null,null,null,null,null,null,null,null,null,null,null,null,null,null,null,null,null,null,null,63,null,null,201411,11,2014,"2014-03-10","2014-03-16"]
[null,null,null,null,null,null,null,null,null,null,null,null,null,null,null,null,null,null,null,null,null,null,null,null,null,null,null,null,null,null,null,null,null,null,null,null,null,null,null,null,null,null,null,null,null,null,null,null,null,64,null,null,201412,12,2014,"2014-03-17","2014-03-23"]
[null,null,null,null,null,null,null,null,null,null,null,null,null,null,null,null,null,null,null,null,null,null,null,null,null,null,null,null,null,null,null,null,null,null,null,null,null,null,null,null,null,null,null,null,null,null,null,null,null,65,null,null,201413,13,2014,"2014-03-24","2014-03-30"]
[null,null,null,null,null,null,null,null,null,null,null,null,null,null,null,null,null,null,null,null,null,null,null,null,null,null,null,null,null,null,null,null,null,null,null,null,null,null,null,null,null,null,null,null,null,null,null,null,null,66,null,null,201414,14,2014,"2014-03-31","2014-04-06"]
[null,null,null,null,null,null,null,null,null,null,null,null,null,null,null,null,null,null,null,null,null,null,null,null,null,null,null,null,null,null,null,null,null,null,null,null,null,null,null,null,null,null,null,null,null,null,null,null,null,67,null,null,201415,15,2014,"2014-04-07","2014-04-13"]
[null,null,null,null,null,null,null,null,null,null,null,null,null,null,null,null,null,null,null,null,null,null,null,null,null,null,null,null,null,null,null,null,null,null,null,null,null,null,null,null,null,null,null,null,null,null,null,null,null,68,null,null,201416,16,2014,"2014-04-14","2014-04-20"]
[null,null,null,null,null,null,null,null,null,null,null,null,null,null,null,null,null,null,null,null,null,null,null,null,null,null,null,null,null,null,null,null,null,null,null,null,null,null,null,null,null,null,null,null,null,null,null,null,null,69,null,null,201417,17,2014,"2014-04-21","2014-04-27"]
[null,null,null,null,null,null,null,null,null,null,null,null,null,null,null,null,null,null,null,null,null,null,null,null,null,null,null,null,null,null,null,null,null,null,null,null,null,null,null,null,null,null,null,null,null,null,null,null,null,70,null,null,201418,18,2014,"2014-04-28","2014-05-04"]
[null,null,null,null,null,null,null,null,null,null,null,null,null,null,null,null,null,null,null,null,null,null,null,null,null,null,null,null,null,null,null,null,null,null,null,null,null,null,null,null,null,null,null,null,null,null,null,null,null,71,null,null,201419,19,2014,"2014-05-05","2014-05-11"]
[null,null,null,null,null,null,null,null,null,null,null,null,null,null,null,null,null,null,null,null,null,null,null,null,null,null,null,null,null,null,null,null,null,null,null,null,null,null,null,null,null,null,null,null,null,null,null,null,null,72,null,null,201420,20,2014,"2014-05-12","2014-05-18"]
[null,null,null,null,null,null,null,null,null,null,null,null,null,null,null,null,null,null,null,null,null,null,null,null,null,null,null,null,null,null,null,null,null,null,null,null,null,null,null,null,null,null,null,null,null,null,null,null,null,73,null,null,201421,21,2014,"2014-05-19","2014-05-25"]
[null,null,null,null,null,null,null,null,null,null,null,null,null,null,null,null,null,null,null,null,null,null,null,null,null,null,null,null,null,null,null,null,null,null,null,null,null,null,null,null,null,null,null,null,null,null,null,null,null,74,null,null,201422,22,2014,"2014-05-26","2014-06-01"]
[null,null,null,null,null,null,null,null,null,null,null,null,null,null,null,null,null,null,null,null,null,null,null,null,null,null,null,null,null,null,null,null,null,null,null,null,null,null,null,null,null,null,null,null,null,null,null,null,null,75,null,null,201423,23,2014,"2014-06-02","2014-06-08"]
[null,null,null,null,null,null,null,null,null,null,null,null,null,null,null,null,null,null,null,null,null,null,null,null,null,null,null,null,null,null,null,null,null,null,null,null,null,null,null,null,null,null,null,null,null,null,null,null,null,76,null,null,201424,24,2014,"2014-06-09","2014-06-15"]
[null,null,null,null,null,null,null,null,null,null,null,null,null,null,null,null,null,null,null,null,null,null,null,null,null,null,null,null,null,null,null,null,null,null,null,null,null,null,null,null,null,null,null,null,null,null,null,null,null,77,null,null,201425,25,2014,"2014-06-16","2014-06-22"]
[null,null,null,null,null,null,null,null,null,null,null,null,null,null,null,null,null,null,null,null,null,null,null,null,null,null,null,null,null,null,null,null,null,null,null,null,null,null,null,null,null,null,null,null,null,null,null,null,null,78,null,null,201426,26,2014,"2014-06-23","2014-06-29"]
[null,null,null,null,null,null,null,null,null,null,null,null,null,null,null,null,null,null,null,null,null,null,null,null,null,null,null,null,null,null,null,null,null,null,null,null,null,null,null,null,null,null,null,null,null,null,null,null,null,79,null,null,201427,27,2014,"2014-06-30","2014-07-06"]
[null,null,null,null,null,null,null,null,null,null,null,null,null,null,null,null,null,null,null,null,null,null,null,null,null,null,null,null,null,null,null,null,null,null,null,null,null,null,null,null,null,null,null,null,null,null,null,null,null,80,null,null,201428,28,2014,"2014-07-07","2014-07-13"]
[null,null,null,null,null,null,null,null,null,null,null,null,null,null,null,null,null,null,null,null,null,null,null,null,null,null,null,null,null,null,null,null,null,null,null,null,null,null,null,null,null,null,null,null,null,null,null,null,null,81,null,null,201429,29,2014,"2014-07-14","2014-07-20"]
[null,null,null,null,null,null,null,null,null,null,null,null,null,null,null,null,null,null,null,null,null,null,null,null,null,null,null,null,null,null,null,null,null,null,null,null,null,null,null,null,null,null,null,null,null,null,null,null,null,82,null,null,201430,30,2014,"2014-07-21","2014-07-27"]
[null,null,null,null,null,null,null,null,null,null,null,null,null,null,null,null,null,null,null,null,null,null,null,null,null,null,null,null,null,null,null,null,null,null,null,null,null,null,null,null,null,null,null,null,null,null,null,null,null,83,null,null,201431,31,2014,"2014-07-28","2014-08-03"]
[null,null,null,null,null,null,null,null,null,null,null,null,null,null,null,null,null,null,null,null,null,null,null,null,null,null,null,null,null,null,null,null,null,null,null,null,null,null,null,null,null,null,null,null,null,null,null,null,null,84,null,null,201432,32,2014,"2014-08-04","2014-08-10"]
[null,null,null,null,null,null,null,null,null,null,null,null,null,null,null,null,null,null,null,null,null,null,null,null,null,null,null,null,null,null,null,null,null,null,null,null,null,null,null,null,null,null,null,null,null,null,null,null,null,85,null,null,201433,33,2014,"2014-08-11","2014-08-17"]
[null,null,null,null,null,null,null,null,null,null,null,null,null,null,null,null,null,null,null,null,null,null,null,null,null,null,null,null,null,null,null,null,null,null,null,null,null,null,null,null,null,null,null,null,null,null,null,null,null,86,null,null,201434,34,2014,"2014-08-18","2014-08-24"]
[null,null,null,null,null,null,null,null,null,null,null,null,null,null,null,null,null,null,null,null,null,null,null,null,null,null,null,null,null,null,null,null,null,null,null,null,null,null,null,null,null,null,null,null,null,null,null,null,null,87,null,null,201435,35,2014,"2014-08-25","2014-08-31"]
[null,null,null,null,null,null,null,null,null,null,null,null,null,null,null,null,null,null,null,null,null,null,null,null,null,null,null,null,null,null,null,null,null,null,null,null,null,null,null,null,null,null,null,null,null,null,null,null,null,88,null,null,201436,36,2014,"2014-09-01","2014-09-07"]
[null,null,null,null,null,null,null,null,null,null,null,null,null,null,null,null,null,null,null,null,null,null,null,null,null,null,null,null,null,null,null,null,null,null,null,null,null,null,null,null,null,null,null,null,null,null,null,null,null,89,null,null,201437,37,2014,"2014-09-08","2014-09-14"]
[null,null,null,null,null,null,null,null,null,null,null,null,null,null,null,null,null,null,null,null,null,null,null,null,null,null,null,null,null,null,null,null,null,null,null,null,null,null,null,null,null,null,null,null,null,null,null,null,null,90,null,null,201438,38,2014,"2014-09-15","2014-09-21"]
[null,null,null,null,null,null,null,null,null,null,null,null,null,null,null,null,null,null,null,null,null,null,null,null,null,null,null,null,null,null,null,null,null,null,null,null,null,null,null,null,null,null,null,null,null,null,null,null,null,91,null,null,201439,39,2014,"2014-09-22","2014-09-28"]
[null,null,null,null,null,null,null,null,null,null,null,null,null,null,null,null,null,null,null,null,null,null,null,null,null,null,null,null,null,null,null,null,null,null,null,null,null,null,null,null,null,null,null,null,null,null,null,null,null,92,null,null,201440,40,2014,"2014-09-29","2014-10-05"]
[null,null,null,null,null,null,null,null,null,null,null,null,null,null,null,null,null,null,null,null,null,null,null,null,null,null,null,null,null,null,null,null,null,null,null,null,null,null,null,null,null,null,null,null,null,null,null,null,null,93,null,null,201441,41,2014,"2014-10-06","2014-10-12"]
[null,null,null,null,null,null,null,null,null,null,null,null,null,null,null,null,null,null,null,null,null,null,null,null,null,null,null,null,null,null,null,null,null,null,null,null,null,null,null,null,null,null,null,null,null,null,null,null,null,94,null,null,201442,42,2014,"2014-10-13","2014-10-19"]
[null,null,null,null,null,null,null,null,null,null,null,null,null,null,null,null,null,null,null,null,null,null,null,null,null,null,null,null,null,null,null,null,null,null,null,null,null,null,null,null,null,null,null,null,null,null,null,null,null,95,null,null,201443,43,2014,"2014-10-20","2014-10-26"]
[null,null,null,null,null,null,null,null,null,null,null,null,null,null,null,null,null,null,null,null,null,null,null,null,null,null,null,null,null,null,null,null,null,null,null,null,null,null,null,null,null,null,null,null,null,null,null,null,null,96,null,null,201444,44,2014,"2014-10-27","2014-11-02"]
[null,null,null,null,null,null,null,null,null,null,null,null,null,null,null,null,null,null,null,null,null,null,null,null,null,null,null,null,null,null,null,null,null,null,null,null,null,null,null,null,null,null,null,null,null,null,null,null,null,97,null,null,201445,45,2014,"2014-11-03","2014-11-09"]
[null,null,null,null,null,null,null,null,null,null,null,null,null,null,null,null,null,null,null,null,null,null,null,null,null,null,null,null,null,null,null,null,null,null,null,null,null,null,null,null,null,null,null,null,null,null,null,null,null,98,null,null,201446,46,2014,"2014-11-10","2014-11-16"]
[null,null,null,null,null,null,null,null,null,null,null,null,null,null,null,null,null,null,null,null,null,null,null,null,null,null,null,null,null,null,null,null,null,null,null,null,null,null,null,null,null,null,null,null,null,null,null,null,null,99,null,null,201447,47,2014,"2014-11-17","2014-11-23"]
[null,null,null,null,null,null,null,null,null,null,null,null,null,null,null,null,null,null,null,null,null,null,null,null,null,null,null,null,null,null,null,null,null,null,null,null,null,null,null,null,null,null,null,null,null,null,null,null,null,100,null,null,201448,48,2014,"2014-11-24","2014-11-30"]
[null,null,null,null,null,null,null,null,null,null,null,null,null,null,null,null,null,null,null,null,null,null,null,null,null,null,null,null,null,null,null,null,null,null,null,null,null,null,null,null,null,null,null,null,null,null,null,null,null,101,null,null,201449,49,2014,"2014-12-01","2014-12-07"]
[null,null,null,null,null,null,null,null,null,null,null,null,null,null,null,null,null,null,null,null,null,null,null,null,null,null,null,null,null,null,null,null,null,null,null,null,null,null,null,null,null,null,null,null,null,null,null,null,null,102,null,null,201450,50,2014,"2014-12-08","2014-12-14"]
[null,null,null,null,null,null,null,null,null,null,null,null,null,null,null,null,null,null,null,null,null,null,null,null,null,null,null,null,null,null,null,null,null,null,null,null,null,null,null,null,null,null,null,null,null,null,null,null,null,103,null,null,201451,51,2014,"2014-12-15","2014-12-21"]
[null,null,null,null,null,null,null,null,null,null,null,null,null,null,null,null,null,null,null,null,null,null,null,null,null,null,null,null,null,null,null,null,null,null,null,null,null,null,null,null,null,null,null,null,null,null,null,null,null,104,null,null,201452,52,2014,"2014-12-22","2014-12-28"]
[null,null,null,null,null,null,null,null,null,null,null,null,null,null,null,null,null,null,null,null,null,null,null,null,null,null,null,null,null,null,null,null,null,null,null,null,null,null,null,null,null,null,null,null,null,null,null,null,null,105,null,null,20151,1,2015,"2014-12-29","2015-01-04"]
[null,null,null,null,null,null,null,null,null,null,null,null,null,null,null,null,null,null,null,null,null,null,null,null,null,null,null,null,null,null,null,null,null,null,null,null,null,null,null,null,null,null,null,null,null,null,null,null,null,106,null,null,20152,2,2015,"2015-01-05","2015-01-11"]
[null,null,null,null,null,null,null,null,null,null,null,null,null,null,null,null,null,null,null,null,null,null,null,null,null,null,null,null,null,null,null,null,null,null,null,null,null,null,null,null,null,null,null,null,null,null,null,null,null,107,null,null,20153,3,2015,"2015-01-12","2015-01-18"]
[null,null,null,null,null,null,null,null,null,null,null,null,null,null,null,null,null,null,null,null,null,null,null,null,null,null,null,null,null,null,null,null,null,null,null,null,null,null,null,null,null,null,null,null,null,null,null,null,null,108,null,null,20154,4,2015,"2015-01-19","2015-01-25"]
[null,null,null,null,null,null,null,null,null,null,null,null,null,null,null,null,null,null,null,null,null,null,null,null,null,null,null,null,null,null,null,null,null,null,null,null,null,null,null,null,null,null,null,null,null,null,null,null,null,109,null,null,20155,5,2015,"2015-01-26","2015-02-01"]
[null,null,null,null,null,null,null,null,null,null,null,null,null,null,null,null,null,null,null,null,null,null,null,null,null,null,null,null,null,null,null,null,null,null,null,null,null,null,null,null,null,null,null,null,null,null,null,null,null,110,null,null,20156,6,2015,"2015-02-02","2015-02-08"]
[null,null,null,null,null,null,null,null,null,null,null,null,null,null,null,null,null,null,null,null,null,null,null,null,null,null,null,null,null,null,null,null,null,null,null,null,null,null,null,null,null,null,null,null,null,null,null,null,null,111,null,null,20157,7,2015,"2015-02-09","2015-02-15"]
[null,null,null,null,null,null,null,null,null,null,null,null,null,null,null,null,null,null,null,null,null,null,null,null,null,null,null,null,null,null,null,null,null,null,null,null,null,null,null,null,null,null,null,null,null,null,null,null,null,112,null,null,20158,8,2015,"2015-02-16","2015-02-22"]
[null,null,null,null,null,null,null,null,null,null,null,null,null,null,null,null,null,null,null,null,null,null,null,null,null,null,null,null,null,null,null,null,null,null,null,null,null,null,null,null,null,null,null,null,null,null,null,null,null,113,null,null,20159,9,2015,"2015-02-23","2015-03-01"]
[null,null,null,null,null,null,null,null,null,null,null,null,null,null,null,null,null,null,null,null,null,null,null,null,null,null,null,null,null,null,null,null,null,null,null,null,null,null,null,null,null,null,null,null,null,null,null,null,null,114,null,null,201510,10,2015,"2015-03-02","2015-03-08"]
[null,null,null,null,null,null,null,null,null,null,null,null,null,null,null,null,null,null,null,null,null,null,null,null,null,null,null,null,null,null,null,null,null,null,null,null,null,null,null,null,null,null,null,null,null,null,null,null,null,115,null,null,201511,11,2015,"2015-03-09","2015-03-15"]
[null,null,null,null,null,null,null,null,null,null,null,null,null,null,null,null,null,null,null,null,null,null,null,null,null,null,null,null,null,null,null,null,null,null,null,null,null,null,null,null,null,null,null,null,null,null,null,null,null,116,null,null,201512,12,2015,"2015-03-16","2015-03-22"]
[null,null,null,null,null,null,null,null,null,null,null,null,null,null,null,null,null,null,null,null,null,null,null,null,null,null,null,null,null,null,null,null,null,null,null,null,null,null,null,null,null,null,null,null,null,null,null,null,null,117,null,null,201513,13,2015,"2015-03-23","2015-03-29"]
[null,null,null,null,null,null,null,null,null,null,null,null,null,null,null,null,null,null,null,null,null,null,null,null,null,null,null,null,null,null,null,null,null,null,null,null,null,null,null,null,null,null,null,null,null,null,null,null,null,118,null,null,201514,14,2015,"2015-03-30","2015-04-05"]
[null,null,null,null,null,null,null,null,null,null,null,null,null,null,null,null,null,null,null,null,null,null,null,null,null,null,null,null,null,null,null,null,null,null,null,null,null,null,null,null,null,null,null,null,null,null,null,null,null,119,null,null,201515,15,2015,"2015-04-06","2015-04-12"]
[null,null,null,null,null,null,null,null,null,null,null,null,null,null,null,null,null,null,null,null,null,null,null,null,null,null,null,null,null,null,null,null,null,null,null,null,null,null,null,null,null,null,null,null,null,null,null,null,null,120,null,null,201516,16,2015,"2015-04-13","2015-04-19"]
[null,null,null,null,null,null,null,null,null,null,null,null,null,null,null,null,null,null,null,null,null,null,null,null,null,null,null,null,null,null,null,null,null,null,null,null,null,null,null,null,null,null,null,null,null,null,null,null,null,121,null,null,201517,17,2015,"2015-04-20","2015-04-26"]
[null,null,null,null,null,null,null,null,null,null,null,null,null,null,null,null,null,null,null,null,null,null,null,null,null,null,null,null,null,null,null,null,null,null,null,null,null,null,null,null,null,null,null,null,null,null,null,null,null,122,null,null,201518,18,2015,"2015-04-27","2015-05-03"]
[null,null,null,null,null,null,null,null,null,null,null,null,null,null,null,null,null,null,null,null,null,null,null,null,null,null,null,null,null,null,null,null,null,null,null,null,null,null,null,null,null,null,null,null,null,null,null,null,null,123,null,null,201519,19,2015,"2015-05-04","2015-05-10"]
[null,null,null,null,null,null,null,null,null,null,null,null,null,null,null,null,null,null,null,null,null,null,null,null,null,null,null,null,null,null,null,null,null,null,null,null,null,null,null,null,null,null,null,null,null,null,null,null,null,124,null,null,201520,20,2015,"2015-05-11","2015-05-17"]
[null,null,null,null,null,null,null,null,null,null,null,null,null,null,null,null,null,null,null,null,null,null,null,null,null,null,null,null,null,null,null,null,null,null,null,null,null,null,null,null,null,null,null,null,null,null,null,null,null,125,null,null,201521,21,2015,"2015-05-18","2015-05-24"]
[null,null,null,null,null,null,null,null,null,null,null,null,null,null,null,null,null,null,null,null,null,null,null,null,null,null,null,null,null,null,null,null,null,null,null,null,null,null,null,null,null,null,null,null,null,null,null,null,null,126,null,null,201522,22,2015,"2015-05-25","2015-05-31"]
[null,null,null,null,null,null,null,null,null,null,null,null,null,null,null,null,null,null,null,null,null,null,null,null,null,null,null,null,null,null,null,null,null,null,null,null,null,null,null,null,null,null,null,null,null,null,null,null,null,127,null,null,201523,23,2015,"2015-06-01","2015-06-07"]
[null,null,null,null,null,null,null,null,null,null,null,null,null,null,null,null,null,null,null,null,null,null,null,null,null,null,null,null,null,null,null,null,null,null,null,null,null,null,null,null,null,null,null,null,null,null,null,null,null,128,null,null,201524,24,2015,"2015-06-08","2015-06-14"]
[null,null,null,null,null,null,null,null,null,null,null,null,null,null,null,null,null,null,null,null,null,null,null,null,null,null,null,null,null,null,null,null,null,null,null,null,null,null,null,null,null,null,null,null,null,null,null,null,null,129,null,null,201525,25,2015,"2015-06-15","2015-06-21"]
[null,null,null,null,null,null,null,null,null,null,null,null,null,null,null,null,null,null,null,null,null,null,null,null,null,null,null,null,null,null,null,null,null,null,null,null,null,null,null,null,null,null,null,null,null,null,null,null,null,130,null,null,201526,26,2015,"2015-06-22","2015-06-28"]
[null,null,null,null,null,null,null,null,null,null,null,null,null,null,null,null,null,null,null,null,null,null,null,null,null,null,null,null,null,null,null,null,null,null,null,null,null,null,null,null,null,null,null,null,null,null,null,null,null,131,null,null,201527,27,2015,"2015-06-29","2015-07-05"]
[null,null,null,null,null,null,null,null,null,null,null,null,null,null,null,null,null,null,null,null,null,null,null,null,null,null,null,null,null,null,null,null,null,null,null,null,null,null,null,null,null,null,null,null,null,null,null,null,null,132,null,null,201528,28,2015,"2015-07-06","2015-07-12"]
[null,null,null,null,null,null,null,null,null,null,null,null,null,null,null,null,null,null,null,null,null,null,null,null,null,null,null,null,null,null,null,null,null,null,null,null,null,null,null,null,null,null,null,null,null,null,null,null,null,133,null,null,201529,29,2015,"2015-07-13","2015-07-19"]
[null,null,null,null,null,null,null,null,null,null,null,null,null,null,null,null,null,null,null,null,null,null,null,null,null,null,null,null,null,null,null,null,null,null,null,null,null,null,null,null,null,null,null,null,null,null,null,null,null,134,null,null,201530,30,2015,"2015-07-20","2015-07-26"]
[null,null,null,null,null,null,null,null,null,null,null,null,null,null,null,null,null,null,null,null,null,null,null,null,null,null,null,null,null,null,null,null,null,null,null,null,null,null,null,null,null,null,null,null,null,null,null,null,null,135,null,null,201531,31,2015,"2015-07-27","2015-08-02"]
[null,null,null,null,null,null,null,null,null,null,null,null,null,null,null,null,null,null,null,null,null,null,null,null,null,null,null,null,null,null,null,null,null,null,null,null,null,null,null,null,null,null,null,null,null,null,null,null,null,136,null,null,201532,32,2015,"2015-08-03","2015-08-09"]
[null,null,null,null,null,null,null,null,null,null,null,null,null,null,null,null,null,null,null,null,null,null,null,null,null,null,null,null,null,null,null,null,null,null,null,null,null,null,null,null,null,null,null,null,null,null,null,null,null,137,null,null,201533,33,2015,"2015-08-10","2015-08-16"]
[null,null,null,null,null,null,null,null,null,null,null,null,null,null,null,null,null,null,null,null,null,null,null,null,null,null,null,null,null,null,null,null,null,null,null,null,null,null,null,null,null,null,null,null,null,null,null,null,null,138,null,null,201534,34,2015,"2015-08-17","2015-08-23"]
[null,null,null,null,null,null,null,null,null,null,null,null,null,null,null,null,null,null,null,null,null,null,null,null,null,null,null,null,null,null,null,null,null,null,null,null,null,null,null,null,null,null,null,null,null,null,null,null,null,139,null,null,201535,35,2015,"2015-08-24","2015-08-30"]
[null,null,null,null,null,null,null,null,null,null,null,null,null,null,null,null,null,null,null,null,null,null,null,null,null,null,null,null,null,null,null,null,null,null,null,null,null,null,null,null,null,null,null,null,null,null,null,null,null,140,null,null,201536,36,2015,"2015-08-31","2015-09-06"]
[null,null,null,null,null,null,null,null,null,null,null,null,null,null,null,null,null,null,null,null,null,null,null,null,null,null,null,null,null,null,null,null,null,null,null,null,null,null,null,null,null,null,null,null,null,null,null,null,null,141,null,null,201537,37,2015,"2015-09-07","2015-09-13"]
[null,null,null,null,null,null,null,null,null,null,null,null,null,null,null,null,null,null,null,null,null,null,null,null,null,null,null,null,null,null,null,null,null,null,null,null,null,null,null,null,null,null,null,null,null,null,null,null,null,142,null,null,201538,38,2015,"2015-09-14","2015-09-20"]
[null,null,null,null,null,null,null,null,null,null,null,null,null,null,null,null,null,null,null,null,null,null,null,null,null,null,null,null,null,null,null,null,null,null,null,null,null,null,null,null,null,null,null,null,null,null,null,null,null,143,null,null,201539,39,2015,"2015-09-21","2015-09-27"]
[null,null,null,null,null,null,null,null,null,null,null,null,null,null,null,null,null,null,null,null,null,null,null,null,null,null,null,null,null,null,null,null,null,null,null,null,null,null,null,null,null,null,null,null,null,null,null,null,null,144,null,null,201540,40,2015,"2015-09-28","2015-10-04"]
[null,null,null,null,null,null,null,null,null,null,null,null,null,null,null,null,null,null,null,null,null,null,null,null,null,null,null,null,null,null,null,null,null,null,null,null,null,null,null,null,null,null,null,null,null,null,null,null,null,145,null,null,201541,41,2015,"2015-10-05","2015-10-11"]
[null,null,null,null,null,null,null,null,null,null,null,null,null,null,null,null,null,null,null,null,null,null,null,null,null,null,null,null,null,null,null,null,null,null,null,null,null,null,null,null,null,null,null,null,null,null,null,null,null,146,null,null,201542,42,2015,"2015-10-12","2015-10-18"]
[null,null,null,null,null,null,null,null,null,null,null,null,null,null,null,null,null,null,null,null,null,null,null,null,null,null,null,null,null,null,null,null,null,null,null,null,null,null,null,null,null,null,null,null,null,null,null,null,null,147,null,null,201543,43,2015,"2015-10-19","2015-10-25"]
[null,null,null,null,null,null,null,null,null,null,null,null,null,null,null,null,null,null,null,null,null,null,null,null,null,null,null,null,null,null,null,null,null,null,null,null,null,null,null,null,null,null,null,null,null,null,null,null,null,148,null,null,201544,44,2015,"2015-10-26","2015-11-01"]
[null,null,null,null,null,null,null,null,null,null,null,null,null,null,null,null,null,null,null,null,null,null,null,null,null,null,null,null,null,null,null,null,null,null,null,null,null,null,null,null,null,null,null,null,null,null,null,null,null,149,null,null,201545,45,2015,"2015-11-02","2015-11-08"]
[null,null,null,null,null,null,null,null,null,null,null,null,null,null,null,null,null,null,null,null,null,null,null,null,null,null,null,null,null,null,null,null,null,null,null,null,null,null,null,null,null,null,null,null,null,null,null,null,null,150,null,null,201546,46,2015,"2015-11-09","2015-11-15"]
[null,null,null,null,null,null,null,null,null,null,null,null,null,null,null,null,null,null,null,null,null,null,null,null,null,null,null,null,null,null,null,null,null,null,null,null,null,null,null,null,null,null,null,null,null,null,null,null,null,151,null,null,201547,47,2015,"2015-11-16","2015-11-22"]
[null,null,null,null,null,null,null,null,null,null,null,null,null,null,null,null,null,null,null,null,null,null,null,null,null,null,null,null,null,null,null,null,null,null,null,null,null,null,null,null,null,null,null,null,null,null,null,null,null,152,null,null,201548,48,2015,"2015-11-23","2015-11-29"]
[null,null,null,null,null,null,null,null,null,null,null,null,null,null,null,null,null,null,null,null,null,null,null,null,null,null,null,null,null,null,null,null,null,null,null,null,null,null,null,null,null,null,null,null,null,null,null,null,null,153,null,null,201549,49,2015,"2015-11-30","2015-12-06"]
[null,null,null,null,null,null,null,null,null,null,null,null,null,null,null,null,null,null,null,null,null,null,null,null,null,null,null,null,null,null,null,null,null,null,null,null,null,null,null,null,null,null,null,null,null,null,null,null,null,154,null,null,201550,50,2015,"2015-12-07","2015-12-13"]
[null,null,null,null,null,null,null,null,null,null,null,null,null,null,null,null,null,null,null,null,null,null,null,null,null,null,null,null,null,null,null,null,null,null,null,null,null,null,null,null,null,null,null,null,null,null,null,null,null,155,null,null,201551,51,2015,"2015-12-14","2015-12-20"]
[null,null,null,null,null,null,null,null,null,null,null,null,null,null,null,null,null,null,null,null,null,null,null,null,null,null,null,null,null,null,null,null,null,null,null,null,null,null,null,null,null,null,null,null,null,null,null,null,null,156,null,null,201552,52,2015,"2015-12-21","2015-12-27"]
[null,null,null,null,null,null,null,null,null,null,null,null,null,null,null,null,null,null,null,null,null,null,null,null,null,null,null,null,null,null,null,null,null,null,null,null,null,null,null,null,null,null,null,null,null,null,null,null,null,157,null,null,20161,1,2016,"2015-12-28","2016-01-03"]
[null,null,null,null,null,null,null,null,null,null,null,null,null,null,null,null,null,null,null,null,null,null,null,null,null,null,null,null,null,null,null,null,null,null,null,null,null,null,null,null,null,null,null,null,null,null,null,null,null,158,null,null,20162,2,2016,"2016-01-04","2016-01-10"]
[null,null,null,null,null,null,null,null,null,null,null,null,null,null,null,null,null,null,null,null,null,null,null,null,null,null,null,null,null,null,null,null,null,null,null,null,null,null,null,null,null,null,null,null,null,null,null,null,null,159,null,null,20163,3,2016,"2016-01-11","2016-01-17"]
[null,null,null,null,null,null,null,null,null,null,null,null,null,null,null,null,null,null,null,null,null,null,null,null,null,null,null,null,null,null,null,null,null,null,null,null,null,null,null,null,null,null,null,null,null,null,null,null,null,160,null,null,20164,4,2016,"2016-01-18","2016-01-24"]
[null,null,null,null,null,null,null,null,null,null,null,null,null,null,null,null,null,null,null,null,null,null,null,null,null,null,null,null,null,null,null,null,null,null,null,null,null,null,null,null,null,null,null,null,null,null,null,null,null,161,null,null,20165,5,2016,"2016-01-25","2016-01-31"]
[null,null,null,null,null,null,null,null,null,null,null,null,null,null,null,null,null,null,null,null,null,null,null,null,null,null,null,null,null,null,null,null,null,null,null,null,null,null,null,null,null,null,null,null,null,null,null,null,null,162,null,null,20166,6,2016,"2016-02-01","2016-02-07"]
[null,null,null,null,null,null,null,null,null,null,null,null,null,null,null,null,null,null,null,null,null,null,null,null,null,null,null,null,null,null,null,null,null,null,null,null,null,null,null,null,null,null,null,null,null,null,null,null,null,163,null,null,20167,7,2016,"2016-02-08","2016-02-14"]
[null,null,null,null,null,null,null,null,null,null,null,null,null,null,null,null,null,null,null,null,null,null,null,null,null,null,null,null,null,null,null,null,null,null,null,null,null,null,null,null,null,null,null,null,null,null,null,null,null,164,null,null,20168,8,2016,"2016-02-15","2016-02-21"]
[null,null,null,null,null,null,null,null,null,null,null,null,null,null,null,null,null,null,null,null,null,null,null,null,null,null,null,null,null,null,null,null,null,null,null,null,null,null,null,null,null,null,null,null,null,null,null,null,null,165,null,null,20169,9,2016,"2016-02-22","2016-02-28"]
[null,null,null,null,null,null,null,null,null,null,null,null,null,null,null,null,null,null,null,null,null,null,null,null,null,null,null,null,null,null,null,null,null,null,null,null,null,null,null,null,null,null,null,null,null,null,null,null,null,166,null,null,201610,10,2016,"2016-02-29","2016-03-06"]
[null,null,null,null,null,null,null,null,null,null,null,null,null,null,null,null,null,null,null,null,null,null,null,null,null,null,null,null,null,null,null,null,null,null,null,null,null,null,null,null,null,null,null,null,null,null,null,null,null,167,null,null,201611,11,2016,"2016-03-07","2016-03-13"]
[null,null,null,null,null,null,null,null,null,null,null,null,null,null,null,null,null,null,null,null,null,null,null,null,null,null,null,null,null,null,null,null,null,null,null,null,null,null,null,null,null,null,null,null,null,null,null,null,null,168,null,null,201612,12,2016,"2016-03-14","2016-03-20"]
[null,null,null,null,null,null,null,null,null,null,null,null,null,null,null,null,null,null,null,null,null,null,null,null,null,null,null,null,null,null,null,null,null,null,null,null,null,null,null,null,null,null,null,null,null,null,null,null,null,169,null,null,201613,13,2016,"2016-03-21","2016-03-27"]
[null,null,null,null,null,null,null,null,null,null,null,null,null,null,null,null,null,null,null,null,null,null,null,null,null,null,null,null,null,null,null,null,null,null,null,null,null,null,null,null,null,null,null,null,null,null,null,null,null,170,null,null,201614,14,2016,"2016-03-28","2016-04-03"]
[null,null,null,null,null,null,null,null,null,null,null,null,null,null,null,null,null,null,null,null,null,null,null,null,null,null,null,null,null,null,null,null,null,null,null,null,null,null,null,null,null,null,null,null,null,null,null,null,null,171,null,null,201615,15,2016,"2016-04-04","2016-04-10"]
[null,null,null,null,null,null,null,null,null,null,null,null,null,null,null,null,null,null,null,null,null,null,null,null,null,null,null,null,null,null,null,null,null,null,null,null,null,null,null,null,null,null,null,null,null,null,null,null,null,172,null,null,201616,16,2016,"2016-04-11","2016-04-17"]
[null,null,null,null,null,null,null,null,null,null,null,null,null,null,null,null,null,null,null,null,null,null,null,null,null,null,null,null,null,null,null,null,null,null,null,null,null,null,null,null,null,null,null,null,null,null,null,null,null,173,null,null,201617,17,2016,"2016-04-18","2016-04-24"]
[null,null,null,null,null,null,null,null,null,null,null,null,null,null,null,null,null,null,null,null,null,null,null,null,null,null,null,null,null,null,null,null,null,null,null,null,null,null,null,null,null,null,null,null,null,null,null,null,null,174,null,null,201618,18,2016,"2016-04-25","2016-05-01"]
[null,null,null,null,null,null,null,null,null,null,null,null,null,null,null,null,null,null,null,null,null,null,null,null,null,null,null,null,null,null,null,null,null,null,null,null,null,null,null,null,null,null,null,null,null,null,null,null,null,175,null,null,201619,19,2016,"2016-05-02","2016-05-08"]
[null,null,null,null,null,null,null,null,null,null,null,null,null,null,null,null,null,null,null,null,null,null,null,null,null,null,null,null,null,null,null,null,null,null,null,null,null,null,null,null,null,null,null,null,null,null,null,null,null,176,null,null,201620,20,2016,"2016-05-09","2016-05-15"]
[null,null,null,null,null,null,null,null,null,null,null,null,null,null,null,null,null,null,null,null,null,null,null,null,null,null,null,null,null,null,null,null,null,null,null,null,null,null,null,null,null,null,null,null,null,null,null,null,null,177,null,null,201621,21,2016,"2016-05-16","2016-05-22"]
[null,null,null,null,null,null,null,null,null,null,null,null,null,null,null,null,null,null,null,null,null,null,null,null,null,null,null,null,null,null,null,null,null,null,null,null,null,null,null,null,null,null,null,null,null,null,null,null,null,178,null,null,201622,22,2016,"2016-05-23","2016-05-29"]
[null,null,null,null,null,null,null,null,null,null,null,null,null,null,null,null,null,null,null,null,null,null,null,null,null,null,null,null,null,null,null,null,null,null,null,null,null,null,null,null,null,null,null,null,null,null,null,null,null,179,null,null,201623,23,2016,"2016-05-30","2016-06-05"]
[null,null,null,null,null,null,null,null,null,null,null,null,null,null,null,null,null,null,null,null,null,null,null,null,null,null,null,null,null,null,null,null,null,null,null,null,null,null,null,null,null,null,null,null,null,null,null,null,null,180,null,null,201624,24,2016,"2016-06-06","2016-06-12"]
[null,null,null,null,null,null,null,null,null,null,null,null,null,null,null,null,null,null,null,null,null,null,null,null,null,null,null,null,null,null,null,null,null,null,null,null,null,null,null,null,null,null,null,null,null,null,null,null,null,181,null,null,201625,25,2016,"2016-06-13","2016-06-19"]
[null,null,null,null,null,null,null,null,null,null,null,null,null,null,null,null,null,null,null,null,null,null,null,null,null,null,null,null,null,null,null,null,null,null,null,null,null,null,null,null,null,null,null,null,null,null,null,null,null,182,null,null,201626,26,2016,"2016-06-20","2016-06-26"]
[null,null,null,null,null,null,null,null,null,null,null,null,null,null,null,null,null,null,null,null,null,null,null,null,null,null,null,null,null,null,null,null,null,null,null,null,null,null,null,null,null,null,null,null,null,null,null,null,null,183,null,null,201627,27,2016,"2016-06-27","2016-07-03"]
[null,null,null,null,null,null,null,null,null,null,null,null,null,null,null,null,null,null,null,null,null,null,null,null,null,null,null,null,null,null,null,null,null,null,null,null,null,null,null,null,null,null,null,null,null,null,null,null,null,184,null,null,201628,28,2016,"2016-07-04","2016-07-10"]
[null,null,null,null,null,null,null,null,null,null,null,null,null,null,null,null,null,null,null,null,null,null,null,null,null,null,null,null,null,null,null,null,null,null,null,null,null,null,null,null,null,null,null,null,null,null,null,null,null,185,null,null,201629,29,2016,"2016-07-11","2016-07-17"]
[null,null,null,null,null,null,null,null,null,null,null,null,null,null,null,null,null,null,null,null,null,null,null,null,null,null,null,null,null,null,null,null,null,null,null,null,null,null,null,null,null,null,null,null,null,null,null,null,null,186,null,null,201630,30,2016,"2016-07-18","2016-07-24"]
[null,null,null,null,null,null,null,null,null,null,null,null,null,null,null,null,null,null,null,null,null,null,null,null,null,null,null,null,null,null,null,null,null,null,null,null,null,null,null,null,null,null,null,null,null,null,null,null,null,187,null,null,201631,31,2016,"2016-07-25","2016-07-31"]
[null,null,null,null,null,null,null,null,null,null,null,null,null,null,null,null,null,null,null,null,null,null,null,null,null,null,null,null,null,null,null,null,null,null,null,null,null,null,null,null,null,null,null,null,null,null,null,null,null,188,null,null,201632,32,2016,"2016-08-01","2016-08-07"]
[null,null,null,null,null,null,null,null,null,null,null,null,null,null,null,null,null,null,null,null,null,null,null,null,null,null,null,null,null,null,null,null,null,null,null,null,null,null,null,null,null,null,null,null,null,null,null,null,null,189,null,null,201633,33,2016,"2016-08-08","2016-08-14"]
[null,null,null,null,null,null,null,null,null,null,null,null,null,null,null,null,null,null,null,null,null,null,null,null,null,null,null,null,null,null,null,null,null,null,null,null,null,null,null,null,null,null,null,null,null,null,null,null,null,190,null,null,201634,34,2016,"2016-08-15","2016-08-21"]
[null,null,null,null,null,null,null,null,null,null,null,null,null,null,null,null,null,null,null,null,null,null,null,null,null,null,null,null,null,null,null,null,null,null,null,null,null,null,null,null,null,null,null,null,null,null,null,null,null,191,null,null,201635,35,2016,"2016-08-22","2016-08-28"]
[null,null,null,null,null,null,null,null,null,null,null,null,null,null,null,null,null,null,null,null,null,null,null,null,null,null,null,null,null,null,null,null,null,null,null,null,null,null,null,null,null,null,null,null,null,null,null,null,null,192,null,null,201636,36,2016,"2016-08-29","2016-09-04"]
[null,null,null,null,null,null,null,null,null,null,null,null,null,null,null,null,null,null,null,null,null,null,null,null,null,null,null,null,null,null,null,null,null,null,null,null,null,null,null,null,null,null,null,null,null,null,null,null,null,193,null,null,201637,37,2016,"2016-09-05","2016-09-11"]
[null,null,null,null,null,null,null,null,null,null,null,null,null,null,null,null,null,null,null,null,null,null,null,null,null,null,null,null,null,null,null,null,null,null,null,null,null,null,null,null,null,null,null,null,null,null,null,null,null,194,null,null,201638,38,2016,"2016-09-12","2016-09-18"]
[null,null,null,null,null,null,null,null,null,null,null,null,null,null,null,null,null,null,null,null,null,null,null,null,null,null,null,null,null,null,null,null,null,null,null,null,null,null,null,null,null,null,null,null,null,null,null,null,null,195,null,null,201639,39,2016,"2016-09-19","2016-09-25"]
[null,null,null,null,null,null,null,null,null,null,null,null,null,null,null,null,null,null,null,null,null,null,null,null,null,null,null,null,null,null,null,null,null,null,null,null,null,null,null,null,null,null,null,null,null,null,null,null,null,196,null,null,201640,40,2016,"2016-09-26","2016-10-02"]
[null,null,null,null,null,null,null,null,null,null,null,null,null,null,null,null,null,null,null,null,null,null,null,null,null,null,null,null,null,null,null,null,null,null,null,null,null,null,null,null,null,null,null,null,null,null,null,null,null,197,null,null,201641,41,2016,"2016-10-03","2016-10-09"]
[null,null,null,null,null,null,null,null,null,null,null,null,null,null,null,null,null,null,null,null,null,null,null,null,null,null,null,null,null,null,null,null,null,null,null,null,null,null,null,null,null,null,null,null,null,null,null,null,null,198,null,null,201642,42,2016,"2016-10-10","2016-10-16"]
[null,null,null,null,null,null,null,null,null,null,null,null,null,null,null,null,null,null,null,null,null,null,null,null,null,null,null,null,null,null,null,null,null,null,null,null,null,null,null,null,null,null,null,null,null,null,null,null,null,199,null,null,201643,43,2016,"2016-10-17","2016-10-23"]
[null,null,null,null,null,null,null,null,null,null,null,null,null,null,null,null,null,null,null,null,null,null,null,null,null,null,null,null,null,null,null,null,null,null,null,null,null,null,null,null,null,null,null,null,null,null,null,null,null,200,null,null,201644,44,2016,"2016-10-24","2016-10-30"]
[null,null,null,null,null,null,null,null,null,null,null,null,null,null,null,null,null,null,null,null,null,null,null,null,null,null,null,null,null,null,null,null,null,null,null,null,null,null,null,null,null,null,null,null,null,null,null,null,null,201,null,null,201645,45,2016,"2016-10-31","2016-11-06"]
[null,null,null,null,null,null,null,null,null,null,null,null,null,null,null,null,null,null,null,null,null,null,null,null,null,null,null,null,null,null,null,null,null,null,null,null,null,null,null,null,null,null,null,null,null,null,null,null,null,202,null,null,201646,46,2016,"2016-11-07","2016-11-13"]
[null,null,null,null,null,null,null,null,null,null,null,null,null,null,null,null,null,null,null,null,null,null,null,null,null,null,null,null,null,null,null,null,null,null,null,null,null,null,null,null,null,null,null,null,null,null,null,null,null,203,null,null,201647,47,2016,"2016-11-14","2016-11-20"]
[null,null,null,null,null,null,null,null,null,null,null,null,null,null,null,null,null,null,null,null,null,null,null,null,null,null,null,null,null,null,null,null,null,null,null,null,null,null,null,null,null,null,null,null,null,null,null,null,null,204,null,null,201648,48,2016,"2016-11-21","2016-11-27"]
[null,null,null,null,null,null,null,null,null,null,null,null,null,null,null,null,null,null,null,null,null,null,null,null,null,null,null,null,null,null,null,null,null,null,null,null,null,null,null,null,null,null,null,null,null,null,null,null,null,205,null,null,201649,49,2016,"2016-11-28","2016-12-04"]
[null,null,null,null,null,null,null,null,null,null,null,null,null,null,null,null,null,null,null,null,null,null,null,null,null,null,null,null,null,null,null,null,null,null,null,null,null,null,null,null,null,null,null,null,null,null,null,null,null,206,null,null,201650,50,2016,"2016-12-05","2016-12-11"]
[null,null,null,null,null,null,null,null,null,null,null,null,null,null,null,null,null,null,null,null,null,null,null,null,null,null,null,null,null,null,null,null,null,null,null,null,null,null,null,null,null,null,null,null,null,null,null,null,null,207,null,null,201651,51,2016,"2016-12-12","2016-12-18"]
[null,null,null,null,null,null,null,null,null,null,null,null,null,null,null,null,null,null,null,null,null,null,null,null,null,null,null,null,null,null,null,null,null,null,null,null,null,null,null,null,null,null,null,null,null,null,null,null,null,208,null,null,201652,52,2016,"2016-12-19","2016-12-25"]
[null,null,null,null,null,null,null,null,null,null,null,null,null,null,null,null,null,null,null,null,null,null,null,null,null,null,null,null,null,null,null,null,null,null,null,null,null,null,null,null,null,null,null,null,null,null,null,null,null,209,null,null,201653,53,2016,"2016-12-26","2017-01-01"]
[null,null,null,null,null,null,null,null,null,null,null,null,null,null,null,null,null,null,null,null,null,null,null,null,null,null,null,null,null,null,null,null,null,null,null,null,null,null,null,null,null,null,null,null,null,null,null,null,null,210,null,null,20171,1,2017,"2017-01-02","2017-01-08"]
[null,null,null,null,null,null,null,null,null,null,null,null,null,null,null,null,null,null,null,null,null,null,null,null,null,null,null,null,null,null,null,null,null,null,null,null,null,null,null,null,null,null,null,null,null,null,null,null,null,211,null,null,20172,2,2017,"2017-01-09","2017-01-15"]
[null,null,null,null,null,null,null,null,null,null,null,null,null,null,null,null,null,null,null,null,null,null,null,null,null,null,null,null,null,null,null,null,null,null,null,null,null,null,null,null,null,null,null,null,null,null,null,null,null,212,null,null,20173,3,2017,"2017-01-16","2017-01-22"]
[null,null,null,null,null,null,null,null,null,null,null,null,null,null,null,null,null,null,null,null,null,null,null,null,null,null,null,null,null,null,null,null,null,null,null,null,null,null,null,null,null,null,null,null,null,null,null,null,null,213,null,null,20174,4,2017,"2017-01-23","2017-01-29"]
[null,null,null,null,null,null,null,null,null,null,null,null,null,null,null,null,null,null,null,null,null,null,null,null,null,null,null,null,null,null,null,null,null,null,null,null,null,null,null,null,null,null,null,null,null,null,null,null,null,214,null,null,20175,5,2017,"2017-01-30","2017-02-05"]
[null,null,null,null,null,null,null,null,null,null,null,null,null,null,null,null,null,null,null,null,null,null,null,null,null,null,null,null,null,null,null,null,null,null,null,null,null,null,null,null,null,null,null,null,null,null,null,null,null,215,null,null,20176,6,2017,"2017-02-06","2017-02-12"]
[null,null,null,null,null,null,null,null,null,null,null,null,null,null,null,null,null,null,null,null,null,null,null,null,null,null,null,null,null,null,null,null,null,null,null,null,null,null,null,null,null,null,null,null,null,null,null,null,null,216,null,null,20177,7,2017,"2017-02-13","2017-02-19"]
[null,null,null,null,null,null,null,null,null,null,null,null,null,null,null,null,null,null,null,null,null,null,null,null,null,null,null,null,null,null,null,null,null,null,null,null,null,null,null,null,null,null,null,null,null,null,null,null,null,217,null,null,20178,8,2017,"2017-02-20","2017-02-26"]
[null,null,null,null,null,null,null,null,null,null,null,null,null,null,null,null,null,null,null,null,null,null,null,null,null,null,null,null,null,null,null,null,null,null,null,null,null,null,null,null,null,null,null,null,null,null,null,null,null,218,null,null,20179,9,2017,"2017-02-27","2017-03-05"]
[null,null,null,null,null,null,null,null,null,null,null,null,null,null,null,null,null,null,null,null,null,null,null,null,null,null,null,null,null,null,null,null,null,null,null,null,null,null,null,null,null,null,null,null,null,null,null,null,null,219,null,null,201710,10,2017,"2017-03-06","2017-03-12"]
[null,null,null,null,null,null,null,null,null,null,null,null,null,null,null,null,null,null,null,null,null,null,null,null,null,null,null,null,null,null,null,null,null,null,null,null,null,null,null,null,null,null,null,null,null,null,null,null,null,220,null,null,201711,11,2017,"2017-03-13","2017-03-19"]
[null,null,null,null,null,null,null,null,null,null,null,null,null,null,null,null,null,null,null,null,null,null,null,null,null,null,null,null,null,null,null,null,null,null,null,null,null,null,null,null,null,null,null,null,null,null,null,null,null,221,null,null,201712,12,2017,"2017-03-20","2017-03-26"]
[null,null,null,null,null,null,null,null,null,null,null,null,null,null,null,null,null,null,null,null,null,null,null,null,null,null,null,null,null,null,null,null,null,null,null,null,null,null,null,null,null,null,null,null,null,null,null,null,null,222,null,null,201713,13,2017,"2017-03-27","2017-04-02"]
[null,null,null,null,null,null,null,null,null,null,null,null,null,null,null,null,null,null,null,null,null,null,null,null,null,null,null,null,null,null,null,null,null,null,null,null,null,null,null,null,null,null,null,null,null,null,null,null,null,223,null,null,201714,14,2017,"2017-04-03","2017-04-09"]
[null,null,null,null,null,null,null,null,null,null,null,null,null,null,null,null,null,null,null,null,null,null,null,null,null,null,null,null,null,null,null,null,null,null,null,null,null,null,null,null,null,null,null,null,null,null,null,null,null,224,null,null,201715,15,2017,"2017-04-10","2017-04-16"]
[null,null,null,null,null,null,null,null,null,null,null,null,null,null,null,null,null,null,null,null,null,null,null,null,null,null,null,null,null,null,null,null,null,null,null,null,null,null,null,null,null,null,null,null,null,null,null,null,null,225,null,null,201716,16,2017,"2017-04-17","2017-04-23"]
[null,null,null,null,null,null,null,null,null,null,null,null,null,null,null,null,null,null,null,null,null,null,null,null,null,null,null,null,null,null,null,null,null,null,null,null,null,null,null,null,null,null,null,null,null,null,null,null,null,226,null,null,201717,17,2017,"2017-04-24","2017-04-30"]
[null,null,null,null,null,null,null,null,null,null,null,null,null,null,null,null,null,null,null,null,null,null,null,null,null,null,null,null,null,null,null,null,null,null,null,null,null,null,null,null,null,null,null,null,null,null,null,null,null,227,null,null,201718,18,2017,"2017-05-01","2017-05-07"]
[null,null,null,null,null,null,null,null,null,null,null,null,null,null,null,null,null,null,null,null,null,null,null,null,null,null,null,null,null,null,null,null,null,null,null,null,null,null,null,null,null,null,null,null,null,null,null,null,null,228,null,null,201719,19,2017,"2017-05-08","2017-05-14"]
[null,null,null,null,null,null,null,null,null,null,null,null,null,null,null,null,null,null,null,null,null,null,null,null,null,null,null,null,null,null,null,null,null,null,null,null,null,null,null,null,null,null,null,null,null,null,null,null,null,229,null,null,201720,20,2017,"2017-05-15","2017-05-21"]
[null,null,null,null,null,null,null,null,null,null,null,null,null,null,null,null,null,null,null,null,null,null,null,null,null,null,null,null,null,null,null,null,null,null,null,null,null,null,null,null,null,null,null,null,null,null,null,null,null,230,null,null,201721,21,2017,"2017-05-22","2017-05-28"]
[null,null,null,null,null,null,null,null,null,null,null,null,null,null,null,null,null,null,null,null,null,null,null,null,null,null,null,null,null,null,null,null,null,null,null,null,null,null,null,null,null,null,null,null,null,null,null,null,null,231,null,null,201722,22,2017,"2017-05-29","2017-06-04"]
[null,null,null,null,null,null,null,null,null,null,null,null,null,null,null,null,null,null,null,null,null,null,null,null,null,null,null,null,null,null,null,null,null,null,null,null,null,null,null,null,null,null,null,null,null,null,null,null,null,232,null,null,201723,23,2017,"2017-06-05","2017-06-11"]
[null,null,null,null,null,null,null,null,null,null,null,null,null,null,null,null,null,null,null,null,null,null,null,null,null,null,null,null,null,null,null,null,null,null,null,null,null,null,null,null,null,null,null,null,null,null,null,null,null,233,null,null,201724,24,2017,"2017-06-12","2017-06-18"]
[null,null,null,null,null,null,null,null,null,null,null,null,null,null,null,null,null,null,null,null,null,null,null,null,null,null,null,null,null,null,null,null,null,null,null,null,null,null,null,null,null,null,null,null,null,null,null,null,null,234,null,null,201725,25,2017,"2017-06-19","2017-06-25"]
[null,null,null,null,null,null,null,null,null,null,null,null,null,null,null,null,null,null,null,null,null,null,null,null,null,null,null,null,null,null,null,null,null,null,null,null,null,null,null,null,null,null,null,null,null,null,null,null,null,235,null,null,201726,26,2017,"2017-06-26","2017-07-02"]
[null,null,null,null,null,null,null,null,null,null,null,null,null,null,null,null,null,null,null,null,null,null,null,null,null,null,null,null,null,null,null,null,null,null,null,null,null,null,null,null,null,null,null,null,null,null,null,null,null,236,null,null,201727,27,2017,"2017-07-03","2017-07-09"]
[null,null,null,null,null,null,null,null,null,null,null,null,null,null,null,null,null,null,null,null,null,null,null,null,null,null,null,null,null,null,null,null,null,null,null,null,null,null,null,null,null,null,null,null,null,null,null,null,null,237,null,null,201728,28,2017,"2017-07-10","2017-07-16"]
[null,null,null,null,null,null,null,null,null,null,null,null,null,null,null,null,null,null,null,null,null,null,null,null,null,null,null,null,null,null,null,null,null,null,null,null,null,null,null,null,null,null,null,null,null,null,null,null,null,238,null,null,201729,29,2017,"2017-07-17","2017-07-23"]
[null,null,null,null,null,null,null,null,null,null,null,null,null,null,null,null,null,null,null,null,null,null,null,null,null,null,null,null,null,null,null,null,null,null,null,null,null,null,null,null,null,null,null,null,null,null,null,null,null,239,null,null,201730,30,2017,"2017-07-24","2017-07-30"]
[null,null,null,null,null,null,null,null,null,null,null,null,null,null,null,null,null,null,null,null,null,null,null,null,null,null,null,null,null,null,null,null,null,null,null,null,null,null,null,null,null,null,null,null,null,null,null,null,null,240,null,null,201731,31,2017,"2017-07-31","2017-08-06"]
[null,null,null,null,null,null,null,null,null,null,null,null,null,null,null,null,null,null,null,null,null,null,null,null,null,null,null,null,null,null,null,null,null,null,null,null,null,null,null,null,null,null,null,null,null,null,null,null,null,241,null,null,201732,32,2017,"2017-08-07","2017-08-13"]
[null,null,null,null,null,null,null,null,null,null,null,null,null,null,null,null,null,null,null,null,null,null,null,null,null,null,null,null,null,null,null,null,null,null,null,null,null,null,null,null,null,null,null,null,null,null,null,null,null,242,null,null,201733,33,2017,"2017-08-14","2017-08-20"]
[null,null,null,null,null,null,null,null,null,null,null,null,null,null,null,null,null,null,null,null,null,null,null,null,null,null,null,null,null,null,null,null,null,null,null,null,null,null,null,null,null,null,null,null,null,null,null,null,null,243,null,null,201734,34,2017,"2017-08-21","2017-08-27"]
[null,null,null,null,null,null,null,null,null,null,null,null,null,null,null,null,null,null,null,null,null,null,null,null,null,null,null,null,null,null,null,null,null,null,null,null,null,null,null,null,null,null,null,null,null,null,null,null,null,244,null,null,201735,35,2017,"2017-08-28","2017-09-03"]
[null,null,null,null,null,null,null,null,null,null,null,null,null,null,null,null,null,null,null,null,null,null,null,null,null,null,null,null,null,null,null,null,null,null,null,null,null,null,null,null,null,null,null,null,null,null,null,null,null,245,null,null,201736,36,2017,"2017-09-04","2017-09-10"]
[null,null,null,null,null,null,null,null,null,null,null,null,null,null,null,null,null,null,null,null,null,null,null,null,null,null,null,null,null,null,null,null,null,null,null,null,null,null,null,null,null,null,null,null,null,null,null,null,null,246,null,null,201737,37,2017,"2017-09-11","2017-09-17"]
[null,null,null,null,null,null,null,null,null,null,null,null,null,null,null,null,null,null,null,null,null,null,null,null,null,null,null,null,null,null,null,null,null,null,null,null,null,null,null,null,null,null,null,null,null,null,null,null,null,247,null,null,201738,38,2017,"2017-09-18","2017-09-24"]
[null,null,null,null,null,null,null,null,null,null,null,null,null,null,null,null,null,null,null,null,null,null,null,null,null,null,null,null,null,null,null,null,null,null,null,null,null,null,null,null,null,null,null,null,null,null,null,null,null,248,null,null,201739,39,2017,"2017-09-25","2017-10-01"]
[null,null,null,null,null,null,null,null,null,null,null,null,null,null,null,null,null,null,null,null,null,null,null,null,null,null,null,null,null,null,null,null,null,null,null,null,null,null,null,null,null,null,null,null,null,null,null,null,null,249,null,null,201740,40,2017,"2017-10-02","2017-10-08"]
[null,null,null,null,null,null,null,null,null,null,null,null,null,null,null,null,null,null,null,null,null,null,null,null,null,null,null,null,null,null,null,null,null,null,null,null,null,null,null,null,null,null,null,null,null,null,null,null,null,250,null,null,201741,41,2017,"2017-10-09","2017-10-15"]
[null,null,null,null,null,null,null,null,null,null,null,null,null,null,null,null,null,null,null,null,null,null,null,null,null,null,null,null,null,null,null,null,null,null,null,null,null,null,null,null,null,null,null,null,null,null,null,null,null,251,null,null,201742,42,2017,"2017-10-16","2017-10-22"]
[null,null,null,null,null,null,null,null,null,null,null,null,null,null,null,null,null,null,null,null,null,null,null,null,null,null,null,null,null,null,null,null,null,null,null,null,null,null,null,null,null,null,null,null,null,null,null,null,null,252,null,null,201743,43,2017,"2017-10-23","2017-10-29"]
[null,null,null,null,null,null,null,null,null,null,null,null,null,null,null,null,null,null,null,null,null,null,null,null,null,null,null,null,null,null,null,null,null,null,null,null,null,null,null,null,null,null,null,null,null,null,null,null,null,253,null,null,201744,44,2017,"2017-10-30","2017-11-05"]
[null,null,null,null,null,null,null,null,null,null,null,null,null,null,null,null,null,null,null,null,null,null,null,null,null,null,null,null,null,null,null,null,null,null,null,null,null,null,null,null,null,null,null,null,null,null,null,null,null,254,null,null,201745,45,2017,"2017-11-06","2017-11-12"]
[null,null,null,null,null,null,null,null,null,null,null,null,null,null,null,null,null,null,null,null,null,null,null,null,null,null,null,null,null,null,null,null,null,null,null,null,null,null,null,null,null,null,null,null,null,null,null,null,null,255,null,null,201746,46,2017,"2017-11-13","2017-11-19"]
[null,null,null,null,null,null,null,null,null,null,null,null,null,null,null,null,null,null,null,null,null,null,null,null,null,null,null,null,null,null,null,null,null,null,null,null,null,null,null,null,null,null,null,null,null,null,null,null,null,256,null,null,201747,47,2017,"2017-11-20","2017-11-26"]
[null,null,null,null,null,null,null,null,null,null,null,null,null,null,null,null,null,null,null,null,null,null,null,null,null,null,null,null,null,null,null,null,null,null,null,null,null,null,null,null,null,null,null,null,null,null,null,null,null,257,null,null,201748,48,2017,"2017-11-27","2017-12-03"]
[null,null,null,null,null,null,null,null,null,null,null,null,null,null,null,null,null,null,null,null,null,null,null,null,null,null,null,null,null,null,null,null,null,null,null,null,null,null,null,null,null,null,null,null,null,null,null,null,null,258,null,null,201749,49,2017,"2017-12-04","2017-12-10"]
[null,null,null,null,null,null,null,null,null,null,null,null,null,null,null,null,null,null,null,null,null,null,null,null,null,null,null,null,null,null,null,null,null,null,null,null,null,null,null,null,null,null,null,null,null,null,null,null,null,259,null,null,201750,50,2017,"2017-12-11","2017-12-17"]
[null,null,null,null,null,null,null,null,null,null,null,null,null,null,null,null,null,null,null,null,null,null,null,null,null,null,null,null,null,null,null,null,null,null,null,null,null,null,null,null,null,null,null,null,null,null,null,null,null,260,null,null,201751,51,2017,"2017-12-18","2017-12-24"]
[null,null,null,null,null,null,null,null,null,null,null,null,null,null,null,null,null,null,null,null,null,null,null,null,null,null,null,null,null,null,null,null,null,null,null,null,null,null,null,null,null,null,null,null,null,null,null,null,null,261,null,null,201752,52,2017,"2017-12-25","2017-12-31"]
[null,null,null,null,null,null,null,null,null,null,null,null,null,null,null,null,null,null,null,null,null,null,null,null,null,null,null,null,null,null,null,null,null,null,null,null,null,null,null,null,null,null,null,null,null,null,null,null,null,262,null,null,20181,1,2018,"2018-01-01","2018-01-07"]
[null,null,null,null,null,null,null,null,null,null,null,null,null,null,null,null,null,null,null,null,null,null,null,null,null,null,null,null,null,null,null,null,null,null,null,null,null,null,null,null,null,null,null,null,null,null,null,null,null,263,null,null,20182,2,2018,"2018-01-08","2018-01-14"]
[null,null,null,null,null,null,null,null,null,null,null,null,null,null,null,null,null,null,null,null,null,null,null,null,null,null,null,null,null,null,null,null,null,null,null,null,null,null,null,null,null,null,null,null,null,null,null,null,null,264,null,null,20183,3,2018,"2018-01-15","2018-01-21"]
[null,null,null,null,null,null,null,null,null,null,null,null,null,null,null,null,null,null,null,null,null,null,null,null,null,null,null,null,null,null,null,null,null,null,null,null,null,null,null,null,null,null,null,null,null,null,null,null,null,265,null,null,20184,4,2018,"2018-01-22","2018-01-28"]
[null,null,null,null,null,null,null,null,null,null,null,null,null,null,null,null,null,null,null,null,null,null,null,null,null,null,null,null,null,null,null,null,null,null,null,null,null,null,null,null,null,null,null,null,null,null,null,null,null,266,null,null,20185,5,2018,"2018-01-29","2018-02-04"]
[null,null,null,null,null,null,null,null,null,null,null,null,null,null,null,null,null,null,null,null,null,null,null,null,null,null,null,null,null,null,null,null,null,null,null,null,null,null,null,null,null,null,null,null,null,null,null,null,null,267,null,null,20186,6,2018,"2018-02-05","2018-02-11"]
[null,null,null,null,null,null,null,null,null,null,null,null,null,null,null,null,null,null,null,null,null,null,null,null,null,null,null,null,null,null,null,null,null,null,null,null,null,null,null,null,null,null,null,null,null,null,null,null,null,268,null,null,20187,7,2018,"2018-02-12","2018-02-18"]
[null,null,null,null,null,null,null,null,null,null,null,null,null,null,null,null,null,null,null,null,null,null,null,null,null,null,null,null,null,null,null,null,null,null,null,null,null,null,null,null,null,null,null,null,null,null,null,null,null,269,null,null,20188,8,2018,"2018-02-19","2018-02-25"]
[null,null,null,null,null,null,null,null,null,null,null,null,null,null,null,null,null,null,null,null,null,null,null,null,null,null,null,null,null,null,null,null,null,null,null,null,null,null,null,null,null,null,null,null,null,null,null,null,null,270,null,null,20189,9,2018,"2018-02-26","2018-03-04"]
[null,null,null,null,null,null,null,null,null,null,null,null,null,null,null,null,null,null,null,null,null,null,null,null,null,null,null,null,null,null,null,null,null,null,null,null,null,null,null,null,null,null,null,null,null,null,null,null,null,271,null,null,201810,10,2018,"2018-03-05","2018-03-11"]
[null,null,null,null,null,null,null,null,null,null,null,null,null,null,null,null,null,null,null,null,null,null,null,null,null,null,null,null,null,null,null,null,null,null,null,null,null,null,null,null,null,null,null,null,null,null,null,null,null,272,null,null,201811,11,2018,"2018-03-12","2018-03-18"]
[null,null,null,null,null,null,null,null,null,null,null,null,null,null,null,null,null,null,null,null,null,null,null,null,null,null,null,null,null,null,null,null,null,null,null,null,null,null,null,null,null,null,null,null,null,null,null,null,null,273,null,null,201812,12,2018,"2018-03-19","2018-03-25"]
[null,null,null,null,null,null,null,null,null,null,null,null,null,null,null,null,null,null,null,null,null,null,null,null,null,null,null,null,null,null,null,null,null,null,null,null,null,null,null,null,null,null,null,null,null,null,null,null,null,274,null,null,201813,13,2018,"2018-03-26","2018-04-01"]
[null,null,null,null,null,null,null,null,null,null,null,null,null,null,null,null,null,null,null,null,null,null,null,null,null,null,null,null,null,null,null,null,null,null,null,null,null,null,null,null,null,null,null,null,null,null,null,null,null,275,null,null,201814,14,2018,"2018-04-02","2018-04-08"]
[null,null,null,null,null,null,null,null,null,null,null,null,null,null,null,null,null,null,null,null,null,null,null,null,null,null,null,null,null,null,null,null,null,null,null,null,null,null,null,null,null,null,null,null,null,null,null,null,null,276,null,null,201815,15,2018,"2018-04-09","2018-04-15"]
[null,null,null,null,null,null,null,null,null,null,null,null,null,null,null,null,null,null,null,null,null,null,null,null,null,null,null,null,null,null,null,null,null,null,null,null,null,null,null,null,null,null,null,null,null,null,null,null,null,277,null,null,201816,16,2018,"2018-04-16","2018-04-22"]
[null,null,null,null,null,null,null,null,null,null,null,null,null,null,null,null,null,null,null,null,null,null,null,null,null,null,null,null,null,null,null,null,null,null,null,null,null,null,null,null,null,null,null,null,null,null,null,null,null,278,null,null,201817,17,2018,"2018-04-23","2018-04-29"]
[null,null,null,null,null,null,null,null,null,null,null,null,null,null,null,null,null,null,null,null,null,null,null,null,null,null,null,null,null,null,null,null,null,null,null,null,null,null,null,null,null,null,null,null,null,null,null,null,null,279,null,null,201818,18,2018,"2018-04-30","2018-05-06"]
[null,null,null,null,null,null,null,null,null,null,null,null,null,null,null,null,null,null,null,null,null,null,null,null,null,null,null,null,null,null,null,null,null,null,null,null,null,null,null,null,null,null,null,null,null,null,null,null,null,280,null,null,201819,19,2018,"2018-05-07","2018-05-13"]
[null,null,null,null,null,null,null,null,null,null,null,null,null,null,null,null,null,null,null,null,null,null,null,null,null,null,null,null,null,null,null,null,null,null,null,null,null,null,null,null,null,null,null,null,null,null,null,null,null,281,null,null,201820,20,2018,"2018-05-14","2018-05-20"]
[null,null,null,null,null,null,null,null,null,null,null,null,null,null,null,null,null,null,null,null,null,null,null,null,null,null,null,null,null,null,null,null,null,null,null,null,null,null,null,null,null,null,null,null,null,null,null,null,null,282,null,null,201821,21,2018,"2018-05-21","2018-05-27"]
[null,null,null,null,null,null,null,null,null,null,null,null,null,null,null,null,null,null,null,null,null,null,null,null,null,null,null,null,null,null,null,null,null,null,null,null,null,null,null,null,null,null,null,null,null,null,null,null,null,283,null,null,201822,22,2018,"2018-05-28","2018-06-03"]
[null,null,null,null,null,null,null,null,null,null,null,null,null,null,null,null,null,null,null,null,null,null,null,null,null,null,null,null,null,null,null,null,null,null,null,null,null,null,null,null,null,null,null,null,null,null,null,null,null,284,null,null,201823,23,2018,"2018-06-04","2018-06-10"]
[null,null,null,null,null,null,null,null,null,null,null,null,null,null,null,null,null,null,null,null,null,null,null,null,null,null,null,null,null,null,null,null,null,null,null,null,null,null,null,null,null,null,null,null,null,null,null,null,null,285,null,null,201824,24,2018,"2018-06-11","2018-06-17"]
[null,null,null,null,null,null,null,null,null,null,null,null,null,null,null,null,null,null,null,null,null,null,null,null,null,null,null,null,null,null,null,null,null,null,null,null,null,null,null,null,null,null,null,null,null,null,null,null,null,286,null,null,201825,25,2018,"2018-06-18","2018-06-24"]
[null,null,null,null,null,null,null,null,null,null,null,null,null,null,null,null,null,null,null,null,null,null,null,null,null,null,null,null,null,null,null,null,null,null,null,null,null,null,null,null,null,null,null,null,null,null,null,null,null,287,null,null,201826,26,2018,"2018-06-25","2018-07-01"]
[null,null,null,null,null,null,null,null,null,null,null,null,null,null,null,null,null,null,null,null,null,null,null,null,null,null,null,null,null,null,null,null,null,null,null,null,null,null,null,null,null,null,null,null,null,null,null,null,null,288,null,null,201827,27,2018,"2018-07-02","2018-07-08"]
[null,null,null,null,null,null,null,null,null,null,null,null,null,null,null,null,null,null,null,null,null,null,null,null,null,null,null,null,null,null,null,null,null,null,null,null,null,null,null,null,null,null,null,null,null,null,null,null,null,289,null,null,201828,28,2018,"2018-07-09","2018-07-15"]
[null,null,null,null,null,null,null,null,null,null,null,null,null,null,null,null,null,null,null,null,null,null,null,null,null,null,null,null,null,null,null,null,null,null,null,null,null,null,null,null,null,null,null,null,null,null,null,null,null,290,null,null,201829,29,2018,"2018-07-16","2018-07-22"]
[null,null,null,null,null,null,null,null,null,null,null,null,null,null,null,null,null,null,null,null,null,null,null,null,null,null,null,null,null,null,null,null,null,null,null,null,null,null,null,null,null,null,null,null,null,null,null,null,null,291,null,null,201830,30,2018,"2018-07-23","2018-07-29"]
[null,null,null,null,null,null,null,null,null,null,null,null,null,null,null,null,null,null,null,null,null,null,null,null,null,null,null,null,null,null,null,null,null,null,null,null,null,null,null,null,null,null,null,null,null,null,null,null,null,292,null,null,201831,31,2018,"2018-07-30","2018-08-05"]
[null,null,null,null,null,null,null,null,null,null,null,null,null,null,null,null,null,null,null,null,null,null,null,null,null,null,null,null,null,null,null,null,null,null,null,null,null,null,null,null,null,null,null,null,null,null,null,null,null,293,null,null,201832,32,2018,"2018-08-06","2018-08-12"]
[null,null,null,null,null,null,null,null,null,null,null,null,null,null,null,null,null,null,null,null,null,null,null,null,null,null,null,null,null,null,null,null,null,null,null,null,null,null,null,null,null,null,null,null,null,null,null,null,null,294,null,null,201833,33,2018,"2018-08-13","2018-08-19"]
[null,null,null,null,null,null,null,null,null,null,null,null,null,null,null,null,null,null,null,null,null,null,null,null,null,null,null,null,null,null,null,null,null,null,null,null,null,null,null,null,null,null,null,null,null,null,null,null,null,295,null,null,201834,34,2018,"2018-08-20","2018-08-26"]
[null,null,null,null,null,null,null,null,null,null,null,null,null,null,null,null,null,null,null,null,null,null,null,null,null,null,null,null,null,null,null,null,null,null,null,null,null,null,null,null,null,null,null,null,null,null,null,null,null,296,null,null,201835,35,2018,"2018-08-27","2018-09-02"]
[null,null,null,null,null,null,null,null,null,null,null,null,null,null,null,null,null,null,null,null,null,null,null,null,null,null,null,null,null,null,null,null,null,null,null,null,null,null,null,null,null,null,null,null,null,null,null,null,null,297,null,null,201836,36,2018,"2018-09-03","2018-09-09"]
[null,null,null,null,null,null,null,null,null,null,null,null,null,null,null,null,null,null,null,null,null,null,null,null,null,null,null,null,null,null,null,null,null,null,null,null,null,null,null,null,null,null,null,null,null,null,null,null,null,298,null,null,201837,37,2018,"2018-09-10","2018-09-16"]
[null,null,null,null,null,null,null,null,null,null,null,null,null,null,null,null,null,null,null,null,null,null,null,null,null,null,null,null,null,null,null,null,null,null,null,null,null,null,null,null,null,null,null,null,null,null,null,null,null,299,null,null,201838,38,2018,"2018-09-17","2018-09-23"]
[null,null,null,null,null,null,null,null,null,null,null,null,null,null,null,null,null,null,null,null,null,null,null,null,null,null,null,null,null,null,null,null,null,null,null,null,null,null,null,null,null,null,null,null,null,null,null,null,null,300,null,null,201839,39,2018,"2018-09-24","2018-09-30"]
[null,null,null,null,null,null,null,null,null,null,null,null,null,null,null,null,null,null,null,null,null,null,null,null,null,null,null,null,null,null,null,null,null,null,null,null,null,null,null,null,null,null,null,null,null,null,null,null,null,301,null,null,201840,40,2018,"2018-10-01","2018-10-07"]
[null,null,null,null,null,null,null,null,null,null,null,null,null,null,null,null,null,null,null,null,null,null,null,null,null,null,null,null,null,null,null,null,null,null,null,null,null,null,null,null,null,null,null,null,null,null,null,null,null,302,null,null,201841,41,2018,"2018-10-08","2018-10-14"]
[null,null,null,null,null,null,null,null,null,null,null,null,null,null,null,null,null,null,null,null,null,null,null,null,null,null,null,null,null,null,null,null,null,null,null,null,null,null,null,null,null,null,null,null,null,null,null,null,null,303,null,null,201842,42,2018,"2018-10-15","2018-10-21"]
[null,null,null,null,null,null,null,null,null,null,null,null,null,null,null,null,null,null,null,null,null,null,null,null,null,null,null,null,null,null,null,null,null,null,null,null,null,null,null,null,null,null,null,null,null,null,null,null,null,304,null,null,201843,43,2018,"2018-10-22","2018-10-28"]
[null,null,null,null,null,null,null,null,null,null,null,null,null,null,null,null,null,null,null,null,null,null,null,null,null,null,null,null,null,null,null,null,null,null,null,null,null,null,null,null,null,null,null,null,null,null,null,null,null,305,null,null,201844,44,2018,"2018-10-29","2018-11-04"]
[null,null,null,null,null,null,null,null,null,null,null,null,null,null,null,null,null,null,null,null,null,null,null,null,null,null,null,null,null,null,null,null,null,null,null,null,null,null,null,null,null,null,null,null,null,null,null,null,null,306,null,null,201845,45,2018,"2018-11-05","2018-11-11"]
[null,null,null,null,null,null,null,null,null,null,null,null,null,null,null,null,null,null,null,null,null,null,null,null,null,null,null,null,null,null,null,null,null,null,null,null,null,null,null,null,null,null,null,null,null,null,null,null,null,307,null,null,201846,46,2018,"2018-11-12","2018-11-18"]
[null,null,null,null,null,null,null,null,null,null,null,null,null,null,null,null,null,null,null,null,null,null,null,null,null,null,null,null,null,null,null,null,null,null,null,null,null,null,null,null,null,null,null,null,null,null,null,null,null,308,null,null,201847,47,2018,"2018-11-19","2018-11-25"]
[null,null,null,null,null,null,null,null,null,null,null,null,null,null,null,null,null,null,null,null,null,null,null,null,null,null,null,null,null,null,null,null,null,null,null,null,null,null,null,null,null,null,null,null,null,null,null,null,null,309,null,null,201848,48,2018,"2018-11-26","2018-12-02"]
[null,null,null,null,null,null,null,null,null,null,null,null,null,null,null,null,null,null,null,null,null,null,null,null,null,null,null,null,null,null,null,null,null,null,null,null,null,null,null,null,null,null,null,null,null,null,null,null,null,310,null,null,201849,49,2018,"2018-12-03","2018-12-09"]
[null,null,null,null,null,null,null,null,null,null,null,null,null,null,null,null,null,null,null,null,null,null,null,null,null,null,null,null,null,null,null,null,null,null,null,null,null,null,null,null,null,null,null,null,null,null,null,null,null,311,null,null,201850,50,2018,"2018-12-10","2018-12-16"]
[null,null,null,null,null,null,null,null,null,null,null,null,null,null,null,null,null,null,null,null,null,null,null,null,null,null,null,null,null,null,null,null,null,null,null,null,null,null,null,null,null,null,null,null,null,null,null,null,null,312,null,null,201851,51,2018,"2018-12-17","2018-12-23"]
[null,null,null,null,null,null,null,null,null,null,null,null,null,null,null,null,null,null,null,null,null,null,null,null,null,null,null,null,null,null,null,null,null,null,null,null,null,null,null,null,null,null,null,null,null,null,null,null,null,313,null,null,201852,52,2018,"2018-12-24","2018-12-30"]
[null,null,null,null,null,null,null,null,null,null,null,null,null,null,null,null,null,null,null,null,null,null,null,null,null,null,null,null,null,null,null,null,null,null,null,null,null,null,null,null,null,null,null,null,null,null,null,null,null,314,null,null,20191,1,2018,"2018-12-31","2019-01-06"]
[null,null,null,null,null,null,null,null,null,null,null,null,null,null,null,null,null,null,null,null,null,null,null,null,null,null,null,null,null,null,null,null,null,null,null,null,null,null,null,null,null,null,null,null,null,null,null,null,null,315,null,null,20192,2,2019,"2019-01-07","2019-01-13"]
[null,null,null,null,null,null,null,null,null,null,null,null,null,null,null,null,null,null,null,null,null,null,null,null,null,null,null,null,null,null,null,null,null,null,null,null,null,null,null,null,null,null,null,null,null,null,null,null,null,316,null,null,20193,3,2019,"2019-01-14","2019-01-20"]
[null,null,null,null,null,null,null,null,null,null,null,null,null,null,null,null,null,null,null,null,null,null,null,null,null,null,null,null,null,null,null,null,null,null,null,null,null,null,null,null,null,null,null,null,null,null,null,null,null,317,null,null,20194,4,2019,"2019-01-21","2019-01-27"]
[null,null,null,null,null,null,null,null,null,null,null,null,null,null,null,null,null,null,null,null,null,null,null,null,null,null,null,null,null,null,null,null,null,null,null,null,null,null,null,null,null,null,null,null,null,null,null,null,null,318,null,null,20195,5,2019,"2019-01-28","2019-02-03"]
[null,null,null,null,null,null,null,null,null,null,null,null,null,null,null,null,null,null,null,null,null,null,null,null,null,null,null,null,null,null,null,null,null,null,null,null,null,null,null,null,null,null,null,null,null,null,null,null,null,319,null,null,20196,6,2019,"2019-02-04","2019-02-10"]
[null,null,null,null,null,null,null,null,null,null,null,null,null,null,null,null,null,null,null,null,null,null,null,null,null,null,null,null,null,null,null,null,null,null,null,null,null,null,null,null,null,null,null,null,null,null,null,null,null,320,null,null,20197,7,2019,"2019-02-11","2019-02-17"]
[null,null,null,null,null,null,null,null,null,null,null,null,null,null,null,null,null,null,null,null,null,null,null,null,null,null,null,null,null,null,null,null,null,null,null,null,null,null,null,null,null,null,null,null,null,null,null,null,null,321,null,null,20198,8,2019,"2019-02-18","2019-02-24"]
[null,null,null,null,null,null,null,null,null,null,null,null,null,null,null,null,null,null,null,null,null,null,null,null,null,null,null,null,null,null,null,null,null,null,null,null,null,null,null,null,null,null,null,null,null,null,null,null,null,322,null,null,20199,9,2019,"2019-02-25","2019-03-03"]
[null,null,null,null,null,null,null,null,null,null,null,null,null,null,null,null,null,null,null,null,null,null,null,null,null,null,null,null,null,null,null,null,null,null,null,null,null,null,null,null,null,null,null,null,null,null,null,null,null,323,null,null,201910,10,2019,"2019-03-04","2019-03-10"]
[null,null,null,null,null,null,null,null,null,null,null,null,null,null,null,null,null,null,null,null,null,null,null,null,null,null,null,null,null,null,null,null,null,null,null,null,null,null,null,null,null,null,null,null,null,null,null,null,null,324,null,null,201911,11,2019,"2019-03-11","2019-03-17"]
[null,null,null,null,null,null,null,null,null,null,null,null,null,null,null,null,null,null,null,null,null,null,null,null,null,null,null,null,null,null,null,null,null,null,null,null,null,null,null,null,null,null,null,null,null,null,null,null,null,325,null,null,201912,12,2019,"2019-03-18","2019-03-24"]
[null,null,null,null,null,null,null,null,null,null,null,null,null,null,null,null,null,null,null,null,null,null,null,null,null,null,null,null,null,null,null,null,null,null,null,null,null,null,null,null,null,null,null,null,null,null,null,null,null,326,null,null,201913,13,2019,"2019-03-25","2019-03-31"]
[null,null,null,null,null,null,null,null,null,null,null,null,null,null,null,null,null,null,null,null,null,null,null,null,null,null,null,null,null,null,null,null,null,null,null,null,null,null,null,null,null,null,null,null,null,null,null,null,null,327,null,null,201914,14,2019,"2019-04-01","2019-04-07"]
[null,null,null,null,null,null,null,null,null,null,null,null,null,null,null,null,null,null,null,null,null,null,null,null,null,null,null,null,null,null,null,null,null,null,null,null,null,null,null,null,null,null,null,null,null,null,null,null,null,328,null,null,201915,15,2019,"2019-04-08","2019-04-14"]
[null,null,null,null,null,null,null,null,null,null,null,null,null,null,null,null,null,null,null,null,null,null,null,null,null,null,null,null,null,null,null,null,null,null,null,null,null,null,null,null,null,null,null,null,null,null,null,null,null,329,null,null,201916,16,2019,"2019-04-15","2019-04-21"]
[null,null,null,null,null,null,null,null,null,null,null,null,null,null,null,null,null,null,null,null,null,null,null,null,null,null,null,null,null,null,null,null,null,null,null,null,null,null,null,null,null,null,null,null,null,null,null,null,null,330,null,null,201917,17,2019,"2019-04-22","2019-04-28"]
[null,null,null,null,null,null,null,null,null,null,null,null,null,null,null,null,null,null,null,null,null,null,null,null,null,null,null,null,null,null,null,null,null,null,null,null,null,null,null,null,null,null,null,null,null,null,null,null,null,331,null,null,201918,18,2019,"2019-04-29","2019-05-05"]
[null,null,null,null,null,null,null,null,null,null,null,null,null,null,null,null,null,null,null,null,null,null,null,null,null,null,null,null,null,null,null,null,null,null,null,null,null,null,null,null,null,null,null,null,null,null,null,null,null,332,null,null,201919,19,2019,"2019-05-06","2019-05-12"]
[null,null,null,null,null,null,null,null,null,null,null,null,null,null,null,null,null,null,null,null,null,null,null,null,null,null,null,null,null,null,null,null,null,null,null,null,null,null,null,null,null,null,null,null,null,null,null,null,null,333,null,null,201920,20,2019,"2019-05-13","2019-05-19"]
[null,null,null,null,null,null,null,null,null,null,null,null,null,null,null,null,null,null,null,null,null,null,null,null,null,null,null,null,null,null,null,null,null,null,null,null,null,null,null,null,null,null,null,null,null,null,null,null,null,334,null,null,201921,21,2019,"2019-05-20","2019-05-26"]
[null,null,null,null,null,null,null,null,null,null,null,null,null,null,null,null,null,null,null,null,null,null,null,null,null,null,null,null,null,null,null,null,null,null,null,null,null,null,null,null,null,null,null,null,null,null,null,null,null,335,null,null,201922,22,2019,"2019-05-27","2019-06-02"]
[null,null,null,null,null,null,null,null,null,null,null,null,null,null,null,null,null,null,null,null,null,null,null,null,null,null,null,null,null,null,null,null,null,null,null,null,null,null,null,null,null,null,null,null,null,null,null,null,null,336,null,null,201923,23,2019,"2019-06-03","2019-06-09"]
[null,null,null,null,null,null,null,null,null,null,null,null,null,null,null,null,null,null,null,null,null,null,null,null,null,null,null,null,null,null,null,null,null,null,null,null,null,null,null,null,null,null,null,null,null,null,null,null,null,337,null,null,201924,24,2019,"2019-06-10","2019-06-16"]
[null,null,null,null,null,null,null,null,null,null,null,null,null,null,null,null,null,null,null,null,null,null,null,null,null,null,null,null,null,null,null,null,null,null,null,null,null,null,null,null,null,null,null,null,null,null,null,null,null,338,null,null,201925,25,2019,"2019-06-17","2019-06-23"]
[null,null,null,null,null,null,null,null,null,null,null,null,null,null,null,null,null,null,null,null,null,null,null,null,null,null,null,null,null,null,null,null,null,null,null,null,null,null,null,null,null,null,null,null,null,null,null,null,null,339,null,null,201926,26,2019,"2019-06-24","2019-06-30"]
[null,null,null,null,null,null,null,null,null,null,null,null,null,null,null,null,null,null,null,null,null,null,null,null,null,null,null,null,null,null,null,null,null,null,null,null,null,null,null,null,null,null,null,null,null,null,null,null,null,340,null,null,201927,27,2019,"2019-07-01","2019-07-07"]
[null,null,null,null,null,null,null,null,null,null,null,null,null,null,null,null,null,null,null,null,null,null,null,null,null,null,null,null,null,null,null,null,null,null,null,null,null,null,null,null,null,null,null,null,null,null,null,null,null,341,null,null,201928,28,2019,"2019-07-08","2019-07-14"]
[null,null,null,null,null,null,null,null,null,null,null,null,null,null,null,null,null,null,null,null,null,null,null,null,null,null,null,null,null,null,null,null,null,null,null,null,null,null,null,null,null,null,null,null,null,null,null,null,null,342,null,null,201929,29,2019,"2019-07-15","2019-07-21"]
[null,null,null,null,null,null,null,null,null,null,null,null,null,null,null,null,null,null,null,null,null,null,null,null,null,null,null,null,null,null,null,null,null,null,null,null,null,null,null,null,null,null,null,null,null,null,null,null,null,343,null,null,201930,30,2019,"2019-07-22","2019-07-28"]
[null,null,null,null,null,null,null,null,null,null,null,null,null,null,null,null,null,null,null,null,null,null,null,null,null,null,null,null,null,null,null,null,null,null,null,null,null,null,null,null,null,null,null,null,null,null,null,null,null,344,null,null,201931,31,2019,"2019-07-29","2019-08-04"]
[null,null,null,null,null,null,null,null,null,null,null,null,null,null,null,null,null,null,null,null,null,null,null,null,null,null,null,null,null,null,null,null,null,null,null,null,null,null,null,null,null,null,null,null,null,null,null,null,null,345,null,null,201932,32,2019,"2019-08-05","2019-08-11"]
[null,null,null,null,null,null,null,null,null,null,null,null,null,null,null,null,null,null,null,null,null,null,null,null,null,null,null,null,null,null,null,null,null,null,null,null,null,null,null,null,null,null,null,null,null,null,null,null,null,346,null,null,201933,33,2019,"2019-08-12","2019-08-18"]
[null,null,null,null,null,null,null,null,null,null,null,null,null,null,null,null,null,null,null,null,null,null,null,null,null,null,null,null,null,null,null,null,null,null,null,null,null,null,null,null,null,null,null,null,null,null,null,null,null,347,null,null,201934,34,2019,"2019-08-19","2019-08-25"]
[null,null,null,null,null,null,null,null,null,null,null,null,null,null,null,null,null,null,null,null,null,null,null,null,null,null,null,null,null,null,null,null,null,null,null,null,null,null,null,null,null,null,null,null,null,null,null,null,null,348,null,null,201935,35,2019,"2019-08-26","2019-09-01"]
[null,null,null,null,null,null,null,null,null,null,null,null,null,null,null,null,null,null,null,null,null,null,null,null,null,null,null,null,null,null,null,null,null,null,null,null,null,null,null,null,null,null,null,null,null,null,null,null,null,349,null,null,201936,36,2019,"2019-09-02","2019-09-08"]
[null,null,null,null,null,null,null,null,null,null,null,null,null,null,null,null,null,null,null,null,null,null,null,null,null,null,null,null,null,null,null,null,null,null,null,null,null,null,null,null,null,null,null,null,null,null,null,null,null,350,null,null,201937,37,2019,"2019-09-09","2019-09-15"]
[null,null,null,null,null,null,null,null,null,null,null,null,null,null,null,null,null,null,null,null,null,null,null,null,null,null,null,null,null,null,null,null,null,null,null,null,null,null,null,null,null,null,null,null,null,null,null,null,null,351,null,null,201938,38,2019,"2019-09-16","2019-09-22"]
[null,null,null,null,null,null,null,null,null,null,null,null,null,null,null,null,null,null,null,null,null,null,null,null,null,null,null,null,null,null,null,null,null,null,null,null,null,null,null,null,null,null,null,null,null,null,null,null,null,352,null,null,201939,39,2019,"2019-09-23","2019-09-29"]
[null,null,null,null,null,null,null,null,null,null,null,null,null,null,null,null,null,null,null,null,null,null,null,null,null,null,null,null,null,null,null,null,null,null,null,null,null,null,null,null,null,null,null,null,null,null,null,null,null,353,null,null,201940,40,2019,"2019-09-30","2019-10-06"]
[null,null,null,null,null,null,null,null,null,null,null,null,null,null,null,null,null,null,null,null,null,null,null,null,null,null,null,null,null,null,null,null,null,null,null,null,null,null,null,null,null,null,null,null,null,null,null,null,null,354,null,null,201941,41,2019,"2019-10-07","2019-10-13"]
[null,null,null,null,null,null,null,null,null,null,null,null,null,null,null,null,null,null,null,null,null,null,null,null,null,null,null,null,null,null,null,null,null,null,null,null,null,null,null,null,null,null,null,null,null,null,null,null,null,355,null,null,201942,42,2019,"2019-10-14","2019-10-20"]
[null,null,null,null,null,null,null,null,null,null,null,null,null,null,null,null,null,null,null,null,null,null,null,null,null,null,null,null,null,null,null,null,null,null,null,null,null,null,null,null,null,null,null,null,null,null,null,null,null,356,null,null,201943,43,2019,"2019-10-21","2019-10-27"]
[null,null,null,null,null,null,null,null,null,null,null,null,null,null,null,null,null,null,null,null,null,null,null,null,null,null,null,null,null,null,null,null,null,null,null,null,null,null,null,null,null,null,null,null,null,null,null,null,null,357,null,null,201944,44,2019,"2019-10-28","2019-11-03"]
[null,null,null,null,null,null,null,null,null,null,null,null,null,null,null,null,null,null,null,null,null,null,null,null,null,null,null,null,null,null,null,null,null,null,null,null,null,null,null,null,null,null,null,null,null,null,null,null,null,358,null,null,201945,45,2019,"2019-11-04","2019-11-10"]
[null,null,null,null,null,null,null,null,null,null,null,null,null,null,null,null,null,null,null,null,null,null,null,null,null,null,null,null,null,null,null,null,null,null,null,null,null,null,null,null,null,null,null,null,null,null,null,null,null,359,null,null,201946,46,2019,"2019-11-11","2019-11-17"]
[null,null,null,null,null,null,null,null,null,null,null,null,null,null,null,null,null,null,null,null,null,null,null,null,null,null,null,null,null,null,null,null,null,null,null,null,null,null,null,null,null,null,null,null,null,null,null,null,null,360,null,null,201947,47,2019,"2019-11-18","2019-11-24"]
[null,null,null,null,null,null,null,null,null,null,null,null,null,null,null,null,null,null,null,null,null,null,null,null,null,null,null,null,null,null,null,null,null,null,null,null,null,null,null,null,null,null,null,null,null,null,null,null,null,361,null,null,201948,48,2019,"2019-11-25","2019-12-01"]
[null,null,null,null,null,null,null,null,null,null,null,null,null,null,null,null,null,null,null,null,null,null,null,null,null,null,null,null,null,null,null,null,null,null,null,null,null,null,null,null,null,null,null,null,null,null,null,null,null,362,null,null,201949,49,2019,"2019-12-02","2019-12-08"]
[null,null,null,null,null,null,null,null,null,null,null,null,null,null,null,null,null,null,null,null,null,null,null,null,null,null,null,null,null,null,null,null,null,null,null,null,null,null,null,null,null,null,null,null,null,null,null,null,null,363,null,null,201950,50,2019,"2019-12-09","2019-12-15"]
[null,null,null,null,null,null,null,null,null,null,null,null,null,null,null,null,null,null,null,null,null,null,null,null,null,null,null,null,null,null,null,null,null,null,null,null,null,null,null,null,null,null,null,null,null,null,null,null,null,364,null,null,201951,51,2019,"2019-12-16","2019-12-22"]
[null,null,null,null,null,null,null,null,null,null,null,null,null,null,null,null,null,null,null,null,null,null,null,null,null,null,null,null,null,null,null,null,null,null,null,null,null,null,null,null,null,null,null,null,null,null,null,null,null,365,null,null,201952,52,2019,"2019-12-23","2019-12-29"]
[null,null,null,null,null,null,null,null,null,null,null,null,null,null,null,null,null,null,null,null,null,null,null,null,null,null,null,null,null,null,null,null,null,null,null,null,null,null,null,null,null,null,null,null,null,null,null,null,null,366,null,null,20201,1,2019,"2019-12-30","2020-01-05"]
[null,null,null,null,null,null,null,null,null,null,null,null,null,null,null,null,null,null,null,null,null,null,null,null,null,null,null,null,null,null,null,null,null,null,null,null,null,null,null,null,null,null,null,null,null,null,null,null,null,367,null,null,20202,2,2020,"2020-01-06","2020-01-12"]
[null,null,null,null,null,null,null,null,null,null,null,null,null,null,null,null,null,null,null,null,null,null,null,null,null,null,null,null,null,null,null,null,null,null,null,null,null,null,null,null,null,null,null,null,null,null,null,null,null,368,null,null,20203,3,2020,"2020-01-13","2020-01-19"]
[null,null,null,null,null,null,null,null,null,null,null,null,null,null,null,null,null,null,null,null,null,null,null,null,null,null,null,null,null,null,null,null,null,null,null,null,null,null,null,null,null,null,null,null,null,null,null,null,null,369,null,null,20204,4,2020,"2020-01-20","2020-01-26"]
[null,null,null,null,null,null,null,null,null,null,null,null,null,null,null,null,null,null,null,null,null,null,null,null,null,null,null,null,null,null,null,null,null,null,null,null,null,null,null,null,null,null,null,null,null,null,null,null,null,370,null,null,20205,5,2020,"2020-01-27","2020-02-02"]
[null,null,null,null,null,null,null,null,null,null,null,null,null,null,null,null,null,null,null,null,null,null,null,null,null,null,null,null,null,null,null,null,null,null,null,null,null,null,null,null,null,null,null,null,null,null,null,null,null,371,null,null,20206,6,2020,"2020-02-03","2020-02-09"]
[null,null,null,null,null,null,null,null,null,null,null,null,null,null,null,null,null,null,null,null,null,null,null,null,null,null,null,null,null,null,null,null,null,null,null,null,null,null,null,null,null,null,null,null,null,null,null,null,null,372,null,null,20207,7,2020,"2020-02-10","2020-02-16"]
[null,null,null,null,null,null,null,null,null,null,null,null,null,null,null,null,null,null,null,null,null,null,null,null,null,null,null,null,null,null,null,null,null,null,null,null,null,null,null,null,null,null,null,null,null,null,null,null,null,373,null,null,20208,8,2020,"2020-02-17","2020-02-23"]
[null,null,null,null,null,null,null,null,null,null,null,null,null,null,null,null,null,null,null,null,null,null,null,null,null,null,null,null,null,null,null,null,null,null,null,null,null,null,null,null,null,null,null,null,null,null,null,null,null,374,null,null,20209,9,2020,"2020-02-24","2020-03-01"]
[null,null,null,null,null,null,null,null,null,null,null,null,null,null,null,null,null,null,null,null,null,null,null,null,null,null,null,null,null,null,null,null,null,null,null,null,null,null,null,null,null,null,null,null,null,null,null,null,null,375,null,null,202010,10,2020,"2020-03-02","2020-03-08"]
[null,null,null,null,null,null,null,null,null,null,null,null,null,null,null,null,null,null,null,null,null,null,null,null,null,null,null,null,null,null,null,null,null,null,null,null,null,null,null,null,null,null,null,null,null,null,null,null,null,376,null,null,202011,11,2020,"2020-03-09","2020-03-15"]
[null,null,null,null,null,null,null,null,null,null,null,null,null,null,null,null,null,null,null,null,null,null,null,null,null,null,null,null,null,null,null,null,null,null,null,null,null,null,null,null,null,null,null,null,null,null,null,null,null,377,null,null,202012,12,2020,"2020-03-16","2020-03-22"]
[null,null,null,null,null,null,null,null,null,null,null,null,null,null,null,null,null,null,null,null,null,null,null,null,null,null,null,null,null,null,null,null,null,null,null,null,null,null,null,null,null,null,null,null,null,null,null,null,null,378,null,null,202013,13,2020,"2020-03-23","2020-03-29"]
[null,null,null,null,null,null,null,null,null,null,null,null,null,null,null,null,null,null,null,null,null,null,null,null,null,null,null,null,null,null,null,null,null,null,null,null,null,null,null,null,null,null,null,null,null,null,null,null,null,379,null,null,202014,14,2020,"2020-03-30","2020-04-05"]
[null,null,null,null,null,null,null,null,null,null,null,null,null,null,null,null,null,null,null,null,null,null,null,null,null,null,null,null,null,null,null,null,null,null,null,null,null,null,null,null,null,null,null,null,null,null,null,null,null,380,null,null,202015,15,2020,"2020-04-06","2020-04-12"]
[null,null,null,null,null,null,null,null,null,null,null,null,null,null,null,null,null,null,null,null,null,null,null,null,null,null,null,null,null,null,null,null,null,null,null,null,null,null,null,null,null,null,null,null,null,null,null,null,null,381,null,null,202016,16,2020,"2020-04-13","2020-04-19"]
[null,null,null,null,null,null,null,null,null,null,null,null,null,null,null,null,null,null,null,null,null,null,null,null,null,null,null,null,null,null,null,null,null,null,null,null,null,null,null,null,null,null,null,null,null,null,null,null,null,382,null,null,202017,17,2020,"2020-04-20","2020-04-26"]
[null,null,null,null,null,null,null,null,null,null,null,null,null,null,null,null,null,null,null,null,null,null,null,null,null,null,null,null,null,null,null,null,null,null,null,null,null,null,null,null,null,null,null,null,null,null,null,null,null,383,null,null,202018,18,2020,"2020-04-27","2020-05-03"]
[null,null,null,null,null,null,null,null,null,null,null,null,null,null,null,null,null,null,null,null,null,null,null,null,null,null,null,null,null,null,null,null,null,null,null,null,null,null,null,null,null,null,null,null,null,null,null,null,null,384,null,null,202019,19,2020,"2020-05-04","2020-05-10"]
[null,null,null,null,null,null,null,null,null,null,null,null,null,null,null,null,null,null,null,null,null,null,null,null,null,null,null,null,null,null,null,null,null,null,null,null,null,null,null,null,null,null,null,null,null,null,null,null,null,385,null,null,202020,20,2020,"2020-05-11","2020-05-17"]
[null,null,null,null,null,null,null,null,null,null,null,null,null,null,null,null,null,null,null,null,null,null,null,null,null,null,null,null,null,null,null,null,null,null,null,null,null,null,null,null,null,null,null,null,null,null,null,null,null,386,null,null,202021,21,2020,"2020-05-18","2020-05-24"]
[null,null,null,null,null,null,null,null,null,null,null,null,null,null,null,null,null,null,null,null,null,null,null,null,null,null,null,null,null,null,null,null,null,null,null,null,null,null,null,null,null,null,null,null,null,null,null,null,null,387,null,null,202022,22,2020,"2020-05-25","2020-05-31"]
[null,null,null,null,null,null,null,null,null,null,null,null,null,null,null,null,null,null,null,null,null,null,null,null,null,null,null,null,null,null,null,null,null,null,null,null,null,null,null,null,null,null,null,null,null,null,null,null,null,388,null,null,202023,23,2020,"2020-06-01","2020-06-07"]
[null,null,null,null,null,null,null,null,null,null,null,null,null,null,null,null,null,null,null,null,null,null,null,null,null,null,null,null,null,null,null,null,null,null,null,null,null,null,null,null,null,null,null,null,null,null,null,null,null,389,null,null,202024,24,2020,"2020-06-08","2020-06-14"]
[null,null,null,null,null,null,null,null,null,null,null,null,null,null,null,null,null,null,null,null,null,null,null,null,null,null,null,null,null,null,null,null,null,null,null,null,null,null,null,null,null,null,null,null,null,null,null,null,null,390,null,null,202025,25,2020,"2020-06-15","2020-06-21"]
[null,null,null,null,null,null,null,null,null,null,null,null,null,null,null,null,null,null,null,null,null,null,null,null,null,null,null,null,null,null,null,null,null,null,null,null,null,null,null,null,null,null,null,null,null,null,null,null,null,391,null,null,202026,26,2020,"2020-06-22","2020-06-28"]
[null,null,null,null,null,null,null,null,null,null,null,null,null,null,null,null,null,null,null,null,null,null,null,null,null,null,null,null,null,null,null,null,null,null,null,null,null,null,null,null,null,null,null,null,null,null,null,null,null,392,null,null,202027,27,2020,"2020-06-29","2020-07-05"]
[null,null,null,null,null,null,null,null,null,null,null,null,null,null,null,null,null,null,null,null,null,null,null,null,null,null,null,null,null,null,null,null,null,null,null,null,null,null,null,null,null,null,null,null,null,null,null,null,null,393,null,null,202028,28,2020,"2020-07-06","2020-07-12"]
[null,null,null,null,null,null,null,null,null,null,null,null,null,null,null,null,null,null,null,null,null,null,null,null,null,null,null,null,null,null,null,null,null,null,null,null,null,null,null,null,null,null,null,null,null,null,null,null,null,394,null,null,202029,29,2020,"2020-07-13","2020-07-19"]
[null,null,null,null,null,null,null,null,null,null,null,null,null,null,null,null,null,null,null,null,null,null,null,null,null,null,null,null,null,null,null,null,null,null,null,null,null,null,null,null,null,null,null,null,null,null,null,null,null,395,null,null,202030,30,2020,"2020-07-20","2020-07-26"]
[null,null,null,null,null,null,null,null,null,null,null,null,null,null,null,null,null,null,null,null,null,null,null,null,null,null,null,null,null,null,null,null,null,null,null,null,null,null,null,null,null,null,null,null,null,null,null,null,null,396,null,null,202031,31,2020,"2020-07-27","2020-08-02"]
[null,null,null,null,null,null,null,null,null,null,null,null,null,null,null,null,null,null,null,null,null,null,null,null,null,null,null,null,null,null,null,null,null,null,null,null,null,null,null,null,null,null,null,null,null,null,null,null,null,397,null,null,202032,32,2020,"2020-08-03","2020-08-09"]
[null,null,null,null,null,null,null,null,null,null,null,null,null,null,null,null,null,null,null,null,null,null,null,null,null,null,null,null,null,null,null,null,null,null,null,null,null,null,null,null,null,null,null,null,null,null,null,null,null,398,null,null,202033,33,2020,"2020-08-10","2020-08-16"]
[null,null,null,null,null,null,null,null,null,null,null,null,null,null,null,null,null,null,null,null,null,null,null,null,null,null,null,null,null,null,null,null,null,null,null,null,null,null,null,null,null,null,null,null,null,null,null,null,null,399,null,null,202034,34,2020,"2020-08-17","2020-08-23"]
[null,null,null,null,null,null,null,null,null,null,null,null,null,null,null,null,null,null,null,null,null,null,null,null,null,null,null,null,null,null,null,null,null,null,null,null,null,null,null,null,null,null,null,null,null,null,null,null,null,400,null,null,202035,35,2020,"2020-08-24","2020-08-30"]
[null,null,null,null,null,null,null,null,null,null,null,null,null,null,null,null,null,null,null,null,null,null,null,null,null,null,null,null,null,null,null,null,null,null,null,null,null,null,null,null,null,null,null,null,null,null,null,null,null,401,null,null,202036,36,2020,"2020-08-31","2020-09-06"]
[null,null,null,null,null,null,null,null,null,null,null,null,null,null,null,null,null,null,null,null,null,null,null,null,null,null,null,null,null,null,null,null,null,null,null,null,null,null,null,null,null,null,null,null,null,null,null,null,null,402,null,null,202037,37,2020,"2020-09-07","2020-09-13"]
[null,null,null,null,null,null,null,null,null,null,null,null,null,null,null,null,null,null,null,null,null,null,null,null,null,null,null,null,null,null,null,null,null,null,null,null,null,null,null,null,null,null,null,null,null,null,null,null,null,403,null,null,202038,38,2020,"2020-09-14","2020-09-20"]
[null,null,null,null,null,null,null,null,null,null,null,null,null,null,null,null,null,null,null,null,null,null,null,null,null,null,null,null,null,null,null,null,null,null,null,null,null,null,null,null,null,null,null,null,null,null,null,null,null,404,null,null,202039,39,2020,"2020-09-21","2020-09-27"]
[null,null,null,null,null,null,null,null,null,null,null,null,null,null,null,null,null,null,null,null,null,null,null,null,null,null,null,null,null,null,null,null,null,null,null,null,null,null,null,null,null,null,null,null,null,null,null,null,null,405,null,null,202040,40,2020,"2020-09-28","2020-10-04"]
[null,null,null,null,null,null,null,null,null,null,null,null,null,null,null,null,null,null,null,null,null,null,null,null,null,null,null,null,null,null,null,null,null,null,null,null,null,null,null,null,null,null,null,null,null,null,null,null,null,406,null,null,202041,41,2020,"2020-10-05","2020-10-11"]
[null,null,null,null,null,null,null,null,null,null,null,null,null,null,null,null,null,null,null,null,null,null,null,null,null,null,null,null,null,null,null,null,null,null,null,null,null,null,null,null,null,null,null,null,null,null,null,null,null,407,null,null,202042,42,2020,"2020-10-12","2020-10-18"]
[null,null,null,null,null,null,null,null,null,null,null,null,null,null,null,null,null,null,null,null,null,null,null,null,null,null,null,null,null,null,null,null,null,null,null,null,null,null,null,null,null,null,null,null,null,null,null,null,null,408,null,null,202043,43,2020,"2020-10-19","2020-10-25"]
[null,null,null,null,null,null,null,null,null,null,null,null,null,null,null,null,null,null,null,null,null,null,null,null,null,null,null,null,null,null,null,null,null,null,null,null,null,null,null,null,null,null,null,null,null,null,null,null,null,409,null,null,202044,44,2020,"2020-10-26","2020-11-01"]
[null,null,null,null,null,null,null,null,null,null,null,null,null,null,null,null,null,null,null,null,null,null,null,null,null,null,null,null,null,null,null,null,null,null,null,null,null,null,null,null,null,null,null,null,null,null,null,null,null,410,null,null,202045,45,2020,"2020-11-02","2020-11-08"]
[null,null,null,null,null,null,null,null,null,null,null,null,null,null,null,null,null,null,null,null,null,null,null,null,null,null,null,null,null,null,null,null,null,null,null,null,null,null,null,null,null,null,null,null,null,null,null,null,null,411,null,null,202046,46,2020,"2020-11-09","2020-11-15"]
[null,null,null,null,null,null,null,null,null,null,null,null,null,null,null,null,null,null,null,null,null,null,null,null,null,null,null,null,null,null,null,null,null,null,null,null,null,null,null,null,null,null,null,null,null,null,null,null,null,412,null,null,202047,47,2020,"2020-11-16","2020-11-22"]
[null,null,null,null,null,null,null,null,null,null,null,null,null,null,null,null,null,null,null,null,null,null,null,null,null,null,null,null,null,null,null,null,null,null,null,null,null,null,null,null,null,null,null,null,null,null,null,null,null,413,null,null,202048,48,2020,"2020-11-23","2020-11-29"]
[null,null,null,null,null,null,null,null,null,null,null,null,null,null,null,null,null,null,null,null,null,null,null,null,null,null,null,null,null,null,null,null,null,null,null,null,null,null,null,null,null,null,null,null,null,null,null,null,null,414,null,null,202049,49,2020,"2020-11-30","2020-12-06"]
[null,null,null,null,null,null,null,null,null,null,null,null,null,null,null,null,null,null,null,null,null,null,null,null,null,null,null,null,null,null,null,null,null,null,null,null,null,null,null,null,null,null,null,null,null,null,null,null,null,415,null,null,202050,50,2020,"2020-12-07","2020-12-13"]
[null,null,null,null,null,null,null,null,null,null,null,null,null,null,null,null,null,null,null,null,null,null,null,null,null,null,null,null,null,null,null,null,null,null,null,null,null,null,null,null,null,null,null,null,null,null,null,null,null,416,null,null,202051,51,2020,"2020-12-14","2020-12-20"]
[null,null,null,null,null,null,null,null,null,null,null,null,null,null,null,null,null,null,null,null,null,null,null,null,null,null,null,null,null,null,null,null,null,null,null,null,null,null,null,null,null,null,null,null,null,null,null,null,null,417,null,null,202052,52,2020,"2020-12-21","2020-12-27"]
[null,null,null,null,null,null,null,null,null,null,null,null,null,null,null,null,null,null,null,null,null,null,null,null,null,null,null,null,null,null,null,null,null,null,null,null,null,null,null,null,null,null,null,null,null,null,null,null,null,418,null,null,202053,53,2020,"2020-12-28","2021-01-03"]
[null,null,null,null,null,null,null,null,null,null,null,null,null,null,null,null,null,null,null,null,null,null,null,null,null,null,null,null,null,null,null,null,null,null,null,null,null,null,null,null,null,null,null,null,null,null,null,null,null,419,null,null,20211,1,2021,"2021-01-04","2021-01-10"]
[null,null,null,null,null,null,null,null,null,null,null,null,null,null,null,null,null,null,null,null,null,null,null,null,null,null,null,null,null,null,null,null,null,null,null,null,null,null,null,null,null,null,null,null,null,null,null,null,null,420,null,null,20212,2,2021,"2021-01-11","2021-01-17"]
[null,null,null,null,null,null,null,null,null,null,null,null,null,null,null,null,null,null,null,null,null,null,null,null,null,null,null,null,null,null,null,null,null,null,null,null,null,null,null,null,null,null,null,null,null,null,null,null,null,421,null,null,20213,3,2021,"2021-01-18","2021-01-24"]
[null,null,null,null,null,null,null,null,null,null,null,null,null,null,null,null,null,null,null,null,null,null,null,null,null,null,null,null,null,null,null,null,null,null,null,null,null,null,null,null,null,null,null,null,null,null,null,null,null,422,null,null,20214,4,2021,"2021-01-25","2021-01-31"]
[null,null,null,null,null,null,null,null,null,null,null,null,null,null,null,null,null,null,null,null,null,null,null,null,null,null,null,null,null,null,null,null,null,null,null,null,null,null,null,null,null,null,null,null,null,null,null,null,null,423,null,null,20215,5,2021,"2021-02-01","2021-02-07"]
[null,null,null,null,null,null,null,null,null,null,null,null,null,null,null,null,null,null,null,null,null,null,null,null,null,null,null,null,null,null,null,null,null,null,null,null,null,null,null,null,null,null,null,null,null,null,null,null,null,424,null,null,20216,6,2021,"2021-02-08","2021-02-14"]
[null,null,null,null,null,null,null,null,null,null,null,null,null,null,null,null,null,null,null,null,null,null,null,null,null,null,null,null,null,null,null,null,null,null,null,null,null,null,null,null,null,null,null,null,null,null,null,null,null,425,null,null,20217,7,2021,"2021-02-15","2021-02-21"]
[null,null,null,null,null,null,null,null,null,null,null,null,null,null,null,null,null,null,null,null,null,null,null,null,null,null,null,null,null,null,null,null,null,null,null,null,null,null,null,null,null,null,null,null,null,null,null,null,null,426,null,null,20218,8,2021,"2021-02-22","2021-02-28"]
[null,null,null,null,null,null,null,null,null,null,null,null,null,null,null,null,null,null,null,null,null,null,null,null,null,null,null,null,null,null,null,null,null,null,null,null,null,null,null,null,null,null,null,null,null,null,null,null,null,427,null,null,20219,9,2021,"2021-03-01","2021-03-07"]
[null,null,null,null,null,null,null,null,null,null,null,null,null,null,null,null,null,null,null,null,null,null,null,null,null,null,null,null,null,null,null,null,null,null,null,null,null,null,null,null,null,null,null,null,null,null,null,null,null,428,null,null,202110,10,2021,"2021-03-08","2021-03-14"]
[null,null,null,null,null,null,null,null,null,null,null,null,null,null,null,null,null,null,null,null,null,null,null,null,null,null,null,null,null,null,null,null,null,null,null,null,null,null,null,null,null,null,null,null,null,null,null,null,null,429,null,null,202111,11,2021,"2021-03-15","2021-03-21"]
[null,null,null,null,null,null,null,null,null,null,null,null,null,null,null,null,null,null,null,null,null,null,null,null,null,null,null,null,null,null,null,null,null,null,null,null,null,null,null,null,null,null,null,null,null,null,null,null,null,430,null,null,202112,12,2021,"2021-03-22","2021-03-28"]
[null,null,null,null,null,null,null,null,null,null,null,null,null,null,null,null,null,null,null,null,null,null,null,null,null,null,null,null,null,null,null,null,null,null,null,null,null,null,null,null,null,null,null,null,null,null,null,null,null,431,null,null,202113,13,2021,"2021-03-29","2021-04-04"]
[null,null,null,null,null,null,null,null,null,null,null,null,null,null,null,null,null,null,null,null,null,null,null,null,null,null,null,null,null,null,null,null,null,null,null,null,null,null,null,null,null,null,null,null,null,null,null,null,null,432,null,null,202114,14,2021,"2021-04-05","2021-04-11"]
[null,null,null,null,null,null,null,null,null,null,null,null,null,null,null,null,null,null,null,null,null,null,null,null,null,null,null,null,null,null,null,null,null,null,null,null,null,null,null,null,null,null,null,null,null,null,null,null,null,433,null,null,202115,15,2021,"2021-04-12","2021-04-18"]
[null,null,null,null,null,null,null,null,null,null,null,null,null,null,null,null,null,null,null,null,null,null,null,null,null,null,null,null,null,null,null,null,null,null,null,null,null,null,null,null,null,null,null,null,null,null,null,null,null,434,null,null,202116,16,2021,"2021-04-19","2021-04-25"]
[null,null,null,null,null,null,null,null,null,null,null,null,null,null,null,null,null,null,null,null,null,null,null,null,null,null,null,null,null,null,null,null,null,null,null,null,null,null,null,null,null,null,null,null,null,null,null,null,null,435,null,null,202117,17,2021,"2021-04-26","2021-05-02"]
[null,null,null,null,null,null,null,null,null,null,null,null,null,null,null,null,null,null,null,null,null,null,null,null,null,null,null,null,null,null,null,null,null,null,null,null,null,null,null,null,null,null,null,null,null,null,null,null,null,436,null,null,202118,18,2021,"2021-05-03","2021-05-09"]
[null,null,null,null,null,null,null,null,null,null,null,null,null,null,null,null,null,null,null,null,null,null,null,null,null,null,null,null,null,null,null,null,null,null,null,null,null,null,null,null,null,null,null,null,null,null,null,null,null,437,null,null,202119,19,2021,"2021-05-10","2021-05-16"]
[null,null,null,null,null,null,null,null,null,null,null,null,null,null,null,null,null,null,null,null,null,null,null,null,null,null,null,null,null,null,null,null,null,null,null,null,null,null,null,null,null,null,null,null,null,null,null,null,null,438,null,null,202120,20,2021,"2021-05-17","2021-05-23"]
[null,null,null,null,null,null,null,null,null,null,null,null,null,null,null,null,null,null,null,null,null,null,null,null,null,null,null,null,null,null,null,null,null,null,null,null,null,null,null,null,null,null,null,null,null,null,null,null,null,439,null,null,202121,21,2021,"2021-05-24","2021-05-30"]
[null,null,null,null,null,null,null,null,null,null,null,null,null,null,null,null,null,null,null,null,null,null,null,null,null,null,null,null,null,null,null,null,null,null,null,null,null,null,null,null,null,null,null,null,null,null,null,null,null,440,null,null,202122,22,2021,"2021-05-31","2021-06-06"]
[null,null,null,null,null,null,null,null,null,null,null,null,null,null,null,null,null,null,null,null,null,null,null,null,null,null,null,null,null,null,null,null,null,null,null,null,null,null,null,null,null,null,null,null,null,null,null,null,null,441,null,null,202123,23,2021,"2021-06-07","2021-06-13"]
[null,null,null,null,null,null,null,null,null,null,null,null,null,null,null,null,null,null,null,null,null,null,null,null,null,null,null,null,null,null,null,null,null,null,null,null,null,null,null,null,null,null,null,null,null,null,null,null,null,442,null,null,202124,24,2021,"2021-06-14","2021-06-20"]
[null,null,null,null,null,null,null,null,null,null,null,null,null,null,null,null,null,null,null,null,null,null,null,null,null,null,null,null,null,null,null,null,null,null,null,null,null,null,null,null,null,null,null,null,null,null,null,null,null,443,null,null,202125,25,2021,"2021-06-21","2021-06-27"]
[null,null,null,null,null,null,null,null,null,null,null,null,null,null,null,null,null,null,null,null,null,null,null,null,null,null,null,null,null,null,null,null,null,null,null,null,null,null,null,null,null,null,null,null,null,null,null,null,null,444,null,null,202126,26,2021,"2021-06-28","2021-07-04"]
[null,null,null,null,null,null,null,null,null,null,null,null,null,null,null,null,null,null,null,null,null,null,null,null,null,null,null,null,null,null,null,null,null,null,null,null,null,null,null,null,null,null,null,null,null,null,null,null,null,445,null,null,202127,27,2021,"2021-07-05","2021-07-11"]
[null,null,null,null,null,null,null,null,null,null,null,null,null,null,null,null,null,null,null,null,null,null,null,null,null,null,null,null,null,null,null,null,null,null,null,null,null,null,null,null,null,null,null,null,null,null,null,null,null,446,null,null,202128,28,2021,"2021-07-12","2021-07-18"]
[null,null,null,null,null,null,null,null,null,null,null,null,null,null,null,null,null,null,null,null,null,null,null,null,null,null,null,null,null,null,null,null,null,null,null,null,null,null,null,null,null,null,null,null,null,null,null,null,null,447,null,null,202129,29,2021,"2021-07-19","2021-07-25"]
[null,null,null,null,null,null,null,null,null,null,null,null,null,null,null,null,null,null,null,null,null,null,null,null,null,null,null,null,null,null,null,null,null,null,null,null,null,null,null,null,null,null,null,null,null,null,null,null,null,448,null,null,202130,30,2021,"2021-07-26","2021-08-01"]
[null,null,null,null,null,null,null,null,null,null,null,null,null,null,null,null,null,null,null,null,null,null,null,null,null,null,null,null,null,null,null,null,null,null,null,null,null,null,null,null,null,null,null,null,null,null,null,null,null,449,null,null,202131,31,2021,"2021-08-02","2021-08-08"]
[null,null,null,null,null,null,null,null,null,null,null,null,null,null,null,null,null,null,null,null,null,null,null,null,null,null,null,null,null,null,null,null,null,null,null,null,null,null,null,null,null,null,null,null,null,null,null,null,null,450,null,null,202132,32,2021,"2021-08-09","2021-08-15"]
[null,null,null,null,null,null,null,null,null,null,null,null,null,null,null,null,null,null,null,null,null,null,null,null,null,null,null,null,null,null,null,null,null,null,null,null,null,null,null,null,null,null,null,null,null,null,null,null,null,451,null,null,202133,33,2021,"2021-08-16","2021-08-22"]
[null,null,null,null,null,null,null,null,null,null,null,null,null,null,null,null,null,null,null,null,null,null,null,null,null,null,null,null,null,null,null,null,null,null,null,null,null,null,null,null,null,null,null,null,null,null,null,null,null,452,null,null,202134,34,2021,"2021-08-23","2021-08-29"]
[null,null,null,null,null,null,null,null,null,null,null,null,null,null,null,null,null,null,null,null,null,null,null,null,null,null,null,null,null,null,null,null,null,null,null,null,null,null,null,null,null,null,null,null,null,null,null,null,null,453,null,null,202135,35,2021,"2021-08-30","2021-09-05"]
[null,null,null,null,null,null,null,null,null,null,null,null,null,null,null,null,null,null,null,null,null,null,null,null,null,null,null,null,null,null,null,null,null,null,null,null,null,null,null,null,null,null,null,null,null,null,null,null,null,454,null,null,202136,36,2021,"2021-09-06","2021-09-12"]
[null,null,null,null,null,null,null,null,null,null,null,null,null,null,null,null,null,null,null,null,null,null,null,null,null,null,null,null,null,null,null,null,null,null,null,null,null,null,null,null,null,null,null,null,null,null,null,null,null,455,null,null,202137,37,2021,"2021-09-13","2021-09-19"]
[null,null,null,null,null,null,null,null,null,null,null,null,null,null,null,null,null,null,null,null,null,null,null,null,null,null,null,null,null,null,null,null,null,null,null,null,null,null,null,null,null,null,null,null,null,null,null,null,null,456,null,null,202138,38,2021,"2021-09-20","2021-09-26"]
[null,null,null,null,null,null,null,null,null,null,null,null,null,null,null,null,null,null,null,null,null,null,null,null,null,null,null,null,null,null,null,null,null,null,null,null,null,null,null,null,null,null,null,null,null,null,null,null,null,457,null,null,202139,39,2021,"2021-09-27","2021-10-03"]
[null,null,null,null,null,null,null,null,null,null,null,null,null,null,null,null,null,null,null,null,null,null,null,null,null,null,null,null,null,null,null,null,null,null,null,null,null,null,null,null,null,null,null,null,null,null,null,null,null,458,null,null,202140,40,2021,"2021-10-04","2021-10-10"]
[null,null,null,null,null,null,null,null,null,null,null,null,null,null,null,null,null,null,null,null,null,null,null,null,null,null,null,null,null,null,null,null,null,null,null,null,null,null,null,null,null,null,null,null,null,null,null,null,null,459,null,null,202141,41,2021,"2021-10-11","2021-10-17"]
[null,null,null,null,null,null,null,null,null,null,null,null,null,null,null,null,null,null,null,null,null,null,null,null,null,null,null,null,null,null,null,null,null,null,null,null,null,null,null,null,null,null,null,null,null,null,null,null,null,460,null,null,202142,42,2021,"2021-10-18","2021-10-24"]
[null,null,null,null,null,null,null,null,null,null,null,null,null,null,null,null,null,null,null,null,null,null,null,null,null,null,null,null,null,null,null,null,null,null,null,null,null,null,null,null,null,null,null,null,null,null,null,null,null,461,null,null,202143,43,2021,"2021-10-25","2021-10-31"]
[null,null,null,null,null,null,null,null,null,null,null,null,null,null,null,null,null,null,null,null,null,null,null,null,null,null,null,null,null,null,null,null,null,null,null,null,null,null,null,null,null,null,null,null,null,null,null,null,null,462,null,null,202144,44,2021,"2021-11-01","2021-11-07"]
[null,null,null,null,null,null,null,null,null,null,null,null,null,null,null,null,null,null,null,null,null,null,null,null,null,null,null,null,null,null,null,null,null,null,null,null,null,null,null,null,null,null,null,null,null,null,null,null,null,463,null,null,202145,45,2021,"2021-11-08","2021-11-14"]
[null,null,null,null,null,null,null,null,null,null,null,null,null,null,null,null,null,null,null,null,null,null,null,null,null,null,null,null,null,null,null,null,null,null,null,null,null,null,null,null,null,null,null,null,null,null,null,null,null,464,null,null,202146,46,2021,"2021-11-15","2021-11-21"]
[null,null,null,null,null,null,null,null,null,null,null,null,null,null,null,null,null,null,null,null,null,null,null,null,null,null,null,null,null,null,null,null,null,null,null,null,null,null,null,null,null,null,null,null,null,null,null,null,null,465,null,null,202147,47,2021,"2021-11-22","2021-11-28"]
[null,null,null,null,null,null,null,null,null,null,null,null,null,null,null,null,null,null,null,null,null,null,null,null,null,null,null,null,null,null,null,null,null,null,null,null,null,null,null,null,null,null,null,null,null,null,null,null,null,466,null,null,202148,48,2021,"2021-11-29","2021-12-05"]
[null,null,null,null,null,null,null,null,null,null,null,null,null,null,null,null,null,null,null,null,null,null,null,null,null,null,null,null,null,null,null,null,null,null,null,null,null,null,null,null,null,null,null,null,null,null,null,null,null,467,null,null,202149,49,2021,"2021-12-06","2021-12-12"]
[null,null,null,null,null,null,null,null,null,null,null,null,null,null,null,null,null,null,null,null,null,null,null,null,null,null,null,null,null,null,null,null,null,null,null,null,null,null,null,null,null,null,null,null,null,null,null,null,null,468,null,null,202150,50,2021,"2021-12-13","2021-12-19"]
[null,null,null,null,null,null,null,null,null,null,null,null,null,null,null,null,null,null,null,null,null,null,null,null,null,null,null,null,null,null,null,null,null,null,null,null,null,null,null,null,null,null,null,null,null,null,null,null,null,469,null,null,202151,51,2021,"2021-12-20","2021-12-26"]
[null,null,null,null,null,null,null,null,null,null,null,null,null,null,null,null,null,null,null,null,null,null,null,null,null,null,null,null,null,null,null,null,null,null,null,null,null,null,null,null,null,null,null,null,null,null,null,null,null,470,null,null,202152,52,2021,"2021-12-27","2022-01-02"]
[null,null,null,null,null,null,null,null,null,null,null,null,null,null,null,null,null,null,null,null,null,null,null,null,null,null,null,null,null,null,null,null,null,null,null,null,null,null,null,null,null,null,null,null,null,null,null,null,null,471,null,null,20221,1,2022,"2022-01-03","2022-01-09"]
[null,null,null,null,null,null,null,null,null,null,null,null,null,null,null,null,null,null,null,null,null,null,null,null,null,null,null,null,null,null,null,null,null,null,null,null,null,null,null,null,null,null,null,null,null,null,null,null,null,472,null,null,20222,2,2022,"2022-01-10","2022-01-16"]
[null,null,null,null,null,null,null,null,null,null,null,null,null,null,null,null,null,null,null,null,null,null,null,null,null,null,null,null,null,null,null,null,null,null,null,null,null,null,null,null,null,null,null,null,null,null,null,null,null,473,null,null,20223,3,2022,"2022-01-17","2022-01-23"]
[null,null,null,null,null,null,null,null,null,null,null,null,null,null,null,null,null,null,null,null,null,null,null,null,null,null,null,null,null,null,null,null,null,null,null,null,null,null,null,null,null,null,null,null,null,null,null,null,null,474,null,null,20224,4,2022,"2022-01-24","2022-01-30"]
[null,null,null,null,null,null,null,null,null,null,null,null,null,null,null,null,null,null,null,null,null,null,null,null,null,null,null,null,null,null,null,null,null,null,null,null,null,null,null,null,null,null,null,null,null,null,null,null,null,475,null,null,20225,5,2022,"2022-01-31","2022-02-06"]
[null,null,null,null,null,null,null,null,null,null,null,null,null,null,null,null,null,null,null,null,null,null,null,null,null,null,null,null,null,null,null,null,null,null,null,null,null,null,null,null,null,null,null,null,null,null,null,null,null,476,null,null,20226,6,2022,"2022-02-07","2022-02-13"]
[null,null,null,null,null,null,null,null,null,null,null,null,null,null,null,null,null,null,null,null,null,null,null,null,null,null,null,null,null,null,null,null,null,null,null,null,null,null,null,null,null,null,null,null,null,null,null,null,null,477,null,null,20227,7,2022,"2022-02-14","2022-02-20"]
[null,null,null,null,null,null,null,null,null,null,null,null,null,null,null,null,null,null,null,null,null,null,null,null,null,null,null,null,null,null,null,null,null,null,null,null,null,null,null,null,null,null,null,null,null,null,null,null,null,478,null,null,20228,8,2022,"2022-02-21","2022-02-27"]
[null,null,null,null,null,null,null,null,null,null,null,null,null,null,null,null,null,null,null,null,null,null,null,null,null,null,null,null,null,null,null,null,null,null,null,null,null,null,null,null,null,null,null,null,null,null,null,null,null,479,null,null,20229,9,2022,"2022-02-28","2022-03-06"]
[null,null,null,null,null,null,null,null,null,null,null,null,null,null,null,null,null,null,null,null,null,null,null,null,null,null,null,null,null,null,null,null,null,null,null,null,null,null,null,null,null,null,null,null,null,null,null,null,null,480,null,null,202210,10,2022,"2022-03-07","2022-03-13"]
[null,null,null,null,null,null,null,null,null,null,null,null,null,null,null,null,null,null,null,null,null,null,null,null,null,null,null,null,null,null,null,null,null,null,null,null,null,null,null,null,null,null,null,null,null,null,null,null,null,481,null,null,202211,11,2022,"2022-03-14","2022-03-20"]
[null,null,null,null,null,null,null,null,null,null,null,null,null,null,null,null,null,null,null,null,null,null,null,null,null,null,null,null,null,null,null,null,null,null,null,null,null,null,null,null,null,null,null,null,null,null,null,null,null,482,null,null,202212,12,2022,"2022-03-21","2022-03-27"]
[null,null,null,null,null,null,null,null,null,null,null,null,null,null,null,null,null,null,null,null,null,null,null,null,null,null,null,null,null,null,null,null,null,null,null,null,null,null,null,null,null,null,null,null,null,null,null,null,null,483,null,null,202213,13,2022,"2022-03-28","2022-04-03"]
[null,null,null,null,null,null,null,null,null,null,null,null,null,null,null,null,null,null,null,null,null,null,null,null,null,null,null,null,null,null,null,null,null,null,null,null,null,null,null,null,null,null,null,null,null,null,null,null,null,484,null,null,202214,14,2022,"2022-04-04","2022-04-10"]
[null,null,null,null,null,null,null,null,null,null,null,null,null,null,null,null,null,null,null,null,null,null,null,null,null,null,null,null,null,null,null,null,null,null,null,null,null,null,null,null,null,null,null,null,null,null,null,null,null,485,null,null,202215,15,2022,"2022-04-11","2022-04-17"]
[null,null,null,null,null,null,null,null,null,null,null,null,null,null,null,null,null,null,null,null,null,null,null,null,null,null,null,null,null,null,null,null,null,null,null,null,null,null,null,null,null,null,null,null,null,null,null,null,null,486,null,null,202216,16,2022,"2022-04-18","2022-04-24"]
[null,null,null,null,null,null,null,null,null,null,null,null,null,null,null,null,null,null,null,null,null,null,null,null,null,null,null,null,null,null,null,null,null,null,null,null,null,null,null,null,null,null,null,null,null,null,null,null,null,487,null,null,202217,17,2022,"2022-04-25","2022-05-01"]
[null,null,null,null,null,null,null,null,null,null,null,null,null,null,null,null,null,null,null,null,null,null,null,null,null,null,null,null,null,null,null,null,null,null,null,null,null,null,null,null,null,null,null,null,null,null,null,null,null,488,null,null,202218,18,2022,"2022-05-02","2022-05-08"]
[null,null,null,null,null,null,null,null,null,null,null,null,null,null,null,null,null,null,null,null,null,null,null,null,null,null,null,null,null,null,null,null,null,null,null,null,null,null,null,null,null,null,null,null,null,null,null,null,null,489,null,null,202219,19,2022,"2022-05-09","2022-05-15"]
[null,null,null,null,null,null,null,null,null,null,null,null,null,null,null,null,null,null,null,null,null,null,null,null,null,null,null,null,null,null,null,null,null,null,null,null,null,null,null,null,null,null,null,null,null,null,null,null,null,490,null,null,202220,20,2022,"2022-05-16","2022-05-22"]
[null,null,null,null,null,null,null,null,null,null,null,null,null,null,null,null,null,null,null,null,null,null,null,null,null,null,null,null,null,null,null,null,null,null,null,null,null,null,null,null,null,null,null,null,null,null,null,null,null,491,null,null,202221,21,2022,"2022-05-23","2022-05-29"]
[null,null,null,null,null,null,null,null,null,null,null,null,null,null,null,null,null,null,null,null,null,null,null,null,null,null,null,null,null,null,null,null,null,null,null,null,null,null,null,null,null,null,null,null,null,null,null,null,null,492,null,null,202222,22,2022,"2022-05-30","2022-06-05"]
[null,null,null,null,null,null,null,null,null,null,null,null,null,null,null,null,null,null,null,null,null,null,null,null,null,null,null,null,null,null,null,null,null,null,null,null,null,null,null,null,null,null,null,null,null,null,null,null,null,493,null,null,202223,23,2022,"2022-06-06","2022-06-12"]
[null,null,null,null,null,null,null,null,null,null,null,null,null,null,null,null,null,null,null,null,null,null,null,null,null,null,null,null,null,null,null,null,null,null,null,null,null,null,null,null,null,null,null,null,null,null,null,null,null,494,null,null,202224,24,2022,"2022-06-13","2022-06-19"]
[null,null,null,null,null,null,null,null,null,null,null,null,null,null,null,null,null,null,null,null,null,null,null,null,null,null,null,null,null,null,null,null,null,null,null,null,null,null,null,null,null,null,null,null,null,null,null,null,null,495,null,null,202225,25,2022,"2022-06-20","2022-06-26"]
[null,null,null,null,null,null,null,null,null,null,null,null,null,null,null,null,null,null,null,null,null,null,null,null,null,null,null,null,null,null,null,null,null,null,null,null,null,null,null,null,null,null,null,null,null,null,null,null,null,496,null,null,202226,26,2022,"2022-06-27","2022-07-03"]
[null,null,null,null,null,null,null,null,null,null,null,null,null,null,null,null,null,null,null,null,null,null,null,null,null,null,null,null,null,null,null,null,null,null,null,null,null,null,null,null,null,null,null,null,null,null,null,null,null,497,null,null,202227,27,2022,"2022-07-04","2022-07-10"]
[null,null,null,null,null,null,null,null,null,null,null,null,null,null,null,null,null,null,null,null,null,null,null,null,null,null,null,null,null,null,null,null,null,null,null,null,null,null,null,null,null,null,null,null,null,null,null,null,null,498,null,null,202228,28,2022,"2022-07-11","2022-07-17"]
[null,null,null,null,null,null,null,null,null,null,null,null,null,null,null,null,null,null,null,null,null,null,null,null,null,null,null,null,null,null,null,null,null,null,null,null,null,null,null,null,null,null,null,null,null,null,null,null,null,499,null,null,202229,29,2022,"2022-07-18","2022-07-24"]
[null,null,null,null,null,null,null,null,null,null,null,null,null,null,null,null,null,null,null,null,null,null,null,null,null,null,null,null,null,null,null,null,null,null,null,null,null,null,null,null,null,null,null,null,null,null,null,null,null,500,null,null,202230,30,2022,"2022-07-25","2022-07-31"]
[null,null,null,null,null,null,null,null,null,null,null,null,null,null,null,null,null,null,null,null,null,null,null,null,null,null,null,null,null,null,null,null,null,null,null,null,null,null,null,null,null,null,null,null,null,null,null,null,null,501,null,null,202231,31,2022,"2022-08-01","2022-08-07"]
[null,null,null,null,null,null,null,null,null,null,null,null,null,null,null,null,null,null,null,null,null,null,null,null,null,null,null,null,null,null,null,null,null,null,null,null,null,null,null,null,null,null,null,null,null,null,null,null,null,502,null,null,202232,32,2022,"2022-08-08","2022-08-14"]
[null,null,null,null,null,null,null,null,null,null,null,null,null,null,null,null,null,null,null,null,null,null,null,null,null,null,null,null,null,null,null,null,null,null,null,null,null,null,null,null,null,null,null,null,null,null,null,null,null,503,null,null,202233,33,2022,"2022-08-15","2022-08-21"]
[null,null,null,null,null,null,null,null,null,null,null,null,null,null,null,null,null,null,null,null,null,null,null,null,null,null,null,null,null,null,null,null,null,null,null,null,null,null,null,null,null,null,null,null,null,null,null,null,null,504,null,null,202234,34,2022,"2022-08-22","2022-08-28"]
[null,null,null,null,null,null,null,null,null,null,null,null,null,null,null,null,null,null,null,null,null,null,null,null,null,null,null,null,null,null,null,null,null,null,null,null,null,null,null,null,null,null,null,null,null,null,null,null,null,505,null,null,202235,35,2022,"2022-08-29","2022-09-04"]
[null,null,null,null,null,null,null,null,null,null,null,null,null,null,null,null,null,null,null,null,null,null,null,null,null,null,null,null,null,null,null,null,null,null,null,null,null,null,null,null,null,null,null,null,null,null,null,null,null,506,null,null,202236,36,2022,"2022-09-05","2022-09-11"]
[null,null,null,null,null,null,null,null,null,null,null,null,null,null,null,null,null,null,null,null,null,null,null,null,null,null,null,null,null,null,null,null,null,null,null,null,null,null,null,null,null,null,null,null,null,null,null,null,null,507,null,null,202237,37,2022,"2022-09-12","2022-09-18"]
[null,null,null,null,null,null,null,null,null,null,null,null,null,null,null,null,null,null,null,null,null,null,null,null,null,null,null,null,null,null,null,null,null,null,null,null,null,null,null,null,null,null,null,null,null,null,null,null,null,508,null,null,202238,38,2022,"2022-09-19","2022-09-25"]
[null,null,null,null,null,null,null,null,null,null,null,null,null,null,null,null,null,null,null,null,null,null,null,null,null,null,null,null,null,null,null,null,null,null,null,null,null,null,null,null,null,null,null,null,null,null,null,null,null,509,null,null,202239,39,2022,"2022-09-26","2022-10-02"]
[null,null,null,null,null,null,null,null,null,null,null,null,null,null,null,null,null,null,null,null,null,null,null,null,null,null,null,null,null,null,null,null,null,null,null,null,null,null,null,null,null,null,null,null,null,null,null,null,null,510,null,null,202240,40,2022,"2022-10-03","2022-10-09"]
[null,null,null,null,null,null,null,null,null,null,null,null,null,null,null,null,null,null,null,null,null,null,null,null,null,null,null,null,null,null,null,null,null,null,null,null,null,null,null,null,null,null,null,null,null,null,null,null,null,511,null,null,202241,41,2022,"2022-10-10","2022-10-16"]
[null,null,null,null,null,null,null,null,null,null,null,null,null,null,null,null,null,null,null,null,null,null,null,null,null,null,null,null,null,null,null,null,null,null,null,null,null,null,null,null,null,null,null,null,null,null,null,null,null,512,null,null,202242,42,2022,"2022-10-17","2022-10-23"]
[null,null,null,null,null,null,null,null,null,null,null,null,null,null,null,null,null,null,null,null,null,null,null,null,null,null,null,null,null,null,null,null,null,null,null,null,null,null,null,null,null,null,null,null,null,null,null,null,null,513,null,null,202243,43,2022,"2022-10-24","2022-10-30"]
[null,null,null,null,null,null,null,null,null,null,null,null,null,null,null,null,null,null,null,null,null,null,null,null,null,null,null,null,null,null,null,null,null,null,null,null,null,null,null,null,null,null,null,null,null,null,null,null,null,514,null,null,202244,44,2022,"2022-10-31","2022-11-06"]
[null,null,null,null,null,null,null,null,null,null,null,null,null,null,null,null,null,null,null,null,null,null,null,null,null,null,null,null,null,null,null,null,null,null,null,null,null,null,null,null,null,null,null,null,null,null,null,null,null,515,null,null,202245,45,2022,"2022-11-07","2022-11-13"]
[null,null,null,null,null,null,null,null,null,null,null,null,null,null,null,null,null,null,null,null,null,null,null,null,null,null,null,null,null,null,null,null,null,null,null,null,null,null,null,null,null,null,null,null,null,null,null,null,null,516,null,null,202246,46,2022,"2022-11-14","2022-11-20"]
[null,null,null,null,null,null,null,null,null,null,null,null,null,null,null,null,null,null,null,null,null,null,null,null,null,null,null,null,null,null,null,null,null,null,null,null,null,null,null,null,null,null,null,null,null,null,null,null,null,517,null,null,202247,47,2022,"2022-11-21","2022-11-27"]
[null,null,null,null,null,null,null,null,null,null,null,null,null,null,null,null,null,null,null,null,null,null,null,null,null,null,null,null,null,null,null,null,null,null,null,null,null,null,null,null,null,null,null,null,null,null,null,null,null,518,null,null,202248,48,2022,"2022-11-28","2022-12-04"]
[null,null,null,null,null,null,null,null,null,null,null,null,null,null,null,null,null,null,null,null,null,null,null,null,null,null,null,null,null,null,null,null,null,null,null,null,null,null,null,null,null,null,null,null,null,null,null,null,null,519,null,null,202249,49,2022,"2022-12-05","2022-12-11"]
[null,null,null,null,null,null,null,null,null,null,null,null,null,null,null,null,null,null,null,null,null,null,null,null,null,null,null,null,null,null,null,null,null,null,null,null,null,null,null,null,null,null,null,null,null,null,null,null,null,520,null,null,202250,50,2022,"2022-12-12","2022-12-18"]
[null,null,null,null,null,null,null,null,null,null,null,null,null,null,null,null,null,null,null,null,null,null,null,null,null,null,null,null,null,null,null,null,null,null,null,null,null,null,null,null,null,null,null,null,null,null,null,null,null,521,null,null,202251,51,2022,"2022-12-19","2022-12-25"]
[null,null,null,null,null,null,null,null,null,null,null,null,null,null,null,null,null,null,null,null,null,null,null,null,null,null,null,null,null,null,null,null,null,null,null,null,null,null,null,null,null,null,null,null,null,null,null,null,null,522,null,null,202252,52,2022,"2022-12-26","2023-01-01"]
[null,null,null,null,null,null,null,null,null,null,null,null,null,null,null,null,null,null,null,null,null,null,null,null,null,null,null,null,null,null,null,null,null,null,null,null,null,null,null,null,null,null,null,null,null,null,null,null,null,523,null,null,20231,1,2023,"2023-01-02","2023-01-08"]
[null,null,null,null,null,null,null,null,null,null,null,null,null,null,null,null,null,null,null,null,null,null,null,null,null,null,null,null,null,null,null,null,null,null,null,null,null,null,null,null,null,null,null,null,null,null,null,null,null,524,null,null,20232,2,2023,"2023-01-09","2023-01-15"]
[null,null,null,null,null,null,null,null,null,null,null,null,null,null,null,null,null,null,null,null,null,null,null,null,null,null,null,null,null,null,null,null,null,null,null,null,null,null,null,null,null,null,null,null,null,null,null,null,null,525,null,null,20233,3,2023,"2023-01-16","2023-01-22"]
[null,null,null,null,null,null,null,null,null,null,null,null,null,null,null,null,null,null,null,null,null,null,null,null,null,null,null,null,null,null,null,null,null,null,null,null,null,null,null,null,null,null,null,null,null,null,null,null,null,526,null,null,20234,4,2023,"2023-01-23","2023-01-29"]
[null,null,null,null,null,null,null,null,null,null,null,null,null,null,null,null,null,null,null,null,null,null,null,null,null,null,null,null,null,null,null,null,null,null,null,null,null,null,null,null,null,null,null,null,null,null,null,null,null,527,null,null,20235,5,2023,"2023-01-30","2023-02-05"]
[null,null,null,null,null,null,null,null,null,null,null,null,null,null,null,null,null,null,null,null,null,null,null,null,null,null,null,null,null,null,null,null,null,null,null,null,null,null,null,null,null,null,null,null,null,null,null,null,null,528,null,null,20236,6,2023,"2023-02-06","2023-02-12"]
[null,null,null,null,null,null,null,null,null,null,null,null,null,null,null,null,null,null,null,null,null,null,null,null,null,null,null,null,null,null,null,null,null,null,null,null,null,null,null,null,null,null,null,null,null,null,null,null,null,529,null,null,20237,7,2023,"2023-02-13","2023-02-19"]
[null,null,null,null,null,null,null,null,null,null,null,null,null,null,null,null,null,null,null,null,null,null,null,null,null,null,null,null,null,null,null,null,null,null,null,null,null,null,null,null,null,null,null,null,null,null,null,null,null,530,null,null,20238,8,2023,"2023-02-20","2023-02-26"]
[null,null,null,null,null,null,null,null,null,null,null,null,null,null,null,null,null,null,null,null,null,null,null,null,null,null,null,null,null,null,null,null,null,null,null,null,null,null,null,null,null,null,null,null,null,null,null,null,null,531,null,null,20239,9,2023,"2023-02-27","2023-03-05"]
[null,null,null,null,null,null,null,null,null,null,null,null,null,null,null,null,null,null,null,null,null,null,null,null,null,null,null,null,null,null,null,null,null,null,null,null,null,null,null,null,null,null,null,null,null,null,null,null,null,532,null,null,202310,10,2023,"2023-03-06","2023-03-12"]
[null,null,null,null,null,null,null,null,null,null,null,null,null,null,null,null,null,null,null,null,null,null,null,null,null,null,null,null,null,null,null,null,null,null,null,null,null,null,null,null,null,null,null,null,null,null,null,null,null,533,null,null,202311,11,2023,"2023-03-13","2023-03-19"]
[null,null,null,null,null,null,null,null,null,null,null,null,null,null,null,null,null,null,null,null,null,null,null,null,null,null,null,null,null,null,null,null,null,null,null,null,null,null,null,null,null,null,null,null,null,null,null,null,null,534,null,null,202312,12,2023,"2023-03-20","2023-03-26"]
[null,null,null,null,null,null,null,null,null,null,null,null,null,null,null,null,null,null,null,null,null,null,null,null,null,null,null,null,null,null,null,null,null,null,null,null,null,null,null,null,null,null,null,null,null,null,null,null,null,535,null,null,202313,13,2023,"2023-03-27","2023-04-02"]
[null,null,null,null,null,null,null,null,null,null,null,null,null,null,null,null,null,null,null,null,null,null,null,null,null,null,null,null,null,null,null,null,null,null,null,null,null,null,null,null,null,null,null,null,null,null,null,null,null,536,null,null,202314,14,2023,"2023-04-03","2023-04-09"]
[null,null,null,null,null,null,null,null,null,null,null,null,null,null,null,null,null,null,null,null,null,null,null,null,null,null,null,null,null,null,null,null,null,null,null,null,null,null,null,null,null,null,null,null,null,null,null,null,null,537,null,null,202315,15,2023,"2023-04-10","2023-04-16"]
[null,null,null,null,null,null,null,null,null,null,null,null,null,null,null,null,null,null,null,null,null,null,null,null,null,null,null,null,null,null,null,null,null,null,null,null,null,null,null,null,null,null,null,null,null,null,null,null,null,538,null,null,202316,16,2023,"2023-04-17","2023-04-23"]
[null,null,null,null,null,null,null,null,null,null,null,null,null,null,null,null,null,null,null,null,null,null,null,null,null,null,null,null,null,null,null,null,null,null,null,null,null,null,null,null,null,null,null,null,null,null,null,null,null,539,null,null,202317,17,2023,"2023-04-24","2023-04-30"]
[null,null,null,null,null,null,null,null,null,null,null,null,null,null,null,null,null,null,null,null,null,null,null,null,null,null,null,null,null,null,null,null,null,null,null,null,null,null,null,null,null,null,null,null,null,null,null,null,null,540,null,null,202318,18,2023,"2023-05-01","2023-05-07"]
[null,null,null,null,null,null,null,null,null,null,null,null,null,null,null,null,null,null,null,null,null,null,null,null,null,null,null,null,null,null,null,null,null,null,null,null,null,null,null,null,null,null,null,null,null,null,null,null,null,541,null,null,202319,19,2023,"2023-05-08","2023-05-14"]
[null,null,null,null,null,null,null,null,null,null,null,null,null,null,null,null,null,null,null,null,null,null,null,null,null,null,null,null,null,null,null,null,null,null,null,null,null,null,null,null,null,null,null,null,null,null,null,null,null,542,null,null,202320,20,2023,"2023-05-15","2023-05-21"]
[null,null,null,null,null,null,null,null,null,null,null,null,null,null,null,null,null,null,null,null,null,null,null,null,null,null,null,null,null,null,null,null,null,null,null,null,null,null,null,null,null,null,null,null,null,null,null,null,null,543,null,null,202321,21,2023,"2023-05-22","2023-05-28"]
[null,null,null,null,null,null,null,null,null,null,null,null,null,null,null,null,null,null,null,null,null,null,null,null,null,null,null,null,null,null,null,null,null,null,null,null,null,null,null,null,null,null,null,null,null,null,null,null,null,544,null,null,202322,22,2023,"2023-05-29","2023-06-04"]
[null,null,null,null,null,null,null,null,null,null,null,null,null,null,null,null,null,null,null,null,null,null,null,null,null,null,null,null,null,null,null,null,null,null,null,null,null,null,null,null,null,null,null,null,null,null,null,null,null,545,null,null,202323,23,2023,"2023-06-05","2023-06-11"]
[null,null,null,null,null,null,null,null,null,null,null,null,null,null,null,null,null,null,null,null,null,null,null,null,null,null,null,null,null,null,null,null,null,null,null,null,null,null,null,null,null,null,null,null,null,null,null,null,null,546,null,null,202324,24,2023,"2023-06-12","2023-06-18"]
[null,null,null,null,null,null,null,null,null,null,null,null,null,null,null,null,null,null,null,null,null,null,null,null,null,null,null,null,null,null,null,null,null,null,null,null,null,null,null,null,null,null,null,null,null,null,null,null,null,547,null,null,202325,25,2023,"2023-06-19","2023-06-25"]
[null,null,null,null,null,null,null,null,null,null,null,null,null,null,null,null,null,null,null,null,null,null,null,null,null,null,null,null,null,null,null,null,null,null,null,null,null,null,null,null,null,null,null,null,null,null,null,null,null,548,null,null,202326,26,2023,"2023-06-26","2023-07-02"]
[null,null,null,null,null,null,null,null,null,null,null,null,null,null,null,null,null,null,null,null,null,null,null,null,null,null,null,null,null,null,null,null,null,null,null,null,null,null,null,null,null,null,null,null,null,null,null,null,null,549,null,null,202327,27,2023,"2023-07-03","2023-07-09"]
[null,null,null,null,null,null,null,null,null,null,null,null,null,null,null,null,null,null,null,null,null,null,null,null,null,null,null,null,null,null,null,null,null,null,null,null,null,null,null,null,null,null,null,null,null,null,null,null,null,550,null,null,202328,28,2023,"2023-07-10","2023-07-16"]
[null,null,null,null,null,null,null,null,null,null,null,null,null,null,null,null,null,null,null,null,null,null,null,null,null,null,null,null,null,null,null,null,null,null,null,null,null,null,null,null,null,null,null,null,null,null,null,null,null,551,null,null,202329,29,2023,"2023-07-17","2023-07-23"]
[null,null,null,null,null,null,null,null,null,null,null,null,null,null,null,null,null,null,null,null,null,null,null,null,null,null,null,null,null,null,null,null,null,null,null,null,null,null,null,null,null,null,null,null,null,null,null,null,null,552,null,null,202330,30,2023,"2023-07-24","2023-07-30"]
[null,null,null,null,null,null,null,null,null,null,null,null,null,null,null,null,null,null,null,null,null,null,null,null,null,null,null,null,null,null,null,null,null,null,null,null,null,null,null,null,null,null,null,null,null,null,null,null,null,553,null,null,202331,31,2023,"2023-07-31","2023-08-06"]
[null,null,null,null,null,null,null,null,null,null,null,null,null,null,null,null,null,null,null,null,null,null,null,null,null,null,null,null,null,null,null,null,null,null,null,null,null,null,null,null,null,null,null,null,null,null,null,null,null,554,null,null,202332,32,2023,"2023-08-07","2023-08-13"]
[null,null,null,null,null,null,null,null,null,null,null,null,null,null,null,null,null,null,null,null,null,null,null,null,null,null,null,null,null,null,null,null,null,null,null,null,null,null,null,null,null,null,null,null,null,null,null,null,null,555,null,null,202333,33,2023,"2023-08-14","2023-08-20"]
[null,null,null,null,null,null,null,null,null,null,null,null,null,null,null,null,null,null,null,null,null,null,null,null,null,null,null,null,null,null,null,null,null,null,null,null,null,null,null,null,null,null,null,null,null,null,null,null,null,556,null,null,202334,34,2023,"2023-08-21","2023-08-27"]
[null,null,null,null,null,null,null,null,null,null,null,null,null,null,null,null,null,null,null,null,null,null,null,null,null,null,null,null,null,null,null,null,null,null,null,null,null,null,null,null,null,null,null,null,null,null,null,null,null,557,null,null,202335,35,2023,"2023-08-28","2023-09-03"]
[null,null,null,null,null,null,null,null,null,null,null,null,null,null,null,null,null,null,null,null,null,null,null,null,null,null,null,null,null,null,null,null,null,null,null,null,null,null,null,null,null,null,null,null,null,null,null,null,null,558,null,null,202336,36,2023,"2023-09-04","2023-09-10"]
[null,null,null,null,null,null,null,null,null,null,null,null,null,null,null,null,null,null,null,null,null,null,null,null,null,null,null,null,null,null,null,null,null,null,null,null,null,null,null,null,null,null,null,null,null,null,null,null,null,559,null,null,202337,37,2023,"2023-09-11","2023-09-17"]
[null,null,null,null,null,null,null,null,null,null,null,null,null,null,null,null,null,null,null,null,null,null,null,null,null,null,null,null,null,null,null,null,null,null,null,null,null,null,null,null,null,null,null,null,null,null,null,null,null,560,null,null,202338,38,2023,"2023-09-18","2023-09-24"]
[null,null,null,null,null,null,null,null,null,null,null,null,null,null,null,null,null,null,null,null,null,null,null,null,null,null,null,null,null,null,null,null,null,null,null,null,null,null,null,null,null,null,null,null,null,null,null,null,null,561,null,null,202339,39,2023,"2023-09-25","2023-10-01"]
[null,null,null,null,null,null,null,null,null,null,null,null,null,null,null,null,null,null,null,null,null,null,null,null,null,null,null,null,null,null,null,null,null,null,null,null,null,null,null,null,null,null,null,null,null,null,null,null,null,562,null,null,202340,40,2023,"2023-10-02","2023-10-08"]
[null,null,null,null,null,null,null,null,null,null,null,null,null,null,null,null,null,null,null,null,null,null,null,null,null,null,null,null,null,null,null,null,null,null,null,null,null,null,null,null,null,null,null,null,null,null,null,null,null,563,null,null,202341,41,2023,"2023-10-09","2023-10-15"]
[null,null,null,null,null,null,null,null,null,null,null,null,null,null,null,null,null,null,null,null,null,null,null,null,null,null,null,null,null,null,null,null,null,null,null,null,null,null,null,null,null,null,null,null,null,null,null,null,null,564,null,null,202342,42,2023,"2023-10-16","2023-10-22"]
[null,null,null,null,null,null,null,null,null,null,null,null,null,null,null,null,null,null,null,null,null,null,null,null,null,null,null,null,null,null,null,null,null,null,null,null,null,null,null,null,null,null,null,null,null,null,null,null,null,565,null,null,202343,43,2023,"2023-10-23","2023-10-29"]
[null,null,null,null,null,null,null,null,null,null,null,null,null,null,null,null,null,null,null,null,null,null,null,null,null,null,null,null,null,null,null,null,null,null,null,null,null,null,null,null,null,null,null,null,null,null,null,null,null,566,null,null,202344,44,2023,"2023-10-30","2023-11-05"]
[null,null,null,null,null,null,null,null,null,null,null,null,null,null,null,null,null,null,null,null,null,null,null,null,null,null,null,null,null,null,null,null,null,null,null,null,null,null,null,null,null,null,null,null,null,null,null,null,null,567,null,null,202345,45,2023,"2023-11-06","2023-11-12"]
[null,null,null,null,null,null,null,null,null,null,null,null,null,null,null,null,null,null,null,null,null,null,null,null,null,null,null,null,null,null,null,null,null,null,null,null,null,null,null,null,null,null,null,null,null,null,null,null,null,568,null,null,202346,46,2023,"2023-11-13","2023-11-19"]
[null,null,null,null,null,null,null,null,null,null,null,null,null,null,null,null,null,null,null,null,null,null,null,null,null,null,null,null,null,null,null,null,null,null,null,null,null,null,null,null,null,null,null,null,null,null,null,null,null,569,null,null,202347,47,2023,"2023-11-20","2023-11-26"]
[null,null,null,null,null,null,null,null,null,null,null,null,null,null,null,null,null,null,null,null,null,null,null,null,null,null,null,null,null,null,null,null,null,null,null,null,null,null,null,null,null,null,null,null,null,null,null,null,null,570,null,null,202348,48,2023,"2023-11-27","2023-12-03"]
[null,null,null,null,null,null,null,null,null,null,null,null,null,null,null,null,null,null,null,null,null,null,null,null,null,null,null,null,null,null,null,null,null,null,null,null,null,null,null,null,null,null,null,null,null,null,null,null,null,571,null,null,202349,49,2023,"2023-12-04","2023-12-10"]
[null,null,null,null,null,null,null,null,null,null,null,null,null,null,null,null,null,null,null,null,null,null,null,null,null,null,null,null,null,null,null,null,null,null,null,null,null,null,null,null,null,null,null,null,null,null,null,null,null,572,null,null,202350,50,2023,"2023-12-11","2023-12-17"]
[null,null,null,null,null,null,null,null,null,null,null,null,null,null,null,null,null,null,null,null,null,null,null,null,null,null,null,null,null,null,null,null,null,null,null,null,null,null,null,null,null,null,null,null,null,null,null,null,null,573,null,null,202351,51,2023,"2023-12-18","2023-12-24"]
[null,null,null,null,null,null,null,null,null,null,null,null,null,null,null,null,null,null,null,null,null,null,null,null,null,null,null,null,null,null,null,null,null,null,null,null,null,null,null,null,null,null,null,null,null,null,null,null,null,574,null,null,202352,52,2023,"2023-12-25","2023-12-31"]
[null,null,null,null,null,null,null,null,null,null,null,null,null,null,null,null,null,null,null,null,null,null,null,null,null,null,null,null,null,null,null,null,null,null,null,null,null,null,null,null,null,null,null,null,null,null,null,null,null,575,null,null,20241,1,2024,"2024-01-01","2024-01-07"]
[null,null,null,null,null,null,null,null,null,null,null,null,null,null,null,null,null,null,null,null,null,null,null,null,null,null,null,null,null,null,null,null,null,null,null,null,null,null,null,null,null,null,null,null,null,null,null,null,null,576,null,null,20242,2,2024,"2024-01-08","2024-01-14"]
[null,null,null,null,null,null,null,null,null,null,null,null,null,null,null,null,null,null,null,null,null,null,null,null,null,null,null,null,null,null,null,null,null,null,null,null,null,null,null,null,null,null,null,null,null,null,null,null,null,577,null,null,20243,3,2024,"2024-01-15","2024-01-21"]
[null,null,null,null,null,null,null,null,null,null,null,null,null,null,null,null,null,null,null,null,null,null,null,null,null,null,null,null,null,null,null,null,null,null,null,null,null,null,null,null,null,null,null,null,null,null,null,null,null,578,null,null,20244,4,2024,"2024-01-22","2024-01-28"]
[null,null,null,null,null,null,null,null,null,null,null,null,null,null,null,null,null,null,null,null,null,null,null,null,null,null,null,null,null,null,null,null,null,null,null,null,null,null,null,null,null,null,null,null,null,null,null,null,null,579,null,null,20245,5,2024,"2024-01-29","2024-02-04"]
[null,null,null,null,null,null,null,null,null,null,null,null,null,null,null,null,null,null,null,null,null,null,null,null,null,null,null,null,null,null,null,null,null,null,null,null,null,null,null,null,null,null,null,null,null,null,null,null,null,580,null,null,20246,6,2024,"2024-02-05","2024-02-11"]
[null,null,null,null,null,null,null,null,null,null,null,null,null,null,null,null,null,null,null,null,null,null,null,null,null,null,null,null,null,null,null,null,null,null,null,null,null,null,null,null,null,null,null,null,null,null,null,null,null,581,null,null,20247,7,2024,"2024-02-12","2024-02-18"]
[null,null,null,null,null,null,null,null,null,null,null,null,null,null,null,null,null,null,null,null,null,null,null,null,null,null,null,null,null,null,null,null,null,null,null,null,null,null,null,null,null,null,null,null,null,null,null,null,null,582,null,null,20248,8,2024,"2024-02-19","2024-02-25"]
[null,null,null,null,null,null,null,null,null,null,null,null,null,null,null,null,null,null,null,null,null,null,null,null,null,null,null,null,null,null,null,null,null,null,null,null,null,null,null,null,null,null,null,null,null,null,null,null,null,583,null,null,20249,9,2024,"2024-02-26","2024-03-03"]
[null,null,null,null,null,null,null,null,null,null,null,null,null,null,null,null,null,null,null,null,null,null,null,null,null,null,null,null,null,null,null,null,null,null,null,null,null,null,null,null,null,null,null,null,null,null,null,null,null,584,null,null,202410,10,2024,"2024-03-04","2024-03-10"]
[null,null,null,null,null,null,null,null,null,null,null,null,null,null,null,null,null,null,null,null,null,null,null,null,null,null,null,null,null,null,null,null,null,null,null,null,null,null,null,null,null,null,null,null,null,null,null,null,null,585,null,null,202411,11,2024,"2024-03-11","2024-03-17"]
[null,null,null,null,null,null,null,null,null,null,null,null,null,null,null,null,null,null,null,null,null,null,null,null,null,null,null,null,null,null,null,null,null,null,null,null,null,null,null,null,null,null,null,null,null,null,null,null,null,586,null,null,202412,12,2024,"2024-03-18","2024-03-24"]
[null,null,null,null,null,null,null,null,null,null,null,null,null,null,null,null,null,null,null,null,null,null,null,null,null,null,null,null,null,null,null,null,null,null,null,null,null,null,null,null,null,null,null,null,null,null,null,null,null,587,null,null,202413,13,2024,"2024-03-25","2024-03-31"]
[null,null,null,null,null,null,null,null,null,null,null,null,null,null,null,null,null,null,null,null,null,null,null,null,null,null,null,null,null,null,null,null,null,null,null,null,null,null,null,null,null,null,null,null,null,null,null,null,null,588,null,null,202414,14,2024,"2024-04-01","2024-04-07"]
[null,null,null,null,null,null,null,null,null,null,null,null,null,null,null,null,null,null,null,null,null,null,null,null,null,null,null,null,null,null,null,null,null,null,null,null,null,null,null,null,null,null,null,null,null,null,null,null,null,589,null,null,202415,15,2024,"2024-04-08","2024-04-14"]
[null,null,null,null,null,null,null,null,null,null,null,null,null,null,null,null,null,null,null,null,null,null,null,null,null,null,null,null,null,null,null,null,null,null,null,null,null,null,null,null,null,null,null,null,null,null,null,null,null,590,null,null,202416,16,2024,"2024-04-15","2024-04-21"]
[null,null,null,null,null,null,null,null,null,null,null,null,null,null,null,null,null,null,null,null,null,null,null,null,null,null,null,null,null,null,null,null,null,null,null,null,null,null,null,null,null,null,null,null,null,null,null,null,null,591,null,null,202417,17,2024,"2024-04-22","2024-04-28"]
[null,null,null,null,null,null,null,null,null,null,null,null,null,null,null,null,null,null,null,null,null,null,null,null,null,null,null,null,null,null,null,null,null,null,null,null,null,null,null,null,null,null,null,null,null,null,null,null,null,592,null,null,202418,18,2024,"2024-04-29","2024-05-05"]
[null,null,null,null,null,null,null,null,null,null,null,null,null,null,null,null,null,null,null,null,null,null,null,null,null,null,null,null,null,null,null,null,null,null,null,null,null,null,null,null,null,null,null,null,null,null,null,null,null,593,null,null,202419,19,2024,"2024-05-06","2024-05-12"]
[null,null,null,null,null,null,null,null,null,null,null,null,null,null,null,null,null,null,null,null,null,null,null,null,null,null,null,null,null,null,null,null,null,null,null,null,null,null,null,null,null,null,null,null,null,null,null,null,null,594,null,null,202420,20,2024,"2024-05-13","2024-05-19"]
[null,null,null,null,null,null,null,null,null,null,null,null,null,null,null,null,null,null,null,null,null,null,null,null,null,null,null,null,null,null,null,null,null,null,null,null,null,null,null,null,null,null,null,null,null,null,null,null,null,595,null,null,202421,21,2024,"2024-05-20","2024-05-26"]
[null,null,null,null,null,null,null,null,null,null,null,null,null,null,null,null,null,null,null,null,null,null,null,null,null,null,null,null,null,null,null,null,null,null,null,null,null,null,null,null,null,null,null,null,null,null,null,null,null,596,null,null,202422,22,2024,"2024-05-27","2024-06-02"]
[null,null,null,null,null,null,null,null,null,null,null,null,null,null,null,null,null,null,null,null,null,null,null,null,null,null,null,null,null,null,null,null,null,null,null,null,null,null,null,null,null,null,null,null,null,null,null,null,null,597,null,null,202423,23,2024,"2024-06-03","2024-06-09"]
[null,null,null,null,null,null,null,null,null,null,null,null,null,null,null,null,null,null,null,null,null,null,null,null,null,null,null,null,null,null,null,null,null,null,null,null,null,null,null,null,null,null,null,null,null,null,null,null,null,598,null,null,202424,24,2024,"2024-06-10","2024-06-16"]
[null,null,null,null,null,null,null,null,null,null,null,null,null,null,null,null,null,null,null,null,null,null,null,null,null,null,null,null,null,null,null,null,null,null,null,null,null,null,null,null,null,null,null,null,null,null,null,null,null,599,null,null,202425,25,2024,"2024-06-17","2024-06-23"]
[null,null,null,null,null,null,null,null,null,null,null,null,null,null,null,null,null,null,null,null,null,null,null,null,null,null,null,null,null,null,null,null,null,null,null,null,null,null,null,null,null,null,null,null,null,null,null,null,null,600,null,null,202426,26,2024,"2024-06-24","2024-06-30"]
[null,null,null,null,null,null,null,null,null,null,null,null,null,null,null,null,null,null,null,null,null,null,null,null,null,null,null,null,null,null,null,null,null,null,null,null,null,null,null,null,null,null,null,null,null,null,null,null,null,601,null,null,202427,27,2024,"2024-07-01","2024-07-07"]
[null,null,null,null,null,null,null,null,null,null,null,null,null,null,null,null,null,null,null,null,null,null,null,null,null,null,null,null,null,null,null,null,null,null,null,null,null,null,null,null,null,null,null,null,null,null,null,null,null,602,null,null,202428,28,2024,"2024-07-08","2024-07-14"]
[null,null,null,null,null,null,null,null,null,null,null,null,null,null,null,null,null,null,null,null,null,null,null,null,null,null,null,null,null,null,null,null,null,null,null,null,null,null,null,null,null,null,null,null,null,null,null,null,null,603,null,null,202429,29,2024,"2024-07-15","2024-07-21"]
[null,null,null,null,null,null,null,null,null,null,null,null,null,null,null,null,null,null,null,null,null,null,null,null,null,null,null,null,null,null,null,null,null,null,null,null,null,null,null,null,null,null,null,null,null,null,null,null,null,604,null,null,202430,30,2024,"2024-07-22","2024-07-28"]
[null,null,null,null,null,null,null,null,null,null,null,null,null,null,null,null,null,null,null,null,null,null,null,null,null,null,null,null,null,null,null,null,null,null,null,null,null,null,null,null,null,null,null,null,null,null,null,null,null,605,null,null,202431,31,2024,"2024-07-29","2024-08-04"]
[null,null,null,null,null,null,null,null,null,null,null,null,null,null,null,null,null,null,null,null,null,null,null,null,null,null,null,null,null,null,null,null,null,null,null,null,null,null,null,null,null,null,null,null,null,null,null,null,null,606,null,null,202432,32,2024,"2024-08-05","2024-08-11"]
[null,null,null,null,null,null,null,null,null,null,null,null,null,null,null,null,null,null,null,null,null,null,null,null,null,null,null,null,null,null,null,null,null,null,null,null,null,null,null,null,null,null,null,null,null,null,null,null,null,607,null,null,202433,33,2024,"2024-08-12","2024-08-18"]
[null,null,null,null,null,null,null,null,null,null,null,null,null,null,null,null,null,null,null,null,null,null,null,null,null,null,null,null,null,null,null,null,null,null,null,null,null,null,null,null,null,null,null,null,null,null,null,null,null,608,null,null,202434,34,2024,"2024-08-19","2024-08-25"]
[null,null,null,null,null,null,null,null,null,null,null,null,null,null,null,null,null,null,null,null,null,null,null,null,null,null,null,null,null,null,null,null,null,null,null,null,null,null,null,null,null,null,null,null,null,null,null,null,null,609,null,null,202435,35,2024,"2024-08-26","2024-09-01"]
[null,null,null,null,null,null,null,null,null,null,null,null,null,null,null,null,null,null,null,null,null,null,null,null,null,null,null,null,null,null,null,null,null,null,null,null,null,null,null,null,null,null,null,null,null,null,null,null,null,610,null,null,202436,36,2024,"2024-09-02","2024-09-08"]
[null,null,null,null,null,null,null,null,null,null,null,null,null,null,null,null,null,null,null,null,null,null,null,null,null,null,null,null,null,null,null,null,null,null,null,null,null,null,null,null,null,null,null,null,null,null,null,null,null,611,null,null,202437,37,2024,"2024-09-09","2024-09-15"]
[null,null,null,null,null,null,null,null,null,null,null,null,null,null,null,null,null,null,null,null,null,null,null,null,null,null,null,null,null,null,null,null,null,null,null,null,null,null,null,null,null,null,null,null,null,null,null,null,null,612,null,null,202438,38,2024,"2024-09-16","2024-09-22"]
[null,null,null,null,null,null,null,null,null,null,null,null,null,null,null,null,null,null,null,null,null,null,null,null,null,null,null,null,null,null,null,null,null,null,null,null,null,null,null,null,null,null,null,null,null,null,null,null,null,613,null,null,202439,39,2024,"2024-09-23","2024-09-29"]
[null,null,null,null,null,null,null,null,null,null,null,null,null,null,null,null,null,null,null,null,null,null,null,null,null,null,null,null,null,null,null,null,null,null,null,null,null,null,null,null,null,null,null,null,null,null,null,null,null,614,null,null,202440,40,2024,"2024-09-30","2024-10-06"]
[null,null,null,null,null,null,null,null,null,null,null,null,null,null,null,null,null,null,null,null,null,null,null,null,null,null,null,null,null,null,null,null,null,null,null,null,null,null,null,null,null,null,null,null,null,null,null,null,null,615,null,null,202441,41,2024,"2024-10-07","2024-10-13"]
[null,null,null,null,null,null,null,null,null,null,null,null,null,null,null,null,null,null,null,null,null,null,null,null,null,null,null,null,null,null,null,null,null,null,null,null,null,null,null,null,null,null,null,null,null,null,null,null,null,616,null,null,202442,42,2024,"2024-10-14","2024-10-20"]
[null,null,null,null,null,null,null,null,null,null,null,null,null,null,null,null,null,null,null,null,null,null,null,null,null,null,null,null,null,null,null,null,null,null,null,null,null,null,null,null,null,null,null,null,null,null,null,null,null,617,null,null,202443,43,2024,"2024-10-21","2024-10-27"]
[null,null,null,null,null,null,null,null,null,null,null,null,null,null,null,null,null,null,null,null,null,null,null,null,null,null,null,null,null,null,null,null,null,null,null,null,null,null,null,null,null,null,null,null,null,null,null,null,null,618,null,null,202444,44,2024,"2024-10-28","2024-11-03"]
[null,null,null,null,null,null,null,null,null,null,null,null,null,null,null,null,null,null,null,null,null,null,null,null,null,null,null,null,null,null,null,null,null,null,null,null,null,null,null,null,null,null,null,null,null,null,null,null,null,619,null,null,202445,45,2024,"2024-11-04","2024-11-10"]
[null,null,null,null,null,null,null,null,null,null,null,null,null,null,null,null,null,null,null,null,null,null,null,null,null,null,null,null,null,null,null,null,null,null,null,null,null,null,null,null,null,null,null,null,null,null,null,null,null,620,null,null,202446,46,2024,"2024-11-11","2024-11-17"]
[null,null,null,null,null,null,null,null,null,null,null,null,null,null,null,null,null,null,null,null,null,null,null,null,null,null,null,null,null,null,null,null,null,null,null,null,null,null,null,null,null,null,null,null,null,null,null,null,null,621,null,null,202447,47,2024,"2024-11-18","2024-11-24"]
[null,null,null,null,null,null,null,null,null,null,null,null,null,null,null,null,null,null,null,null,null,null,null,null,null,null,null,null,null,null,null,null,null,null,null,null,null,null,null,null,null,null,null,null,null,null,null,null,null,622,null,null,202448,48,2024,"2024-11-25","2024-12-01"]
[null,null,null,null,null,null,null,null,null,null,null,null,null,null,null,null,null,null,null,null,null,null,null,null,null,null,null,null,null,null,null,null,null,null,null,null,null,null,null,null,null,null,null,null,null,null,null,null,null,623,null,null,202449,49,2024,"2024-12-02","2024-12-08"]
[null,null,null,null,null,null,null,null,null,null,null,null,null,null,null,null,null,null,null,null,null,null,null,null,null,null,null,null,null,null,null,null,null,null,null,null,null,null,null,null,null,null,null,null,null,null,null,null,null,624,null,null,202450,50,2024,"2024-12-09","2024-12-15"]
[null,null,null,null,null,null,null,null,null,null,null,null,null,null,null,null,null,null,null,null,null,null,null,null,null,null,null,null,null,null,null,null,null,null,null,null,null,null,null,null,null,null,null,null,null,null,null,null,null,625,null,null,202451,51,2024,"2024-12-16","2024-12-22"]
[null,null,null,null,null,null,null,null,null,null,null,null,null,null,null,null,null,null,null,null,null,null,null,null,null,null,null,null,null,null,null,null,null,null,null,null,null,null,null,null,null,null,null,null,null,null,null,null,null,626,null,null,202452,52,2024,"2024-12-23","2024-12-29"]
[null,null,null,null,null,null,null,null,null,null,null,null,null,null,null,null,null,null,null,null,null,null,null,null,null,null,null,null,null,null,null,null,null,null,null,null,null,null,null,null,null,null,null,null,null,null,null,null,null,627,null,null,20251,1,2025,"2024-12-30","2025-01-05"]
[null,null,null,null,null,null,null,null,null,null,null,null,null,null,null,null,null,null,null,null,null,null,null,null,null,null,null,null,null,null,null,null,null,null,null,null,null,null,null,null,null,null,null,null,null,null,null,null,null,628,null,null,20252,2,2025,"2025-01-06","2025-01-12"]
[null,null,null,null,null,null,null,null,null,null,null,null,null,null,null,null,null,null,null,null,null,null,null,null,null,null,null,null,null,null,null,null,null,null,null,null,null,null,null,null,null,null,null,null,null,null,null,null,null,629,null,null,20253,3,2025,"2025-01-13","2025-01-19"]
[null,null,null,null,null,null,null,null,null,null,null,null,null,null,null,null,null,null,null,null,null,null,null,null,null,null,null,null,null,null,null,null,null,null,null,null,null,null,null,null,null,null,null,null,null,null,null,null,null,630,null,null,20254,4,2025,"2025-01-20","2025-01-26"]
[null,null,null,null,null,null,null,null,null,null,null,null,null,null,null,null,null,null,null,null,null,null,null,null,null,null,null,null,null,null,null,null,null,null,null,null,null,null,null,null,null,null,null,null,null,null,null,null,null,631,null,null,20255,5,2025,"2025-01-27","2025-02-02"]
[null,null,null,null,null,null,null,null,null,null,null,null,null,null,null,null,null,null,null,null,null,null,null,null,null,null,null,null,null,null,null,null,null,null,null,null,null,null,null,null,null,null,null,null,null,null,null,null,null,632,null,null,20256,6,2025,"2025-02-03","2025-02-09"]
[null,null,null,null,null,null,null,null,null,null,null,null,null,null,null,null,null,null,null,null,null,null,null,null,null,null,null,null,null,null,null,null,null,null,null,null,null,null,null,null,null,null,null,null,null,null,null,null,null,633,null,null,20257,7,2025,"2025-02-10","2025-02-16"]
[null,null,null,null,null,null,null,null,null,null,null,null,null,null,null,null,null,null,null,null,null,null,null,null,null,null,null,null,null,null,null,null,null,null,null,null,null,null,null,null,null,null,null,null,null,null,null,null,null,634,null,null,20258,8,2025,"2025-02-17","2025-02-23"]
[null,null,null,null,null,null,null,null,null,null,null,null,null,null,null,null,null,null,null,null,null,null,null,null,null,null,null,null,null,null,null,null,null,null,null,null,null,null,null,null,null,null,null,null,null,null,null,null,null,635,null,null,20259,9,2025,"2025-02-24","2025-03-02"]
[null,null,null,null,null,null,null,null,null,null,null,null,null,null,null,null,null,null,null,null,null,null,null,null,null,null,null,null,null,null,null,null,null,null,null,null,null,null,null,null,null,null,null,null,null,null,null,null,null,636,null,null,202510,10,2025,"2025-03-03","2025-03-09"]
[null,null,null,null,null,null,null,null,null,null,null,null,null,null,null,null,null,null,null,null,null,null,null,null,null,null,null,null,null,null,null,null,null,null,null,null,null,null,null,null,null,null,null,null,null,null,null,null,null,637,null,null,202511,11,2025,"2025-03-10","2025-03-16"]
[null,null,null,null,null,null,null,null,null,null,null,null,null,null,null,null,null,null,null,null,null,null,null,null,null,null,null,null,null,null,null,null,null,null,null,null,null,null,null,null,null,null,null,null,null,null,null,null,null,638,null,null,202512,12,2025,"2025-03-17","2025-03-23"]
[null,null,null,null,null,null,null,null,null,null,null,null,null,null,null,null,null,null,null,null,null,null,null,null,null,null,null,null,null,null,null,null,null,null,null,null,null,null,null,null,null,null,null,null,null,null,null,null,null,639,null,null,202513,13,2025,"2025-03-24","2025-03-30"]
[null,null,null,null,null,null,null,null,null,null,null,null,null,null,null,null,null,null,null,null,null,null,null,null,null,null,null,null,null,null,null,null,null,null,null,null,null,null,null,null,null,null,null,null,null,null,null,null,null,640,null,null,202514,14,2025,"2025-03-31","2025-04-06"]
[null,null,null,null,null,null,null,null,null,null,null,null,null,null,null,null,null,null,null,null,null,null,null,null,null,null,null,null,null,null,null,null,null,null,null,null,null,null,null,null,null,null,null,null,null,null,null,null,null,641,null,null,202515,15,2025,"2025-04-07","2025-04-13"]
[null,null,null,null,null,null,null,null,null,null,null,null,null,null,null,null,null,null,null,null,null,null,null,null,null,null,null,null,null,null,null,null,null,null,null,null,null,null,null,null,null,null,null,null,null,null,null,null,null,642,null,null,202516,16,2025,"2025-04-14","2025-04-20"]
[null,null,null,null,null,null,null,null,null,null,null,null,null,null,null,null,null,null,null,null,null,null,null,null,null,null,null,null,null,null,null,null,null,null,null,null,null,null,null,null,null,null,null,null,null,null,null,null,null,643,null,null,202517,17,2025,"2025-04-21","2025-04-27"]
[null,null,null,null,null,null,null,null,null,null,null,null,null,null,null,null,null,null,null,null,null,null,null,null,null,null,null,null,null,null,null,null,null,null,null,null,null,null,null,null,null,null,null,null,null,null,null,null,null,644,null,null,202518,18,2025,"2025-04-28","2025-05-04"]
[null,null,null,null,null,null,null,null,null,null,null,null,null,null,null,null,null,null,null,null,null,null,null,null,null,null,null,null,null,null,null,null,null,null,null,null,null,null,null,null,null,null,null,null,null,null,null,null,null,645,null,null,202519,19,2025,"2025-05-05","2025-05-11"]
[null,null,null,null,null,null,null,null,null,null,null,null,null,null,null,null,null,null,null,null,null,null,null,null,null,null,null,null,null,null,null,null,null,null,null,null,null,null,null,null,null,null,null,null,null,null,null,null,null,646,null,null,202520,20,2025,"2025-05-12","2025-05-18"]
[null,null,null,null,null,null,null,null,null,null,null,null,null,null,null,null,null,null,null,null,null,null,null,null,null,null,null,null,null,null,null,null,null,null,null,null,null,null,null,null,null,null,null,null,null,null,null,null,null,647,null,null,202521,21,2025,"2025-05-19","2025-05-25"]
[null,null,null,null,null,null,null,null,null,null,null,null,null,null,null,null,null,null,null,null,null,null,null,null,null,null,null,null,null,null,null,null,null,null,null,null,null,null,null,null,null,null,null,null,null,null,null,null,null,648,null,null,202522,22,2025,"2025-05-26","2025-06-01"]
[null,null,null,null,null,null,null,null,null,null,null,null,null,null,null,null,null,null,null,null,null,null,null,null,null,null,null,null,null,null,null,null,null,null,null,null,null,null,null,null,null,null,null,null,null,null,null,null,null,649,null,null,202523,23,2025,"2025-06-02","2025-06-08"]
[null,null,null,null,null,null,null,null,null,null,null,null,null,null,null,null,null,null,null,null,null,null,null,null,null,null,null,null,null,null,null,null,null,null,null,null,null,null,null,null,null,null,null,null,null,null,null,null,null,650,null,null,202524,24,2025,"2025-06-09","2025-06-15"]
[null,null,null,null,null,null,null,null,null,null,null,null,null,null,null,null,null,null,null,null,null,null,null,null,null,null,null,null,null,null,null,null,null,null,null,null,null,null,null,null,null,null,null,null,null,null,null,null,null,651,null,null,202525,25,2025,"2025-06-16","2025-06-22"]
[null,null,null,null,null,null,null,null,null,null,null,null,null,null,null,null,null,null,null,null,null,null,null,null,null,null,null,null,null,null,null,null,null,null,null,null,null,null,null,null,null,null,null,null,null,null,null,null,null,652,null,null,202526,26,2025,"2025-06-23","2025-06-29"]
[null,null,null,null,null,null,null,null,null,null,null,null,null,null,null,null,null,null,null,null,null,null,null,null,null,null,null,null,null,null,null,null,null,null,null,null,null,null,null,null,null,null,null,null,null,null,null,null,null,653,null,null,202527,27,2025,"2025-06-30","2025-07-06"]
[null,null,null,null,null,null,null,null,null,null,null,null,null,null,null,null,null,null,null,null,null,null,null,null,null,null,null,null,null,null,null,null,null,null,null,null,null,null,null,null,null,null,null,null,null,null,null,null,null,654,null,null,202528,28,2025,"2025-07-07","2025-07-13"]
[null,null,null,null,null,null,null,null,null,null,null,null,null,null,null,null,null,null,null,null,null,null,null,null,null,null,null,null,null,null,null,null,null,null,null,null,null,null,null,null,null,null,null,null,null,null,null,null,null,655,null,null,202529,29,2025,"2025-07-14","2025-07-20"]
[null,null,null,null,null,null,null,null,null,null,null,null,null,null,null,null,null,null,null,null,null,null,null,null,null,null,null,null,null,null,null,null,null,null,null,null,null,null,null,null,null,null,null,null,null,null,null,null,null,656,null,null,202530,30,2025,"2025-07-21","2025-07-27"]
[null,null,null,null,null,null,null,null,null,null,null,null,null,null,null,null,null,null,null,null,null,null,null,null,null,null,null,null,null,null,null,null,null,null,null,null,null,null,null,null,null,null,null,null,null,null,null,null,null,657,null,null,202531,31,2025,"2025-07-28","2025-08-03"]
[null,null,null,null,null,null,null,null,null,null,null,null,null,null,null,null,null,null,null,null,null,null,null,null,null,null,null,null,null,null,null,null,null,null,null,null,null,null,null,null,null,null,null,null,null,null,null,null,null,658,null,null,202532,32,2025,"2025-08-04","2025-08-10"]
[null,null,null,null,null,null,null,null,null,null,null,null,null,null,null,null,null,null,null,null,null,null,null,null,null,null,null,null,null,null,null,null,null,null,null,null,null,null,null,null,null,null,null,null,null,null,null,null,null,659,null,null,202533,33,2025,"2025-08-11","2025-08-17"]
[null,null,null,null,null,null,null,null,null,null,null,null,null,null,null,null,null,null,null,null,null,null,null,null,null,null,null,null,null,null,null,null,null,null,null,null,null,null,null,null,null,null,null,null,null,null,null,null,null,660,null,null,202534,34,2025,"2025-08-18","2025-08-24"]
[null,null,null,null,null,null,null,null,null,null,null,null,null,null,null,null,null,null,null,null,null,null,null,null,null,null,null,null,null,null,null,null,null,null,null,null,null,null,null,null,null,null,null,null,null,null,null,null,null,661,null,null,202535,35,2025,"2025-08-25","2025-08-31"]
[null,null,null,null,null,null,null,null,null,null,null,null,null,null,null,null,null,null,null,null,null,null,null,null,null,null,null,null,null,null,null,null,null,null,null,null,null,null,null,null,null,null,null,null,null,null,null,null,null,662,null,null,202536,36,2025,"2025-09-01","2025-09-07"]
[null,null,null,null,null,null,null,null,null,null,null,null,null,null,null,null,null,null,null,null,null,null,null,null,null,null,null,null,null,null,null,null,null,null,null,null,null,null,null,null,null,null,null,null,null,null,null,null,null,663,null,null,202537,37,2025,"2025-09-08","2025-09-14"]
[null,null,null,null,null,null,null,null,null,null,null,null,null,null,null,null,null,null,null,null,null,null,null,null,null,null,null,null,null,null,null,null,null,null,null,null,null,null,null,null,null,null,null,null,null,null,null,null,null,664,null,null,202538,38,2025,"2025-09-15","2025-09-21"]
[null,null,null,null,null,null,null,null,null,null,null,null,null,null,null,null,null,null,null,null,null,null,null,null,null,null,null,null,null,null,null,null,null,null,null,null,null,null,null,null,null,null,null,null,null,null,null,null,null,665,null,null,202539,39,2025,"2025-09-22","2025-09-28"]
[null,null,null,null,null,null,null,null,null,null,null,null,null,null,null,null,null,null,null,null,null,null,null,null,null,null,null,null,null,null,null,null,null,null,null,null,null,null,null,null,null,null,null,null,null,null,null,null,null,666,null,null,202540,40,2025,"2025-09-29","2025-10-05"]
[null,null,null,null,null,null,null,null,null,null,null,null,null,null,null,null,null,null,null,null,null,null,null,null,null,null,null,null,null,null,null,null,null,null,null,null,null,null,null,null,null,null,null,null,null,null,null,null,null,667,null,null,202541,41,2025,"2025-10-06","2025-10-12"]
[null,null,null,null,null,null,null,null,null,null,null,null,null,null,null,null,null,null,null,null,null,null,null,null,null,null,null,null,null,null,null,null,null,null,null,null,null,null,null,null,null,null,null,null,null,null,null,null,null,668,null,null,202542,42,2025,"2025-10-13","2025-10-19"]
[null,null,null,null,null,null,null,null,null,null,null,null,null,null,null,null,null,null,null,null,null,null,null,null,null,null,null,null,null,null,null,null,null,null,null,null,null,null,null,null,null,null,null,null,null,null,null,null,null,669,null,null,202543,43,2025,"2025-10-20","2025-10-26"]
[null,null,null,null,null,null,null,null,null,null,null,null,null,null,null,null,null,null,null,null,null,null,null,null,null,null,null,null,null,null,null,null,null,null,null,null,null,null,null,null,null,null,null,null,null,null,null,null,null,670,null,null,202544,44,2025,"2025-10-27","2025-11-02"]
[null,null,null,null,null,null,null,null,null,null,null,null,null,null,null,null,null,null,null,null,null,null,null,null,null,null,null,null,null,null,null,null,null,null,null,null,null,null,null,null,null,null,null,null,null,null,null,null,null,671,null,null,202545,45,2025,"2025-11-03","2025-11-09"]
[null,null,null,null,null,null,null,null,null,null,null,null,null,null,null,null,null,null,null,null,null,null,null,null,null,null,null,null,null,null,null,null,null,null,null,null,null,null,null,null,null,null,null,null,null,null,null,null,null,672,null,null,202546,46,2025,"2025-11-10","2025-11-16"]
[null,null,null,null,null,null,null,null,null,null,null,null,null,null,null,null,null,null,null,null,null,null,null,null,null,null,null,null,null,null,null,null,null,null,null,null,null,null,null,null,null,null,null,null,null,null,null,null,null,673,null,null,202547,47,2025,"2025-11-17","2025-11-23"]
[null,null,null,null,null,null,null,null,null,null,null,null,null,null,null,null,null,null,null,null,null,null,null,null,null,null,null,null,null,null,null,null,null,null,null,null,null,null,null,null,null,null,null,null,null,null,null,null,null,674,null,null,202548,48,2025,"2025-11-24","2025-11-30"]
[null,null,null,null,null,null,null,null,null,null,null,null,null,null,null,null,null,null,null,null,null,null,null,null,null,null,null,null,null,null,null,null,null,null,null,null,null,null,null,null,null,null,null,null,null,null,null,null,null,675,null,null,202549,49,2025,"2025-12-01","2025-12-07"]
[null,null,null,null,null,null,null,null,null,null,null,null,null,null,null,null,null,null,null,null,null,null,null,null,null,null,null,null,null,null,null,null,null,null,null,null,null,null,null,null,null,null,null,null,null,null,null,null,null,676,null,null,202550,50,2025,"2025-12-08","2025-12-14"]
[null,null,null,null,null,null,null,null,null,null,null,null,null,null,null,null,null,null,null,null,null,null,null,null,null,null,null,null,null,null,null,null,null,null,null,null,null,null,null,null,null,null,null,null,null,null,null,null,null,677,null,null,202551,51,2025,"2025-12-15","2025-12-21"]
[null,null,null,null,null,null,null,null,null,null,null,null,null,null,null,null,null,null,null,null,null,null,null,null,null,null,null,null,null,null,null,null,null,null,null,null,null,null,null,null,null,null,null,null,null,null,null,null,null,678,null,null,202552,52,2025,"2025-12-22","2025-12-28"]
[null,null,null,null,null,null,null,null,null,null,null,null,null,null,null,null,null,null,null,null,null,null,null,null,null,null,null,null,null,null,null,null,null,null,null,null,null,null,null,null,null,null,null,null,null,null,null,null,null,679,null,null,20261,1,2026,"2025-12-29","2026-01-04"]
[null,null,null,null,null,null,null,null,null,null,null,null,null,null,null,null,null,null,null,null,null,null,null,null,null,null,null,null,null,null,null,null,null,null,null,null,null,null,null,null,null,null,null,null,null,null,null,null,null,680,null,null,20262,2,2026,"2026-01-05","2026-01-11"]
[null,null,null,null,null,null,null,null,null,null,null,null,null,null,null,null,null,null,null,null,null,null,null,null,null,null,null,null,null,null,null,null,null,null,null,null,null,null,null,null,null,null,null,null,null,null,null,null,null,681,null,null,20263,3,2026,"2026-01-12","2026-01-18"]
[null,null,null,null,null,null,null,null,null,null,null,null,null,null,null,null,null,null,null,null,null,null,null,null,null,null,null,null,null,null,null,null,null,null,null,null,null,null,null,null,null,null,null,null,null,null,null,null,null,682,null,null,20264,4,2026,"2026-01-19","2026-01-25"]
[null,null,null,null,null,null,null,null,null,null,null,null,null,null,null,null,null,null,null,null,null,null,null,null,null,null,null,null,null,null,null,null,null,null,null,null,null,null,null,null,null,null,null,null,null,null,null,null,null,683,null,null,20265,5,2026,"2026-01-26","2026-02-01"]
[null,null,null,null,null,null,null,null,null,null,null,null,null,null,null,null,null,null,null,null,null,null,null,null,null,null,null,null,null,null,null,null,null,null,null,null,null,null,null,null,null,null,null,null,null,null,null,null,null,684,null,null,20266,6,2026,"2026-02-02","2026-02-08"]
[null,null,null,null,null,null,null,null,null,null,null,null,null,null,null,null,null,null,null,null,null,null,null,null,null,null,null,null,null,null,null,null,null,null,null,null,null,null,null,null,null,null,null,null,null,null,null,null,null,685,null,null,20267,7,2026,"2026-02-09","2026-02-15"]
[null,null,null,null,null,null,null,null,null,null,null,null,null,null,null,null,null,null,null,null,null,null,null,null,null,null,null,null,null,null,null,null,null,null,null,null,null,null,null,null,null,null,null,null,null,null,null,null,null,686,null,null,20268,8,2026,"2026-02-16","2026-02-22"]
[null,null,null,null,null,null,null,null,null,null,null,null,null,null,null,null,null,null,null,null,null,null,null,null,null,null,null,null,null,null,null,null,null,null,null,null,null,null,null,null,null,null,null,null,null,null,null,null,null,687,null,null,20269,9,2026,"2026-02-23","2026-03-01"]
[null,null,null,null,null,null,null,null,null,null,null,null,null,null,null,null,null,null,null,null,null,null,null,null,null,null,null,null,null,null,null,null,null,null,null,null,null,null,null,null,null,null,null,null,null,null,null,null,null,688,null,null,202610,10,2026,"2026-03-02","2026-03-08"]
[null,null,null,null,null,null,null,null,null,null,null,null,null,null,null,null,null,null,null,null,null,null,null,null,null,null,null,null,null,null,null,null,null,null,null,null,null,null,null,null,null,null,null,null,null,null,null,null,null,689,null,null,202611,11,2026,"2026-03-09","2026-03-15"]
[null,null,null,null,null,null,null,null,null,null,null,null,null,null,null,null,null,null,null,null,null,null,null,null,null,null,null,null,null,null,null,null,null,null,null,null,null,null,null,null,null,null,null,null,null,null,null,null,null,690,null,null,202612,12,2026,"2026-03-16","2026-03-22"]
[null,null,null,null,null,null,null,null,null,null,null,null,null,null,null,null,null,null,null,null,null,null,null,null,null,null,null,null,null,null,null,null,null,null,null,null,null,null,null,null,null,null,null,null,null,null,null,null,null,691,null,null,202613,13,2026,"2026-03-23","2026-03-29"]
[null,null,null,null,null,null,null,null,null,null,null,null,null,null,null,null,null,null,null,null,null,null,null,null,null,null,null,null,null,null,null,null,null,null,null,null,null,null,null,null,null,null,null,null,null,null,null,null,null,692,null,null,202614,14,2026,"2026-03-30","2026-04-05"]
[null,null,null,null,null,null,null,null,null,null,null,null,null,null,null,null,null,null,null,null,null,null,null,null,null,null,null,null,null,null,null,null,null,null,null,null,null,null,null,null,null,null,null,null,null,null,null,null,null,693,null,null,202615,15,2026,"2026-04-06","2026-04-12"]
[null,null,null,null,null,null,null,null,null,null,null,null,null,null,null,null,null,null,null,null,null,null,null,null,null,null,null,null,null,null,null,null,null,null,null,null,null,null,null,null,null,null,null,null,null,null,null,null,null,694,null,null,202616,16,2026,"2026-04-13","2026-04-19"]
[null,null,null,null,null,null,null,null,null,null,null,null,null,null,null,null,null,null,null,null,null,null,null,null,null,null,null,null,null,null,null,null,null,null,null,null,null,null,null,null,null,null,null,null,null,null,null,null,null,695,null,null,202617,17,2026,"2026-04-20","2026-04-26"]
[null,null,null,null,null,null,null,null,null,null,null,null,null,null,null,null,null,null,null,null,null,null,null,null,null,null,null,null,null,null,null,null,null,null,null,null,null,null,null,null,null,null,null,null,null,null,null,null,null,696,null,null,202618,18,2026,"2026-04-27","2026-05-03"]
[null,null,null,null,null,null,null,null,null,null,null,null,null,null,null,null,null,null,null,null,null,null,null,null,null,null,null,null,null,null,null,null,null,null,null,null,null,null,null,null,null,null,null,null,null,null,null,null,null,697,null,null,202619,19,2026,"2026-05-04","2026-05-10"]
[null,null,null,null,null,null,null,null,null,null,null,null,null,null,null,null,null,null,null,null,null,null,null,null,null,null,null,null,null,null,null,null,null,null,null,null,null,null,null,null,null,null,null,null,null,null,null,null,null,698,null,null,202620,20,2026,"2026-05-11","2026-05-17"]
[null,null,null,null,null,null,null,null,null,null,null,null,null,null,null,null,null,null,null,null,null,null,null,null,null,null,null,null,null,null,null,null,null,null,null,null,null,null,null,null,null,null,null,null,null,null,null,null,null,699,null,null,202621,21,2026,"2026-05-18","2026-05-24"]
[null,null,null,null,null,null,null,null,null,null,null,null,null,null,null,null,null,null,null,null,null,null,null,null,null,null,null,null,null,null,null,null,null,null,null,null,null,null,null,null,null,null,null,null,null,null,null,null,null,700,null,null,202622,22,2026,"2026-05-25","2026-05-31"]
[null,null,null,null,null,null,null,null,null,null,null,null,null,null,null,null,null,null,null,null,null,null,null,null,null,null,null,null,null,null,null,null,null,null,null,null,null,null,null,null,null,null,null,null,null,null,null,null,null,701,null,null,202623,23,2026,"2026-06-01","2026-06-07"]
[null,null,null,null,null,null,null,null,null,null,null,null,null,null,null,null,null,null,null,null,null,null,null,null,null,null,null,null,null,null,null,null,null,null,null,null,null,null,null,null,null,null,null,null,null,null,null,null,null,702,null,null,202624,24,2026,"2026-06-08","2026-06-14"]
[null,null,null,null,null,null,null,null,null,null,null,null,null,null,null,null,null,null,null,null,null,null,null,null,null,null,null,null,null,null,null,null,null,null,null,null,null,null,null,null,null,null,null,null,null,null,null,null,null,703,null,null,202625,25,2026,"2026-06-15","2026-06-21"]
[null,null,null,null,null,null,null,null,null,null,null,null,null,null,null,null,null,null,null,null,null,null,null,null,null,null,null,null,null,null,null,null,null,null,null,null,null,null,null,null,null,null,null,null,null,null,null,null,null,704,null,null,202626,26,2026,"2026-06-22","2026-06-28"]
[null,null,null,null,null,null,null,null,null,null,null,null,null,null,null,null,null,null,null,null,null,null,null,null,null,null,null,null,null,null,null,null,null,null,null,null,null,null,null,null,null,null,null,null,null,null,null,null,null,705,null,null,202627,27,2026,"2026-06-29","2026-07-05"]
[null,null,null,null,null,null,null,null,null,null,null,null,null,null,null,null,null,null,null,null,null,null,null,null,null,null,null,null,null,null,null,null,null,null,null,null,null,null,null,null,null,null,null,null,null,null,null,null,null,706,null,null,202628,28,2026,"2026-07-06","2026-07-12"]
[null,null,null,null,null,null,null,null,null,null,null,null,null,null,null,null,null,null,null,null,null,null,null,null,null,null,null,null,null,null,null,null,null,null,null,null,null,null,null,null,null,null,null,null,null,null,null,null,null,707,null,null,202629,29,2026,"2026-07-13","2026-07-19"]
[null,null,null,null,null,null,null,null,null,null,null,null,null,null,null,null,null,null,null,null,null,null,null,null,null,null,null,null,null,null,null,null,null,null,null,null,null,null,null,null,null,null,null,null,null,null,null,null,null,708,null,null,202630,30,2026,"2026-07-20","2026-07-26"]
[null,null,null,null,null,null,null,null,null,null,null,null,null,null,null,null,null,null,null,null,null,null,null,null,null,null,null,null,null,null,null,null,null,null,null,null,null,null,null,null,null,null,null,null,null,null,null,null,null,709,null,null,202631,31,2026,"2026-07-27","2026-08-02"]
[null,null,null,null,null,null,null,null,null,null,null,null,null,null,null,null,null,null,null,null,null,null,null,null,null,null,null,null,null,null,null,null,null,null,null,null,null,null,null,null,null,null,null,null,null,null,null,null,null,710,null,null,202632,32,2026,"2026-08-03","2026-08-09"]
[null,null,null,null,null,null,null,null,null,null,null,null,null,null,null,null,null,null,null,null,null,null,null,null,null,null,null,null,null,null,null,null,null,null,null,null,null,null,null,null,null,null,null,null,null,null,null,null,null,711,null,null,202633,33,2026,"2026-08-10","2026-08-16"]
[null,null,null,null,null,null,null,null,null,null,null,null,null,null,null,null,null,null,null,null,null,null,null,null,null,null,null,null,null,null,null,null,null,null,null,null,null,null,null,null,null,null,null,null,null,null,null,null,null,712,null,null,202634,34,2026,"2026-08-17","2026-08-23"]
[null,null,null,null,null,null,null,null,null,null,null,null,null,null,null,null,null,null,null,null,null,null,null,null,null,null,null,null,null,null,null,null,null,null,null,null,null,null,null,null,null,null,null,null,null,null,null,null,null,713,null,null,202635,35,2026,"2026-08-24","2026-08-30"]
[null,null,null,null,null,null,null,null,null,null,null,null,null,null,null,null,null,null,null,null,null,null,null,null,null,null,null,null,null,null,null,null,null,null,null,null,null,null,null,null,null,null,null,null,null,null,null,null,null,714,null,null,202636,36,2026,"2026-08-31","2026-09-06"]
[null,null,null,null,null,null,null,null,null,null,null,null,null,null,null,null,null,null,null,null,null,null,null,null,null,null,null,null,null,null,null,null,null,null,null,null,null,null,null,null,null,null,null,null,null,null,null,null,null,715,null,null,202637,37,2026,"2026-09-07","2026-09-13"]
[null,null,null,null,null,null,null,null,null,null,null,null,null,null,null,null,null,null,null,null,null,null,null,null,null,null,null,null,null,null,null,null,null,null,null,null,null,null,null,null,null,null,null,null,null,null,null,null,null,716,null,null,202638,38,2026,"2026-09-14","2026-09-20"]
[null,null,null,null,null,null,null,null,null,null,null,null,null,null,null,null,null,null,null,null,null,null,null,null,null,null,null,null,null,null,null,null,null,null,null,null,null,null,null,null,null,null,null,null,null,null,null,null,null,717,null,null,202639,39,2026,"2026-09-21","2026-09-27"]
[null,null,null,null,null,null,null,null,null,null,null,null,null,null,null,null,null,null,null,null,null,null,null,null,null,null,null,null,null,null,null,null,null,null,null,null,null,null,null,null,null,null,null,null,null,null,null,null,null,718,null,null,202640,40,2026,"2026-09-28","2026-10-04"]
[null,null,null,null,null,null,null,null,null,null,null,null,null,null,null,null,null,null,null,null,null,null,null,null,null,null,null,null,null,null,null,null,null,null,null,null,null,null,null,null,null,null,null,null,null,null,null,null,null,719,null,null,202641,41,2026,"2026-10-05","2026-10-11"]
[null,null,null,null,null,null,null,null,null,null,null,null,null,null,null,null,null,null,null,null,null,null,null,null,null,null,null,null,null,null,null,null,null,null,null,null,null,null,null,null,null,null,null,null,null,null,null,null,null,720,null,null,202642,42,2026,"2026-10-12","2026-10-18"]
[null,null,null,null,null,null,null,null,null,null,null,null,null,null,null,null,null,null,null,null,null,null,null,null,null,null,null,null,null,null,null,null,null,null,null,null,null,null,null,null,null,null,null,null,null,null,null,null,null,721,null,null,202643,43,2026,"2026-10-19","2026-10-25"]
[null,null,null,null,null,null,null,null,null,null,null,null,null,null,null,null,null,null,null,null,null,null,null,null,null,null,null,null,null,null,null,null,null,null,null,null,null,null,null,null,null,null,null,null,null,null,null,null,null,722,null,null,202644,44,2026,"2026-10-26","2026-11-01"]
[null,null,null,null,null,null,null,null,null,null,null,null,null,null,null,null,null,null,null,null,null,null,null,null,null,null,null,null,null,null,null,null,null,null,null,null,null,null,null,null,null,null,null,null,null,null,null,null,null,723,null,null,202645,45,2026,"2026-11-02","2026-11-08"]
[null,null,null,null,null,null,null,null,null,null,null,null,null,null,null,null,null,null,null,null,null,null,null,null,null,null,null,null,null,null,null,null,null,null,null,null,null,null,null,null,null,null,null,null,null,null,null,null,null,724,null,null,202646,46,2026,"2026-11-09","2026-11-15"]
[null,null,null,null,null,null,null,null,null,null,null,null,null,null,null,null,null,null,null,null,null,null,null,null,null,null,null,null,null,null,null,null,null,null,null,null,null,null,null,null,null,null,null,null,null,null,null,null,null,725,null,null,202647,47,2026,"2026-11-16","2026-11-22"]
[null,null,null,null,null,null,null,null,null,null,null,null,null,null,null,null,null,null,null,null,null,null,null,null,null,null,null,null,null,null,null,null,null,null,null,null,null,null,null,null,null,null,null,null,null,null,null,null,null,726,null,null,202648,48,2026,"2026-11-23","2026-11-29"]
[null,null,null,null,null,null,null,null,null,null,null,null,null,null,null,null,null,null,null,null,null,null,null,null,null,null,null,null,null,null,null,null,null,null,null,null,null,null,null,null,null,null,null,null,null,null,null,null,null,727,null,null,202649,49,2026,"2026-11-30","2026-12-06"]
[null,null,null,null,null,null,null,null,null,null,null,null,null,null,null,null,null,null,null,null,null,null,null,null,null,null,null,null,null,null,null,null,null,null,null,null,null,null,null,null,null,null,null,null,null,null,null,null,null,728,null,null,202650,50,2026,"2026-12-07","2026-12-13"]
[null,null,null,null,null,null,null,null,null,null,null,null,null,null,null,null,null,null,null,null,null,null,null,null,null,null,null,null,null,null,null,null,null,null,null,null,null,null,null,null,null,null,null,null,null,null,null,null,null,729,null,null,202651,51,2026,"2026-12-14","2026-12-20"]
[null,null,null,null,null,null,null,null,null,null,null,null,null,null,null,null,null,null,null,null,null,null,null,null,null,null,null,null,null,null,null,null,null,null,null,null,null,null,null,null,null,null,null,null,null,null,null,null,null,730,null,null,202652,52,2026,"2026-12-21","2026-12-27"]
[null,null,null,null,null,null,null,null,null,null,null,null,null,null,null,null,null,null,null,null,null,null,null,null,null,null,null,null,null,null,null,null,null,null,null,null,null,null,null,null,null,null,null,null,null,null,null,null,null,731,null,null,202653,52,2026,"2026-12-28","2027-01-03"]
[null,null,null,null,null,null,null,null,null,null,null,null,null,null,null,null,null,null,null,null,null,null,null,null,null,null,null,null,null,null,null,null,null,null,null,null,null,null,null,null,null,null,null,null,null,null,null,null,null,732,null,null,20271,1,2027,"2027-01-04","2027-01-10"]
[null,null,null,null,null,null,null,null,null,null,null,null,null,null,null,null,null,null,null,null,null,null,null,null,null,null,null,null,null,null,null,null,null,null,null,null,null,null,null,null,null,null,null,null,null,null,null,null,null,733,null,null,20272,2,2027,"2027-01-11","2027-01-17"]
[null,null,null,null,null,null,null,null,null,null,null,null,null,null,null,null,null,null,null,null,null,null,null,null,null,null,null,null,null,null,null,null,null,null,null,null,null,null,null,null,null,null,null,null,null,null,null,null,null,734,null,null,20273,3,2027,"2027-01-18","2027-01-24"]
[null,null,null,null,null,null,null,null,null,null,null,null,null,null,null,null,null,null,null,null,null,null,null,null,null,null,null,null,null,null,null,null,null,null,null,null,null,null,null,null,null,null,null,null,null,null,null,null,null,735,null,null,20274,4,2027,"2027-01-25","2027-01-31"]
[null,null,null,null,null,null,null,null,null,null,null,null,null,null,null,null,null,null,null,null,null,null,null,null,null,null,null,null,null,null,null,null,null,null,null,null,null,null,null,null,null,null,null,null,null,null,null,null,null,736,null,null,20275,5,2027,"2027-02-01","2027-02-07"]
[null,null,null,null,null,null,null,null,null,null,null,null,null,null,null,null,null,null,null,null,null,null,null,null,null,null,null,null,null,null,null,null,null,null,null,null,null,null,null,null,null,null,null,null,null,null,null,null,null,737,null,null,20276,6,2027,"2027-02-08","2027-02-14"]
[null,null,null,null,null,null,null,null,null,null,null,null,null,null,null,null,null,null,null,null,null,null,null,null,null,null,null,null,null,null,null,null,null,null,null,null,null,null,null,null,null,null,null,null,null,null,null,null,null,738,null,null,20277,7,2027,"2027-02-15","2027-02-21"]
[null,null,null,null,null,null,null,null,null,null,null,null,null,null,null,null,null,null,null,null,null,null,null,null,null,null,null,null,null,null,null,null,null,null,null,null,null,null,null,null,null,null,null,null,null,null,null,null,null,739,null,null,20278,8,2027,"2027-02-22","2027-02-28"]
[null,null,null,null,null,null,null,null,null,null,null,null,null,null,null,null,null,null,null,null,null,null,null,null,null,null,null,null,null,null,null,null,null,null,null,null,null,null,null,null,null,null,null,null,null,null,null,null,null,740,null,null,20279,9,2027,"2027-03-01","2027-03-07"]
[null,null,null,null,null,null,null,null,null,null,null,null,null,null,null,null,null,null,null,null,null,null,null,null,null,null,null,null,null,null,null,null,null,null,null,null,null,null,null,null,null,null,null,null,null,null,null,null,null,741,null,null,202710,10,2027,"2027-03-08","2027-03-14"]
[null,null,null,null,null,null,null,null,null,null,null,null,null,null,null,null,null,null,null,null,null,null,null,null,null,null,null,null,null,null,null,null,null,null,null,null,null,null,null,null,null,null,null,null,null,null,null,null,null,742,null,null,202711,11,2027,"2027-03-15","2027-03-21"]
[null,null,null,null,null,null,null,null,null,null,null,null,null,null,null,null,null,null,null,null,null,null,null,null,null,null,null,null,null,null,null,null,null,null,null,null,null,null,null,null,null,null,null,null,null,null,null,null,null,743,null,null,202712,12,2027,"2027-03-22","2027-03-28"]
[null,null,null,null,null,null,null,null,null,null,null,null,null,null,null,null,null,null,null,null,null,null,null,null,null,null,null,null,null,null,null,null,null,null,null,null,null,null,null,null,null,null,null,null,null,null,null,null,null,744,null,null,202713,13,2027,"2027-03-29","2027-04-04"]
[null,null,null,null,null,null,null,null,null,null,null,null,null,null,null,null,null,null,null,null,null,null,null,null,null,null,null,null,null,null,null,null,null,null,null,null,null,null,null,null,null,null,null,null,null,null,null,null,null,745,null,null,202714,14,2027,"2027-04-05","2027-04-11"]
[null,null,null,null,null,null,null,null,null,null,null,null,null,null,null,null,null,null,null,null,null,null,null,null,null,null,null,null,null,null,null,null,null,null,null,null,null,null,null,null,null,null,null,null,null,null,null,null,null,746,null,null,202715,15,2027,"2027-04-12","2027-04-18"]
[null,null,null,null,null,null,null,null,null,null,null,null,null,null,null,null,null,null,null,null,null,null,null,null,null,null,null,null,null,null,null,null,null,null,null,null,null,null,null,null,null,null,null,null,null,null,null,null,null,747,null,null,202716,16,2027,"2027-04-19","2027-04-25"]
[null,null,null,null,null,null,null,null,null,null,null,null,null,null,null,null,null,null,null,null,null,null,null,null,null,null,null,null,null,null,null,null,null,null,null,null,null,null,null,null,null,null,null,null,null,null,null,null,null,748,null,null,202717,17,2027,"2027-04-26","2027-05-02"]
[null,null,null,null,null,null,null,null,null,null,null,null,null,null,null,null,null,null,null,null,null,null,null,null,null,null,null,null,null,null,null,null,null,null,null,null,null,null,null,null,null,null,null,null,null,null,null,null,null,749,null,null,202718,18,2027,"2027-05-03","2027-05-09"]
[null,null,null,null,null,null,null,null,null,null,null,null,null,null,null,null,null,null,null,null,null,null,null,null,null,null,null,null,null,null,null,null,null,null,null,null,null,null,null,null,null,null,null,null,null,null,null,null,null,750,null,null,202719,19,2027,"2027-05-10","2027-05-16"]
[null,null,null,null,null,null,null,null,null,null,null,null,null,null,null,null,null,null,null,null,null,null,null,null,null,null,null,null,null,null,null,null,null,null,null,null,null,null,null,null,null,null,null,null,null,null,null,null,null,751,null,null,202720,20,2027,"2027-05-17","2027-05-23"]
[null,null,null,null,null,null,null,null,null,null,null,null,null,null,null,null,null,null,null,null,null,null,null,null,null,null,null,null,null,null,null,null,null,null,null,null,null,null,null,null,null,null,null,null,null,null,null,null,null,752,null,null,202721,21,2027,"2027-05-24","2027-05-30"]
[null,null,null,null,null,null,null,null,null,null,null,null,null,null,null,null,null,null,null,null,null,null,null,null,null,null,null,null,null,null,null,null,null,null,null,null,null,null,null,null,null,null,null,null,null,null,null,null,null,753,null,null,202722,22,2027,"2027-05-31","2027-06-06"]
[null,null,null,null,null,null,null,null,null,null,null,null,null,null,null,null,null,null,null,null,null,null,null,null,null,null,null,null,null,null,null,null,null,null,null,null,null,null,null,null,null,null,null,null,null,null,null,null,null,754,null,null,202723,23,2027,"2027-06-07","2027-06-13"]
[null,null,null,null,null,null,null,null,null,null,null,null,null,null,null,null,null,null,null,null,null,null,null,null,null,null,null,null,null,null,null,null,null,null,null,null,null,null,null,null,null,null,null,null,null,null,null,null,null,755,null,null,202724,24,2027,"2027-06-14","2027-06-20"]
[null,null,null,null,null,null,null,null,null,null,null,null,null,null,null,null,null,null,null,null,null,null,null,null,null,null,null,null,null,null,null,null,null,null,null,null,null,null,null,null,null,null,null,null,null,null,null,null,null,756,null,null,202725,25,2027,"2027-06-21","2027-06-27"]
[null,null,null,null,null,null,null,null,null,null,null,null,null,null,null,null,null,null,null,null,null,null,null,null,null,null,null,null,null,null,null,null,null,null,null,null,null,null,null,null,null,null,null,null,null,null,null,null,null,757,null,null,202726,26,2027,"2027-06-28","2027-07-04"]
[null,null,null,null,null,null,null,null,null,null,null,null,null,null,null,null,null,null,null,null,null,null,null,null,null,null,null,null,null,null,null,null,null,null,null,null,null,null,null,null,null,null,null,null,null,null,null,null,null,758,null,null,202727,27,2027,"2027-07-05","2027-07-11"]
[null,null,null,null,null,null,null,null,null,null,null,null,null,null,null,null,null,null,null,null,null,null,null,null,null,null,null,null,null,null,null,null,null,null,null,null,null,null,null,null,null,null,null,null,null,null,null,null,null,759,null,null,202728,28,2027,"2027-07-12","2027-07-18"]
[null,null,null,null,null,null,null,null,null,null,null,null,null,null,null,null,null,null,null,null,null,null,null,null,null,null,null,null,null,null,null,null,null,null,null,null,null,null,null,null,null,null,null,null,null,null,null,null,null,760,null,null,202729,29,2027,"2027-07-19","2027-07-25"]
[null,null,null,null,null,null,null,null,null,null,null,null,null,null,null,null,null,null,null,null,null,null,null,null,null,null,null,null,null,null,null,null,null,null,null,null,null,null,null,null,null,null,null,null,null,null,null,null,null,761,null,null,202730,30,2027,"2027-07-26","2027-08-01"]
[null,null,null,null,null,null,null,null,null,null,null,null,null,null,null,null,null,null,null,null,null,null,null,null,null,null,null,null,null,null,null,null,null,null,null,null,null,null,null,null,null,null,null,null,null,null,null,null,null,762,null,null,202731,31,2027,"2027-08-02","2027-08-08"]
[null,null,null,null,null,null,null,null,null,null,null,null,null,null,null,null,null,null,null,null,null,null,null,null,null,null,null,null,null,null,null,null,null,null,null,null,null,null,null,null,null,null,null,null,null,null,null,null,null,763,null,null,202732,32,2027,"2027-08-09","2027-08-15"]
[null,null,null,null,null,null,null,null,null,null,null,null,null,null,null,null,null,null,null,null,null,null,null,null,null,null,null,null,null,null,null,null,null,null,null,null,null,null,null,null,null,null,null,null,null,null,null,null,null,764,null,null,202733,33,2027,"2027-08-16","2027-08-22"]
[null,null,null,null,null,null,null,null,null,null,null,null,null,null,null,null,null,null,null,null,null,null,null,null,null,null,null,null,null,null,null,null,null,null,null,null,null,null,null,null,null,null,null,null,null,null,null,null,null,765,null,null,202734,34,2027,"2027-08-23","2027-08-29"]
[null,null,null,null,null,null,null,null,null,null,null,null,null,null,null,null,null,null,null,null,null,null,null,null,null,null,null,null,null,null,null,null,null,null,null,null,null,null,null,null,null,null,null,null,null,null,null,null,null,766,null,null,202735,35,2027,"2027-08-30","2027-09-05"]
[null,null,null,null,null,null,null,null,null,null,null,null,null,null,null,null,null,null,null,null,null,null,null,null,null,null,null,null,null,null,null,null,null,null,null,null,null,null,null,null,null,null,null,null,null,null,null,null,null,767,null,null,202736,36,2027,"2027-09-06","2027-09-12"]
[null,null,null,null,null,null,null,null,null,null,null,null,null,null,null,null,null,null,null,null,null,null,null,null,null,null,null,null,null,null,null,null,null,null,null,null,null,null,null,null,null,null,null,null,null,null,null,null,null,768,null,null,202737,37,2027,"2027-09-13","2027-09-19"]
[null,null,null,null,null,null,null,null,null,null,null,null,null,null,null,null,null,null,null,null,null,null,null,null,null,null,null,null,null,null,null,null,null,null,null,null,null,null,null,null,null,null,null,null,null,null,null,null,null,769,null,null,202738,38,2027,"2027-09-20","2027-09-26"]
[null,null,null,null,null,null,null,null,null,null,null,null,null,null,null,null,null,null,null,null,null,null,null,null,null,null,null,null,null,null,null,null,null,null,null,null,null,null,null,null,null,null,null,null,null,null,null,null,null,770,null,null,202739,39,2027,"2027-09-27","2027-10-03"]
[null,null,null,null,null,null,null,null,null,null,null,null,null,null,null,null,null,null,null,null,null,null,null,null,null,null,null,null,null,null,null,null,null,null,null,null,null,null,null,null,null,null,null,null,null,null,null,null,null,771,null,null,202740,40,2027,"2027-10-04","2027-10-10"]
[null,null,null,null,null,null,null,null,null,null,null,null,null,null,null,null,null,null,null,null,null,null,null,null,null,null,null,null,null,null,null,null,null,null,null,null,null,null,null,null,null,null,null,null,null,null,null,null,null,772,null,null,202741,41,2027,"2027-10-11","2027-10-17"]
[null,null,null,null,null,null,null,null,null,null,null,null,null,null,null,null,null,null,null,null,null,null,null,null,null,null,null,null,null,null,null,null,null,null,null,null,null,null,null,null,null,null,null,null,null,null,null,null,null,773,null,null,202742,42,2027,"2027-10-18","2027-10-24"]
[null,null,null,null,null,null,null,null,null,null,null,null,null,null,null,null,null,null,null,null,null,null,null,null,null,null,null,null,null,null,null,null,null,null,null,null,null,null,null,null,null,null,null,null,null,null,null,null,null,774,null,null,202743,43,2027,"2027-10-25","2027-10-31"]
[null,null,null,null,null,null,null,null,null,null,null,null,null,null,null,null,null,null,null,null,null,null,null,null,null,null,null,null,null,null,null,null,null,null,null,null,null,null,null,null,null,null,null,null,null,null,null,null,null,775,null,null,202744,44,2027,"2027-11-01","2027-11-07"]
[null,null,null,null,null,null,null,null,null,null,null,null,null,null,null,null,null,null,null,null,null,null,null,null,null,null,null,null,null,null,null,null,null,null,null,null,null,null,null,null,null,null,null,null,null,null,null,null,null,776,null,null,202745,45,2027,"2027-11-08","2027-11-14"]
[null,null,null,null,null,null,null,null,null,null,null,null,null,null,null,null,null,null,null,null,null,null,null,null,null,null,null,null,null,null,null,null,null,null,null,null,null,null,null,null,null,null,null,null,null,null,null,null,null,777,null,null,202746,46,2027,"2027-11-15","2027-11-21"]
[null,null,null,null,null,null,null,null,null,null,null,null,null,null,null,null,null,null,null,null,null,null,null,null,null,null,null,null,null,null,null,null,null,null,null,null,null,null,null,null,null,null,null,null,null,null,null,null,null,778,null,null,202747,47,2027,"2027-11-22","2027-11-28"]
[null,null,null,null,null,null,null,null,null,null,null,null,null,null,null,null,null,null,null,null,null,null,null,null,null,null,null,null,null,null,null,null,null,null,null,null,null,null,null,null,null,null,null,null,null,null,null,null,null,779,null,null,202748,48,2027,"2027-11-29","2027-12-05"]
[null,null,null,null,null,null,null,null,null,null,null,null,null,null,null,null,null,null,null,null,null,null,null,null,null,null,null,null,null,null,null,null,null,null,null,null,null,null,null,null,null,null,null,null,null,null,null,null,null,780,null,null,202749,49,2027,"2027-12-06","2027-12-12"]
[null,null,null,null,null,null,null,null,null,null,null,null,null,null,null,null,null,null,null,null,null,null,null,null,null,null,null,null,null,null,null,null,null,null,null,null,null,null,null,null,null,null,null,null,null,null,null,null,null,781,null,null,202750,50,2027,"2027-12-13","2027-12-19"]
[null,null,null,null,null,null,null,null,null,null,null,null,null,null,null,null,null,null,null,null,null,null,null,null,null,null,null,null,null,null,null,null,null,null,null,null,null,null,null,null,null,null,null,null,null,null,null,null,null,782,null,null,202751,51,2027,"2027-12-20","2027-12-26"]
[null,null,null,null,null,null,null,null,null,null,null,null,null,null,null,null,null,null,null,null,null,null,null,null,null,null,null,null,null,null,null,null,null,null,null,null,null,null,null,null,null,null,null,null,null,null,null,null,null,783,null,null,202752,52,2027,"2027-12-27","2028-01-02"]
[null,null,null,null,null,null,null,null,null,null,null,null,null,null,null,null,null,null,null,null,null,null,null,null,null,null,null,null,null,null,null,null,null,null,null,null,null,null,null,null,null,null,null,null,null,null,null,null,null,784]
[null,null,null,null,null,null,null,null,null,null,null,null,null,null,null,null,null,null,null,null,null,null,null,null,null,null,null,null,null,null,null,null,null,null,null,null,null,null,null,null,null,null,null,null,null,null,null,null,null,785]
[null,null,null,null,null,null,null,null,null,null,null,null,null,null,null,null,null,null,null,null,null,null,null,null,null,null,null,null,null,null,null,null,null,null,null,null,null,null,null,null,null,null,null,null,null,null,null,null,null,786]
[null,null,null,null,null,null,null,null,null,null,null,null,null,null,null,null,null,null,null,null,null,null,null,null,null,null,null,null,null,null,null,null,null,null,null,null,null,null,null,null,null,null,null,null,null,null,null,null,null,787]
[null,null,null,null,null,null,null,null,null,null,null,null,null,null,null,null,null,null,null,null,null,null,null,null,null,null,null,null,null,null,null,null,null,null,null,null,null,null,null,null,null,null,null,null,null,null,null,null,null,788]
[null,null,null,null,null,null,null,null,null,null,null,null,null,null,null,null,null,null,null,null,null,null,null,null,null,null,null,null,null,null,null,null,null,null,null,null,null,null,null,null,null,null,null,null,null,null,null,null,null,789]
[null,null,null,null,null,null,null,null,null,null,null,null,null,null,null,null,null,null,null,null,null,null,null,null,null,null,null,null,null,null,null,null,null,null,null,null,null,null,null,null,null,null,null,null,null,null,null,null,null,790]
[null,null,null,null,null,null,null,null,null,null,null,null,null,null,null,null,null,null,null,null,null,null,null,null,null,null,null,null,null,null,null,null,null,null,null,null,null,null,null,null,null,null,null,null,null,null,null,null,null,791]
[null,null,null,null,null,null,null,null,null,null,null,null,null,null,null,null,null,null,null,null,null,null,null,null,null,null,null,null,null,null,null,null,null,null,null,null,null,null,null,null,null,null,null,null,null,null,null,null,null,792]
[null,null,null,null,null,null,null,null,null,null,null,null,null,null,null,null,null,null,null,null,null,null,null,null,null,null,null,null,null,null,null,null,null,null,null,null,null,null,null,null,null,null,null,null,null,null,null,null,null,793]
[null,null,null,null,null,null,null,null,null,null,null,null,null,null,null,null,null,null,null,null,null,null,null,null,null,null,null,null,null,null,null,null,null,null,null,null,null,null,null,null,null,null,null,null,null,null,null,null,null,794]
[null,null,null,null,null,null,null,null,null,null,null,null,null,null,null,null,null,null,null,null,null,null,null,null,null,null,null,null,null,null,null,null,null,null,null,null,null,null,null,null,null,null,null,null,null,null,null,null,null,795]
[null,null,null,null,null,null,null,null,null,null,null,null,null,null,null,null,null,null,null,null,null,null,null,null,null,null,null,null,null,null,null,null,null,null,null,null,null,null,null,null,null,null,null,null,null,null,null,null,null,796]
[null,null,null,null,null,null,null,null,null,null,null,null,null,null,null,null,null,null,null,null,null,null,null,null,null,null,null,null,null,null,null,null,null,null,null,null,null,null,null,null,null,null,null,null,null,null,null,null,null,797]
[null,null,null,null,null,null,null,null,null,null,null,null,null,null,null,null,null,null,null,null,null,null,null,null,null,null,null,null,null,null,null,null,null,null,null,null,null,null,null,null,null,null,null,null,null,null,null,null,null,798]
[null,null,null,null,null,null,null,null,null,null,null,null,null,null,null,null,null,null,null,null,null,null,null,null,null,null,null,null,null,null,null,null,null,null,null,null,null,null,null,null,null,null,null,null,null,null,null,null,null,799]
[null,null,null,null,null,null,null,null,null,null,null,null,null,null,null,null,null,null,null,null,null,null,null,null,null,null,null,null,null,null,null,null,null,null,null,null,null,null,null,null,null,null,null,null,null,null,null,null,null,800]
[null,null,null,null,null,null,null,null,null,null,null,null,null,null,null,null,null,null,null,null,null,null,null,null,null,null,null,null,null,null,null,null,null,null,null,null,null,null,null,null,null,null,null,null,null,null,null,null,null,801]
[null,null,null,null,null,null,null,null,null,null,null,null,null,null,null,null,null,null,null,null,null,null,null,null,null,null,null,null,null,null,null,null,null,null,null,null,null,null,null,null,null,null,null,null,null,null,null,null,null,802]
[null,null,null,null,null,null,null,null,null,null,null,null,null,null,null,null,null,null,null,null,null,null,null,null,null,null,null,null,null,null,null,null,null,null,null,null,null,null,null,null,null,null,null,null,null,null,null,null,null,803]
[null,null,null,null,null,null,null,null,null,null,null,null,null,null,null,null,null,null,null,null,null,null,null,null,null,null,null,null,null,null,null,null,null,null,null,null,null,null,null,null,null,null,null,null,null,null,null,null,null,804]
[null,null,null,null,null,null,null,null,null,null,null,null,null,null,null,null,null,null,null,null,null,null,null,null,null,null,null,null,null,null,null,null,null,null,null,null,null,null,null,null,null,null,null,null,null,null,null,null,null,805]
[null,null,null,null,null,null,null,null,null,null,null,null,null,null,null,null,null,null,null,null,null,null,null,null,null,null,null,null,null,null,null,null,null,null,null,null,null,null,null,null,null,null,null,null,null,null,null,null,null,806]
[null,null,null,null,null,null,null,null,null,null,null,null,null,null,null,null,null,null,null,null,null,null,null,null,null,null,null,null,null,null,null,null,null,null,null,null,null,null,null,null,null,null,null,null,null,null,null,null,null,807]
[null,null,null,null,null,null,null,null,null,null,null,null,null,null,null,null,null,null,null,null,null,null,null,null,null,null,null,null,null,null,null,null,null,null,null,null,null,null,null,null,null,null,null,null,null,null,null,null,null,808]
[null,null,null,null,null,null,null,null,null,null,null,null,null,null,null,null,null,null,null,null,null,null,null,null,null,null,null,null,null,null,null,null,null,null,null,null,null,null,null,null,null,null,null,null,null,null,null,null,null,809]
[null,null,null,null,null,null,null,null,null,null,null,null,null,null,null,null,null,null,null,null,null,null,null,null,null,null,null,null,null,null,null,null,null,null,null,null,null,null,null,null,null,null,null,null,null,null,null,null,null,810]
[null,null,null,null,null,null,null,null,null,null,null,null,null,null,null,null,null,null,null,null,null,null,null,null,null,null,null,null,null,null,null,null,null,null,null,null,null,null,null,null,null,null,null,null,null,null,null,null,null,811]
[null,null,null,null,null,null,null,null,null,null,null,null,null,null,null,null,null,null,null,null,null,null,null,null,null,null,null,null,null,null,null,null,null,null,null,null,null,null,null,null,null,null,null,null,null,null,null,null,null,812]
[null,null,null,null,null,null,null,null,null,null,null,null,null,null,null,null,null,null,null,null,null,null,null,null,null,null,null,null,null,null,null,null,null,null,null,null,null,null,null,null,null,null,null,null,null,null,null,null,null,813]
[null,null,null,null,null,null,null,null,null,null,null,null,null,null,null,null,null,null,null,null,null,null,null,null,null,null,null,null,null,null,null,null,null,null,null,null,null,null,null,null,null,null,null,null,null,null,null,null,null,814]
[null,null,null,null,null,null,null,null,null,null,null,null,null,null,null,null,null,null,null,null,null,null,null,null,null,null,null,null,null,null,null,null,null,null,null,null,null,null,null,null,null,null,null,null,null,null,null,null,null,815]
[null,null,null,null,null,null,null,null,null,null,null,null,null,null,null,null,null,null,null,null,null,null,null,null,null,null,null,null,null,null,null,null,null,null,null,null,null,null,null,null,null,null,null,null,null,null,null,null,null,816]
[null,null,null,null,null,null,null,null,null,null,null,null,null,null,null,null,null,null,null,null,null,null,null,null,null,null,null,null,null,null,null,null,null,null,null,null,null,null,null,null,null,null,null,null,null,null,null,null,null,817]
[null,null,null,null,null,null,null,null,null,null,null,null,null,null,null,null,null,null,null,null,null,null,null,null,null,null,null,null,null,null,null,null,null,null,null,null,null,null,null,null,null,null,null,null,null,null,null,null,null,818]
[null,null,null,null,null,null,null,null,null,null,null,null,null,null,null,null,null,null,null,null,null,null,null,null,null,null,null,null,null,null,null,null,null,null,null,null,null,null,null,null,null,null,null,null,null,null,null,null,null,819]
[null,null,null,null,null,null,null,null,null,null,null,null,null,null,null,null,null,null,null,null,null,null,null,null,null,null,null,null,null,null,null,null,null,null,null,null,null,null,null,null,null,null,null,null,null,null,null,null,null,820]
[null,null,null,null,null,null,null,null,null,null,null,null,null,null,null,null,null,null,null,null,null,null,null,null,null,null,null,null,null,null,null,null,null,null,null,null,null,null,null,null,null,null,null,null,null,null,null,null,null,821]
[null,null,null,null,null,null,null,null,null,null,null,null,null,null,null,null,null,null,null,null,null,null,null,null,null,null,null,null,null,null,null,null,null,null,null,null,null,null,null,null,null,null,null,null,null,null,null,null,null,822]
[null,null,null,null,null,null,null,null,null,null,null,null,null,null,null,null,null,null,null,null,null,null,null,null,null,null,null,null,null,null,null,null,null,null,null,null,null,null,null,null,null,null,null,null,null,null,null,null,null,823]
[null,null,null,null,null,null,null,null,null,null,null,null,null,null,null,null,null,null,null,null,null,null,null,null,null,null,null,null,null,null,null,null,null,null,null,null,null,null,null,null,null,null,null,null,null,null,null,null,null,824]
[null,null,null,null,null,null,null,null,null,null,null,null,null,null,null,null,null,null,null,null,null,null,null,null,null,null,null,null,null,null,null,null,null,null,null,null,null,null,null,null,null,null,null,null,null,null,null,null,null,825]
[null,null,null,null,null,null,null,null,null,null,null,null,null,null,null,null,null,null,null,null,null,null,null,null,null,null,null,null,null,null,null,null,null,null,null,null,null,null,null,null,null,null,null,null,null,null,null,null,null,826]
[null,null,null,null,null,null,null,null,null,null,null,null,null,null,null,null,null,null,null,null,null,null,null,null,null,null,null,null,null,null,null,null,null,null,null,null,null,null,null,null,null,null,null,null,null,null,null,null,null,827]
[null,null,null,null,null,null,null,null,null,null,null,null,null,null,null,null,null,null,null,null,null,null,null,null,null,null,null,null,null,null,null,null,null,null,null,null,null,null,null,null,null,null,null,null,null,null,null,null,null,828]
[null,null,null,null,null,null,null,null,null,null,null,null,null,null,null,null,null,null,null,null,null,null,null,null,null,null,null,null,null,null,null,null,null,null,null,null,null,null,null,null,null,null,null,null,null,null,null,null,null,829]
[null,null,null,null,null,null,null,null,null,null,null,null,null,null,null,null,null,null,null,null,null,null,null,null,null,null,null,null,null,null,null,null,null,null,null,null,null,null,null,null,null,null,null,null,null,null,null,null,null,830]
[null,null,null,null,null,null,null,null,null,null,null,null,null,null,null,null,null,null,null,null,null,null,null,null,null,null,null,null,null,null,null,null,null,null,null,null,null,null,null,null,null,null,null,null,null,null,null,null,null,831]
[null,null,null,null,null,null,null,null,null,null,null,null,null,null,null,null,null,null,null,null,null,null,null,null,null,null,null,null,null,null,null,null,null,null,null,null,null,null,null,null,null,null,null,null,null,null,null,null,null,832]
[null,null,null,null,null,null,null,null,null,null,null,null,null,null,null,null,null,null,null,null,null,null,null,null,null,null,null,null,null,null,null,null,null,null,null,null,null,null,null,null,null,null,null,null,null,null,null,null,null,833]
[null,null,null,null,null,null,null,null,null,null,null,null,null,null,null,null,null,null,null,null,null,null,null,null,null,null,null,null,null,null,null,null,null,null,null,null,null,null,null,null,null,null,null,null,null,null,null,null,null,834]
[null,null,null,null,null,null,null,null,null,null,null,null,null,null,null,null,null,null,null,null,null,null,null,null,null,null,null,null,null,null,null,null,null,null,null,null,null,null,null,null,null,null,null,null,null,null,null,null,null,835]
[null,null,null,null,null,null,null,null,null,null,null,null,null,null,null,null,null,null,null,null,null,null,null,null,null,null,null,null,null,null,null,null,null,null,null,null,null,null,null,null,null,null,null,null,null,null,null,null,null,836]
[null,null,null,null,null,null,null,null,null,null,null,null,null,null,null,null,null,null,null,null,null,null,null,null,null,null,null,null,null,null,null,null,null,null,null,null,null,null,null,null,null,null,null,null,null,null,null,null,null,837]
[null,null,null,null,null,null,null,null,null,null,null,null,null,null,null,null,null,null,null,null,null,null,null,null,null,null,null,null,null,null,null,null,null,null,null,null,null,null,null,null,null,null,null,null,null,null,null,null,null,838]
[null,null,null,null,null,null,null,null,null,null,null,null,null,null,null,null,null,null,null,null,null,null,null,null,null,null,null,null,null,null,null,null,null,null,null,null,null,null,null,null,null,null,null,null,null,null,null,null,null,839]
[null,null,null,null,null,null,null,null,null,null,null,null,null,null,null,null,null,null,null,null,null,null,null,null,null,null,null,null,null,null,null,null,null,null,null,null,null,null,null,null,null,null,null,null,null,null,null,null,null,840]
[null,null,null,null,null,null,null,null,null,null,null,null,null,null,null,null,null,null,null,null,null,null,null,null,null,null,null,null,null,null,null,null,null,null,null,null,null,null,null,null,null,null,null,null,null,null,null,null,null,841]
[null,null,null,null,null,null,null,null,null,null,null,null,null,null,null,null,null,null,null,null,null,null,null,null,null,null,null,null,null,null,null,null,null,null,null,null,null,null,null,null,null,null,null,null,null,null,null,null,null,842]
[null,null,null,null,null,null,null,null,null,null,null,null,null,null,null,null,null,null,null,null,null,null,null,null,null,null,null,null,null,null,null,null,null,null,null,null,null,null,null,null,null,null,null,null,null,null,null,null,null,843]
[null,null,null,null,null,null,null,null,null,null,null,null,null,null,null,null,null,null,null,null,null,null,null,null,null,null,null,null,null,null,null,null,null,null,null,null,null,null,null,null,null,null,null,null,null,null,null,null,null,844]
[null,null,null,null,null,null,null,null,null,null,null,null,null,null,null,null,null,null,null,null,null,null,null,null,null,null,null,null,null,null,null,null,null,null,null,null,null,null,null,null,null,null,null,null,null,null,null,null,null,845]
[null,null,null,null,null,null,null,null,null,null,null,null,null,null,null,null,null,null,null,null,null,null,null,null,null,null,null,null,null,null,null,null,null,null,null,null,null,null,null,null,null,null,null,null,null,null,null,null,null,846]
[null,null,null,null,null,null,null,null,null,null,null,null,null,null,null,null,null,null,null,null,null,null,null,null,null,null,null,null,null,null,null,null,null,null,null,null,null,null,null,null,null,null,null,null,null,null,null,null,null,847]
[null,null,null,null,null,null,null,null,null,null,null,null,null,null,null,null,null,null,null,null,null,null,null,null,null,null,null,null,null,null,null,null,null,null,null,null,null,null,null,null,null,null,null,null,null,null,null,null,null,848]
[null,null,null,null,null,null,null,null,null,null,null,null,null,null,null,null,null,null,null,null,null,null,null,null,null,null,null,null,null,null,null,null,null,null,null,null,null,null,null,null,null,null,null,null,null,null,null,null,null,849]
[null,null,null,null,null,null,null,null,null,null,null,null,null,null,null,null,null,null,null,null,null,null,null,null,null,null,null,null,null,null,null,null,null,null,null,null,null,null,null,null,null,null,null,null,null,null,null,null,null,850]
[null,null,null,null,null,null,null,null,null,null,null,null,null,null,null,null,null,null,null,null,null,null,null,null,null,null,null,null,null,null,null,null,null,null,null,null,null,null,null,null,null,null,null,null,null,null,null,null,null,851]
[null,null,null,null,null,null,null,null,null,null,null,null,null,null,null,null,null,null,null,null,null,null,null,null,null,null,null,null,null,null,null,null,null,null,null,null,null,null,null,null,null,null,null,null,null,null,null,null,null,852]
[null,null,null,null,null,null,null,null,null,null,null,null,null,null,null,null,null,null,null,null,null,null,null,null,null,null,null,null,null,null,null,null,null,null,null,null,null,null,null,null,null,null,null,null,null,null,null,null,null,853]
[null,null,null,null,null,null,null,null,null,null,null,null,null,null,null,null,null,null,null,null,null,null,null,null,null,null,null,null,null,null,null,null,null,null,null,null,null,null,null,null,null,null,null,null,null,null,null,null,null,854]
[null,null,null,null,null,null,null,null,null,null,null,null,null,null,null,null,null,null,null,null,null,null,null,null,null,null,null,null,null,null,null,null,null,null,null,null,null,null,null,null,null,null,null,null,null,null,null,null,null,855]
[null,null,null,null,null,null,null,null,null,null,null,null,null,null,null,null,null,null,null,null,null,null,null,null,null,null,null,null,null,null,null,null,null,null,null,null,null,null,null,null,null,null,null,null,null,null,null,null,null,856]
[null,null,null,null,null,null,null,null,null,null,null,null,null,null,null,null,null,null,null,null,null,null,null,null,null,null,null,null,null,null,null,null,null,null,null,null,null,null,null,null,null,null,null,null,null,null,null,null,null,857]
[null,null,null,null,null,null,null,null,null,null,null,null,null,null,null,null,null,null,null,null,null,null,null,null,null,null,null,null,null,null,null,null,null,null,null,null,null,null,null,null,null,null,null,null,null,null,null,null,null,858]
[null,null,null,null,null,null,null,null,null,null,null,null,null,null,null,null,null,null,null,null,null,null,null,null,null,null,null,null,null,null,null,null,null,null,null,null,null,null,null,null,null,null,null,null,null,null,null,null,null,859]
[null,null,null,null,null,null,null,null,null,null,null,null,null,null,null,null,null,null,null,null,null,null,null,null,null,null,null,null,null,null,null,null,null,null,null,null,null,null,null,null,null,null,null,null,null,null,null,null,null,860]
[null,null,null,null,null,null,null,null,null,null,null,null,null,null,null,null,null,null,null,null,null,null,null,null,null,null,null,null,null,null,null,null,null,null,null,null,null,null,null,null,null,null,null,null,null,null,null,null,null,861]
[null,null,null,null,null,null,null,null,null,null,null,null,null,null,null,null,null,null,null,null,null,null,null,null,null,null,null,null,null,null,null,null,null,null,null,null,null,null,null,null,null,null,null,null,null,null,null,null,null,862]
[null,null,null,null,null,null,null,null,null,null,null,null,null,null,null,null,null,null,null,null,null,null,null,null,null,null,null,null,null,null,null,null,null,null,null,null,null,null,null,null,null,null,null,null,null,null,null,null,null,863]
[null,null,null,null,null,null,null,null,null,null,null,null,null,null,null,null,null,null,null,null,null,null,null,null,null,null,null,null,null,null,null,null,null,null,null,null,null,null,null,null,null,null,null,null,null,null,null,null,null,864]
[null,null,null,null,null,null,null,null,null,null,null,null,null,null,null,null,null,null,null,null,null,null,null,null,null,null,null,null,null,null,null,null,null,null,null,null,null,null,null,null,null,null,null,null,null,null,null,null,null,865]
[null,null,null,null,null,null,null,null,null,null,null,null,null,null,null,null,null,null,null,null,null,null,null,null,null,null,null,null,null,null,null,null,null,null,null,null,null,null,null,null,null,null,null,null,null,null,null,null,null,866]
[null,null,null,null,null,null,null,null,null,null,null,null,null,null,null,null,null,null,null,null,null,null,null,null,null,null,null,null,null,null,null,null,null,null,null,null,null,null,null,null,null,null,null,null,null,null,null,null,null,867]
[null,null,null,null,null,null,null,null,null,null,null,null,null,null,null,null,null,null,null,null,null,null,null,null,null,null,null,null,null,null,null,null,null,null,null,null,null,null,null,null,null,null,null,null,null,null,null,null,null,868]
[null,null,null,null,null,null,null,null,null,null,null,null,null,null,null,null,null,null,null,null,null,null,null,null,null,null,null,null,null,null,null,null,null,null,null,null,null,null,null,null,null,null,null,null,null,null,null,null,null,869]
[null,null,null,null,null,null,null,null,null,null,null,null,null,null,null,null,null,null,null,null,null,null,null,null,null,null,null,null,null,null,null,null,null,null,null,null,null,null,null,null,null,null,null,null,null,null,null,null,null,870]
[null,null,null,null,null,null,null,null,null,null,null,null,null,null,null,null,null,null,null,null,null,null,null,null,null,null,null,null,null,null,null,null,null,null,null,null,null,null,null,null,null,null,null,null,null,null,null,null,null,871]
[null,null,null,null,null,null,null,null,null,null,null,null,null,null,null,null,null,null,null,null,null,null,null,null,null,null,null,null,null,null,null,null,null,null,null,null,null,null,null,null,null,null,null,null,null,null,null,null,null,872]
[null,null,null,null,null,null,null,null,null,null,null,null,null,null,null,null,null,null,null,null,null,null,null,null,null,null,null,null,null,null,null,null,null,null,null,null,null,null,null,null,null,null,null,null,null,null,null,null,null,873]
[null,null,null,null,null,null,null,null,null,null,null,null,null,null,null,null,null,null,null,null,null,null,null,null,null,null,null,null,null,null,null,null,null,null,null,null,null,null,null,null,null,null,null,null,null,null,null,null,null,874]
[null,null,null,null,null,null,null,null,null,null,null,null,null,null,null,null,null,null,null,null,null,null,null,null,null,null,null,null,null,null,null,null,null,null,null,null,null,null,null,null,null,null,null,null,null,null,null,null,null,875]
[null,null,null,null,null,null,null,null,null,null,null,null,null,null,null,null,null,null,null,null,null,null,null,null,null,null,null,null,null,null,null,null,null,null,null,null,null,null,null,null,null,null,null,null,null,null,null,null,null,876]
[null,null,null,null,null,null,null,null,null,null,null,null,null,null,null,null,null,null,null,null,null,null,null,null,null,null,null,null,null,null,null,null,null,null,null,null,null,null,null,null,null,null,null,null,null,null,null,null,null,877]
[null,null,null,null,null,null,null,null,null,null,null,null,null,null,null,null,null,null,null,null,null,null,null,null,null,null,null,null,null,null,null,null,null,null,null,null,null,null,null,null,null,null,null,null,null,null,null,null,null,878]
[null,null,null,null,null,null,null,null,null,null,null,null,null,null,null,null,null,null,null,null,null,null,null,null,null,null,null,null,null,null,null,null,null,null,null,null,null,null,null,null,null,null,null,null,null,null,null,null,null,879]
[null,null,null,null,null,null,null,null,null,null,null,null,null,null,null,null,null,null,null,null,null,null,null,null,null,null,null,null,null,null,null,null,null,null,null,null,null,null,null,null,null,null,null,null,null,null,null,null,null,880]
[null,null,null,null,null,null,null,null,null,null,null,null,null,null,null,null,null,null,null,null,null,null,null,null,null,null,null,null,null,null,null,null,null,null,null,null,null,null,null,null,null,null,null,null,null,null,null,null,null,881]
[null,null,null,null,null,null,null,null,null,null,null,null,null,null,null,null,null,null,null,null,null,null,null,null,null,null,null,null,null,null,null,null,null,null,null,null,null,null,null,null,null,null,null,null,null,null,null,null,null,882]
[null,null,null,null,null,null,null,null,null,null,null,null,null,null,null,null,null,null,null,null,null,null,null,null,null,null,null,null,null,null,null,null,null,null,null,null,null,null,null,null,null,null,null,null,null,null,null,null,null,883]
[null,null,null,null,null,null,null,null,null,null,null,null,null,null,null,null,null,null,null,null,null,null,null,null,null,null,null,null,null,null,null,null,null,null,null,null,null,null,null,null,null,null,null,null,null,null,null,null,null,884]
[null,null,null,null,null,null,null,null,null,null,null,null,null,null,null,null,null,null,null,null,null,null,null,null,null,null,null,null,null,null,null,null,null,null,null,null,null,null,null,null,null,null,null,null,null,null,null,null,null,885]
[null,null,null,null,null,null,null,null,null,null,null,null,null,null,null,null,null,null,null,null,null,null,null,null,null,null,null,null,null,null,null,null,null,null,null,null,null,null,null,null,null,null,null,null,null,null,null,null,null,886]
[null,null,null,null,null,null,null,null,null,null,null,null,null,null,null,null,null,null,null,null,null,null,null,null,null,null,null,null,null,null,null,null,null,null,null,null,null,null,null,null,null,null,null,null,null,null,null,null,null,887]
[null,null,null,null,null,null,null,null,null,null,null,null,null,null,null,null,null,null,null,null,null,null,null,null,null,null,null,null,null,null,null,null,null,null,null,null,null,null,null,null,null,null,null,null,null,null,null,null,null,888]
[null,null,null,null,null,null,null,null,null,null,null,null,null,null,null,null,null,null,null,null,null,null,null,null,null,null,null,null,null,null,null,null,null,null,null,null,null,null,null,null,null,null,null,null,null,null,null,null,null,889]
[null,null,null,null,null,null,null,null,null,null,null,null,null,null,null,null,null,null,null,null,null,null,null,null,null,null,null,null,null,null,null,null,null,null,null,null,null,null,null,null,null,null,null,null,null,null,null,null,null,890]
[null,null,null,null,null,null,null,null,null,null,null,null,null,null,null,null,null,null,null,null,null,null,null,null,null,null,null,null,null,null,null,null,null,null,null,null,null,null,null,null,null,null,null,null,null,null,null,null,null,891]
[null,null,null,null,null,null,null,null,null,null,null,null,null,null,null,null,null,null,null,null,null,null,null,null,null,null,null,null,null,null,null,null,null,null,null,null,null,null,null,null,null,null,null,null,null,null,null,null,null,892]
[null,null,null,null,null,null,null,null,null,null,null,null,null,null,null,null,null,null,null,null,null,null,null,null,null,null,null,null,null,null,null,null,null,null,null,null,null,null,null,null,null,null,null,null,null,null,null,null,null,893]
[null,null,null,null,null,null,null,null,null,null,null,null,null,null,null,null,null,null,null,null,null,null,null,null,null,null,null,null,null,null,null,null,null,null,null,null,null,null,null,null,null,null,null,null,null,null,null,null,null,894]
[null,null,null,null,null,null,null,null,null,null,null,null,null,null,null,null,null,null,null,null,null,null,null,null,null,null,null,null,null,null,null,null,null,null,null,null,null,null,null,null,null,null,null,null,null,null,null,null,null,895]
[null,null,null,null,null,null,null,null,null,null,null,null,null,null,null,null,null,null,null,null,null,null,null,null,null,null,null,null,null,null,null,null,null,null,null,null,null,null,null,null,null,null,null,null,null,null,null,null,null,896]
[null,null,null,null,null,null,null,null,null,null,null,null,null,null,null,null,null,null,null,null,null,null,null,null,null,null,null,null,null,null,null,null,null,null,null,null,null,null,null,null,null,null,null,null,null,null,null,null,null,897]
[null,null,null,null,null,null,null,null,null,null,null,null,null,null,null,null,null,null,null,null,null,null,null,null,null,null,null,null,null,null,null,null,null,null,null,null,null,null,null,null,null,null,null,null,null,null,null,null,null,898]
[null,null,null,null,null,null,null,null,null,null,null,null,null,null,null,null,null,null,null,null,null,null,null,null,null,null,null,null,null,null,null,null,null,null,null,null,null,null,null,null,null,null,null,null,null,null,null,null,null,899]
[null,null,null,null,null,null,null,null,null,null,null,null,null,null,null,null,null,null,null,null,null,null,null,null,null,null,null,null,null,null,null,null,null,null,null,null,null,null,null,null,null,null,null,null,null,null,null,null,null,900]
[null,null,null,null,null,null,null,null,null,null,null,null,null,null,null,null,null,null,null,null,null,null,null,null,null,null,null,null,null,null,null,null,null,null,null,null,null,null,null,null,null,null,null,null,null,null,null,null,null,901]
[null,null,null,null,null,null,null,null,null,null,null,null,null,null,null,null,null,null,null,null,null,null,null,null,null,null,null,null,null,null,null,null,null,null,null,null,null,null,null,null,null,null,null,null,null,null,null,null,null,902]
[null,null,null,null,null,null,null,null,null,null,null,null,null,null,null,null,null,null,null,null,null,null,null,null,null,null,null,null,null,null,null,null,null,null,null,null,null,null,null,null,null,null,null,null,null,null,null,null,null,903]
[null,null,null,null,null,null,null,null,null,null,null,null,null,null,null,null,null,null,null,null,null,null,null,null,null,null,null,null,null,null,null,null,null,null,null,null,null,null,null,null,null,null,null,null,null,null,null,null,null,904]
[null,null,null,null,null,null,null,null,null,null,null,null,null,null,null,null,null,null,null,null,null,null,null,null,null,null,null,null,null,null,null,null,null,null,null,null,null,null,null,null,null,null,null,null,null,null,null,null,null,905]
[null,null,null,null,null,null,null,null,null,null,null,null,null,null,null,null,null,null,null,null,null,null,null,null,null,null,null,null,null,null,null,null,null,null,null,null,null,null,null,null,null,null,null,null,null,null,null,null,null,906]
[null,null,null,null,null,null,null,null,null,null,null,null,null,null,null,null,null,null,null,null,null,null,null,null,null,null,null,null,null,null,null,null,null,null,null,null,null,null,null,null,null,null,null,null,null,null,null,null,null,907]
[null,null,null,null,null,null,null,null,null,null,null,null,null,null,null,null,null,null,null,null,null,null,null,null,null,null,null,null,null,null,null,null,null,null,null,null,null,null,null,null,null,null,null,null,null,null,null,null,null,908]
[null,null,null,null,null,null,null,null,null,null,null,null,null,null,null,null,null,null,null,null,null,null,null,null,null,null,null,null,null,null,null,null,null,null,null,null,null,null,null,null,null,null,null,null,null,null,null,null,null,909]
[null,null,null,null,null,null,null,null,null,null,null,null,null,null,null,null,null,null,null,null,null,null,null,null,null,null,null,null,null,null,null,null,null,null,null,null,null,null,null,null,null,null,null,null,null,null,null,null,null,910]
[null,null,null,null,null,null,null,null,null,null,null,null,null,null,null,null,null,null,null,null,null,null,null,null,null,null,null,null,null,null,null,null,null,null,null,null,null,null,null,null,null,null,null,null,null,null,null,null,null,911]
[null,null,null,null,null,null,null,null,null,null,null,null,null,null,null,null,null,null,null,null,null,null,null,null,null,null,null,null,null,null,null,null,null,null,null,null,null,null,null,null,null,null,null,null,null,null,null,null,null,912]
[null,null,null,null,null,null,null,null,null,null,null,null,null,null,null,null,null,null,null,null,null,null,null,null,null,null,null,null,null,null,null,null,null,null,null,null,null,null,null,null,null,null,null,null,null,null,null,null,null,913]
[null,null,null,null,null,null,null,null,null,null,null,null,null,null,null,null,null,null,null,null,null,null,null,null,null,null,null,null,null,null,null,null,null,null,null,null,null,null,null,null,null,null,null,null,null,null,null,null,null,914]
[null,null,null,null,null,null,null,null,null,null,null,null,null,null,null,null,null,null,null,null,null,null,null,null,null,null,null,null,null,null,null,null,null,null,null,null,null,null,null,null,null,null,null,null,null,null,null,null,null,915]
[null,null,null,null,null,null,null,null,null,null,null,null,null,null,null,null,null,null,null,null,null,null,null,null,null,null,null,null,null,null,null,null,null,null,null,null,null,null,null,null,null,null,null,null,null,null,null,null,null,916]
[null,null,null,null,null,null,null,null,null,null,null,null,null,null,null,null,null,null,null,null,null,null,null,null,null,null,null,null,null,null,null,null,null,null,null,null,null,null,null,null,null,null,null,null,null,null,null,null,null,917]
[null,null,null,null,null,null,null,null,null,null,null,null,null,null,null,null,null,null,null,null,null,null,null,null,null,null,null,null,null,null,null,null,null,null,null,null,null,null,null,null,null,null,null,null,null,null,null,null,null,918]
[null,null,null,null,null,null,null,null,null,null,null,null,null,null,null,null,null,null,null,null,null,null,null,null,null,null,null,null,null,null,null,null,null,null,null,null,null,null,null,null,null,null,null,null,null,null,null,null,null,919]
[null,null,null,null,null,null,null,null,null,null,null,null,null,null,null,null,null,null,null,null,null,null,null,null,null,null,null,null,null,null,null,null,null,null,null,null,null,null,null,null,null,null,null,null,null,null,null,null,null,920]
[null,null,null,null,null,null,null,null,null,null,null,null,null,null,null,null,null,null,null,null,null,null,null,null,null,null,null,null,null,null,null,null,null,null,null,null,null,null,null,null,null,null,null,null,null,null,null,null,null,921]
[null,null,null,null,null,null,null,null,null,null,null,null,null,null,null,null,null,null,null,null,null,null,null,null,null,null,null,null,null,null,null,null,null,null,null,null,null,null,null,null,null,null,null,null,null,null,null,null,null,922]
[null,null,null,null,null,null,null,null,null,null,null,null,null,null,null,null,null,null,null,null,null,null,null,null,null,null,null,null,null,null,null,null,null,null,null,null,null,null,null,null,null,null,null,null,null,null,null,null,null,923]
[null,null,null,null,null,null,null,null,null,null,null,null,null,null,null,null,null,null,null,null,null,null,null,null,null,null,null,null,null,null,null,null,null,null,null,null,null,null,null,null,null,null,null,null,null,null,null,null,null,924]
[null,null,null,null,null,null,null,null,null,null,null,null,null,null,null,null,null,null,null,null,null,null,null,null,null,null,null,null,null,null,null,null,null,null,null,null,null,null,null,null,null,null,null,null,null,null,null,null,null,925]
[null,null,null,null,null,null,null,null,null,null,null,null,null,null,null,null,null,null,null,null,null,null,null,null,null,null,null,null,null,null,null,null,null,null,null,null,null,null,null,null,null,null,null,null,null,null,null,null,null,926]
[null,null,null,null,null,null,null,null,null,null,null,null,null,null,null,null,null,null,null,null,null,null,null,null,null,null,null,null,null,null,null,null,null,null,null,null,null,null,null,null,null,null,null,null,null,null,null,null,null,927]
[null,null,null,null,null,null,null,null,null,null,null,null,null,null,null,null,null,null,null,null,null,null,null,null,null,null,null,null,null,null,null,null,null,null,null,null,null,null,null,null,null,null,null,null,null,null,null,null,null,928]
[null,null,null,null,null,null,null,null,null,null,null,null,null,null,null,null,null,null,null,null,null,null,null,null,null,null,null,null,null,null,null,null,null,null,null,null,null,null,null,null,null,null,null,null,null,null,null,null,null,929]
[null,null,null,null,null,null,null,null,null,null,null,null,null,null,null,null,null,null,null,null,null,null,null,null,null,null,null,null,null,null,null,null,null,null,null,null,null,null,null,null,null,null,null,null,null,null,null,null,null,930]
[null,null,null,null,null,null,null,null,null,null,null,null,null,null,null,null,null,null,null,null,null,null,null,null,null,null,null,null,null,null,null,null,null,null,null,null,null,null,null,null,null,null,null,null,null,null,null,null,null,931]
[null,null,null,null,null,null,null,null,null,null,null,null,null,null,null,null,null,null,null,null,null,null,null,null,null,null,null,null,null,null,null,null,null,null,null,null,null,null,null,null,null,null,null,null,null,null,null,null,null,932]
[null,null,null,null,null,null,null,null,null,null,null,null,null,null,null,null,null,null,null,null,null,null,null,null,null,null,null,null,null,null,null,null,null,null,null,null,null,null,null,null,null,null,null,null,null,null,null,null,null,933]
[null,null,null,null,null,null,null,null,null,null,null,null,null,null,null,null,null,null,null,null,null,null,null,null,null,null,null,null,null,null,null,null,null,null,null,null,null,null,null,null,null,null,null,null,null,null,null,null,null,934]
[null,null,null,null,null,null,null,null,null,null,null,null,null,null,null,null,null,null,null,null,null,null,null,null,null,null,null,null,null,null,null,null,null,null,null,null,null,null,null,null,null,null,null,null,null,null,null,null,null,935]
[null,null,null,null,null,null,null,null,null,null,null,null,null,null,null,null,null,null,null,null,null,null,null,null,null,null,null,null,null,null,null,null,null,null,null,null,null,null,null,null,null,null,null,null,null,null,null,null,null,936]
[null,null,null,null,null,null,null,null,null,null,null,null,null,null,null,null,null,null,null,null,null,null,null,null,null,null,null,null,null,null,null,null,null,null,null,null,null,null,null,null,null,null,null,null,null,null,null,null,null,937]
[null,null,null,null,null,null,null,null,null,null,null,null,null,null,null,null,null,null,null,null,null,null,null,null,null,null,null,null,null,null,null,null,null,null,null,null,null,null,null,null,null,null,null,null,null,null,null,null,null,938]
[null,null,null,null,null,null,null,null,null,null,null,null,null,null,null,null,null,null,null,null,null,null,null,null,null,null,null,null,null,null,null,null,null,null,null,null,null,null,null,null,null,null,null,null,null,null,null,null,null,939]
[null,null,null,null,null,null,null,null,null,null,null,null,null,null,null,null,null,null,null,null,null,null,null,null,null,null,null,null,null,null,null,null,null,null,null,null,null,null,null,null,null,null,null,null,null,null,null,null,null,940]
[null,null,null,null,null,null,null,null,null,null,null,null,null,null,null,null,null,null,null,null,null,null,null,null,null,null,null,null,null,null,null,null,null,null,null,null,null,null,null,null,null,null,null,null,null,null,null,null,null,941]
[null,null,null,null,null,null,null,null,null,null,null,null,null,null,null,null,null,null,null,null,null,null,null,null,null,null,null,null,null,null,null,null,null,null,null,null,null,null,null,null,null,null,null,null,null,null,null,null,null,942]
[null,null,null,null,null,null,null,null,null,null,null,null,null,null,null,null,null,null,null,null,null,null,null,null,null,null,null,null,null,null,null,null,null,null,null,null,null,null,null,null,null,null,null,null,null,null,null,null,null,943]
[null,null,null,null,null,null,null,null,null,null,null,null,null,null,null,null,null,null,null,null,null,null,null,null,null,null,null,null,null,null,null,null,null,null,null,null,null,null,null,null,null,null,null,null,null,null,null,null,null,944]
[null,null,null,null,null,null,null,null,null,null,null,null,null,null,null,null,null,null,null,null,null,null,null,null,null,null,null,null,null,null,null,null,null,null,null,null,null,null,null,null,null,null,null,null,null,null,null,null,null,945]
[null,null,null,null,null,null,null,null,null,null,null,null,null,null,null,null,null,null,null,null,null,null,null,null,null,null,null,null,null,null,null,null,null,null,null,null,null,null,null,null,null,null,null,null,null,null,null,null,null,946]
[null,null,null,null,null,null,null,null,null,null,null,null,null,null,null,null,null,null,null,null,null,null,null,null,null,null,null,null,null,null,null,null,null,null,null,null,null,null,null,null,null,null,null,null,null,null,null,null,null,947]
[null,null,null,null,null,null,null,null,null,null,null,null,null,null,null,null,null,null,null,null,null,null,null,null,null,null,null,null,null,null,null,null,null,null,null,null,null,null,null,null,null,null,null,null,null,null,null,null,null,948]
[null,null,null,null,null,null,null,null,null,null,null,null,null,null,null,null,null,null,null,null,null,null,null,null,null,null,null,null,null,null,null,null,null,null,null,null,null,null,null,null,null,null,null,null,null,null,null,null,null,949]
[null,null,null,null,null,null,null,null,null,null,null,null,null,null,null,null,null,null,null,null,null,null,null,null,null,null,null,null,null,null,null,null,null,null,null,null,null,null,null,null,null,null,null,null,null,null,null,null,null,950]
[null,null,null,null,null,null,null,null,null,null,null,null,null,null,null,null,null,null,null,null,null,null,null,null,null,null,null,null,null,null,null,null,null,null,null,null,null,null,null,null,null,null,null,null,null,null,null,null,null,951]
[null,null,null,null,null,null,null,null,null,null,null,null,null,null,null,null,null,null,null,null,null,null,null,null,null,null,null,null,null,null,null,null,null,null,null,null,null,null,null,null,null,null,null,null,null,null,null,null,null,952]
[null,null,null,null,null,null,null,null,null,null,null,null,null,null,null,null,null,null,null,null,null,null,null,null,null,null,null,null,null,null,null,null,null,null,null,null,null,null,null,null,null,null,null,null,null,null,null,null,null,953]
[null,null,null,null,null,null,null,null,null,null,null,null,null,null,null,null,null,null,null,null,null,null,null,null,null,null,null,null,null,null,null,null,null,null,null,null,null,null,null,null,null,null,null,null,null,null,null,null,null,954]
[null,null,null,null,null,null,null,null,null,null,null,null,null,null,null,null,null,null,null,null,null,null,null,null,null,null,null,null,null,null,null,null,null,null,null,null,null,null,null,null,null,null,null,null,null,null,null,null,null,955]
[null,null,null,null,null,null,null,null,null,null,null,null,null,null,null,null,null,null,null,null,null,null,null,null,null,null,null,null,null,null,null,null,null,null,null,null,null,null,null,null,null,null,null,null,null,null,null,null,null,956]
[null,null,null,null,null,null,null,null,null,null,null,null,null,null,null,null,null,null,null,null,null,null,null,null,null,null,null,null,null,null,null,null,null,null,null,null,null,null,null,null,null,null,null,null,null,null,null,null,null,957]
[null,null,null,null,null,null,null,null,null,null,null,null,null,null,null,null,null,null,null,null,null,null,null,null,null,null,null,null,null,null,null,null,null,null,null,null,null,null,null,null,null,null,null,null,null,null,null,null,null,958]
[null,null,null,null,null,null,null,null,null,null,null,null,null,null,null,null,null,null,null,null,null,null,null,null,null,null,null,null,null,null,null,null,null,null,null,null,null,null,null,null,null,null,null,null,null,null,null,null,null,959]
[null,null,null,null,null,null,null,null,null,null,null,null,null,null,null,null,null,null,null,null,null,null,null,null,null,null,null,null,null,null,null,null,null,null,null,null,null,null,null,null,null,null,null,null,null,null,null,null,null,960]
[null,null,null,null,null,null,null,null,null,null,null,null,null,null,null,null,null,null,null,null,null,null,null,null,null,null,null,null,null,null,null,null,null,null,null,null,null,null,null,null,null,null,null,null,null,null,null,null,null,961]
[null,null,null,null,null,null,null,null,null,null,null,null,null,null,null,null,null,null,null,null,null,null,null,null,null,null,null,null,null,null,null,null,null,null,null,null,null,null,null,null,null,null,null,null,null,null,null,null,null,962]
[null,null,null,null,null,null,null,null,null,null,null,null,null,null,null,null,null,null,null,null,null,null,null,null,null,null,null,null,null,null,null,null,null,null,null,null,null,null,null,null,null,null,null,null,null,null,null,null,null,963]
[null,null,null,null,null,null,null,null,null,null,null,null,null,null,null,null,null,null,null,null,null,null,null,null,null,null,null,null,null,null,null,null,null,null,null,null,null,null,null,null,null,null,null,null,null,null,null,null,null,964]
[null,null,null,null,null,null,null,null,null,null,null,null,null,null,null,null,null,null,null,null,null,null,null,null,null,null,null,null,null,null,null,null,null,null,null,null,null,null,null,null,null,null,null,null,null,null,null,null,null,965]
[null,null,null,null,null,null,null,null,null,null,null,null,null,null,null,null,null,null,null,null,null,null,null,null,null,null,null,null,null,null,null,null,null,null,null,null,null,null,null,null,null,null,null,null,null,null,null,null,null,966]
[null,null,null,null,null,null,null,null,null,null,null,null,null,null,null,null,null,null,null,null,null,null,null,null,null,null,null,null,null,null,null,null,null,null,null,null,null,null,null,null,null,null,null,null,null,null,null,null,null,967]
[null,null,null,null,null,null,null,null,null,null,null,null,null,null,null,null,null,null,null,null,null,null,null,null,null,null,null,null,null,null,null,null,null,null,null,null,null,null,null,null,null,null,null,null,null,null,null,null,null,968]
[null,null,null,null,null,null,null,null,null,null,null,null,null,null,null,null,null,null,null,null,null,null,null,null,null,null,null,null,null,null,null,null,null,null,null,null,null,null,null,null,null,null,null,null,null,null,null,null,null,969]
[null,null,null,null,null,null,null,null,null,null,null,null,null,null,null,null,null,null,null,null,null,null,null,null,null,null,null,null,null,null,null,null,null,null,null,null,null,null,null,null,null,null,null,null,null,null,null,null,null,970]
[null,null,null,null,null,null,null,null,null,null,null,null,null,null,null,null,null,null,null,null,null,null,null,null,null,null,null,null,null,null,null,null,null,null,null,null,null,null,null,null,null,null,null,null,null,null,null,null,null,971]
[null,null,null,null,null,null,null,null,null,null,null,null,null,null,null,null,null,null,null,null,null,null,null,null,null,null,null,null,null,null,null,null,null,null,null,null,null,null,null,null,null,null,null,null,null,null,null,null,null,972]
[null,null,null,null,null,null,null,null,null,null,null,null,null,null,null,null,null,null,null,null,null,null,null,null,null,null,null,null,null,null,null,null,null,null,null,null,null,null,null,null,null,null,null,null,null,null,null,null,null,973]
[null,null,null,null,null,null,null,null,null,null,null,null,null,null,null,null,null,null,null,null,null,null,null,null,null,null,null,null,null,null,null,null,null,null,null,null,null,null,null,null,null,null,null,null,null,null,null,null,null,974]
[null,null,null,null,null,null,null,null,null,null,null,null,null,null,null,null,null,null,null,null,null,null,null,null,null,null,null,null,null,null,null,null,null,null,null,null,null,null,null,null,null,null,null,null,null,null,null,null,null,975]
[null,null,null,null,null,null,null,null,null,null,null,null,null,null,null,null,null,null,null,null,null,null,null,null,null,null,null,null,null,null,null,null,null,null,null,null,null,null,null,null,null,null,null,null,null,null,null,null,null,976]
[null,null,null,null,null,null,null,null,null,null,null,null,null,null,null,null,null,null,null,null,null,null,null,null,null,null,null,null,null,null,null,null,null,null,null,null,null,null,null,null,null,null,null,null,null,null,null,null,null,977]
[null,null,null,null,null,null,null,null,null,null,null,null,null,null,null,null,null,null,null,null,null,null,null,null,null,null,null,null,null,null,null,null,null,null,null,null,null,null,null,null,null,null,null,null,null,null,null,null,null,978]
[null,null,null,null,null,null,null,null,null,null,null,null,null,null,null,null,null,null,null,null,null,null,null,null,null,null,null,null,null,null,null,null,null,null,null,null,null,null,null,null,null,null,null,null,null,null,null,null,null,979]
[null,null,null,null,null,null,null,null,null,null,null,null,null,null,null,null,null,null,null,null,null,null,null,null,null,null,null,null,null,null,null,null,null,null,null,null,null,null,null,null,null,null,null,null,null,null,null,null,null,980]
[null,null,null,null,null,null,null,null,null,null,null,null,null,null,null,null,null,null,null,null,null,null,null,null,null,null,null,null,null,null,null,null,null,null,null,null,null,null,null,null,null,null,null,null,null,null,null,null,null,981]
[null,null,null,null,null,null,null,null,null,null,null,null,null,null,null,null,null,null,null,null,null,null,null,null,null,null,null,null,null,null,null,null,null,null,null,null,null,null,null,null,null,null,null,null,null,null,null,null,null,982]
[null,null,null,null,null,null,null,null,null,null,null,null,null,null,null,null,null,null,null,null,null,null,null,null,null,null,null,null,null,null,null,null,null,null,null,null,null,null,null,null,null,null,null,null,null,null,null,null,null,983]
[null,null,null,null,null,null,null,null,null,null,null,null,null,null,null,null,null,null,null,null,null,null,null,null,null,null,null,null,null,null,null,null,null,null,null,null,null,null,null,null,null,null,null,null,null,null,null,null,null,984]
[null,null,null,null,null,null,null,null,null,null,null,null,null,null,null,null,null,null,null,null,null,null,null,null,null,null,null,null,null,null,null,null,null,null,null,null,null,null,null,null,null,null,null,null,null,null,null,null,null,985]
[null,null,null,null,null,null,null,null,null,null,null,null,null,null,null,null,null,null,null,null,null,null,null,null,null,null,null,null,null,null,null,null,null,null,null,null,null,null,null,null,null,null,null,null,null,null,null,null,null,986]
[null,null,null,null,null,null,null,null,null,null,null,null,null,null,null,null,null,null,null,null,null,null,null,null,null,null,null,null,null,null,null,null,null,null,null,null,null,null,null,null,null,null,null,null,null,null,null,null,null,987]
[null,null,null,null,null,null,null,null,null,null,null,null,null,null,null,null,null,null,null,null,null,null,null,null,null,null,null,null,null,null,null,null,null,null,null,null,null,null,null,null,null,null,null,null,null,null,null,null,null,988]
[null,null,null,null,null,null,null,null,null,null,null,null,null,null,null,null,null,null,null,null,null,null,null,null,null,null,null,null,null,null,null,null,null,null,null,null,null,null,null,null,null,null,null,null,null,null,null,null,null,989]
[null,null,null,null,null,null,null,null,null,null,null,null,null,null,null,null,null,null,null,null,null,null,null,null,null,null,null,null,null,null,null,null,null,null,null,null,null,null,null,null,null,null,null,null,null,null,null,null,null,990]
[null,null,null,null,null,null,null,null,null,null,null,null,null,null,null,null,null,null,null,null,null,null,null,null,null,null,null,null,null,null,null,null,null,null,null,null,null,null,null,null,null,null,null,null,null,null,null,null,null,991]
[null,null,null,null,null,null,null,null,null,null,null,null,null,null,null,null,null,null,null,null,null,null,null,null,null,null,null,null,null,null,null,null,null,null,null,null,null,null,null,null,null,null,null,null,null,null,null,null,null,992]
[null,null,null,null,null,null,null,null,null,null,null,null,null,null,null,null,null,null,null,null,null,null,null,null,null,null,null,null,null,null,null,null,null,null,null,null,null,null,null,null,null,null,null,null,null,null,null,null,null,993]
[null,null,null,null,null,null,null,null,null,null,null,null,null,null,null,null,null,null,null,null,null,null,null,null,null,null,null,null,null,null,null,null,null,null,null,null,null,null,null,null,null,null,null,null,null,null,null,null,null,994]
[null,null,null,null,null,null,null,null,null,null,null,null,null,null,null,null,null,null,null,null,null,null,null,null,null,null,null,null,null,null,null,null,null,null,null,null,null,null,null,null,null,null,null,null,null,null,null,null,null,995]
[null,null,null,null,null,null,null,null,null,null,null,null,null,null,null,null,null,null,null,null,null,null,null,null,null,null,null,null,null,null,null,null,null,null,null,null,null,null,null,null,null,null,null,null,null,null,null,null,null,996]
[null,null,null,null,null,null,null,null,null,null,null,null,null,null,null,null,null,null,null,null,null,null,null,null,null,null,null,null,null,null,null,null,null,null,null,null,null,null,null,null,null,null,null,null,null,null,null,null,null,997]
[null,null,null,null,null,null,null,null,null,null,null,null,null,null,null,null,null,null,null,null,null,null,null,null,null,null,null,null,null,null,null,null,null,null,null,null,null,null,null,null,null,null,null,null,null,null,null,null,null,998]
[null,null,null,null,null,null,null,null,null,null,null,null,null,null,null,null,null,null,null,null,null,null,null,null,null,null,null,null,null,null,null,null,null,null,null,null,null,null,null,null,null,null,null,null,null,null,null,null,null,999]
[null,null,null,null,null,null,null,null,null,null,null,null,null,null,null,null,null,null,null,null,null,null,null,null,null,null,null,null,null,null,null,null,null,null,null,null,null,null,null,null,null,null,null,null,null,null,null,null,null,1000]
[null,null,null,null,null,null,null,null,null,null,null,null,null,null,null,null,null,null,null,null,null,null,null,null,null,null,null,null,null,null,null,null,null,null,null,null,null,null,null,null,null,null,null,null,null,null,null,null,null,1001]
[null,null,null,null,null,null,null,null,null,null,null,null,null,null,null,null,null,null,null,null,null,null,null,null,null,null,null,null,null,null,null,null,null,null,null,null,null,null,null,null,null,null,null,null,null,null,null,null,null,1002]
[null,null,null,null,null,null,null,null,null,null,null,null,null,null,null,null,null,null,null,null,null,null,null,null,null,null,null,null,null,null,null,null,null,null,null,null,null,null,null,null,null,null,null,null,null,null,null,null,null,1003]
[null,null,null,null,null,null,null,null,null,null,null,null,null,null,null,null,null,null,null,null,null,null,null,null,null,null,null,null,null,null,null,null,null,null,null,null,null,null,null,null,null,null,null,null,null,null,null,null,null,1004]
[null,null,null,null,null,null,null,null,null,null,null,null,null,null,null,null,null,null,null,null,null,null,null,null,null,null,null,null,null,null,null,null,null,null,null,null,null,null,null,null,null,null,null,null,null,null,null,null,null,1005]
[null,null,null,null,null,null,null,null,null,null,null,null,null,null,null,null,null,null,null,null,null,null,null,null,null,null,null,null,null,null,null,null,null,null,null,null,null,null,null,null,null,null,null,null,null,null,null,null,null,1006]
[null,null,null,null,null,null,null,null,null,null,null,null,null,null,null,null,null,null,null,null,null,null,null,null,null,null,null,null,null,null,null,null,null,null,null,null,null,null,null,null,null,null,null,null,null,null,null,null,null,1007]
[null,null,null,null,null,null,null,null,null,null,null,null,null,null,null,null,null,null,null,null,null,null,null,null,null,null,null,null,null,null,null,null,null,null,null,null,null,null,null,null,null,null,null,null,null,null,null,null,null,1008]
[null,null,null,null,null,null,null,null,null,null,null,null,null,null,null,null,null,null,null,null,null,null,null,null,null,null,null,null,null,null,null,null,null,null,null,null,null,null,null,null,null,null,null,null,null,null,null,null,null,1009]
[null,null,null,null,null,null,null,null,null,null,null,null,null,null,null,null,null,null,null,null,null,null,null,null,null,null,null,null,null,null,null,null,null,null,null,null,null,null,null,null,null,null,null,null,null,null,null,null,null,1010]
[null,null,null,null,null,null,null,null,null,null,null,null,null,null,null,null,null,null,null,null,null,null,null,null,null,null,null,null,null,null,null,null,null,null,null,null,null,null,null,null,null,null,null,null,null,null,null,null,null,1011]
[null,null,null,null,null,null,null,null,null,null,null,null,null,null,null,null,null,null,null,null,null,null,null,null,null,null,null,null,null,null,null,null,null,null,null,null,null,null,null,null,null,null,null,null,null,null,null,null,null,1012]
[null,null,null,null,null,null,null,null,null,null,null,null,null,null,null,null,null,null,null,null,null,null,null,null,null,null,null,null,null,null,null,null,null,null,null,null,null,null,null,null,null,null,null,null,null,null,null,null,null,1013]
[null,null,null,null,null,null,null,null,null,null,null,null,null,null,null,null,null,null,null,null,null,null,null,null,null,null,null,null,null,null,null,null,null,null,null,null,null,null,null,null,null,null,null,null,null,null,null,null,null,1014]
[null,null,null,null,null,null,null,null,null,null,null,null,null,null,null,null,null,null,null,null,null,null,null,null,null,null,null,null,null,null,null,null,null,null,null,null,null,null,null,null,null,null,null,null,null,null,null,null,null,1015]
[null,null,null,null,null,null,null,null,null,null,null,null,null,null,null,null,null,null,null,null,null,null,null,null,null,null,null,null,null,null,null,null,null,null,null,null,null,null,null,null,null,null,null,null,null,null,null,null,null,1016]
[null,null,null,null,null,null,null,null,null,null,null,null,null,null,null,null,null,null,null,null,null,null,null,null,null,null,null,null,null,null,null,null,null,null,null,null,null,null,null,null,null,null,null,null,null,null,null,null,null,1017]
[null,null,null,null,null,null,null,null,null,null,null,null,null,null,null,null,null,null,null,null,null,null,null,null,null,null,null,null,null,null,null,null,null,null,null,null,null,null,null,null,null,null,null,null,null,null,null,null,null,1018]
[null,null,null,null,null,null,null,null,null,null,null,null,null,null,null,null,null,null,null,null,null,null,null,null,null,null,null,null,null,null,null,null,null,null,null,null,null,null,null,null,null,null,null,null,null,null,null,null,null,1019]
[null,null,null,null,null,null,null,null,null,null,null,null,null,null,null,null,null,null,null,null,null,null,null,null,null,null,null,null,null,null,null,null,null,null,null,null,null,null,null,null,null,null,null,null,null,null,null,null,null,1020]
[null,null,null,null,null,null,null,null,null,null,null,null,null,null,null,null,null,null,null,null,null,null,null,null,null,null,null,null,null,null,null,null,null,null,null,null,null,null,null,null,null,null,null,null,null,null,null,null,null,1021]
[null,null,null,null,null,null,null,null,null,null,null,null,null,null,null,null,null,null,null,null,null,null,null,null,null,null,null,null,null,null,null,null,null,null,null,null,null,null,null,null,null,null,null,null,null,null,null,null,null,1022]
[null,null,null,null,null,null,null,null,null,null,null,null,null,null,null,null,null,null,null,null,null,null,null,null,null,null,null,null,null,null,null,null,null,null,null,null,null,null,null,null,null,null,null,null,null,null,null,null,null,1023]
[null,null,null,null,null,null,null,null,null,null,null,null,null,null,null,null,null,null,null,null,null,null,null,null,null,null,null,null,null,null,null,null,null,null,null,null,null,null,null,null,null,null,null,null,null,null,null,null,null,1024]
[null,null,null,null,null,null,null,null,null,null,null,null,null,null,null,null,null,null,null,null,null,null,null,null,null,null,null,null,null,null,null,null,null,null,null,null,null,null,null,null,null,null,null,null,null,null,null,null,null,1025]
[null,null,null,null,null,null,null,null,null,null,null,null,null,null,null,null,null,null,null,null,null,null,null,null,null,null,null,null,null,null,null,null,null,null,null,null,null,null,null,null,null,null,null,null,null,null,null,null,null,1026]